{"text_format":"1","workbook":"xlsx","n_sheets":16,"sheets":["1-Award Info","2-Grant Budget","New Award Email","AC10.1-C & S","AC10.1-P","AC10.6","AC13.1","GM15","GM16","GM20","GM01","AC20.7","AC20.3","GM04","Tables","Objective Tables"],"not_rendered":{"charts":0,"images":1,"macros":1,"external_links":0,"defined_names":10,"comments":0,"pivot_tables":0},"unopened":[],"bounds":{"document_bytes":16777216,"sheet_cells":100000,"rows_first":2000,"rows_last":500,"rows_between":2000,"halvings":0,"cell_chars":16384,"cell_head_chars":4096},"cells_cut":0,"cells_raw":0,"read":"row_number_cap","date_system":"1900"}

{"sheet":"1-Award Info","index":0,"n_rows":63,"n_cols":8,"rows_kept":63,"cut":false,"hidden":false,"merged":[[27,2,27,3],[28,2,28,3],[37,2,37,3],[38,2,38,3],[29,2,29,3],[30,2,30,3],[31,2,31,3],[35,2,35,3],[36,2,36,3],[43,2,46,3],[39,2,42,3],[49,1,52,3],[34,1,34,3],[14,2,15,3],[21,2,21,3],[22,2,22,3],[23,2,23,3],[14,1,15,1],[17,2,17,3],[18,2,18,3],[19,2,19,3],[20,2,20,3],[32,2,32,3],[25,2,25,3],[26,2,26,3]],"read":"row_number_cap"}
[]
[null,"   DPS Finance - Grant Award Set Up Form (updated - 01/29/2019)"]
[null,null,null,null,null,"Internal Use - General Information"]
[null,"Instructions",null,null,null,"Contract #",null,"ENTER 7 OR 11 DIGIT CONTRACT #"]
[null,"1. Complete the 5 tables below",null,null,null,"Long Description"]
[null,"2. Complete the Grant Budget on the second tab - work with your SBA or Financial Partner for support",null,null,null,"Company",null,"Select from dropdown menu"]
[null,"3. Email the completed form to Grants@dpsk12.org",null,null,null,"Beginning FY",null,"Select the beginning FY"]
[null,"4. Send any checks to Lora Langlee (EGC Campus - 11th floor) referencing the Grant Award Name",null,null,null,"FP EIN",null,"Enter in FP EIN"]
[]
[null,"     Table 1: Determine if funding is restricted (grant) or unrestricted (non-grant)",null,null,null,"Internal Use - Billing Information"]
[null,"   1. Is the award from a City, State or Federal Agency?",null,null,null,"Billing Type (project type)"]
[null,"   2. Has the funder designated a specific use for the funds?",null,null,null,"CO22 GRANTOR",null,"Select from dropdown menu"]
[null,"   3. Has the funder designated a specific end date?",null,null,null,"CO26 GRANTOR",null,"Select from dropdown menu"]
[null,"   4. Has the funder requested a final report of how the funds were spent?",null,null,null,"Revenue Source",null,"Select from dropdown menu"]
[null,"Analysis",{"$f":"IF(OR(D11=\"\",D12=\"\",D13=\"\",D14=\"\"),\"ANSWER ALL 4 QUESTIONS ABOVE\",IF(OR(D11=\"yes\",D12=\"yes\",D13=\"yes\",D14=\"yes\"),\"CONTINUE - Funds are restricted and need to be set up as a grant. Please complete the GAN Form\",\"STOP - Funds are not restricted and do not need to be set up as a grant. Work with your FP to determine next steps\"))","v":"ANSWER ALL 4 QUESTIONS ABOVE"},null,null,null,null,"Select from dropdown menu"]
[null,null,null,null,null,"Internal Use - Contract Attributes"]
[null,null,null,null,null,"Division"]
[null,"     Table 2: Grant Award Information",null,null,null,"Funder Type (award type)",null,"Select from dropdown menu"]
[null,"Grant Award Name",null,null,null,"School / Dept Managed",null,"Select from dropdown menu"]
[null,"Total Award Amount",null,null,null,"Business Line Type",null,"not currently used (as of 6/21/17)"]
[null,"Start Date"]
[null,"End Date",null,null,null,"Internal Use - Award Tracking Information"]
[null,"Funder",null,null,null,"CFDA #",null,"Enter CFDA # from award doc if Federal"]
[null,"Indirect Rate (Enter 0 if none)",null,null,null,"Sponsor Award #",null,"Enter award # from award doc if exists"]
[null,null,null,null,null,"Major Category",null,"Select from dropdown menu"]
[null,"     Table 3: Grant Management Information"]
[null,"School/Dept Name",null,null,null,"Internal Use - Beginning Period by FY"]
[null,"Location",null,null,null,{"$f":"Tables!E3","v":"FY19"},null,"Enter beginning period of Fiscal Year"]
[null,"BR",null,null,null,{"$f":"Tables!E4","v":"FY20"},null,"Enter beginning period of Fiscal Year"]
[null,"Grant Manager's Name",null,null,null,{"$f":"Tables!E5","v":"FY21"},null,"Enter beginning period of Fiscal Year"]
[null,"Grant Manager Employee ID #",null,null,null,{"$f":"Tables!E6","v":"FY22"},null,"Enter beginning period of Fiscal Year"]
[null,"Bookkeeper's Name",null,null,null,{"$f":"Tables!E7","v":"FY23"},null,"Enter beginning period of Fiscal Year"]
[null,"Financial Partner's Name"]
[null,null,null,null,null,"Internal Use - Reporting Requirements"]
[null,"     Table 4: Grant Programmatic Objectives & Targeted Populations / Subjects",null,null,null,"Reporting Requirements"]
[null,"Main Category",null,null,null,"Type","Due Date"]
[null,"Strategy/Implementation",null,null,null,null,null,"Select Type and Enter Due Date"]
[null,"Primary Impact/Outcome",null,null,null,null,null,"Select Type and Enter Due Date"]
[null,"Secondary Impact/Outcome (optional)",null,null,null,null,null,"Select Type and Enter Due Date"]
[null,null,null,null,null,null,null,"Select Type and Enter Due Date"]
[null,"Target Special Population(s)",null,null,null,null,null,"Select Type and Enter Due Date"]
[null,"(select all that apply)",null,null,null,null,null,"Select Type and Enter Due Date"]
[null,null,null,null,null,null,null,"Select Type and Enter Due Date"]
[null,null,null,null,null,null,null,"Select Type and Enter Due Date"]
[null,"Target Subject(s)",null,null,null,null,null,"Select Type and Enter Due Date"]
[null,"(select all that apply)",null,null,null,null,null,"Select Type and Enter Due Date"]
[null,null,null,null,null,null,null,"Select Type and Enter Due Date"]
[null,null,null,null,null,null,null,"Select Type and Enter Due Date"]
[null,"     Table 5: General Comments (if needed), e.g., new program code needed",null,null,null,null,null,"Select Type and Enter Due Date"]
[null,null,null,null,null,null,null,"Select Type and Enter Due Date"]
[null,null,null,null,null,null,null,"Select Type and Enter Due Date"]
[null,null,null,null,null,null,null,"Select Type and Enter Due Date"]
[null,null,null,null,null,null,null,"Select Type and Enter Due Date"]
[null,null,null,null,null,null,null,"Select Type and Enter Due Date"]
[null,null,null,null,null,null,null,"Select Type and Enter Due Date"]
[null,null,null,null,null,null,null,"Select Type and Enter Due Date"]
[null,null,null,null,null,null,null,"Select Type and Enter Due Date"]
[null,null,null,null,null,null,null,"Select Type and Enter Due Date"]
[]
[null,null,null,null,null,"Internal Use - Check List"]
[null,null,null,null,null,"Entered on BOE Report"]
[null,null,null,null,null,"Rec'd from customer",null,"MAKE TO ENTER - THIS LOADS ON THE GM01"]
[null,null,null,null,null,"Sent to Analyst for Upload"]

{"sheet":"2-Grant Budget","index":1,"n_rows":601,"n_cols":135,"rows_kept":601,"cut":false,"hidden":false,"merged":[[14,126,14,134],[14,5,14,10],[14,12,14,16],[14,1,14,4]]}
[]
[null,"Award",{"$f":"'1-Award Info'!C19","v":0}]
[null,"BR",{"$f":"'1-Award Info'!C29","v":0}]
[]
[null,"Instructions"]
[null,"1. Enter account code information in columns B - E"]
[null,"2. Enter Budget by fiscal year in columns F - J & FTE in columns M - Q"]
[null,"3. Make sure that total  budget entered equals the total award amount (cell K3 will equal $0 and be green)"]
[]
[null,null,null,null,null,{"$f":"F16","v":"FY19"},{"$f":"G16","v":"FY20"},{"$f":"H16","v":"FY21"},{"$f":"I16","v":"FY22"},"FY23","Total"]
[null,null,null,null,"Total Budget",{"$f":"SUM(F17:F132)","v":0},{"$f":"SUM(G17:G132)","v":0},{"$f":"SUM(H17:H132)","v":0},{"$f":"SUM(I17:I132)","v":0},{"$f":"SUM(J17:J132)","v":0},{"$f":"SUM(F11:J11)","v":0},null,null,null,null,null,null,null,null,"These tables unduplicated the activities to load to the AC10.1-P tab",null,null,null,null,null,null,null,"These tables unduplicated the activities to load to the AC10.1-C&S tab",null,null,null,null,null,null,null,{"$f":"\"These tables unduplicate the \"&Tables!E3&\" for the AC20.3 data to feed into the master load table\"","v":"These tables unduplicate the FY19 for the AC20.3 data to feed into the master load table"},null,null,null,null,null,null,null,null,null,null,null,null,null,null,null,null,null,{"$f":"\"These tables unduplicate the \"&Tables!E4&\" for the AC20.3 data to feed into the master load table\"","v":"These tables unduplicate the FY20 for the AC20.3 data to feed into the master load table"},null,null,null,null,null,null,null,null,null,null,null,null,null,null,null,null,null,{"$f":"\"These tables unduplicate the \"&Tables!E5&\" for the AC20.3 data to feed into the master load table\"","v":"These tables unduplicate the FY21 for the AC20.3 data to feed into the master load table"},null,null,null,null,null,null,null,null,null,null,null,null,null,null,null,null,null,{"$f":"\"These tables unduplicate the \"&Tables!E6&\" for the AC20.3 data to feed into the master load table\"","v":"These tables unduplicate the FY22 for the AC20.3 data to feed into the master load table"},null,null,null,null,null,null,null,null,null,null,null,null,null,null,null,null,null,{"$f":"\"These tables unduplicate the \"&Tables!E7&\" for the AC20.3 data to feed into the master load table\"","v":"These tables unduplicate the FY23 for the AC20.3 data to feed into the master load table"}]
[null,null,null,null,null,null,null,null,null,"Total Award",{"$f":"'1-Award Info'!C20","v":0}]
[null,null,null,null,null,null,null,null,null,"Variance",{"$f":"K11-K12","v":0}]
[null,null,null,null,null,null,null,null,null,null,null,null,null,null,null,null,null,null,null,null,null,null,null,null,null,null,null,null,null,null,null,null,null,null,null,null,null,null,null,null,null,null,null,null,null,{"$f":"IF(AX14=0,AB134,AB134+1)","v":0},null,null,{"$f":"IFERROR(IF(LEN('1-Award Info'!$G$4)=7,'1-Award Info'!$G$4&'1-Award Info'!$C$28&8000,'1-Award Info'!$G$4&8000)&VLOOKUP('1-Award Info'!$G$14,Tables!$T:$V,3,0),0)","v":0},{"$f":"-SUM(AX17:AX132)","v":0},null,{"$f":"\"20\"&RIGHT(Tables!$E$3,2)","v":"2019"},null,null,null,null,null,null,null,null,null,null,null,{"$f":"IF(BP14=0,AT134,AT134+1)","v":0},null,null,{"$f":"IFERROR(IF(LEN('1-Award Info'!$G$4)=7,'1-Award Info'!$G$4&'1-Award Info'!$C$28&8000,'1-Award Info'!$G$4&8000)&VLOOKUP('1-Award Info'!$G$14,Tables!$T:$V,3,0),0)","v":0},{"$f":"-SUM(BP17:BP132)","v":0},null,{"$f":"\"20\"&RIGHT(Tables!$E$4,2)","v":"2020"},null,null,null,null,null,null,null,null,null,null,null,{"$f":"IF(CH14=0,BL134,BL134+1)","v":0},null,null,{"$f":"IFERROR(IF(LEN('1-Award Info'!$G$4)=7,'1-Award Info'!$G$4&'1-Award Info'!$C$28&8000,'1-Award Info'!$G$4&8000)&VLOOKUP('1-Award Info'!$G$14,Tables!$T:$V,3,0),0)","v":0},{"$f":"-SUM(CH17:CH132)","v":0},null,{"$f":"\"20\"&RIGHT(Tables!$E$5,2)","v":"2021"},null,null,null,null,null,null,null,null,null,null,null,{"$f":"IF(CZ14=0,CD134,CD132+1)","v":0},null,null,{"$f":"IFERROR(IF(LEN('1-Award Info'!$G$4)=7,'1-Award Info'!$G$4&'1-Award Info'!$C$28&8000,'1-Award Info'!$G$4&8000)&VLOOKUP('1-Award Info'!$G$14,Tables!$T:$V,3,0),0)","v":0},{"$f":"-SUM(CZ17:CZ132)","v":0},null,{"$f":"\"20\"&RIGHT(Tables!$E$6,2)","v":"2022"},null,null,null,null,null,null,null,null,null,null,null,{"$f":"IF(DR14=0,CV134,CV132+1)","v":0},null,null,{"$f":"IFERROR(IF(LEN('1-Award Info'!$G$4)=7,'1-Award Info'!$G$4&'1-Award Info'!$C$28&8000,'1-Award Info'!$G$4&8000)&VLOOKUP('1-Award Info'!$G$14,Tables!$T:$V,3,0),0)","v":0},{"$f":"-SUM(DR17:DR132)","v":0},null,{"$f":"\"20\"&RIGHT(Tables!$E$7,2)","v":"2023"}]
[null,"Account code information",null,null,null,"Budget Amounts",null,null,null,null,null,null,"FTE",null,null,null,null,null,null,null,null,null,null,null,null,null,null,null,null,null,null,null,null,null,null,null,null,null,null,null,null,null,null,null,null,null,null,null,null,null,null,null,null,null,null,null,null,null,null,null,null,null,null,null,null,null,null,null,null,null,null,null,null,null,null,null,null,null,null,null,null,null,null,null,null,null,null,null,null,null,null,null,null,null,null,null,null,null,null,null,null,null,null,null,null,null,null,null,null,null,null,null,null,null,null,null,null,null,null,null,null,null,null,null,null,null,"THIS IS THE CONSOLIDATED AC20.3 DATA"]
[null,"Location","Program","Account","Sub-Account",{"$f":"Tables!E3","v":"FY19"},{"$f":"Tables!E4","v":"FY20"},{"$f":"Tables!E5","v":"FY21"},{"$f":"Tables!E6","v":"FY22"},{"$f":"Tables!E7","v":"FY23"},"Full Award Total",null,{"$f":"F16","v":"FY19"},{"$f":"G16","v":"FY20"},{"$f":"H16","v":"FY21"},{"$f":"I16","v":"FY22"},{"$f":"J16","v":"FY23"},null,null,"CONCAT","COUNTIF","COUNTIF","ACTIVITIES",null,"LOOKUP VALUE","UNDUPED FOR AC10.1",null,"CONCAT","COUNTIF","COUNTIF","Locations",null,"LOOKUP VALUE","UNDUPED FOR AC10.1",null,"ADD Z SO NUMBERS WORK","Concat for SUMIF","$","FTE",null,"CONCAT","COUNTIF","COUNTIF","CONCAT STRING",null,"COUNT","LOOKUP VALUE","ADD Z","UNDUPED FOR AC10.1","$","FTE",null,null,"ADD Z SO NUMBERS WORK","Concat for SUMIF","$","FTE",null,"CONCAT","COUNTIF","COUNTIF","CONCAT STRING",null,"COUNT","LOOKUP VALUE","ADD Z","UNDUPED FOR AC10.1","$","FTE",null,null,"ADD Z SO NUMBERS WORK","Concat for SUMIF","$","FTE",null,"CONCAT","COUNTIF","COUNTIF","CONCAT STRING",null,"COUNT","LOOKUP VALUE","ADD Z SO NUMBERS WORK","UNDUPED FOR AC10.1","$","FTE",null,null,"ADD Z SO NUMBERS WORK","Concat for SUMIF","$","FTE",null,"CONCAT","COUNTIF","COUNTIF","CONCAT STRING",null,"COUNT","LOOKUP VALUE","ADD Z SO NUMBERS WORK","UNDUPED FOR AC10.1","$","FTE",null,null,"ADD Z SO NUMBERS WORK","Concat for SUMIF","$","FTE",null,"CONCAT","COUNTIF","COUNTIF","CONCAT STRING",null,"COUNT","LOOKUP VALUE","ADD Z SO NUMBERS WORK","UNDUPED FOR AC10.1","$","FTE",null,null,null,"CO","Activity","Acc Cat","BL","FY","Period","$","RATE","FTE"]
[null,null,null,null,null,null,null,null,null,null,{"$f":"SUM(F17:J17)","v":0},null,null,6,null,null,null,null,null,{"$f":"U17&\"000\"&V17","v":"10001"},{"$f":"COUNTIF(V17:$V$17,1)","v":1},{"$f":"COUNTIF(W17:$W$17,W17)","v":1},{"$f":"IF($K17=0,\"\",IF(LEN('1-Award Info'!$G$4)=7,'1-Award Info'!$G$4&$B17&$C17,'1-Award Info'!$G$4&$C17))","v":""},null,"10001",{"$f":"IFERROR(VLOOKUP(Y17,T:W,4,0),\"\")","v":""},null,{"$f":"AC17&\"000\"&AD17","v":"10001"},{"$f":"COUNTIF($AD$17:AD17,AD17)","v":1},{"$f":"COUNTIF($AE$17:AE17,AE17)","v":1},{"$f":"IF(K17=0,\"\",B17)","v":""},null,"10001",{"$f":"IFERROR(VLOOKUP(AG17,AB:AE,4,0),\"\")","v":""},null,{"$f":"IF(AK17=\"BLANK\",\"BLANK\",\"Z\"&AK17)","v":"BLANK"},{"$f":"IF(IF($F17=0,\"\",IF(LEN('1-Award Info'!$G$4)=7,'1-Award Info'!$G$4&$B17&$C17&\"9\"&E17&RIGHT($D17,3),'1-Award Info'!$G$4&$C17&\"9\"&E17&RIGHT($D17,3)))=\"\",\"BLANK\",IF($F17=0,\"\",IF(LEN('1-Award Info'!$G$4)=7,'1-Award Info'!$G$4&$B17&$C17&\"9\"&E17&RIGHT($D17,3),'1-Award Info'!$G$4&$C17&\"9\"&E17&RIGHT($D17,3))))","v":"BLANK"},{"$f":"$F17","v":0},{"$f":"$M17","v":0},null,{"$f":"AP17&\"000\"&AQ17","v":"00000"},{"$f":"COUNTIF(AQ$17:AQ17,1)","v":0},{"$f":"IF(AR17=\"BLANK\",0,COUNTIF(AR$17:AR17,AR17))","v":0},{"$f":"IF(LEFT(AJ17,1)=\"Z\",\"Z\"&AK17,\"BLANK\")","v":"BLANK"},null,{"$f":"$AT$14+COUNTIF(AV$17:AV17,\"<>BLANK\")","v":0},"10001",{"$f":"IFERROR(VLOOKUP(AU17,AO:AR,4,0),\"BLANK\")","v":"BLANK"},{"$f":"RIGHT(AV17,20)","v":"BLANK"},{"$f":"SUMIF($AJ:$AJ,$AV17,AL:AL)","v":0},{"$f":"SUMIF($AJ:$AJ,$AV17,AM:AM)","v":0},{"$f":"\"20\"&RIGHT(Tables!$E$3,2)","v":"2019"},null,{"$f":"IF(BC17=\"BLANK\",\"BLANK\",\"Z\"&BC17)","v":"BLANK"},{"$f":"IF(IF($G17=0,\"\",IF(LEN('1-Award Info'!$G$4)=7,'1-Award Info'!$G$4&$B17&$C17&\"9\"&E17&RIGHT($D17,3),'1-Award Info'!$G$4&$C17&\"9\"&E17&RIGHT($D17,3)))=\"\",\"BLANK\",IF($G17=0,\"\",IF(LEN('1-Award Info'!$G$4)=7,'1-Award Info'!$G$4&$B17&$C17&\"9\"&E17&RIGHT($D17,3),'1-Award Info'!$G$4&$C17&\"9\"&E17&RIGHT($D17,3))))","v":"BLANK"},{"$f":"$G17","v":0},{"$f":"$N17","v":6},null,{"$f":"BH17&\"000\"&BI17","v":"00000"},{"$f":"COUNTIF(BI$17:BI17,1)","v":0},{"$f":"IF(BJ17=\"BLANK\",0,COUNTIF(BJ$17:BJ17,BJ17))","v":0},{"$f":"IF(LEFT(BB17,1)=\"Z\",\"Z\"&BC17,\"BLANK\")","v":"BLANK"},null,{"$f":"$BL$14+COUNTIF(BO$17:BO17,\"<>BLANK\")","v":0},"10001",{"$f":"IFERROR(VLOOKUP(BM17,BG:BJ,4,0),\"BLANK\")","v":"BLANK"},{"$f":"RIGHT(BN17,20)","v":"BLANK"},{"$f":"SUMIF($BB:$BB,$BN17,BD:BD)","v":0},{"$f":"SUMIF($BB:$BB,$BN17,BE:BE)","v":6},{"$f":"\"20\"&RIGHT(Tables!$E$4,2)","v":"2020"},null,{"$f":"IF(BU17=\"BLANK\",\"BLANK\",\"Z\"&BU17)","v":"BLANK"},{"$f":"IF(IF($H17=0,\"\",IF(LEN('1-Award Info'!$G$4)=7,'1-Award Info'!$G$4&$B17&$C17&\"9\"&E17&RIGHT($D17,3),'1-Award Info'!$G$4&$C17&\"9\"&E17&RIGHT($D17,3)))=\"\",\"BLANK\",IF($H17=0,\"\",IF(LEN('1-Award Info'!$G$4)=7,'1-Award Info'!$G$4&$B17&$C17&\"9\"&E17&RIGHT($D17,3),'1-Award Info'!$G$4&$C17&\"9\"&E17&RIGHT($D17,3))))","v":"BLANK"},{"$f":"$H17","v":0},{"$f":"$O17","v":0},null,{"$f":"BZ17&\"000\"&CA17","v":"00000"},{"$f":"COUNTIF(CA$17:CA17,1)","v":0},{"$f":"IF(CB17=\"BLANK\",0,COUNTIF(CB$17:CB17,CB17))","v":0},{"$f":"IF(LEFT(BT17,1)=\"Z\",\"Z\"&BU17,\"BLANK\")","v":"BLANK"},null,{"$f":"$CD$14+COUNTIF(CG$17:CG17,\"<>BLANK\")","v":0},"10001",{"$f":"IFERROR(VLOOKUP(CE17,BY:CB,4,0),\"BLANK\")","v":"BLANK"},{"$f":"RIGHT(CF17,20)","v":"BLANK"},{"$f":"SUMIF($BT:$BT,$CF17,BV:BV)","v":0},{"$f":"SUMIF($BT:$BT,$CF17,BW:BW)","v":0},{"$f":"\"20\"&RIGHT(Tables!$E$5,2)","v":"2021"},null,{"$f":"IF(CM17=\"BLANK\",\"BLANK\",\"Z\"&CM17)","v":"BLANK"},{"$f":"IF(IF($I17=0,\"\",IF(LEN('1-Award Info'!$G$4)=7,'1-Award Info'!$G$4&$B17&$C17&\"9\"&$E17&RIGHT($D17,3),'1-Award Info'!$G$4&$C17&\"9\"&E$17&RIGHT($D17,3)))=\"\",\"BLANK\",IF($I17=0,\"\",IF(LEN('1-Award Info'!$G$4)=7,'1-Award Info'!$G$4&$B17&$C17&\"9\"&$E17&RIGHT($D17,3),'1-Award Info'!$G$4&$C17&\"9\"&$E17&RIGHT($D17,3))))","v":"BLANK"},{"$f":"$I17","v":0},{"$f":"$P17","v":0},null,{"$f":"CR17&\"000\"&CS17","v":"00000"},{"$f":"COUNTIF(CS$17:CS17,1)","v":0},{"$f":"IF(CT17=\"BLANK\",0,COUNTIF(CT$17:CT17,CT17))","v":0},{"$f":"IF(LEFT(CL17,1)=\"Z\",\"Z\"&CM17,\"BLANK\")","v":"BLANK"},null,{"$f":"$CV$14+COUNTIF(CY$17:CY17,\"<>BLANK\")","v":0},"10001",{"$f":"IFERROR(VLOOKUP(CW17,CQ:CT,4,0),\"BLANK\")","v":"BLANK"},{"$f":"RIGHT(CX17,20)","v":"BLANK"},{"$f":"SUMIF($CL:$CL,$CX17,CN:CN)","v":0},{"$f":"SUMIF($CL:$CL,$CX17,CO:CO)","v":0},{"$f":"\"20\"&RIGHT(Tables!$E$6,2)","v":"2022"},null,{"$f":"IF(DE17=\"BLANK\",\"BLANK\",\"Z\"&DE17)","v":"BLANK"},{"$f":"IF(IF($J17=0,\"\",IF(LEN('1-Award Info'!$G$4)=7,'1-Award Info'!$G$4&$B17&$C17&\"9\"&$E17&RIGHT($D17,3),'1-Award Info'!$G$4&$C17&\"9\"&W$17&RIGHT($D17,3)))=\"\",\"BLANK\",IF($J17=0,\"\",IF(LEN('1-Award Info'!$G$4)=7,'1-Award Info'!$G$4&$B17&$C17&\"9\"&$E17&RIGHT($D17,3),'1-Award Info'!$G$4&$C17&\"9\"&$E17&RIGHT($D17,3))))","v":"BLANK"},{"$f":"$J17","v":0},{"$f":"$Q17","v":0},null,{"$f":"DJ17&\"000\"&DK17","v":"00000"},{"$f":"COUNTIF(DK$17:DK17,1)","v":0},{"$f":"IF(DL17=\"BLANK\",0,COUNTIF(DL$17:DL17,DL17))","v":0},{"$f":"IF(LEFT(DD17,1)=\"Z\",\"Z\"&DE17,\"BLANK\")","v":"BLANK"},null,{"$f":"$DN$14+COUNTIF(DQ$17:DQ17,\"<>BLANK\")","v":0},"10001",{"$f":"IFERROR(VLOOKUP(DO17,DI:DL,4,0),\"BLANK\")","v":"BLANK"},{"$f":"RIGHT(DP17,20)","v":"BLANK"},{"$f":"SUMIF($DD:$DD,$DP17,DF:DF)","v":0},{"$f":"SUMIF($DD:$DD,$DP17,DG:DG)","v":0},{"$f":"\"20\"&RIGHT(Tables!$E$7,2)","v":"2023"},null,1,{"$f":"\"00\"&'1-Award Info'!$G$6","v":"00"},{"$f":"IFERROR(IFERROR(IFERROR(IFERROR(IFERROR(LEFT(VLOOKUP($DV17,$AT:$AW,4,0),15),LEFT(VLOOKUP($DV17,$BL:$BO,4,0),15)),LEFT(VLOOKUP($DV17,$CD:$CG,4,0),15)),LEFT(VLOOKUP($DV17,CV:CY,4,0),15)),LEFT(VLOOKUP($DV17,DN:DQ,4,0),15)),\"\")","v":""},{"$f":"IFERROR(IFERROR(IFERROR(IFERROR(IFERROR(RIGHT(VLOOKUP($DV17,$AT:$AW,4,0),5),RIGHT(VLOOKUP($DV17,$BL:$BO,4,0),5)),RIGHT(VLOOKUP($DV17,$CD:$CG,4,0),5)),RIGHT(VLOOKUP($DV17,CV:CY,4,0),5)),RIGHT(VLOOKUP($DV17,DN:DR,4,0),5)),\"\")","v":""},1,{"$f":"IFERROR(IFERROR(IFERROR(IFERROR(IFERROR(VLOOKUP($DV17,$AT:$AZ,7,0),VLOOKUP($DV17,$BL:$BR,7,0)),VLOOKUP($DV17,$CD:$CJ,7,0)),VLOOKUP($DV17,CV:DB,7,0)),VLOOKUP($DV17,DN:DT,7,0)),\"\")","v":""},{"$f":"IFERROR(\nIF(VLOOKUP(\"FY\"&RIGHT($EA17,2),'1-Award Info'!$F$28:$G$32,2,0)=0,\n     1,\n     VLOOKUP(\"FY\"&RIGHT($EA17,2),'1-Award Info'!$F$28:$G$32,2,0)),1)","v":1},{"$f":"IFERROR(IFERROR(IFERROR(IFERROR(IFERROR(VLOOKUP($DV17,$AT:$AZ,5,0),VLOOKUP($DV17,$BL:$BR,5,0)),VLOOKUP($DV17,$CD:$CJ,5,0)),VLOOKUP($DV17,CV:CZ,5,0)),VLOOKUP($DV17,DN:DR,5,0)),\"\")","v":""},null,{"$f":"IFERROR(IFERROR(IFERROR(IFERROR(IFERROR(VLOOKUP($DV17,$AT:$AZ,6,0),VLOOKUP($DV17,$BL:$BR,6,0)),VLOOKUP($DV17,$CD:$CJ,6,0)),VLOOKUP($DV17,CV:DA,6,0)),VLOOKUP($DV17,DN:DS,6,0)),\"\")","v":""}]
[null,null,null,null,null,null,null,null,null,null,{"$f":"SUM(F18:J18)","v":0},null,null,null,null,null,null,null,null,{"$f":"U18&\"000\"&V18","v":"10002"},{"$f":"COUNTIF(V$17:$V18,1)","v":1},{"$f":"COUNTIF(W$17:$W18,W18)","v":2},{"$f":"IF($K18=0,\"\",IF(LEN('1-Award Info'!$G$4)=7,'1-Award Info'!$G$4&$B18&$C18,'1-Award Info'!$G$4&$C18))","v":""},null,{"$f":"COUNTA(Y$17:Y17)+1&\"0001\"","v":"20001"},"",null,{"$f":"AC18&\"000\"&AD18","v":"10002"},{"$f":"COUNTIF($AD$17:AD18,AD18)","v":1},{"$f":"COUNTIF($AE$17:AE18,AE18)","v":2},"",null,{"$f":"COUNTA(AG$17:AG17)+1&\"0001\"","v":"20001"},"",null,{"$f":"IF(AK18=\"BLANK\",\"BLANK\",\"Z\"&AK18)","v":"BLANK"},{"$f":"IF(IF($F18=0,\"\",IF(LEN('1-Award Info'!$G$4)=7,'1-Award Info'!$G$4&$B18&$C18&\"9\"&E18&RIGHT($D18,3),'1-Award Info'!$G$4&$C18&\"9\"&E18&RIGHT($D18,3)))=\"\",\"BLANK\",IF($F18=0,\"\",IF(LEN('1-Award Info'!$G$4)=7,'1-Award Info'!$G$4&$B18&$C18&\"9\"&E18&RIGHT($D18,3),'1-Award Info'!$G$4&$C18&\"9\"&E18&RIGHT($D18,3))))","v":"BLANK"},{"$f":"$F18","v":0},{"$f":"$M18","v":0},null,{"$f":"AP18&\"000\"&AQ18","v":"00000"},{"$f":"COUNTIF(AQ$17:AQ18,1)","v":0},{"$f":"IF(AR18=\"BLANK\",0,COUNTIF(AR$17:AR18,AR18))","v":0},{"$f":"IF(LEFT(AJ18,1)=\"Z\",\"Z\"&AK18,\"BLANK\")","v":"BLANK"},null,{"$f":"$AT$14+COUNTIF(AV$17:AV18,\"<>BLANK\")","v":0},{"$f":"COUNTA(AU$17:AU17)+1&\"0001\"","v":"20001"},"BLANK",{"$f":"RIGHT(AV18,20)","v":"BLANK"},0,0,{"$f":"\"20\"&RIGHT(Tables!$E$3,2)","v":"2019"},null,{"$f":"IF(BC18=\"BLANK\",\"BLANK\",\"Z\"&BC18)","v":"BLANK"},{"$f":"IF(IF($G18=0,\"\",IF(LEN('1-Award Info'!$G$4)=7,'1-Award Info'!$G$4&$B18&$C18&\"9\"&E18&RIGHT($D18,3),'1-Award Info'!$G$4&$C18&\"9\"&E18&RIGHT($D18,3)))=\"\",\"BLANK\",IF($G18=0,\"\",IF(LEN('1-Award Info'!$G$4)=7,'1-Award Info'!$G$4&$B18&$C18&\"9\"&E18&RIGHT($D18,3),'1-Award Info'!$G$4&$C18&\"9\"&E18&RIGHT($D18,3))))","v":"BLANK"},{"$f":"$G18","v":0},{"$f":"$N18","v":0},null,{"$f":"BH18&\"000\"&BI18","v":"00000"},{"$f":"COUNTIF(BI$17:BI18,1)","v":0},{"$f":"IF(BJ18=\"BLANk\",0,COUNTIF(BJ$17:BJ18,BJ18))","v":0},{"$f":"IF(LEFT(BB18,1)=\"Z\",\"Z\"&BC18,\"BLANK\")","v":"BLANK"},null,{"$f":"$BL$14+COUNTIF(BO$17:BO18,\"<>BLANK\")","v":0},{"$f":"COUNTA(BM$17:BM17)+1&\"0001\"","v":"20001"},"BLANK",{"$f":"RIGHT(BN18,20)","v":"BLANK"},0,6,{"$f":"\"20\"&RIGHT(Tables!$E$4,2)","v":"2020"},null,{"$f":"IF(BU18=\"BLANK\",\"BLANK\",\"Z\"&BU18)","v":"BLANK"},{"$f":"IF(IF($H18=0,\"\",IF(LEN('1-Award Info'!$G$4)=7,'1-Award Info'!$G$4&$B18&$C18&\"9\"&E18&RIGHT($D18,3),'1-Award Info'!$G$4&$C18&\"9\"&E18&RIGHT($D18,3)))=\"\",\"BLANK\",IF($H18=0,\"\",IF(LEN('1-Award Info'!$G$4)=7,'1-Award Info'!$G$4&$B18&$C18&\"9\"&E18&RIGHT($D18,3),'1-Award Info'!$G$4&$C18&\"9\"&E18&RIGHT($D18,3))))","v":"BLANK"},{"$f":"$H18","v":0},{"$f":"$O18","v":0},null,{"$f":"BZ18&\"000\"&CA18","v":"00000"},{"$f":"COUNTIF(CA$17:CA18,1)","v":0},{"$f":"IF(CB18=\"BLANk\",0,COUNTIF(CB$17:CB18,CB18))","v":0},{"$f":"IF(LEFT(BT18,1)=\"Z\",\"Z\"&BU18,\"BLANK\")","v":"BLANK"},null,{"$f":"$CD$14+COUNTIF(CG$17:CG18,\"<>BLANK\")","v":0},{"$f":"COUNTA(CE$17:CE17)+1&\"0001\"","v":"20001"},"BLANK",{"$f":"RIGHT(CF18,20)","v":"BLANK"},0,0,{"$f":"\"20\"&RIGHT(Tables!$E$5,2)","v":"2021"},null,{"$f":"IF(CM18=\"BLANK\",\"BLANK\",\"Z\"&CM18)","v":"BLANK"},{"$f":"IF(IF($I18=0,\"\",IF(LEN('1-Award Info'!$G$4)=7,'1-Award Info'!$G$4&$B18&$C18&\"9\"&$E18&RIGHT($D18,3),'1-Award Info'!$G$4&$C18&\"9\"&E$17&RIGHT($D18,3)))=\"\",\"BLANK\",IF($I18=0,\"\",IF(LEN('1-Award Info'!$G$4)=7,'1-Award Info'!$G$4&$B18&$C18&\"9\"&$E18&RIGHT($D18,3),'1-Award Info'!$G$4&$C18&\"9\"&$E18&RIGHT($D18,3))))","v":"BLANK"},{"$f":"$I18","v":0},{"$f":"$P18","v":0},null,{"$f":"CR18&\"000\"&CS18","v":"00000"},{"$f":"COUNTIF(CS$17:CS18,1)","v":0},{"$f":"IF(CT18=\"BLANk\",0,COUNTIF(CT$17:CT18,CT18))","v":0},{"$f":"IF(LEFT(CL18,1)=\"Z\",\"Z\"&CM18,\"BLANK\")","v":"BLANK"},null,{"$f":"$CV$14+COUNTIF(CY$17:CY18,\"<>BLANK\")","v":0},{"$f":"COUNTA(CW$17:CW17)+1&\"0001\"","v":"20001"},"BLANK",{"$f":"RIGHT(CX18,20)","v":"BLANK"},{"$f":"SUMIF($CL:$CL,$CX18,CN:CN)","v":0},{"$f":"SUMIF($CL:$CL,$CX18,CO:CO)","v":0},{"$f":"\"20\"&RIGHT(Tables!$E$6,2)","v":"2022"},null,{"$f":"IF(DE18=\"BLANK\",\"BLANK\",\"Z\"&DE18)","v":"BLANK"},{"$f":"IF(IF($J18=0,\"\",IF(LEN('1-Award Info'!$G$4)=7,'1-Award Info'!$G$4&$B18&$C18&\"9\"&$E18&RIGHT($D18,3),'1-Award Info'!$G$4&$C18&\"9\"&W$17&RIGHT($D18,3)))=\"\",\"BLANK\",IF($J18=0,\"\",IF(LEN('1-Award Info'!$G$4)=7,'1-Award Info'!$G$4&$B18&$C18&\"9\"&$E18&RIGHT($D18,3),'1-Award Info'!$G$4&$C18&\"9\"&$E18&RIGHT($D18,3))))","v":"BLANK"},{"$f":"$J18","v":0},{"$f":"$Q18","v":0},null,{"$f":"DJ18&\"000\"&DK18","v":"00000"},{"$f":"COUNTIF(DK$17:DK18,1)","v":0},{"$f":"IF(DL18=\"BLANk\",0,COUNTIF(DL$17:DL18,DL18))","v":0},{"$f":"IF(LEFT(DD18,1)=\"Z\",\"Z\"&DE18,\"BLANK\")","v":"BLANK"},null,{"$f":"$DN$14+COUNTIF(DQ$17:DQ18,\"<>BLANK\")","v":0},{"$f":"COUNTA(DO$17:DO17)+1&\"0001\"","v":"20001"},"BLANK",{"$f":"RIGHT(DP18,20)","v":"BLANK"},0,0,{"$f":"\"20\"&RIGHT(Tables!$E$7,2)","v":"2023"},null,{"$f":"DV17+1","v":2},{"$f":"\"00\"&'1-Award Info'!$G$6","v":"00"},"","",1,"",{"$f":"IFERROR(\nIF(VLOOKUP(\"FY\"&RIGHT($EA18,2),'1-Award Info'!$F$28:$G$32,2,0)=0,\n     1,\n     VLOOKUP(\"FY\"&RIGHT($EA18,2),'1-Award Info'!$F$28:$G$32,2,0)),1)","v":1},"",null,""]
[null,null,null,null,null,null,null,null,null,null,0,null,null,null,null,null,null,null,null,"10003",{"$f":"COUNTIF(V$17:$V19,1)","v":1},{"$f":"COUNTIF(W$17:$W19,W19)","v":3},{"$f":"IF($K19=0,\"\",IF(LEN('1-Award Info'!$G$4)=7,'1-Award Info'!$G$4&$B19&$C19,'1-Award Info'!$G$4&$C19))","v":""},null,{"$f":"COUNTA(Y$17:Y18)+1&\"0001\"","v":"30001"},"",null,"10003",{"$f":"COUNTIF($AD$17:AD19,AD19)","v":1},{"$f":"COUNTIF($AE$17:AE19,AE19)","v":3},"",null,{"$f":"COUNTA(AG$17:AG18)+1&\"0001\"","v":"30001"},"",null,"BLANK",{"$f":"IF(IF($F19=0,\"\",IF(LEN('1-Award Info'!$G$4)=7,'1-Award Info'!$G$4&$B19&$C19&\"9\"&E19&RIGHT($D19,3),'1-Award Info'!$G$4&$C19&\"9\"&E19&RIGHT($D19,3)))=\"\",\"BLANK\",IF($F19=0,\"\",IF(LEN('1-Award Info'!$G$4)=7,'1-Award Info'!$G$4&$B19&$C19&\"9\"&E19&RIGHT($D19,3),'1-Award Info'!$G$4&$C19&\"9\"&E19&RIGHT($D19,3))))","v":"BLANK"},0,0,null,"00000",{"$f":"COUNTIF(AQ$17:AQ19,1)","v":0},{"$f":"IF(AR19=\"BLANK\",0,COUNTIF(AR$17:AR19,AR19))","v":0},"BLANK",null,{"$f":"$AT$14+COUNTIF(AV$17:AV19,\"<>BLANK\")","v":0},{"$f":"COUNTA(AU$17:AU18)+1&\"0001\"","v":"30001"},"BLANK","BLANK",0,0,{"$f":"\"20\"&RIGHT(Tables!$E$3,2)","v":"2019"},null,"BLANK",{"$f":"IF(IF($G19=0,\"\",IF(LEN('1-Award Info'!$G$4)=7,'1-Award Info'!$G$4&$B19&$C19&\"9\"&E19&RIGHT($D19,3),'1-Award Info'!$G$4&$C19&\"9\"&E19&RIGHT($D19,3)))=\"\",\"BLANK\",IF($G19=0,\"\",IF(LEN('1-Award Info'!$G$4)=7,'1-Award Info'!$G$4&$B19&$C19&\"9\"&E19&RIGHT($D19,3),'1-Award Info'!$G$4&$C19&\"9\"&E19&RIGHT($D19,3))))","v":"BLANK"},0,0,null,"00000",{"$f":"COUNTIF(BI$17:BI19,1)","v":0},{"$f":"IF(BJ19=\"BLANk\",0,COUNTIF(BJ$17:BJ19,BJ19))","v":0},"BLANK",null,{"$f":"$BL$14+COUNTIF(BO$17:BO19,\"<>BLANK\")","v":0},{"$f":"COUNTA(BM$17:BM18)+1&\"0001\"","v":"30001"},"BLANK","BLANK",0,6,{"$f":"\"20\"&RIGHT(Tables!$E$4,2)","v":"2020"},null,"BLANK",{"$f":"IF(IF($H19=0,\"\",IF(LEN('1-Award Info'!$G$4)=7,'1-Award Info'!$G$4&$B19&$C19&\"9\"&E19&RIGHT($D19,3),'1-Award Info'!$G$4&$C19&\"9\"&E19&RIGHT($D19,3)))=\"\",\"BLANK\",IF($H19=0,\"\",IF(LEN('1-Award Info'!$G$4)=7,'1-Award Info'!$G$4&$B19&$C19&\"9\"&E19&RIGHT($D19,3),'1-Award Info'!$G$4&$C19&\"9\"&E19&RIGHT($D19,3))))","v":"BLANK"},0,0,null,"00000",{"$f":"COUNTIF(CA$17:CA19,1)","v":0},{"$f":"IF(CB19=\"BLANk\",0,COUNTIF(CB$17:CB19,CB19))","v":0},"BLANK",null,{"$f":"$CD$14+COUNTIF(CG$17:CG19,\"<>BLANK\")","v":0},{"$f":"COUNTA(CE$17:CE18)+1&\"0001\"","v":"30001"},"BLANK","BLANK",0,0,{"$f":"\"20\"&RIGHT(Tables!$E$5,2)","v":"2021"},null,"BLANK",{"$f":"IF(IF($I19=0,\"\",IF(LEN('1-Award Info'!$G$4)=7,'1-Award Info'!$G$4&$B19&$C19&\"9\"&$E19&RIGHT($D19,3),'1-Award Info'!$G$4&$C19&\"9\"&E$17&RIGHT($D19,3)))=\"\",\"BLANK\",IF($I19=0,\"\",IF(LEN('1-Award Info'!$G$4)=7,'1-Award Info'!$G$4&$B19&$C19&\"9\"&$E19&RIGHT($D19,3),'1-Award Info'!$G$4&$C19&\"9\"&$E19&RIGHT($D19,3))))","v":"BLANK"},0,0,null,"00000",{"$f":"COUNTIF(CS$17:CS19,1)","v":0},{"$f":"IF(CT19=\"BLANk\",0,COUNTIF(CT$17:CT19,CT19))","v":0},"BLANK",null,{"$f":"$CV$14+COUNTIF(CY$17:CY19,\"<>BLANK\")","v":0},{"$f":"COUNTA(CW$17:CW18)+1&\"0001\"","v":"30001"},"BLANK","BLANK",0,0,{"$f":"\"20\"&RIGHT(Tables!$E$6,2)","v":"2022"},null,"BLANK",{"$f":"IF(IF($J19=0,\"\",IF(LEN('1-Award Info'!$G$4)=7,'1-Award Info'!$G$4&$B19&$C19&\"9\"&$E19&RIGHT($D19,3),'1-Award Info'!$G$4&$C19&\"9\"&W$17&RIGHT($D19,3)))=\"\",\"BLANK\",IF($J19=0,\"\",IF(LEN('1-Award Info'!$G$4)=7,'1-Award Info'!$G$4&$B19&$C19&\"9\"&$E19&RIGHT($D19,3),'1-Award Info'!$G$4&$C19&\"9\"&$E19&RIGHT($D19,3))))","v":"BLANK"},0,0,null,"00000",{"$f":"COUNTIF(DK$17:DK19,1)","v":0},{"$f":"IF(DL19=\"BLANk\",0,COUNTIF(DL$17:DL19,DL19))","v":0},"BLANK",null,{"$f":"$DN$14+COUNTIF(DQ$17:DQ19,\"<>BLANK\")","v":0},{"$f":"COUNTA(DO$17:DO18)+1&\"0001\"","v":"30001"},"BLANK","BLANK",0,0,{"$f":"\"20\"&RIGHT(Tables!$E$7,2)","v":"2023"},null,{"$f":"DV18+1","v":3},{"$f":"\"00\"&'1-Award Info'!$G$6","v":"00"},"","",1,"",{"$f":"IFERROR(\nIF(VLOOKUP(\"FY\"&RIGHT($EA19,2),'1-Award Info'!$F$28:$G$32,2,0)=0,\n     1,\n     VLOOKUP(\"FY\"&RIGHT($EA19,2),'1-Award Info'!$F$28:$G$32,2,0)),1)","v":1},"",null,""]
[null,null,null,null,null,null,null,null,null,null,0,null,null,null,null,null,null,null,null,"10004",{"$f":"COUNTIF(V$17:$V20,1)","v":1},{"$f":"COUNTIF(W$17:$W20,W20)","v":4},{"$f":"IF($K20=0,\"\",IF(LEN('1-Award Info'!$G$4)=7,'1-Award Info'!$G$4&$B20&$C20,'1-Award Info'!$G$4&$C20))","v":""},null,{"$f":"COUNTA(Y$17:Y19)+1&\"0001\"","v":"40001"},"",null,"10004",{"$f":"COUNTIF($AD$17:AD20,AD20)","v":1},{"$f":"COUNTIF($AE$17:AE20,AE20)","v":4},"",null,{"$f":"COUNTA(AG$17:AG19)+1&\"0001\"","v":"40001"},"",null,"BLANK",{"$f":"IF(IF($F20=0,\"\",IF(LEN('1-Award Info'!$G$4)=7,'1-Award Info'!$G$4&$B20&$C20&\"9\"&E20&RIGHT($D20,3),'1-Award Info'!$G$4&$C20&\"9\"&E20&RIGHT($D20,3)))=\"\",\"BLANK\",IF($F20=0,\"\",IF(LEN('1-Award Info'!$G$4)=7,'1-Award Info'!$G$4&$B20&$C20&\"9\"&E20&RIGHT($D20,3),'1-Award Info'!$G$4&$C20&\"9\"&E20&RIGHT($D20,3))))","v":"BLANK"},0,0,null,"00000",{"$f":"COUNTIF(AQ$17:AQ20,1)","v":0},{"$f":"IF(AR20=\"BLANK\",0,COUNTIF(AR$17:AR20,AR20))","v":0},"BLANK",null,{"$f":"$AT$14+COUNTIF(AV$17:AV20,\"<>BLANK\")","v":0},{"$f":"COUNTA(AU$17:AU19)+1&\"0001\"","v":"40001"},"BLANK","BLANK",0,0,{"$f":"\"20\"&RIGHT(Tables!$E$3,2)","v":"2019"},null,"BLANK",{"$f":"IF(IF($G20=0,\"\",IF(LEN('1-Award Info'!$G$4)=7,'1-Award Info'!$G$4&$B20&$C20&\"9\"&E20&RIGHT($D20,3),'1-Award Info'!$G$4&$C20&\"9\"&E20&RIGHT($D20,3)))=\"\",\"BLANK\",IF($G20=0,\"\",IF(LEN('1-Award Info'!$G$4)=7,'1-Award Info'!$G$4&$B20&$C20&\"9\"&E20&RIGHT($D20,3),'1-Award Info'!$G$4&$C20&\"9\"&E20&RIGHT($D20,3))))","v":"BLANK"},0,0,null,"00000",{"$f":"COUNTIF(BI$17:BI20,1)","v":0},{"$f":"IF(BJ20=\"BLANk\",0,COUNTIF(BJ$17:BJ20,BJ20))","v":0},"BLANK",null,{"$f":"$BL$14+COUNTIF(BO$17:BO20,\"<>BLANK\")","v":0},{"$f":"COUNTA(BM$17:BM19)+1&\"0001\"","v":"40001"},"BLANK","BLANK",0,6,{"$f":"\"20\"&RIGHT(Tables!$E$4,2)","v":"2020"},null,"BLANK",{"$f":"IF(IF($H20=0,\"\",IF(LEN('1-Award Info'!$G$4)=7,'1-Award Info'!$G$4&$B20&$C20&\"9\"&E20&RIGHT($D20,3),'1-Award Info'!$G$4&$C20&\"9\"&E20&RIGHT($D20,3)))=\"\",\"BLANK\",IF($H20=0,\"\",IF(LEN('1-Award Info'!$G$4)=7,'1-Award Info'!$G$4&$B20&$C20&\"9\"&E20&RIGHT($D20,3),'1-Award Info'!$G$4&$C20&\"9\"&E20&RIGHT($D20,3))))","v":"BLANK"},0,0,null,"00000",{"$f":"COUNTIF(CA$17:CA20,1)","v":0},{"$f":"IF(CB20=\"BLANk\",0,COUNTIF(CB$17:CB20,CB20))","v":0},"BLANK",null,{"$f":"$CD$14+COUNTIF(CG$17:CG20,\"<>BLANK\")","v":0},{"$f":"COUNTA(CE$17:CE19)+1&\"0001\"","v":"40001"},"BLANK","BLANK",0,0,{"$f":"\"20\"&RIGHT(Tables!$E$5,2)","v":"2021"},null,"BLANK",{"$f":"IF(IF($I20=0,\"\",IF(LEN('1-Award Info'!$G$4)=7,'1-Award Info'!$G$4&$B20&$C20&\"9\"&$E20&RIGHT($D20,3),'1-Award Info'!$G$4&$C20&\"9\"&E$17&RIGHT($D20,3)))=\"\",\"BLANK\",IF($I20=0,\"\",IF(LEN('1-Award Info'!$G$4)=7,'1-Award Info'!$G$4&$B20&$C20&\"9\"&$E20&RIGHT($D20,3),'1-Award Info'!$G$4&$C20&\"9\"&$E20&RIGHT($D20,3))))","v":"BLANK"},0,0,null,"00000",{"$f":"COUNTIF(CS$17:CS20,1)","v":0},{"$f":"IF(CT20=\"BLANk\",0,COUNTIF(CT$17:CT20,CT20))","v":0},"BLANK",null,{"$f":"$CV$14+COUNTIF(CY$17:CY20,\"<>BLANK\")","v":0},{"$f":"COUNTA(CW$17:CW19)+1&\"0001\"","v":"40001"},"BLANK","BLANK",0,0,{"$f":"\"20\"&RIGHT(Tables!$E$6,2)","v":"2022"},null,"BLANK",{"$f":"IF(IF($J20=0,\"\",IF(LEN('1-Award Info'!$G$4)=7,'1-Award Info'!$G$4&$B20&$C20&\"9\"&$E20&RIGHT($D20,3),'1-Award Info'!$G$4&$C20&\"9\"&W$17&RIGHT($D20,3)))=\"\",\"BLANK\",IF($J20=0,\"\",IF(LEN('1-Award Info'!$G$4)=7,'1-Award Info'!$G$4&$B20&$C20&\"9\"&$E20&RIGHT($D20,3),'1-Award Info'!$G$4&$C20&\"9\"&$E20&RIGHT($D20,3))))","v":"BLANK"},0,0,null,"00000",{"$f":"COUNTIF(DK$17:DK20,1)","v":0},{"$f":"IF(DL20=\"BLANk\",0,COUNTIF(DL$17:DL20,DL20))","v":0},"BLANK",null,{"$f":"$DN$14+COUNTIF(DQ$17:DQ20,\"<>BLANK\")","v":0},{"$f":"COUNTA(DO$17:DO19)+1&\"0001\"","v":"40001"},"BLANK","BLANK",0,0,{"$f":"\"20\"&RIGHT(Tables!$E$7,2)","v":"2023"},null,4,{"$f":"\"00\"&'1-Award Info'!$G$6","v":"00"},"","",1,"",{"$f":"IFERROR(\nIF(VLOOKUP(\"FY\"&RIGHT($EA20,2),'1-Award Info'!$F$28:$G$32,2,0)=0,\n     1,\n     VLOOKUP(\"FY\"&RIGHT($EA20,2),'1-Award Info'!$F$28:$G$32,2,0)),1)","v":1},"",null,""]
[null,null,null,null,null,null,null,null,null,null,0,null,null,null,null,null,null,null,null,"10005",{"$f":"COUNTIF(V$17:$V21,1)","v":1},{"$f":"COUNTIF(W$17:$W21,W21)","v":5},{"$f":"IF($K21=0,\"\",IF(LEN('1-Award Info'!$G$4)=7,'1-Award Info'!$G$4&$B21&$C21,'1-Award Info'!$G$4&$C21))","v":""},null,{"$f":"COUNTA(Y$17:Y20)+1&\"0001\"","v":"50001"},"",null,"10005",{"$f":"COUNTIF($AD$17:AD21,AD21)","v":1},{"$f":"COUNTIF($AE$17:AE21,AE21)","v":5},"",null,{"$f":"COUNTA(AG$17:AG20)+1&\"0001\"","v":"50001"},"",null,"BLANK",{"$f":"IF(IF($F21=0,\"\",IF(LEN('1-Award Info'!$G$4)=7,'1-Award Info'!$G$4&$B21&$C21&\"9\"&E21&RIGHT($D21,3),'1-Award Info'!$G$4&$C21&\"9\"&E21&RIGHT($D21,3)))=\"\",\"BLANK\",IF($F21=0,\"\",IF(LEN('1-Award Info'!$G$4)=7,'1-Award Info'!$G$4&$B21&$C21&\"9\"&E21&RIGHT($D21,3),'1-Award Info'!$G$4&$C21&\"9\"&E21&RIGHT($D21,3))))","v":"BLANK"},0,0,null,"00000",{"$f":"COUNTIF(AQ$17:AQ21,1)","v":0},{"$f":"IF(AR21=\"BLANK\",0,COUNTIF(AR$17:AR21,AR21))","v":0},"BLANK",null,{"$f":"$AT$14+COUNTIF(AV$17:AV21,\"<>BLANK\")","v":0},{"$f":"COUNTA(AU$17:AU20)+1&\"0001\"","v":"50001"},"BLANK","BLANK",0,0,{"$f":"\"20\"&RIGHT(Tables!$E$3,2)","v":"2019"},null,"BLANK",{"$f":"IF(IF($G21=0,\"\",IF(LEN('1-Award Info'!$G$4)=7,'1-Award Info'!$G$4&$B21&$C21&\"9\"&E21&RIGHT($D21,3),'1-Award Info'!$G$4&$C21&\"9\"&E21&RIGHT($D21,3)))=\"\",\"BLANK\",IF($G21=0,\"\",IF(LEN('1-Award Info'!$G$4)=7,'1-Award Info'!$G$4&$B21&$C21&\"9\"&E21&RIGHT($D21,3),'1-Award Info'!$G$4&$C21&\"9\"&E21&RIGHT($D21,3))))","v":"BLANK"},0,0,null,"00000",{"$f":"COUNTIF(BI$17:BI21,1)","v":0},{"$f":"IF(BJ21=\"BLANk\",0,COUNTIF(BJ$17:BJ21,BJ21))","v":0},"BLANK",null,{"$f":"$BL$14+COUNTIF(BO$17:BO21,\"<>BLANK\")","v":0},{"$f":"COUNTA(BM$17:BM20)+1&\"0001\"","v":"50001"},"BLANK","BLANK",0,6,{"$f":"\"20\"&RIGHT(Tables!$E$4,2)","v":"2020"},null,"BLANK",{"$f":"IF(IF($H21=0,\"\",IF(LEN('1-Award Info'!$G$4)=7,'1-Award Info'!$G$4&$B21&$C21&\"9\"&E21&RIGHT($D21,3),'1-Award Info'!$G$4&$C21&\"9\"&E21&RIGHT($D21,3)))=\"\",\"BLANK\",IF($H21=0,\"\",IF(LEN('1-Award Info'!$G$4)=7,'1-Award Info'!$G$4&$B21&$C21&\"9\"&E21&RIGHT($D21,3),'1-Award Info'!$G$4&$C21&\"9\"&E21&RIGHT($D21,3))))","v":"BLANK"},0,0,null,"00000",{"$f":"COUNTIF(CA$17:CA21,1)","v":0},{"$f":"IF(CB21=\"BLANk\",0,COUNTIF(CB$17:CB21,CB21))","v":0},"BLANK",null,{"$f":"$CD$14+COUNTIF(CG$17:CG21,\"<>BLANK\")","v":0},{"$f":"COUNTA(CE$17:CE20)+1&\"0001\"","v":"50001"},"BLANK","BLANK",0,0,{"$f":"\"20\"&RIGHT(Tables!$E$5,2)","v":"2021"},null,"BLANK",{"$f":"IF(IF($I21=0,\"\",IF(LEN('1-Award Info'!$G$4)=7,'1-Award Info'!$G$4&$B21&$C21&\"9\"&$E21&RIGHT($D21,3),'1-Award Info'!$G$4&$C21&\"9\"&E$17&RIGHT($D21,3)))=\"\",\"BLANK\",IF($I21=0,\"\",IF(LEN('1-Award Info'!$G$4)=7,'1-Award Info'!$G$4&$B21&$C21&\"9\"&$E21&RIGHT($D21,3),'1-Award Info'!$G$4&$C21&\"9\"&$E21&RIGHT($D21,3))))","v":"BLANK"},0,0,null,"00000",{"$f":"COUNTIF(CS$17:CS21,1)","v":0},{"$f":"IF(CT21=\"BLANk\",0,COUNTIF(CT$17:CT21,CT21))","v":0},"BLANK",null,{"$f":"$CV$14+COUNTIF(CY$17:CY21,\"<>BLANK\")","v":0},{"$f":"COUNTA(CW$17:CW20)+1&\"0001\"","v":"50001"},"BLANK","BLANK",0,0,{"$f":"\"20\"&RIGHT(Tables!$E$6,2)","v":"2022"},null,"BLANK",{"$f":"IF(IF($J21=0,\"\",IF(LEN('1-Award Info'!$G$4)=7,'1-Award Info'!$G$4&$B21&$C21&\"9\"&$E21&RIGHT($D21,3),'1-Award Info'!$G$4&$C21&\"9\"&W$17&RIGHT($D21,3)))=\"\",\"BLANK\",IF($J21=0,\"\",IF(LEN('1-Award Info'!$G$4)=7,'1-Award Info'!$G$4&$B21&$C21&\"9\"&$E21&RIGHT($D21,3),'1-Award Info'!$G$4&$C21&\"9\"&$E21&RIGHT($D21,3))))","v":"BLANK"},0,0,null,"00000",{"$f":"COUNTIF(DK$17:DK21,1)","v":0},{"$f":"IF(DL21=\"BLANk\",0,COUNTIF(DL$17:DL21,DL21))","v":0},"BLANK",null,{"$f":"$DN$14+COUNTIF(DQ$17:DQ21,\"<>BLANK\")","v":0},{"$f":"COUNTA(DO$17:DO20)+1&\"0001\"","v":"50001"},"BLANK","BLANK",0,0,{"$f":"\"20\"&RIGHT(Tables!$E$7,2)","v":"2023"},null,5,{"$f":"\"00\"&'1-Award Info'!$G$6","v":"00"},"","",1,"",{"$f":"IFERROR(\nIF(VLOOKUP(\"FY\"&RIGHT($EA21,2),'1-Award Info'!$F$28:$G$32,2,0)=0,\n     1,\n     VLOOKUP(\"FY\"&RIGHT($EA21,2),'1-Award Info'!$F$28:$G$32,2,0)),1)","v":1},"",null,""]
[null,null,null,null,null,null,null,null,null,null,0,null,null,null,null,null,null,null,null,"10006",{"$f":"COUNTIF(V$17:$V22,1)","v":1},{"$f":"COUNTIF(W$17:$W22,W22)","v":6},{"$f":"IF($K22=0,\"\",IF(LEN('1-Award Info'!$G$4)=7,'1-Award Info'!$G$4&$B22&$C22,'1-Award Info'!$G$4&$C22))","v":""},null,{"$f":"COUNTA(Y$17:Y21)+1&\"0001\"","v":"60001"},"",null,"10006",{"$f":"COUNTIF($AD$17:AD22,AD22)","v":1},{"$f":"COUNTIF($AE$17:AE22,AE22)","v":6},"",null,{"$f":"COUNTA(AG$17:AG21)+1&\"0001\"","v":"60001"},"",null,"BLANK",{"$f":"IF(IF($F22=0,\"\",IF(LEN('1-Award Info'!$G$4)=7,'1-Award Info'!$G$4&$B22&$C22&\"9\"&E22&RIGHT($D22,3),'1-Award Info'!$G$4&$C22&\"9\"&E22&RIGHT($D22,3)))=\"\",\"BLANK\",IF($F22=0,\"\",IF(LEN('1-Award Info'!$G$4)=7,'1-Award Info'!$G$4&$B22&$C22&\"9\"&E22&RIGHT($D22,3),'1-Award Info'!$G$4&$C22&\"9\"&E22&RIGHT($D22,3))))","v":"BLANK"},0,0,null,"00000",{"$f":"COUNTIF(AQ$17:AQ22,1)","v":0},{"$f":"IF(AR22=\"BLANK\",0,COUNTIF(AR$17:AR22,AR22))","v":0},"BLANK",null,{"$f":"$AT$14+COUNTIF(AV$17:AV22,\"<>BLANK\")","v":0},{"$f":"COUNTA(AU$17:AU21)+1&\"0001\"","v":"60001"},"BLANK","BLANK",0,0,{"$f":"\"20\"&RIGHT(Tables!$E$3,2)","v":"2019"},null,"BLANK",{"$f":"IF(IF($G22=0,\"\",IF(LEN('1-Award Info'!$G$4)=7,'1-Award Info'!$G$4&$B22&$C22&\"9\"&E22&RIGHT($D22,3),'1-Award Info'!$G$4&$C22&\"9\"&E22&RIGHT($D22,3)))=\"\",\"BLANK\",IF($G22=0,\"\",IF(LEN('1-Award Info'!$G$4)=7,'1-Award Info'!$G$4&$B22&$C22&\"9\"&E22&RIGHT($D22,3),'1-Award Info'!$G$4&$C22&\"9\"&E22&RIGHT($D22,3))))","v":"BLANK"},0,0,null,"00000",{"$f":"COUNTIF(BI$17:BI22,1)","v":0},{"$f":"IF(BJ22=\"BLANk\",0,COUNTIF(BJ$17:BJ22,BJ22))","v":0},"BLANK",null,{"$f":"$BL$14+COUNTIF(BO$17:BO22,\"<>BLANK\")","v":0},{"$f":"COUNTA(BM$17:BM21)+1&\"0001\"","v":"60001"},"BLANK","BLANK",0,6,{"$f":"\"20\"&RIGHT(Tables!$E$4,2)","v":"2020"},null,"BLANK",{"$f":"IF(IF($H22=0,\"\",IF(LEN('1-Award Info'!$G$4)=7,'1-Award Info'!$G$4&$B22&$C22&\"9\"&E22&RIGHT($D22,3),'1-Award Info'!$G$4&$C22&\"9\"&E22&RIGHT($D22,3)))=\"\",\"BLANK\",IF($H22=0,\"\",IF(LEN('1-Award Info'!$G$4)=7,'1-Award Info'!$G$4&$B22&$C22&\"9\"&E22&RIGHT($D22,3),'1-Award Info'!$G$4&$C22&\"9\"&E22&RIGHT($D22,3))))","v":"BLANK"},0,0,null,"00000",{"$f":"COUNTIF(CA$17:CA22,1)","v":0},{"$f":"IF(CB22=\"BLANk\",0,COUNTIF(CB$17:CB22,CB22))","v":0},"BLANK",null,{"$f":"$CD$14+COUNTIF(CG$17:CG22,\"<>BLANK\")","v":0},{"$f":"COUNTA(CE$17:CE21)+1&\"0001\"","v":"60001"},"BLANK","BLANK",0,0,{"$f":"\"20\"&RIGHT(Tables!$E$5,2)","v":"2021"},null,"BLANK",{"$f":"IF(IF($I22=0,\"\",IF(LEN('1-Award Info'!$G$4)=7,'1-Award Info'!$G$4&$B22&$C22&\"9\"&$E22&RIGHT($D22,3),'1-Award Info'!$G$4&$C22&\"9\"&E$17&RIGHT($D22,3)))=\"\",\"BLANK\",IF($I22=0,\"\",IF(LEN('1-Award Info'!$G$4)=7,'1-Award Info'!$G$4&$B22&$C22&\"9\"&$E22&RIGHT($D22,3),'1-Award Info'!$G$4&$C22&\"9\"&$E22&RIGHT($D22,3))))","v":"BLANK"},0,0,null,"00000",{"$f":"COUNTIF(CS$17:CS22,1)","v":0},{"$f":"IF(CT22=\"BLANk\",0,COUNTIF(CT$17:CT22,CT22))","v":0},"BLANK",null,{"$f":"$CV$14+COUNTIF(CY$17:CY22,\"<>BLANK\")","v":0},{"$f":"COUNTA(CW$17:CW21)+1&\"0001\"","v":"60001"},"BLANK","BLANK",0,0,{"$f":"\"20\"&RIGHT(Tables!$E$6,2)","v":"2022"},null,"BLANK",{"$f":"IF(IF($J22=0,\"\",IF(LEN('1-Award Info'!$G$4)=7,'1-Award Info'!$G$4&$B22&$C22&\"9\"&$E22&RIGHT($D22,3),'1-Award Info'!$G$4&$C22&\"9\"&W$17&RIGHT($D22,3)))=\"\",\"BLANK\",IF($J22=0,\"\",IF(LEN('1-Award Info'!$G$4)=7,'1-Award Info'!$G$4&$B22&$C22&\"9\"&$E22&RIGHT($D22,3),'1-Award Info'!$G$4&$C22&\"9\"&$E22&RIGHT($D22,3))))","v":"BLANK"},0,0,null,"00000",{"$f":"COUNTIF(DK$17:DK22,1)","v":0},{"$f":"IF(DL22=\"BLANk\",0,COUNTIF(DL$17:DL22,DL22))","v":0},"BLANK",null,{"$f":"$DN$14+COUNTIF(DQ$17:DQ22,\"<>BLANK\")","v":0},{"$f":"COUNTA(DO$17:DO21)+1&\"0001\"","v":"60001"},"BLANK","BLANK",0,0,{"$f":"\"20\"&RIGHT(Tables!$E$7,2)","v":"2023"},null,6,{"$f":"\"00\"&'1-Award Info'!$G$6","v":"00"},"","",1,"",{"$f":"IFERROR(\nIF(VLOOKUP(\"FY\"&RIGHT($EA22,2),'1-Award Info'!$F$28:$G$32,2,0)=0,\n     1,\n     VLOOKUP(\"FY\"&RIGHT($EA22,2),'1-Award Info'!$F$28:$G$32,2,0)),1)","v":1},"",null,""]
[null,null,null,null,null,null,null,null,null,null,0,null,null,null,null,null,null,null,null,"10007",{"$f":"COUNTIF(V$17:$V23,1)","v":1},{"$f":"COUNTIF(W$17:$W23,W23)","v":7},{"$f":"IF($K23=0,\"\",IF(LEN('1-Award Info'!$G$4)=7,'1-Award Info'!$G$4&$B23&$C23,'1-Award Info'!$G$4&$C23))","v":""},null,{"$f":"COUNTA(Y$17:Y22)+1&\"0001\"","v":"70001"},"",null,"10007",{"$f":"COUNTIF($AD$17:AD23,AD23)","v":1},{"$f":"COUNTIF($AE$17:AE23,AE23)","v":7},"",null,{"$f":"COUNTA(AG$17:AG22)+1&\"0001\"","v":"70001"},"",null,"BLANK",{"$f":"IF(IF($F23=0,\"\",IF(LEN('1-Award Info'!$G$4)=7,'1-Award Info'!$G$4&$B23&$C23&\"9\"&E23&RIGHT($D23,3),'1-Award Info'!$G$4&$C23&\"9\"&E23&RIGHT($D23,3)))=\"\",\"BLANK\",IF($F23=0,\"\",IF(LEN('1-Award Info'!$G$4)=7,'1-Award Info'!$G$4&$B23&$C23&\"9\"&E23&RIGHT($D23,3),'1-Award Info'!$G$4&$C23&\"9\"&E23&RIGHT($D23,3))))","v":"BLANK"},0,0,null,"00000",{"$f":"COUNTIF(AQ$17:AQ23,1)","v":0},{"$f":"IF(AR23=\"BLANK\",0,COUNTIF(AR$17:AR23,AR23))","v":0},"BLANK",null,{"$f":"$AT$14+COUNTIF(AV$17:AV23,\"<>BLANK\")","v":0},{"$f":"COUNTA(AU$17:AU22)+1&\"0001\"","v":"70001"},"BLANK","BLANK",0,0,{"$f":"\"20\"&RIGHT(Tables!$E$3,2)","v":"2019"},null,"BLANK",{"$f":"IF(IF($G23=0,\"\",IF(LEN('1-Award Info'!$G$4)=7,'1-Award Info'!$G$4&$B23&$C23&\"9\"&E23&RIGHT($D23,3),'1-Award Info'!$G$4&$C23&\"9\"&E23&RIGHT($D23,3)))=\"\",\"BLANK\",IF($G23=0,\"\",IF(LEN('1-Award Info'!$G$4)=7,'1-Award Info'!$G$4&$B23&$C23&\"9\"&E23&RIGHT($D23,3),'1-Award Info'!$G$4&$C23&\"9\"&E23&RIGHT($D23,3))))","v":"BLANK"},0,0,null,"00000",{"$f":"COUNTIF(BI$17:BI23,1)","v":0},{"$f":"IF(BJ23=\"BLANk\",0,COUNTIF(BJ$17:BJ23,BJ23))","v":0},"BLANK",null,{"$f":"$BL$14+COUNTIF(BO$17:BO23,\"<>BLANK\")","v":0},{"$f":"COUNTA(BM$17:BM22)+1&\"0001\"","v":"70001"},"BLANK","BLANK",0,6,{"$f":"\"20\"&RIGHT(Tables!$E$4,2)","v":"2020"},null,"BLANK",{"$f":"IF(IF($H23=0,\"\",IF(LEN('1-Award Info'!$G$4)=7,'1-Award Info'!$G$4&$B23&$C23&\"9\"&E23&RIGHT($D23,3),'1-Award Info'!$G$4&$C23&\"9\"&E23&RIGHT($D23,3)))=\"\",\"BLANK\",IF($H23=0,\"\",IF(LEN('1-Award Info'!$G$4)=7,'1-Award Info'!$G$4&$B23&$C23&\"9\"&E23&RIGHT($D23,3),'1-Award Info'!$G$4&$C23&\"9\"&E23&RIGHT($D23,3))))","v":"BLANK"},0,0,null,"00000",{"$f":"COUNTIF(CA$17:CA23,1)","v":0},{"$f":"IF(CB23=\"BLANk\",0,COUNTIF(CB$17:CB23,CB23))","v":0},"BLANK",null,{"$f":"$CD$14+COUNTIF(CG$17:CG23,\"<>BLANK\")","v":0},{"$f":"COUNTA(CE$17:CE22)+1&\"0001\"","v":"70001"},"BLANK","BLANK",0,0,{"$f":"\"20\"&RIGHT(Tables!$E$5,2)","v":"2021"},null,"BLANK",{"$f":"IF(IF($I23=0,\"\",IF(LEN('1-Award Info'!$G$4)=7,'1-Award Info'!$G$4&$B23&$C23&\"9\"&$E23&RIGHT($D23,3),'1-Award Info'!$G$4&$C23&\"9\"&E$17&RIGHT($D23,3)))=\"\",\"BLANK\",IF($I23=0,\"\",IF(LEN('1-Award Info'!$G$4)=7,'1-Award Info'!$G$4&$B23&$C23&\"9\"&$E23&RIGHT($D23,3),'1-Award Info'!$G$4&$C23&\"9\"&$E23&RIGHT($D23,3))))","v":"BLANK"},0,0,null,"00000",{"$f":"COUNTIF(CS$17:CS23,1)","v":0},{"$f":"IF(CT23=\"BLANk\",0,COUNTIF(CT$17:CT23,CT23))","v":0},"BLANK",null,{"$f":"$CV$14+COUNTIF(CY$17:CY23,\"<>BLANK\")","v":0},{"$f":"COUNTA(CW$17:CW22)+1&\"0001\"","v":"70001"},"BLANK","BLANK",0,0,{"$f":"\"20\"&RIGHT(Tables!$E$6,2)","v":"2022"},null,"BLANK",{"$f":"IF(IF($J23=0,\"\",IF(LEN('1-Award Info'!$G$4)=7,'1-Award Info'!$G$4&$B23&$C23&\"9\"&$E23&RIGHT($D23,3),'1-Award Info'!$G$4&$C23&\"9\"&W$17&RIGHT($D23,3)))=\"\",\"BLANK\",IF($J23=0,\"\",IF(LEN('1-Award Info'!$G$4)=7,'1-Award Info'!$G$4&$B23&$C23&\"9\"&$E23&RIGHT($D23,3),'1-Award Info'!$G$4&$C23&\"9\"&$E23&RIGHT($D23,3))))","v":"BLANK"},0,0,null,"00000",{"$f":"COUNTIF(DK$17:DK23,1)","v":0},{"$f":"IF(DL23=\"BLANk\",0,COUNTIF(DL$17:DL23,DL23))","v":0},"BLANK",null,{"$f":"$DN$14+COUNTIF(DQ$17:DQ23,\"<>BLANK\")","v":0},{"$f":"COUNTA(DO$17:DO22)+1&\"0001\"","v":"70001"},"BLANK","BLANK",0,0,{"$f":"\"20\"&RIGHT(Tables!$E$7,2)","v":"2023"},null,7,{"$f":"\"00\"&'1-Award Info'!$G$6","v":"00"},"","",1,"",{"$f":"IFERROR(\nIF(VLOOKUP(\"FY\"&RIGHT($EA23,2),'1-Award Info'!$F$28:$G$32,2,0)=0,\n     1,\n     VLOOKUP(\"FY\"&RIGHT($EA23,2),'1-Award Info'!$F$28:$G$32,2,0)),1)","v":1},"",null,""]
[null,null,null,null,null,null,null,null,null,null,0,null,null,null,null,null,null,null,null,"10008",{"$f":"COUNTIF(V$17:$V24,1)","v":1},{"$f":"COUNTIF(W$17:$W24,W24)","v":8},{"$f":"IF($K24=0,\"\",IF(LEN('1-Award Info'!$G$4)=7,'1-Award Info'!$G$4&$B24&$C24,'1-Award Info'!$G$4&$C24))","v":""},null,{"$f":"COUNTA(Y$17:Y23)+1&\"0001\"","v":"80001"},"",null,"10008",{"$f":"COUNTIF($AD$17:AD24,AD24)","v":1},{"$f":"COUNTIF($AE$17:AE24,AE24)","v":8},"",null,{"$f":"COUNTA(AG$17:AG23)+1&\"0001\"","v":"80001"},"",null,"BLANK",{"$f":"IF(IF($F24=0,\"\",IF(LEN('1-Award Info'!$G$4)=7,'1-Award Info'!$G$4&$B24&$C24&\"9\"&E24&RIGHT($D24,3),'1-Award Info'!$G$4&$C24&\"9\"&E24&RIGHT($D24,3)))=\"\",\"BLANK\",IF($F24=0,\"\",IF(LEN('1-Award Info'!$G$4)=7,'1-Award Info'!$G$4&$B24&$C24&\"9\"&E24&RIGHT($D24,3),'1-Award Info'!$G$4&$C24&\"9\"&E24&RIGHT($D24,3))))","v":"BLANK"},0,0,null,"00000",{"$f":"COUNTIF(AQ$17:AQ24,1)","v":0},{"$f":"IF(AR24=\"BLANK\",0,COUNTIF(AR$17:AR24,AR24))","v":0},"BLANK",null,{"$f":"$AT$14+COUNTIF(AV$17:AV24,\"<>BLANK\")","v":0},{"$f":"COUNTA(AU$17:AU23)+1&\"0001\"","v":"80001"},"BLANK","BLANK",0,0,{"$f":"\"20\"&RIGHT(Tables!$E$3,2)","v":"2019"},null,"BLANK",{"$f":"IF(IF($G24=0,\"\",IF(LEN('1-Award Info'!$G$4)=7,'1-Award Info'!$G$4&$B24&$C24&\"9\"&E24&RIGHT($D24,3),'1-Award Info'!$G$4&$C24&\"9\"&E24&RIGHT($D24,3)))=\"\",\"BLANK\",IF($G24=0,\"\",IF(LEN('1-Award Info'!$G$4)=7,'1-Award Info'!$G$4&$B24&$C24&\"9\"&E24&RIGHT($D24,3),'1-Award Info'!$G$4&$C24&\"9\"&E24&RIGHT($D24,3))))","v":"BLANK"},0,0,null,"00000",{"$f":"COUNTIF(BI$17:BI24,1)","v":0},{"$f":"IF(BJ24=\"BLANk\",0,COUNTIF(BJ$17:BJ24,BJ24))","v":0},"BLANK",null,{"$f":"$BL$14+COUNTIF(BO$17:BO24,\"<>BLANK\")","v":0},{"$f":"COUNTA(BM$17:BM23)+1&\"0001\"","v":"80001"},"BLANK","BLANK",0,6,{"$f":"\"20\"&RIGHT(Tables!$E$4,2)","v":"2020"},null,"BLANK",{"$f":"IF(IF($H24=0,\"\",IF(LEN('1-Award Info'!$G$4)=7,'1-Award Info'!$G$4&$B24&$C24&\"9\"&E24&RIGHT($D24,3),'1-Award Info'!$G$4&$C24&\"9\"&E24&RIGHT($D24,3)))=\"\",\"BLANK\",IF($H24=0,\"\",IF(LEN('1-Award Info'!$G$4)=7,'1-Award Info'!$G$4&$B24&$C24&\"9\"&E24&RIGHT($D24,3),'1-Award Info'!$G$4&$C24&\"9\"&E24&RIGHT($D24,3))))","v":"BLANK"},0,0,null,"00000",{"$f":"COUNTIF(CA$17:CA24,1)","v":0},{"$f":"IF(CB24=\"BLANk\",0,COUNTIF(CB$17:CB24,CB24))","v":0},"BLANK",null,{"$f":"$CD$14+COUNTIF(CG$17:CG24,\"<>BLANK\")","v":0},{"$f":"COUNTA(CE$17:CE23)+1&\"0001\"","v":"80001"},"BLANK","BLANK",0,0,{"$f":"\"20\"&RIGHT(Tables!$E$5,2)","v":"2021"},null,"BLANK",{"$f":"IF(IF($I24=0,\"\",IF(LEN('1-Award Info'!$G$4)=7,'1-Award Info'!$G$4&$B24&$C24&\"9\"&$E24&RIGHT($D24,3),'1-Award Info'!$G$4&$C24&\"9\"&E$17&RIGHT($D24,3)))=\"\",\"BLANK\",IF($I24=0,\"\",IF(LEN('1-Award Info'!$G$4)=7,'1-Award Info'!$G$4&$B24&$C24&\"9\"&$E24&RIGHT($D24,3),'1-Award Info'!$G$4&$C24&\"9\"&$E24&RIGHT($D24,3))))","v":"BLANK"},0,0,null,"00000",{"$f":"COUNTIF(CS$17:CS24,1)","v":0},{"$f":"IF(CT24=\"BLANk\",0,COUNTIF(CT$17:CT24,CT24))","v":0},"BLANK",null,{"$f":"$CV$14+COUNTIF(CY$17:CY24,\"<>BLANK\")","v":0},{"$f":"COUNTA(CW$17:CW23)+1&\"0001\"","v":"80001"},"BLANK","BLANK",0,0,{"$f":"\"20\"&RIGHT(Tables!$E$6,2)","v":"2022"},null,"BLANK",{"$f":"IF(IF($J24=0,\"\",IF(LEN('1-Award Info'!$G$4)=7,'1-Award Info'!$G$4&$B24&$C24&\"9\"&$E24&RIGHT($D24,3),'1-Award Info'!$G$4&$C24&\"9\"&W$17&RIGHT($D24,3)))=\"\",\"BLANK\",IF($J24=0,\"\",IF(LEN('1-Award Info'!$G$4)=7,'1-Award Info'!$G$4&$B24&$C24&\"9\"&$E24&RIGHT($D24,3),'1-Award Info'!$G$4&$C24&\"9\"&$E24&RIGHT($D24,3))))","v":"BLANK"},0,0,null,"00000",{"$f":"COUNTIF(DK$17:DK24,1)","v":0},{"$f":"IF(DL24=\"BLANk\",0,COUNTIF(DL$17:DL24,DL24))","v":0},"BLANK",null,{"$f":"$DN$14+COUNTIF(DQ$17:DQ24,\"<>BLANK\")","v":0},{"$f":"COUNTA(DO$17:DO23)+1&\"0001\"","v":"80001"},"BLANK","BLANK",0,0,{"$f":"\"20\"&RIGHT(Tables!$E$7,2)","v":"2023"},null,8,{"$f":"\"00\"&'1-Award Info'!$G$6","v":"00"},"","",1,"",{"$f":"IFERROR(\nIF(VLOOKUP(\"FY\"&RIGHT($EA24,2),'1-Award Info'!$F$28:$G$32,2,0)=0,\n     1,\n     VLOOKUP(\"FY\"&RIGHT($EA24,2),'1-Award Info'!$F$28:$G$32,2,0)),1)","v":1},"",null,""]
[null,null,null,null,null,null,null,null,null,null,0,null,null,null,null,null,null,null,null,"10009",{"$f":"COUNTIF(V$17:$V25,1)","v":1},{"$f":"COUNTIF(W$17:$W25,W25)","v":9},{"$f":"IF($K25=0,\"\",IF(LEN('1-Award Info'!$G$4)=7,'1-Award Info'!$G$4&$B25&$C25,'1-Award Info'!$G$4&$C25))","v":""},null,{"$f":"COUNTA(Y$17:Y24)+1&\"0001\"","v":"90001"},"",null,"10009",{"$f":"COUNTIF($AD$17:AD25,AD25)","v":1},{"$f":"COUNTIF($AE$17:AE25,AE25)","v":9},"",null,{"$f":"COUNTA(AG$17:AG24)+1&\"0001\"","v":"90001"},"",null,"BLANK",{"$f":"IF(IF($F25=0,\"\",IF(LEN('1-Award Info'!$G$4)=7,'1-Award Info'!$G$4&$B25&$C25&\"9\"&E25&RIGHT($D25,3),'1-Award Info'!$G$4&$C25&\"9\"&E25&RIGHT($D25,3)))=\"\",\"BLANK\",IF($F25=0,\"\",IF(LEN('1-Award Info'!$G$4)=7,'1-Award Info'!$G$4&$B25&$C25&\"9\"&E25&RIGHT($D25,3),'1-Award Info'!$G$4&$C25&\"9\"&E25&RIGHT($D25,3))))","v":"BLANK"},0,0,null,"00000",{"$f":"COUNTIF(AQ$17:AQ25,1)","v":0},{"$f":"IF(AR25=\"BLANK\",0,COUNTIF(AR$17:AR25,AR25))","v":0},"BLANK",null,{"$f":"$AT$14+COUNTIF(AV$17:AV25,\"<>BLANK\")","v":0},{"$f":"COUNTA(AU$17:AU24)+1&\"0001\"","v":"90001"},"BLANK","BLANK",0,0,{"$f":"\"20\"&RIGHT(Tables!$E$3,2)","v":"2019"},null,"BLANK",{"$f":"IF(IF($G25=0,\"\",IF(LEN('1-Award Info'!$G$4)=7,'1-Award Info'!$G$4&$B25&$C25&\"9\"&E25&RIGHT($D25,3),'1-Award Info'!$G$4&$C25&\"9\"&E25&RIGHT($D25,3)))=\"\",\"BLANK\",IF($G25=0,\"\",IF(LEN('1-Award Info'!$G$4)=7,'1-Award Info'!$G$4&$B25&$C25&\"9\"&E25&RIGHT($D25,3),'1-Award Info'!$G$4&$C25&\"9\"&E25&RIGHT($D25,3))))","v":"BLANK"},0,0,null,"00000",{"$f":"COUNTIF(BI$17:BI25,1)","v":0},{"$f":"IF(BJ25=\"BLANk\",0,COUNTIF(BJ$17:BJ25,BJ25))","v":0},"BLANK",null,{"$f":"$BL$14+COUNTIF(BO$17:BO25,\"<>BLANK\")","v":0},{"$f":"COUNTA(BM$17:BM24)+1&\"0001\"","v":"90001"},"BLANK","BLANK",0,6,{"$f":"\"20\"&RIGHT(Tables!$E$4,2)","v":"2020"},null,"BLANK",{"$f":"IF(IF($H25=0,\"\",IF(LEN('1-Award Info'!$G$4)=7,'1-Award Info'!$G$4&$B25&$C25&\"9\"&E25&RIGHT($D25,3),'1-Award Info'!$G$4&$C25&\"9\"&E25&RIGHT($D25,3)))=\"\",\"BLANK\",IF($H25=0,\"\",IF(LEN('1-Award Info'!$G$4)=7,'1-Award Info'!$G$4&$B25&$C25&\"9\"&E25&RIGHT($D25,3),'1-Award Info'!$G$4&$C25&\"9\"&E25&RIGHT($D25,3))))","v":"BLANK"},0,0,null,"00000",{"$f":"COUNTIF(CA$17:CA25,1)","v":0},{"$f":"IF(CB25=\"BLANk\",0,COUNTIF(CB$17:CB25,CB25))","v":0},"BLANK",null,{"$f":"$CD$14+COUNTIF(CG$17:CG25,\"<>BLANK\")","v":0},{"$f":"COUNTA(CE$17:CE24)+1&\"0001\"","v":"90001"},"BLANK","BLANK",0,0,{"$f":"\"20\"&RIGHT(Tables!$E$5,2)","v":"2021"},null,"BLANK",{"$f":"IF(IF($I25=0,\"\",IF(LEN('1-Award Info'!$G$4)=7,'1-Award Info'!$G$4&$B25&$C25&\"9\"&$E25&RIGHT($D25,3),'1-Award Info'!$G$4&$C25&\"9\"&E$17&RIGHT($D25,3)))=\"\",\"BLANK\",IF($I25=0,\"\",IF(LEN('1-Award Info'!$G$4)=7,'1-Award Info'!$G$4&$B25&$C25&\"9\"&$E25&RIGHT($D25,3),'1-Award Info'!$G$4&$C25&\"9\"&$E25&RIGHT($D25,3))))","v":"BLANK"},0,0,null,"00000",{"$f":"COUNTIF(CS$17:CS25,1)","v":0},{"$f":"IF(CT25=\"BLANk\",0,COUNTIF(CT$17:CT25,CT25))","v":0},"BLANK",null,{"$f":"$CV$14+COUNTIF(CY$17:CY25,\"<>BLANK\")","v":0},{"$f":"COUNTA(CW$17:CW24)+1&\"0001\"","v":"90001"},"BLANK","BLANK",0,0,{"$f":"\"20\"&RIGHT(Tables!$E$6,2)","v":"2022"},null,"BLANK",{"$f":"IF(IF($J25=0,\"\",IF(LEN('1-Award Info'!$G$4)=7,'1-Award Info'!$G$4&$B25&$C25&\"9\"&$E25&RIGHT($D25,3),'1-Award Info'!$G$4&$C25&\"9\"&W$17&RIGHT($D25,3)))=\"\",\"BLANK\",IF($J25=0,\"\",IF(LEN('1-Award Info'!$G$4)=7,'1-Award Info'!$G$4&$B25&$C25&\"9\"&$E25&RIGHT($D25,3),'1-Award Info'!$G$4&$C25&\"9\"&$E25&RIGHT($D25,3))))","v":"BLANK"},0,0,null,"00000",{"$f":"COUNTIF(DK$17:DK25,1)","v":0},{"$f":"IF(DL25=\"BLANk\",0,COUNTIF(DL$17:DL25,DL25))","v":0},"BLANK",null,{"$f":"$DN$14+COUNTIF(DQ$17:DQ25,\"<>BLANK\")","v":0},{"$f":"COUNTA(DO$17:DO24)+1&\"0001\"","v":"90001"},"BLANK","BLANK",0,0,{"$f":"\"20\"&RIGHT(Tables!$E$7,2)","v":"2023"},null,9,{"$f":"\"00\"&'1-Award Info'!$G$6","v":"00"},"","",1,"",{"$f":"IFERROR(\nIF(VLOOKUP(\"FY\"&RIGHT($EA25,2),'1-Award Info'!$F$28:$G$32,2,0)=0,\n     1,\n     VLOOKUP(\"FY\"&RIGHT($EA25,2),'1-Award Info'!$F$28:$G$32,2,0)),1)","v":1},"",null,""]
[null,null,null,null,null,null,null,null,null,null,0,null,null,null,null,null,null,null,null,"100010",{"$f":"COUNTIF(V$17:$V26,1)","v":1},{"$f":"COUNTIF(W$17:$W26,W26)","v":10},{"$f":"IF($K26=0,\"\",IF(LEN('1-Award Info'!$G$4)=7,'1-Award Info'!$G$4&$B26&$C26,'1-Award Info'!$G$4&$C26))","v":""},null,{"$f":"COUNTA(Y$17:Y25)+1&\"0001\"","v":"100001"},"",null,"100010",{"$f":"COUNTIF($AD$17:AD26,AD26)","v":1},{"$f":"COUNTIF($AE$17:AE26,AE26)","v":10},"",null,{"$f":"COUNTA(AG$17:AG25)+1&\"0001\"","v":"100001"},"",null,"BLANK",{"$f":"IF(IF($F26=0,\"\",IF(LEN('1-Award Info'!$G$4)=7,'1-Award Info'!$G$4&$B26&$C26&\"9\"&E26&RIGHT($D26,3),'1-Award Info'!$G$4&$C26&\"9\"&E26&RIGHT($D26,3)))=\"\",\"BLANK\",IF($F26=0,\"\",IF(LEN('1-Award Info'!$G$4)=7,'1-Award Info'!$G$4&$B26&$C26&\"9\"&E26&RIGHT($D26,3),'1-Award Info'!$G$4&$C26&\"9\"&E26&RIGHT($D26,3))))","v":"BLANK"},0,0,null,"00000",{"$f":"COUNTIF(AQ$17:AQ26,1)","v":0},{"$f":"IF(AR26=\"BLANK\",0,COUNTIF(AR$17:AR26,AR26))","v":0},"BLANK",null,{"$f":"$AT$14+COUNTIF(AV$17:AV26,\"<>BLANK\")","v":0},{"$f":"COUNTA(AU$17:AU25)+1&\"0001\"","v":"100001"},"BLANK","BLANK",0,0,{"$f":"\"20\"&RIGHT(Tables!$E$3,2)","v":"2019"},null,"BLANK",{"$f":"IF(IF($G26=0,\"\",IF(LEN('1-Award Info'!$G$4)=7,'1-Award Info'!$G$4&$B26&$C26&\"9\"&E26&RIGHT($D26,3),'1-Award Info'!$G$4&$C26&\"9\"&E26&RIGHT($D26,3)))=\"\",\"BLANK\",IF($G26=0,\"\",IF(LEN('1-Award Info'!$G$4)=7,'1-Award Info'!$G$4&$B26&$C26&\"9\"&E26&RIGHT($D26,3),'1-Award Info'!$G$4&$C26&\"9\"&E26&RIGHT($D26,3))))","v":"BLANK"},0,0,null,"00000",{"$f":"COUNTIF(BI$17:BI26,1)","v":0},{"$f":"IF(BJ26=\"BLANk\",0,COUNTIF(BJ$17:BJ26,BJ26))","v":0},"BLANK",null,{"$f":"$BL$14+COUNTIF(BO$17:BO26,\"<>BLANK\")","v":0},{"$f":"COUNTA(BM$17:BM25)+1&\"0001\"","v":"100001"},"BLANK","BLANK",0,6,{"$f":"\"20\"&RIGHT(Tables!$E$4,2)","v":"2020"},null,"BLANK",{"$f":"IF(IF($H26=0,\"\",IF(LEN('1-Award Info'!$G$4)=7,'1-Award Info'!$G$4&$B26&$C26&\"9\"&E26&RIGHT($D26,3),'1-Award Info'!$G$4&$C26&\"9\"&E26&RIGHT($D26,3)))=\"\",\"BLANK\",IF($H26=0,\"\",IF(LEN('1-Award Info'!$G$4)=7,'1-Award Info'!$G$4&$B26&$C26&\"9\"&E26&RIGHT($D26,3),'1-Award Info'!$G$4&$C26&\"9\"&E26&RIGHT($D26,3))))","v":"BLANK"},0,0,null,"00000",{"$f":"COUNTIF(CA$17:CA26,1)","v":0},{"$f":"IF(CB26=\"BLANk\",0,COUNTIF(CB$17:CB26,CB26))","v":0},"BLANK",null,{"$f":"$CD$14+COUNTIF(CG$17:CG26,\"<>BLANK\")","v":0},{"$f":"COUNTA(CE$17:CE25)+1&\"0001\"","v":"100001"},"BLANK","BLANK",0,0,{"$f":"\"20\"&RIGHT(Tables!$E$5,2)","v":"2021"},null,"BLANK",{"$f":"IF(IF($I26=0,\"\",IF(LEN('1-Award Info'!$G$4)=7,'1-Award Info'!$G$4&$B26&$C26&\"9\"&$E26&RIGHT($D26,3),'1-Award Info'!$G$4&$C26&\"9\"&E$17&RIGHT($D26,3)))=\"\",\"BLANK\",IF($I26=0,\"\",IF(LEN('1-Award Info'!$G$4)=7,'1-Award Info'!$G$4&$B26&$C26&\"9\"&$E26&RIGHT($D26,3),'1-Award Info'!$G$4&$C26&\"9\"&$E26&RIGHT($D26,3))))","v":"BLANK"},0,0,null,"00000",{"$f":"COUNTIF(CS$17:CS26,1)","v":0},{"$f":"IF(CT26=\"BLANk\",0,COUNTIF(CT$17:CT26,CT26))","v":0},"BLANK",null,{"$f":"$CV$14+COUNTIF(CY$17:CY26,\"<>BLANK\")","v":0},{"$f":"COUNTA(CW$17:CW25)+1&\"0001\"","v":"100001"},"BLANK","BLANK",0,0,{"$f":"\"20\"&RIGHT(Tables!$E$6,2)","v":"2022"},null,"BLANK",{"$f":"IF(IF($J26=0,\"\",IF(LEN('1-Award Info'!$G$4)=7,'1-Award Info'!$G$4&$B26&$C26&\"9\"&$E26&RIGHT($D26,3),'1-Award Info'!$G$4&$C26&\"9\"&W$17&RIGHT($D26,3)))=\"\",\"BLANK\",IF($J26=0,\"\",IF(LEN('1-Award Info'!$G$4)=7,'1-Award Info'!$G$4&$B26&$C26&\"9\"&$E26&RIGHT($D26,3),'1-Award Info'!$G$4&$C26&\"9\"&$E26&RIGHT($D26,3))))","v":"BLANK"},0,0,null,"00000",{"$f":"COUNTIF(DK$17:DK26,1)","v":0},{"$f":"IF(DL26=\"BLANk\",0,COUNTIF(DL$17:DL26,DL26))","v":0},"BLANK",null,{"$f":"$DN$14+COUNTIF(DQ$17:DQ26,\"<>BLANK\")","v":0},{"$f":"COUNTA(DO$17:DO25)+1&\"0001\"","v":"100001"},"BLANK","BLANK",0,0,{"$f":"\"20\"&RIGHT(Tables!$E$7,2)","v":"2023"},null,10,{"$f":"\"00\"&'1-Award Info'!$G$6","v":"00"},"","",1,"",{"$f":"IFERROR(\nIF(VLOOKUP(\"FY\"&RIGHT($EA26,2),'1-Award Info'!$F$28:$G$32,2,0)=0,\n     1,\n     VLOOKUP(\"FY\"&RIGHT($EA26,2),'1-Award Info'!$F$28:$G$32,2,0)),1)","v":1},"",null,""]
[null,null,null,null,null,null,null,null,null,null,0,null,null,null,null,null,null,null,null,"100011",{"$f":"COUNTIF(V$17:$V27,1)","v":1},{"$f":"COUNTIF(W$17:$W27,W27)","v":11},{"$f":"IF($K27=0,\"\",IF(LEN('1-Award Info'!$G$4)=7,'1-Award Info'!$G$4&$B27&$C27,'1-Award Info'!$G$4&$C27))","v":""},null,{"$f":"COUNTA(Y$17:Y26)+1&\"0001\"","v":"110001"},"",null,"100011",{"$f":"COUNTIF($AD$17:AD27,AD27)","v":1},{"$f":"COUNTIF($AE$17:AE27,AE27)","v":11},"",null,{"$f":"COUNTA(AG$17:AG26)+1&\"0001\"","v":"110001"},"",null,"BLANK",{"$f":"IF(IF($F27=0,\"\",IF(LEN('1-Award Info'!$G$4)=7,'1-Award Info'!$G$4&$B27&$C27&\"9\"&E27&RIGHT($D27,3),'1-Award Info'!$G$4&$C27&\"9\"&E27&RIGHT($D27,3)))=\"\",\"BLANK\",IF($F27=0,\"\",IF(LEN('1-Award Info'!$G$4)=7,'1-Award Info'!$G$4&$B27&$C27&\"9\"&E27&RIGHT($D27,3),'1-Award Info'!$G$4&$C27&\"9\"&E27&RIGHT($D27,3))))","v":"BLANK"},0,0,null,"00000",{"$f":"COUNTIF(AQ$17:AQ27,1)","v":0},{"$f":"IF(AR27=\"BLANK\",0,COUNTIF(AR$17:AR27,AR27))","v":0},"BLANK",null,{"$f":"$AT$14+COUNTIF(AV$17:AV27,\"<>BLANK\")","v":0},{"$f":"COUNTA(AU$17:AU26)+1&\"0001\"","v":"110001"},"BLANK","BLANK",0,0,{"$f":"\"20\"&RIGHT(Tables!$E$3,2)","v":"2019"},null,"BLANK",{"$f":"IF(IF($G27=0,\"\",IF(LEN('1-Award Info'!$G$4)=7,'1-Award Info'!$G$4&$B27&$C27&\"9\"&E27&RIGHT($D27,3),'1-Award Info'!$G$4&$C27&\"9\"&E27&RIGHT($D27,3)))=\"\",\"BLANK\",IF($G27=0,\"\",IF(LEN('1-Award Info'!$G$4)=7,'1-Award Info'!$G$4&$B27&$C27&\"9\"&E27&RIGHT($D27,3),'1-Award Info'!$G$4&$C27&\"9\"&E27&RIGHT($D27,3))))","v":"BLANK"},0,0,null,"00000",{"$f":"COUNTIF(BI$17:BI27,1)","v":0},{"$f":"IF(BJ27=\"BLANk\",0,COUNTIF(BJ$17:BJ27,BJ27))","v":0},"BLANK",null,{"$f":"$BL$14+COUNTIF(BO$17:BO27,\"<>BLANK\")","v":0},{"$f":"COUNTA(BM$17:BM26)+1&\"0001\"","v":"110001"},"BLANK","BLANK",0,6,{"$f":"\"20\"&RIGHT(Tables!$E$4,2)","v":"2020"},null,"BLANK",{"$f":"IF(IF($H27=0,\"\",IF(LEN('1-Award Info'!$G$4)=7,'1-Award Info'!$G$4&$B27&$C27&\"9\"&E27&RIGHT($D27,3),'1-Award Info'!$G$4&$C27&\"9\"&E27&RIGHT($D27,3)))=\"\",\"BLANK\",IF($H27=0,\"\",IF(LEN('1-Award Info'!$G$4)=7,'1-Award Info'!$G$4&$B27&$C27&\"9\"&E27&RIGHT($D27,3),'1-Award Info'!$G$4&$C27&\"9\"&E27&RIGHT($D27,3))))","v":"BLANK"},0,0,null,"00000",{"$f":"COUNTIF(CA$17:CA27,1)","v":0},{"$f":"IF(CB27=\"BLANk\",0,COUNTIF(CB$17:CB27,CB27))","v":0},"BLANK",null,{"$f":"$CD$14+COUNTIF(CG$17:CG27,\"<>BLANK\")","v":0},{"$f":"COUNTA(CE$17:CE26)+1&\"0001\"","v":"110001"},"BLANK","BLANK",0,0,{"$f":"\"20\"&RIGHT(Tables!$E$5,2)","v":"2021"},null,"BLANK",{"$f":"IF(IF($I27=0,\"\",IF(LEN('1-Award Info'!$G$4)=7,'1-Award Info'!$G$4&$B27&$C27&\"9\"&$E27&RIGHT($D27,3),'1-Award Info'!$G$4&$C27&\"9\"&E$17&RIGHT($D27,3)))=\"\",\"BLANK\",IF($I27=0,\"\",IF(LEN('1-Award Info'!$G$4)=7,'1-Award Info'!$G$4&$B27&$C27&\"9\"&$E27&RIGHT($D27,3),'1-Award Info'!$G$4&$C27&\"9\"&$E27&RIGHT($D27,3))))","v":"BLANK"},0,0,null,"00000",{"$f":"COUNTIF(CS$17:CS27,1)","v":0},{"$f":"IF(CT27=\"BLANk\",0,COUNTIF(CT$17:CT27,CT27))","v":0},"BLANK",null,{"$f":"$CV$14+COUNTIF(CY$17:CY27,\"<>BLANK\")","v":0},{"$f":"COUNTA(CW$17:CW26)+1&\"0001\"","v":"110001"},"BLANK","BLANK",0,0,{"$f":"\"20\"&RIGHT(Tables!$E$6,2)","v":"2022"},null,"BLANK",{"$f":"IF(IF($J27=0,\"\",IF(LEN('1-Award Info'!$G$4)=7,'1-Award Info'!$G$4&$B27&$C27&\"9\"&$E27&RIGHT($D27,3),'1-Award Info'!$G$4&$C27&\"9\"&W$17&RIGHT($D27,3)))=\"\",\"BLANK\",IF($J27=0,\"\",IF(LEN('1-Award Info'!$G$4)=7,'1-Award Info'!$G$4&$B27&$C27&\"9\"&$E27&RIGHT($D27,3),'1-Award Info'!$G$4&$C27&\"9\"&$E27&RIGHT($D27,3))))","v":"BLANK"},0,0,null,"00000",{"$f":"COUNTIF(DK$17:DK27,1)","v":0},{"$f":"IF(DL27=\"BLANk\",0,COUNTIF(DL$17:DL27,DL27))","v":0},"BLANK",null,{"$f":"$DN$14+COUNTIF(DQ$17:DQ27,\"<>BLANK\")","v":0},{"$f":"COUNTA(DO$17:DO26)+1&\"0001\"","v":"110001"},"BLANK","BLANK",0,0,{"$f":"\"20\"&RIGHT(Tables!$E$7,2)","v":"2023"},null,11,{"$f":"\"00\"&'1-Award Info'!$G$6","v":"00"},"","",1,"",{"$f":"IFERROR(\nIF(VLOOKUP(\"FY\"&RIGHT($EA27,2),'1-Award Info'!$F$28:$G$32,2,0)=0,\n     1,\n     VLOOKUP(\"FY\"&RIGHT($EA27,2),'1-Award Info'!$F$28:$G$32,2,0)),1)","v":1},"",null,""]
[null,null,null,null,null,null,null,null,null,null,0,null,null,null,null,null,null,null,null,"100012",{"$f":"COUNTIF(V$17:$V28,1)","v":1},{"$f":"COUNTIF(W$17:$W28,W28)","v":12},{"$f":"IF($K28=0,\"\",IF(LEN('1-Award Info'!$G$4)=7,'1-Award Info'!$G$4&$B28&$C28,'1-Award Info'!$G$4&$C28))","v":""},null,{"$f":"COUNTA(Y$17:Y27)+1&\"0001\"","v":"120001"},"",null,"100012",{"$f":"COUNTIF($AD$17:AD28,AD28)","v":1},{"$f":"COUNTIF($AE$17:AE28,AE28)","v":12},"",null,{"$f":"COUNTA(AG$17:AG27)+1&\"0001\"","v":"120001"},"",null,"BLANK",{"$f":"IF(IF($F28=0,\"\",IF(LEN('1-Award Info'!$G$4)=7,'1-Award Info'!$G$4&$B28&$C28&\"9\"&E28&RIGHT($D28,3),'1-Award Info'!$G$4&$C28&\"9\"&E28&RIGHT($D28,3)))=\"\",\"BLANK\",IF($F28=0,\"\",IF(LEN('1-Award Info'!$G$4)=7,'1-Award Info'!$G$4&$B28&$C28&\"9\"&E28&RIGHT($D28,3),'1-Award Info'!$G$4&$C28&\"9\"&E28&RIGHT($D28,3))))","v":"BLANK"},0,0,null,"00000",{"$f":"COUNTIF(AQ$17:AQ28,1)","v":0},{"$f":"IF(AR28=\"BLANK\",0,COUNTIF(AR$17:AR28,AR28))","v":0},"BLANK",null,{"$f":"$AT$14+COUNTIF(AV$17:AV28,\"<>BLANK\")","v":0},{"$f":"COUNTA(AU$17:AU27)+1&\"0001\"","v":"120001"},"BLANK","BLANK",0,0,{"$f":"\"20\"&RIGHT(Tables!$E$3,2)","v":"2019"},null,"BLANK",{"$f":"IF(IF($G28=0,\"\",IF(LEN('1-Award Info'!$G$4)=7,'1-Award Info'!$G$4&$B28&$C28&\"9\"&E28&RIGHT($D28,3),'1-Award Info'!$G$4&$C28&\"9\"&E28&RIGHT($D28,3)))=\"\",\"BLANK\",IF($G28=0,\"\",IF(LEN('1-Award Info'!$G$4)=7,'1-Award Info'!$G$4&$B28&$C28&\"9\"&E28&RIGHT($D28,3),'1-Award Info'!$G$4&$C28&\"9\"&E28&RIGHT($D28,3))))","v":"BLANK"},0,0,null,"00000",{"$f":"COUNTIF(BI$17:BI28,1)","v":0},{"$f":"IF(BJ28=\"BLANk\",0,COUNTIF(BJ$17:BJ28,BJ28))","v":0},"BLANK",null,{"$f":"$BL$14+COUNTIF(BO$17:BO28,\"<>BLANK\")","v":0},{"$f":"COUNTA(BM$17:BM27)+1&\"0001\"","v":"120001"},"BLANK","BLANK",0,6,{"$f":"\"20\"&RIGHT(Tables!$E$4,2)","v":"2020"},null,"BLANK",{"$f":"IF(IF($H28=0,\"\",IF(LEN('1-Award Info'!$G$4)=7,'1-Award Info'!$G$4&$B28&$C28&\"9\"&E28&RIGHT($D28,3),'1-Award Info'!$G$4&$C28&\"9\"&E28&RIGHT($D28,3)))=\"\",\"BLANK\",IF($H28=0,\"\",IF(LEN('1-Award Info'!$G$4)=7,'1-Award Info'!$G$4&$B28&$C28&\"9\"&E28&RIGHT($D28,3),'1-Award Info'!$G$4&$C28&\"9\"&E28&RIGHT($D28,3))))","v":"BLANK"},0,0,null,"00000",{"$f":"COUNTIF(CA$17:CA28,1)","v":0},{"$f":"IF(CB28=\"BLANk\",0,COUNTIF(CB$17:CB28,CB28))","v":0},"BLANK",null,{"$f":"$CD$14+COUNTIF(CG$17:CG28,\"<>BLANK\")","v":0},{"$f":"COUNTA(CE$17:CE27)+1&\"0001\"","v":"120001"},"BLANK","BLANK",0,0,{"$f":"\"20\"&RIGHT(Tables!$E$5,2)","v":"2021"},null,"BLANK",{"$f":"IF(IF($I28=0,\"\",IF(LEN('1-Award Info'!$G$4)=7,'1-Award Info'!$G$4&$B28&$C28&\"9\"&$E28&RIGHT($D28,3),'1-Award Info'!$G$4&$C28&\"9\"&E$17&RIGHT($D28,3)))=\"\",\"BLANK\",IF($I28=0,\"\",IF(LEN('1-Award Info'!$G$4)=7,'1-Award Info'!$G$4&$B28&$C28&\"9\"&$E28&RIGHT($D28,3),'1-Award Info'!$G$4&$C28&\"9\"&$E28&RIGHT($D28,3))))","v":"BLANK"},0,0,null,"00000",{"$f":"COUNTIF(CS$17:CS28,1)","v":0},{"$f":"IF(CT28=\"BLANk\",0,COUNTIF(CT$17:CT28,CT28))","v":0},"BLANK",null,{"$f":"$CV$14+COUNTIF(CY$17:CY28,\"<>BLANK\")","v":0},{"$f":"COUNTA(CW$17:CW27)+1&\"0001\"","v":"120001"},"BLANK","BLANK",0,0,{"$f":"\"20\"&RIGHT(Tables!$E$6,2)","v":"2022"},null,"BLANK",{"$f":"IF(IF($J28=0,\"\",IF(LEN('1-Award Info'!$G$4)=7,'1-Award Info'!$G$4&$B28&$C28&\"9\"&$E28&RIGHT($D28,3),'1-Award Info'!$G$4&$C28&\"9\"&W$17&RIGHT($D28,3)))=\"\",\"BLANK\",IF($J28=0,\"\",IF(LEN('1-Award Info'!$G$4)=7,'1-Award Info'!$G$4&$B28&$C28&\"9\"&$E28&RIGHT($D28,3),'1-Award Info'!$G$4&$C28&\"9\"&$E28&RIGHT($D28,3))))","v":"BLANK"},0,0,null,"00000",{"$f":"COUNTIF(DK$17:DK28,1)","v":0},{"$f":"IF(DL28=\"BLANk\",0,COUNTIF(DL$17:DL28,DL28))","v":0},"BLANK",null,{"$f":"$DN$14+COUNTIF(DQ$17:DQ28,\"<>BLANK\")","v":0},{"$f":"COUNTA(DO$17:DO27)+1&\"0001\"","v":"120001"},"BLANK","BLANK",0,0,{"$f":"\"20\"&RIGHT(Tables!$E$7,2)","v":"2023"},null,12,{"$f":"\"00\"&'1-Award Info'!$G$6","v":"00"},"","",1,"",{"$f":"IFERROR(\nIF(VLOOKUP(\"FY\"&RIGHT($EA28,2),'1-Award Info'!$F$28:$G$32,2,0)=0,\n     1,\n     VLOOKUP(\"FY\"&RIGHT($EA28,2),'1-Award Info'!$F$28:$G$32,2,0)),1)","v":1},"",null,""]
[null,null,null,null,null,null,null,null,null,null,0,null,null,null,null,null,null,null,null,"100013",{"$f":"COUNTIF(V$17:$V29,1)","v":1},{"$f":"COUNTIF(W$17:$W29,W29)","v":13},{"$f":"IF($K29=0,\"\",IF(LEN('1-Award Info'!$G$4)=7,'1-Award Info'!$G$4&$B29&$C29,'1-Award Info'!$G$4&$C29))","v":""},null,{"$f":"COUNTA(Y$17:Y28)+1&\"0001\"","v":"130001"},"",null,"100013",{"$f":"COUNTIF($AD$17:AD29,AD29)","v":1},{"$f":"COUNTIF($AE$17:AE29,AE29)","v":13},"",null,{"$f":"COUNTA(AG$17:AG28)+1&\"0001\"","v":"130001"},"",null,"BLANK",{"$f":"IF(IF($F29=0,\"\",IF(LEN('1-Award Info'!$G$4)=7,'1-Award Info'!$G$4&$B29&$C29&\"9\"&E29&RIGHT($D29,3),'1-Award Info'!$G$4&$C29&\"9\"&E29&RIGHT($D29,3)))=\"\",\"BLANK\",IF($F29=0,\"\",IF(LEN('1-Award Info'!$G$4)=7,'1-Award Info'!$G$4&$B29&$C29&\"9\"&E29&RIGHT($D29,3),'1-Award Info'!$G$4&$C29&\"9\"&E29&RIGHT($D29,3))))","v":"BLANK"},0,0,null,"00000",{"$f":"COUNTIF(AQ$17:AQ29,1)","v":0},{"$f":"IF(AR29=\"BLANK\",0,COUNTIF(AR$17:AR29,AR29))","v":0},"BLANK",null,{"$f":"$AT$14+COUNTIF(AV$17:AV29,\"<>BLANK\")","v":0},{"$f":"COUNTA(AU$17:AU28)+1&\"0001\"","v":"130001"},"BLANK","BLANK",0,0,{"$f":"\"20\"&RIGHT(Tables!$E$3,2)","v":"2019"},null,"BLANK",{"$f":"IF(IF($G29=0,\"\",IF(LEN('1-Award Info'!$G$4)=7,'1-Award Info'!$G$4&$B29&$C29&\"9\"&E29&RIGHT($D29,3),'1-Award Info'!$G$4&$C29&\"9\"&E29&RIGHT($D29,3)))=\"\",\"BLANK\",IF($G29=0,\"\",IF(LEN('1-Award Info'!$G$4)=7,'1-Award Info'!$G$4&$B29&$C29&\"9\"&E29&RIGHT($D29,3),'1-Award Info'!$G$4&$C29&\"9\"&E29&RIGHT($D29,3))))","v":"BLANK"},0,0,null,"00000",{"$f":"COUNTIF(BI$17:BI29,1)","v":0},{"$f":"IF(BJ29=\"BLANk\",0,COUNTIF(BJ$17:BJ29,BJ29))","v":0},"BLANK",null,{"$f":"$BL$14+COUNTIF(BO$17:BO29,\"<>BLANK\")","v":0},{"$f":"COUNTA(BM$17:BM28)+1&\"0001\"","v":"130001"},"BLANK","BLANK",0,6,{"$f":"\"20\"&RIGHT(Tables!$E$4,2)","v":"2020"},null,"BLANK",{"$f":"IF(IF($H29=0,\"\",IF(LEN('1-Award Info'!$G$4)=7,'1-Award Info'!$G$4&$B29&$C29&\"9\"&E29&RIGHT($D29,3),'1-Award Info'!$G$4&$C29&\"9\"&E29&RIGHT($D29,3)))=\"\",\"BLANK\",IF($H29=0,\"\",IF(LEN('1-Award Info'!$G$4)=7,'1-Award Info'!$G$4&$B29&$C29&\"9\"&E29&RIGHT($D29,3),'1-Award Info'!$G$4&$C29&\"9\"&E29&RIGHT($D29,3))))","v":"BLANK"},0,0,null,"00000",{"$f":"COUNTIF(CA$17:CA29,1)","v":0},{"$f":"IF(CB29=\"BLANk\",0,COUNTIF(CB$17:CB29,CB29))","v":0},"BLANK",null,{"$f":"$CD$14+COUNTIF(CG$17:CG29,\"<>BLANK\")","v":0},{"$f":"COUNTA(CE$17:CE28)+1&\"0001\"","v":"130001"},"BLANK","BLANK",0,0,{"$f":"\"20\"&RIGHT(Tables!$E$5,2)","v":"2021"},null,"BLANK",{"$f":"IF(IF($I29=0,\"\",IF(LEN('1-Award Info'!$G$4)=7,'1-Award Info'!$G$4&$B29&$C29&\"9\"&$E29&RIGHT($D29,3),'1-Award Info'!$G$4&$C29&\"9\"&E$17&RIGHT($D29,3)))=\"\",\"BLANK\",IF($I29=0,\"\",IF(LEN('1-Award Info'!$G$4)=7,'1-Award Info'!$G$4&$B29&$C29&\"9\"&$E29&RIGHT($D29,3),'1-Award Info'!$G$4&$C29&\"9\"&$E29&RIGHT($D29,3))))","v":"BLANK"},0,0,null,"00000",{"$f":"COUNTIF(CS$17:CS29,1)","v":0},{"$f":"IF(CT29=\"BLANk\",0,COUNTIF(CT$17:CT29,CT29))","v":0},"BLANK",null,{"$f":"$CV$14+COUNTIF(CY$17:CY29,\"<>BLANK\")","v":0},{"$f":"COUNTA(CW$17:CW28)+1&\"0001\"","v":"130001"},"BLANK","BLANK",0,0,{"$f":"\"20\"&RIGHT(Tables!$E$6,2)","v":"2022"},null,"BLANK",{"$f":"IF(IF($J29=0,\"\",IF(LEN('1-Award Info'!$G$4)=7,'1-Award Info'!$G$4&$B29&$C29&\"9\"&$E29&RIGHT($D29,3),'1-Award Info'!$G$4&$C29&\"9\"&W$17&RIGHT($D29,3)))=\"\",\"BLANK\",IF($J29=0,\"\",IF(LEN('1-Award Info'!$G$4)=7,'1-Award Info'!$G$4&$B29&$C29&\"9\"&$E29&RIGHT($D29,3),'1-Award Info'!$G$4&$C29&\"9\"&$E29&RIGHT($D29,3))))","v":"BLANK"},0,0,null,"00000",{"$f":"COUNTIF(DK$17:DK29,1)","v":0},{"$f":"IF(DL29=\"BLANk\",0,COUNTIF(DL$17:DL29,DL29))","v":0},"BLANK",null,{"$f":"$DN$14+COUNTIF(DQ$17:DQ29,\"<>BLANK\")","v":0},{"$f":"COUNTA(DO$17:DO28)+1&\"0001\"","v":"130001"},"BLANK","BLANK",0,0,{"$f":"\"20\"&RIGHT(Tables!$E$7,2)","v":"2023"},null,13,{"$f":"\"00\"&'1-Award Info'!$G$6","v":"00"},"","",1,"",{"$f":"IFERROR(\nIF(VLOOKUP(\"FY\"&RIGHT($EA29,2),'1-Award Info'!$F$28:$G$32,2,0)=0,\n     1,\n     VLOOKUP(\"FY\"&RIGHT($EA29,2),'1-Award Info'!$F$28:$G$32,2,0)),1)","v":1},"",null,""]
[null,null,null,null,null,null,null,null,null,null,0,null,null,null,null,null,null,null,null,"100014",{"$f":"COUNTIF(V$17:$V30,1)","v":1},{"$f":"COUNTIF(W$17:$W30,W30)","v":14},{"$f":"IF($K30=0,\"\",IF(LEN('1-Award Info'!$G$4)=7,'1-Award Info'!$G$4&$B30&$C30,'1-Award Info'!$G$4&$C30))","v":""},null,{"$f":"COUNTA(Y$17:Y29)+1&\"0001\"","v":"140001"},"",null,"100014",{"$f":"COUNTIF($AD$17:AD30,AD30)","v":1},{"$f":"COUNTIF($AE$17:AE30,AE30)","v":14},"",null,{"$f":"COUNTA(AG$17:AG29)+1&\"0001\"","v":"140001"},"",null,"BLANK",{"$f":"IF(IF($F30=0,\"\",IF(LEN('1-Award Info'!$G$4)=7,'1-Award Info'!$G$4&$B30&$C30&\"9\"&E30&RIGHT($D30,3),'1-Award Info'!$G$4&$C30&\"9\"&E30&RIGHT($D30,3)))=\"\",\"BLANK\",IF($F30=0,\"\",IF(LEN('1-Award Info'!$G$4)=7,'1-Award Info'!$G$4&$B30&$C30&\"9\"&E30&RIGHT($D30,3),'1-Award Info'!$G$4&$C30&\"9\"&E30&RIGHT($D30,3))))","v":"BLANK"},0,0,null,"00000",{"$f":"COUNTIF(AQ$17:AQ30,1)","v":0},{"$f":"IF(AR30=\"BLANK\",0,COUNTIF(AR$17:AR30,AR30))","v":0},"BLANK",null,{"$f":"$AT$14+COUNTIF(AV$17:AV30,\"<>BLANK\")","v":0},{"$f":"COUNTA(AU$17:AU29)+1&\"0001\"","v":"140001"},"BLANK","BLANK",0,0,{"$f":"\"20\"&RIGHT(Tables!$E$3,2)","v":"2019"},null,"BLANK",{"$f":"IF(IF($G30=0,\"\",IF(LEN('1-Award Info'!$G$4)=7,'1-Award Info'!$G$4&$B30&$C30&\"9\"&E30&RIGHT($D30,3),'1-Award Info'!$G$4&$C30&\"9\"&E30&RIGHT($D30,3)))=\"\",\"BLANK\",IF($G30=0,\"\",IF(LEN('1-Award Info'!$G$4)=7,'1-Award Info'!$G$4&$B30&$C30&\"9\"&E30&RIGHT($D30,3),'1-Award Info'!$G$4&$C30&\"9\"&E30&RIGHT($D30,3))))","v":"BLANK"},0,0,null,"00000",{"$f":"COUNTIF(BI$17:BI30,1)","v":0},{"$f":"IF(BJ30=\"BLANk\",0,COUNTIF(BJ$17:BJ30,BJ30))","v":0},"BLANK",null,{"$f":"$BL$14+COUNTIF(BO$17:BO30,\"<>BLANK\")","v":0},{"$f":"COUNTA(BM$17:BM29)+1&\"0001\"","v":"140001"},"BLANK","BLANK",0,6,{"$f":"\"20\"&RIGHT(Tables!$E$4,2)","v":"2020"},null,"BLANK",{"$f":"IF(IF($H30=0,\"\",IF(LEN('1-Award Info'!$G$4)=7,'1-Award Info'!$G$4&$B30&$C30&\"9\"&E30&RIGHT($D30,3),'1-Award Info'!$G$4&$C30&\"9\"&E30&RIGHT($D30,3)))=\"\",\"BLANK\",IF($H30=0,\"\",IF(LEN('1-Award Info'!$G$4)=7,'1-Award Info'!$G$4&$B30&$C30&\"9\"&E30&RIGHT($D30,3),'1-Award Info'!$G$4&$C30&\"9\"&E30&RIGHT($D30,3))))","v":"BLANK"},0,0,null,"00000",{"$f":"COUNTIF(CA$17:CA30,1)","v":0},{"$f":"IF(CB30=\"BLANk\",0,COUNTIF(CB$17:CB30,CB30))","v":0},"BLANK",null,{"$f":"$CD$14+COUNTIF(CG$17:CG30,\"<>BLANK\")","v":0},{"$f":"COUNTA(CE$17:CE29)+1&\"0001\"","v":"140001"},"BLANK","BLANK",0,0,{"$f":"\"20\"&RIGHT(Tables!$E$5,2)","v":"2021"},null,"BLANK",{"$f":"IF(IF($I30=0,\"\",IF(LEN('1-Award Info'!$G$4)=7,'1-Award Info'!$G$4&$B30&$C30&\"9\"&$E30&RIGHT($D30,3),'1-Award Info'!$G$4&$C30&\"9\"&E$17&RIGHT($D30,3)))=\"\",\"BLANK\",IF($I30=0,\"\",IF(LEN('1-Award Info'!$G$4)=7,'1-Award Info'!$G$4&$B30&$C30&\"9\"&$E30&RIGHT($D30,3),'1-Award Info'!$G$4&$C30&\"9\"&$E30&RIGHT($D30,3))))","v":"BLANK"},0,0,null,"00000",{"$f":"COUNTIF(CS$17:CS30,1)","v":0},{"$f":"IF(CT30=\"BLANk\",0,COUNTIF(CT$17:CT30,CT30))","v":0},"BLANK",null,{"$f":"$CV$14+COUNTIF(CY$17:CY30,\"<>BLANK\")","v":0},{"$f":"COUNTA(CW$17:CW29)+1&\"0001\"","v":"140001"},"BLANK","BLANK",0,0,{"$f":"\"20\"&RIGHT(Tables!$E$6,2)","v":"2022"},null,"BLANK",{"$f":"IF(IF($J30=0,\"\",IF(LEN('1-Award Info'!$G$4)=7,'1-Award Info'!$G$4&$B30&$C30&\"9\"&$E30&RIGHT($D30,3),'1-Award Info'!$G$4&$C30&\"9\"&W$17&RIGHT($D30,3)))=\"\",\"BLANK\",IF($J30=0,\"\",IF(LEN('1-Award Info'!$G$4)=7,'1-Award Info'!$G$4&$B30&$C30&\"9\"&$E30&RIGHT($D30,3),'1-Award Info'!$G$4&$C30&\"9\"&$E30&RIGHT($D30,3))))","v":"BLANK"},0,0,null,"00000",{"$f":"COUNTIF(DK$17:DK30,1)","v":0},{"$f":"IF(DL30=\"BLANk\",0,COUNTIF(DL$17:DL30,DL30))","v":0},"BLANK",null,{"$f":"$DN$14+COUNTIF(DQ$17:DQ30,\"<>BLANK\")","v":0},{"$f":"COUNTA(DO$17:DO29)+1&\"0001\"","v":"140001"},"BLANK","BLANK",0,0,{"$f":"\"20\"&RIGHT(Tables!$E$7,2)","v":"2023"},null,14,{"$f":"\"00\"&'1-Award Info'!$G$6","v":"00"},"","",1,"",{"$f":"IFERROR(\nIF(VLOOKUP(\"FY\"&RIGHT($EA30,2),'1-Award Info'!$F$28:$G$32,2,0)=0,\n     1,\n     VLOOKUP(\"FY\"&RIGHT($EA30,2),'1-Award Info'!$F$28:$G$32,2,0)),1)","v":1},"",null,""]
[null,null,null,null,null,null,null,null,null,null,0,null,null,null,null,null,null,null,null,"100015",{"$f":"COUNTIF(V$17:$V31,1)","v":1},{"$f":"COUNTIF(W$17:$W31,W31)","v":15},{"$f":"IF($K31=0,\"\",IF(LEN('1-Award Info'!$G$4)=7,'1-Award Info'!$G$4&$B31&$C31,'1-Award Info'!$G$4&$C31))","v":""},null,{"$f":"COUNTA(Y$17:Y30)+1&\"0001\"","v":"150001"},"",null,"100015",{"$f":"COUNTIF($AD$17:AD31,AD31)","v":1},{"$f":"COUNTIF($AE$17:AE31,AE31)","v":15},"",null,{"$f":"COUNTA(AG$17:AG30)+1&\"0001\"","v":"150001"},"",null,"BLANK",{"$f":"IF(IF($F31=0,\"\",IF(LEN('1-Award Info'!$G$4)=7,'1-Award Info'!$G$4&$B31&$C31&\"9\"&E31&RIGHT($D31,3),'1-Award Info'!$G$4&$C31&\"9\"&E31&RIGHT($D31,3)))=\"\",\"BLANK\",IF($F31=0,\"\",IF(LEN('1-Award Info'!$G$4)=7,'1-Award Info'!$G$4&$B31&$C31&\"9\"&E31&RIGHT($D31,3),'1-Award Info'!$G$4&$C31&\"9\"&E31&RIGHT($D31,3))))","v":"BLANK"},0,0,null,"00000",{"$f":"COUNTIF(AQ$17:AQ31,1)","v":0},{"$f":"IF(AR31=\"BLANK\",0,COUNTIF(AR$17:AR31,AR31))","v":0},"BLANK",null,{"$f":"$AT$14+COUNTIF(AV$17:AV31,\"<>BLANK\")","v":0},{"$f":"COUNTA(AU$17:AU30)+1&\"0001\"","v":"150001"},"BLANK","BLANK",0,0,{"$f":"\"20\"&RIGHT(Tables!$E$3,2)","v":"2019"},null,"BLANK",{"$f":"IF(IF($G31=0,\"\",IF(LEN('1-Award Info'!$G$4)=7,'1-Award Info'!$G$4&$B31&$C31&\"9\"&E31&RIGHT($D31,3),'1-Award Info'!$G$4&$C31&\"9\"&E31&RIGHT($D31,3)))=\"\",\"BLANK\",IF($G31=0,\"\",IF(LEN('1-Award Info'!$G$4)=7,'1-Award Info'!$G$4&$B31&$C31&\"9\"&E31&RIGHT($D31,3),'1-Award Info'!$G$4&$C31&\"9\"&E31&RIGHT($D31,3))))","v":"BLANK"},0,0,null,"00000",{"$f":"COUNTIF(BI$17:BI31,1)","v":0},{"$f":"IF(BJ31=\"BLANk\",0,COUNTIF(BJ$17:BJ31,BJ31))","v":0},"BLANK",null,{"$f":"$BL$14+COUNTIF(BO$17:BO31,\"<>BLANK\")","v":0},{"$f":"COUNTA(BM$17:BM30)+1&\"0001\"","v":"150001"},"BLANK","BLANK",0,6,{"$f":"\"20\"&RIGHT(Tables!$E$4,2)","v":"2020"},null,"BLANK",{"$f":"IF(IF($H31=0,\"\",IF(LEN('1-Award Info'!$G$4)=7,'1-Award Info'!$G$4&$B31&$C31&\"9\"&E31&RIGHT($D31,3),'1-Award Info'!$G$4&$C31&\"9\"&E31&RIGHT($D31,3)))=\"\",\"BLANK\",IF($H31=0,\"\",IF(LEN('1-Award Info'!$G$4)=7,'1-Award Info'!$G$4&$B31&$C31&\"9\"&E31&RIGHT($D31,3),'1-Award Info'!$G$4&$C31&\"9\"&E31&RIGHT($D31,3))))","v":"BLANK"},0,0,null,"00000",{"$f":"COUNTIF(CA$17:CA31,1)","v":0},{"$f":"IF(CB31=\"BLANk\",0,COUNTIF(CB$17:CB31,CB31))","v":0},"BLANK",null,{"$f":"$CD$14+COUNTIF(CG$17:CG31,\"<>BLANK\")","v":0},{"$f":"COUNTA(CE$17:CE30)+1&\"0001\"","v":"150001"},"BLANK","BLANK",0,0,{"$f":"\"20\"&RIGHT(Tables!$E$5,2)","v":"2021"},null,"BLANK",{"$f":"IF(IF($I31=0,\"\",IF(LEN('1-Award Info'!$G$4)=7,'1-Award Info'!$G$4&$B31&$C31&\"9\"&$E31&RIGHT($D31,3),'1-Award Info'!$G$4&$C31&\"9\"&E$17&RIGHT($D31,3)))=\"\",\"BLANK\",IF($I31=0,\"\",IF(LEN('1-Award Info'!$G$4)=7,'1-Award Info'!$G$4&$B31&$C31&\"9\"&$E31&RIGHT($D31,3),'1-Award Info'!$G$4&$C31&\"9\"&$E31&RIGHT($D31,3))))","v":"BLANK"},0,0,null,"00000",{"$f":"COUNTIF(CS$17:CS31,1)","v":0},{"$f":"IF(CT31=\"BLANk\",0,COUNTIF(CT$17:CT31,CT31))","v":0},"BLANK",null,{"$f":"$CV$14+COUNTIF(CY$17:CY31,\"<>BLANK\")","v":0},{"$f":"COUNTA(CW$17:CW30)+1&\"0001\"","v":"150001"},"BLANK","BLANK",0,0,{"$f":"\"20\"&RIGHT(Tables!$E$6,2)","v":"2022"},null,"BLANK",{"$f":"IF(IF($J31=0,\"\",IF(LEN('1-Award Info'!$G$4)=7,'1-Award Info'!$G$4&$B31&$C31&\"9\"&$E31&RIGHT($D31,3),'1-Award Info'!$G$4&$C31&\"9\"&W$17&RIGHT($D31,3)))=\"\",\"BLANK\",IF($J31=0,\"\",IF(LEN('1-Award Info'!$G$4)=7,'1-Award Info'!$G$4&$B31&$C31&\"9\"&$E31&RIGHT($D31,3),'1-Award Info'!$G$4&$C31&\"9\"&$E31&RIGHT($D31,3))))","v":"BLANK"},0,0,null,"00000",{"$f":"COUNTIF(DK$17:DK31,1)","v":0},{"$f":"IF(DL31=\"BLANk\",0,COUNTIF(DL$17:DL31,DL31))","v":0},"BLANK",null,{"$f":"$DN$14+COUNTIF(DQ$17:DQ31,\"<>BLANK\")","v":0},{"$f":"COUNTA(DO$17:DO30)+1&\"0001\"","v":"150001"},"BLANK","BLANK",0,0,{"$f":"\"20\"&RIGHT(Tables!$E$7,2)","v":"2023"},null,15,{"$f":"\"00\"&'1-Award Info'!$G$6","v":"00"},"","",1,"",{"$f":"IFERROR(\nIF(VLOOKUP(\"FY\"&RIGHT($EA31,2),'1-Award Info'!$F$28:$G$32,2,0)=0,\n     1,\n     VLOOKUP(\"FY\"&RIGHT($EA31,2),'1-Award Info'!$F$28:$G$32,2,0)),1)","v":1},"",null,""]
[null,null,null,null,null,null,null,null,null,null,0,null,null,null,null,null,null,null,null,"100016",{"$f":"COUNTIF(V$17:$V32,1)","v":1},{"$f":"COUNTIF(W$17:$W32,W32)","v":16},{"$f":"IF($K32=0,\"\",IF(LEN('1-Award Info'!$G$4)=7,'1-Award Info'!$G$4&$B32&$C32,'1-Award Info'!$G$4&$C32))","v":""},null,{"$f":"COUNTA(Y$17:Y31)+1&\"0001\"","v":"160001"},"",null,"100016",{"$f":"COUNTIF($AD$17:AD32,AD32)","v":1},{"$f":"COUNTIF($AE$17:AE32,AE32)","v":16},"",null,{"$f":"COUNTA(AG$17:AG31)+1&\"0001\"","v":"160001"},"",null,"BLANK",{"$f":"IF(IF($F32=0,\"\",IF(LEN('1-Award Info'!$G$4)=7,'1-Award Info'!$G$4&$B32&$C32&\"9\"&E32&RIGHT($D32,3),'1-Award Info'!$G$4&$C32&\"9\"&E32&RIGHT($D32,3)))=\"\",\"BLANK\",IF($F32=0,\"\",IF(LEN('1-Award Info'!$G$4)=7,'1-Award Info'!$G$4&$B32&$C32&\"9\"&E32&RIGHT($D32,3),'1-Award Info'!$G$4&$C32&\"9\"&E32&RIGHT($D32,3))))","v":"BLANK"},0,0,null,"00000",{"$f":"COUNTIF(AQ$17:AQ32,1)","v":0},{"$f":"IF(AR32=\"BLANK\",0,COUNTIF(AR$17:AR32,AR32))","v":0},"BLANK",null,{"$f":"$AT$14+COUNTIF(AV$17:AV32,\"<>BLANK\")","v":0},{"$f":"COUNTA(AU$17:AU31)+1&\"0001\"","v":"160001"},"BLANK","BLANK",0,0,{"$f":"\"20\"&RIGHT(Tables!$E$3,2)","v":"2019"},null,"BLANK",{"$f":"IF(IF($G32=0,\"\",IF(LEN('1-Award Info'!$G$4)=7,'1-Award Info'!$G$4&$B32&$C32&\"9\"&E32&RIGHT($D32,3),'1-Award Info'!$G$4&$C32&\"9\"&E32&RIGHT($D32,3)))=\"\",\"BLANK\",IF($G32=0,\"\",IF(LEN('1-Award Info'!$G$4)=7,'1-Award Info'!$G$4&$B32&$C32&\"9\"&E32&RIGHT($D32,3),'1-Award Info'!$G$4&$C32&\"9\"&E32&RIGHT($D32,3))))","v":"BLANK"},0,0,null,"00000",{"$f":"COUNTIF(BI$17:BI32,1)","v":0},{"$f":"IF(BJ32=\"BLANk\",0,COUNTIF(BJ$17:BJ32,BJ32))","v":0},"BLANK",null,{"$f":"$BL$14+COUNTIF(BO$17:BO32,\"<>BLANK\")","v":0},{"$f":"COUNTA(BM$17:BM31)+1&\"0001\"","v":"160001"},"BLANK","BLANK",0,6,{"$f":"\"20\"&RIGHT(Tables!$E$4,2)","v":"2020"},null,"BLANK",{"$f":"IF(IF($H32=0,\"\",IF(LEN('1-Award Info'!$G$4)=7,'1-Award Info'!$G$4&$B32&$C32&\"9\"&E32&RIGHT($D32,3),'1-Award Info'!$G$4&$C32&\"9\"&E32&RIGHT($D32,3)))=\"\",\"BLANK\",IF($H32=0,\"\",IF(LEN('1-Award Info'!$G$4)=7,'1-Award Info'!$G$4&$B32&$C32&\"9\"&E32&RIGHT($D32,3),'1-Award Info'!$G$4&$C32&\"9\"&E32&RIGHT($D32,3))))","v":"BLANK"},0,0,null,"00000",{"$f":"COUNTIF(CA$17:CA32,1)","v":0},{"$f":"IF(CB32=\"BLANk\",0,COUNTIF(CB$17:CB32,CB32))","v":0},"BLANK",null,{"$f":"$CD$14+COUNTIF(CG$17:CG32,\"<>BLANK\")","v":0},{"$f":"COUNTA(CE$17:CE31)+1&\"0001\"","v":"160001"},"BLANK","BLANK",0,0,{"$f":"\"20\"&RIGHT(Tables!$E$5,2)","v":"2021"},null,"BLANK",{"$f":"IF(IF($I32=0,\"\",IF(LEN('1-Award Info'!$G$4)=7,'1-Award Info'!$G$4&$B32&$C32&\"9\"&$E32&RIGHT($D32,3),'1-Award Info'!$G$4&$C32&\"9\"&E$17&RIGHT($D32,3)))=\"\",\"BLANK\",IF($I32=0,\"\",IF(LEN('1-Award Info'!$G$4)=7,'1-Award Info'!$G$4&$B32&$C32&\"9\"&$E32&RIGHT($D32,3),'1-Award Info'!$G$4&$C32&\"9\"&$E32&RIGHT($D32,3))))","v":"BLANK"},0,0,null,"00000",{"$f":"COUNTIF(CS$17:CS32,1)","v":0},{"$f":"IF(CT32=\"BLANk\",0,COUNTIF(CT$17:CT32,CT32))","v":0},"BLANK",null,{"$f":"$CV$14+COUNTIF(CY$17:CY32,\"<>BLANK\")","v":0},{"$f":"COUNTA(CW$17:CW31)+1&\"0001\"","v":"160001"},"BLANK","BLANK",0,0,{"$f":"\"20\"&RIGHT(Tables!$E$6,2)","v":"2022"},null,"BLANK",{"$f":"IF(IF($J32=0,\"\",IF(LEN('1-Award Info'!$G$4)=7,'1-Award Info'!$G$4&$B32&$C32&\"9\"&$E32&RIGHT($D32,3),'1-Award Info'!$G$4&$C32&\"9\"&W$17&RIGHT($D32,3)))=\"\",\"BLANK\",IF($J32=0,\"\",IF(LEN('1-Award Info'!$G$4)=7,'1-Award Info'!$G$4&$B32&$C32&\"9\"&$E32&RIGHT($D32,3),'1-Award Info'!$G$4&$C32&\"9\"&$E32&RIGHT($D32,3))))","v":"BLANK"},0,0,null,"00000",{"$f":"COUNTIF(DK$17:DK32,1)","v":0},{"$f":"IF(DL32=\"BLANk\",0,COUNTIF(DL$17:DL32,DL32))","v":0},"BLANK",null,{"$f":"$DN$14+COUNTIF(DQ$17:DQ32,\"<>BLANK\")","v":0},{"$f":"COUNTA(DO$17:DO31)+1&\"0001\"","v":"160001"},"BLANK","BLANK",0,0,{"$f":"\"20\"&RIGHT(Tables!$E$7,2)","v":"2023"},null,16,{"$f":"\"00\"&'1-Award Info'!$G$6","v":"00"},"","",1,"",{"$f":"IFERROR(\nIF(VLOOKUP(\"FY\"&RIGHT($EA32,2),'1-Award Info'!$F$28:$G$32,2,0)=0,\n     1,\n     VLOOKUP(\"FY\"&RIGHT($EA32,2),'1-Award Info'!$F$28:$G$32,2,0)),1)","v":1},"",null,""]
[null,null,null,null,null,null,null,null,null,null,0,null,null,null,null,null,null,null,null,"100017",{"$f":"COUNTIF(V$17:$V33,1)","v":1},{"$f":"COUNTIF(W$17:$W33,W33)","v":17},{"$f":"IF($K33=0,\"\",IF(LEN('1-Award Info'!$G$4)=7,'1-Award Info'!$G$4&$B33&$C33,'1-Award Info'!$G$4&$C33))","v":""},null,{"$f":"COUNTA(Y$17:Y32)+1&\"0001\"","v":"170001"},"",null,"100017",{"$f":"COUNTIF($AD$17:AD33,AD33)","v":1},{"$f":"COUNTIF($AE$17:AE33,AE33)","v":17},"",null,{"$f":"COUNTA(AG$17:AG32)+1&\"0001\"","v":"170001"},"",null,"BLANK",{"$f":"IF(IF($F33=0,\"\",IF(LEN('1-Award Info'!$G$4)=7,'1-Award Info'!$G$4&$B33&$C33&\"9\"&E33&RIGHT($D33,3),'1-Award Info'!$G$4&$C33&\"9\"&E33&RIGHT($D33,3)))=\"\",\"BLANK\",IF($F33=0,\"\",IF(LEN('1-Award Info'!$G$4)=7,'1-Award Info'!$G$4&$B33&$C33&\"9\"&E33&RIGHT($D33,3),'1-Award Info'!$G$4&$C33&\"9\"&E33&RIGHT($D33,3))))","v":"BLANK"},0,0,null,"00000",{"$f":"COUNTIF(AQ$17:AQ33,1)","v":0},{"$f":"IF(AR33=\"BLANK\",0,COUNTIF(AR$17:AR33,AR33))","v":0},"BLANK",null,{"$f":"$AT$14+COUNTIF(AV$17:AV33,\"<>BLANK\")","v":0},{"$f":"COUNTA(AU$17:AU32)+1&\"0001\"","v":"170001"},"BLANK","BLANK",0,0,{"$f":"\"20\"&RIGHT(Tables!$E$3,2)","v":"2019"},null,"BLANK",{"$f":"IF(IF($G33=0,\"\",IF(LEN('1-Award Info'!$G$4)=7,'1-Award Info'!$G$4&$B33&$C33&\"9\"&E33&RIGHT($D33,3),'1-Award Info'!$G$4&$C33&\"9\"&E33&RIGHT($D33,3)))=\"\",\"BLANK\",IF($G33=0,\"\",IF(LEN('1-Award Info'!$G$4)=7,'1-Award Info'!$G$4&$B33&$C33&\"9\"&E33&RIGHT($D33,3),'1-Award Info'!$G$4&$C33&\"9\"&E33&RIGHT($D33,3))))","v":"BLANK"},0,0,null,"00000",{"$f":"COUNTIF(BI$17:BI33,1)","v":0},{"$f":"IF(BJ33=\"BLANk\",0,COUNTIF(BJ$17:BJ33,BJ33))","v":0},"BLANK",null,{"$f":"$BL$14+COUNTIF(BO$17:BO33,\"<>BLANK\")","v":0},{"$f":"COUNTA(BM$17:BM32)+1&\"0001\"","v":"170001"},"BLANK","BLANK",0,6,{"$f":"\"20\"&RIGHT(Tables!$E$4,2)","v":"2020"},null,"BLANK",{"$f":"IF(IF($H33=0,\"\",IF(LEN('1-Award Info'!$G$4)=7,'1-Award Info'!$G$4&$B33&$C33&\"9\"&E33&RIGHT($D33,3),'1-Award Info'!$G$4&$C33&\"9\"&E33&RIGHT($D33,3)))=\"\",\"BLANK\",IF($H33=0,\"\",IF(LEN('1-Award Info'!$G$4)=7,'1-Award Info'!$G$4&$B33&$C33&\"9\"&E33&RIGHT($D33,3),'1-Award Info'!$G$4&$C33&\"9\"&E33&RIGHT($D33,3))))","v":"BLANK"},0,0,null,"00000",{"$f":"COUNTIF(CA$17:CA33,1)","v":0},{"$f":"IF(CB33=\"BLANk\",0,COUNTIF(CB$17:CB33,CB33))","v":0},"BLANK",null,{"$f":"$CD$14+COUNTIF(CG$17:CG33,\"<>BLANK\")","v":0},{"$f":"COUNTA(CE$17:CE32)+1&\"0001\"","v":"170001"},"BLANK","BLANK",0,0,{"$f":"\"20\"&RIGHT(Tables!$E$5,2)","v":"2021"},null,"BLANK",{"$f":"IF(IF($I33=0,\"\",IF(LEN('1-Award Info'!$G$4)=7,'1-Award Info'!$G$4&$B33&$C33&\"9\"&$E33&RIGHT($D33,3),'1-Award Info'!$G$4&$C33&\"9\"&E$17&RIGHT($D33,3)))=\"\",\"BLANK\",IF($I33=0,\"\",IF(LEN('1-Award Info'!$G$4)=7,'1-Award Info'!$G$4&$B33&$C33&\"9\"&$E33&RIGHT($D33,3),'1-Award Info'!$G$4&$C33&\"9\"&$E33&RIGHT($D33,3))))","v":"BLANK"},0,0,null,"00000",{"$f":"COUNTIF(CS$17:CS33,1)","v":0},{"$f":"IF(CT33=\"BLANk\",0,COUNTIF(CT$17:CT33,CT33))","v":0},"BLANK",null,{"$f":"$CV$14+COUNTIF(CY$17:CY33,\"<>BLANK\")","v":0},{"$f":"COUNTA(CW$17:CW32)+1&\"0001\"","v":"170001"},"BLANK","BLANK",0,0,{"$f":"\"20\"&RIGHT(Tables!$E$6,2)","v":"2022"},null,"BLANK",{"$f":"IF(IF($J33=0,\"\",IF(LEN('1-Award Info'!$G$4)=7,'1-Award Info'!$G$4&$B33&$C33&\"9\"&$E33&RIGHT($D33,3),'1-Award Info'!$G$4&$C33&\"9\"&W$17&RIGHT($D33,3)))=\"\",\"BLANK\",IF($J33=0,\"\",IF(LEN('1-Award Info'!$G$4)=7,'1-Award Info'!$G$4&$B33&$C33&\"9\"&$E33&RIGHT($D33,3),'1-Award Info'!$G$4&$C33&\"9\"&$E33&RIGHT($D33,3))))","v":"BLANK"},0,0,null,"00000",{"$f":"COUNTIF(DK$17:DK33,1)","v":0},{"$f":"IF(DL33=\"BLANk\",0,COUNTIF(DL$17:DL33,DL33))","v":0},"BLANK",null,{"$f":"$DN$14+COUNTIF(DQ$17:DQ33,\"<>BLANK\")","v":0},{"$f":"COUNTA(DO$17:DO32)+1&\"0001\"","v":"170001"},"BLANK","BLANK",0,0,{"$f":"\"20\"&RIGHT(Tables!$E$7,2)","v":"2023"},null,17,{"$f":"\"00\"&'1-Award Info'!$G$6","v":"00"},"","",1,"",{"$f":"IFERROR(\nIF(VLOOKUP(\"FY\"&RIGHT($EA33,2),'1-Award Info'!$F$28:$G$32,2,0)=0,\n     1,\n     VLOOKUP(\"FY\"&RIGHT($EA33,2),'1-Award Info'!$F$28:$G$32,2,0)),1)","v":1},"",null,""]
[null,null,null,null,null,null,null,null,null,null,0,null,null,null,null,null,null,null,null,"100018",{"$f":"COUNTIF(V$17:$V34,1)","v":1},{"$f":"COUNTIF(W$17:$W34,W34)","v":18},{"$f":"IF($K34=0,\"\",IF(LEN('1-Award Info'!$G$4)=7,'1-Award Info'!$G$4&$B34&$C34,'1-Award Info'!$G$4&$C34))","v":""},null,{"$f":"COUNTA(Y$17:Y33)+1&\"0001\"","v":"180001"},"",null,"100018",{"$f":"COUNTIF($AD$17:AD34,AD34)","v":1},{"$f":"COUNTIF($AE$17:AE34,AE34)","v":18},"",null,{"$f":"COUNTA(AG$17:AG33)+1&\"0001\"","v":"180001"},"",null,"BLANK",{"$f":"IF(IF($F34=0,\"\",IF(LEN('1-Award Info'!$G$4)=7,'1-Award Info'!$G$4&$B34&$C34&\"9\"&E34&RIGHT($D34,3),'1-Award Info'!$G$4&$C34&\"9\"&E34&RIGHT($D34,3)))=\"\",\"BLANK\",IF($F34=0,\"\",IF(LEN('1-Award Info'!$G$4)=7,'1-Award Info'!$G$4&$B34&$C34&\"9\"&E34&RIGHT($D34,3),'1-Award Info'!$G$4&$C34&\"9\"&E34&RIGHT($D34,3))))","v":"BLANK"},0,0,null,"00000",{"$f":"COUNTIF(AQ$17:AQ34,1)","v":0},{"$f":"IF(AR34=\"BLANK\",0,COUNTIF(AR$17:AR34,AR34))","v":0},"BLANK",null,{"$f":"$AT$14+COUNTIF(AV$17:AV34,\"<>BLANK\")","v":0},{"$f":"COUNTA(AU$17:AU33)+1&\"0001\"","v":"180001"},"BLANK","BLANK",0,0,{"$f":"\"20\"&RIGHT(Tables!$E$3,2)","v":"2019"},null,"BLANK",{"$f":"IF(IF($G34=0,\"\",IF(LEN('1-Award Info'!$G$4)=7,'1-Award Info'!$G$4&$B34&$C34&\"9\"&E34&RIGHT($D34,3),'1-Award Info'!$G$4&$C34&\"9\"&E34&RIGHT($D34,3)))=\"\",\"BLANK\",IF($G34=0,\"\",IF(LEN('1-Award Info'!$G$4)=7,'1-Award Info'!$G$4&$B34&$C34&\"9\"&E34&RIGHT($D34,3),'1-Award Info'!$G$4&$C34&\"9\"&E34&RIGHT($D34,3))))","v":"BLANK"},0,0,null,"00000",{"$f":"COUNTIF(BI$17:BI34,1)","v":0},{"$f":"IF(BJ34=\"BLANk\",0,COUNTIF(BJ$17:BJ34,BJ34))","v":0},"BLANK",null,{"$f":"$BL$14+COUNTIF(BO$17:BO34,\"<>BLANK\")","v":0},{"$f":"COUNTA(BM$17:BM33)+1&\"0001\"","v":"180001"},"BLANK","BLANK",0,6,{"$f":"\"20\"&RIGHT(Tables!$E$4,2)","v":"2020"},null,"BLANK",{"$f":"IF(IF($H34=0,\"\",IF(LEN('1-Award Info'!$G$4)=7,'1-Award Info'!$G$4&$B34&$C34&\"9\"&E34&RIGHT($D34,3),'1-Award Info'!$G$4&$C34&\"9\"&E34&RIGHT($D34,3)))=\"\",\"BLANK\",IF($H34=0,\"\",IF(LEN('1-Award Info'!$G$4)=7,'1-Award Info'!$G$4&$B34&$C34&\"9\"&E34&RIGHT($D34,3),'1-Award Info'!$G$4&$C34&\"9\"&E34&RIGHT($D34,3))))","v":"BLANK"},0,0,null,"00000",{"$f":"COUNTIF(CA$17:CA34,1)","v":0},{"$f":"IF(CB34=\"BLANk\",0,COUNTIF(CB$17:CB34,CB34))","v":0},"BLANK",null,{"$f":"$CD$14+COUNTIF(CG$17:CG34,\"<>BLANK\")","v":0},{"$f":"COUNTA(CE$17:CE33)+1&\"0001\"","v":"180001"},"BLANK","BLANK",0,0,{"$f":"\"20\"&RIGHT(Tables!$E$5,2)","v":"2021"},null,"BLANK",{"$f":"IF(IF($I34=0,\"\",IF(LEN('1-Award Info'!$G$4)=7,'1-Award Info'!$G$4&$B34&$C34&\"9\"&$E34&RIGHT($D34,3),'1-Award Info'!$G$4&$C34&\"9\"&E$17&RIGHT($D34,3)))=\"\",\"BLANK\",IF($I34=0,\"\",IF(LEN('1-Award Info'!$G$4)=7,'1-Award Info'!$G$4&$B34&$C34&\"9\"&$E34&RIGHT($D34,3),'1-Award Info'!$G$4&$C34&\"9\"&$E34&RIGHT($D34,3))))","v":"BLANK"},0,0,null,"00000",{"$f":"COUNTIF(CS$17:CS34,1)","v":0},{"$f":"IF(CT34=\"BLANk\",0,COUNTIF(CT$17:CT34,CT34))","v":0},"BLANK",null,{"$f":"$CV$14+COUNTIF(CY$17:CY34,\"<>BLANK\")","v":0},{"$f":"COUNTA(CW$17:CW33)+1&\"0001\"","v":"180001"},"BLANK","BLANK",0,0,{"$f":"\"20\"&RIGHT(Tables!$E$6,2)","v":"2022"},null,"BLANK",{"$f":"IF(IF($J34=0,\"\",IF(LEN('1-Award Info'!$G$4)=7,'1-Award Info'!$G$4&$B34&$C34&\"9\"&$E34&RIGHT($D34,3),'1-Award Info'!$G$4&$C34&\"9\"&W$17&RIGHT($D34,3)))=\"\",\"BLANK\",IF($J34=0,\"\",IF(LEN('1-Award Info'!$G$4)=7,'1-Award Info'!$G$4&$B34&$C34&\"9\"&$E34&RIGHT($D34,3),'1-Award Info'!$G$4&$C34&\"9\"&$E34&RIGHT($D34,3))))","v":"BLANK"},0,0,null,"00000",{"$f":"COUNTIF(DK$17:DK34,1)","v":0},{"$f":"IF(DL34=\"BLANk\",0,COUNTIF(DL$17:DL34,DL34))","v":0},"BLANK",null,{"$f":"$DN$14+COUNTIF(DQ$17:DQ34,\"<>BLANK\")","v":0},{"$f":"COUNTA(DO$17:DO33)+1&\"0001\"","v":"180001"},"BLANK","BLANK",0,0,{"$f":"\"20\"&RIGHT(Tables!$E$7,2)","v":"2023"},null,18,{"$f":"\"00\"&'1-Award Info'!$G$6","v":"00"},"","",1,"",{"$f":"IFERROR(\nIF(VLOOKUP(\"FY\"&RIGHT($EA34,2),'1-Award Info'!$F$28:$G$32,2,0)=0,\n     1,\n     VLOOKUP(\"FY\"&RIGHT($EA34,2),'1-Award Info'!$F$28:$G$32,2,0)),1)","v":1},"",null,""]
[null,null,null,null,null,null,null,null,null,null,0,null,null,null,null,null,null,null,null,"100019",{"$f":"COUNTIF(V$17:$V35,1)","v":1},{"$f":"COUNTIF(W$17:$W35,W35)","v":19},{"$f":"IF($K35=0,\"\",IF(LEN('1-Award Info'!$G$4)=7,'1-Award Info'!$G$4&$B35&$C35,'1-Award Info'!$G$4&$C35))","v":""},null,{"$f":"COUNTA(Y$17:Y34)+1&\"0001\"","v":"190001"},"",null,"100019",{"$f":"COUNTIF($AD$17:AD35,AD35)","v":1},{"$f":"COUNTIF($AE$17:AE35,AE35)","v":19},"",null,{"$f":"COUNTA(AG$17:AG34)+1&\"0001\"","v":"190001"},"",null,"BLANK",{"$f":"IF(IF($F35=0,\"\",IF(LEN('1-Award Info'!$G$4)=7,'1-Award Info'!$G$4&$B35&$C35&\"9\"&E35&RIGHT($D35,3),'1-Award Info'!$G$4&$C35&\"9\"&E35&RIGHT($D35,3)))=\"\",\"BLANK\",IF($F35=0,\"\",IF(LEN('1-Award Info'!$G$4)=7,'1-Award Info'!$G$4&$B35&$C35&\"9\"&E35&RIGHT($D35,3),'1-Award Info'!$G$4&$C35&\"9\"&E35&RIGHT($D35,3))))","v":"BLANK"},0,0,null,"00000",{"$f":"COUNTIF(AQ$17:AQ35,1)","v":0},{"$f":"IF(AR35=\"BLANK\",0,COUNTIF(AR$17:AR35,AR35))","v":0},"BLANK",null,{"$f":"$AT$14+COUNTIF(AV$17:AV35,\"<>BLANK\")","v":0},{"$f":"COUNTA(AU$17:AU34)+1&\"0001\"","v":"190001"},"BLANK","BLANK",0,0,{"$f":"\"20\"&RIGHT(Tables!$E$3,2)","v":"2019"},null,"BLANK",{"$f":"IF(IF($G35=0,\"\",IF(LEN('1-Award Info'!$G$4)=7,'1-Award Info'!$G$4&$B35&$C35&\"9\"&E35&RIGHT($D35,3),'1-Award Info'!$G$4&$C35&\"9\"&E35&RIGHT($D35,3)))=\"\",\"BLANK\",IF($G35=0,\"\",IF(LEN('1-Award Info'!$G$4)=7,'1-Award Info'!$G$4&$B35&$C35&\"9\"&E35&RIGHT($D35,3),'1-Award Info'!$G$4&$C35&\"9\"&E35&RIGHT($D35,3))))","v":"BLANK"},0,0,null,"00000",{"$f":"COUNTIF(BI$17:BI35,1)","v":0},{"$f":"IF(BJ35=\"BLANk\",0,COUNTIF(BJ$17:BJ35,BJ35))","v":0},"BLANK",null,{"$f":"$BL$14+COUNTIF(BO$17:BO35,\"<>BLANK\")","v":0},{"$f":"COUNTA(BM$17:BM34)+1&\"0001\"","v":"190001"},"BLANK","BLANK",0,6,{"$f":"\"20\"&RIGHT(Tables!$E$4,2)","v":"2020"},null,"BLANK",{"$f":"IF(IF($H35=0,\"\",IF(LEN('1-Award Info'!$G$4)=7,'1-Award Info'!$G$4&$B35&$C35&\"9\"&E35&RIGHT($D35,3),'1-Award Info'!$G$4&$C35&\"9\"&E35&RIGHT($D35,3)))=\"\",\"BLANK\",IF($H35=0,\"\",IF(LEN('1-Award Info'!$G$4)=7,'1-Award Info'!$G$4&$B35&$C35&\"9\"&E35&RIGHT($D35,3),'1-Award Info'!$G$4&$C35&\"9\"&E35&RIGHT($D35,3))))","v":"BLANK"},0,0,null,"00000",{"$f":"COUNTIF(CA$17:CA35,1)","v":0},{"$f":"IF(CB35=\"BLANk\",0,COUNTIF(CB$17:CB35,CB35))","v":0},"BLANK",null,{"$f":"$CD$14+COUNTIF(CG$17:CG35,\"<>BLANK\")","v":0},{"$f":"COUNTA(CE$17:CE34)+1&\"0001\"","v":"190001"},"BLANK","BLANK",0,0,{"$f":"\"20\"&RIGHT(Tables!$E$5,2)","v":"2021"},null,"BLANK",{"$f":"IF(IF($I35=0,\"\",IF(LEN('1-Award Info'!$G$4)=7,'1-Award Info'!$G$4&$B35&$C35&\"9\"&$E35&RIGHT($D35,3),'1-Award Info'!$G$4&$C35&\"9\"&E$17&RIGHT($D35,3)))=\"\",\"BLANK\",IF($I35=0,\"\",IF(LEN('1-Award Info'!$G$4)=7,'1-Award Info'!$G$4&$B35&$C35&\"9\"&$E35&RIGHT($D35,3),'1-Award Info'!$G$4&$C35&\"9\"&$E35&RIGHT($D35,3))))","v":"BLANK"},0,0,null,"00000",{"$f":"COUNTIF(CS$17:CS35,1)","v":0},{"$f":"IF(CT35=\"BLANk\",0,COUNTIF(CT$17:CT35,CT35))","v":0},"BLANK",null,{"$f":"$CV$14+COUNTIF(CY$17:CY35,\"<>BLANK\")","v":0},{"$f":"COUNTA(CW$17:CW34)+1&\"0001\"","v":"190001"},"BLANK","BLANK",0,0,{"$f":"\"20\"&RIGHT(Tables!$E$6,2)","v":"2022"},null,"BLANK",{"$f":"IF(IF($J35=0,\"\",IF(LEN('1-Award Info'!$G$4)=7,'1-Award Info'!$G$4&$B35&$C35&\"9\"&$E35&RIGHT($D35,3),'1-Award Info'!$G$4&$C35&\"9\"&W$17&RIGHT($D35,3)))=\"\",\"BLANK\",IF($J35=0,\"\",IF(LEN('1-Award Info'!$G$4)=7,'1-Award Info'!$G$4&$B35&$C35&\"9\"&$E35&RIGHT($D35,3),'1-Award Info'!$G$4&$C35&\"9\"&$E35&RIGHT($D35,3))))","v":"BLANK"},0,0,null,"00000",{"$f":"COUNTIF(DK$17:DK35,1)","v":0},{"$f":"IF(DL35=\"BLANk\",0,COUNTIF(DL$17:DL35,DL35))","v":0},"BLANK",null,{"$f":"$DN$14+COUNTIF(DQ$17:DQ35,\"<>BLANK\")","v":0},{"$f":"COUNTA(DO$17:DO34)+1&\"0001\"","v":"190001"},"BLANK","BLANK",0,0,{"$f":"\"20\"&RIGHT(Tables!$E$7,2)","v":"2023"},null,19,{"$f":"\"00\"&'1-Award Info'!$G$6","v":"00"},"","",1,"",{"$f":"IFERROR(\nIF(VLOOKUP(\"FY\"&RIGHT($EA35,2),'1-Award Info'!$F$28:$G$32,2,0)=0,\n     1,\n     VLOOKUP(\"FY\"&RIGHT($EA35,2),'1-Award Info'!$F$28:$G$32,2,0)),1)","v":1},"",null,""]
[null,null,null,null,null,null,null,null,null,null,0,null,null,null,null,null,null,null,null,"100020",{"$f":"COUNTIF(V$17:$V36,1)","v":1},{"$f":"COUNTIF(W$17:$W36,W36)","v":20},{"$f":"IF($K36=0,\"\",IF(LEN('1-Award Info'!$G$4)=7,'1-Award Info'!$G$4&$B36&$C36,'1-Award Info'!$G$4&$C36))","v":""},null,{"$f":"COUNTA(Y$17:Y35)+1&\"0001\"","v":"200001"},"",null,"100020",{"$f":"COUNTIF($AD$17:AD36,AD36)","v":1},{"$f":"COUNTIF($AE$17:AE36,AE36)","v":20},"",null,{"$f":"COUNTA(AG$17:AG35)+1&\"0001\"","v":"200001"},"",null,"BLANK",{"$f":"IF(IF($F36=0,\"\",IF(LEN('1-Award Info'!$G$4)=7,'1-Award Info'!$G$4&$B36&$C36&\"9\"&E36&RIGHT($D36,3),'1-Award Info'!$G$4&$C36&\"9\"&E36&RIGHT($D36,3)))=\"\",\"BLANK\",IF($F36=0,\"\",IF(LEN('1-Award Info'!$G$4)=7,'1-Award Info'!$G$4&$B36&$C36&\"9\"&E36&RIGHT($D36,3),'1-Award Info'!$G$4&$C36&\"9\"&E36&RIGHT($D36,3))))","v":"BLANK"},0,0,null,"00000",{"$f":"COUNTIF(AQ$17:AQ36,1)","v":0},{"$f":"IF(AR36=\"BLANK\",0,COUNTIF(AR$17:AR36,AR36))","v":0},"BLANK",null,{"$f":"$AT$14+COUNTIF(AV$17:AV36,\"<>BLANK\")","v":0},{"$f":"COUNTA(AU$17:AU35)+1&\"0001\"","v":"200001"},"BLANK","BLANK",0,0,{"$f":"\"20\"&RIGHT(Tables!$E$3,2)","v":"2019"},null,"BLANK",{"$f":"IF(IF($G36=0,\"\",IF(LEN('1-Award Info'!$G$4)=7,'1-Award Info'!$G$4&$B36&$C36&\"9\"&E36&RIGHT($D36,3),'1-Award Info'!$G$4&$C36&\"9\"&E36&RIGHT($D36,3)))=\"\",\"BLANK\",IF($G36=0,\"\",IF(LEN('1-Award Info'!$G$4)=7,'1-Award Info'!$G$4&$B36&$C36&\"9\"&E36&RIGHT($D36,3),'1-Award Info'!$G$4&$C36&\"9\"&E36&RIGHT($D36,3))))","v":"BLANK"},0,0,null,"00000",{"$f":"COUNTIF(BI$17:BI36,1)","v":0},{"$f":"IF(BJ36=\"BLANk\",0,COUNTIF(BJ$17:BJ36,BJ36))","v":0},"BLANK",null,{"$f":"$BL$14+COUNTIF(BO$17:BO36,\"<>BLANK\")","v":0},{"$f":"COUNTA(BM$17:BM35)+1&\"0001\"","v":"200001"},"BLANK","BLANK",0,6,{"$f":"\"20\"&RIGHT(Tables!$E$4,2)","v":"2020"},null,"BLANK",{"$f":"IF(IF($H36=0,\"\",IF(LEN('1-Award Info'!$G$4)=7,'1-Award Info'!$G$4&$B36&$C36&\"9\"&E36&RIGHT($D36,3),'1-Award Info'!$G$4&$C36&\"9\"&E36&RIGHT($D36,3)))=\"\",\"BLANK\",IF($H36=0,\"\",IF(LEN('1-Award Info'!$G$4)=7,'1-Award Info'!$G$4&$B36&$C36&\"9\"&E36&RIGHT($D36,3),'1-Award Info'!$G$4&$C36&\"9\"&E36&RIGHT($D36,3))))","v":"BLANK"},0,0,null,"00000",{"$f":"COUNTIF(CA$17:CA36,1)","v":0},{"$f":"IF(CB36=\"BLANk\",0,COUNTIF(CB$17:CB36,CB36))","v":0},"BLANK",null,{"$f":"$CD$14+COUNTIF(CG$17:CG36,\"<>BLANK\")","v":0},{"$f":"COUNTA(CE$17:CE35)+1&\"0001\"","v":"200001"},"BLANK","BLANK",0,0,{"$f":"\"20\"&RIGHT(Tables!$E$5,2)","v":"2021"},null,"BLANK",{"$f":"IF(IF($I36=0,\"\",IF(LEN('1-Award Info'!$G$4)=7,'1-Award Info'!$G$4&$B36&$C36&\"9\"&$E36&RIGHT($D36,3),'1-Award Info'!$G$4&$C36&\"9\"&E$17&RIGHT($D36,3)))=\"\",\"BLANK\",IF($I36=0,\"\",IF(LEN('1-Award Info'!$G$4)=7,'1-Award Info'!$G$4&$B36&$C36&\"9\"&$E36&RIGHT($D36,3),'1-Award Info'!$G$4&$C36&\"9\"&$E36&RIGHT($D36,3))))","v":"BLANK"},0,0,null,"00000",{"$f":"COUNTIF(CS$17:CS36,1)","v":0},{"$f":"IF(CT36=\"BLANk\",0,COUNTIF(CT$17:CT36,CT36))","v":0},"BLANK",null,{"$f":"$CV$14+COUNTIF(CY$17:CY36,\"<>BLANK\")","v":0},{"$f":"COUNTA(CW$17:CW35)+1&\"0001\"","v":"200001"},"BLANK","BLANK",0,0,{"$f":"\"20\"&RIGHT(Tables!$E$6,2)","v":"2022"},null,"BLANK",{"$f":"IF(IF($J36=0,\"\",IF(LEN('1-Award Info'!$G$4)=7,'1-Award Info'!$G$4&$B36&$C36&\"9\"&$E36&RIGHT($D36,3),'1-Award Info'!$G$4&$C36&\"9\"&W$17&RIGHT($D36,3)))=\"\",\"BLANK\",IF($J36=0,\"\",IF(LEN('1-Award Info'!$G$4)=7,'1-Award Info'!$G$4&$B36&$C36&\"9\"&$E36&RIGHT($D36,3),'1-Award Info'!$G$4&$C36&\"9\"&$E36&RIGHT($D36,3))))","v":"BLANK"},0,0,null,"00000",{"$f":"COUNTIF(DK$17:DK36,1)","v":0},{"$f":"IF(DL36=\"BLANk\",0,COUNTIF(DL$17:DL36,DL36))","v":0},"BLANK",null,{"$f":"$DN$14+COUNTIF(DQ$17:DQ36,\"<>BLANK\")","v":0},{"$f":"COUNTA(DO$17:DO35)+1&\"0001\"","v":"200001"},"BLANK","BLANK",0,0,{"$f":"\"20\"&RIGHT(Tables!$E$7,2)","v":"2023"},null,20,{"$f":"\"00\"&'1-Award Info'!$G$6","v":"00"},"","",1,"",{"$f":"IFERROR(\nIF(VLOOKUP(\"FY\"&RIGHT($EA36,2),'1-Award Info'!$F$28:$G$32,2,0)=0,\n     1,\n     VLOOKUP(\"FY\"&RIGHT($EA36,2),'1-Award Info'!$F$28:$G$32,2,0)),1)","v":1},"",null,""]
[null,null,null,null,null,null,null,null,null,null,0,null,null,null,null,null,null,null,null,"100021",{"$f":"COUNTIF(V$17:$V37,1)","v":1},{"$f":"COUNTIF(W$17:$W37,W37)","v":21},{"$f":"IF($K37=0,\"\",IF(LEN('1-Award Info'!$G$4)=7,'1-Award Info'!$G$4&$B37&$C37,'1-Award Info'!$G$4&$C37))","v":""},null,{"$f":"COUNTA(Y$17:Y36)+1&\"0001\"","v":"210001"},"",null,"100021",{"$f":"COUNTIF($AD$17:AD37,AD37)","v":1},{"$f":"COUNTIF($AE$17:AE37,AE37)","v":21},"",null,{"$f":"COUNTA(AG$17:AG36)+1&\"0001\"","v":"210001"},"",null,"BLANK",{"$f":"IF(IF($F37=0,\"\",IF(LEN('1-Award Info'!$G$4)=7,'1-Award Info'!$G$4&$B37&$C37&\"9\"&E37&RIGHT($D37,3),'1-Award Info'!$G$4&$C37&\"9\"&E37&RIGHT($D37,3)))=\"\",\"BLANK\",IF($F37=0,\"\",IF(LEN('1-Award Info'!$G$4)=7,'1-Award Info'!$G$4&$B37&$C37&\"9\"&E37&RIGHT($D37,3),'1-Award Info'!$G$4&$C37&\"9\"&E37&RIGHT($D37,3))))","v":"BLANK"},0,0,null,"00000",{"$f":"COUNTIF(AQ$17:AQ37,1)","v":0},{"$f":"IF(AR37=\"BLANK\",0,COUNTIF(AR$17:AR37,AR37))","v":0},"BLANK",null,{"$f":"$AT$14+COUNTIF(AV$17:AV37,\"<>BLANK\")","v":0},{"$f":"COUNTA(AU$17:AU36)+1&\"0001\"","v":"210001"},"BLANK","BLANK",0,0,{"$f":"\"20\"&RIGHT(Tables!$E$3,2)","v":"2019"},null,"BLANK",{"$f":"IF(IF($G37=0,\"\",IF(LEN('1-Award Info'!$G$4)=7,'1-Award Info'!$G$4&$B37&$C37&\"9\"&E37&RIGHT($D37,3),'1-Award Info'!$G$4&$C37&\"9\"&E37&RIGHT($D37,3)))=\"\",\"BLANK\",IF($G37=0,\"\",IF(LEN('1-Award Info'!$G$4)=7,'1-Award Info'!$G$4&$B37&$C37&\"9\"&E37&RIGHT($D37,3),'1-Award Info'!$G$4&$C37&\"9\"&E37&RIGHT($D37,3))))","v":"BLANK"},0,0,null,"00000",{"$f":"COUNTIF(BI$17:BI37,1)","v":0},{"$f":"IF(BJ37=\"BLANk\",0,COUNTIF(BJ$17:BJ37,BJ37))","v":0},"BLANK",null,{"$f":"$BL$14+COUNTIF(BO$17:BO37,\"<>BLANK\")","v":0},{"$f":"COUNTA(BM$17:BM36)+1&\"0001\"","v":"210001"},"BLANK","BLANK",0,6,{"$f":"\"20\"&RIGHT(Tables!$E$4,2)","v":"2020"},null,"BLANK",{"$f":"IF(IF($H37=0,\"\",IF(LEN('1-Award Info'!$G$4)=7,'1-Award Info'!$G$4&$B37&$C37&\"9\"&E37&RIGHT($D37,3),'1-Award Info'!$G$4&$C37&\"9\"&E37&RIGHT($D37,3)))=\"\",\"BLANK\",IF($H37=0,\"\",IF(LEN('1-Award Info'!$G$4)=7,'1-Award Info'!$G$4&$B37&$C37&\"9\"&E37&RIGHT($D37,3),'1-Award Info'!$G$4&$C37&\"9\"&E37&RIGHT($D37,3))))","v":"BLANK"},0,0,null,"00000",{"$f":"COUNTIF(CA$17:CA37,1)","v":0},{"$f":"IF(CB37=\"BLANk\",0,COUNTIF(CB$17:CB37,CB37))","v":0},"BLANK",null,{"$f":"$CD$14+COUNTIF(CG$17:CG37,\"<>BLANK\")","v":0},{"$f":"COUNTA(CE$17:CE36)+1&\"0001\"","v":"210001"},"BLANK","BLANK",0,0,{"$f":"\"20\"&RIGHT(Tables!$E$5,2)","v":"2021"},null,"BLANK",{"$f":"IF(IF($I37=0,\"\",IF(LEN('1-Award Info'!$G$4)=7,'1-Award Info'!$G$4&$B37&$C37&\"9\"&$E37&RIGHT($D37,3),'1-Award Info'!$G$4&$C37&\"9\"&E$17&RIGHT($D37,3)))=\"\",\"BLANK\",IF($I37=0,\"\",IF(LEN('1-Award Info'!$G$4)=7,'1-Award Info'!$G$4&$B37&$C37&\"9\"&$E37&RIGHT($D37,3),'1-Award Info'!$G$4&$C37&\"9\"&$E37&RIGHT($D37,3))))","v":"BLANK"},0,0,null,"00000",{"$f":"COUNTIF(CS$17:CS37,1)","v":0},{"$f":"IF(CT37=\"BLANk\",0,COUNTIF(CT$17:CT37,CT37))","v":0},"BLANK",null,{"$f":"$CV$14+COUNTIF(CY$17:CY37,\"<>BLANK\")","v":0},{"$f":"COUNTA(CW$17:CW36)+1&\"0001\"","v":"210001"},"BLANK","BLANK",0,0,{"$f":"\"20\"&RIGHT(Tables!$E$6,2)","v":"2022"},null,"BLANK",{"$f":"IF(IF($J37=0,\"\",IF(LEN('1-Award Info'!$G$4)=7,'1-Award Info'!$G$4&$B37&$C37&\"9\"&$E37&RIGHT($D37,3),'1-Award Info'!$G$4&$C37&\"9\"&W$17&RIGHT($D37,3)))=\"\",\"BLANK\",IF($J37=0,\"\",IF(LEN('1-Award Info'!$G$4)=7,'1-Award Info'!$G$4&$B37&$C37&\"9\"&$E37&RIGHT($D37,3),'1-Award Info'!$G$4&$C37&\"9\"&$E37&RIGHT($D37,3))))","v":"BLANK"},0,0,null,"00000",{"$f":"COUNTIF(DK$17:DK37,1)","v":0},{"$f":"IF(DL37=\"BLANk\",0,COUNTIF(DL$17:DL37,DL37))","v":0},"BLANK",null,{"$f":"$DN$14+COUNTIF(DQ$17:DQ37,\"<>BLANK\")","v":0},{"$f":"COUNTA(DO$17:DO36)+1&\"0001\"","v":"210001"},"BLANK","BLANK",0,0,{"$f":"\"20\"&RIGHT(Tables!$E$7,2)","v":"2023"},null,21,{"$f":"\"00\"&'1-Award Info'!$G$6","v":"00"},"","",1,"",{"$f":"IFERROR(\nIF(VLOOKUP(\"FY\"&RIGHT($EA37,2),'1-Award Info'!$F$28:$G$32,2,0)=0,\n     1,\n     VLOOKUP(\"FY\"&RIGHT($EA37,2),'1-Award Info'!$F$28:$G$32,2,0)),1)","v":1},"",null,""]
[null,null,null,null,null,null,null,null,null,null,0,null,null,null,null,null,null,null,null,"100022",{"$f":"COUNTIF(V$17:$V38,1)","v":1},{"$f":"COUNTIF(W$17:$W38,W38)","v":22},{"$f":"IF($K38=0,\"\",IF(LEN('1-Award Info'!$G$4)=7,'1-Award Info'!$G$4&$B38&$C38,'1-Award Info'!$G$4&$C38))","v":""},null,{"$f":"COUNTA(Y$17:Y37)+1&\"0001\"","v":"220001"},"",null,"100022",{"$f":"COUNTIF($AD$17:AD38,AD38)","v":1},{"$f":"COUNTIF($AE$17:AE38,AE38)","v":22},"",null,{"$f":"COUNTA(AG$17:AG37)+1&\"0001\"","v":"220001"},"",null,"BLANK",{"$f":"IF(IF($F38=0,\"\",IF(LEN('1-Award Info'!$G$4)=7,'1-Award Info'!$G$4&$B38&$C38&\"9\"&E38&RIGHT($D38,3),'1-Award Info'!$G$4&$C38&\"9\"&E38&RIGHT($D38,3)))=\"\",\"BLANK\",IF($F38=0,\"\",IF(LEN('1-Award Info'!$G$4)=7,'1-Award Info'!$G$4&$B38&$C38&\"9\"&E38&RIGHT($D38,3),'1-Award Info'!$G$4&$C38&\"9\"&E38&RIGHT($D38,3))))","v":"BLANK"},0,0,null,"00000",{"$f":"COUNTIF(AQ$17:AQ38,1)","v":0},{"$f":"IF(AR38=\"BLANK\",0,COUNTIF(AR$17:AR38,AR38))","v":0},"BLANK",null,{"$f":"$AT$14+COUNTIF(AV$17:AV38,\"<>BLANK\")","v":0},{"$f":"COUNTA(AU$17:AU37)+1&\"0001\"","v":"220001"},"BLANK","BLANK",0,0,{"$f":"\"20\"&RIGHT(Tables!$E$3,2)","v":"2019"},null,"BLANK",{"$f":"IF(IF($G38=0,\"\",IF(LEN('1-Award Info'!$G$4)=7,'1-Award Info'!$G$4&$B38&$C38&\"9\"&E38&RIGHT($D38,3),'1-Award Info'!$G$4&$C38&\"9\"&E38&RIGHT($D38,3)))=\"\",\"BLANK\",IF($G38=0,\"\",IF(LEN('1-Award Info'!$G$4)=7,'1-Award Info'!$G$4&$B38&$C38&\"9\"&E38&RIGHT($D38,3),'1-Award Info'!$G$4&$C38&\"9\"&E38&RIGHT($D38,3))))","v":"BLANK"},0,0,null,"00000",{"$f":"COUNTIF(BI$17:BI38,1)","v":0},{"$f":"IF(BJ38=\"BLANk\",0,COUNTIF(BJ$17:BJ38,BJ38))","v":0},"BLANK",null,{"$f":"$BL$14+COUNTIF(BO$17:BO38,\"<>BLANK\")","v":0},{"$f":"COUNTA(BM$17:BM37)+1&\"0001\"","v":"220001"},"BLANK","BLANK",0,6,{"$f":"\"20\"&RIGHT(Tables!$E$4,2)","v":"2020"},null,"BLANK",{"$f":"IF(IF($H38=0,\"\",IF(LEN('1-Award Info'!$G$4)=7,'1-Award Info'!$G$4&$B38&$C38&\"9\"&E38&RIGHT($D38,3),'1-Award Info'!$G$4&$C38&\"9\"&E38&RIGHT($D38,3)))=\"\",\"BLANK\",IF($H38=0,\"\",IF(LEN('1-Award Info'!$G$4)=7,'1-Award Info'!$G$4&$B38&$C38&\"9\"&E38&RIGHT($D38,3),'1-Award Info'!$G$4&$C38&\"9\"&E38&RIGHT($D38,3))))","v":"BLANK"},0,0,null,"00000",{"$f":"COUNTIF(CA$17:CA38,1)","v":0},{"$f":"IF(CB38=\"BLANk\",0,COUNTIF(CB$17:CB38,CB38))","v":0},"BLANK",null,{"$f":"$CD$14+COUNTIF(CG$17:CG38,\"<>BLANK\")","v":0},{"$f":"COUNTA(CE$17:CE37)+1&\"0001\"","v":"220001"},"BLANK","BLANK",0,0,{"$f":"\"20\"&RIGHT(Tables!$E$5,2)","v":"2021"},null,"BLANK",{"$f":"IF(IF($I38=0,\"\",IF(LEN('1-Award Info'!$G$4)=7,'1-Award Info'!$G$4&$B38&$C38&\"9\"&$E38&RIGHT($D38,3),'1-Award Info'!$G$4&$C38&\"9\"&E$17&RIGHT($D38,3)))=\"\",\"BLANK\",IF($I38=0,\"\",IF(LEN('1-Award Info'!$G$4)=7,'1-Award Info'!$G$4&$B38&$C38&\"9\"&$E38&RIGHT($D38,3),'1-Award Info'!$G$4&$C38&\"9\"&$E38&RIGHT($D38,3))))","v":"BLANK"},0,0,null,"00000",{"$f":"COUNTIF(CS$17:CS38,1)","v":0},{"$f":"IF(CT38=\"BLANk\",0,COUNTIF(CT$17:CT38,CT38))","v":0},"BLANK",null,{"$f":"$CV$14+COUNTIF(CY$17:CY38,\"<>BLANK\")","v":0},{"$f":"COUNTA(CW$17:CW37)+1&\"0001\"","v":"220001"},"BLANK","BLANK",0,0,{"$f":"\"20\"&RIGHT(Tables!$E$6,2)","v":"2022"},null,"BLANK",{"$f":"IF(IF($J38=0,\"\",IF(LEN('1-Award Info'!$G$4)=7,'1-Award Info'!$G$4&$B38&$C38&\"9\"&$E38&RIGHT($D38,3),'1-Award Info'!$G$4&$C38&\"9\"&W$17&RIGHT($D38,3)))=\"\",\"BLANK\",IF($J38=0,\"\",IF(LEN('1-Award Info'!$G$4)=7,'1-Award Info'!$G$4&$B38&$C38&\"9\"&$E38&RIGHT($D38,3),'1-Award Info'!$G$4&$C38&\"9\"&$E38&RIGHT($D38,3))))","v":"BLANK"},0,0,null,"00000",{"$f":"COUNTIF(DK$17:DK38,1)","v":0},{"$f":"IF(DL38=\"BLANk\",0,COUNTIF(DL$17:DL38,DL38))","v":0},"BLANK",null,{"$f":"$DN$14+COUNTIF(DQ$17:DQ38,\"<>BLANK\")","v":0},{"$f":"COUNTA(DO$17:DO37)+1&\"0001\"","v":"220001"},"BLANK","BLANK",0,0,{"$f":"\"20\"&RIGHT(Tables!$E$7,2)","v":"2023"},null,22,{"$f":"\"00\"&'1-Award Info'!$G$6","v":"00"},"","",1,"",{"$f":"IFERROR(\nIF(VLOOKUP(\"FY\"&RIGHT($EA38,2),'1-Award Info'!$F$28:$G$32,2,0)=0,\n     1,\n     VLOOKUP(\"FY\"&RIGHT($EA38,2),'1-Award Info'!$F$28:$G$32,2,0)),1)","v":1},"",null,""]
[null,null,null,null,null,null,null,null,null,null,0,null,null,null,null,null,null,null,null,"100023",{"$f":"COUNTIF(V$17:$V39,1)","v":1},{"$f":"COUNTIF(W$17:$W39,W39)","v":23},{"$f":"IF($K39=0,\"\",IF(LEN('1-Award Info'!$G$4)=7,'1-Award Info'!$G$4&$B39&$C39,'1-Award Info'!$G$4&$C39))","v":""},null,{"$f":"COUNTA(Y$17:Y38)+1&\"0001\"","v":"230001"},"",null,"100023",{"$f":"COUNTIF($AD$17:AD39,AD39)","v":1},{"$f":"COUNTIF($AE$17:AE39,AE39)","v":23},"",null,{"$f":"COUNTA(AG$17:AG38)+1&\"0001\"","v":"230001"},"",null,"BLANK",{"$f":"IF(IF($F39=0,\"\",IF(LEN('1-Award Info'!$G$4)=7,'1-Award Info'!$G$4&$B39&$C39&\"9\"&E39&RIGHT($D39,3),'1-Award Info'!$G$4&$C39&\"9\"&E39&RIGHT($D39,3)))=\"\",\"BLANK\",IF($F39=0,\"\",IF(LEN('1-Award Info'!$G$4)=7,'1-Award Info'!$G$4&$B39&$C39&\"9\"&E39&RIGHT($D39,3),'1-Award Info'!$G$4&$C39&\"9\"&E39&RIGHT($D39,3))))","v":"BLANK"},0,0,null,"00000",{"$f":"COUNTIF(AQ$17:AQ39,1)","v":0},{"$f":"IF(AR39=\"BLANK\",0,COUNTIF(AR$17:AR39,AR39))","v":0},"BLANK",null,{"$f":"$AT$14+COUNTIF(AV$17:AV39,\"<>BLANK\")","v":0},{"$f":"COUNTA(AU$17:AU38)+1&\"0001\"","v":"230001"},"BLANK","BLANK",0,0,{"$f":"\"20\"&RIGHT(Tables!$E$3,2)","v":"2019"},null,"BLANK",{"$f":"IF(IF($G39=0,\"\",IF(LEN('1-Award Info'!$G$4)=7,'1-Award Info'!$G$4&$B39&$C39&\"9\"&E39&RIGHT($D39,3),'1-Award Info'!$G$4&$C39&\"9\"&E39&RIGHT($D39,3)))=\"\",\"BLANK\",IF($G39=0,\"\",IF(LEN('1-Award Info'!$G$4)=7,'1-Award Info'!$G$4&$B39&$C39&\"9\"&E39&RIGHT($D39,3),'1-Award Info'!$G$4&$C39&\"9\"&E39&RIGHT($D39,3))))","v":"BLANK"},0,0,null,"00000",{"$f":"COUNTIF(BI$17:BI39,1)","v":0},{"$f":"IF(BJ39=\"BLANk\",0,COUNTIF(BJ$17:BJ39,BJ39))","v":0},"BLANK",null,{"$f":"$BL$14+COUNTIF(BO$17:BO39,\"<>BLANK\")","v":0},{"$f":"COUNTA(BM$17:BM38)+1&\"0001\"","v":"230001"},"BLANK","BLANK",0,6,{"$f":"\"20\"&RIGHT(Tables!$E$4,2)","v":"2020"},null,"BLANK",{"$f":"IF(IF($H39=0,\"\",IF(LEN('1-Award Info'!$G$4)=7,'1-Award Info'!$G$4&$B39&$C39&\"9\"&E39&RIGHT($D39,3),'1-Award Info'!$G$4&$C39&\"9\"&E39&RIGHT($D39,3)))=\"\",\"BLANK\",IF($H39=0,\"\",IF(LEN('1-Award Info'!$G$4)=7,'1-Award Info'!$G$4&$B39&$C39&\"9\"&E39&RIGHT($D39,3),'1-Award Info'!$G$4&$C39&\"9\"&E39&RIGHT($D39,3))))","v":"BLANK"},0,0,null,"00000",{"$f":"COUNTIF(CA$17:CA39,1)","v":0},{"$f":"IF(CB39=\"BLANk\",0,COUNTIF(CB$17:CB39,CB39))","v":0},"BLANK",null,{"$f":"$CD$14+COUNTIF(CG$17:CG39,\"<>BLANK\")","v":0},{"$f":"COUNTA(CE$17:CE38)+1&\"0001\"","v":"230001"},"BLANK","BLANK",0,0,{"$f":"\"20\"&RIGHT(Tables!$E$5,2)","v":"2021"},null,"BLANK",{"$f":"IF(IF($I39=0,\"\",IF(LEN('1-Award Info'!$G$4)=7,'1-Award Info'!$G$4&$B39&$C39&\"9\"&$E39&RIGHT($D39,3),'1-Award Info'!$G$4&$C39&\"9\"&E$17&RIGHT($D39,3)))=\"\",\"BLANK\",IF($I39=0,\"\",IF(LEN('1-Award Info'!$G$4)=7,'1-Award Info'!$G$4&$B39&$C39&\"9\"&$E39&RIGHT($D39,3),'1-Award Info'!$G$4&$C39&\"9\"&$E39&RIGHT($D39,3))))","v":"BLANK"},0,0,null,"00000",{"$f":"COUNTIF(CS$17:CS39,1)","v":0},{"$f":"IF(CT39=\"BLANk\",0,COUNTIF(CT$17:CT39,CT39))","v":0},"BLANK",null,{"$f":"$CV$14+COUNTIF(CY$17:CY39,\"<>BLANK\")","v":0},{"$f":"COUNTA(CW$17:CW38)+1&\"0001\"","v":"230001"},"BLANK","BLANK",0,0,{"$f":"\"20\"&RIGHT(Tables!$E$6,2)","v":"2022"},null,"BLANK",{"$f":"IF(IF($J39=0,\"\",IF(LEN('1-Award Info'!$G$4)=7,'1-Award Info'!$G$4&$B39&$C39&\"9\"&$E39&RIGHT($D39,3),'1-Award Info'!$G$4&$C39&\"9\"&W$17&RIGHT($D39,3)))=\"\",\"BLANK\",IF($J39=0,\"\",IF(LEN('1-Award Info'!$G$4)=7,'1-Award Info'!$G$4&$B39&$C39&\"9\"&$E39&RIGHT($D39,3),'1-Award Info'!$G$4&$C39&\"9\"&$E39&RIGHT($D39,3))))","v":"BLANK"},0,0,null,"00000",{"$f":"COUNTIF(DK$17:DK39,1)","v":0},{"$f":"IF(DL39=\"BLANk\",0,COUNTIF(DL$17:DL39,DL39))","v":0},"BLANK",null,{"$f":"$DN$14+COUNTIF(DQ$17:DQ39,\"<>BLANK\")","v":0},{"$f":"COUNTA(DO$17:DO38)+1&\"0001\"","v":"230001"},"BLANK","BLANK",0,0,{"$f":"\"20\"&RIGHT(Tables!$E$7,2)","v":"2023"},null,23,{"$f":"\"00\"&'1-Award Info'!$G$6","v":"00"},"","",1,"",{"$f":"IFERROR(\nIF(VLOOKUP(\"FY\"&RIGHT($EA39,2),'1-Award Info'!$F$28:$G$32,2,0)=0,\n     1,\n     VLOOKUP(\"FY\"&RIGHT($EA39,2),'1-Award Info'!$F$28:$G$32,2,0)),1)","v":1},"",null,""]
[null,null,null,null,null,null,null,null,null,null,0,null,null,null,null,null,null,null,null,"100024",{"$f":"COUNTIF(V$17:$V40,1)","v":1},{"$f":"COUNTIF(W$17:$W40,W40)","v":24},{"$f":"IF($K40=0,\"\",IF(LEN('1-Award Info'!$G$4)=7,'1-Award Info'!$G$4&$B40&$C40,'1-Award Info'!$G$4&$C40))","v":""},null,{"$f":"COUNTA(Y$17:Y39)+1&\"0001\"","v":"240001"},"",null,"100024",{"$f":"COUNTIF($AD$17:AD40,AD40)","v":1},{"$f":"COUNTIF($AE$17:AE40,AE40)","v":24},"",null,{"$f":"COUNTA(AG$17:AG39)+1&\"0001\"","v":"240001"},"",null,"BLANK",{"$f":"IF(IF($F40=0,\"\",IF(LEN('1-Award Info'!$G$4)=7,'1-Award Info'!$G$4&$B40&$C40&\"9\"&E40&RIGHT($D40,3),'1-Award Info'!$G$4&$C40&\"9\"&E40&RIGHT($D40,3)))=\"\",\"BLANK\",IF($F40=0,\"\",IF(LEN('1-Award Info'!$G$4)=7,'1-Award Info'!$G$4&$B40&$C40&\"9\"&E40&RIGHT($D40,3),'1-Award Info'!$G$4&$C40&\"9\"&E40&RIGHT($D40,3))))","v":"BLANK"},0,0,null,"00000",{"$f":"COUNTIF(AQ$17:AQ40,1)","v":0},{"$f":"IF(AR40=\"BLANK\",0,COUNTIF(AR$17:AR40,AR40))","v":0},"BLANK",null,{"$f":"$AT$14+COUNTIF(AV$17:AV40,\"<>BLANK\")","v":0},{"$f":"COUNTA(AU$17:AU39)+1&\"0001\"","v":"240001"},"BLANK","BLANK",0,0,{"$f":"\"20\"&RIGHT(Tables!$E$3,2)","v":"2019"},null,"BLANK",{"$f":"IF(IF($G40=0,\"\",IF(LEN('1-Award Info'!$G$4)=7,'1-Award Info'!$G$4&$B40&$C40&\"9\"&E40&RIGHT($D40,3),'1-Award Info'!$G$4&$C40&\"9\"&E40&RIGHT($D40,3)))=\"\",\"BLANK\",IF($G40=0,\"\",IF(LEN('1-Award Info'!$G$4)=7,'1-Award Info'!$G$4&$B40&$C40&\"9\"&E40&RIGHT($D40,3),'1-Award Info'!$G$4&$C40&\"9\"&E40&RIGHT($D40,3))))","v":"BLANK"},0,0,null,"00000",{"$f":"COUNTIF(BI$17:BI40,1)","v":0},{"$f":"IF(BJ40=\"BLANk\",0,COUNTIF(BJ$17:BJ40,BJ40))","v":0},"BLANK",null,{"$f":"$BL$14+COUNTIF(BO$17:BO40,\"<>BLANK\")","v":0},{"$f":"COUNTA(BM$17:BM39)+1&\"0001\"","v":"240001"},"BLANK","BLANK",0,6,{"$f":"\"20\"&RIGHT(Tables!$E$4,2)","v":"2020"},null,"BLANK",{"$f":"IF(IF($H40=0,\"\",IF(LEN('1-Award Info'!$G$4)=7,'1-Award Info'!$G$4&$B40&$C40&\"9\"&E40&RIGHT($D40,3),'1-Award Info'!$G$4&$C40&\"9\"&E40&RIGHT($D40,3)))=\"\",\"BLANK\",IF($H40=0,\"\",IF(LEN('1-Award Info'!$G$4)=7,'1-Award Info'!$G$4&$B40&$C40&\"9\"&E40&RIGHT($D40,3),'1-Award Info'!$G$4&$C40&\"9\"&E40&RIGHT($D40,3))))","v":"BLANK"},0,0,null,"00000",{"$f":"COUNTIF(CA$17:CA40,1)","v":0},{"$f":"IF(CB40=\"BLANk\",0,COUNTIF(CB$17:CB40,CB40))","v":0},"BLANK",null,{"$f":"$CD$14+COUNTIF(CG$17:CG40,\"<>BLANK\")","v":0},{"$f":"COUNTA(CE$17:CE39)+1&\"0001\"","v":"240001"},"BLANK","BLANK",0,0,{"$f":"\"20\"&RIGHT(Tables!$E$5,2)","v":"2021"},null,"BLANK",{"$f":"IF(IF($I40=0,\"\",IF(LEN('1-Award Info'!$G$4)=7,'1-Award Info'!$G$4&$B40&$C40&\"9\"&$E40&RIGHT($D40,3),'1-Award Info'!$G$4&$C40&\"9\"&E$17&RIGHT($D40,3)))=\"\",\"BLANK\",IF($I40=0,\"\",IF(LEN('1-Award Info'!$G$4)=7,'1-Award Info'!$G$4&$B40&$C40&\"9\"&$E40&RIGHT($D40,3),'1-Award Info'!$G$4&$C40&\"9\"&$E40&RIGHT($D40,3))))","v":"BLANK"},0,0,null,"00000",{"$f":"COUNTIF(CS$17:CS40,1)","v":0},{"$f":"IF(CT40=\"BLANk\",0,COUNTIF(CT$17:CT40,CT40))","v":0},"BLANK",null,{"$f":"$CV$14+COUNTIF(CY$17:CY40,\"<>BLANK\")","v":0},{"$f":"COUNTA(CW$17:CW39)+1&\"0001\"","v":"240001"},"BLANK","BLANK",0,0,{"$f":"\"20\"&RIGHT(Tables!$E$6,2)","v":"2022"},null,"BLANK",{"$f":"IF(IF($J40=0,\"\",IF(LEN('1-Award Info'!$G$4)=7,'1-Award Info'!$G$4&$B40&$C40&\"9\"&$E40&RIGHT($D40,3),'1-Award Info'!$G$4&$C40&\"9\"&W$17&RIGHT($D40,3)))=\"\",\"BLANK\",IF($J40=0,\"\",IF(LEN('1-Award Info'!$G$4)=7,'1-Award Info'!$G$4&$B40&$C40&\"9\"&$E40&RIGHT($D40,3),'1-Award Info'!$G$4&$C40&\"9\"&$E40&RIGHT($D40,3))))","v":"BLANK"},0,0,null,"00000",{"$f":"COUNTIF(DK$17:DK40,1)","v":0},{"$f":"IF(DL40=\"BLANk\",0,COUNTIF(DL$17:DL40,DL40))","v":0},"BLANK",null,{"$f":"$DN$14+COUNTIF(DQ$17:DQ40,\"<>BLANK\")","v":0},{"$f":"COUNTA(DO$17:DO39)+1&\"0001\"","v":"240001"},"BLANK","BLANK",0,0,{"$f":"\"20\"&RIGHT(Tables!$E$7,2)","v":"2023"},null,24,{"$f":"\"00\"&'1-Award Info'!$G$6","v":"00"},"","",1,"",{"$f":"IFERROR(\nIF(VLOOKUP(\"FY\"&RIGHT($EA40,2),'1-Award Info'!$F$28:$G$32,2,0)=0,\n     1,\n     VLOOKUP(\"FY\"&RIGHT($EA40,2),'1-Award Info'!$F$28:$G$32,2,0)),1)","v":1},"",null,""]
[null,null,null,null,null,null,null,null,null,null,0,null,null,null,null,null,null,null,null,{"$f":"U41&\"000\"&V41","v":"100025"},{"$f":"COUNTIF(V$17:$V41,1)","v":1},{"$f":"COUNTIF(W$17:$W41,W41)","v":25},{"$f":"IF($K41=0,\"\",IF(LEN('1-Award Info'!$G$4)=7,'1-Award Info'!$G$4&$B41&$C41,'1-Award Info'!$G$4&$C41))","v":""},null,{"$f":"COUNTA(Y$17:Y40)+1&\"0001\"","v":"250001"},"",null,{"$f":"AC41&\"000\"&AD41","v":"100025"},{"$f":"COUNTIF($AD$17:AD41,AD41)","v":1},{"$f":"COUNTIF($AE$17:AE41,AE41)","v":25},{"$f":"IF(K41=0,\"\",B41)","v":""},null,{"$f":"COUNTA(AG$17:AG40)+1&\"0001\"","v":"250001"},"",null,{"$f":"IF(AK41=\"BLANK\",\"BLANK\",\"Z\"&AK41)","v":"BLANK"},{"$f":"IF(IF($F41=0,\"\",IF(LEN('1-Award Info'!$G$4)=7,'1-Award Info'!$G$4&$B41&$C41&\"9\"&E41&RIGHT($D41,3),'1-Award Info'!$G$4&$C41&\"9\"&E41&RIGHT($D41,3)))=\"\",\"BLANK\",IF($F41=0,\"\",IF(LEN('1-Award Info'!$G$4)=7,'1-Award Info'!$G$4&$B41&$C41&\"9\"&E41&RIGHT($D41,3),'1-Award Info'!$G$4&$C41&\"9\"&E41&RIGHT($D41,3))))","v":"BLANK"},0,0,null,{"$f":"AP41&\"000\"&AQ41","v":"00000"},{"$f":"COUNTIF(AQ$17:AQ41,1)","v":0},{"$f":"IF(AR41=\"BLANK\",0,COUNTIF(AR$17:AR41,AR41))","v":0},{"$f":"IF(LEFT(AJ41,1)=\"Z\",\"Z\"&AK41,\"BLANK\")","v":"BLANK"},null,{"$f":"$AT$14+COUNTIF(AV$17:AV41,\"<>BLANK\")","v":0},{"$f":"COUNTA(AU$17:AU40)+1&\"0001\"","v":"250001"},"BLANK",{"$f":"RIGHT(AV41,20)","v":"BLANK"},0,0,{"$f":"\"20\"&RIGHT(Tables!$E$3,2)","v":"2019"},null,{"$f":"IF(BC41=\"BLANK\",\"BLANK\",\"Z\"&BC41)","v":"BLANK"},{"$f":"IF(IF($G41=0,\"\",IF(LEN('1-Award Info'!$G$4)=7,'1-Award Info'!$G$4&$B41&$C41&\"9\"&E41&RIGHT($D41,3),'1-Award Info'!$G$4&$C41&\"9\"&E41&RIGHT($D41,3)))=\"\",\"BLANK\",IF($G41=0,\"\",IF(LEN('1-Award Info'!$G$4)=7,'1-Award Info'!$G$4&$B41&$C41&\"9\"&E41&RIGHT($D41,3),'1-Award Info'!$G$4&$C41&\"9\"&E41&RIGHT($D41,3))))","v":"BLANK"},0,0,null,{"$f":"BH41&\"000\"&BI41","v":"00000"},{"$f":"COUNTIF(BI$17:BI41,1)","v":0},{"$f":"IF(BJ41=\"BLANk\",0,COUNTIF(BJ$17:BJ41,BJ41))","v":0},{"$f":"IF(LEFT(BB41,1)=\"Z\",\"Z\"&BC41,\"BLANK\")","v":"BLANK"},null,{"$f":"$BL$14+COUNTIF(BO$17:BO41,\"<>BLANK\")","v":0},{"$f":"COUNTA(BM$17:BM40)+1&\"0001\"","v":"250001"},"BLANK",{"$f":"RIGHT(BN41,20)","v":"BLANK"},0,6,{"$f":"\"20\"&RIGHT(Tables!$E$4,2)","v":"2020"},null,{"$f":"IF(BU41=\"BLANK\",\"BLANK\",\"Z\"&BU41)","v":"BLANK"},{"$f":"IF(IF($H41=0,\"\",IF(LEN('1-Award Info'!$G$4)=7,'1-Award Info'!$G$4&$B41&$C41&\"9\"&E41&RIGHT($D41,3),'1-Award Info'!$G$4&$C41&\"9\"&E41&RIGHT($D41,3)))=\"\",\"BLANK\",IF($H41=0,\"\",IF(LEN('1-Award Info'!$G$4)=7,'1-Award Info'!$G$4&$B41&$C41&\"9\"&E41&RIGHT($D41,3),'1-Award Info'!$G$4&$C41&\"9\"&E41&RIGHT($D41,3))))","v":"BLANK"},0,0,null,{"$f":"BZ41&\"000\"&CA41","v":"00000"},{"$f":"COUNTIF(CA$17:CA41,1)","v":0},{"$f":"IF(CB41=\"BLANk\",0,COUNTIF(CB$17:CB41,CB41))","v":0},{"$f":"IF(LEFT(BT41,1)=\"Z\",\"Z\"&BU41,\"BLANK\")","v":"BLANK"},null,{"$f":"$CD$14+COUNTIF(CG$17:CG41,\"<>BLANK\")","v":0},{"$f":"COUNTA(CE$17:CE40)+1&\"0001\"","v":"250001"},"BLANK",{"$f":"RIGHT(CF41,20)","v":"BLANK"},0,0,{"$f":"\"20\"&RIGHT(Tables!$E$5,2)","v":"2021"},null,"BLANK",{"$f":"IF(IF($I41=0,\"\",IF(LEN('1-Award Info'!$G$4)=7,'1-Award Info'!$G$4&$B41&$C41&\"9\"&$E41&RIGHT($D41,3),'1-Award Info'!$G$4&$C41&\"9\"&E$17&RIGHT($D41,3)))=\"\",\"BLANK\",IF($I41=0,\"\",IF(LEN('1-Award Info'!$G$4)=7,'1-Award Info'!$G$4&$B41&$C41&\"9\"&$E41&RIGHT($D41,3),'1-Award Info'!$G$4&$C41&\"9\"&$E41&RIGHT($D41,3))))","v":"BLANK"},0,0,null,"00000",{"$f":"COUNTIF(CS$17:CS41,1)","v":0},{"$f":"IF(CT41=\"BLANk\",0,COUNTIF(CT$17:CT41,CT41))","v":0},"BLANK",null,{"$f":"$CV$14+COUNTIF(CY$17:CY41,\"<>BLANK\")","v":0},{"$f":"COUNTA(CW$17:CW40)+1&\"0001\"","v":"250001"},"BLANK","BLANK",0,0,{"$f":"\"20\"&RIGHT(Tables!$E$6,2)","v":"2022"},null,"BLANK",{"$f":"IF(IF($J41=0,\"\",IF(LEN('1-Award Info'!$G$4)=7,'1-Award Info'!$G$4&$B41&$C41&\"9\"&$E41&RIGHT($D41,3),'1-Award Info'!$G$4&$C41&\"9\"&W$17&RIGHT($D41,3)))=\"\",\"BLANK\",IF($J41=0,\"\",IF(LEN('1-Award Info'!$G$4)=7,'1-Award Info'!$G$4&$B41&$C41&\"9\"&$E41&RIGHT($D41,3),'1-Award Info'!$G$4&$C41&\"9\"&$E41&RIGHT($D41,3))))","v":"BLANK"},0,0,null,"00000",{"$f":"COUNTIF(DK$17:DK41,1)","v":0},{"$f":"IF(DL41=\"BLANk\",0,COUNTIF(DL$17:DL41,DL41))","v":0},"BLANK",null,{"$f":"$DN$14+COUNTIF(DQ$17:DQ41,\"<>BLANK\")","v":0},{"$f":"COUNTA(DO$17:DO40)+1&\"0001\"","v":"250001"},"BLANK","BLANK",0,0,{"$f":"\"20\"&RIGHT(Tables!$E$7,2)","v":"2023"},null,25,{"$f":"\"00\"&'1-Award Info'!$G$6","v":"00"},"","",1,"",{"$f":"IFERROR(\nIF(VLOOKUP(\"FY\"&RIGHT($EA41,2),'1-Award Info'!$F$28:$G$32,2,0)=0,\n     1,\n     VLOOKUP(\"FY\"&RIGHT($EA41,2),'1-Award Info'!$F$28:$G$32,2,0)),1)","v":1},"",null,""]
[null,null,null,null,null,null,null,null,null,null,0,null,null,null,null,null,null,null,null,"100026",{"$f":"COUNTIF(V$17:$V42,1)","v":1},{"$f":"COUNTIF(W$17:$W42,W42)","v":26},{"$f":"IF($K42=0,\"\",IF(LEN('1-Award Info'!$G$4)=7,'1-Award Info'!$G$4&$B42&$C42,'1-Award Info'!$G$4&$C42))","v":""},null,{"$f":"COUNTA(Y$17:Y41)+1&\"0001\"","v":"260001"},"",null,"100026",{"$f":"COUNTIF($AD$17:AD42,AD42)","v":1},{"$f":"COUNTIF($AE$17:AE42,AE42)","v":26},"",null,{"$f":"COUNTA(AG$17:AG41)+1&\"0001\"","v":"260001"},"",null,"BLANK",{"$f":"IF(IF($F42=0,\"\",IF(LEN('1-Award Info'!$G$4)=7,'1-Award Info'!$G$4&$B42&$C42&\"9\"&E42&RIGHT($D42,3),'1-Award Info'!$G$4&$C42&\"9\"&E42&RIGHT($D42,3)))=\"\",\"BLANK\",IF($F42=0,\"\",IF(LEN('1-Award Info'!$G$4)=7,'1-Award Info'!$G$4&$B42&$C42&\"9\"&E42&RIGHT($D42,3),'1-Award Info'!$G$4&$C42&\"9\"&E42&RIGHT($D42,3))))","v":"BLANK"},0,0,null,"00000",{"$f":"COUNTIF(AQ$17:AQ42,1)","v":0},{"$f":"IF(AR42=\"BLANK\",0,COUNTIF(AR$17:AR42,AR42))","v":0},"BLANK",null,{"$f":"$AT$14+COUNTIF(AV$17:AV42,\"<>BLANK\")","v":0},{"$f":"COUNTA(AU$17:AU41)+1&\"0001\"","v":"260001"},"BLANK","BLANK",0,0,{"$f":"\"20\"&RIGHT(Tables!$E$3,2)","v":"2019"},null,"BLANK",{"$f":"IF(IF($G42=0,\"\",IF(LEN('1-Award Info'!$G$4)=7,'1-Award Info'!$G$4&$B42&$C42&\"9\"&E42&RIGHT($D42,3),'1-Award Info'!$G$4&$C42&\"9\"&E42&RIGHT($D42,3)))=\"\",\"BLANK\",IF($G42=0,\"\",IF(LEN('1-Award Info'!$G$4)=7,'1-Award Info'!$G$4&$B42&$C42&\"9\"&E42&RIGHT($D42,3),'1-Award Info'!$G$4&$C42&\"9\"&E42&RIGHT($D42,3))))","v":"BLANK"},0,0,null,"00000",{"$f":"COUNTIF(BI$17:BI42,1)","v":0},{"$f":"IF(BJ42=\"BLANk\",0,COUNTIF(BJ$17:BJ42,BJ42))","v":0},"BLANK",null,{"$f":"$BL$14+COUNTIF(BO$17:BO42,\"<>BLANK\")","v":0},{"$f":"COUNTA(BM$17:BM41)+1&\"0001\"","v":"260001"},"BLANK","BLANK",0,6,{"$f":"\"20\"&RIGHT(Tables!$E$4,2)","v":"2020"},null,"BLANK",{"$f":"IF(IF($H42=0,\"\",IF(LEN('1-Award Info'!$G$4)=7,'1-Award Info'!$G$4&$B42&$C42&\"9\"&E42&RIGHT($D42,3),'1-Award Info'!$G$4&$C42&\"9\"&E42&RIGHT($D42,3)))=\"\",\"BLANK\",IF($H42=0,\"\",IF(LEN('1-Award Info'!$G$4)=7,'1-Award Info'!$G$4&$B42&$C42&\"9\"&E42&RIGHT($D42,3),'1-Award Info'!$G$4&$C42&\"9\"&E42&RIGHT($D42,3))))","v":"BLANK"},0,0,null,"00000",{"$f":"COUNTIF(CA$17:CA42,1)","v":0},{"$f":"IF(CB42=\"BLANk\",0,COUNTIF(CB$17:CB42,CB42))","v":0},"BLANK",null,{"$f":"$CD$14+COUNTIF(CG$17:CG42,\"<>BLANK\")","v":0},{"$f":"COUNTA(CE$17:CE41)+1&\"0001\"","v":"260001"},"BLANK","BLANK",0,0,{"$f":"\"20\"&RIGHT(Tables!$E$5,2)","v":"2021"},null,"BLANK",{"$f":"IF(IF($I42=0,\"\",IF(LEN('1-Award Info'!$G$4)=7,'1-Award Info'!$G$4&$B42&$C42&\"9\"&$E42&RIGHT($D42,3),'1-Award Info'!$G$4&$C42&\"9\"&E$17&RIGHT($D42,3)))=\"\",\"BLANK\",IF($I42=0,\"\",IF(LEN('1-Award Info'!$G$4)=7,'1-Award Info'!$G$4&$B42&$C42&\"9\"&$E42&RIGHT($D42,3),'1-Award Info'!$G$4&$C42&\"9\"&$E42&RIGHT($D42,3))))","v":"BLANK"},0,0,null,"00000",{"$f":"COUNTIF(CS$17:CS42,1)","v":0},{"$f":"IF(CT42=\"BLANk\",0,COUNTIF(CT$17:CT42,CT42))","v":0},"BLANK",null,{"$f":"$CV$14+COUNTIF(CY$17:CY42,\"<>BLANK\")","v":0},{"$f":"COUNTA(CW$17:CW41)+1&\"0001\"","v":"260001"},"BLANK","BLANK",0,0,{"$f":"\"20\"&RIGHT(Tables!$E$6,2)","v":"2022"},null,"BLANK",{"$f":"IF(IF($J42=0,\"\",IF(LEN('1-Award Info'!$G$4)=7,'1-Award Info'!$G$4&$B42&$C42&\"9\"&$E42&RIGHT($D42,3),'1-Award Info'!$G$4&$C42&\"9\"&W$17&RIGHT($D42,3)))=\"\",\"BLANK\",IF($J42=0,\"\",IF(LEN('1-Award Info'!$G$4)=7,'1-Award Info'!$G$4&$B42&$C42&\"9\"&$E42&RIGHT($D42,3),'1-Award Info'!$G$4&$C42&\"9\"&$E42&RIGHT($D42,3))))","v":"BLANK"},0,0,null,"00000",{"$f":"COUNTIF(DK$17:DK42,1)","v":0},{"$f":"IF(DL42=\"BLANk\",0,COUNTIF(DL$17:DL42,DL42))","v":0},"BLANK",null,{"$f":"$DN$14+COUNTIF(DQ$17:DQ42,\"<>BLANK\")","v":0},{"$f":"COUNTA(DO$17:DO41)+1&\"0001\"","v":"260001"},"BLANK","BLANK",0,0,{"$f":"\"20\"&RIGHT(Tables!$E$7,2)","v":"2023"},null,26,{"$f":"\"00\"&'1-Award Info'!$G$6","v":"00"},"","",1,"",{"$f":"IFERROR(\nIF(VLOOKUP(\"FY\"&RIGHT($EA42,2),'1-Award Info'!$F$28:$G$32,2,0)=0,\n     1,\n     VLOOKUP(\"FY\"&RIGHT($EA42,2),'1-Award Info'!$F$28:$G$32,2,0)),1)","v":1},"",null,""]
[null,null,null,null,null,null,null,null,null,null,0,null,null,null,null,null,null,null,null,"100027",{"$f":"COUNTIF(V$17:$V43,1)","v":1},{"$f":"COUNTIF(W$17:$W43,W43)","v":27},{"$f":"IF($K43=0,\"\",IF(LEN('1-Award Info'!$G$4)=7,'1-Award Info'!$G$4&$B43&$C43,'1-Award Info'!$G$4&$C43))","v":""},null,{"$f":"COUNTA(Y$17:Y42)+1&\"0001\"","v":"270001"},"",null,"100027",{"$f":"COUNTIF($AD$17:AD43,AD43)","v":1},{"$f":"COUNTIF($AE$17:AE43,AE43)","v":27},"",null,{"$f":"COUNTA(AG$17:AG42)+1&\"0001\"","v":"270001"},"",null,"BLANK",{"$f":"IF(IF($F43=0,\"\",IF(LEN('1-Award Info'!$G$4)=7,'1-Award Info'!$G$4&$B43&$C43&\"9\"&E43&RIGHT($D43,3),'1-Award Info'!$G$4&$C43&\"9\"&E43&RIGHT($D43,3)))=\"\",\"BLANK\",IF($F43=0,\"\",IF(LEN('1-Award Info'!$G$4)=7,'1-Award Info'!$G$4&$B43&$C43&\"9\"&E43&RIGHT($D43,3),'1-Award Info'!$G$4&$C43&\"9\"&E43&RIGHT($D43,3))))","v":"BLANK"},0,0,null,"00000",{"$f":"COUNTIF(AQ$17:AQ43,1)","v":0},{"$f":"IF(AR43=\"BLANK\",0,COUNTIF(AR$17:AR43,AR43))","v":0},"BLANK",null,{"$f":"$AT$14+COUNTIF(AV$17:AV43,\"<>BLANK\")","v":0},{"$f":"COUNTA(AU$17:AU42)+1&\"0001\"","v":"270001"},"BLANK","BLANK",0,0,{"$f":"\"20\"&RIGHT(Tables!$E$3,2)","v":"2019"},null,"BLANK",{"$f":"IF(IF($G43=0,\"\",IF(LEN('1-Award Info'!$G$4)=7,'1-Award Info'!$G$4&$B43&$C43&\"9\"&E43&RIGHT($D43,3),'1-Award Info'!$G$4&$C43&\"9\"&E43&RIGHT($D43,3)))=\"\",\"BLANK\",IF($G43=0,\"\",IF(LEN('1-Award Info'!$G$4)=7,'1-Award Info'!$G$4&$B43&$C43&\"9\"&E43&RIGHT($D43,3),'1-Award Info'!$G$4&$C43&\"9\"&E43&RIGHT($D43,3))))","v":"BLANK"},0,0,null,"00000",{"$f":"COUNTIF(BI$17:BI43,1)","v":0},{"$f":"IF(BJ43=\"BLANk\",0,COUNTIF(BJ$17:BJ43,BJ43))","v":0},"BLANK",null,{"$f":"$BL$14+COUNTIF(BO$17:BO43,\"<>BLANK\")","v":0},{"$f":"COUNTA(BM$17:BM42)+1&\"0001\"","v":"270001"},"BLANK","BLANK",0,6,{"$f":"\"20\"&RIGHT(Tables!$E$4,2)","v":"2020"},null,"BLANK",{"$f":"IF(IF($H43=0,\"\",IF(LEN('1-Award Info'!$G$4)=7,'1-Award Info'!$G$4&$B43&$C43&\"9\"&E43&RIGHT($D43,3),'1-Award Info'!$G$4&$C43&\"9\"&E43&RIGHT($D43,3)))=\"\",\"BLANK\",IF($H43=0,\"\",IF(LEN('1-Award Info'!$G$4)=7,'1-Award Info'!$G$4&$B43&$C43&\"9\"&E43&RIGHT($D43,3),'1-Award Info'!$G$4&$C43&\"9\"&E43&RIGHT($D43,3))))","v":"BLANK"},0,0,null,"00000",{"$f":"COUNTIF(CA$17:CA43,1)","v":0},{"$f":"IF(CB43=\"BLANk\",0,COUNTIF(CB$17:CB43,CB43))","v":0},"BLANK",null,{"$f":"$CD$14+COUNTIF(CG$17:CG43,\"<>BLANK\")","v":0},{"$f":"COUNTA(CE$17:CE42)+1&\"0001\"","v":"270001"},"BLANK","BLANK",0,0,{"$f":"\"20\"&RIGHT(Tables!$E$5,2)","v":"2021"},null,"BLANK",{"$f":"IF(IF($I43=0,\"\",IF(LEN('1-Award Info'!$G$4)=7,'1-Award Info'!$G$4&$B43&$C43&\"9\"&$E43&RIGHT($D43,3),'1-Award Info'!$G$4&$C43&\"9\"&E$17&RIGHT($D43,3)))=\"\",\"BLANK\",IF($I43=0,\"\",IF(LEN('1-Award Info'!$G$4)=7,'1-Award Info'!$G$4&$B43&$C43&\"9\"&$E43&RIGHT($D43,3),'1-Award Info'!$G$4&$C43&\"9\"&$E43&RIGHT($D43,3))))","v":"BLANK"},0,0,null,"00000",{"$f":"COUNTIF(CS$17:CS43,1)","v":0},{"$f":"IF(CT43=\"BLANk\",0,COUNTIF(CT$17:CT43,CT43))","v":0},"BLANK",null,{"$f":"$CV$14+COUNTIF(CY$17:CY43,\"<>BLANK\")","v":0},{"$f":"COUNTA(CW$17:CW42)+1&\"0001\"","v":"270001"},"BLANK","BLANK",0,0,{"$f":"\"20\"&RIGHT(Tables!$E$6,2)","v":"2022"},null,"BLANK",{"$f":"IF(IF($J43=0,\"\",IF(LEN('1-Award Info'!$G$4)=7,'1-Award Info'!$G$4&$B43&$C43&\"9\"&$E43&RIGHT($D43,3),'1-Award Info'!$G$4&$C43&\"9\"&W$17&RIGHT($D43,3)))=\"\",\"BLANK\",IF($J43=0,\"\",IF(LEN('1-Award Info'!$G$4)=7,'1-Award Info'!$G$4&$B43&$C43&\"9\"&$E43&RIGHT($D43,3),'1-Award Info'!$G$4&$C43&\"9\"&$E43&RIGHT($D43,3))))","v":"BLANK"},0,0,null,"00000",{"$f":"COUNTIF(DK$17:DK43,1)","v":0},{"$f":"IF(DL43=\"BLANk\",0,COUNTIF(DL$17:DL43,DL43))","v":0},"BLANK",null,{"$f":"$DN$14+COUNTIF(DQ$17:DQ43,\"<>BLANK\")","v":0},{"$f":"COUNTA(DO$17:DO42)+1&\"0001\"","v":"270001"},"BLANK","BLANK",0,0,{"$f":"\"20\"&RIGHT(Tables!$E$7,2)","v":"2023"},null,27,{"$f":"\"00\"&'1-Award Info'!$G$6","v":"00"},"","",1,"",{"$f":"IFERROR(\nIF(VLOOKUP(\"FY\"&RIGHT($EA43,2),'1-Award Info'!$F$28:$G$32,2,0)=0,\n     1,\n     VLOOKUP(\"FY\"&RIGHT($EA43,2),'1-Award Info'!$F$28:$G$32,2,0)),1)","v":1},"",null,""]
[null,null,null,null,null,null,null,null,null,null,0,null,null,null,null,null,null,null,null,"100028",{"$f":"COUNTIF(V$17:$V44,1)","v":1},{"$f":"COUNTIF(W$17:$W44,W44)","v":28},{"$f":"IF($K44=0,\"\",IF(LEN('1-Award Info'!$G$4)=7,'1-Award Info'!$G$4&$B44&$C44,'1-Award Info'!$G$4&$C44))","v":""},null,{"$f":"COUNTA(Y$17:Y43)+1&\"0001\"","v":"280001"},"",null,"100028",{"$f":"COUNTIF($AD$17:AD44,AD44)","v":1},{"$f":"COUNTIF($AE$17:AE44,AE44)","v":28},"",null,{"$f":"COUNTA(AG$17:AG43)+1&\"0001\"","v":"280001"},"",null,"BLANK",{"$f":"IF(IF($F44=0,\"\",IF(LEN('1-Award Info'!$G$4)=7,'1-Award Info'!$G$4&$B44&$C44&\"9\"&E44&RIGHT($D44,3),'1-Award Info'!$G$4&$C44&\"9\"&E44&RIGHT($D44,3)))=\"\",\"BLANK\",IF($F44=0,\"\",IF(LEN('1-Award Info'!$G$4)=7,'1-Award Info'!$G$4&$B44&$C44&\"9\"&E44&RIGHT($D44,3),'1-Award Info'!$G$4&$C44&\"9\"&E44&RIGHT($D44,3))))","v":"BLANK"},0,0,null,"00000",{"$f":"COUNTIF(AQ$17:AQ44,1)","v":0},{"$f":"IF(AR44=\"BLANK\",0,COUNTIF(AR$17:AR44,AR44))","v":0},"BLANK",null,{"$f":"$AT$14+COUNTIF(AV$17:AV44,\"<>BLANK\")","v":0},{"$f":"COUNTA(AU$17:AU43)+1&\"0001\"","v":"280001"},"BLANK","BLANK",0,0,{"$f":"\"20\"&RIGHT(Tables!$E$3,2)","v":"2019"},null,"BLANK",{"$f":"IF(IF($G44=0,\"\",IF(LEN('1-Award Info'!$G$4)=7,'1-Award Info'!$G$4&$B44&$C44&\"9\"&E44&RIGHT($D44,3),'1-Award Info'!$G$4&$C44&\"9\"&E44&RIGHT($D44,3)))=\"\",\"BLANK\",IF($G44=0,\"\",IF(LEN('1-Award Info'!$G$4)=7,'1-Award Info'!$G$4&$B44&$C44&\"9\"&E44&RIGHT($D44,3),'1-Award Info'!$G$4&$C44&\"9\"&E44&RIGHT($D44,3))))","v":"BLANK"},0,0,null,"00000",{"$f":"COUNTIF(BI$17:BI44,1)","v":0},{"$f":"IF(BJ44=\"BLANk\",0,COUNTIF(BJ$17:BJ44,BJ44))","v":0},"BLANK",null,{"$f":"$BL$14+COUNTIF(BO$17:BO44,\"<>BLANK\")","v":0},{"$f":"COUNTA(BM$17:BM43)+1&\"0001\"","v":"280001"},"BLANK","BLANK",0,6,{"$f":"\"20\"&RIGHT(Tables!$E$4,2)","v":"2020"},null,"BLANK",{"$f":"IF(IF($H44=0,\"\",IF(LEN('1-Award Info'!$G$4)=7,'1-Award Info'!$G$4&$B44&$C44&\"9\"&E44&RIGHT($D44,3),'1-Award Info'!$G$4&$C44&\"9\"&E44&RIGHT($D44,3)))=\"\",\"BLANK\",IF($H44=0,\"\",IF(LEN('1-Award Info'!$G$4)=7,'1-Award Info'!$G$4&$B44&$C44&\"9\"&E44&RIGHT($D44,3),'1-Award Info'!$G$4&$C44&\"9\"&E44&RIGHT($D44,3))))","v":"BLANK"},0,0,null,"00000",{"$f":"COUNTIF(CA$17:CA44,1)","v":0},{"$f":"IF(CB44=\"BLANk\",0,COUNTIF(CB$17:CB44,CB44))","v":0},"BLANK",null,{"$f":"$CD$14+COUNTIF(CG$17:CG44,\"<>BLANK\")","v":0},{"$f":"COUNTA(CE$17:CE43)+1&\"0001\"","v":"280001"},"BLANK","BLANK",0,0,{"$f":"\"20\"&RIGHT(Tables!$E$5,2)","v":"2021"},null,"BLANK",{"$f":"IF(IF($I44=0,\"\",IF(LEN('1-Award Info'!$G$4)=7,'1-Award Info'!$G$4&$B44&$C44&\"9\"&$E44&RIGHT($D44,3),'1-Award Info'!$G$4&$C44&\"9\"&E$17&RIGHT($D44,3)))=\"\",\"BLANK\",IF($I44=0,\"\",IF(LEN('1-Award Info'!$G$4)=7,'1-Award Info'!$G$4&$B44&$C44&\"9\"&$E44&RIGHT($D44,3),'1-Award Info'!$G$4&$C44&\"9\"&$E44&RIGHT($D44,3))))","v":"BLANK"},0,0,null,"00000",{"$f":"COUNTIF(CS$17:CS44,1)","v":0},{"$f":"IF(CT44=\"BLANk\",0,COUNTIF(CT$17:CT44,CT44))","v":0},"BLANK",null,{"$f":"$CV$14+COUNTIF(CY$17:CY44,\"<>BLANK\")","v":0},{"$f":"COUNTA(CW$17:CW43)+1&\"0001\"","v":"280001"},"BLANK","BLANK",0,0,{"$f":"\"20\"&RIGHT(Tables!$E$6,2)","v":"2022"},null,"BLANK",{"$f":"IF(IF($J44=0,\"\",IF(LEN('1-Award Info'!$G$4)=7,'1-Award Info'!$G$4&$B44&$C44&\"9\"&$E44&RIGHT($D44,3),'1-Award Info'!$G$4&$C44&\"9\"&W$17&RIGHT($D44,3)))=\"\",\"BLANK\",IF($J44=0,\"\",IF(LEN('1-Award Info'!$G$4)=7,'1-Award Info'!$G$4&$B44&$C44&\"9\"&$E44&RIGHT($D44,3),'1-Award Info'!$G$4&$C44&\"9\"&$E44&RIGHT($D44,3))))","v":"BLANK"},0,0,null,"00000",{"$f":"COUNTIF(DK$17:DK44,1)","v":0},{"$f":"IF(DL44=\"BLANk\",0,COUNTIF(DL$17:DL44,DL44))","v":0},"BLANK",null,{"$f":"$DN$14+COUNTIF(DQ$17:DQ44,\"<>BLANK\")","v":0},{"$f":"COUNTA(DO$17:DO43)+1&\"0001\"","v":"280001"},"BLANK","BLANK",0,0,{"$f":"\"20\"&RIGHT(Tables!$E$7,2)","v":"2023"},null,28,{"$f":"\"00\"&'1-Award Info'!$G$6","v":"00"},"","",1,"",{"$f":"IFERROR(\nIF(VLOOKUP(\"FY\"&RIGHT($EA44,2),'1-Award Info'!$F$28:$G$32,2,0)=0,\n     1,\n     VLOOKUP(\"FY\"&RIGHT($EA44,2),'1-Award Info'!$F$28:$G$32,2,0)),1)","v":1},"",null,""]
[null,null,null,null,null,null,null,null,null,null,0,null,null,null,null,null,null,null,null,"100029",{"$f":"COUNTIF(V$17:$V45,1)","v":1},{"$f":"COUNTIF(W$17:$W45,W45)","v":29},{"$f":"IF($K45=0,\"\",IF(LEN('1-Award Info'!$G$4)=7,'1-Award Info'!$G$4&$B45&$C45,'1-Award Info'!$G$4&$C45))","v":""},null,{"$f":"COUNTA(Y$17:Y44)+1&\"0001\"","v":"290001"},"",null,"100029",{"$f":"COUNTIF($AD$17:AD45,AD45)","v":1},{"$f":"COUNTIF($AE$17:AE45,AE45)","v":29},"",null,{"$f":"COUNTA(AG$17:AG44)+1&\"0001\"","v":"290001"},"",null,"BLANK",{"$f":"IF(IF($F45=0,\"\",IF(LEN('1-Award Info'!$G$4)=7,'1-Award Info'!$G$4&$B45&$C45&\"9\"&E45&RIGHT($D45,3),'1-Award Info'!$G$4&$C45&\"9\"&E45&RIGHT($D45,3)))=\"\",\"BLANK\",IF($F45=0,\"\",IF(LEN('1-Award Info'!$G$4)=7,'1-Award Info'!$G$4&$B45&$C45&\"9\"&E45&RIGHT($D45,3),'1-Award Info'!$G$4&$C45&\"9\"&E45&RIGHT($D45,3))))","v":"BLANK"},0,0,null,"00000",{"$f":"COUNTIF(AQ$17:AQ45,1)","v":0},{"$f":"IF(AR45=\"BLANK\",0,COUNTIF(AR$17:AR45,AR45))","v":0},"BLANK",null,{"$f":"$AT$14+COUNTIF(AV$17:AV45,\"<>BLANK\")","v":0},{"$f":"COUNTA(AU$17:AU44)+1&\"0001\"","v":"290001"},"BLANK","BLANK",0,0,{"$f":"\"20\"&RIGHT(Tables!$E$3,2)","v":"2019"},null,"BLANK",{"$f":"IF(IF($G45=0,\"\",IF(LEN('1-Award Info'!$G$4)=7,'1-Award Info'!$G$4&$B45&$C45&\"9\"&E45&RIGHT($D45,3),'1-Award Info'!$G$4&$C45&\"9\"&E45&RIGHT($D45,3)))=\"\",\"BLANK\",IF($G45=0,\"\",IF(LEN('1-Award Info'!$G$4)=7,'1-Award Info'!$G$4&$B45&$C45&\"9\"&E45&RIGHT($D45,3),'1-Award Info'!$G$4&$C45&\"9\"&E45&RIGHT($D45,3))))","v":"BLANK"},0,0,null,"00000",{"$f":"COUNTIF(BI$17:BI45,1)","v":0},{"$f":"IF(BJ45=\"BLANk\",0,COUNTIF(BJ$17:BJ45,BJ45))","v":0},"BLANK",null,{"$f":"$BL$14+COUNTIF(BO$17:BO45,\"<>BLANK\")","v":0},{"$f":"COUNTA(BM$17:BM44)+1&\"0001\"","v":"290001"},"BLANK","BLANK",0,6,{"$f":"\"20\"&RIGHT(Tables!$E$4,2)","v":"2020"},null,"BLANK",{"$f":"IF(IF($H45=0,\"\",IF(LEN('1-Award Info'!$G$4)=7,'1-Award Info'!$G$4&$B45&$C45&\"9\"&E45&RIGHT($D45,3),'1-Award Info'!$G$4&$C45&\"9\"&E45&RIGHT($D45,3)))=\"\",\"BLANK\",IF($H45=0,\"\",IF(LEN('1-Award Info'!$G$4)=7,'1-Award Info'!$G$4&$B45&$C45&\"9\"&E45&RIGHT($D45,3),'1-Award Info'!$G$4&$C45&\"9\"&E45&RIGHT($D45,3))))","v":"BLANK"},0,0,null,"00000",{"$f":"COUNTIF(CA$17:CA45,1)","v":0},{"$f":"IF(CB45=\"BLANk\",0,COUNTIF(CB$17:CB45,CB45))","v":0},"BLANK",null,{"$f":"$CD$14+COUNTIF(CG$17:CG45,\"<>BLANK\")","v":0},{"$f":"COUNTA(CE$17:CE44)+1&\"0001\"","v":"290001"},"BLANK","BLANK",0,0,{"$f":"\"20\"&RIGHT(Tables!$E$5,2)","v":"2021"},null,"BLANK",{"$f":"IF(IF($I45=0,\"\",IF(LEN('1-Award Info'!$G$4)=7,'1-Award Info'!$G$4&$B45&$C45&\"9\"&$E45&RIGHT($D45,3),'1-Award Info'!$G$4&$C45&\"9\"&E$17&RIGHT($D45,3)))=\"\",\"BLANK\",IF($I45=0,\"\",IF(LEN('1-Award Info'!$G$4)=7,'1-Award Info'!$G$4&$B45&$C45&\"9\"&$E45&RIGHT($D45,3),'1-Award Info'!$G$4&$C45&\"9\"&$E45&RIGHT($D45,3))))","v":"BLANK"},0,0,null,"00000",{"$f":"COUNTIF(CS$17:CS45,1)","v":0},{"$f":"IF(CT45=\"BLANk\",0,COUNTIF(CT$17:CT45,CT45))","v":0},"BLANK",null,{"$f":"$CV$14+COUNTIF(CY$17:CY45,\"<>BLANK\")","v":0},{"$f":"COUNTA(CW$17:CW44)+1&\"0001\"","v":"290001"},"BLANK","BLANK",0,0,{"$f":"\"20\"&RIGHT(Tables!$E$6,2)","v":"2022"},null,"BLANK",{"$f":"IF(IF($J45=0,\"\",IF(LEN('1-Award Info'!$G$4)=7,'1-Award Info'!$G$4&$B45&$C45&\"9\"&$E45&RIGHT($D45,3),'1-Award Info'!$G$4&$C45&\"9\"&W$17&RIGHT($D45,3)))=\"\",\"BLANK\",IF($J45=0,\"\",IF(LEN('1-Award Info'!$G$4)=7,'1-Award Info'!$G$4&$B45&$C45&\"9\"&$E45&RIGHT($D45,3),'1-Award Info'!$G$4&$C45&\"9\"&$E45&RIGHT($D45,3))))","v":"BLANK"},0,0,null,"00000",{"$f":"COUNTIF(DK$17:DK45,1)","v":0},{"$f":"IF(DL45=\"BLANk\",0,COUNTIF(DL$17:DL45,DL45))","v":0},"BLANK",null,{"$f":"$DN$14+COUNTIF(DQ$17:DQ45,\"<>BLANK\")","v":0},{"$f":"COUNTA(DO$17:DO44)+1&\"0001\"","v":"290001"},"BLANK","BLANK",0,0,{"$f":"\"20\"&RIGHT(Tables!$E$7,2)","v":"2023"},null,29,{"$f":"\"00\"&'1-Award Info'!$G$6","v":"00"},"","",1,"",{"$f":"IFERROR(\nIF(VLOOKUP(\"FY\"&RIGHT($EA45,2),'1-Award Info'!$F$28:$G$32,2,0)=0,\n     1,\n     VLOOKUP(\"FY\"&RIGHT($EA45,2),'1-Award Info'!$F$28:$G$32,2,0)),1)","v":1},"",null,""]
[null,null,null,null,null,null,null,null,null,null,0,null,null,null,null,null,null,null,null,"100030",{"$f":"COUNTIF(V$17:$V46,1)","v":1},{"$f":"COUNTIF(W$17:$W46,W46)","v":30},{"$f":"IF($K46=0,\"\",IF(LEN('1-Award Info'!$G$4)=7,'1-Award Info'!$G$4&$B46&$C46,'1-Award Info'!$G$4&$C46))","v":""},null,{"$f":"COUNTA(Y$17:Y45)+1&\"0001\"","v":"300001"},"",null,"100030",{"$f":"COUNTIF($AD$17:AD46,AD46)","v":1},{"$f":"COUNTIF($AE$17:AE46,AE46)","v":30},"",null,{"$f":"COUNTA(AG$17:AG45)+1&\"0001\"","v":"300001"},"",null,"BLANK",{"$f":"IF(IF($F46=0,\"\",IF(LEN('1-Award Info'!$G$4)=7,'1-Award Info'!$G$4&$B46&$C46&\"9\"&E46&RIGHT($D46,3),'1-Award Info'!$G$4&$C46&\"9\"&E46&RIGHT($D46,3)))=\"\",\"BLANK\",IF($F46=0,\"\",IF(LEN('1-Award Info'!$G$4)=7,'1-Award Info'!$G$4&$B46&$C46&\"9\"&E46&RIGHT($D46,3),'1-Award Info'!$G$4&$C46&\"9\"&E46&RIGHT($D46,3))))","v":"BLANK"},0,0,null,"00000",{"$f":"COUNTIF(AQ$17:AQ46,1)","v":0},{"$f":"IF(AR46=\"BLANK\",0,COUNTIF(AR$17:AR46,AR46))","v":0},"BLANK",null,{"$f":"$AT$14+COUNTIF(AV$17:AV46,\"<>BLANK\")","v":0},{"$f":"COUNTA(AU$17:AU45)+1&\"0001\"","v":"300001"},"BLANK","BLANK",0,0,{"$f":"\"20\"&RIGHT(Tables!$E$3,2)","v":"2019"},null,"BLANK",{"$f":"IF(IF($G46=0,\"\",IF(LEN('1-Award Info'!$G$4)=7,'1-Award Info'!$G$4&$B46&$C46&\"9\"&E46&RIGHT($D46,3),'1-Award Info'!$G$4&$C46&\"9\"&E46&RIGHT($D46,3)))=\"\",\"BLANK\",IF($G46=0,\"\",IF(LEN('1-Award Info'!$G$4)=7,'1-Award Info'!$G$4&$B46&$C46&\"9\"&E46&RIGHT($D46,3),'1-Award Info'!$G$4&$C46&\"9\"&E46&RIGHT($D46,3))))","v":"BLANK"},0,0,null,"00000",{"$f":"COUNTIF(BI$17:BI46,1)","v":0},{"$f":"IF(BJ46=\"BLANk\",0,COUNTIF(BJ$17:BJ46,BJ46))","v":0},"BLANK",null,{"$f":"$BL$14+COUNTIF(BO$17:BO46,\"<>BLANK\")","v":0},{"$f":"COUNTA(BM$17:BM45)+1&\"0001\"","v":"300001"},"BLANK","BLANK",0,6,{"$f":"\"20\"&RIGHT(Tables!$E$4,2)","v":"2020"},null,"BLANK",{"$f":"IF(IF($H46=0,\"\",IF(LEN('1-Award Info'!$G$4)=7,'1-Award Info'!$G$4&$B46&$C46&\"9\"&E46&RIGHT($D46,3),'1-Award Info'!$G$4&$C46&\"9\"&E46&RIGHT($D46,3)))=\"\",\"BLANK\",IF($H46=0,\"\",IF(LEN('1-Award Info'!$G$4)=7,'1-Award Info'!$G$4&$B46&$C46&\"9\"&E46&RIGHT($D46,3),'1-Award Info'!$G$4&$C46&\"9\"&E46&RIGHT($D46,3))))","v":"BLANK"},0,0,null,"00000",{"$f":"COUNTIF(CA$17:CA46,1)","v":0},{"$f":"IF(CB46=\"BLANk\",0,COUNTIF(CB$17:CB46,CB46))","v":0},"BLANK",null,{"$f":"$CD$14+COUNTIF(CG$17:CG46,\"<>BLANK\")","v":0},{"$f":"COUNTA(CE$17:CE45)+1&\"0001\"","v":"300001"},"BLANK","BLANK",0,0,{"$f":"\"20\"&RIGHT(Tables!$E$5,2)","v":"2021"},null,"BLANK",{"$f":"IF(IF($I46=0,\"\",IF(LEN('1-Award Info'!$G$4)=7,'1-Award Info'!$G$4&$B46&$C46&\"9\"&$E46&RIGHT($D46,3),'1-Award Info'!$G$4&$C46&\"9\"&E$17&RIGHT($D46,3)))=\"\",\"BLANK\",IF($I46=0,\"\",IF(LEN('1-Award Info'!$G$4)=7,'1-Award Info'!$G$4&$B46&$C46&\"9\"&$E46&RIGHT($D46,3),'1-Award Info'!$G$4&$C46&\"9\"&$E46&RIGHT($D46,3))))","v":"BLANK"},0,0,null,"00000",{"$f":"COUNTIF(CS$17:CS46,1)","v":0},{"$f":"IF(CT46=\"BLANk\",0,COUNTIF(CT$17:CT46,CT46))","v":0},"BLANK",null,{"$f":"$CV$14+COUNTIF(CY$17:CY46,\"<>BLANK\")","v":0},{"$f":"COUNTA(CW$17:CW45)+1&\"0001\"","v":"300001"},"BLANK","BLANK",0,0,{"$f":"\"20\"&RIGHT(Tables!$E$6,2)","v":"2022"},null,"BLANK",{"$f":"IF(IF($J46=0,\"\",IF(LEN('1-Award Info'!$G$4)=7,'1-Award Info'!$G$4&$B46&$C46&\"9\"&$E46&RIGHT($D46,3),'1-Award Info'!$G$4&$C46&\"9\"&W$17&RIGHT($D46,3)))=\"\",\"BLANK\",IF($J46=0,\"\",IF(LEN('1-Award Info'!$G$4)=7,'1-Award Info'!$G$4&$B46&$C46&\"9\"&$E46&RIGHT($D46,3),'1-Award Info'!$G$4&$C46&\"9\"&$E46&RIGHT($D46,3))))","v":"BLANK"},0,0,null,"00000",{"$f":"COUNTIF(DK$17:DK46,1)","v":0},{"$f":"IF(DL46=\"BLANk\",0,COUNTIF(DL$17:DL46,DL46))","v":0},"BLANK",null,{"$f":"$DN$14+COUNTIF(DQ$17:DQ46,\"<>BLANK\")","v":0},{"$f":"COUNTA(DO$17:DO45)+1&\"0001\"","v":"300001"},"BLANK","BLANK",0,0,{"$f":"\"20\"&RIGHT(Tables!$E$7,2)","v":"2023"},null,30,{"$f":"\"00\"&'1-Award Info'!$G$6","v":"00"},"","",1,"",{"$f":"IFERROR(\nIF(VLOOKUP(\"FY\"&RIGHT($EA46,2),'1-Award Info'!$F$28:$G$32,2,0)=0,\n     1,\n     VLOOKUP(\"FY\"&RIGHT($EA46,2),'1-Award Info'!$F$28:$G$32,2,0)),1)","v":1},"",null,""]
[null,null,null,null,null,null,null,null,null,null,0,null,null,null,null,null,null,null,null,"100031",{"$f":"COUNTIF(V$17:$V47,1)","v":1},{"$f":"COUNTIF(W$17:$W47,W47)","v":31},{"$f":"IF($K47=0,\"\",IF(LEN('1-Award Info'!$G$4)=7,'1-Award Info'!$G$4&$B47&$C47,'1-Award Info'!$G$4&$C47))","v":""},null,{"$f":"COUNTA(Y$17:Y46)+1&\"0001\"","v":"310001"},"",null,"100031",{"$f":"COUNTIF($AD$17:AD47,AD47)","v":1},{"$f":"COUNTIF($AE$17:AE47,AE47)","v":31},"",null,{"$f":"COUNTA(AG$17:AG46)+1&\"0001\"","v":"310001"},"",null,"BLANK",{"$f":"IF(IF($F47=0,\"\",IF(LEN('1-Award Info'!$G$4)=7,'1-Award Info'!$G$4&$B47&$C47&\"9\"&E47&RIGHT($D47,3),'1-Award Info'!$G$4&$C47&\"9\"&E47&RIGHT($D47,3)))=\"\",\"BLANK\",IF($F47=0,\"\",IF(LEN('1-Award Info'!$G$4)=7,'1-Award Info'!$G$4&$B47&$C47&\"9\"&E47&RIGHT($D47,3),'1-Award Info'!$G$4&$C47&\"9\"&E47&RIGHT($D47,3))))","v":"BLANK"},0,0,null,"00000",{"$f":"COUNTIF(AQ$17:AQ47,1)","v":0},{"$f":"IF(AR47=\"BLANK\",0,COUNTIF(AR$17:AR47,AR47))","v":0},"BLANK",null,{"$f":"$AT$14+COUNTIF(AV$17:AV47,\"<>BLANK\")","v":0},{"$f":"COUNTA(AU$17:AU46)+1&\"0001\"","v":"310001"},"BLANK","BLANK",0,0,{"$f":"\"20\"&RIGHT(Tables!$E$3,2)","v":"2019"},null,"BLANK",{"$f":"IF(IF($G47=0,\"\",IF(LEN('1-Award Info'!$G$4)=7,'1-Award Info'!$G$4&$B47&$C47&\"9\"&E47&RIGHT($D47,3),'1-Award Info'!$G$4&$C47&\"9\"&E47&RIGHT($D47,3)))=\"\",\"BLANK\",IF($G47=0,\"\",IF(LEN('1-Award Info'!$G$4)=7,'1-Award Info'!$G$4&$B47&$C47&\"9\"&E47&RIGHT($D47,3),'1-Award Info'!$G$4&$C47&\"9\"&E47&RIGHT($D47,3))))","v":"BLANK"},0,0,null,"00000",{"$f":"COUNTIF(BI$17:BI47,1)","v":0},{"$f":"IF(BJ47=\"BLANk\",0,COUNTIF(BJ$17:BJ47,BJ47))","v":0},"BLANK",null,{"$f":"$BL$14+COUNTIF(BO$17:BO47,\"<>BLANK\")","v":0},{"$f":"COUNTA(BM$17:BM46)+1&\"0001\"","v":"310001"},"BLANK","BLANK",0,6,{"$f":"\"20\"&RIGHT(Tables!$E$4,2)","v":"2020"},null,"BLANK",{"$f":"IF(IF($H47=0,\"\",IF(LEN('1-Award Info'!$G$4)=7,'1-Award Info'!$G$4&$B47&$C47&\"9\"&E47&RIGHT($D47,3),'1-Award Info'!$G$4&$C47&\"9\"&E47&RIGHT($D47,3)))=\"\",\"BLANK\",IF($H47=0,\"\",IF(LEN('1-Award Info'!$G$4)=7,'1-Award Info'!$G$4&$B47&$C47&\"9\"&E47&RIGHT($D47,3),'1-Award Info'!$G$4&$C47&\"9\"&E47&RIGHT($D47,3))))","v":"BLANK"},0,0,null,"00000",{"$f":"COUNTIF(CA$17:CA47,1)","v":0},{"$f":"IF(CB47=\"BLANk\",0,COUNTIF(CB$17:CB47,CB47))","v":0},"BLANK",null,{"$f":"$CD$14+COUNTIF(CG$17:CG47,\"<>BLANK\")","v":0},{"$f":"COUNTA(CE$17:CE46)+1&\"0001\"","v":"310001"},"BLANK","BLANK",0,0,{"$f":"\"20\"&RIGHT(Tables!$E$5,2)","v":"2021"},null,"BLANK",{"$f":"IF(IF($I47=0,\"\",IF(LEN('1-Award Info'!$G$4)=7,'1-Award Info'!$G$4&$B47&$C47&\"9\"&$E47&RIGHT($D47,3),'1-Award Info'!$G$4&$C47&\"9\"&E$17&RIGHT($D47,3)))=\"\",\"BLANK\",IF($I47=0,\"\",IF(LEN('1-Award Info'!$G$4)=7,'1-Award Info'!$G$4&$B47&$C47&\"9\"&$E47&RIGHT($D47,3),'1-Award Info'!$G$4&$C47&\"9\"&$E47&RIGHT($D47,3))))","v":"BLANK"},0,0,null,"00000",{"$f":"COUNTIF(CS$17:CS47,1)","v":0},{"$f":"IF(CT47=\"BLANk\",0,COUNTIF(CT$17:CT47,CT47))","v":0},"BLANK",null,{"$f":"$CV$14+COUNTIF(CY$17:CY47,\"<>BLANK\")","v":0},{"$f":"COUNTA(CW$17:CW46)+1&\"0001\"","v":"310001"},"BLANK","BLANK",0,0,{"$f":"\"20\"&RIGHT(Tables!$E$6,2)","v":"2022"},null,"BLANK",{"$f":"IF(IF($J47=0,\"\",IF(LEN('1-Award Info'!$G$4)=7,'1-Award Info'!$G$4&$B47&$C47&\"9\"&$E47&RIGHT($D47,3),'1-Award Info'!$G$4&$C47&\"9\"&W$17&RIGHT($D47,3)))=\"\",\"BLANK\",IF($J47=0,\"\",IF(LEN('1-Award Info'!$G$4)=7,'1-Award Info'!$G$4&$B47&$C47&\"9\"&$E47&RIGHT($D47,3),'1-Award Info'!$G$4&$C47&\"9\"&$E47&RIGHT($D47,3))))","v":"BLANK"},0,0,null,"00000",{"$f":"COUNTIF(DK$17:DK47,1)","v":0},{"$f":"IF(DL47=\"BLANk\",0,COUNTIF(DL$17:DL47,DL47))","v":0},"BLANK",null,{"$f":"$DN$14+COUNTIF(DQ$17:DQ47,\"<>BLANK\")","v":0},{"$f":"COUNTA(DO$17:DO46)+1&\"0001\"","v":"310001"},"BLANK","BLANK",0,0,{"$f":"\"20\"&RIGHT(Tables!$E$7,2)","v":"2023"},null,31,{"$f":"\"00\"&'1-Award Info'!$G$6","v":"00"},"","",1,"",{"$f":"IFERROR(\nIF(VLOOKUP(\"FY\"&RIGHT($EA47,2),'1-Award Info'!$F$28:$G$32,2,0)=0,\n     1,\n     VLOOKUP(\"FY\"&RIGHT($EA47,2),'1-Award Info'!$F$28:$G$32,2,0)),1)","v":1},"",null,""]
[null,null,null,null,null,null,null,null,null,null,0,null,null,null,null,null,null,null,null,"100032",{"$f":"COUNTIF(V$17:$V48,1)","v":1},{"$f":"COUNTIF(W$17:$W48,W48)","v":32},{"$f":"IF($K48=0,\"\",IF(LEN('1-Award Info'!$G$4)=7,'1-Award Info'!$G$4&$B48&$C48,'1-Award Info'!$G$4&$C48))","v":""},null,{"$f":"COUNTA(Y$17:Y47)+1&\"0001\"","v":"320001"},"",null,"100032",{"$f":"COUNTIF($AD$17:AD48,AD48)","v":1},{"$f":"COUNTIF($AE$17:AE48,AE48)","v":32},"",null,{"$f":"COUNTA(AG$17:AG47)+1&\"0001\"","v":"320001"},"",null,"BLANK",{"$f":"IF(IF($F48=0,\"\",IF(LEN('1-Award Info'!$G$4)=7,'1-Award Info'!$G$4&$B48&$C48&\"9\"&E48&RIGHT($D48,3),'1-Award Info'!$G$4&$C48&\"9\"&E48&RIGHT($D48,3)))=\"\",\"BLANK\",IF($F48=0,\"\",IF(LEN('1-Award Info'!$G$4)=7,'1-Award Info'!$G$4&$B48&$C48&\"9\"&E48&RIGHT($D48,3),'1-Award Info'!$G$4&$C48&\"9\"&E48&RIGHT($D48,3))))","v":"BLANK"},0,0,null,"00000",{"$f":"COUNTIF(AQ$17:AQ48,1)","v":0},{"$f":"IF(AR48=\"BLANK\",0,COUNTIF(AR$17:AR48,AR48))","v":0},"BLANK",null,{"$f":"$AT$14+COUNTIF(AV$17:AV48,\"<>BLANK\")","v":0},{"$f":"COUNTA(AU$17:AU47)+1&\"0001\"","v":"320001"},"BLANK","BLANK",0,0,{"$f":"\"20\"&RIGHT(Tables!$E$3,2)","v":"2019"},null,"BLANK",{"$f":"IF(IF($G48=0,\"\",IF(LEN('1-Award Info'!$G$4)=7,'1-Award Info'!$G$4&$B48&$C48&\"9\"&E48&RIGHT($D48,3),'1-Award Info'!$G$4&$C48&\"9\"&E48&RIGHT($D48,3)))=\"\",\"BLANK\",IF($G48=0,\"\",IF(LEN('1-Award Info'!$G$4)=7,'1-Award Info'!$G$4&$B48&$C48&\"9\"&E48&RIGHT($D48,3),'1-Award Info'!$G$4&$C48&\"9\"&E48&RIGHT($D48,3))))","v":"BLANK"},0,0,null,"00000",{"$f":"COUNTIF(BI$17:BI48,1)","v":0},{"$f":"IF(BJ48=\"BLANk\",0,COUNTIF(BJ$17:BJ48,BJ48))","v":0},"BLANK",null,{"$f":"$BL$14+COUNTIF(BO$17:BO48,\"<>BLANK\")","v":0},{"$f":"COUNTA(BM$17:BM47)+1&\"0001\"","v":"320001"},"BLANK","BLANK",0,6,{"$f":"\"20\"&RIGHT(Tables!$E$4,2)","v":"2020"},null,"BLANK",{"$f":"IF(IF($H48=0,\"\",IF(LEN('1-Award Info'!$G$4)=7,'1-Award Info'!$G$4&$B48&$C48&\"9\"&E48&RIGHT($D48,3),'1-Award Info'!$G$4&$C48&\"9\"&E48&RIGHT($D48,3)))=\"\",\"BLANK\",IF($H48=0,\"\",IF(LEN('1-Award Info'!$G$4)=7,'1-Award Info'!$G$4&$B48&$C48&\"9\"&E48&RIGHT($D48,3),'1-Award Info'!$G$4&$C48&\"9\"&E48&RIGHT($D48,3))))","v":"BLANK"},0,0,null,"00000",{"$f":"COUNTIF(CA$17:CA48,1)","v":0},{"$f":"IF(CB48=\"BLANk\",0,COUNTIF(CB$17:CB48,CB48))","v":0},"BLANK",null,{"$f":"$CD$14+COUNTIF(CG$17:CG48,\"<>BLANK\")","v":0},{"$f":"COUNTA(CE$17:CE47)+1&\"0001\"","v":"320001"},"BLANK","BLANK",0,0,{"$f":"\"20\"&RIGHT(Tables!$E$5,2)","v":"2021"},null,"BLANK",{"$f":"IF(IF($I48=0,\"\",IF(LEN('1-Award Info'!$G$4)=7,'1-Award Info'!$G$4&$B48&$C48&\"9\"&$E48&RIGHT($D48,3),'1-Award Info'!$G$4&$C48&\"9\"&E$17&RIGHT($D48,3)))=\"\",\"BLANK\",IF($I48=0,\"\",IF(LEN('1-Award Info'!$G$4)=7,'1-Award Info'!$G$4&$B48&$C48&\"9\"&$E48&RIGHT($D48,3),'1-Award Info'!$G$4&$C48&\"9\"&$E48&RIGHT($D48,3))))","v":"BLANK"},0,0,null,"00000",{"$f":"COUNTIF(CS$17:CS48,1)","v":0},{"$f":"IF(CT48=\"BLANk\",0,COUNTIF(CT$17:CT48,CT48))","v":0},"BLANK",null,{"$f":"$CV$14+COUNTIF(CY$17:CY48,\"<>BLANK\")","v":0},{"$f":"COUNTA(CW$17:CW47)+1&\"0001\"","v":"320001"},"BLANK","BLANK",0,0,{"$f":"\"20\"&RIGHT(Tables!$E$6,2)","v":"2022"},null,"BLANK",{"$f":"IF(IF($J48=0,\"\",IF(LEN('1-Award Info'!$G$4)=7,'1-Award Info'!$G$4&$B48&$C48&\"9\"&$E48&RIGHT($D48,3),'1-Award Info'!$G$4&$C48&\"9\"&W$17&RIGHT($D48,3)))=\"\",\"BLANK\",IF($J48=0,\"\",IF(LEN('1-Award Info'!$G$4)=7,'1-Award Info'!$G$4&$B48&$C48&\"9\"&$E48&RIGHT($D48,3),'1-Award Info'!$G$4&$C48&\"9\"&$E48&RIGHT($D48,3))))","v":"BLANK"},0,0,null,"00000",{"$f":"COUNTIF(DK$17:DK48,1)","v":0},{"$f":"IF(DL48=\"BLANk\",0,COUNTIF(DL$17:DL48,DL48))","v":0},"BLANK",null,{"$f":"$DN$14+COUNTIF(DQ$17:DQ48,\"<>BLANK\")","v":0},{"$f":"COUNTA(DO$17:DO47)+1&\"0001\"","v":"320001"},"BLANK","BLANK",0,0,{"$f":"\"20\"&RIGHT(Tables!$E$7,2)","v":"2023"},null,32,{"$f":"\"00\"&'1-Award Info'!$G$6","v":"00"},"","",1,"",{"$f":"IFERROR(\nIF(VLOOKUP(\"FY\"&RIGHT($EA48,2),'1-Award Info'!$F$28:$G$32,2,0)=0,\n     1,\n     VLOOKUP(\"FY\"&RIGHT($EA48,2),'1-Award Info'!$F$28:$G$32,2,0)),1)","v":1},"",null,""]
[null,null,null,null,null,null,null,null,null,null,0,null,null,null,null,null,null,null,null,"100033",{"$f":"COUNTIF(V$17:$V49,1)","v":1},{"$f":"COUNTIF(W$17:$W49,W49)","v":33},{"$f":"IF($K49=0,\"\",IF(LEN('1-Award Info'!$G$4)=7,'1-Award Info'!$G$4&$B49&$C49,'1-Award Info'!$G$4&$C49))","v":""},null,{"$f":"COUNTA(Y$17:Y48)+1&\"0001\"","v":"330001"},{"$f":"IFERROR(VLOOKUP(Y49,T:W,4,0),\"\")","v":""},null,"100033",{"$f":"COUNTIF($AD$17:AD49,AD49)","v":1},{"$f":"COUNTIF($AE$17:AE49,AE49)","v":33},"",null,{"$f":"COUNTA(AG$17:AG48)+1&\"0001\"","v":"330001"},{"$f":"IFERROR(VLOOKUP(AG49,AB:AE,4,0),\"\")","v":""},null,"BLANK",{"$f":"IF(IF($F49=0,\"\",IF(LEN('1-Award Info'!$G$4)=7,'1-Award Info'!$G$4&$B49&$C49&\"9\"&E49&RIGHT($D49,3),'1-Award Info'!$G$4&$C49&\"9\"&E49&RIGHT($D49,3)))=\"\",\"BLANK\",IF($F49=0,\"\",IF(LEN('1-Award Info'!$G$4)=7,'1-Award Info'!$G$4&$B49&$C49&\"9\"&E49&RIGHT($D49,3),'1-Award Info'!$G$4&$C49&\"9\"&E49&RIGHT($D49,3))))","v":"BLANK"},0,0,null,"00000",{"$f":"COUNTIF(AQ$17:AQ49,1)","v":0},{"$f":"IF(AR49=\"BLANK\",0,COUNTIF(AR$17:AR49,AR49))","v":0},"BLANK",null,{"$f":"$AT$14+COUNTIF(AV$17:AV49,\"<>BLANK\")","v":0},{"$f":"COUNTA(AU$17:AU48)+1&\"0001\"","v":"330001"},{"$f":"IFERROR(VLOOKUP(AU49,AO:AR,4,0),\"BLANK\")","v":"BLANK"},"BLANK",{"$f":"SUMIF($AJ:$AJ,$AV49,AL:AL)","v":0},{"$f":"SUMIF($AJ:$AJ,$AV49,AM:AM)","v":0},{"$f":"\"20\"&RIGHT(Tables!$E$3,2)","v":"2019"},null,"BLANK",{"$f":"IF(IF($G49=0,\"\",IF(LEN('1-Award Info'!$G$4)=7,'1-Award Info'!$G$4&$B49&$C49&\"9\"&E49&RIGHT($D49,3),'1-Award Info'!$G$4&$C49&\"9\"&E49&RIGHT($D49,3)))=\"\",\"BLANK\",IF($G49=0,\"\",IF(LEN('1-Award Info'!$G$4)=7,'1-Award Info'!$G$4&$B49&$C49&\"9\"&E49&RIGHT($D49,3),'1-Award Info'!$G$4&$C49&\"9\"&E49&RIGHT($D49,3))))","v":"BLANK"},0,0,null,"00000",{"$f":"COUNTIF(BI$17:BI49,1)","v":0},{"$f":"IF(BJ49=\"BLANk\",0,COUNTIF(BJ$17:BJ49,BJ49))","v":0},"BLANK",null,{"$f":"$BL$14+COUNTIF(BO$17:BO49,\"<>BLANK\")","v":0},{"$f":"COUNTA(BM$17:BM48)+1&\"0001\"","v":"330001"},{"$f":"IFERROR(VLOOKUP(BM49,BG:BJ,4,0),\"BLANK\")","v":"BLANK"},"BLANK",{"$f":"SUMIF($BB:$BB,$BN49,BD:BD)","v":0},{"$f":"SUMIF($BB:$BB,$BN49,BE:BE)","v":6},{"$f":"\"20\"&RIGHT(Tables!$E$4,2)","v":"2020"},null,"BLANK",{"$f":"IF(IF($H49=0,\"\",IF(LEN('1-Award Info'!$G$4)=7,'1-Award Info'!$G$4&$B49&$C49&\"9\"&E49&RIGHT($D49,3),'1-Award Info'!$G$4&$C49&\"9\"&E49&RIGHT($D49,3)))=\"\",\"BLANK\",IF($H49=0,\"\",IF(LEN('1-Award Info'!$G$4)=7,'1-Award Info'!$G$4&$B49&$C49&\"9\"&E49&RIGHT($D49,3),'1-Award Info'!$G$4&$C49&\"9\"&E49&RIGHT($D49,3))))","v":"BLANK"},0,0,null,"00000",{"$f":"COUNTIF(CA$17:CA49,1)","v":0},{"$f":"IF(CB49=\"BLANk\",0,COUNTIF(CB$17:CB49,CB49))","v":0},"BLANK",null,{"$f":"$CD$14+COUNTIF(CG$17:CG49,\"<>BLANK\")","v":0},{"$f":"COUNTA(CE$17:CE48)+1&\"0001\"","v":"330001"},{"$f":"IFERROR(VLOOKUP(CE49,BY:CB,4,0),\"BLANK\")","v":"BLANK"},"BLANK",{"$f":"SUMIF($BT:$BT,$CF49,BV:BV)","v":0},{"$f":"SUMIF($BT:$BT,$CF49,BW:BW)","v":0},{"$f":"\"20\"&RIGHT(Tables!$E$5,2)","v":"2021"},null,"BLANK",{"$f":"IF(IF($I49=0,\"\",IF(LEN('1-Award Info'!$G$4)=7,'1-Award Info'!$G$4&$B49&$C49&\"9\"&$E49&RIGHT($D49,3),'1-Award Info'!$G$4&$C49&\"9\"&E$17&RIGHT($D49,3)))=\"\",\"BLANK\",IF($I49=0,\"\",IF(LEN('1-Award Info'!$G$4)=7,'1-Award Info'!$G$4&$B49&$C49&\"9\"&$E49&RIGHT($D49,3),'1-Award Info'!$G$4&$C49&\"9\"&$E49&RIGHT($D49,3))))","v":"BLANK"},0,0,null,"00000",{"$f":"COUNTIF(CS$17:CS49,1)","v":0},{"$f":"IF(CT49=\"BLANk\",0,COUNTIF(CT$17:CT49,CT49))","v":0},"BLANK",null,{"$f":"$CV$14+COUNTIF(CY$17:CY49,\"<>BLANK\")","v":0},{"$f":"COUNTA(CW$17:CW48)+1&\"0001\"","v":"330001"},{"$f":"IFERROR(VLOOKUP(CW49,CQ:CT,4,0),\"BLANK\")","v":"BLANK"},"BLANK",0,0,{"$f":"\"20\"&RIGHT(Tables!$E$6,2)","v":"2022"},null,"BLANK",{"$f":"IF(IF($J49=0,\"\",IF(LEN('1-Award Info'!$G$4)=7,'1-Award Info'!$G$4&$B49&$C49&\"9\"&$E49&RIGHT($D49,3),'1-Award Info'!$G$4&$C49&\"9\"&W$17&RIGHT($D49,3)))=\"\",\"BLANK\",IF($J49=0,\"\",IF(LEN('1-Award Info'!$G$4)=7,'1-Award Info'!$G$4&$B49&$C49&\"9\"&$E49&RIGHT($D49,3),'1-Award Info'!$G$4&$C49&\"9\"&$E49&RIGHT($D49,3))))","v":"BLANK"},0,0,null,"00000",{"$f":"COUNTIF(DK$17:DK49,1)","v":0},{"$f":"IF(DL49=\"BLANk\",0,COUNTIF(DL$17:DL49,DL49))","v":0},"BLANK",null,{"$f":"$DN$14+COUNTIF(DQ$17:DQ49,\"<>BLANK\")","v":0},{"$f":"COUNTA(DO$17:DO48)+1&\"0001\"","v":"330001"},{"$f":"IFERROR(VLOOKUP(DO49,DI:DL,4,0),\"BLANK\")","v":"BLANK"},"BLANK",{"$f":"SUMIF($DD:$DD,$DP49,DF:DF)","v":0},{"$f":"SUMIF($DD:$DD,$DP49,DG:DG)","v":0},{"$f":"\"20\"&RIGHT(Tables!$E$7,2)","v":"2023"},null,33,{"$f":"\"00\"&'1-Award Info'!$G$6","v":"00"},{"$f":"IFERROR(IFERROR(IFERROR(IFERROR(IFERROR(LEFT(VLOOKUP($DV49,$AT:$AW,4,0),15),LEFT(VLOOKUP($DV49,$BL:$BO,4,0),15)),LEFT(VLOOKUP($DV49,$CD:$CG,4,0),15)),LEFT(VLOOKUP($DV49,CV:CY,4,0),15)),LEFT(VLOOKUP($DV49,DN:DQ,4,0),15)),\"\")","v":""},{"$f":"IFERROR(IFERROR(IFERROR(IFERROR(IFERROR(RIGHT(VLOOKUP($DV49,$AT:$AW,4,0),5),RIGHT(VLOOKUP($DV49,$BL:$BO,4,0),5)),RIGHT(VLOOKUP($DV49,$CD:$CG,4,0),5)),RIGHT(VLOOKUP($DV49,CV:CY,4,0),5)),RIGHT(VLOOKUP($DV49,DN:DR,4,0),5)),\"\")","v":""},1,{"$f":"IFERROR(IFERROR(IFERROR(IFERROR(IFERROR(VLOOKUP($DV49,$AT:$AZ,7,0),VLOOKUP($DV49,$BL:$BR,7,0)),VLOOKUP($DV49,$CD:$CJ,7,0)),VLOOKUP($DV49,CV:DB,7,0)),VLOOKUP($DV49,DN:DT,7,0)),\"\")","v":""},{"$f":"IFERROR(\nIF(VLOOKUP(\"FY\"&RIGHT($EA49,2),'1-Award Info'!$F$28:$G$32,2,0)=0,\n     1,\n     VLOOKUP(\"FY\"&RIGHT($EA49,2),'1-Award Info'!$F$28:$G$32,2,0)),1)","v":1},{"$f":"IFERROR(IFERROR(IFERROR(IFERROR(IFERROR(VLOOKUP($DV49,$AT:$AZ,5,0),VLOOKUP($DV49,$BL:$BR,5,0)),VLOOKUP($DV49,$CD:$CJ,5,0)),VLOOKUP($DV49,CV:CZ,5,0)),VLOOKUP($DV49,DN:DR,5,0)),\"\")","v":""},null,{"$f":"IFERROR(IFERROR(IFERROR(IFERROR(IFERROR(VLOOKUP($DV49,$AT:$AZ,6,0),VLOOKUP($DV49,$BL:$BR,6,0)),VLOOKUP($DV49,$CD:$CJ,6,0)),VLOOKUP($DV49,CV:DA,6,0)),VLOOKUP($DV49,DN:DS,6,0)),\"\")","v":""}]
[null,null,null,null,null,null,null,null,null,null,0,null,null,null,null,null,null,null,null,"100034",{"$f":"COUNTIF(V$17:$V50,1)","v":1},{"$f":"COUNTIF(W$17:$W50,W50)","v":34},{"$f":"IF($K50=0,\"\",IF(LEN('1-Award Info'!$G$4)=7,'1-Award Info'!$G$4&$B50&$C50,'1-Award Info'!$G$4&$C50))","v":""},null,{"$f":"COUNTA(Y$17:Y49)+1&\"0001\"","v":"340001"},"",null,"100034",{"$f":"COUNTIF($AD$17:AD50,AD50)","v":1},{"$f":"COUNTIF($AE$17:AE50,AE50)","v":34},"",null,{"$f":"COUNTA(AG$17:AG49)+1&\"0001\"","v":"340001"},"",null,"BLANK",{"$f":"IF(IF($F50=0,\"\",IF(LEN('1-Award Info'!$G$4)=7,'1-Award Info'!$G$4&$B50&$C50&\"9\"&E50&RIGHT($D50,3),'1-Award Info'!$G$4&$C50&\"9\"&E50&RIGHT($D50,3)))=\"\",\"BLANK\",IF($F50=0,\"\",IF(LEN('1-Award Info'!$G$4)=7,'1-Award Info'!$G$4&$B50&$C50&\"9\"&E50&RIGHT($D50,3),'1-Award Info'!$G$4&$C50&\"9\"&E50&RIGHT($D50,3))))","v":"BLANK"},0,0,null,"00000",{"$f":"COUNTIF(AQ$17:AQ50,1)","v":0},{"$f":"IF(AR50=\"BLANK\",0,COUNTIF(AR$17:AR50,AR50))","v":0},"BLANK",null,{"$f":"$AT$14+COUNTIF(AV$17:AV50,\"<>BLANK\")","v":0},{"$f":"COUNTA(AU$17:AU49)+1&\"0001\"","v":"340001"},"BLANK","BLANK",0,0,{"$f":"\"20\"&RIGHT(Tables!$E$3,2)","v":"2019"},null,"BLANK",{"$f":"IF(IF($G50=0,\"\",IF(LEN('1-Award Info'!$G$4)=7,'1-Award Info'!$G$4&$B50&$C50&\"9\"&E50&RIGHT($D50,3),'1-Award Info'!$G$4&$C50&\"9\"&E50&RIGHT($D50,3)))=\"\",\"BLANK\",IF($G50=0,\"\",IF(LEN('1-Award Info'!$G$4)=7,'1-Award Info'!$G$4&$B50&$C50&\"9\"&E50&RIGHT($D50,3),'1-Award Info'!$G$4&$C50&\"9\"&E50&RIGHT($D50,3))))","v":"BLANK"},0,0,null,"00000",{"$f":"COUNTIF(BI$17:BI50,1)","v":0},{"$f":"IF(BJ50=\"BLANk\",0,COUNTIF(BJ$17:BJ50,BJ50))","v":0},"BLANK",null,{"$f":"$BL$14+COUNTIF(BO$17:BO50,\"<>BLANK\")","v":0},{"$f":"COUNTA(BM$17:BM49)+1&\"0001\"","v":"340001"},"BLANK","BLANK",0,6,{"$f":"\"20\"&RIGHT(Tables!$E$4,2)","v":"2020"},null,"BLANK",{"$f":"IF(IF($H50=0,\"\",IF(LEN('1-Award Info'!$G$4)=7,'1-Award Info'!$G$4&$B50&$C50&\"9\"&E50&RIGHT($D50,3),'1-Award Info'!$G$4&$C50&\"9\"&E50&RIGHT($D50,3)))=\"\",\"BLANK\",IF($H50=0,\"\",IF(LEN('1-Award Info'!$G$4)=7,'1-Award Info'!$G$4&$B50&$C50&\"9\"&E50&RIGHT($D50,3),'1-Award Info'!$G$4&$C50&\"9\"&E50&RIGHT($D50,3))))","v":"BLANK"},0,0,null,"00000",{"$f":"COUNTIF(CA$17:CA50,1)","v":0},{"$f":"IF(CB50=\"BLANk\",0,COUNTIF(CB$17:CB50,CB50))","v":0},"BLANK",null,{"$f":"$CD$14+COUNTIF(CG$17:CG50,\"<>BLANK\")","v":0},{"$f":"COUNTA(CE$17:CE49)+1&\"0001\"","v":"340001"},"BLANK","BLANK",0,0,{"$f":"\"20\"&RIGHT(Tables!$E$5,2)","v":"2021"},null,"BLANK",{"$f":"IF(IF($I50=0,\"\",IF(LEN('1-Award Info'!$G$4)=7,'1-Award Info'!$G$4&$B50&$C50&\"9\"&$E50&RIGHT($D50,3),'1-Award Info'!$G$4&$C50&\"9\"&E$17&RIGHT($D50,3)))=\"\",\"BLANK\",IF($I50=0,\"\",IF(LEN('1-Award Info'!$G$4)=7,'1-Award Info'!$G$4&$B50&$C50&\"9\"&$E50&RIGHT($D50,3),'1-Award Info'!$G$4&$C50&\"9\"&$E50&RIGHT($D50,3))))","v":"BLANK"},0,0,null,"00000",{"$f":"COUNTIF(CS$17:CS50,1)","v":0},{"$f":"IF(CT50=\"BLANk\",0,COUNTIF(CT$17:CT50,CT50))","v":0},"BLANK",null,{"$f":"$CV$14+COUNTIF(CY$17:CY50,\"<>BLANK\")","v":0},{"$f":"COUNTA(CW$17:CW49)+1&\"0001\"","v":"340001"},"BLANK","BLANK",0,0,{"$f":"\"20\"&RIGHT(Tables!$E$6,2)","v":"2022"},null,"BLANK",{"$f":"IF(IF($J50=0,\"\",IF(LEN('1-Award Info'!$G$4)=7,'1-Award Info'!$G$4&$B50&$C50&\"9\"&$E50&RIGHT($D50,3),'1-Award Info'!$G$4&$C50&\"9\"&W$17&RIGHT($D50,3)))=\"\",\"BLANK\",IF($J50=0,\"\",IF(LEN('1-Award Info'!$G$4)=7,'1-Award Info'!$G$4&$B50&$C50&\"9\"&$E50&RIGHT($D50,3),'1-Award Info'!$G$4&$C50&\"9\"&$E50&RIGHT($D50,3))))","v":"BLANK"},0,0,null,"00000",{"$f":"COUNTIF(DK$17:DK50,1)","v":0},{"$f":"IF(DL50=\"BLANk\",0,COUNTIF(DL$17:DL50,DL50))","v":0},"BLANK",null,{"$f":"$DN$14+COUNTIF(DQ$17:DQ50,\"<>BLANK\")","v":0},{"$f":"COUNTA(DO$17:DO49)+1&\"0001\"","v":"340001"},"BLANK","BLANK",0,0,{"$f":"\"20\"&RIGHT(Tables!$E$7,2)","v":"2023"},null,34,{"$f":"\"00\"&'1-Award Info'!$G$6","v":"00"},"","",1,"",{"$f":"IFERROR(\nIF(VLOOKUP(\"FY\"&RIGHT($EA50,2),'1-Award Info'!$F$28:$G$32,2,0)=0,\n     1,\n     VLOOKUP(\"FY\"&RIGHT($EA50,2),'1-Award Info'!$F$28:$G$32,2,0)),1)","v":1},"",null,""]
[null,null,null,null,null,null,null,null,null,null,0,null,null,null,null,null,null,null,null,"100035",{"$f":"COUNTIF(V$17:$V51,1)","v":1},{"$f":"COUNTIF(W$17:$W51,W51)","v":35},{"$f":"IF($K51=0,\"\",IF(LEN('1-Award Info'!$G$4)=7,'1-Award Info'!$G$4&$B51&$C51,'1-Award Info'!$G$4&$C51))","v":""},null,{"$f":"COUNTA(Y$17:Y50)+1&\"0001\"","v":"350001"},"",null,"100035",{"$f":"COUNTIF($AD$17:AD51,AD51)","v":1},{"$f":"COUNTIF($AE$17:AE51,AE51)","v":35},"",null,{"$f":"COUNTA(AG$17:AG50)+1&\"0001\"","v":"350001"},"",null,"BLANK",{"$f":"IF(IF($F51=0,\"\",IF(LEN('1-Award Info'!$G$4)=7,'1-Award Info'!$G$4&$B51&$C51&\"9\"&E51&RIGHT($D51,3),'1-Award Info'!$G$4&$C51&\"9\"&E51&RIGHT($D51,3)))=\"\",\"BLANK\",IF($F51=0,\"\",IF(LEN('1-Award Info'!$G$4)=7,'1-Award Info'!$G$4&$B51&$C51&\"9\"&E51&RIGHT($D51,3),'1-Award Info'!$G$4&$C51&\"9\"&E51&RIGHT($D51,3))))","v":"BLANK"},0,0,null,"00000",{"$f":"COUNTIF(AQ$17:AQ51,1)","v":0},{"$f":"IF(AR51=\"BLANK\",0,COUNTIF(AR$17:AR51,AR51))","v":0},"BLANK",null,{"$f":"$AT$14+COUNTIF(AV$17:AV51,\"<>BLANK\")","v":0},{"$f":"COUNTA(AU$17:AU50)+1&\"0001\"","v":"350001"},"BLANK","BLANK",0,0,{"$f":"\"20\"&RIGHT(Tables!$E$3,2)","v":"2019"},null,"BLANK",{"$f":"IF(IF($G51=0,\"\",IF(LEN('1-Award Info'!$G$4)=7,'1-Award Info'!$G$4&$B51&$C51&\"9\"&E51&RIGHT($D51,3),'1-Award Info'!$G$4&$C51&\"9\"&E51&RIGHT($D51,3)))=\"\",\"BLANK\",IF($G51=0,\"\",IF(LEN('1-Award Info'!$G$4)=7,'1-Award Info'!$G$4&$B51&$C51&\"9\"&E51&RIGHT($D51,3),'1-Award Info'!$G$4&$C51&\"9\"&E51&RIGHT($D51,3))))","v":"BLANK"},0,0,null,"00000",{"$f":"COUNTIF(BI$17:BI51,1)","v":0},{"$f":"IF(BJ51=\"BLANk\",0,COUNTIF(BJ$17:BJ51,BJ51))","v":0},"BLANK",null,{"$f":"$BL$14+COUNTIF(BO$17:BO51,\"<>BLANK\")","v":0},{"$f":"COUNTA(BM$17:BM50)+1&\"0001\"","v":"350001"},"BLANK","BLANK",0,6,{"$f":"\"20\"&RIGHT(Tables!$E$4,2)","v":"2020"},null,"BLANK",{"$f":"IF(IF($H51=0,\"\",IF(LEN('1-Award Info'!$G$4)=7,'1-Award Info'!$G$4&$B51&$C51&\"9\"&E51&RIGHT($D51,3),'1-Award Info'!$G$4&$C51&\"9\"&E51&RIGHT($D51,3)))=\"\",\"BLANK\",IF($H51=0,\"\",IF(LEN('1-Award Info'!$G$4)=7,'1-Award Info'!$G$4&$B51&$C51&\"9\"&E51&RIGHT($D51,3),'1-Award Info'!$G$4&$C51&\"9\"&E51&RIGHT($D51,3))))","v":"BLANK"},0,0,null,"00000",{"$f":"COUNTIF(CA$17:CA51,1)","v":0},{"$f":"IF(CB51=\"BLANk\",0,COUNTIF(CB$17:CB51,CB51))","v":0},"BLANK",null,{"$f":"$CD$14+COUNTIF(CG$17:CG51,\"<>BLANK\")","v":0},{"$f":"COUNTA(CE$17:CE50)+1&\"0001\"","v":"350001"},"BLANK","BLANK",0,0,{"$f":"\"20\"&RIGHT(Tables!$E$5,2)","v":"2021"},null,"BLANK",{"$f":"IF(IF($I51=0,\"\",IF(LEN('1-Award Info'!$G$4)=7,'1-Award Info'!$G$4&$B51&$C51&\"9\"&$E51&RIGHT($D51,3),'1-Award Info'!$G$4&$C51&\"9\"&E$17&RIGHT($D51,3)))=\"\",\"BLANK\",IF($I51=0,\"\",IF(LEN('1-Award Info'!$G$4)=7,'1-Award Info'!$G$4&$B51&$C51&\"9\"&$E51&RIGHT($D51,3),'1-Award Info'!$G$4&$C51&\"9\"&$E51&RIGHT($D51,3))))","v":"BLANK"},0,0,null,"00000",{"$f":"COUNTIF(CS$17:CS51,1)","v":0},{"$f":"IF(CT51=\"BLANk\",0,COUNTIF(CT$17:CT51,CT51))","v":0},"BLANK",null,{"$f":"$CV$14+COUNTIF(CY$17:CY51,\"<>BLANK\")","v":0},{"$f":"COUNTA(CW$17:CW50)+1&\"0001\"","v":"350001"},"BLANK","BLANK",0,0,{"$f":"\"20\"&RIGHT(Tables!$E$6,2)","v":"2022"},null,"BLANK",{"$f":"IF(IF($J51=0,\"\",IF(LEN('1-Award Info'!$G$4)=7,'1-Award Info'!$G$4&$B51&$C51&\"9\"&$E51&RIGHT($D51,3),'1-Award Info'!$G$4&$C51&\"9\"&W$17&RIGHT($D51,3)))=\"\",\"BLANK\",IF($J51=0,\"\",IF(LEN('1-Award Info'!$G$4)=7,'1-Award Info'!$G$4&$B51&$C51&\"9\"&$E51&RIGHT($D51,3),'1-Award Info'!$G$4&$C51&\"9\"&$E51&RIGHT($D51,3))))","v":"BLANK"},0,0,null,"00000",{"$f":"COUNTIF(DK$17:DK51,1)","v":0},{"$f":"IF(DL51=\"BLANk\",0,COUNTIF(DL$17:DL51,DL51))","v":0},"BLANK",null,{"$f":"$DN$14+COUNTIF(DQ$17:DQ51,\"<>BLANK\")","v":0},{"$f":"COUNTA(DO$17:DO50)+1&\"0001\"","v":"350001"},"BLANK","BLANK",0,0,{"$f":"\"20\"&RIGHT(Tables!$E$7,2)","v":"2023"},null,35,{"$f":"\"00\"&'1-Award Info'!$G$6","v":"00"},"","",1,"",{"$f":"IFERROR(\nIF(VLOOKUP(\"FY\"&RIGHT($EA51,2),'1-Award Info'!$F$28:$G$32,2,0)=0,\n     1,\n     VLOOKUP(\"FY\"&RIGHT($EA51,2),'1-Award Info'!$F$28:$G$32,2,0)),1)","v":1},"",null,""]
[null,null,null,null,null,null,null,null,null,null,0,null,null,null,null,null,null,null,null,"100036",{"$f":"COUNTIF(V$17:$V52,1)","v":1},{"$f":"COUNTIF(W$17:$W52,W52)","v":36},{"$f":"IF($K52=0,\"\",IF(LEN('1-Award Info'!$G$4)=7,'1-Award Info'!$G$4&$B52&$C52,'1-Award Info'!$G$4&$C52))","v":""},null,{"$f":"COUNTA(Y$17:Y51)+1&\"0001\"","v":"360001"},"",null,"100036",{"$f":"COUNTIF($AD$17:AD52,AD52)","v":1},{"$f":"COUNTIF($AE$17:AE52,AE52)","v":36},"",null,{"$f":"COUNTA(AG$17:AG51)+1&\"0001\"","v":"360001"},"",null,"BLANK",{"$f":"IF(IF($F52=0,\"\",IF(LEN('1-Award Info'!$G$4)=7,'1-Award Info'!$G$4&$B52&$C52&\"9\"&E52&RIGHT($D52,3),'1-Award Info'!$G$4&$C52&\"9\"&E52&RIGHT($D52,3)))=\"\",\"BLANK\",IF($F52=0,\"\",IF(LEN('1-Award Info'!$G$4)=7,'1-Award Info'!$G$4&$B52&$C52&\"9\"&E52&RIGHT($D52,3),'1-Award Info'!$G$4&$C52&\"9\"&E52&RIGHT($D52,3))))","v":"BLANK"},0,0,null,"00000",{"$f":"COUNTIF(AQ$17:AQ52,1)","v":0},{"$f":"IF(AR52=\"BLANK\",0,COUNTIF(AR$17:AR52,AR52))","v":0},"BLANK",null,{"$f":"$AT$14+COUNTIF(AV$17:AV52,\"<>BLANK\")","v":0},{"$f":"COUNTA(AU$17:AU51)+1&\"0001\"","v":"360001"},"BLANK","BLANK",0,0,{"$f":"\"20\"&RIGHT(Tables!$E$3,2)","v":"2019"},null,"BLANK",{"$f":"IF(IF($G52=0,\"\",IF(LEN('1-Award Info'!$G$4)=7,'1-Award Info'!$G$4&$B52&$C52&\"9\"&E52&RIGHT($D52,3),'1-Award Info'!$G$4&$C52&\"9\"&E52&RIGHT($D52,3)))=\"\",\"BLANK\",IF($G52=0,\"\",IF(LEN('1-Award Info'!$G$4)=7,'1-Award Info'!$G$4&$B52&$C52&\"9\"&E52&RIGHT($D52,3),'1-Award Info'!$G$4&$C52&\"9\"&E52&RIGHT($D52,3))))","v":"BLANK"},0,0,null,"00000",{"$f":"COUNTIF(BI$17:BI52,1)","v":0},{"$f":"IF(BJ52=\"BLANk\",0,COUNTIF(BJ$17:BJ52,BJ52))","v":0},"BLANK",null,{"$f":"$BL$14+COUNTIF(BO$17:BO52,\"<>BLANK\")","v":0},{"$f":"COUNTA(BM$17:BM51)+1&\"0001\"","v":"360001"},"BLANK","BLANK",0,6,{"$f":"\"20\"&RIGHT(Tables!$E$4,2)","v":"2020"},null,"BLANK",{"$f":"IF(IF($H52=0,\"\",IF(LEN('1-Award Info'!$G$4)=7,'1-Award Info'!$G$4&$B52&$C52&\"9\"&E52&RIGHT($D52,3),'1-Award Info'!$G$4&$C52&\"9\"&E52&RIGHT($D52,3)))=\"\",\"BLANK\",IF($H52=0,\"\",IF(LEN('1-Award Info'!$G$4)=7,'1-Award Info'!$G$4&$B52&$C52&\"9\"&E52&RIGHT($D52,3),'1-Award Info'!$G$4&$C52&\"9\"&E52&RIGHT($D52,3))))","v":"BLANK"},0,0,null,"00000",{"$f":"COUNTIF(CA$17:CA52,1)","v":0},{"$f":"IF(CB52=\"BLANk\",0,COUNTIF(CB$17:CB52,CB52))","v":0},"BLANK",null,{"$f":"$CD$14+COUNTIF(CG$17:CG52,\"<>BLANK\")","v":0},{"$f":"COUNTA(CE$17:CE51)+1&\"0001\"","v":"360001"},"BLANK","BLANK",0,0,{"$f":"\"20\"&RIGHT(Tables!$E$5,2)","v":"2021"},null,"BLANK",{"$f":"IF(IF($I52=0,\"\",IF(LEN('1-Award Info'!$G$4)=7,'1-Award Info'!$G$4&$B52&$C52&\"9\"&$E52&RIGHT($D52,3),'1-Award Info'!$G$4&$C52&\"9\"&E$17&RIGHT($D52,3)))=\"\",\"BLANK\",IF($I52=0,\"\",IF(LEN('1-Award Info'!$G$4)=7,'1-Award Info'!$G$4&$B52&$C52&\"9\"&$E52&RIGHT($D52,3),'1-Award Info'!$G$4&$C52&\"9\"&$E52&RIGHT($D52,3))))","v":"BLANK"},0,0,null,"00000",{"$f":"COUNTIF(CS$17:CS52,1)","v":0},{"$f":"IF(CT52=\"BLANk\",0,COUNTIF(CT$17:CT52,CT52))","v":0},"BLANK",null,{"$f":"$CV$14+COUNTIF(CY$17:CY52,\"<>BLANK\")","v":0},{"$f":"COUNTA(CW$17:CW51)+1&\"0001\"","v":"360001"},"BLANK","BLANK",0,0,{"$f":"\"20\"&RIGHT(Tables!$E$6,2)","v":"2022"},null,"BLANK",{"$f":"IF(IF($J52=0,\"\",IF(LEN('1-Award Info'!$G$4)=7,'1-Award Info'!$G$4&$B52&$C52&\"9\"&$E52&RIGHT($D52,3),'1-Award Info'!$G$4&$C52&\"9\"&W$17&RIGHT($D52,3)))=\"\",\"BLANK\",IF($J52=0,\"\",IF(LEN('1-Award Info'!$G$4)=7,'1-Award Info'!$G$4&$B52&$C52&\"9\"&$E52&RIGHT($D52,3),'1-Award Info'!$G$4&$C52&\"9\"&$E52&RIGHT($D52,3))))","v":"BLANK"},0,0,null,"00000",{"$f":"COUNTIF(DK$17:DK52,1)","v":0},{"$f":"IF(DL52=\"BLANk\",0,COUNTIF(DL$17:DL52,DL52))","v":0},"BLANK",null,{"$f":"$DN$14+COUNTIF(DQ$17:DQ52,\"<>BLANK\")","v":0},{"$f":"COUNTA(DO$17:DO51)+1&\"0001\"","v":"360001"},"BLANK","BLANK",0,0,{"$f":"\"20\"&RIGHT(Tables!$E$7,2)","v":"2023"},null,36,{"$f":"\"00\"&'1-Award Info'!$G$6","v":"00"},"","",1,"",{"$f":"IFERROR(\nIF(VLOOKUP(\"FY\"&RIGHT($EA52,2),'1-Award Info'!$F$28:$G$32,2,0)=0,\n     1,\n     VLOOKUP(\"FY\"&RIGHT($EA52,2),'1-Award Info'!$F$28:$G$32,2,0)),1)","v":1},"",null,""]
[null,null,null,null,null,null,null,null,null,null,0,null,null,null,null,null,null,null,null,"100037",{"$f":"COUNTIF(V$17:$V53,1)","v":1},{"$f":"COUNTIF(W$17:$W53,W53)","v":37},{"$f":"IF($K53=0,\"\",IF(LEN('1-Award Info'!$G$4)=7,'1-Award Info'!$G$4&$B53&$C53,'1-Award Info'!$G$4&$C53))","v":""},null,{"$f":"COUNTA(Y$17:Y52)+1&\"0001\"","v":"370001"},"",null,"100037",{"$f":"COUNTIF($AD$17:AD53,AD53)","v":1},{"$f":"COUNTIF($AE$17:AE53,AE53)","v":37},"",null,{"$f":"COUNTA(AG$17:AG52)+1&\"0001\"","v":"370001"},"",null,"BLANK",{"$f":"IF(IF($F53=0,\"\",IF(LEN('1-Award Info'!$G$4)=7,'1-Award Info'!$G$4&$B53&$C53&\"9\"&E53&RIGHT($D53,3),'1-Award Info'!$G$4&$C53&\"9\"&E53&RIGHT($D53,3)))=\"\",\"BLANK\",IF($F53=0,\"\",IF(LEN('1-Award Info'!$G$4)=7,'1-Award Info'!$G$4&$B53&$C53&\"9\"&E53&RIGHT($D53,3),'1-Award Info'!$G$4&$C53&\"9\"&E53&RIGHT($D53,3))))","v":"BLANK"},0,0,null,"00000",{"$f":"COUNTIF(AQ$17:AQ53,1)","v":0},{"$f":"IF(AR53=\"BLANK\",0,COUNTIF(AR$17:AR53,AR53))","v":0},"BLANK",null,{"$f":"$AT$14+COUNTIF(AV$17:AV53,\"<>BLANK\")","v":0},{"$f":"COUNTA(AU$17:AU52)+1&\"0001\"","v":"370001"},"BLANK","BLANK",0,0,{"$f":"\"20\"&RIGHT(Tables!$E$3,2)","v":"2019"},null,"BLANK",{"$f":"IF(IF($G53=0,\"\",IF(LEN('1-Award Info'!$G$4)=7,'1-Award Info'!$G$4&$B53&$C53&\"9\"&E53&RIGHT($D53,3),'1-Award Info'!$G$4&$C53&\"9\"&E53&RIGHT($D53,3)))=\"\",\"BLANK\",IF($G53=0,\"\",IF(LEN('1-Award Info'!$G$4)=7,'1-Award Info'!$G$4&$B53&$C53&\"9\"&E53&RIGHT($D53,3),'1-Award Info'!$G$4&$C53&\"9\"&E53&RIGHT($D53,3))))","v":"BLANK"},0,0,null,"00000",{"$f":"COUNTIF(BI$17:BI53,1)","v":0},{"$f":"IF(BJ53=\"BLANk\",0,COUNTIF(BJ$17:BJ53,BJ53))","v":0},"BLANK",null,{"$f":"$BL$14+COUNTIF(BO$17:BO53,\"<>BLANK\")","v":0},{"$f":"COUNTA(BM$17:BM52)+1&\"0001\"","v":"370001"},"BLANK","BLANK",0,6,{"$f":"\"20\"&RIGHT(Tables!$E$4,2)","v":"2020"},null,"BLANK",{"$f":"IF(IF($H53=0,\"\",IF(LEN('1-Award Info'!$G$4)=7,'1-Award Info'!$G$4&$B53&$C53&\"9\"&E53&RIGHT($D53,3),'1-Award Info'!$G$4&$C53&\"9\"&E53&RIGHT($D53,3)))=\"\",\"BLANK\",IF($H53=0,\"\",IF(LEN('1-Award Info'!$G$4)=7,'1-Award Info'!$G$4&$B53&$C53&\"9\"&E53&RIGHT($D53,3),'1-Award Info'!$G$4&$C53&\"9\"&E53&RIGHT($D53,3))))","v":"BLANK"},0,0,null,"00000",{"$f":"COUNTIF(CA$17:CA53,1)","v":0},{"$f":"IF(CB53=\"BLANk\",0,COUNTIF(CB$17:CB53,CB53))","v":0},"BLANK",null,{"$f":"$CD$14+COUNTIF(CG$17:CG53,\"<>BLANK\")","v":0},{"$f":"COUNTA(CE$17:CE52)+1&\"0001\"","v":"370001"},"BLANK","BLANK",0,0,{"$f":"\"20\"&RIGHT(Tables!$E$5,2)","v":"2021"},null,"BLANK",{"$f":"IF(IF($I53=0,\"\",IF(LEN('1-Award Info'!$G$4)=7,'1-Award Info'!$G$4&$B53&$C53&\"9\"&$E53&RIGHT($D53,3),'1-Award Info'!$G$4&$C53&\"9\"&E$17&RIGHT($D53,3)))=\"\",\"BLANK\",IF($I53=0,\"\",IF(LEN('1-Award Info'!$G$4)=7,'1-Award Info'!$G$4&$B53&$C53&\"9\"&$E53&RIGHT($D53,3),'1-Award Info'!$G$4&$C53&\"9\"&$E53&RIGHT($D53,3))))","v":"BLANK"},0,0,null,"00000",{"$f":"COUNTIF(CS$17:CS53,1)","v":0},{"$f":"IF(CT53=\"BLANk\",0,COUNTIF(CT$17:CT53,CT53))","v":0},"BLANK",null,{"$f":"$CV$14+COUNTIF(CY$17:CY53,\"<>BLANK\")","v":0},{"$f":"COUNTA(CW$17:CW52)+1&\"0001\"","v":"370001"},"BLANK","BLANK",0,0,{"$f":"\"20\"&RIGHT(Tables!$E$6,2)","v":"2022"},null,"BLANK",{"$f":"IF(IF($J53=0,\"\",IF(LEN('1-Award Info'!$G$4)=7,'1-Award Info'!$G$4&$B53&$C53&\"9\"&$E53&RIGHT($D53,3),'1-Award Info'!$G$4&$C53&\"9\"&W$17&RIGHT($D53,3)))=\"\",\"BLANK\",IF($J53=0,\"\",IF(LEN('1-Award Info'!$G$4)=7,'1-Award Info'!$G$4&$B53&$C53&\"9\"&$E53&RIGHT($D53,3),'1-Award Info'!$G$4&$C53&\"9\"&$E53&RIGHT($D53,3))))","v":"BLANK"},0,0,null,"00000",{"$f":"COUNTIF(DK$17:DK53,1)","v":0},{"$f":"IF(DL53=\"BLANk\",0,COUNTIF(DL$17:DL53,DL53))","v":0},"BLANK",null,{"$f":"$DN$14+COUNTIF(DQ$17:DQ53,\"<>BLANK\")","v":0},{"$f":"COUNTA(DO$17:DO52)+1&\"0001\"","v":"370001"},"BLANK","BLANK",0,0,{"$f":"\"20\"&RIGHT(Tables!$E$7,2)","v":"2023"},null,37,{"$f":"\"00\"&'1-Award Info'!$G$6","v":"00"},"","",1,"",{"$f":"IFERROR(\nIF(VLOOKUP(\"FY\"&RIGHT($EA53,2),'1-Award Info'!$F$28:$G$32,2,0)=0,\n     1,\n     VLOOKUP(\"FY\"&RIGHT($EA53,2),'1-Award Info'!$F$28:$G$32,2,0)),1)","v":1},"",null,""]
[null,null,null,null,null,null,null,null,null,null,0,null,null,null,null,null,null,null,null,"100038",{"$f":"COUNTIF(V$17:$V54,1)","v":1},{"$f":"COUNTIF(W$17:$W54,W54)","v":38},{"$f":"IF($K54=0,\"\",IF(LEN('1-Award Info'!$G$4)=7,'1-Award Info'!$G$4&$B54&$C54,'1-Award Info'!$G$4&$C54))","v":""},null,{"$f":"COUNTA(Y$17:Y53)+1&\"0001\"","v":"380001"},"",null,"100038",{"$f":"COUNTIF($AD$17:AD54,AD54)","v":1},{"$f":"COUNTIF($AE$17:AE54,AE54)","v":38},"",null,{"$f":"COUNTA(AG$17:AG53)+1&\"0001\"","v":"380001"},"",null,"BLANK",{"$f":"IF(IF($F54=0,\"\",IF(LEN('1-Award Info'!$G$4)=7,'1-Award Info'!$G$4&$B54&$C54&\"9\"&E54&RIGHT($D54,3),'1-Award Info'!$G$4&$C54&\"9\"&E54&RIGHT($D54,3)))=\"\",\"BLANK\",IF($F54=0,\"\",IF(LEN('1-Award Info'!$G$4)=7,'1-Award Info'!$G$4&$B54&$C54&\"9\"&E54&RIGHT($D54,3),'1-Award Info'!$G$4&$C54&\"9\"&E54&RIGHT($D54,3))))","v":"BLANK"},0,0,null,"00000",{"$f":"COUNTIF(AQ$17:AQ54,1)","v":0},{"$f":"IF(AR54=\"BLANK\",0,COUNTIF(AR$17:AR54,AR54))","v":0},"BLANK",null,{"$f":"$AT$14+COUNTIF(AV$17:AV54,\"<>BLANK\")","v":0},{"$f":"COUNTA(AU$17:AU53)+1&\"0001\"","v":"380001"},"BLANK","BLANK",0,0,{"$f":"\"20\"&RIGHT(Tables!$E$3,2)","v":"2019"},null,"BLANK",{"$f":"IF(IF($G54=0,\"\",IF(LEN('1-Award Info'!$G$4)=7,'1-Award Info'!$G$4&$B54&$C54&\"9\"&E54&RIGHT($D54,3),'1-Award Info'!$G$4&$C54&\"9\"&E54&RIGHT($D54,3)))=\"\",\"BLANK\",IF($G54=0,\"\",IF(LEN('1-Award Info'!$G$4)=7,'1-Award Info'!$G$4&$B54&$C54&\"9\"&E54&RIGHT($D54,3),'1-Award Info'!$G$4&$C54&\"9\"&E54&RIGHT($D54,3))))","v":"BLANK"},0,0,null,"00000",{"$f":"COUNTIF(BI$17:BI54,1)","v":0},{"$f":"IF(BJ54=\"BLANk\",0,COUNTIF(BJ$17:BJ54,BJ54))","v":0},"BLANK",null,{"$f":"$BL$14+COUNTIF(BO$17:BO54,\"<>BLANK\")","v":0},{"$f":"COUNTA(BM$17:BM53)+1&\"0001\"","v":"380001"},"BLANK","BLANK",0,6,{"$f":"\"20\"&RIGHT(Tables!$E$4,2)","v":"2020"},null,"BLANK",{"$f":"IF(IF($H54=0,\"\",IF(LEN('1-Award Info'!$G$4)=7,'1-Award Info'!$G$4&$B54&$C54&\"9\"&E54&RIGHT($D54,3),'1-Award Info'!$G$4&$C54&\"9\"&E54&RIGHT($D54,3)))=\"\",\"BLANK\",IF($H54=0,\"\",IF(LEN('1-Award Info'!$G$4)=7,'1-Award Info'!$G$4&$B54&$C54&\"9\"&E54&RIGHT($D54,3),'1-Award Info'!$G$4&$C54&\"9\"&E54&RIGHT($D54,3))))","v":"BLANK"},0,0,null,"00000",{"$f":"COUNTIF(CA$17:CA54,1)","v":0},{"$f":"IF(CB54=\"BLANk\",0,COUNTIF(CB$17:CB54,CB54))","v":0},"BLANK",null,{"$f":"$CD$14+COUNTIF(CG$17:CG54,\"<>BLANK\")","v":0},{"$f":"COUNTA(CE$17:CE53)+1&\"0001\"","v":"380001"},"BLANK","BLANK",0,0,{"$f":"\"20\"&RIGHT(Tables!$E$5,2)","v":"2021"},null,"BLANK",{"$f":"IF(IF($I54=0,\"\",IF(LEN('1-Award Info'!$G$4)=7,'1-Award Info'!$G$4&$B54&$C54&\"9\"&$E54&RIGHT($D54,3),'1-Award Info'!$G$4&$C54&\"9\"&E$17&RIGHT($D54,3)))=\"\",\"BLANK\",IF($I54=0,\"\",IF(LEN('1-Award Info'!$G$4)=7,'1-Award Info'!$G$4&$B54&$C54&\"9\"&$E54&RIGHT($D54,3),'1-Award Info'!$G$4&$C54&\"9\"&$E54&RIGHT($D54,3))))","v":"BLANK"},0,0,null,"00000",{"$f":"COUNTIF(CS$17:CS54,1)","v":0},{"$f":"IF(CT54=\"BLANk\",0,COUNTIF(CT$17:CT54,CT54))","v":0},"BLANK",null,{"$f":"$CV$14+COUNTIF(CY$17:CY54,\"<>BLANK\")","v":0},{"$f":"COUNTA(CW$17:CW53)+1&\"0001\"","v":"380001"},"BLANK","BLANK",0,0,{"$f":"\"20\"&RIGHT(Tables!$E$6,2)","v":"2022"},null,"BLANK",{"$f":"IF(IF($J54=0,\"\",IF(LEN('1-Award Info'!$G$4)=7,'1-Award Info'!$G$4&$B54&$C54&\"9\"&$E54&RIGHT($D54,3),'1-Award Info'!$G$4&$C54&\"9\"&W$17&RIGHT($D54,3)))=\"\",\"BLANK\",IF($J54=0,\"\",IF(LEN('1-Award Info'!$G$4)=7,'1-Award Info'!$G$4&$B54&$C54&\"9\"&$E54&RIGHT($D54,3),'1-Award Info'!$G$4&$C54&\"9\"&$E54&RIGHT($D54,3))))","v":"BLANK"},0,0,null,"00000",{"$f":"COUNTIF(DK$17:DK54,1)","v":0},{"$f":"IF(DL54=\"BLANk\",0,COUNTIF(DL$17:DL54,DL54))","v":0},"BLANK",null,{"$f":"$DN$14+COUNTIF(DQ$17:DQ54,\"<>BLANK\")","v":0},{"$f":"COUNTA(DO$17:DO53)+1&\"0001\"","v":"380001"},"BLANK","BLANK",0,0,{"$f":"\"20\"&RIGHT(Tables!$E$7,2)","v":"2023"},null,38,{"$f":"\"00\"&'1-Award Info'!$G$6","v":"00"},"","",1,"",{"$f":"IFERROR(\nIF(VLOOKUP(\"FY\"&RIGHT($EA54,2),'1-Award Info'!$F$28:$G$32,2,0)=0,\n     1,\n     VLOOKUP(\"FY\"&RIGHT($EA54,2),'1-Award Info'!$F$28:$G$32,2,0)),1)","v":1},"",null,""]
[null,null,null,null,null,null,null,null,null,null,0,null,null,null,null,null,null,null,null,"100039",{"$f":"COUNTIF(V$17:$V55,1)","v":1},{"$f":"COUNTIF(W$17:$W55,W55)","v":39},{"$f":"IF($K55=0,\"\",IF(LEN('1-Award Info'!$G$4)=7,'1-Award Info'!$G$4&$B55&$C55,'1-Award Info'!$G$4&$C55))","v":""},null,{"$f":"COUNTA(Y$17:Y54)+1&\"0001\"","v":"390001"},"",null,"100039",{"$f":"COUNTIF($AD$17:AD55,AD55)","v":1},{"$f":"COUNTIF($AE$17:AE55,AE55)","v":39},"",null,{"$f":"COUNTA(AG$17:AG54)+1&\"0001\"","v":"390001"},"",null,"BLANK",{"$f":"IF(IF($F55=0,\"\",IF(LEN('1-Award Info'!$G$4)=7,'1-Award Info'!$G$4&$B55&$C55&\"9\"&E55&RIGHT($D55,3),'1-Award Info'!$G$4&$C55&\"9\"&E55&RIGHT($D55,3)))=\"\",\"BLANK\",IF($F55=0,\"\",IF(LEN('1-Award Info'!$G$4)=7,'1-Award Info'!$G$4&$B55&$C55&\"9\"&E55&RIGHT($D55,3),'1-Award Info'!$G$4&$C55&\"9\"&E55&RIGHT($D55,3))))","v":"BLANK"},0,0,null,"00000",{"$f":"COUNTIF(AQ$17:AQ55,1)","v":0},{"$f":"IF(AR55=\"BLANK\",0,COUNTIF(AR$17:AR55,AR55))","v":0},"BLANK",null,{"$f":"$AT$14+COUNTIF(AV$17:AV55,\"<>BLANK\")","v":0},{"$f":"COUNTA(AU$17:AU54)+1&\"0001\"","v":"390001"},"BLANK","BLANK",0,0,{"$f":"\"20\"&RIGHT(Tables!$E$3,2)","v":"2019"},null,"BLANK",{"$f":"IF(IF($G55=0,\"\",IF(LEN('1-Award Info'!$G$4)=7,'1-Award Info'!$G$4&$B55&$C55&\"9\"&E55&RIGHT($D55,3),'1-Award Info'!$G$4&$C55&\"9\"&E55&RIGHT($D55,3)))=\"\",\"BLANK\",IF($G55=0,\"\",IF(LEN('1-Award Info'!$G$4)=7,'1-Award Info'!$G$4&$B55&$C55&\"9\"&E55&RIGHT($D55,3),'1-Award Info'!$G$4&$C55&\"9\"&E55&RIGHT($D55,3))))","v":"BLANK"},0,0,null,"00000",{"$f":"COUNTIF(BI$17:BI55,1)","v":0},{"$f":"IF(BJ55=\"BLANk\",0,COUNTIF(BJ$17:BJ55,BJ55))","v":0},"BLANK",null,{"$f":"$BL$14+COUNTIF(BO$17:BO55,\"<>BLANK\")","v":0},{"$f":"COUNTA(BM$17:BM54)+1&\"0001\"","v":"390001"},"BLANK","BLANK",0,6,{"$f":"\"20\"&RIGHT(Tables!$E$4,2)","v":"2020"},null,"BLANK",{"$f":"IF(IF($H55=0,\"\",IF(LEN('1-Award Info'!$G$4)=7,'1-Award Info'!$G$4&$B55&$C55&\"9\"&E55&RIGHT($D55,3),'1-Award Info'!$G$4&$C55&\"9\"&E55&RIGHT($D55,3)))=\"\",\"BLANK\",IF($H55=0,\"\",IF(LEN('1-Award Info'!$G$4)=7,'1-Award Info'!$G$4&$B55&$C55&\"9\"&E55&RIGHT($D55,3),'1-Award Info'!$G$4&$C55&\"9\"&E55&RIGHT($D55,3))))","v":"BLANK"},0,0,null,"00000",{"$f":"COUNTIF(CA$17:CA55,1)","v":0},{"$f":"IF(CB55=\"BLANk\",0,COUNTIF(CB$17:CB55,CB55))","v":0},"BLANK",null,{"$f":"$CD$14+COUNTIF(CG$17:CG55,\"<>BLANK\")","v":0},{"$f":"COUNTA(CE$17:CE54)+1&\"0001\"","v":"390001"},"BLANK","BLANK",0,0,{"$f":"\"20\"&RIGHT(Tables!$E$5,2)","v":"2021"},null,"BLANK",{"$f":"IF(IF($I55=0,\"\",IF(LEN('1-Award Info'!$G$4)=7,'1-Award Info'!$G$4&$B55&$C55&\"9\"&$E55&RIGHT($D55,3),'1-Award Info'!$G$4&$C55&\"9\"&E$17&RIGHT($D55,3)))=\"\",\"BLANK\",IF($I55=0,\"\",IF(LEN('1-Award Info'!$G$4)=7,'1-Award Info'!$G$4&$B55&$C55&\"9\"&$E55&RIGHT($D55,3),'1-Award Info'!$G$4&$C55&\"9\"&$E55&RIGHT($D55,3))))","v":"BLANK"},0,0,null,"00000",{"$f":"COUNTIF(CS$17:CS55,1)","v":0},{"$f":"IF(CT55=\"BLANk\",0,COUNTIF(CT$17:CT55,CT55))","v":0},"BLANK",null,{"$f":"$CV$14+COUNTIF(CY$17:CY55,\"<>BLANK\")","v":0},{"$f":"COUNTA(CW$17:CW54)+1&\"0001\"","v":"390001"},"BLANK","BLANK",0,0,{"$f":"\"20\"&RIGHT(Tables!$E$6,2)","v":"2022"},null,"BLANK",{"$f":"IF(IF($J55=0,\"\",IF(LEN('1-Award Info'!$G$4)=7,'1-Award Info'!$G$4&$B55&$C55&\"9\"&$E55&RIGHT($D55,3),'1-Award Info'!$G$4&$C55&\"9\"&W$17&RIGHT($D55,3)))=\"\",\"BLANK\",IF($J55=0,\"\",IF(LEN('1-Award Info'!$G$4)=7,'1-Award Info'!$G$4&$B55&$C55&\"9\"&$E55&RIGHT($D55,3),'1-Award Info'!$G$4&$C55&\"9\"&$E55&RIGHT($D55,3))))","v":"BLANK"},0,0,null,"00000",{"$f":"COUNTIF(DK$17:DK55,1)","v":0},{"$f":"IF(DL55=\"BLANk\",0,COUNTIF(DL$17:DL55,DL55))","v":0},"BLANK",null,{"$f":"$DN$14+COUNTIF(DQ$17:DQ55,\"<>BLANK\")","v":0},{"$f":"COUNTA(DO$17:DO54)+1&\"0001\"","v":"390001"},"BLANK","BLANK",0,0,{"$f":"\"20\"&RIGHT(Tables!$E$7,2)","v":"2023"},null,39,{"$f":"\"00\"&'1-Award Info'!$G$6","v":"00"},"","",1,"",{"$f":"IFERROR(\nIF(VLOOKUP(\"FY\"&RIGHT($EA55,2),'1-Award Info'!$F$28:$G$32,2,0)=0,\n     1,\n     VLOOKUP(\"FY\"&RIGHT($EA55,2),'1-Award Info'!$F$28:$G$32,2,0)),1)","v":1},"",null,""]
[null,null,null,null,null,null,null,null,null,null,0,null,null,null,null,null,null,null,null,"100040",{"$f":"COUNTIF(V$17:$V56,1)","v":1},{"$f":"COUNTIF(W$17:$W56,W56)","v":40},{"$f":"IF($K56=0,\"\",IF(LEN('1-Award Info'!$G$4)=7,'1-Award Info'!$G$4&$B56&$C56,'1-Award Info'!$G$4&$C56))","v":""},null,{"$f":"COUNTA(Y$17:Y55)+1&\"0001\"","v":"400001"},"",null,"100040",{"$f":"COUNTIF($AD$17:AD56,AD56)","v":1},{"$f":"COUNTIF($AE$17:AE56,AE56)","v":40},"",null,{"$f":"COUNTA(AG$17:AG55)+1&\"0001\"","v":"400001"},"",null,"BLANK",{"$f":"IF(IF($F56=0,\"\",IF(LEN('1-Award Info'!$G$4)=7,'1-Award Info'!$G$4&$B56&$C56&\"9\"&E56&RIGHT($D56,3),'1-Award Info'!$G$4&$C56&\"9\"&E56&RIGHT($D56,3)))=\"\",\"BLANK\",IF($F56=0,\"\",IF(LEN('1-Award Info'!$G$4)=7,'1-Award Info'!$G$4&$B56&$C56&\"9\"&E56&RIGHT($D56,3),'1-Award Info'!$G$4&$C56&\"9\"&E56&RIGHT($D56,3))))","v":"BLANK"},0,0,null,"00000",{"$f":"COUNTIF(AQ$17:AQ56,1)","v":0},{"$f":"IF(AR56=\"BLANK\",0,COUNTIF(AR$17:AR56,AR56))","v":0},"BLANK",null,{"$f":"$AT$14+COUNTIF(AV$17:AV56,\"<>BLANK\")","v":0},{"$f":"COUNTA(AU$17:AU55)+1&\"0001\"","v":"400001"},"BLANK","BLANK",0,0,{"$f":"\"20\"&RIGHT(Tables!$E$3,2)","v":"2019"},null,"BLANK",{"$f":"IF(IF($G56=0,\"\",IF(LEN('1-Award Info'!$G$4)=7,'1-Award Info'!$G$4&$B56&$C56&\"9\"&E56&RIGHT($D56,3),'1-Award Info'!$G$4&$C56&\"9\"&E56&RIGHT($D56,3)))=\"\",\"BLANK\",IF($G56=0,\"\",IF(LEN('1-Award Info'!$G$4)=7,'1-Award Info'!$G$4&$B56&$C56&\"9\"&E56&RIGHT($D56,3),'1-Award Info'!$G$4&$C56&\"9\"&E56&RIGHT($D56,3))))","v":"BLANK"},0,0,null,"00000",{"$f":"COUNTIF(BI$17:BI56,1)","v":0},{"$f":"IF(BJ56=\"BLANk\",0,COUNTIF(BJ$17:BJ56,BJ56))","v":0},"BLANK",null,{"$f":"$BL$14+COUNTIF(BO$17:BO56,\"<>BLANK\")","v":0},{"$f":"COUNTA(BM$17:BM55)+1&\"0001\"","v":"400001"},"BLANK","BLANK",0,6,{"$f":"\"20\"&RIGHT(Tables!$E$4,2)","v":"2020"},null,"BLANK",{"$f":"IF(IF($H56=0,\"\",IF(LEN('1-Award Info'!$G$4)=7,'1-Award Info'!$G$4&$B56&$C56&\"9\"&E56&RIGHT($D56,3),'1-Award Info'!$G$4&$C56&\"9\"&E56&RIGHT($D56,3)))=\"\",\"BLANK\",IF($H56=0,\"\",IF(LEN('1-Award Info'!$G$4)=7,'1-Award Info'!$G$4&$B56&$C56&\"9\"&E56&RIGHT($D56,3),'1-Award Info'!$G$4&$C56&\"9\"&E56&RIGHT($D56,3))))","v":"BLANK"},0,0,null,"00000",{"$f":"COUNTIF(CA$17:CA56,1)","v":0},{"$f":"IF(CB56=\"BLANk\",0,COUNTIF(CB$17:CB56,CB56))","v":0},"BLANK",null,{"$f":"$CD$14+COUNTIF(CG$17:CG56,\"<>BLANK\")","v":0},{"$f":"COUNTA(CE$17:CE55)+1&\"0001\"","v":"400001"},"BLANK","BLANK",0,0,{"$f":"\"20\"&RIGHT(Tables!$E$5,2)","v":"2021"},null,"BLANK",{"$f":"IF(IF($I56=0,\"\",IF(LEN('1-Award Info'!$G$4)=7,'1-Award Info'!$G$4&$B56&$C56&\"9\"&$E56&RIGHT($D56,3),'1-Award Info'!$G$4&$C56&\"9\"&E$17&RIGHT($D56,3)))=\"\",\"BLANK\",IF($I56=0,\"\",IF(LEN('1-Award Info'!$G$4)=7,'1-Award Info'!$G$4&$B56&$C56&\"9\"&$E56&RIGHT($D56,3),'1-Award Info'!$G$4&$C56&\"9\"&$E56&RIGHT($D56,3))))","v":"BLANK"},0,0,null,"00000",{"$f":"COUNTIF(CS$17:CS56,1)","v":0},{"$f":"IF(CT56=\"BLANk\",0,COUNTIF(CT$17:CT56,CT56))","v":0},"BLANK",null,{"$f":"$CV$14+COUNTIF(CY$17:CY56,\"<>BLANK\")","v":0},{"$f":"COUNTA(CW$17:CW55)+1&\"0001\"","v":"400001"},"BLANK","BLANK",0,0,{"$f":"\"20\"&RIGHT(Tables!$E$6,2)","v":"2022"},null,"BLANK",{"$f":"IF(IF($J56=0,\"\",IF(LEN('1-Award Info'!$G$4)=7,'1-Award Info'!$G$4&$B56&$C56&\"9\"&$E56&RIGHT($D56,3),'1-Award Info'!$G$4&$C56&\"9\"&W$17&RIGHT($D56,3)))=\"\",\"BLANK\",IF($J56=0,\"\",IF(LEN('1-Award Info'!$G$4)=7,'1-Award Info'!$G$4&$B56&$C56&\"9\"&$E56&RIGHT($D56,3),'1-Award Info'!$G$4&$C56&\"9\"&$E56&RIGHT($D56,3))))","v":"BLANK"},0,0,null,"00000",{"$f":"COUNTIF(DK$17:DK56,1)","v":0},{"$f":"IF(DL56=\"BLANk\",0,COUNTIF(DL$17:DL56,DL56))","v":0},"BLANK",null,{"$f":"$DN$14+COUNTIF(DQ$17:DQ56,\"<>BLANK\")","v":0},{"$f":"COUNTA(DO$17:DO55)+1&\"0001\"","v":"400001"},"BLANK","BLANK",0,0,{"$f":"\"20\"&RIGHT(Tables!$E$7,2)","v":"2023"},null,40,{"$f":"\"00\"&'1-Award Info'!$G$6","v":"00"},"","",1,"",{"$f":"IFERROR(\nIF(VLOOKUP(\"FY\"&RIGHT($EA56,2),'1-Award Info'!$F$28:$G$32,2,0)=0,\n     1,\n     VLOOKUP(\"FY\"&RIGHT($EA56,2),'1-Award Info'!$F$28:$G$32,2,0)),1)","v":1},"",null,""]
[null,null,null,null,null,null,null,null,null,null,0,null,null,null,null,null,null,null,null,"100041",{"$f":"COUNTIF(V$17:$V57,1)","v":1},{"$f":"COUNTIF(W$17:$W57,W57)","v":41},{"$f":"IF($K57=0,\"\",IF(LEN('1-Award Info'!$G$4)=7,'1-Award Info'!$G$4&$B57&$C57,'1-Award Info'!$G$4&$C57))","v":""},null,{"$f":"COUNTA(Y$17:Y56)+1&\"0001\"","v":"410001"},"",null,"100041",{"$f":"COUNTIF($AD$17:AD57,AD57)","v":1},{"$f":"COUNTIF($AE$17:AE57,AE57)","v":41},"",null,{"$f":"COUNTA(AG$17:AG56)+1&\"0001\"","v":"410001"},"",null,"BLANK",{"$f":"IF(IF($F57=0,\"\",IF(LEN('1-Award Info'!$G$4)=7,'1-Award Info'!$G$4&$B57&$C57&\"9\"&E57&RIGHT($D57,3),'1-Award Info'!$G$4&$C57&\"9\"&E57&RIGHT($D57,3)))=\"\",\"BLANK\",IF($F57=0,\"\",IF(LEN('1-Award Info'!$G$4)=7,'1-Award Info'!$G$4&$B57&$C57&\"9\"&E57&RIGHT($D57,3),'1-Award Info'!$G$4&$C57&\"9\"&E57&RIGHT($D57,3))))","v":"BLANK"},0,0,null,"00000",{"$f":"COUNTIF(AQ$17:AQ57,1)","v":0},{"$f":"IF(AR57=\"BLANK\",0,COUNTIF(AR$17:AR57,AR57))","v":0},"BLANK",null,{"$f":"$AT$14+COUNTIF(AV$17:AV57,\"<>BLANK\")","v":0},{"$f":"COUNTA(AU$17:AU56)+1&\"0001\"","v":"410001"},"BLANK","BLANK",0,0,{"$f":"\"20\"&RIGHT(Tables!$E$3,2)","v":"2019"},null,"BLANK",{"$f":"IF(IF($G57=0,\"\",IF(LEN('1-Award Info'!$G$4)=7,'1-Award Info'!$G$4&$B57&$C57&\"9\"&E57&RIGHT($D57,3),'1-Award Info'!$G$4&$C57&\"9\"&E57&RIGHT($D57,3)))=\"\",\"BLANK\",IF($G57=0,\"\",IF(LEN('1-Award Info'!$G$4)=7,'1-Award Info'!$G$4&$B57&$C57&\"9\"&E57&RIGHT($D57,3),'1-Award Info'!$G$4&$C57&\"9\"&E57&RIGHT($D57,3))))","v":"BLANK"},0,0,null,"00000",{"$f":"COUNTIF(BI$17:BI57,1)","v":0},{"$f":"IF(BJ57=\"BLANk\",0,COUNTIF(BJ$17:BJ57,BJ57))","v":0},"BLANK",null,{"$f":"$BL$14+COUNTIF(BO$17:BO57,\"<>BLANK\")","v":0},{"$f":"COUNTA(BM$17:BM56)+1&\"0001\"","v":"410001"},"BLANK","BLANK",0,6,{"$f":"\"20\"&RIGHT(Tables!$E$4,2)","v":"2020"},null,"BLANK",{"$f":"IF(IF($H57=0,\"\",IF(LEN('1-Award Info'!$G$4)=7,'1-Award Info'!$G$4&$B57&$C57&\"9\"&E57&RIGHT($D57,3),'1-Award Info'!$G$4&$C57&\"9\"&E57&RIGHT($D57,3)))=\"\",\"BLANK\",IF($H57=0,\"\",IF(LEN('1-Award Info'!$G$4)=7,'1-Award Info'!$G$4&$B57&$C57&\"9\"&E57&RIGHT($D57,3),'1-Award Info'!$G$4&$C57&\"9\"&E57&RIGHT($D57,3))))","v":"BLANK"},0,0,null,"00000",{"$f":"COUNTIF(CA$17:CA57,1)","v":0},{"$f":"IF(CB57=\"BLANk\",0,COUNTIF(CB$17:CB57,CB57))","v":0},"BLANK",null,{"$f":"$CD$14+COUNTIF(CG$17:CG57,\"<>BLANK\")","v":0},{"$f":"COUNTA(CE$17:CE56)+1&\"0001\"","v":"410001"},"BLANK","BLANK",0,0,{"$f":"\"20\"&RIGHT(Tables!$E$5,2)","v":"2021"},null,"BLANK",{"$f":"IF(IF($I57=0,\"\",IF(LEN('1-Award Info'!$G$4)=7,'1-Award Info'!$G$4&$B57&$C57&\"9\"&$E57&RIGHT($D57,3),'1-Award Info'!$G$4&$C57&\"9\"&E$17&RIGHT($D57,3)))=\"\",\"BLANK\",IF($I57=0,\"\",IF(LEN('1-Award Info'!$G$4)=7,'1-Award Info'!$G$4&$B57&$C57&\"9\"&$E57&RIGHT($D57,3),'1-Award Info'!$G$4&$C57&\"9\"&$E57&RIGHT($D57,3))))","v":"BLANK"},0,0,null,"00000",{"$f":"COUNTIF(CS$17:CS57,1)","v":0},{"$f":"IF(CT57=\"BLANk\",0,COUNTIF(CT$17:CT57,CT57))","v":0},"BLANK",null,{"$f":"$CV$14+COUNTIF(CY$17:CY57,\"<>BLANK\")","v":0},{"$f":"COUNTA(CW$17:CW56)+1&\"0001\"","v":"410001"},"BLANK","BLANK",0,0,{"$f":"\"20\"&RIGHT(Tables!$E$6,2)","v":"2022"},null,"BLANK",{"$f":"IF(IF($J57=0,\"\",IF(LEN('1-Award Info'!$G$4)=7,'1-Award Info'!$G$4&$B57&$C57&\"9\"&$E57&RIGHT($D57,3),'1-Award Info'!$G$4&$C57&\"9\"&W$17&RIGHT($D57,3)))=\"\",\"BLANK\",IF($J57=0,\"\",IF(LEN('1-Award Info'!$G$4)=7,'1-Award Info'!$G$4&$B57&$C57&\"9\"&$E57&RIGHT($D57,3),'1-Award Info'!$G$4&$C57&\"9\"&$E57&RIGHT($D57,3))))","v":"BLANK"},0,0,null,"00000",{"$f":"COUNTIF(DK$17:DK57,1)","v":0},{"$f":"IF(DL57=\"BLANk\",0,COUNTIF(DL$17:DL57,DL57))","v":0},"BLANK",null,{"$f":"$DN$14+COUNTIF(DQ$17:DQ57,\"<>BLANK\")","v":0},{"$f":"COUNTA(DO$17:DO56)+1&\"0001\"","v":"410001"},"BLANK","BLANK",0,0,{"$f":"\"20\"&RIGHT(Tables!$E$7,2)","v":"2023"},null,41,{"$f":"\"00\"&'1-Award Info'!$G$6","v":"00"},"","",1,"",{"$f":"IFERROR(\nIF(VLOOKUP(\"FY\"&RIGHT($EA57,2),'1-Award Info'!$F$28:$G$32,2,0)=0,\n     1,\n     VLOOKUP(\"FY\"&RIGHT($EA57,2),'1-Award Info'!$F$28:$G$32,2,0)),1)","v":1},"",null,""]
[null,null,null,null,null,null,null,null,null,null,0,null,null,null,null,null,null,null,null,"100042",{"$f":"COUNTIF(V$17:$V58,1)","v":1},{"$f":"COUNTIF(W$17:$W58,W58)","v":42},{"$f":"IF($K58=0,\"\",IF(LEN('1-Award Info'!$G$4)=7,'1-Award Info'!$G$4&$B58&$C58,'1-Award Info'!$G$4&$C58))","v":""},null,{"$f":"COUNTA(Y$17:Y57)+1&\"0001\"","v":"420001"},"",null,"100042",{"$f":"COUNTIF($AD$17:AD58,AD58)","v":1},{"$f":"COUNTIF($AE$17:AE58,AE58)","v":42},"",null,{"$f":"COUNTA(AG$17:AG57)+1&\"0001\"","v":"420001"},"",null,"BLANK",{"$f":"IF(IF($F58=0,\"\",IF(LEN('1-Award Info'!$G$4)=7,'1-Award Info'!$G$4&$B58&$C58&\"9\"&E58&RIGHT($D58,3),'1-Award Info'!$G$4&$C58&\"9\"&E58&RIGHT($D58,3)))=\"\",\"BLANK\",IF($F58=0,\"\",IF(LEN('1-Award Info'!$G$4)=7,'1-Award Info'!$G$4&$B58&$C58&\"9\"&E58&RIGHT($D58,3),'1-Award Info'!$G$4&$C58&\"9\"&E58&RIGHT($D58,3))))","v":"BLANK"},0,0,null,"00000",{"$f":"COUNTIF(AQ$17:AQ58,1)","v":0},{"$f":"IF(AR58=\"BLANK\",0,COUNTIF(AR$17:AR58,AR58))","v":0},"BLANK",null,{"$f":"$AT$14+COUNTIF(AV$17:AV58,\"<>BLANK\")","v":0},{"$f":"COUNTA(AU$17:AU57)+1&\"0001\"","v":"420001"},"BLANK","BLANK",0,0,{"$f":"\"20\"&RIGHT(Tables!$E$3,2)","v":"2019"},null,"BLANK",{"$f":"IF(IF($G58=0,\"\",IF(LEN('1-Award Info'!$G$4)=7,'1-Award Info'!$G$4&$B58&$C58&\"9\"&E58&RIGHT($D58,3),'1-Award Info'!$G$4&$C58&\"9\"&E58&RIGHT($D58,3)))=\"\",\"BLANK\",IF($G58=0,\"\",IF(LEN('1-Award Info'!$G$4)=7,'1-Award Info'!$G$4&$B58&$C58&\"9\"&E58&RIGHT($D58,3),'1-Award Info'!$G$4&$C58&\"9\"&E58&RIGHT($D58,3))))","v":"BLANK"},0,0,null,"00000",{"$f":"COUNTIF(BI$17:BI58,1)","v":0},{"$f":"IF(BJ58=\"BLANk\",0,COUNTIF(BJ$17:BJ58,BJ58))","v":0},"BLANK",null,{"$f":"$BL$14+COUNTIF(BO$17:BO58,\"<>BLANK\")","v":0},{"$f":"COUNTA(BM$17:BM57)+1&\"0001\"","v":"420001"},"BLANK","BLANK",0,6,{"$f":"\"20\"&RIGHT(Tables!$E$4,2)","v":"2020"},null,"BLANK",{"$f":"IF(IF($H58=0,\"\",IF(LEN('1-Award Info'!$G$4)=7,'1-Award Info'!$G$4&$B58&$C58&\"9\"&E58&RIGHT($D58,3),'1-Award Info'!$G$4&$C58&\"9\"&E58&RIGHT($D58,3)))=\"\",\"BLANK\",IF($H58=0,\"\",IF(LEN('1-Award Info'!$G$4)=7,'1-Award Info'!$G$4&$B58&$C58&\"9\"&E58&RIGHT($D58,3),'1-Award Info'!$G$4&$C58&\"9\"&E58&RIGHT($D58,3))))","v":"BLANK"},0,0,null,"00000",{"$f":"COUNTIF(CA$17:CA58,1)","v":0},{"$f":"IF(CB58=\"BLANk\",0,COUNTIF(CB$17:CB58,CB58))","v":0},"BLANK",null,{"$f":"$CD$14+COUNTIF(CG$17:CG58,\"<>BLANK\")","v":0},{"$f":"COUNTA(CE$17:CE57)+1&\"0001\"","v":"420001"},"BLANK","BLANK",0,0,{"$f":"\"20\"&RIGHT(Tables!$E$5,2)","v":"2021"},null,"BLANK",{"$f":"IF(IF($I58=0,\"\",IF(LEN('1-Award Info'!$G$4)=7,'1-Award Info'!$G$4&$B58&$C58&\"9\"&$E58&RIGHT($D58,3),'1-Award Info'!$G$4&$C58&\"9\"&E$17&RIGHT($D58,3)))=\"\",\"BLANK\",IF($I58=0,\"\",IF(LEN('1-Award Info'!$G$4)=7,'1-Award Info'!$G$4&$B58&$C58&\"9\"&$E58&RIGHT($D58,3),'1-Award Info'!$G$4&$C58&\"9\"&$E58&RIGHT($D58,3))))","v":"BLANK"},0,0,null,"00000",{"$f":"COUNTIF(CS$17:CS58,1)","v":0},{"$f":"IF(CT58=\"BLANk\",0,COUNTIF(CT$17:CT58,CT58))","v":0},"BLANK",null,{"$f":"$CV$14+COUNTIF(CY$17:CY58,\"<>BLANK\")","v":0},{"$f":"COUNTA(CW$17:CW57)+1&\"0001\"","v":"420001"},"BLANK","BLANK",0,0,{"$f":"\"20\"&RIGHT(Tables!$E$6,2)","v":"2022"},null,"BLANK",{"$f":"IF(IF($J58=0,\"\",IF(LEN('1-Award Info'!$G$4)=7,'1-Award Info'!$G$4&$B58&$C58&\"9\"&$E58&RIGHT($D58,3),'1-Award Info'!$G$4&$C58&\"9\"&W$17&RIGHT($D58,3)))=\"\",\"BLANK\",IF($J58=0,\"\",IF(LEN('1-Award Info'!$G$4)=7,'1-Award Info'!$G$4&$B58&$C58&\"9\"&$E58&RIGHT($D58,3),'1-Award Info'!$G$4&$C58&\"9\"&$E58&RIGHT($D58,3))))","v":"BLANK"},0,0,null,"00000",{"$f":"COUNTIF(DK$17:DK58,1)","v":0},{"$f":"IF(DL58=\"BLANk\",0,COUNTIF(DL$17:DL58,DL58))","v":0},"BLANK",null,{"$f":"$DN$14+COUNTIF(DQ$17:DQ58,\"<>BLANK\")","v":0},{"$f":"COUNTA(DO$17:DO57)+1&\"0001\"","v":"420001"},"BLANK","BLANK",0,0,{"$f":"\"20\"&RIGHT(Tables!$E$7,2)","v":"2023"},null,42,{"$f":"\"00\"&'1-Award Info'!$G$6","v":"00"},"","",1,"",{"$f":"IFERROR(\nIF(VLOOKUP(\"FY\"&RIGHT($EA58,2),'1-Award Info'!$F$28:$G$32,2,0)=0,\n     1,\n     VLOOKUP(\"FY\"&RIGHT($EA58,2),'1-Award Info'!$F$28:$G$32,2,0)),1)","v":1},"",null,""]
[null,null,null,null,null,null,null,null,null,null,0,null,null,null,null,null,null,null,null,"100043",{"$f":"COUNTIF(V$17:$V59,1)","v":1},{"$f":"COUNTIF(W$17:$W59,W59)","v":43},{"$f":"IF($K59=0,\"\",IF(LEN('1-Award Info'!$G$4)=7,'1-Award Info'!$G$4&$B59&$C59,'1-Award Info'!$G$4&$C59))","v":""},null,{"$f":"COUNTA(Y$17:Y58)+1&\"0001\"","v":"430001"},"",null,"100043",{"$f":"COUNTIF($AD$17:AD59,AD59)","v":1},{"$f":"COUNTIF($AE$17:AE59,AE59)","v":43},"",null,{"$f":"COUNTA(AG$17:AG58)+1&\"0001\"","v":"430001"},"",null,"BLANK",{"$f":"IF(IF($F59=0,\"\",IF(LEN('1-Award Info'!$G$4)=7,'1-Award Info'!$G$4&$B59&$C59&\"9\"&E59&RIGHT($D59,3),'1-Award Info'!$G$4&$C59&\"9\"&E59&RIGHT($D59,3)))=\"\",\"BLANK\",IF($F59=0,\"\",IF(LEN('1-Award Info'!$G$4)=7,'1-Award Info'!$G$4&$B59&$C59&\"9\"&E59&RIGHT($D59,3),'1-Award Info'!$G$4&$C59&\"9\"&E59&RIGHT($D59,3))))","v":"BLANK"},0,0,null,"00000",{"$f":"COUNTIF(AQ$17:AQ59,1)","v":0},{"$f":"IF(AR59=\"BLANK\",0,COUNTIF(AR$17:AR59,AR59))","v":0},"BLANK",null,{"$f":"$AT$14+COUNTIF(AV$17:AV59,\"<>BLANK\")","v":0},{"$f":"COUNTA(AU$17:AU58)+1&\"0001\"","v":"430001"},"BLANK","BLANK",0,0,{"$f":"\"20\"&RIGHT(Tables!$E$3,2)","v":"2019"},null,"BLANK",{"$f":"IF(IF($G59=0,\"\",IF(LEN('1-Award Info'!$G$4)=7,'1-Award Info'!$G$4&$B59&$C59&\"9\"&E59&RIGHT($D59,3),'1-Award Info'!$G$4&$C59&\"9\"&E59&RIGHT($D59,3)))=\"\",\"BLANK\",IF($G59=0,\"\",IF(LEN('1-Award Info'!$G$4)=7,'1-Award Info'!$G$4&$B59&$C59&\"9\"&E59&RIGHT($D59,3),'1-Award Info'!$G$4&$C59&\"9\"&E59&RIGHT($D59,3))))","v":"BLANK"},0,0,null,"00000",{"$f":"COUNTIF(BI$17:BI59,1)","v":0},{"$f":"IF(BJ59=\"BLANk\",0,COUNTIF(BJ$17:BJ59,BJ59))","v":0},"BLANK",null,{"$f":"$BL$14+COUNTIF(BO$17:BO59,\"<>BLANK\")","v":0},{"$f":"COUNTA(BM$17:BM58)+1&\"0001\"","v":"430001"},"BLANK","BLANK",0,6,{"$f":"\"20\"&RIGHT(Tables!$E$4,2)","v":"2020"},null,"BLANK",{"$f":"IF(IF($H59=0,\"\",IF(LEN('1-Award Info'!$G$4)=7,'1-Award Info'!$G$4&$B59&$C59&\"9\"&E59&RIGHT($D59,3),'1-Award Info'!$G$4&$C59&\"9\"&E59&RIGHT($D59,3)))=\"\",\"BLANK\",IF($H59=0,\"\",IF(LEN('1-Award Info'!$G$4)=7,'1-Award Info'!$G$4&$B59&$C59&\"9\"&E59&RIGHT($D59,3),'1-Award Info'!$G$4&$C59&\"9\"&E59&RIGHT($D59,3))))","v":"BLANK"},0,0,null,"00000",{"$f":"COUNTIF(CA$17:CA59,1)","v":0},{"$f":"IF(CB59=\"BLANk\",0,COUNTIF(CB$17:CB59,CB59))","v":0},"BLANK",null,{"$f":"$CD$14+COUNTIF(CG$17:CG59,\"<>BLANK\")","v":0},{"$f":"COUNTA(CE$17:CE58)+1&\"0001\"","v":"430001"},"BLANK","BLANK",0,0,{"$f":"\"20\"&RIGHT(Tables!$E$5,2)","v":"2021"},null,"BLANK",{"$f":"IF(IF($I59=0,\"\",IF(LEN('1-Award Info'!$G$4)=7,'1-Award Info'!$G$4&$B59&$C59&\"9\"&$E59&RIGHT($D59,3),'1-Award Info'!$G$4&$C59&\"9\"&E$17&RIGHT($D59,3)))=\"\",\"BLANK\",IF($I59=0,\"\",IF(LEN('1-Award Info'!$G$4)=7,'1-Award Info'!$G$4&$B59&$C59&\"9\"&$E59&RIGHT($D59,3),'1-Award Info'!$G$4&$C59&\"9\"&$E59&RIGHT($D59,3))))","v":"BLANK"},0,0,null,"00000",{"$f":"COUNTIF(CS$17:CS59,1)","v":0},{"$f":"IF(CT59=\"BLANk\",0,COUNTIF(CT$17:CT59,CT59))","v":0},"BLANK",null,{"$f":"$CV$14+COUNTIF(CY$17:CY59,\"<>BLANK\")","v":0},{"$f":"COUNTA(CW$17:CW58)+1&\"0001\"","v":"430001"},"BLANK","BLANK",0,0,{"$f":"\"20\"&RIGHT(Tables!$E$6,2)","v":"2022"},null,"BLANK",{"$f":"IF(IF($J59=0,\"\",IF(LEN('1-Award Info'!$G$4)=7,'1-Award Info'!$G$4&$B59&$C59&\"9\"&$E59&RIGHT($D59,3),'1-Award Info'!$G$4&$C59&\"9\"&W$17&RIGHT($D59,3)))=\"\",\"BLANK\",IF($J59=0,\"\",IF(LEN('1-Award Info'!$G$4)=7,'1-Award Info'!$G$4&$B59&$C59&\"9\"&$E59&RIGHT($D59,3),'1-Award Info'!$G$4&$C59&\"9\"&$E59&RIGHT($D59,3))))","v":"BLANK"},0,0,null,"00000",{"$f":"COUNTIF(DK$17:DK59,1)","v":0},{"$f":"IF(DL59=\"BLANk\",0,COUNTIF(DL$17:DL59,DL59))","v":0},"BLANK",null,{"$f":"$DN$14+COUNTIF(DQ$17:DQ59,\"<>BLANK\")","v":0},{"$f":"COUNTA(DO$17:DO58)+1&\"0001\"","v":"430001"},"BLANK","BLANK",0,0,{"$f":"\"20\"&RIGHT(Tables!$E$7,2)","v":"2023"},null,43,{"$f":"\"00\"&'1-Award Info'!$G$6","v":"00"},"","",1,"",{"$f":"IFERROR(\nIF(VLOOKUP(\"FY\"&RIGHT($EA59,2),'1-Award Info'!$F$28:$G$32,2,0)=0,\n     1,\n     VLOOKUP(\"FY\"&RIGHT($EA59,2),'1-Award Info'!$F$28:$G$32,2,0)),1)","v":1},"",null,""]
[null,null,null,null,null,null,null,null,null,null,0,null,null,null,null,null,null,null,null,"100044",{"$f":"COUNTIF(V$17:$V60,1)","v":1},{"$f":"COUNTIF(W$17:$W60,W60)","v":44},{"$f":"IF($K60=0,\"\",IF(LEN('1-Award Info'!$G$4)=7,'1-Award Info'!$G$4&$B60&$C60,'1-Award Info'!$G$4&$C60))","v":""},null,{"$f":"COUNTA(Y$17:Y59)+1&\"0001\"","v":"440001"},"",null,"100044",{"$f":"COUNTIF($AD$17:AD60,AD60)","v":1},{"$f":"COUNTIF($AE$17:AE60,AE60)","v":44},"",null,{"$f":"COUNTA(AG$17:AG59)+1&\"0001\"","v":"440001"},"",null,"BLANK",{"$f":"IF(IF($F60=0,\"\",IF(LEN('1-Award Info'!$G$4)=7,'1-Award Info'!$G$4&$B60&$C60&\"9\"&E60&RIGHT($D60,3),'1-Award Info'!$G$4&$C60&\"9\"&E60&RIGHT($D60,3)))=\"\",\"BLANK\",IF($F60=0,\"\",IF(LEN('1-Award Info'!$G$4)=7,'1-Award Info'!$G$4&$B60&$C60&\"9\"&E60&RIGHT($D60,3),'1-Award Info'!$G$4&$C60&\"9\"&E60&RIGHT($D60,3))))","v":"BLANK"},0,0,null,"00000",{"$f":"COUNTIF(AQ$17:AQ60,1)","v":0},{"$f":"IF(AR60=\"BLANK\",0,COUNTIF(AR$17:AR60,AR60))","v":0},"BLANK",null,{"$f":"$AT$14+COUNTIF(AV$17:AV60,\"<>BLANK\")","v":0},{"$f":"COUNTA(AU$17:AU59)+1&\"0001\"","v":"440001"},"BLANK","BLANK",0,0,{"$f":"\"20\"&RIGHT(Tables!$E$3,2)","v":"2019"},null,"BLANK",{"$f":"IF(IF($G60=0,\"\",IF(LEN('1-Award Info'!$G$4)=7,'1-Award Info'!$G$4&$B60&$C60&\"9\"&E60&RIGHT($D60,3),'1-Award Info'!$G$4&$C60&\"9\"&E60&RIGHT($D60,3)))=\"\",\"BLANK\",IF($G60=0,\"\",IF(LEN('1-Award Info'!$G$4)=7,'1-Award Info'!$G$4&$B60&$C60&\"9\"&E60&RIGHT($D60,3),'1-Award Info'!$G$4&$C60&\"9\"&E60&RIGHT($D60,3))))","v":"BLANK"},0,0,null,"00000",{"$f":"COUNTIF(BI$17:BI60,1)","v":0},{"$f":"IF(BJ60=\"BLANk\",0,COUNTIF(BJ$17:BJ60,BJ60))","v":0},"BLANK",null,{"$f":"$BL$14+COUNTIF(BO$17:BO60,\"<>BLANK\")","v":0},{"$f":"COUNTA(BM$17:BM59)+1&\"0001\"","v":"440001"},"BLANK","BLANK",0,6,{"$f":"\"20\"&RIGHT(Tables!$E$4,2)","v":"2020"},null,"BLANK",{"$f":"IF(IF($H60=0,\"\",IF(LEN('1-Award Info'!$G$4)=7,'1-Award Info'!$G$4&$B60&$C60&\"9\"&E60&RIGHT($D60,3),'1-Award Info'!$G$4&$C60&\"9\"&E60&RIGHT($D60,3)))=\"\",\"BLANK\",IF($H60=0,\"\",IF(LEN('1-Award Info'!$G$4)=7,'1-Award Info'!$G$4&$B60&$C60&\"9\"&E60&RIGHT($D60,3),'1-Award Info'!$G$4&$C60&\"9\"&E60&RIGHT($D60,3))))","v":"BLANK"},0,0,null,"00000",{"$f":"COUNTIF(CA$17:CA60,1)","v":0},{"$f":"IF(CB60=\"BLANk\",0,COUNTIF(CB$17:CB60,CB60))","v":0},"BLANK",null,{"$f":"$CD$14+COUNTIF(CG$17:CG60,\"<>BLANK\")","v":0},{"$f":"COUNTA(CE$17:CE59)+1&\"0001\"","v":"440001"},"BLANK","BLANK",0,0,{"$f":"\"20\"&RIGHT(Tables!$E$5,2)","v":"2021"},null,"BLANK",{"$f":"IF(IF($I60=0,\"\",IF(LEN('1-Award Info'!$G$4)=7,'1-Award Info'!$G$4&$B60&$C60&\"9\"&$E60&RIGHT($D60,3),'1-Award Info'!$G$4&$C60&\"9\"&E$17&RIGHT($D60,3)))=\"\",\"BLANK\",IF($I60=0,\"\",IF(LEN('1-Award Info'!$G$4)=7,'1-Award Info'!$G$4&$B60&$C60&\"9\"&$E60&RIGHT($D60,3),'1-Award Info'!$G$4&$C60&\"9\"&$E60&RIGHT($D60,3))))","v":"BLANK"},0,0,null,"00000",{"$f":"COUNTIF(CS$17:CS60,1)","v":0},{"$f":"IF(CT60=\"BLANk\",0,COUNTIF(CT$17:CT60,CT60))","v":0},"BLANK",null,{"$f":"$CV$14+COUNTIF(CY$17:CY60,\"<>BLANK\")","v":0},{"$f":"COUNTA(CW$17:CW59)+1&\"0001\"","v":"440001"},"BLANK","BLANK",0,0,{"$f":"\"20\"&RIGHT(Tables!$E$6,2)","v":"2022"},null,"BLANK",{"$f":"IF(IF($J60=0,\"\",IF(LEN('1-Award Info'!$G$4)=7,'1-Award Info'!$G$4&$B60&$C60&\"9\"&$E60&RIGHT($D60,3),'1-Award Info'!$G$4&$C60&\"9\"&W$17&RIGHT($D60,3)))=\"\",\"BLANK\",IF($J60=0,\"\",IF(LEN('1-Award Info'!$G$4)=7,'1-Award Info'!$G$4&$B60&$C60&\"9\"&$E60&RIGHT($D60,3),'1-Award Info'!$G$4&$C60&\"9\"&$E60&RIGHT($D60,3))))","v":"BLANK"},0,0,null,"00000",{"$f":"COUNTIF(DK$17:DK60,1)","v":0},{"$f":"IF(DL60=\"BLANk\",0,COUNTIF(DL$17:DL60,DL60))","v":0},"BLANK",null,{"$f":"$DN$14+COUNTIF(DQ$17:DQ60,\"<>BLANK\")","v":0},{"$f":"COUNTA(DO$17:DO59)+1&\"0001\"","v":"440001"},"BLANK","BLANK",0,0,{"$f":"\"20\"&RIGHT(Tables!$E$7,2)","v":"2023"},null,44,{"$f":"\"00\"&'1-Award Info'!$G$6","v":"00"},"","",1,"",{"$f":"IFERROR(\nIF(VLOOKUP(\"FY\"&RIGHT($EA60,2),'1-Award Info'!$F$28:$G$32,2,0)=0,\n     1,\n     VLOOKUP(\"FY\"&RIGHT($EA60,2),'1-Award Info'!$F$28:$G$32,2,0)),1)","v":1},"",null,""]
[null,null,null,null,null,null,null,null,null,null,0,null,null,null,null,null,null,null,null,"100045",{"$f":"COUNTIF(V$17:$V61,1)","v":1},{"$f":"COUNTIF(W$17:$W61,W61)","v":45},{"$f":"IF($K61=0,\"\",IF(LEN('1-Award Info'!$G$4)=7,'1-Award Info'!$G$4&$B61&$C61,'1-Award Info'!$G$4&$C61))","v":""},null,{"$f":"COUNTA(Y$17:Y60)+1&\"0001\"","v":"450001"},"",null,"100045",{"$f":"COUNTIF($AD$17:AD61,AD61)","v":1},{"$f":"COUNTIF($AE$17:AE61,AE61)","v":45},"",null,{"$f":"COUNTA(AG$17:AG60)+1&\"0001\"","v":"450001"},"",null,"BLANK",{"$f":"IF(IF($F61=0,\"\",IF(LEN('1-Award Info'!$G$4)=7,'1-Award Info'!$G$4&$B61&$C61&\"9\"&E61&RIGHT($D61,3),'1-Award Info'!$G$4&$C61&\"9\"&E61&RIGHT($D61,3)))=\"\",\"BLANK\",IF($F61=0,\"\",IF(LEN('1-Award Info'!$G$4)=7,'1-Award Info'!$G$4&$B61&$C61&\"9\"&E61&RIGHT($D61,3),'1-Award Info'!$G$4&$C61&\"9\"&E61&RIGHT($D61,3))))","v":"BLANK"},0,0,null,"00000",{"$f":"COUNTIF(AQ$17:AQ61,1)","v":0},{"$f":"IF(AR61=\"BLANK\",0,COUNTIF(AR$17:AR61,AR61))","v":0},"BLANK",null,{"$f":"$AT$14+COUNTIF(AV$17:AV61,\"<>BLANK\")","v":0},{"$f":"COUNTA(AU$17:AU60)+1&\"0001\"","v":"450001"},"BLANK","BLANK",0,0,{"$f":"\"20\"&RIGHT(Tables!$E$3,2)","v":"2019"},null,"BLANK",{"$f":"IF(IF($G61=0,\"\",IF(LEN('1-Award Info'!$G$4)=7,'1-Award Info'!$G$4&$B61&$C61&\"9\"&E61&RIGHT($D61,3),'1-Award Info'!$G$4&$C61&\"9\"&E61&RIGHT($D61,3)))=\"\",\"BLANK\",IF($G61=0,\"\",IF(LEN('1-Award Info'!$G$4)=7,'1-Award Info'!$G$4&$B61&$C61&\"9\"&E61&RIGHT($D61,3),'1-Award Info'!$G$4&$C61&\"9\"&E61&RIGHT($D61,3))))","v":"BLANK"},0,0,null,"00000",{"$f":"COUNTIF(BI$17:BI61,1)","v":0},{"$f":"IF(BJ61=\"BLANk\",0,COUNTIF(BJ$17:BJ61,BJ61))","v":0},"BLANK",null,{"$f":"$BL$14+COUNTIF(BO$17:BO61,\"<>BLANK\")","v":0},{"$f":"COUNTA(BM$17:BM60)+1&\"0001\"","v":"450001"},"BLANK","BLANK",0,6,{"$f":"\"20\"&RIGHT(Tables!$E$4,2)","v":"2020"},null,"BLANK",{"$f":"IF(IF($H61=0,\"\",IF(LEN('1-Award Info'!$G$4)=7,'1-Award Info'!$G$4&$B61&$C61&\"9\"&E61&RIGHT($D61,3),'1-Award Info'!$G$4&$C61&\"9\"&E61&RIGHT($D61,3)))=\"\",\"BLANK\",IF($H61=0,\"\",IF(LEN('1-Award Info'!$G$4)=7,'1-Award Info'!$G$4&$B61&$C61&\"9\"&E61&RIGHT($D61,3),'1-Award Info'!$G$4&$C61&\"9\"&E61&RIGHT($D61,3))))","v":"BLANK"},0,0,null,"00000",{"$f":"COUNTIF(CA$17:CA61,1)","v":0},{"$f":"IF(CB61=\"BLANk\",0,COUNTIF(CB$17:CB61,CB61))","v":0},"BLANK",null,{"$f":"$CD$14+COUNTIF(CG$17:CG61,\"<>BLANK\")","v":0},{"$f":"COUNTA(CE$17:CE60)+1&\"0001\"","v":"450001"},"BLANK","BLANK",0,0,{"$f":"\"20\"&RIGHT(Tables!$E$5,2)","v":"2021"},null,"BLANK",{"$f":"IF(IF($I61=0,\"\",IF(LEN('1-Award Info'!$G$4)=7,'1-Award Info'!$G$4&$B61&$C61&\"9\"&$E61&RIGHT($D61,3),'1-Award Info'!$G$4&$C61&\"9\"&E$17&RIGHT($D61,3)))=\"\",\"BLANK\",IF($I61=0,\"\",IF(LEN('1-Award Info'!$G$4)=7,'1-Award Info'!$G$4&$B61&$C61&\"9\"&$E61&RIGHT($D61,3),'1-Award Info'!$G$4&$C61&\"9\"&$E61&RIGHT($D61,3))))","v":"BLANK"},0,0,null,"00000",{"$f":"COUNTIF(CS$17:CS61,1)","v":0},{"$f":"IF(CT61=\"BLANk\",0,COUNTIF(CT$17:CT61,CT61))","v":0},"BLANK",null,{"$f":"$CV$14+COUNTIF(CY$17:CY61,\"<>BLANK\")","v":0},{"$f":"COUNTA(CW$17:CW60)+1&\"0001\"","v":"450001"},"BLANK","BLANK",0,0,{"$f":"\"20\"&RIGHT(Tables!$E$6,2)","v":"2022"},null,"BLANK",{"$f":"IF(IF($J61=0,\"\",IF(LEN('1-Award Info'!$G$4)=7,'1-Award Info'!$G$4&$B61&$C61&\"9\"&$E61&RIGHT($D61,3),'1-Award Info'!$G$4&$C61&\"9\"&W$17&RIGHT($D61,3)))=\"\",\"BLANK\",IF($J61=0,\"\",IF(LEN('1-Award Info'!$G$4)=7,'1-Award Info'!$G$4&$B61&$C61&\"9\"&$E61&RIGHT($D61,3),'1-Award Info'!$G$4&$C61&\"9\"&$E61&RIGHT($D61,3))))","v":"BLANK"},0,0,null,"00000",{"$f":"COUNTIF(DK$17:DK61,1)","v":0},{"$f":"IF(DL61=\"BLANk\",0,COUNTIF(DL$17:DL61,DL61))","v":0},"BLANK",null,{"$f":"$DN$14+COUNTIF(DQ$17:DQ61,\"<>BLANK\")","v":0},{"$f":"COUNTA(DO$17:DO60)+1&\"0001\"","v":"450001"},"BLANK","BLANK",0,0,{"$f":"\"20\"&RIGHT(Tables!$E$7,2)","v":"2023"},null,45,{"$f":"\"00\"&'1-Award Info'!$G$6","v":"00"},"","",1,"",{"$f":"IFERROR(\nIF(VLOOKUP(\"FY\"&RIGHT($EA61,2),'1-Award Info'!$F$28:$G$32,2,0)=0,\n     1,\n     VLOOKUP(\"FY\"&RIGHT($EA61,2),'1-Award Info'!$F$28:$G$32,2,0)),1)","v":1},"",null,""]
[null,null,null,null,null,null,null,null,null,null,0,null,null,null,null,null,null,null,null,"100046",{"$f":"COUNTIF(V$17:$V62,1)","v":1},{"$f":"COUNTIF(W$17:$W62,W62)","v":46},{"$f":"IF($K62=0,\"\",IF(LEN('1-Award Info'!$G$4)=7,'1-Award Info'!$G$4&$B62&$C62,'1-Award Info'!$G$4&$C62))","v":""},null,{"$f":"COUNTA(Y$17:Y61)+1&\"0001\"","v":"460001"},"",null,"100046",{"$f":"COUNTIF($AD$17:AD62,AD62)","v":1},{"$f":"COUNTIF($AE$17:AE62,AE62)","v":46},"",null,{"$f":"COUNTA(AG$17:AG61)+1&\"0001\"","v":"460001"},"",null,"BLANK",{"$f":"IF(IF($F62=0,\"\",IF(LEN('1-Award Info'!$G$4)=7,'1-Award Info'!$G$4&$B62&$C62&\"9\"&E62&RIGHT($D62,3),'1-Award Info'!$G$4&$C62&\"9\"&E62&RIGHT($D62,3)))=\"\",\"BLANK\",IF($F62=0,\"\",IF(LEN('1-Award Info'!$G$4)=7,'1-Award Info'!$G$4&$B62&$C62&\"9\"&E62&RIGHT($D62,3),'1-Award Info'!$G$4&$C62&\"9\"&E62&RIGHT($D62,3))))","v":"BLANK"},0,0,null,"00000",{"$f":"COUNTIF(AQ$17:AQ62,1)","v":0},{"$f":"IF(AR62=\"BLANK\",0,COUNTIF(AR$17:AR62,AR62))","v":0},"BLANK",null,{"$f":"$AT$14+COUNTIF(AV$17:AV62,\"<>BLANK\")","v":0},{"$f":"COUNTA(AU$17:AU61)+1&\"0001\"","v":"460001"},"BLANK","BLANK",0,0,{"$f":"\"20\"&RIGHT(Tables!$E$3,2)","v":"2019"},null,"BLANK",{"$f":"IF(IF($G62=0,\"\",IF(LEN('1-Award Info'!$G$4)=7,'1-Award Info'!$G$4&$B62&$C62&\"9\"&E62&RIGHT($D62,3),'1-Award Info'!$G$4&$C62&\"9\"&E62&RIGHT($D62,3)))=\"\",\"BLANK\",IF($G62=0,\"\",IF(LEN('1-Award Info'!$G$4)=7,'1-Award Info'!$G$4&$B62&$C62&\"9\"&E62&RIGHT($D62,3),'1-Award Info'!$G$4&$C62&\"9\"&E62&RIGHT($D62,3))))","v":"BLANK"},0,0,null,"00000",{"$f":"COUNTIF(BI$17:BI62,1)","v":0},{"$f":"IF(BJ62=\"BLANk\",0,COUNTIF(BJ$17:BJ62,BJ62))","v":0},"BLANK",null,{"$f":"$BL$14+COUNTIF(BO$17:BO62,\"<>BLANK\")","v":0},{"$f":"COUNTA(BM$17:BM61)+1&\"0001\"","v":"460001"},"BLANK","BLANK",0,6,{"$f":"\"20\"&RIGHT(Tables!$E$4,2)","v":"2020"},null,"BLANK",{"$f":"IF(IF($H62=0,\"\",IF(LEN('1-Award Info'!$G$4)=7,'1-Award Info'!$G$4&$B62&$C62&\"9\"&E62&RIGHT($D62,3),'1-Award Info'!$G$4&$C62&\"9\"&E62&RIGHT($D62,3)))=\"\",\"BLANK\",IF($H62=0,\"\",IF(LEN('1-Award Info'!$G$4)=7,'1-Award Info'!$G$4&$B62&$C62&\"9\"&E62&RIGHT($D62,3),'1-Award Info'!$G$4&$C62&\"9\"&E62&RIGHT($D62,3))))","v":"BLANK"},0,0,null,"00000",{"$f":"COUNTIF(CA$17:CA62,1)","v":0},{"$f":"IF(CB62=\"BLANk\",0,COUNTIF(CB$17:CB62,CB62))","v":0},"BLANK",null,{"$f":"$CD$14+COUNTIF(CG$17:CG62,\"<>BLANK\")","v":0},{"$f":"COUNTA(CE$17:CE61)+1&\"0001\"","v":"460001"},"BLANK","BLANK",0,0,{"$f":"\"20\"&RIGHT(Tables!$E$5,2)","v":"2021"},null,"BLANK",{"$f":"IF(IF($I62=0,\"\",IF(LEN('1-Award Info'!$G$4)=7,'1-Award Info'!$G$4&$B62&$C62&\"9\"&$E62&RIGHT($D62,3),'1-Award Info'!$G$4&$C62&\"9\"&E$17&RIGHT($D62,3)))=\"\",\"BLANK\",IF($I62=0,\"\",IF(LEN('1-Award Info'!$G$4)=7,'1-Award Info'!$G$4&$B62&$C62&\"9\"&$E62&RIGHT($D62,3),'1-Award Info'!$G$4&$C62&\"9\"&$E62&RIGHT($D62,3))))","v":"BLANK"},0,0,null,"00000",{"$f":"COUNTIF(CS$17:CS62,1)","v":0},{"$f":"IF(CT62=\"BLANk\",0,COUNTIF(CT$17:CT62,CT62))","v":0},"BLANK",null,{"$f":"$CV$14+COUNTIF(CY$17:CY62,\"<>BLANK\")","v":0},{"$f":"COUNTA(CW$17:CW61)+1&\"0001\"","v":"460001"},"BLANK","BLANK",0,0,{"$f":"\"20\"&RIGHT(Tables!$E$6,2)","v":"2022"},null,"BLANK",{"$f":"IF(IF($J62=0,\"\",IF(LEN('1-Award Info'!$G$4)=7,'1-Award Info'!$G$4&$B62&$C62&\"9\"&$E62&RIGHT($D62,3),'1-Award Info'!$G$4&$C62&\"9\"&W$17&RIGHT($D62,3)))=\"\",\"BLANK\",IF($J62=0,\"\",IF(LEN('1-Award Info'!$G$4)=7,'1-Award Info'!$G$4&$B62&$C62&\"9\"&$E62&RIGHT($D62,3),'1-Award Info'!$G$4&$C62&\"9\"&$E62&RIGHT($D62,3))))","v":"BLANK"},0,0,null,"00000",{"$f":"COUNTIF(DK$17:DK62,1)","v":0},{"$f":"IF(DL62=\"BLANk\",0,COUNTIF(DL$17:DL62,DL62))","v":0},"BLANK",null,{"$f":"$DN$14+COUNTIF(DQ$17:DQ62,\"<>BLANK\")","v":0},{"$f":"COUNTA(DO$17:DO61)+1&\"0001\"","v":"460001"},"BLANK","BLANK",0,0,{"$f":"\"20\"&RIGHT(Tables!$E$7,2)","v":"2023"},null,46,{"$f":"\"00\"&'1-Award Info'!$G$6","v":"00"},"","",1,"",{"$f":"IFERROR(\nIF(VLOOKUP(\"FY\"&RIGHT($EA62,2),'1-Award Info'!$F$28:$G$32,2,0)=0,\n     1,\n     VLOOKUP(\"FY\"&RIGHT($EA62,2),'1-Award Info'!$F$28:$G$32,2,0)),1)","v":1},"",null,""]
[null,null,null,null,null,null,null,null,null,null,0,null,null,null,null,null,null,null,null,"100047",{"$f":"COUNTIF(V$17:$V63,1)","v":1},{"$f":"COUNTIF(W$17:$W63,W63)","v":47},{"$f":"IF($K63=0,\"\",IF(LEN('1-Award Info'!$G$4)=7,'1-Award Info'!$G$4&$B63&$C63,'1-Award Info'!$G$4&$C63))","v":""},null,{"$f":"COUNTA(Y$17:Y62)+1&\"0001\"","v":"470001"},"",null,"100047",{"$f":"COUNTIF($AD$17:AD63,AD63)","v":1},{"$f":"COUNTIF($AE$17:AE63,AE63)","v":47},"",null,{"$f":"COUNTA(AG$17:AG62)+1&\"0001\"","v":"470001"},"",null,"BLANK",{"$f":"IF(IF($F63=0,\"\",IF(LEN('1-Award Info'!$G$4)=7,'1-Award Info'!$G$4&$B63&$C63&\"9\"&E63&RIGHT($D63,3),'1-Award Info'!$G$4&$C63&\"9\"&E63&RIGHT($D63,3)))=\"\",\"BLANK\",IF($F63=0,\"\",IF(LEN('1-Award Info'!$G$4)=7,'1-Award Info'!$G$4&$B63&$C63&\"9\"&E63&RIGHT($D63,3),'1-Award Info'!$G$4&$C63&\"9\"&E63&RIGHT($D63,3))))","v":"BLANK"},0,0,null,"00000",{"$f":"COUNTIF(AQ$17:AQ63,1)","v":0},{"$f":"IF(AR63=\"BLANK\",0,COUNTIF(AR$17:AR63,AR63))","v":0},"BLANK",null,{"$f":"$AT$14+COUNTIF(AV$17:AV63,\"<>BLANK\")","v":0},{"$f":"COUNTA(AU$17:AU62)+1&\"0001\"","v":"470001"},"BLANK","BLANK",0,0,{"$f":"\"20\"&RIGHT(Tables!$E$3,2)","v":"2019"},null,"BLANK",{"$f":"IF(IF($G63=0,\"\",IF(LEN('1-Award Info'!$G$4)=7,'1-Award Info'!$G$4&$B63&$C63&\"9\"&E63&RIGHT($D63,3),'1-Award Info'!$G$4&$C63&\"9\"&E63&RIGHT($D63,3)))=\"\",\"BLANK\",IF($G63=0,\"\",IF(LEN('1-Award Info'!$G$4)=7,'1-Award Info'!$G$4&$B63&$C63&\"9\"&E63&RIGHT($D63,3),'1-Award Info'!$G$4&$C63&\"9\"&E63&RIGHT($D63,3))))","v":"BLANK"},0,0,null,"00000",{"$f":"COUNTIF(BI$17:BI63,1)","v":0},{"$f":"IF(BJ63=\"BLANk\",0,COUNTIF(BJ$17:BJ63,BJ63))","v":0},"BLANK",null,{"$f":"$BL$14+COUNTIF(BO$17:BO63,\"<>BLANK\")","v":0},{"$f":"COUNTA(BM$17:BM62)+1&\"0001\"","v":"470001"},"BLANK","BLANK",0,6,{"$f":"\"20\"&RIGHT(Tables!$E$4,2)","v":"2020"},null,"BLANK",{"$f":"IF(IF($H63=0,\"\",IF(LEN('1-Award Info'!$G$4)=7,'1-Award Info'!$G$4&$B63&$C63&\"9\"&E63&RIGHT($D63,3),'1-Award Info'!$G$4&$C63&\"9\"&E63&RIGHT($D63,3)))=\"\",\"BLANK\",IF($H63=0,\"\",IF(LEN('1-Award Info'!$G$4)=7,'1-Award Info'!$G$4&$B63&$C63&\"9\"&E63&RIGHT($D63,3),'1-Award Info'!$G$4&$C63&\"9\"&E63&RIGHT($D63,3))))","v":"BLANK"},0,0,null,"00000",{"$f":"COUNTIF(CA$17:CA63,1)","v":0},{"$f":"IF(CB63=\"BLANk\",0,COUNTIF(CB$17:CB63,CB63))","v":0},"BLANK",null,{"$f":"$CD$14+COUNTIF(CG$17:CG63,\"<>BLANK\")","v":0},{"$f":"COUNTA(CE$17:CE62)+1&\"0001\"","v":"470001"},"BLANK","BLANK",0,0,{"$f":"\"20\"&RIGHT(Tables!$E$5,2)","v":"2021"},null,"BLANK",{"$f":"IF(IF($I63=0,\"\",IF(LEN('1-Award Info'!$G$4)=7,'1-Award Info'!$G$4&$B63&$C63&\"9\"&$E63&RIGHT($D63,3),'1-Award Info'!$G$4&$C63&\"9\"&E$17&RIGHT($D63,3)))=\"\",\"BLANK\",IF($I63=0,\"\",IF(LEN('1-Award Info'!$G$4)=7,'1-Award Info'!$G$4&$B63&$C63&\"9\"&$E63&RIGHT($D63,3),'1-Award Info'!$G$4&$C63&\"9\"&$E63&RIGHT($D63,3))))","v":"BLANK"},0,0,null,"00000",{"$f":"COUNTIF(CS$17:CS63,1)","v":0},{"$f":"IF(CT63=\"BLANk\",0,COUNTIF(CT$17:CT63,CT63))","v":0},"BLANK",null,{"$f":"$CV$14+COUNTIF(CY$17:CY63,\"<>BLANK\")","v":0},{"$f":"COUNTA(CW$17:CW62)+1&\"0001\"","v":"470001"},"BLANK","BLANK",0,0,{"$f":"\"20\"&RIGHT(Tables!$E$6,2)","v":"2022"},null,"BLANK",{"$f":"IF(IF($J63=0,\"\",IF(LEN('1-Award Info'!$G$4)=7,'1-Award Info'!$G$4&$B63&$C63&\"9\"&$E63&RIGHT($D63,3),'1-Award Info'!$G$4&$C63&\"9\"&W$17&RIGHT($D63,3)))=\"\",\"BLANK\",IF($J63=0,\"\",IF(LEN('1-Award Info'!$G$4)=7,'1-Award Info'!$G$4&$B63&$C63&\"9\"&$E63&RIGHT($D63,3),'1-Award Info'!$G$4&$C63&\"9\"&$E63&RIGHT($D63,3))))","v":"BLANK"},0,0,null,"00000",{"$f":"COUNTIF(DK$17:DK63,1)","v":0},{"$f":"IF(DL63=\"BLANk\",0,COUNTIF(DL$17:DL63,DL63))","v":0},"BLANK",null,{"$f":"$DN$14+COUNTIF(DQ$17:DQ63,\"<>BLANK\")","v":0},{"$f":"COUNTA(DO$17:DO62)+1&\"0001\"","v":"470001"},"BLANK","BLANK",0,0,{"$f":"\"20\"&RIGHT(Tables!$E$7,2)","v":"2023"},null,47,{"$f":"\"00\"&'1-Award Info'!$G$6","v":"00"},"","",1,"",{"$f":"IFERROR(\nIF(VLOOKUP(\"FY\"&RIGHT($EA63,2),'1-Award Info'!$F$28:$G$32,2,0)=0,\n     1,\n     VLOOKUP(\"FY\"&RIGHT($EA63,2),'1-Award Info'!$F$28:$G$32,2,0)),1)","v":1},"",null,""]
[null,null,null,null,null,null,null,null,null,null,0,null,null,null,null,null,null,null,null,"100048",{"$f":"COUNTIF(V$17:$V64,1)","v":1},{"$f":"COUNTIF(W$17:$W64,W64)","v":48},{"$f":"IF($K64=0,\"\",IF(LEN('1-Award Info'!$G$4)=7,'1-Award Info'!$G$4&$B64&$C64,'1-Award Info'!$G$4&$C64))","v":""},null,{"$f":"COUNTA(Y$17:Y63)+1&\"0001\"","v":"480001"},"",null,"100048",{"$f":"COUNTIF($AD$17:AD64,AD64)","v":1},{"$f":"COUNTIF($AE$17:AE64,AE64)","v":48},"",null,{"$f":"COUNTA(AG$17:AG63)+1&\"0001\"","v":"480001"},"",null,"BLANK",{"$f":"IF(IF($F64=0,\"\",IF(LEN('1-Award Info'!$G$4)=7,'1-Award Info'!$G$4&$B64&$C64&\"9\"&E64&RIGHT($D64,3),'1-Award Info'!$G$4&$C64&\"9\"&E64&RIGHT($D64,3)))=\"\",\"BLANK\",IF($F64=0,\"\",IF(LEN('1-Award Info'!$G$4)=7,'1-Award Info'!$G$4&$B64&$C64&\"9\"&E64&RIGHT($D64,3),'1-Award Info'!$G$4&$C64&\"9\"&E64&RIGHT($D64,3))))","v":"BLANK"},0,0,null,"00000",{"$f":"COUNTIF(AQ$17:AQ64,1)","v":0},{"$f":"IF(AR64=\"BLANK\",0,COUNTIF(AR$17:AR64,AR64))","v":0},"BLANK",null,{"$f":"$AT$14+COUNTIF(AV$17:AV64,\"<>BLANK\")","v":0},{"$f":"COUNTA(AU$17:AU63)+1&\"0001\"","v":"480001"},"BLANK","BLANK",0,0,{"$f":"\"20\"&RIGHT(Tables!$E$3,2)","v":"2019"},null,"BLANK",{"$f":"IF(IF($G64=0,\"\",IF(LEN('1-Award Info'!$G$4)=7,'1-Award Info'!$G$4&$B64&$C64&\"9\"&E64&RIGHT($D64,3),'1-Award Info'!$G$4&$C64&\"9\"&E64&RIGHT($D64,3)))=\"\",\"BLANK\",IF($G64=0,\"\",IF(LEN('1-Award Info'!$G$4)=7,'1-Award Info'!$G$4&$B64&$C64&\"9\"&E64&RIGHT($D64,3),'1-Award Info'!$G$4&$C64&\"9\"&E64&RIGHT($D64,3))))","v":"BLANK"},0,0,null,"00000",{"$f":"COUNTIF(BI$17:BI64,1)","v":0},{"$f":"IF(BJ64=\"BLANk\",0,COUNTIF(BJ$17:BJ64,BJ64))","v":0},"BLANK",null,{"$f":"$BL$14+COUNTIF(BO$17:BO64,\"<>BLANK\")","v":0},{"$f":"COUNTA(BM$17:BM63)+1&\"0001\"","v":"480001"},"BLANK","BLANK",0,6,{"$f":"\"20\"&RIGHT(Tables!$E$4,2)","v":"2020"},null,"BLANK",{"$f":"IF(IF($H64=0,\"\",IF(LEN('1-Award Info'!$G$4)=7,'1-Award Info'!$G$4&$B64&$C64&\"9\"&E64&RIGHT($D64,3),'1-Award Info'!$G$4&$C64&\"9\"&E64&RIGHT($D64,3)))=\"\",\"BLANK\",IF($H64=0,\"\",IF(LEN('1-Award Info'!$G$4)=7,'1-Award Info'!$G$4&$B64&$C64&\"9\"&E64&RIGHT($D64,3),'1-Award Info'!$G$4&$C64&\"9\"&E64&RIGHT($D64,3))))","v":"BLANK"},0,0,null,"00000",{"$f":"COUNTIF(CA$17:CA64,1)","v":0},{"$f":"IF(CB64=\"BLANk\",0,COUNTIF(CB$17:CB64,CB64))","v":0},"BLANK",null,{"$f":"$CD$14+COUNTIF(CG$17:CG64,\"<>BLANK\")","v":0},{"$f":"COUNTA(CE$17:CE63)+1&\"0001\"","v":"480001"},"BLANK","BLANK",0,0,{"$f":"\"20\"&RIGHT(Tables!$E$5,2)","v":"2021"},null,"BLANK",{"$f":"IF(IF($I64=0,\"\",IF(LEN('1-Award Info'!$G$4)=7,'1-Award Info'!$G$4&$B64&$C64&\"9\"&$E64&RIGHT($D64,3),'1-Award Info'!$G$4&$C64&\"9\"&E$17&RIGHT($D64,3)))=\"\",\"BLANK\",IF($I64=0,\"\",IF(LEN('1-Award Info'!$G$4)=7,'1-Award Info'!$G$4&$B64&$C64&\"9\"&$E64&RIGHT($D64,3),'1-Award Info'!$G$4&$C64&\"9\"&$E64&RIGHT($D64,3))))","v":"BLANK"},0,0,null,"00000",{"$f":"COUNTIF(CS$17:CS64,1)","v":0},{"$f":"IF(CT64=\"BLANk\",0,COUNTIF(CT$17:CT64,CT64))","v":0},"BLANK",null,{"$f":"$CV$14+COUNTIF(CY$17:CY64,\"<>BLANK\")","v":0},{"$f":"COUNTA(CW$17:CW63)+1&\"0001\"","v":"480001"},"BLANK","BLANK",0,0,{"$f":"\"20\"&RIGHT(Tables!$E$6,2)","v":"2022"},null,"BLANK",{"$f":"IF(IF($J64=0,\"\",IF(LEN('1-Award Info'!$G$4)=7,'1-Award Info'!$G$4&$B64&$C64&\"9\"&$E64&RIGHT($D64,3),'1-Award Info'!$G$4&$C64&\"9\"&W$17&RIGHT($D64,3)))=\"\",\"BLANK\",IF($J64=0,\"\",IF(LEN('1-Award Info'!$G$4)=7,'1-Award Info'!$G$4&$B64&$C64&\"9\"&$E64&RIGHT($D64,3),'1-Award Info'!$G$4&$C64&\"9\"&$E64&RIGHT($D64,3))))","v":"BLANK"},0,0,null,"00000",{"$f":"COUNTIF(DK$17:DK64,1)","v":0},{"$f":"IF(DL64=\"BLANk\",0,COUNTIF(DL$17:DL64,DL64))","v":0},"BLANK",null,{"$f":"$DN$14+COUNTIF(DQ$17:DQ64,\"<>BLANK\")","v":0},{"$f":"COUNTA(DO$17:DO63)+1&\"0001\"","v":"480001"},"BLANK","BLANK",0,0,{"$f":"\"20\"&RIGHT(Tables!$E$7,2)","v":"2023"},null,48,{"$f":"\"00\"&'1-Award Info'!$G$6","v":"00"},"","",1,"",{"$f":"IFERROR(\nIF(VLOOKUP(\"FY\"&RIGHT($EA64,2),'1-Award Info'!$F$28:$G$32,2,0)=0,\n     1,\n     VLOOKUP(\"FY\"&RIGHT($EA64,2),'1-Award Info'!$F$28:$G$32,2,0)),1)","v":1},"",null,""]
[null,null,null,null,null,null,null,null,null,null,0,null,null,null,null,null,null,null,null,"100049",{"$f":"COUNTIF(V$17:$V65,1)","v":1},{"$f":"COUNTIF(W$17:$W65,W65)","v":49},{"$f":"IF($K65=0,\"\",IF(LEN('1-Award Info'!$G$4)=7,'1-Award Info'!$G$4&$B65&$C65,'1-Award Info'!$G$4&$C65))","v":""},null,{"$f":"COUNTA(Y$17:Y64)+1&\"0001\"","v":"490001"},"",null,"100049",{"$f":"COUNTIF($AD$17:AD65,AD65)","v":1},{"$f":"COUNTIF($AE$17:AE65,AE65)","v":49},"",null,{"$f":"COUNTA(AG$17:AG64)+1&\"0001\"","v":"490001"},"",null,"BLANK",{"$f":"IF(IF($F65=0,\"\",IF(LEN('1-Award Info'!$G$4)=7,'1-Award Info'!$G$4&$B65&$C65&\"9\"&E65&RIGHT($D65,3),'1-Award Info'!$G$4&$C65&\"9\"&E65&RIGHT($D65,3)))=\"\",\"BLANK\",IF($F65=0,\"\",IF(LEN('1-Award Info'!$G$4)=7,'1-Award Info'!$G$4&$B65&$C65&\"9\"&E65&RIGHT($D65,3),'1-Award Info'!$G$4&$C65&\"9\"&E65&RIGHT($D65,3))))","v":"BLANK"},0,0,null,"00000",{"$f":"COUNTIF(AQ$17:AQ65,1)","v":0},{"$f":"IF(AR65=\"BLANK\",0,COUNTIF(AR$17:AR65,AR65))","v":0},"BLANK",null,{"$f":"$AT$14+COUNTIF(AV$17:AV65,\"<>BLANK\")","v":0},{"$f":"COUNTA(AU$17:AU64)+1&\"0001\"","v":"490001"},"BLANK","BLANK",0,0,{"$f":"\"20\"&RIGHT(Tables!$E$3,2)","v":"2019"},null,"BLANK",{"$f":"IF(IF($G65=0,\"\",IF(LEN('1-Award Info'!$G$4)=7,'1-Award Info'!$G$4&$B65&$C65&\"9\"&E65&RIGHT($D65,3),'1-Award Info'!$G$4&$C65&\"9\"&E65&RIGHT($D65,3)))=\"\",\"BLANK\",IF($G65=0,\"\",IF(LEN('1-Award Info'!$G$4)=7,'1-Award Info'!$G$4&$B65&$C65&\"9\"&E65&RIGHT($D65,3),'1-Award Info'!$G$4&$C65&\"9\"&E65&RIGHT($D65,3))))","v":"BLANK"},0,0,null,"00000",{"$f":"COUNTIF(BI$17:BI65,1)","v":0},{"$f":"IF(BJ65=\"BLANk\",0,COUNTIF(BJ$17:BJ65,BJ65))","v":0},"BLANK",null,{"$f":"$BL$14+COUNTIF(BO$17:BO65,\"<>BLANK\")","v":0},{"$f":"COUNTA(BM$17:BM64)+1&\"0001\"","v":"490001"},"BLANK","BLANK",0,6,{"$f":"\"20\"&RIGHT(Tables!$E$4,2)","v":"2020"},null,"BLANK",{"$f":"IF(IF($H65=0,\"\",IF(LEN('1-Award Info'!$G$4)=7,'1-Award Info'!$G$4&$B65&$C65&\"9\"&E65&RIGHT($D65,3),'1-Award Info'!$G$4&$C65&\"9\"&E65&RIGHT($D65,3)))=\"\",\"BLANK\",IF($H65=0,\"\",IF(LEN('1-Award Info'!$G$4)=7,'1-Award Info'!$G$4&$B65&$C65&\"9\"&E65&RIGHT($D65,3),'1-Award Info'!$G$4&$C65&\"9\"&E65&RIGHT($D65,3))))","v":"BLANK"},0,0,null,"00000",{"$f":"COUNTIF(CA$17:CA65,1)","v":0},{"$f":"IF(CB65=\"BLANk\",0,COUNTIF(CB$17:CB65,CB65))","v":0},"BLANK",null,{"$f":"$CD$14+COUNTIF(CG$17:CG65,\"<>BLANK\")","v":0},{"$f":"COUNTA(CE$17:CE64)+1&\"0001\"","v":"490001"},"BLANK","BLANK",0,0,{"$f":"\"20\"&RIGHT(Tables!$E$5,2)","v":"2021"},null,"BLANK",{"$f":"IF(IF($I65=0,\"\",IF(LEN('1-Award Info'!$G$4)=7,'1-Award Info'!$G$4&$B65&$C65&\"9\"&$E65&RIGHT($D65,3),'1-Award Info'!$G$4&$C65&\"9\"&E$17&RIGHT($D65,3)))=\"\",\"BLANK\",IF($I65=0,\"\",IF(LEN('1-Award Info'!$G$4)=7,'1-Award Info'!$G$4&$B65&$C65&\"9\"&$E65&RIGHT($D65,3),'1-Award Info'!$G$4&$C65&\"9\"&$E65&RIGHT($D65,3))))","v":"BLANK"},0,0,null,"00000",{"$f":"COUNTIF(CS$17:CS65,1)","v":0},{"$f":"IF(CT65=\"BLANk\",0,COUNTIF(CT$17:CT65,CT65))","v":0},"BLANK",null,{"$f":"$CV$14+COUNTIF(CY$17:CY65,\"<>BLANK\")","v":0},{"$f":"COUNTA(CW$17:CW64)+1&\"0001\"","v":"490001"},"BLANK","BLANK",0,0,{"$f":"\"20\"&RIGHT(Tables!$E$6,2)","v":"2022"},null,"BLANK",{"$f":"IF(IF($J65=0,\"\",IF(LEN('1-Award Info'!$G$4)=7,'1-Award Info'!$G$4&$B65&$C65&\"9\"&$E65&RIGHT($D65,3),'1-Award Info'!$G$4&$C65&\"9\"&W$17&RIGHT($D65,3)))=\"\",\"BLANK\",IF($J65=0,\"\",IF(LEN('1-Award Info'!$G$4)=7,'1-Award Info'!$G$4&$B65&$C65&\"9\"&$E65&RIGHT($D65,3),'1-Award Info'!$G$4&$C65&\"9\"&$E65&RIGHT($D65,3))))","v":"BLANK"},0,0,null,"00000",{"$f":"COUNTIF(DK$17:DK65,1)","v":0},{"$f":"IF(DL65=\"BLANk\",0,COUNTIF(DL$17:DL65,DL65))","v":0},"BLANK",null,{"$f":"$DN$14+COUNTIF(DQ$17:DQ65,\"<>BLANK\")","v":0},{"$f":"COUNTA(DO$17:DO64)+1&\"0001\"","v":"490001"},"BLANK","BLANK",0,0,{"$f":"\"20\"&RIGHT(Tables!$E$7,2)","v":"2023"},null,49,{"$f":"\"00\"&'1-Award Info'!$G$6","v":"00"},"","",1,"",{"$f":"IFERROR(\nIF(VLOOKUP(\"FY\"&RIGHT($EA65,2),'1-Award Info'!$F$28:$G$32,2,0)=0,\n     1,\n     VLOOKUP(\"FY\"&RIGHT($EA65,2),'1-Award Info'!$F$28:$G$32,2,0)),1)","v":1},"",null,""]
[null,null,null,null,null,null,null,null,null,null,0,null,null,null,null,null,null,null,null,"100050",{"$f":"COUNTIF(V$17:$V66,1)","v":1},{"$f":"COUNTIF(W$17:$W66,W66)","v":50},{"$f":"IF($K66=0,\"\",IF(LEN('1-Award Info'!$G$4)=7,'1-Award Info'!$G$4&$B66&$C66,'1-Award Info'!$G$4&$C66))","v":""},null,{"$f":"COUNTA(Y$17:Y65)+1&\"0001\"","v":"500001"},"",null,"100050",{"$f":"COUNTIF($AD$17:AD66,AD66)","v":1},{"$f":"COUNTIF($AE$17:AE66,AE66)","v":50},"",null,{"$f":"COUNTA(AG$17:AG65)+1&\"0001\"","v":"500001"},"",null,"BLANK",{"$f":"IF(IF($F66=0,\"\",IF(LEN('1-Award Info'!$G$4)=7,'1-Award Info'!$G$4&$B66&$C66&\"9\"&E66&RIGHT($D66,3),'1-Award Info'!$G$4&$C66&\"9\"&E66&RIGHT($D66,3)))=\"\",\"BLANK\",IF($F66=0,\"\",IF(LEN('1-Award Info'!$G$4)=7,'1-Award Info'!$G$4&$B66&$C66&\"9\"&E66&RIGHT($D66,3),'1-Award Info'!$G$4&$C66&\"9\"&E66&RIGHT($D66,3))))","v":"BLANK"},0,0,null,"00000",{"$f":"COUNTIF(AQ$17:AQ66,1)","v":0},{"$f":"IF(AR66=\"BLANK\",0,COUNTIF(AR$17:AR66,AR66))","v":0},"BLANK",null,{"$f":"$AT$14+COUNTIF(AV$17:AV66,\"<>BLANK\")","v":0},{"$f":"COUNTA(AU$17:AU65)+1&\"0001\"","v":"500001"},"BLANK","BLANK",0,0,{"$f":"\"20\"&RIGHT(Tables!$E$3,2)","v":"2019"},null,"BLANK",{"$f":"IF(IF($G66=0,\"\",IF(LEN('1-Award Info'!$G$4)=7,'1-Award Info'!$G$4&$B66&$C66&\"9\"&E66&RIGHT($D66,3),'1-Award Info'!$G$4&$C66&\"9\"&E66&RIGHT($D66,3)))=\"\",\"BLANK\",IF($G66=0,\"\",IF(LEN('1-Award Info'!$G$4)=7,'1-Award Info'!$G$4&$B66&$C66&\"9\"&E66&RIGHT($D66,3),'1-Award Info'!$G$4&$C66&\"9\"&E66&RIGHT($D66,3))))","v":"BLANK"},0,0,null,"00000",{"$f":"COUNTIF(BI$17:BI66,1)","v":0},{"$f":"IF(BJ66=\"BLANk\",0,COUNTIF(BJ$17:BJ66,BJ66))","v":0},"BLANK",null,{"$f":"$BL$14+COUNTIF(BO$17:BO66,\"<>BLANK\")","v":0},{"$f":"COUNTA(BM$17:BM65)+1&\"0001\"","v":"500001"},"BLANK","BLANK",0,6,{"$f":"\"20\"&RIGHT(Tables!$E$4,2)","v":"2020"},null,"BLANK",{"$f":"IF(IF($H66=0,\"\",IF(LEN('1-Award Info'!$G$4)=7,'1-Award Info'!$G$4&$B66&$C66&\"9\"&E66&RIGHT($D66,3),'1-Award Info'!$G$4&$C66&\"9\"&E66&RIGHT($D66,3)))=\"\",\"BLANK\",IF($H66=0,\"\",IF(LEN('1-Award Info'!$G$4)=7,'1-Award Info'!$G$4&$B66&$C66&\"9\"&E66&RIGHT($D66,3),'1-Award Info'!$G$4&$C66&\"9\"&E66&RIGHT($D66,3))))","v":"BLANK"},0,0,null,"00000",{"$f":"COUNTIF(CA$17:CA66,1)","v":0},{"$f":"IF(CB66=\"BLANk\",0,COUNTIF(CB$17:CB66,CB66))","v":0},"BLANK",null,{"$f":"$CD$14+COUNTIF(CG$17:CG66,\"<>BLANK\")","v":0},{"$f":"COUNTA(CE$17:CE65)+1&\"0001\"","v":"500001"},"BLANK","BLANK",0,0,{"$f":"\"20\"&RIGHT(Tables!$E$5,2)","v":"2021"},null,"BLANK",{"$f":"IF(IF($I66=0,\"\",IF(LEN('1-Award Info'!$G$4)=7,'1-Award Info'!$G$4&$B66&$C66&\"9\"&$E66&RIGHT($D66,3),'1-Award Info'!$G$4&$C66&\"9\"&E$17&RIGHT($D66,3)))=\"\",\"BLANK\",IF($I66=0,\"\",IF(LEN('1-Award Info'!$G$4)=7,'1-Award Info'!$G$4&$B66&$C66&\"9\"&$E66&RIGHT($D66,3),'1-Award Info'!$G$4&$C66&\"9\"&$E66&RIGHT($D66,3))))","v":"BLANK"},0,0,null,"00000",{"$f":"COUNTIF(CS$17:CS66,1)","v":0},{"$f":"IF(CT66=\"BLANk\",0,COUNTIF(CT$17:CT66,CT66))","v":0},"BLANK",null,{"$f":"$CV$14+COUNTIF(CY$17:CY66,\"<>BLANK\")","v":0},{"$f":"COUNTA(CW$17:CW65)+1&\"0001\"","v":"500001"},"BLANK","BLANK",0,0,{"$f":"\"20\"&RIGHT(Tables!$E$6,2)","v":"2022"},null,"BLANK",{"$f":"IF(IF($J66=0,\"\",IF(LEN('1-Award Info'!$G$4)=7,'1-Award Info'!$G$4&$B66&$C66&\"9\"&$E66&RIGHT($D66,3),'1-Award Info'!$G$4&$C66&\"9\"&W$17&RIGHT($D66,3)))=\"\",\"BLANK\",IF($J66=0,\"\",IF(LEN('1-Award Info'!$G$4)=7,'1-Award Info'!$G$4&$B66&$C66&\"9\"&$E66&RIGHT($D66,3),'1-Award Info'!$G$4&$C66&\"9\"&$E66&RIGHT($D66,3))))","v":"BLANK"},0,0,null,"00000",{"$f":"COUNTIF(DK$17:DK66,1)","v":0},{"$f":"IF(DL66=\"BLANk\",0,COUNTIF(DL$17:DL66,DL66))","v":0},"BLANK",null,{"$f":"$DN$14+COUNTIF(DQ$17:DQ66,\"<>BLANK\")","v":0},{"$f":"COUNTA(DO$17:DO65)+1&\"0001\"","v":"500001"},"BLANK","BLANK",0,0,{"$f":"\"20\"&RIGHT(Tables!$E$7,2)","v":"2023"},null,50,{"$f":"\"00\"&'1-Award Info'!$G$6","v":"00"},"","",1,"",{"$f":"IFERROR(\nIF(VLOOKUP(\"FY\"&RIGHT($EA66,2),'1-Award Info'!$F$28:$G$32,2,0)=0,\n     1,\n     VLOOKUP(\"FY\"&RIGHT($EA66,2),'1-Award Info'!$F$28:$G$32,2,0)),1)","v":1},"",null,""]
[null,null,null,null,null,null,null,null,null,null,0,null,null,null,null,null,null,null,null,"100051",{"$f":"COUNTIF(V$17:$V67,1)","v":1},{"$f":"COUNTIF(W$17:$W67,W67)","v":51},{"$f":"IF($K67=0,\"\",IF(LEN('1-Award Info'!$G$4)=7,'1-Award Info'!$G$4&$B67&$C67,'1-Award Info'!$G$4&$C67))","v":""},null,{"$f":"COUNTA(Y$17:Y66)+1&\"0001\"","v":"510001"},"",null,"100051",{"$f":"COUNTIF($AD$17:AD67,AD67)","v":1},{"$f":"COUNTIF($AE$17:AE67,AE67)","v":51},"",null,{"$f":"COUNTA(AG$17:AG66)+1&\"0001\"","v":"510001"},"",null,"BLANK",{"$f":"IF(IF($F67=0,\"\",IF(LEN('1-Award Info'!$G$4)=7,'1-Award Info'!$G$4&$B67&$C67&\"9\"&E67&RIGHT($D67,3),'1-Award Info'!$G$4&$C67&\"9\"&E67&RIGHT($D67,3)))=\"\",\"BLANK\",IF($F67=0,\"\",IF(LEN('1-Award Info'!$G$4)=7,'1-Award Info'!$G$4&$B67&$C67&\"9\"&E67&RIGHT($D67,3),'1-Award Info'!$G$4&$C67&\"9\"&E67&RIGHT($D67,3))))","v":"BLANK"},0,0,null,"00000",{"$f":"COUNTIF(AQ$17:AQ67,1)","v":0},{"$f":"IF(AR67=\"BLANK\",0,COUNTIF(AR$17:AR67,AR67))","v":0},"BLANK",null,{"$f":"$AT$14+COUNTIF(AV$17:AV67,\"<>BLANK\")","v":0},{"$f":"COUNTA(AU$17:AU66)+1&\"0001\"","v":"510001"},"BLANK","BLANK",0,0,{"$f":"\"20\"&RIGHT(Tables!$E$3,2)","v":"2019"},null,"BLANK",{"$f":"IF(IF($G67=0,\"\",IF(LEN('1-Award Info'!$G$4)=7,'1-Award Info'!$G$4&$B67&$C67&\"9\"&E67&RIGHT($D67,3),'1-Award Info'!$G$4&$C67&\"9\"&E67&RIGHT($D67,3)))=\"\",\"BLANK\",IF($G67=0,\"\",IF(LEN('1-Award Info'!$G$4)=7,'1-Award Info'!$G$4&$B67&$C67&\"9\"&E67&RIGHT($D67,3),'1-Award Info'!$G$4&$C67&\"9\"&E67&RIGHT($D67,3))))","v":"BLANK"},0,0,null,"00000",{"$f":"COUNTIF(BI$17:BI67,1)","v":0},{"$f":"IF(BJ67=\"BLANk\",0,COUNTIF(BJ$17:BJ67,BJ67))","v":0},"BLANK",null,{"$f":"$BL$14+COUNTIF(BO$17:BO67,\"<>BLANK\")","v":0},{"$f":"COUNTA(BM$17:BM66)+1&\"0001\"","v":"510001"},"BLANK","BLANK",0,6,{"$f":"\"20\"&RIGHT(Tables!$E$4,2)","v":"2020"},null,"BLANK",{"$f":"IF(IF($H67=0,\"\",IF(LEN('1-Award Info'!$G$4)=7,'1-Award Info'!$G$4&$B67&$C67&\"9\"&E67&RIGHT($D67,3),'1-Award Info'!$G$4&$C67&\"9\"&E67&RIGHT($D67,3)))=\"\",\"BLANK\",IF($H67=0,\"\",IF(LEN('1-Award Info'!$G$4)=7,'1-Award Info'!$G$4&$B67&$C67&\"9\"&E67&RIGHT($D67,3),'1-Award Info'!$G$4&$C67&\"9\"&E67&RIGHT($D67,3))))","v":"BLANK"},0,0,null,"00000",{"$f":"COUNTIF(CA$17:CA67,1)","v":0},{"$f":"IF(CB67=\"BLANk\",0,COUNTIF(CB$17:CB67,CB67))","v":0},"BLANK",null,{"$f":"$CD$14+COUNTIF(CG$17:CG67,\"<>BLANK\")","v":0},{"$f":"COUNTA(CE$17:CE66)+1&\"0001\"","v":"510001"},"BLANK","BLANK",0,0,{"$f":"\"20\"&RIGHT(Tables!$E$5,2)","v":"2021"},null,"BLANK",{"$f":"IF(IF($I67=0,\"\",IF(LEN('1-Award Info'!$G$4)=7,'1-Award Info'!$G$4&$B67&$C67&\"9\"&$E67&RIGHT($D67,3),'1-Award Info'!$G$4&$C67&\"9\"&E$17&RIGHT($D67,3)))=\"\",\"BLANK\",IF($I67=0,\"\",IF(LEN('1-Award Info'!$G$4)=7,'1-Award Info'!$G$4&$B67&$C67&\"9\"&$E67&RIGHT($D67,3),'1-Award Info'!$G$4&$C67&\"9\"&$E67&RIGHT($D67,3))))","v":"BLANK"},0,0,null,"00000",{"$f":"COUNTIF(CS$17:CS67,1)","v":0},{"$f":"IF(CT67=\"BLANk\",0,COUNTIF(CT$17:CT67,CT67))","v":0},"BLANK",null,{"$f":"$CV$14+COUNTIF(CY$17:CY67,\"<>BLANK\")","v":0},{"$f":"COUNTA(CW$17:CW66)+1&\"0001\"","v":"510001"},"BLANK","BLANK",0,0,{"$f":"\"20\"&RIGHT(Tables!$E$6,2)","v":"2022"},null,"BLANK",{"$f":"IF(IF($J67=0,\"\",IF(LEN('1-Award Info'!$G$4)=7,'1-Award Info'!$G$4&$B67&$C67&\"9\"&$E67&RIGHT($D67,3),'1-Award Info'!$G$4&$C67&\"9\"&W$17&RIGHT($D67,3)))=\"\",\"BLANK\",IF($J67=0,\"\",IF(LEN('1-Award Info'!$G$4)=7,'1-Award Info'!$G$4&$B67&$C67&\"9\"&$E67&RIGHT($D67,3),'1-Award Info'!$G$4&$C67&\"9\"&$E67&RIGHT($D67,3))))","v":"BLANK"},0,0,null,"00000",{"$f":"COUNTIF(DK$17:DK67,1)","v":0},{"$f":"IF(DL67=\"BLANk\",0,COUNTIF(DL$17:DL67,DL67))","v":0},"BLANK",null,{"$f":"$DN$14+COUNTIF(DQ$17:DQ67,\"<>BLANK\")","v":0},{"$f":"COUNTA(DO$17:DO66)+1&\"0001\"","v":"510001"},"BLANK","BLANK",0,0,{"$f":"\"20\"&RIGHT(Tables!$E$7,2)","v":"2023"},null,51,{"$f":"\"00\"&'1-Award Info'!$G$6","v":"00"},"","",1,"",{"$f":"IFERROR(\nIF(VLOOKUP(\"FY\"&RIGHT($EA67,2),'1-Award Info'!$F$28:$G$32,2,0)=0,\n     1,\n     VLOOKUP(\"FY\"&RIGHT($EA67,2),'1-Award Info'!$F$28:$G$32,2,0)),1)","v":1},"",null,""]
[null,null,null,null,null,null,null,null,null,null,0,null,null,null,null,null,null,null,null,"100052",{"$f":"COUNTIF(V$17:$V68,1)","v":1},{"$f":"COUNTIF(W$17:$W68,W68)","v":52},{"$f":"IF($K68=0,\"\",IF(LEN('1-Award Info'!$G$4)=7,'1-Award Info'!$G$4&$B68&$C68,'1-Award Info'!$G$4&$C68))","v":""},null,{"$f":"COUNTA(Y$17:Y67)+1&\"0001\"","v":"520001"},"",null,"100052",{"$f":"COUNTIF($AD$17:AD68,AD68)","v":1},{"$f":"COUNTIF($AE$17:AE68,AE68)","v":52},"",null,{"$f":"COUNTA(AG$17:AG67)+1&\"0001\"","v":"520001"},"",null,"BLANK",{"$f":"IF(IF($F68=0,\"\",IF(LEN('1-Award Info'!$G$4)=7,'1-Award Info'!$G$4&$B68&$C68&\"9\"&E68&RIGHT($D68,3),'1-Award Info'!$G$4&$C68&\"9\"&E68&RIGHT($D68,3)))=\"\",\"BLANK\",IF($F68=0,\"\",IF(LEN('1-Award Info'!$G$4)=7,'1-Award Info'!$G$4&$B68&$C68&\"9\"&E68&RIGHT($D68,3),'1-Award Info'!$G$4&$C68&\"9\"&E68&RIGHT($D68,3))))","v":"BLANK"},0,0,null,"00000",{"$f":"COUNTIF(AQ$17:AQ68,1)","v":0},{"$f":"IF(AR68=\"BLANK\",0,COUNTIF(AR$17:AR68,AR68))","v":0},"BLANK",null,{"$f":"$AT$14+COUNTIF(AV$17:AV68,\"<>BLANK\")","v":0},{"$f":"COUNTA(AU$17:AU67)+1&\"0001\"","v":"520001"},"BLANK","BLANK",0,0,{"$f":"\"20\"&RIGHT(Tables!$E$3,2)","v":"2019"},null,"BLANK",{"$f":"IF(IF($G68=0,\"\",IF(LEN('1-Award Info'!$G$4)=7,'1-Award Info'!$G$4&$B68&$C68&\"9\"&E68&RIGHT($D68,3),'1-Award Info'!$G$4&$C68&\"9\"&E68&RIGHT($D68,3)))=\"\",\"BLANK\",IF($G68=0,\"\",IF(LEN('1-Award Info'!$G$4)=7,'1-Award Info'!$G$4&$B68&$C68&\"9\"&E68&RIGHT($D68,3),'1-Award Info'!$G$4&$C68&\"9\"&E68&RIGHT($D68,3))))","v":"BLANK"},0,0,null,"00000",{"$f":"COUNTIF(BI$17:BI68,1)","v":0},{"$f":"IF(BJ68=\"BLANk\",0,COUNTIF(BJ$17:BJ68,BJ68))","v":0},"BLANK",null,{"$f":"$BL$14+COUNTIF(BO$17:BO68,\"<>BLANK\")","v":0},{"$f":"COUNTA(BM$17:BM67)+1&\"0001\"","v":"520001"},"BLANK","BLANK",0,6,{"$f":"\"20\"&RIGHT(Tables!$E$4,2)","v":"2020"},null,"BLANK",{"$f":"IF(IF($H68=0,\"\",IF(LEN('1-Award Info'!$G$4)=7,'1-Award Info'!$G$4&$B68&$C68&\"9\"&E68&RIGHT($D68,3),'1-Award Info'!$G$4&$C68&\"9\"&E68&RIGHT($D68,3)))=\"\",\"BLANK\",IF($H68=0,\"\",IF(LEN('1-Award Info'!$G$4)=7,'1-Award Info'!$G$4&$B68&$C68&\"9\"&E68&RIGHT($D68,3),'1-Award Info'!$G$4&$C68&\"9\"&E68&RIGHT($D68,3))))","v":"BLANK"},0,0,null,"00000",{"$f":"COUNTIF(CA$17:CA68,1)","v":0},{"$f":"IF(CB68=\"BLANk\",0,COUNTIF(CB$17:CB68,CB68))","v":0},"BLANK",null,{"$f":"$CD$14+COUNTIF(CG$17:CG68,\"<>BLANK\")","v":0},{"$f":"COUNTA(CE$17:CE67)+1&\"0001\"","v":"520001"},"BLANK","BLANK",0,0,{"$f":"\"20\"&RIGHT(Tables!$E$5,2)","v":"2021"},null,"BLANK",{"$f":"IF(IF($I68=0,\"\",IF(LEN('1-Award Info'!$G$4)=7,'1-Award Info'!$G$4&$B68&$C68&\"9\"&$E68&RIGHT($D68,3),'1-Award Info'!$G$4&$C68&\"9\"&E$17&RIGHT($D68,3)))=\"\",\"BLANK\",IF($I68=0,\"\",IF(LEN('1-Award Info'!$G$4)=7,'1-Award Info'!$G$4&$B68&$C68&\"9\"&$E68&RIGHT($D68,3),'1-Award Info'!$G$4&$C68&\"9\"&$E68&RIGHT($D68,3))))","v":"BLANK"},0,0,null,"00000",{"$f":"COUNTIF(CS$17:CS68,1)","v":0},{"$f":"IF(CT68=\"BLANk\",0,COUNTIF(CT$17:CT68,CT68))","v":0},"BLANK",null,{"$f":"$CV$14+COUNTIF(CY$17:CY68,\"<>BLANK\")","v":0},{"$f":"COUNTA(CW$17:CW67)+1&\"0001\"","v":"520001"},"BLANK","BLANK",0,0,{"$f":"\"20\"&RIGHT(Tables!$E$6,2)","v":"2022"},null,"BLANK",{"$f":"IF(IF($J68=0,\"\",IF(LEN('1-Award Info'!$G$4)=7,'1-Award Info'!$G$4&$B68&$C68&\"9\"&$E68&RIGHT($D68,3),'1-Award Info'!$G$4&$C68&\"9\"&W$17&RIGHT($D68,3)))=\"\",\"BLANK\",IF($J68=0,\"\",IF(LEN('1-Award Info'!$G$4)=7,'1-Award Info'!$G$4&$B68&$C68&\"9\"&$E68&RIGHT($D68,3),'1-Award Info'!$G$4&$C68&\"9\"&$E68&RIGHT($D68,3))))","v":"BLANK"},0,0,null,"00000",{"$f":"COUNTIF(DK$17:DK68,1)","v":0},{"$f":"IF(DL68=\"BLANk\",0,COUNTIF(DL$17:DL68,DL68))","v":0},"BLANK",null,{"$f":"$DN$14+COUNTIF(DQ$17:DQ68,\"<>BLANK\")","v":0},{"$f":"COUNTA(DO$17:DO67)+1&\"0001\"","v":"520001"},"BLANK","BLANK",0,0,{"$f":"\"20\"&RIGHT(Tables!$E$7,2)","v":"2023"},null,52,{"$f":"\"00\"&'1-Award Info'!$G$6","v":"00"},"","",1,"",{"$f":"IFERROR(\nIF(VLOOKUP(\"FY\"&RIGHT($EA68,2),'1-Award Info'!$F$28:$G$32,2,0)=0,\n     1,\n     VLOOKUP(\"FY\"&RIGHT($EA68,2),'1-Award Info'!$F$28:$G$32,2,0)),1)","v":1},"",null,""]
[null,null,null,null,null,null,null,null,null,null,0,null,null,null,null,null,null,null,null,"100053",{"$f":"COUNTIF(V$17:$V69,1)","v":1},{"$f":"COUNTIF(W$17:$W69,W69)","v":53},{"$f":"IF($K69=0,\"\",IF(LEN('1-Award Info'!$G$4)=7,'1-Award Info'!$G$4&$B69&$C69,'1-Award Info'!$G$4&$C69))","v":""},null,{"$f":"COUNTA(Y$17:Y68)+1&\"0001\"","v":"530001"},"",null,"100053",{"$f":"COUNTIF($AD$17:AD69,AD69)","v":1},{"$f":"COUNTIF($AE$17:AE69,AE69)","v":53},"",null,{"$f":"COUNTA(AG$17:AG68)+1&\"0001\"","v":"530001"},"",null,"BLANK",{"$f":"IF(IF($F69=0,\"\",IF(LEN('1-Award Info'!$G$4)=7,'1-Award Info'!$G$4&$B69&$C69&\"9\"&E69&RIGHT($D69,3),'1-Award Info'!$G$4&$C69&\"9\"&E69&RIGHT($D69,3)))=\"\",\"BLANK\",IF($F69=0,\"\",IF(LEN('1-Award Info'!$G$4)=7,'1-Award Info'!$G$4&$B69&$C69&\"9\"&E69&RIGHT($D69,3),'1-Award Info'!$G$4&$C69&\"9\"&E69&RIGHT($D69,3))))","v":"BLANK"},0,0,null,"00000",{"$f":"COUNTIF(AQ$17:AQ69,1)","v":0},{"$f":"IF(AR69=\"BLANK\",0,COUNTIF(AR$17:AR69,AR69))","v":0},"BLANK",null,{"$f":"$AT$14+COUNTIF(AV$17:AV69,\"<>BLANK\")","v":0},{"$f":"COUNTA(AU$17:AU68)+1&\"0001\"","v":"530001"},"BLANK","BLANK",0,0,{"$f":"\"20\"&RIGHT(Tables!$E$3,2)","v":"2019"},null,"BLANK",{"$f":"IF(IF($G69=0,\"\",IF(LEN('1-Award Info'!$G$4)=7,'1-Award Info'!$G$4&$B69&$C69&\"9\"&E69&RIGHT($D69,3),'1-Award Info'!$G$4&$C69&\"9\"&E69&RIGHT($D69,3)))=\"\",\"BLANK\",IF($G69=0,\"\",IF(LEN('1-Award Info'!$G$4)=7,'1-Award Info'!$G$4&$B69&$C69&\"9\"&E69&RIGHT($D69,3),'1-Award Info'!$G$4&$C69&\"9\"&E69&RIGHT($D69,3))))","v":"BLANK"},0,0,null,"00000",{"$f":"COUNTIF(BI$17:BI69,1)","v":0},{"$f":"IF(BJ69=\"BLANk\",0,COUNTIF(BJ$17:BJ69,BJ69))","v":0},"BLANK",null,{"$f":"$BL$14+COUNTIF(BO$17:BO69,\"<>BLANK\")","v":0},{"$f":"COUNTA(BM$17:BM68)+1&\"0001\"","v":"530001"},"BLANK","BLANK",0,6,{"$f":"\"20\"&RIGHT(Tables!$E$4,2)","v":"2020"},null,"BLANK",{"$f":"IF(IF($H69=0,\"\",IF(LEN('1-Award Info'!$G$4)=7,'1-Award Info'!$G$4&$B69&$C69&\"9\"&E69&RIGHT($D69,3),'1-Award Info'!$G$4&$C69&\"9\"&E69&RIGHT($D69,3)))=\"\",\"BLANK\",IF($H69=0,\"\",IF(LEN('1-Award Info'!$G$4)=7,'1-Award Info'!$G$4&$B69&$C69&\"9\"&E69&RIGHT($D69,3),'1-Award Info'!$G$4&$C69&\"9\"&E69&RIGHT($D69,3))))","v":"BLANK"},0,0,null,"00000",{"$f":"COUNTIF(CA$17:CA69,1)","v":0},{"$f":"IF(CB69=\"BLANk\",0,COUNTIF(CB$17:CB69,CB69))","v":0},"BLANK",null,{"$f":"$CD$14+COUNTIF(CG$17:CG69,\"<>BLANK\")","v":0},{"$f":"COUNTA(CE$17:CE68)+1&\"0001\"","v":"530001"},"BLANK","BLANK",0,0,{"$f":"\"20\"&RIGHT(Tables!$E$5,2)","v":"2021"},null,"BLANK",{"$f":"IF(IF($I69=0,\"\",IF(LEN('1-Award Info'!$G$4)=7,'1-Award Info'!$G$4&$B69&$C69&\"9\"&$E69&RIGHT($D69,3),'1-Award Info'!$G$4&$C69&\"9\"&E$17&RIGHT($D69,3)))=\"\",\"BLANK\",IF($I69=0,\"\",IF(LEN('1-Award Info'!$G$4)=7,'1-Award Info'!$G$4&$B69&$C69&\"9\"&$E69&RIGHT($D69,3),'1-Award Info'!$G$4&$C69&\"9\"&$E69&RIGHT($D69,3))))","v":"BLANK"},0,0,null,"00000",{"$f":"COUNTIF(CS$17:CS69,1)","v":0},{"$f":"IF(CT69=\"BLANk\",0,COUNTIF(CT$17:CT69,CT69))","v":0},"BLANK",null,{"$f":"$CV$14+COUNTIF(CY$17:CY69,\"<>BLANK\")","v":0},{"$f":"COUNTA(CW$17:CW68)+1&\"0001\"","v":"530001"},"BLANK","BLANK",0,0,{"$f":"\"20\"&RIGHT(Tables!$E$6,2)","v":"2022"},null,"BLANK",{"$f":"IF(IF($J69=0,\"\",IF(LEN('1-Award Info'!$G$4)=7,'1-Award Info'!$G$4&$B69&$C69&\"9\"&$E69&RIGHT($D69,3),'1-Award Info'!$G$4&$C69&\"9\"&W$17&RIGHT($D69,3)))=\"\",\"BLANK\",IF($J69=0,\"\",IF(LEN('1-Award Info'!$G$4)=7,'1-Award Info'!$G$4&$B69&$C69&\"9\"&$E69&RIGHT($D69,3),'1-Award Info'!$G$4&$C69&\"9\"&$E69&RIGHT($D69,3))))","v":"BLANK"},0,0,null,"00000",{"$f":"COUNTIF(DK$17:DK69,1)","v":0},{"$f":"IF(DL69=\"BLANk\",0,COUNTIF(DL$17:DL69,DL69))","v":0},"BLANK",null,{"$f":"$DN$14+COUNTIF(DQ$17:DQ69,\"<>BLANK\")","v":0},{"$f":"COUNTA(DO$17:DO68)+1&\"0001\"","v":"530001"},"BLANK","BLANK",0,0,{"$f":"\"20\"&RIGHT(Tables!$E$7,2)","v":"2023"},null,53,{"$f":"\"00\"&'1-Award Info'!$G$6","v":"00"},"","",1,"",{"$f":"IFERROR(\nIF(VLOOKUP(\"FY\"&RIGHT($EA69,2),'1-Award Info'!$F$28:$G$32,2,0)=0,\n     1,\n     VLOOKUP(\"FY\"&RIGHT($EA69,2),'1-Award Info'!$F$28:$G$32,2,0)),1)","v":1},"",null,""]
[null,null,null,null,null,null,null,null,null,null,0,null,null,null,null,null,null,null,null,"100054",{"$f":"COUNTIF(V$17:$V70,1)","v":1},{"$f":"COUNTIF(W$17:$W70,W70)","v":54},{"$f":"IF($K70=0,\"\",IF(LEN('1-Award Info'!$G$4)=7,'1-Award Info'!$G$4&$B70&$C70,'1-Award Info'!$G$4&$C70))","v":""},null,{"$f":"COUNTA(Y$17:Y69)+1&\"0001\"","v":"540001"},"",null,"100054",{"$f":"COUNTIF($AD$17:AD70,AD70)","v":1},{"$f":"COUNTIF($AE$17:AE70,AE70)","v":54},"",null,{"$f":"COUNTA(AG$17:AG69)+1&\"0001\"","v":"540001"},"",null,"BLANK",{"$f":"IF(IF($F70=0,\"\",IF(LEN('1-Award Info'!$G$4)=7,'1-Award Info'!$G$4&$B70&$C70&\"9\"&E70&RIGHT($D70,3),'1-Award Info'!$G$4&$C70&\"9\"&E70&RIGHT($D70,3)))=\"\",\"BLANK\",IF($F70=0,\"\",IF(LEN('1-Award Info'!$G$4)=7,'1-Award Info'!$G$4&$B70&$C70&\"9\"&E70&RIGHT($D70,3),'1-Award Info'!$G$4&$C70&\"9\"&E70&RIGHT($D70,3))))","v":"BLANK"},0,0,null,"00000",{"$f":"COUNTIF(AQ$17:AQ70,1)","v":0},{"$f":"IF(AR70=\"BLANK\",0,COUNTIF(AR$17:AR70,AR70))","v":0},"BLANK",null,{"$f":"$AT$14+COUNTIF(AV$17:AV70,\"<>BLANK\")","v":0},{"$f":"COUNTA(AU$17:AU69)+1&\"0001\"","v":"540001"},"BLANK","BLANK",0,0,{"$f":"\"20\"&RIGHT(Tables!$E$3,2)","v":"2019"},null,"BLANK",{"$f":"IF(IF($G70=0,\"\",IF(LEN('1-Award Info'!$G$4)=7,'1-Award Info'!$G$4&$B70&$C70&\"9\"&E70&RIGHT($D70,3),'1-Award Info'!$G$4&$C70&\"9\"&E70&RIGHT($D70,3)))=\"\",\"BLANK\",IF($G70=0,\"\",IF(LEN('1-Award Info'!$G$4)=7,'1-Award Info'!$G$4&$B70&$C70&\"9\"&E70&RIGHT($D70,3),'1-Award Info'!$G$4&$C70&\"9\"&E70&RIGHT($D70,3))))","v":"BLANK"},0,0,null,"00000",{"$f":"COUNTIF(BI$17:BI70,1)","v":0},{"$f":"IF(BJ70=\"BLANk\",0,COUNTIF(BJ$17:BJ70,BJ70))","v":0},"BLANK",null,{"$f":"$BL$14+COUNTIF(BO$17:BO70,\"<>BLANK\")","v":0},{"$f":"COUNTA(BM$17:BM69)+1&\"0001\"","v":"540001"},"BLANK","BLANK",0,6,{"$f":"\"20\"&RIGHT(Tables!$E$4,2)","v":"2020"},null,"BLANK",{"$f":"IF(IF($H70=0,\"\",IF(LEN('1-Award Info'!$G$4)=7,'1-Award Info'!$G$4&$B70&$C70&\"9\"&E70&RIGHT($D70,3),'1-Award Info'!$G$4&$C70&\"9\"&E70&RIGHT($D70,3)))=\"\",\"BLANK\",IF($H70=0,\"\",IF(LEN('1-Award Info'!$G$4)=7,'1-Award Info'!$G$4&$B70&$C70&\"9\"&E70&RIGHT($D70,3),'1-Award Info'!$G$4&$C70&\"9\"&E70&RIGHT($D70,3))))","v":"BLANK"},0,0,null,"00000",{"$f":"COUNTIF(CA$17:CA70,1)","v":0},{"$f":"IF(CB70=\"BLANk\",0,COUNTIF(CB$17:CB70,CB70))","v":0},"BLANK",null,{"$f":"$CD$14+COUNTIF(CG$17:CG70,\"<>BLANK\")","v":0},{"$f":"COUNTA(CE$17:CE69)+1&\"0001\"","v":"540001"},"BLANK","BLANK",0,0,{"$f":"\"20\"&RIGHT(Tables!$E$5,2)","v":"2021"},null,"BLANK",{"$f":"IF(IF($I70=0,\"\",IF(LEN('1-Award Info'!$G$4)=7,'1-Award Info'!$G$4&$B70&$C70&\"9\"&$E70&RIGHT($D70,3),'1-Award Info'!$G$4&$C70&\"9\"&E$17&RIGHT($D70,3)))=\"\",\"BLANK\",IF($I70=0,\"\",IF(LEN('1-Award Info'!$G$4)=7,'1-Award Info'!$G$4&$B70&$C70&\"9\"&$E70&RIGHT($D70,3),'1-Award Info'!$G$4&$C70&\"9\"&$E70&RIGHT($D70,3))))","v":"BLANK"},0,0,null,"00000",{"$f":"COUNTIF(CS$17:CS70,1)","v":0},{"$f":"IF(CT70=\"BLANk\",0,COUNTIF(CT$17:CT70,CT70))","v":0},"BLANK",null,{"$f":"$CV$14+COUNTIF(CY$17:CY70,\"<>BLANK\")","v":0},{"$f":"COUNTA(CW$17:CW69)+1&\"0001\"","v":"540001"},"BLANK","BLANK",0,0,{"$f":"\"20\"&RIGHT(Tables!$E$6,2)","v":"2022"},null,"BLANK",{"$f":"IF(IF($J70=0,\"\",IF(LEN('1-Award Info'!$G$4)=7,'1-Award Info'!$G$4&$B70&$C70&\"9\"&$E70&RIGHT($D70,3),'1-Award Info'!$G$4&$C70&\"9\"&W$17&RIGHT($D70,3)))=\"\",\"BLANK\",IF($J70=0,\"\",IF(LEN('1-Award Info'!$G$4)=7,'1-Award Info'!$G$4&$B70&$C70&\"9\"&$E70&RIGHT($D70,3),'1-Award Info'!$G$4&$C70&\"9\"&$E70&RIGHT($D70,3))))","v":"BLANK"},0,0,null,"00000",{"$f":"COUNTIF(DK$17:DK70,1)","v":0},{"$f":"IF(DL70=\"BLANk\",0,COUNTIF(DL$17:DL70,DL70))","v":0},"BLANK",null,{"$f":"$DN$14+COUNTIF(DQ$17:DQ70,\"<>BLANK\")","v":0},{"$f":"COUNTA(DO$17:DO69)+1&\"0001\"","v":"540001"},"BLANK","BLANK",0,0,{"$f":"\"20\"&RIGHT(Tables!$E$7,2)","v":"2023"},null,54,{"$f":"\"00\"&'1-Award Info'!$G$6","v":"00"},"","",1,"",{"$f":"IFERROR(\nIF(VLOOKUP(\"FY\"&RIGHT($EA70,2),'1-Award Info'!$F$28:$G$32,2,0)=0,\n     1,\n     VLOOKUP(\"FY\"&RIGHT($EA70,2),'1-Award Info'!$F$28:$G$32,2,0)),1)","v":1},"",null,""]
[null,null,null,null,null,null,null,null,null,null,0,null,null,null,null,null,null,null,null,"100055",{"$f":"COUNTIF(V$17:$V71,1)","v":1},{"$f":"COUNTIF(W$17:$W71,W71)","v":55},{"$f":"IF($K71=0,\"\",IF(LEN('1-Award Info'!$G$4)=7,'1-Award Info'!$G$4&$B71&$C71,'1-Award Info'!$G$4&$C71))","v":""},null,{"$f":"COUNTA(Y$17:Y70)+1&\"0001\"","v":"550001"},"",null,"100055",{"$f":"COUNTIF($AD$17:AD71,AD71)","v":1},{"$f":"COUNTIF($AE$17:AE71,AE71)","v":55},"",null,{"$f":"COUNTA(AG$17:AG70)+1&\"0001\"","v":"550001"},"",null,"BLANK",{"$f":"IF(IF($F71=0,\"\",IF(LEN('1-Award Info'!$G$4)=7,'1-Award Info'!$G$4&$B71&$C71&\"9\"&E71&RIGHT($D71,3),'1-Award Info'!$G$4&$C71&\"9\"&E71&RIGHT($D71,3)))=\"\",\"BLANK\",IF($F71=0,\"\",IF(LEN('1-Award Info'!$G$4)=7,'1-Award Info'!$G$4&$B71&$C71&\"9\"&E71&RIGHT($D71,3),'1-Award Info'!$G$4&$C71&\"9\"&E71&RIGHT($D71,3))))","v":"BLANK"},0,0,null,"00000",{"$f":"COUNTIF(AQ$17:AQ71,1)","v":0},{"$f":"IF(AR71=\"BLANK\",0,COUNTIF(AR$17:AR71,AR71))","v":0},"BLANK",null,{"$f":"$AT$14+COUNTIF(AV$17:AV71,\"<>BLANK\")","v":0},{"$f":"COUNTA(AU$17:AU70)+1&\"0001\"","v":"550001"},"BLANK","BLANK",0,0,{"$f":"\"20\"&RIGHT(Tables!$E$3,2)","v":"2019"},null,"BLANK",{"$f":"IF(IF($G71=0,\"\",IF(LEN('1-Award Info'!$G$4)=7,'1-Award Info'!$G$4&$B71&$C71&\"9\"&E71&RIGHT($D71,3),'1-Award Info'!$G$4&$C71&\"9\"&E71&RIGHT($D71,3)))=\"\",\"BLANK\",IF($G71=0,\"\",IF(LEN('1-Award Info'!$G$4)=7,'1-Award Info'!$G$4&$B71&$C71&\"9\"&E71&RIGHT($D71,3),'1-Award Info'!$G$4&$C71&\"9\"&E71&RIGHT($D71,3))))","v":"BLANK"},0,0,null,"00000",{"$f":"COUNTIF(BI$17:BI71,1)","v":0},{"$f":"IF(BJ71=\"BLANk\",0,COUNTIF(BJ$17:BJ71,BJ71))","v":0},"BLANK",null,{"$f":"$BL$14+COUNTIF(BO$17:BO71,\"<>BLANK\")","v":0},{"$f":"COUNTA(BM$17:BM70)+1&\"0001\"","v":"550001"},"BLANK","BLANK",0,6,{"$f":"\"20\"&RIGHT(Tables!$E$4,2)","v":"2020"},null,"BLANK",{"$f":"IF(IF($H71=0,\"\",IF(LEN('1-Award Info'!$G$4)=7,'1-Award Info'!$G$4&$B71&$C71&\"9\"&E71&RIGHT($D71,3),'1-Award Info'!$G$4&$C71&\"9\"&E71&RIGHT($D71,3)))=\"\",\"BLANK\",IF($H71=0,\"\",IF(LEN('1-Award Info'!$G$4)=7,'1-Award Info'!$G$4&$B71&$C71&\"9\"&E71&RIGHT($D71,3),'1-Award Info'!$G$4&$C71&\"9\"&E71&RIGHT($D71,3))))","v":"BLANK"},0,0,null,"00000",{"$f":"COUNTIF(CA$17:CA71,1)","v":0},{"$f":"IF(CB71=\"BLANk\",0,COUNTIF(CB$17:CB71,CB71))","v":0},"BLANK",null,{"$f":"$CD$14+COUNTIF(CG$17:CG71,\"<>BLANK\")","v":0},{"$f":"COUNTA(CE$17:CE70)+1&\"0001\"","v":"550001"},"BLANK","BLANK",0,0,{"$f":"\"20\"&RIGHT(Tables!$E$5,2)","v":"2021"},null,"BLANK",{"$f":"IF(IF($I71=0,\"\",IF(LEN('1-Award Info'!$G$4)=7,'1-Award Info'!$G$4&$B71&$C71&\"9\"&$E71&RIGHT($D71,3),'1-Award Info'!$G$4&$C71&\"9\"&E$17&RIGHT($D71,3)))=\"\",\"BLANK\",IF($I71=0,\"\",IF(LEN('1-Award Info'!$G$4)=7,'1-Award Info'!$G$4&$B71&$C71&\"9\"&$E71&RIGHT($D71,3),'1-Award Info'!$G$4&$C71&\"9\"&$E71&RIGHT($D71,3))))","v":"BLANK"},0,0,null,"00000",{"$f":"COUNTIF(CS$17:CS71,1)","v":0},{"$f":"IF(CT71=\"BLANk\",0,COUNTIF(CT$17:CT71,CT71))","v":0},"BLANK",null,{"$f":"$CV$14+COUNTIF(CY$17:CY71,\"<>BLANK\")","v":0},{"$f":"COUNTA(CW$17:CW70)+1&\"0001\"","v":"550001"},"BLANK","BLANK",0,0,{"$f":"\"20\"&RIGHT(Tables!$E$6,2)","v":"2022"},null,"BLANK",{"$f":"IF(IF($J71=0,\"\",IF(LEN('1-Award Info'!$G$4)=7,'1-Award Info'!$G$4&$B71&$C71&\"9\"&$E71&RIGHT($D71,3),'1-Award Info'!$G$4&$C71&\"9\"&W$17&RIGHT($D71,3)))=\"\",\"BLANK\",IF($J71=0,\"\",IF(LEN('1-Award Info'!$G$4)=7,'1-Award Info'!$G$4&$B71&$C71&\"9\"&$E71&RIGHT($D71,3),'1-Award Info'!$G$4&$C71&\"9\"&$E71&RIGHT($D71,3))))","v":"BLANK"},0,0,null,"00000",{"$f":"COUNTIF(DK$17:DK71,1)","v":0},{"$f":"IF(DL71=\"BLANk\",0,COUNTIF(DL$17:DL71,DL71))","v":0},"BLANK",null,{"$f":"$DN$14+COUNTIF(DQ$17:DQ71,\"<>BLANK\")","v":0},{"$f":"COUNTA(DO$17:DO70)+1&\"0001\"","v":"550001"},"BLANK","BLANK",0,0,{"$f":"\"20\"&RIGHT(Tables!$E$7,2)","v":"2023"},null,55,{"$f":"\"00\"&'1-Award Info'!$G$6","v":"00"},"","",1,"",{"$f":"IFERROR(\nIF(VLOOKUP(\"FY\"&RIGHT($EA71,2),'1-Award Info'!$F$28:$G$32,2,0)=0,\n     1,\n     VLOOKUP(\"FY\"&RIGHT($EA71,2),'1-Award Info'!$F$28:$G$32,2,0)),1)","v":1},"",null,""]
[null,null,null,null,null,null,null,null,null,null,0,null,null,null,null,null,null,null,null,"100056",{"$f":"COUNTIF(V$17:$V72,1)","v":1},{"$f":"COUNTIF(W$17:$W72,W72)","v":56},{"$f":"IF($K72=0,\"\",IF(LEN('1-Award Info'!$G$4)=7,'1-Award Info'!$G$4&$B72&$C72,'1-Award Info'!$G$4&$C72))","v":""},null,{"$f":"COUNTA(Y$17:Y71)+1&\"0001\"","v":"560001"},"",null,"100056",{"$f":"COUNTIF($AD$17:AD72,AD72)","v":1},{"$f":"COUNTIF($AE$17:AE72,AE72)","v":56},"",null,{"$f":"COUNTA(AG$17:AG71)+1&\"0001\"","v":"560001"},"",null,"BLANK",{"$f":"IF(IF($F72=0,\"\",IF(LEN('1-Award Info'!$G$4)=7,'1-Award Info'!$G$4&$B72&$C72&\"9\"&E72&RIGHT($D72,3),'1-Award Info'!$G$4&$C72&\"9\"&E72&RIGHT($D72,3)))=\"\",\"BLANK\",IF($F72=0,\"\",IF(LEN('1-Award Info'!$G$4)=7,'1-Award Info'!$G$4&$B72&$C72&\"9\"&E72&RIGHT($D72,3),'1-Award Info'!$G$4&$C72&\"9\"&E72&RIGHT($D72,3))))","v":"BLANK"},0,0,null,"00000",{"$f":"COUNTIF(AQ$17:AQ72,1)","v":0},{"$f":"IF(AR72=\"BLANK\",0,COUNTIF(AR$17:AR72,AR72))","v":0},"BLANK",null,{"$f":"$AT$14+COUNTIF(AV$17:AV72,\"<>BLANK\")","v":0},{"$f":"COUNTA(AU$17:AU71)+1&\"0001\"","v":"560001"},"BLANK","BLANK",0,0,{"$f":"\"20\"&RIGHT(Tables!$E$3,2)","v":"2019"},null,"BLANK",{"$f":"IF(IF($G72=0,\"\",IF(LEN('1-Award Info'!$G$4)=7,'1-Award Info'!$G$4&$B72&$C72&\"9\"&E72&RIGHT($D72,3),'1-Award Info'!$G$4&$C72&\"9\"&E72&RIGHT($D72,3)))=\"\",\"BLANK\",IF($G72=0,\"\",IF(LEN('1-Award Info'!$G$4)=7,'1-Award Info'!$G$4&$B72&$C72&\"9\"&E72&RIGHT($D72,3),'1-Award Info'!$G$4&$C72&\"9\"&E72&RIGHT($D72,3))))","v":"BLANK"},0,0,null,"00000",{"$f":"COUNTIF(BI$17:BI72,1)","v":0},{"$f":"IF(BJ72=\"BLANk\",0,COUNTIF(BJ$17:BJ72,BJ72))","v":0},"BLANK",null,{"$f":"$BL$14+COUNTIF(BO$17:BO72,\"<>BLANK\")","v":0},{"$f":"COUNTA(BM$17:BM71)+1&\"0001\"","v":"560001"},"BLANK","BLANK",0,6,{"$f":"\"20\"&RIGHT(Tables!$E$4,2)","v":"2020"},null,"BLANK",{"$f":"IF(IF($H72=0,\"\",IF(LEN('1-Award Info'!$G$4)=7,'1-Award Info'!$G$4&$B72&$C72&\"9\"&E72&RIGHT($D72,3),'1-Award Info'!$G$4&$C72&\"9\"&E72&RIGHT($D72,3)))=\"\",\"BLANK\",IF($H72=0,\"\",IF(LEN('1-Award Info'!$G$4)=7,'1-Award Info'!$G$4&$B72&$C72&\"9\"&E72&RIGHT($D72,3),'1-Award Info'!$G$4&$C72&\"9\"&E72&RIGHT($D72,3))))","v":"BLANK"},0,0,null,"00000",{"$f":"COUNTIF(CA$17:CA72,1)","v":0},{"$f":"IF(CB72=\"BLANk\",0,COUNTIF(CB$17:CB72,CB72))","v":0},"BLANK",null,{"$f":"$CD$14+COUNTIF(CG$17:CG72,\"<>BLANK\")","v":0},{"$f":"COUNTA(CE$17:CE71)+1&\"0001\"","v":"560001"},"BLANK","BLANK",0,0,{"$f":"\"20\"&RIGHT(Tables!$E$5,2)","v":"2021"},null,"BLANK",{"$f":"IF(IF($I72=0,\"\",IF(LEN('1-Award Info'!$G$4)=7,'1-Award Info'!$G$4&$B72&$C72&\"9\"&$E72&RIGHT($D72,3),'1-Award Info'!$G$4&$C72&\"9\"&E$17&RIGHT($D72,3)))=\"\",\"BLANK\",IF($I72=0,\"\",IF(LEN('1-Award Info'!$G$4)=7,'1-Award Info'!$G$4&$B72&$C72&\"9\"&$E72&RIGHT($D72,3),'1-Award Info'!$G$4&$C72&\"9\"&$E72&RIGHT($D72,3))))","v":"BLANK"},0,0,null,"00000",{"$f":"COUNTIF(CS$17:CS72,1)","v":0},{"$f":"IF(CT72=\"BLANk\",0,COUNTIF(CT$17:CT72,CT72))","v":0},"BLANK",null,{"$f":"$CV$14+COUNTIF(CY$17:CY72,\"<>BLANK\")","v":0},{"$f":"COUNTA(CW$17:CW71)+1&\"0001\"","v":"560001"},"BLANK","BLANK",0,0,{"$f":"\"20\"&RIGHT(Tables!$E$6,2)","v":"2022"},null,"BLANK",{"$f":"IF(IF($J72=0,\"\",IF(LEN('1-Award Info'!$G$4)=7,'1-Award Info'!$G$4&$B72&$C72&\"9\"&$E72&RIGHT($D72,3),'1-Award Info'!$G$4&$C72&\"9\"&W$17&RIGHT($D72,3)))=\"\",\"BLANK\",IF($J72=0,\"\",IF(LEN('1-Award Info'!$G$4)=7,'1-Award Info'!$G$4&$B72&$C72&\"9\"&$E72&RIGHT($D72,3),'1-Award Info'!$G$4&$C72&\"9\"&$E72&RIGHT($D72,3))))","v":"BLANK"},0,0,null,"00000",{"$f":"COUNTIF(DK$17:DK72,1)","v":0},{"$f":"IF(DL72=\"BLANk\",0,COUNTIF(DL$17:DL72,DL72))","v":0},"BLANK",null,{"$f":"$DN$14+COUNTIF(DQ$17:DQ72,\"<>BLANK\")","v":0},{"$f":"COUNTA(DO$17:DO71)+1&\"0001\"","v":"560001"},"BLANK","BLANK",0,0,{"$f":"\"20\"&RIGHT(Tables!$E$7,2)","v":"2023"},null,56,{"$f":"\"00\"&'1-Award Info'!$G$6","v":"00"},"","",1,"",{"$f":"IFERROR(\nIF(VLOOKUP(\"FY\"&RIGHT($EA72,2),'1-Award Info'!$F$28:$G$32,2,0)=0,\n     1,\n     VLOOKUP(\"FY\"&RIGHT($EA72,2),'1-Award Info'!$F$28:$G$32,2,0)),1)","v":1},"",null,""]
[null,null,null,null,null,null,null,null,null,null,0,null,null,null,null,null,null,null,null,"100057",{"$f":"COUNTIF(V$17:$V73,1)","v":1},{"$f":"COUNTIF(W$17:$W73,W73)","v":57},{"$f":"IF($K73=0,\"\",IF(LEN('1-Award Info'!$G$4)=7,'1-Award Info'!$G$4&$B73&$C73,'1-Award Info'!$G$4&$C73))","v":""},null,{"$f":"COUNTA(Y$17:Y72)+1&\"0001\"","v":"570001"},"",null,"100057",{"$f":"COUNTIF($AD$17:AD73,AD73)","v":1},{"$f":"COUNTIF($AE$17:AE73,AE73)","v":57},"",null,{"$f":"COUNTA(AG$17:AG72)+1&\"0001\"","v":"570001"},"",null,"BLANK",{"$f":"IF(IF($F73=0,\"\",IF(LEN('1-Award Info'!$G$4)=7,'1-Award Info'!$G$4&$B73&$C73&\"9\"&E73&RIGHT($D73,3),'1-Award Info'!$G$4&$C73&\"9\"&E73&RIGHT($D73,3)))=\"\",\"BLANK\",IF($F73=0,\"\",IF(LEN('1-Award Info'!$G$4)=7,'1-Award Info'!$G$4&$B73&$C73&\"9\"&E73&RIGHT($D73,3),'1-Award Info'!$G$4&$C73&\"9\"&E73&RIGHT($D73,3))))","v":"BLANK"},0,0,null,"00000",{"$f":"COUNTIF(AQ$17:AQ73,1)","v":0},{"$f":"IF(AR73=\"BLANK\",0,COUNTIF(AR$17:AR73,AR73))","v":0},"BLANK",null,{"$f":"$AT$14+COUNTIF(AV$17:AV73,\"<>BLANK\")","v":0},{"$f":"COUNTA(AU$17:AU72)+1&\"0001\"","v":"570001"},"BLANK","BLANK",0,0,{"$f":"\"20\"&RIGHT(Tables!$E$3,2)","v":"2019"},null,"BLANK",{"$f":"IF(IF($G73=0,\"\",IF(LEN('1-Award Info'!$G$4)=7,'1-Award Info'!$G$4&$B73&$C73&\"9\"&E73&RIGHT($D73,3),'1-Award Info'!$G$4&$C73&\"9\"&E73&RIGHT($D73,3)))=\"\",\"BLANK\",IF($G73=0,\"\",IF(LEN('1-Award Info'!$G$4)=7,'1-Award Info'!$G$4&$B73&$C73&\"9\"&E73&RIGHT($D73,3),'1-Award Info'!$G$4&$C73&\"9\"&E73&RIGHT($D73,3))))","v":"BLANK"},0,0,null,"00000",{"$f":"COUNTIF(BI$17:BI73,1)","v":0},{"$f":"IF(BJ73=\"BLANk\",0,COUNTIF(BJ$17:BJ73,BJ73))","v":0},"BLANK",null,{"$f":"$BL$14+COUNTIF(BO$17:BO73,\"<>BLANK\")","v":0},{"$f":"COUNTA(BM$17:BM72)+1&\"0001\"","v":"570001"},"BLANK","BLANK",0,6,{"$f":"\"20\"&RIGHT(Tables!$E$4,2)","v":"2020"},null,"BLANK",{"$f":"IF(IF($H73=0,\"\",IF(LEN('1-Award Info'!$G$4)=7,'1-Award Info'!$G$4&$B73&$C73&\"9\"&E73&RIGHT($D73,3),'1-Award Info'!$G$4&$C73&\"9\"&E73&RIGHT($D73,3)))=\"\",\"BLANK\",IF($H73=0,\"\",IF(LEN('1-Award Info'!$G$4)=7,'1-Award Info'!$G$4&$B73&$C73&\"9\"&E73&RIGHT($D73,3),'1-Award Info'!$G$4&$C73&\"9\"&E73&RIGHT($D73,3))))","v":"BLANK"},0,0,null,"00000",{"$f":"COUNTIF(CA$17:CA73,1)","v":0},{"$f":"IF(CB73=\"BLANk\",0,COUNTIF(CB$17:CB73,CB73))","v":0},"BLANK",null,{"$f":"$CD$14+COUNTIF(CG$17:CG73,\"<>BLANK\")","v":0},{"$f":"COUNTA(CE$17:CE72)+1&\"0001\"","v":"570001"},"BLANK","BLANK",0,0,{"$f":"\"20\"&RIGHT(Tables!$E$5,2)","v":"2021"},null,"BLANK",{"$f":"IF(IF($I73=0,\"\",IF(LEN('1-Award Info'!$G$4)=7,'1-Award Info'!$G$4&$B73&$C73&\"9\"&$E73&RIGHT($D73,3),'1-Award Info'!$G$4&$C73&\"9\"&E$17&RIGHT($D73,3)))=\"\",\"BLANK\",IF($I73=0,\"\",IF(LEN('1-Award Info'!$G$4)=7,'1-Award Info'!$G$4&$B73&$C73&\"9\"&$E73&RIGHT($D73,3),'1-Award Info'!$G$4&$C73&\"9\"&$E73&RIGHT($D73,3))))","v":"BLANK"},0,0,null,"00000",{"$f":"COUNTIF(CS$17:CS73,1)","v":0},{"$f":"IF(CT73=\"BLANk\",0,COUNTIF(CT$17:CT73,CT73))","v":0},"BLANK",null,{"$f":"$CV$14+COUNTIF(CY$17:CY73,\"<>BLANK\")","v":0},{"$f":"COUNTA(CW$17:CW72)+1&\"0001\"","v":"570001"},"BLANK","BLANK",0,0,{"$f":"\"20\"&RIGHT(Tables!$E$6,2)","v":"2022"},null,"BLANK",{"$f":"IF(IF($J73=0,\"\",IF(LEN('1-Award Info'!$G$4)=7,'1-Award Info'!$G$4&$B73&$C73&\"9\"&$E73&RIGHT($D73,3),'1-Award Info'!$G$4&$C73&\"9\"&W$17&RIGHT($D73,3)))=\"\",\"BLANK\",IF($J73=0,\"\",IF(LEN('1-Award Info'!$G$4)=7,'1-Award Info'!$G$4&$B73&$C73&\"9\"&$E73&RIGHT($D73,3),'1-Award Info'!$G$4&$C73&\"9\"&$E73&RIGHT($D73,3))))","v":"BLANK"},0,0,null,"00000",{"$f":"COUNTIF(DK$17:DK73,1)","v":0},{"$f":"IF(DL73=\"BLANk\",0,COUNTIF(DL$17:DL73,DL73))","v":0},"BLANK",null,{"$f":"$DN$14+COUNTIF(DQ$17:DQ73,\"<>BLANK\")","v":0},{"$f":"COUNTA(DO$17:DO72)+1&\"0001\"","v":"570001"},"BLANK","BLANK",0,0,{"$f":"\"20\"&RIGHT(Tables!$E$7,2)","v":"2023"},null,57,{"$f":"\"00\"&'1-Award Info'!$G$6","v":"00"},"","",1,"",{"$f":"IFERROR(\nIF(VLOOKUP(\"FY\"&RIGHT($EA73,2),'1-Award Info'!$F$28:$G$32,2,0)=0,\n     1,\n     VLOOKUP(\"FY\"&RIGHT($EA73,2),'1-Award Info'!$F$28:$G$32,2,0)),1)","v":1},"",null,""]
[null,null,null,null,null,null,null,null,null,null,0,null,null,null,null,null,null,null,null,"100058",{"$f":"COUNTIF(V$17:$V74,1)","v":1},{"$f":"COUNTIF(W$17:$W74,W74)","v":58},{"$f":"IF($K74=0,\"\",IF(LEN('1-Award Info'!$G$4)=7,'1-Award Info'!$G$4&$B74&$C74,'1-Award Info'!$G$4&$C74))","v":""},null,{"$f":"COUNTA(Y$17:Y73)+1&\"0001\"","v":"580001"},"",null,"100058",{"$f":"COUNTIF($AD$17:AD74,AD74)","v":1},{"$f":"COUNTIF($AE$17:AE74,AE74)","v":58},"",null,{"$f":"COUNTA(AG$17:AG73)+1&\"0001\"","v":"580001"},"",null,"BLANK",{"$f":"IF(IF($F74=0,\"\",IF(LEN('1-Award Info'!$G$4)=7,'1-Award Info'!$G$4&$B74&$C74&\"9\"&E74&RIGHT($D74,3),'1-Award Info'!$G$4&$C74&\"9\"&E74&RIGHT($D74,3)))=\"\",\"BLANK\",IF($F74=0,\"\",IF(LEN('1-Award Info'!$G$4)=7,'1-Award Info'!$G$4&$B74&$C74&\"9\"&E74&RIGHT($D74,3),'1-Award Info'!$G$4&$C74&\"9\"&E74&RIGHT($D74,3))))","v":"BLANK"},0,0,null,"00000",{"$f":"COUNTIF(AQ$17:AQ74,1)","v":0},{"$f":"IF(AR74=\"BLANK\",0,COUNTIF(AR$17:AR74,AR74))","v":0},"BLANK",null,{"$f":"$AT$14+COUNTIF(AV$17:AV74,\"<>BLANK\")","v":0},{"$f":"COUNTA(AU$17:AU73)+1&\"0001\"","v":"580001"},"BLANK","BLANK",0,0,{"$f":"\"20\"&RIGHT(Tables!$E$3,2)","v":"2019"},null,"BLANK",{"$f":"IF(IF($G74=0,\"\",IF(LEN('1-Award Info'!$G$4)=7,'1-Award Info'!$G$4&$B74&$C74&\"9\"&E74&RIGHT($D74,3),'1-Award Info'!$G$4&$C74&\"9\"&E74&RIGHT($D74,3)))=\"\",\"BLANK\",IF($G74=0,\"\",IF(LEN('1-Award Info'!$G$4)=7,'1-Award Info'!$G$4&$B74&$C74&\"9\"&E74&RIGHT($D74,3),'1-Award Info'!$G$4&$C74&\"9\"&E74&RIGHT($D74,3))))","v":"BLANK"},0,0,null,"00000",{"$f":"COUNTIF(BI$17:BI74,1)","v":0},{"$f":"IF(BJ74=\"BLANk\",0,COUNTIF(BJ$17:BJ74,BJ74))","v":0},"BLANK",null,{"$f":"$BL$14+COUNTIF(BO$17:BO74,\"<>BLANK\")","v":0},{"$f":"COUNTA(BM$17:BM73)+1&\"0001\"","v":"580001"},"BLANK","BLANK",0,6,{"$f":"\"20\"&RIGHT(Tables!$E$4,2)","v":"2020"},null,"BLANK",{"$f":"IF(IF($H74=0,\"\",IF(LEN('1-Award Info'!$G$4)=7,'1-Award Info'!$G$4&$B74&$C74&\"9\"&E74&RIGHT($D74,3),'1-Award Info'!$G$4&$C74&\"9\"&E74&RIGHT($D74,3)))=\"\",\"BLANK\",IF($H74=0,\"\",IF(LEN('1-Award Info'!$G$4)=7,'1-Award Info'!$G$4&$B74&$C74&\"9\"&E74&RIGHT($D74,3),'1-Award Info'!$G$4&$C74&\"9\"&E74&RIGHT($D74,3))))","v":"BLANK"},0,0,null,"00000",{"$f":"COUNTIF(CA$17:CA74,1)","v":0},{"$f":"IF(CB74=\"BLANk\",0,COUNTIF(CB$17:CB74,CB74))","v":0},"BLANK",null,{"$f":"$CD$14+COUNTIF(CG$17:CG74,\"<>BLANK\")","v":0},{"$f":"COUNTA(CE$17:CE73)+1&\"0001\"","v":"580001"},"BLANK","BLANK",0,0,{"$f":"\"20\"&RIGHT(Tables!$E$5,2)","v":"2021"},null,"BLANK",{"$f":"IF(IF($I74=0,\"\",IF(LEN('1-Award Info'!$G$4)=7,'1-Award Info'!$G$4&$B74&$C74&\"9\"&$E74&RIGHT($D74,3),'1-Award Info'!$G$4&$C74&\"9\"&E$17&RIGHT($D74,3)))=\"\",\"BLANK\",IF($I74=0,\"\",IF(LEN('1-Award Info'!$G$4)=7,'1-Award Info'!$G$4&$B74&$C74&\"9\"&$E74&RIGHT($D74,3),'1-Award Info'!$G$4&$C74&\"9\"&$E74&RIGHT($D74,3))))","v":"BLANK"},0,0,null,"00000",{"$f":"COUNTIF(CS$17:CS74,1)","v":0},{"$f":"IF(CT74=\"BLANk\",0,COUNTIF(CT$17:CT74,CT74))","v":0},"BLANK",null,{"$f":"$CV$14+COUNTIF(CY$17:CY74,\"<>BLANK\")","v":0},{"$f":"COUNTA(CW$17:CW73)+1&\"0001\"","v":"580001"},"BLANK","BLANK",0,0,{"$f":"\"20\"&RIGHT(Tables!$E$6,2)","v":"2022"},null,"BLANK",{"$f":"IF(IF($J74=0,\"\",IF(LEN('1-Award Info'!$G$4)=7,'1-Award Info'!$G$4&$B74&$C74&\"9\"&$E74&RIGHT($D74,3),'1-Award Info'!$G$4&$C74&\"9\"&W$17&RIGHT($D74,3)))=\"\",\"BLANK\",IF($J74=0,\"\",IF(LEN('1-Award Info'!$G$4)=7,'1-Award Info'!$G$4&$B74&$C74&\"9\"&$E74&RIGHT($D74,3),'1-Award Info'!$G$4&$C74&\"9\"&$E74&RIGHT($D74,3))))","v":"BLANK"},0,0,null,"00000",{"$f":"COUNTIF(DK$17:DK74,1)","v":0},{"$f":"IF(DL74=\"BLANk\",0,COUNTIF(DL$17:DL74,DL74))","v":0},"BLANK",null,{"$f":"$DN$14+COUNTIF(DQ$17:DQ74,\"<>BLANK\")","v":0},{"$f":"COUNTA(DO$17:DO73)+1&\"0001\"","v":"580001"},"BLANK","BLANK",0,0,{"$f":"\"20\"&RIGHT(Tables!$E$7,2)","v":"2023"},null,58,{"$f":"\"00\"&'1-Award Info'!$G$6","v":"00"},"","",1,"",{"$f":"IFERROR(\nIF(VLOOKUP(\"FY\"&RIGHT($EA74,2),'1-Award Info'!$F$28:$G$32,2,0)=0,\n     1,\n     VLOOKUP(\"FY\"&RIGHT($EA74,2),'1-Award Info'!$F$28:$G$32,2,0)),1)","v":1},"",null,""]
[null,null,null,null,null,null,null,null,null,null,0,null,null,null,null,null,null,null,null,"100059",{"$f":"COUNTIF(V$17:$V75,1)","v":1},{"$f":"COUNTIF(W$17:$W75,W75)","v":59},{"$f":"IF($K75=0,\"\",IF(LEN('1-Award Info'!$G$4)=7,'1-Award Info'!$G$4&$B75&$C75,'1-Award Info'!$G$4&$C75))","v":""},null,{"$f":"COUNTA(Y$17:Y74)+1&\"0001\"","v":"590001"},"",null,"100059",{"$f":"COUNTIF($AD$17:AD75,AD75)","v":1},{"$f":"COUNTIF($AE$17:AE75,AE75)","v":59},"",null,{"$f":"COUNTA(AG$17:AG74)+1&\"0001\"","v":"590001"},"",null,"BLANK",{"$f":"IF(IF($F75=0,\"\",IF(LEN('1-Award Info'!$G$4)=7,'1-Award Info'!$G$4&$B75&$C75&\"9\"&E75&RIGHT($D75,3),'1-Award Info'!$G$4&$C75&\"9\"&E75&RIGHT($D75,3)))=\"\",\"BLANK\",IF($F75=0,\"\",IF(LEN('1-Award Info'!$G$4)=7,'1-Award Info'!$G$4&$B75&$C75&\"9\"&E75&RIGHT($D75,3),'1-Award Info'!$G$4&$C75&\"9\"&E75&RIGHT($D75,3))))","v":"BLANK"},0,0,null,"00000",{"$f":"COUNTIF(AQ$17:AQ75,1)","v":0},{"$f":"IF(AR75=\"BLANK\",0,COUNTIF(AR$17:AR75,AR75))","v":0},"BLANK",null,{"$f":"$AT$14+COUNTIF(AV$17:AV75,\"<>BLANK\")","v":0},{"$f":"COUNTA(AU$17:AU74)+1&\"0001\"","v":"590001"},"BLANK","BLANK",0,0,{"$f":"\"20\"&RIGHT(Tables!$E$3,2)","v":"2019"},null,"BLANK",{"$f":"IF(IF($G75=0,\"\",IF(LEN('1-Award Info'!$G$4)=7,'1-Award Info'!$G$4&$B75&$C75&\"9\"&E75&RIGHT($D75,3),'1-Award Info'!$G$4&$C75&\"9\"&E75&RIGHT($D75,3)))=\"\",\"BLANK\",IF($G75=0,\"\",IF(LEN('1-Award Info'!$G$4)=7,'1-Award Info'!$G$4&$B75&$C75&\"9\"&E75&RIGHT($D75,3),'1-Award Info'!$G$4&$C75&\"9\"&E75&RIGHT($D75,3))))","v":"BLANK"},0,0,null,"00000",{"$f":"COUNTIF(BI$17:BI75,1)","v":0},{"$f":"IF(BJ75=\"BLANk\",0,COUNTIF(BJ$17:BJ75,BJ75))","v":0},"BLANK",null,{"$f":"$BL$14+COUNTIF(BO$17:BO75,\"<>BLANK\")","v":0},{"$f":"COUNTA(BM$17:BM74)+1&\"0001\"","v":"590001"},"BLANK","BLANK",0,6,{"$f":"\"20\"&RIGHT(Tables!$E$4,2)","v":"2020"},null,"BLANK",{"$f":"IF(IF($H75=0,\"\",IF(LEN('1-Award Info'!$G$4)=7,'1-Award Info'!$G$4&$B75&$C75&\"9\"&E75&RIGHT($D75,3),'1-Award Info'!$G$4&$C75&\"9\"&E75&RIGHT($D75,3)))=\"\",\"BLANK\",IF($H75=0,\"\",IF(LEN('1-Award Info'!$G$4)=7,'1-Award Info'!$G$4&$B75&$C75&\"9\"&E75&RIGHT($D75,3),'1-Award Info'!$G$4&$C75&\"9\"&E75&RIGHT($D75,3))))","v":"BLANK"},0,0,null,"00000",{"$f":"COUNTIF(CA$17:CA75,1)","v":0},{"$f":"IF(CB75=\"BLANk\",0,COUNTIF(CB$17:CB75,CB75))","v":0},"BLANK",null,{"$f":"$CD$14+COUNTIF(CG$17:CG75,\"<>BLANK\")","v":0},{"$f":"COUNTA(CE$17:CE74)+1&\"0001\"","v":"590001"},"BLANK","BLANK",0,0,{"$f":"\"20\"&RIGHT(Tables!$E$5,2)","v":"2021"},null,"BLANK",{"$f":"IF(IF($I75=0,\"\",IF(LEN('1-Award Info'!$G$4)=7,'1-Award Info'!$G$4&$B75&$C75&\"9\"&$E75&RIGHT($D75,3),'1-Award Info'!$G$4&$C75&\"9\"&E$17&RIGHT($D75,3)))=\"\",\"BLANK\",IF($I75=0,\"\",IF(LEN('1-Award Info'!$G$4)=7,'1-Award Info'!$G$4&$B75&$C75&\"9\"&$E75&RIGHT($D75,3),'1-Award Info'!$G$4&$C75&\"9\"&$E75&RIGHT($D75,3))))","v":"BLANK"},0,0,null,"00000",{"$f":"COUNTIF(CS$17:CS75,1)","v":0},{"$f":"IF(CT75=\"BLANk\",0,COUNTIF(CT$17:CT75,CT75))","v":0},"BLANK",null,{"$f":"$CV$14+COUNTIF(CY$17:CY75,\"<>BLANK\")","v":0},{"$f":"COUNTA(CW$17:CW74)+1&\"0001\"","v":"590001"},"BLANK","BLANK",0,0,{"$f":"\"20\"&RIGHT(Tables!$E$6,2)","v":"2022"},null,"BLANK",{"$f":"IF(IF($J75=0,\"\",IF(LEN('1-Award Info'!$G$4)=7,'1-Award Info'!$G$4&$B75&$C75&\"9\"&$E75&RIGHT($D75,3),'1-Award Info'!$G$4&$C75&\"9\"&W$17&RIGHT($D75,3)))=\"\",\"BLANK\",IF($J75=0,\"\",IF(LEN('1-Award Info'!$G$4)=7,'1-Award Info'!$G$4&$B75&$C75&\"9\"&$E75&RIGHT($D75,3),'1-Award Info'!$G$4&$C75&\"9\"&$E75&RIGHT($D75,3))))","v":"BLANK"},0,0,null,"00000",{"$f":"COUNTIF(DK$17:DK75,1)","v":0},{"$f":"IF(DL75=\"BLANk\",0,COUNTIF(DL$17:DL75,DL75))","v":0},"BLANK",null,{"$f":"$DN$14+COUNTIF(DQ$17:DQ75,\"<>BLANK\")","v":0},{"$f":"COUNTA(DO$17:DO74)+1&\"0001\"","v":"590001"},"BLANK","BLANK",0,0,{"$f":"\"20\"&RIGHT(Tables!$E$7,2)","v":"2023"},null,59,{"$f":"\"00\"&'1-Award Info'!$G$6","v":"00"},"","",1,"",{"$f":"IFERROR(\nIF(VLOOKUP(\"FY\"&RIGHT($EA75,2),'1-Award Info'!$F$28:$G$32,2,0)=0,\n     1,\n     VLOOKUP(\"FY\"&RIGHT($EA75,2),'1-Award Info'!$F$28:$G$32,2,0)),1)","v":1},"",null,""]
[null,null,null,null,null,null,null,null,null,null,0,null,null,null,null,null,null,null,null,"100060",{"$f":"COUNTIF(V$17:$V76,1)","v":1},{"$f":"COUNTIF(W$17:$W76,W76)","v":60},{"$f":"IF($K76=0,\"\",IF(LEN('1-Award Info'!$G$4)=7,'1-Award Info'!$G$4&$B76&$C76,'1-Award Info'!$G$4&$C76))","v":""},null,{"$f":"COUNTA(Y$17:Y75)+1&\"0001\"","v":"600001"},"",null,"100060",{"$f":"COUNTIF($AD$17:AD76,AD76)","v":1},{"$f":"COUNTIF($AE$17:AE76,AE76)","v":60},"",null,{"$f":"COUNTA(AG$17:AG75)+1&\"0001\"","v":"600001"},"",null,"BLANK",{"$f":"IF(IF($F76=0,\"\",IF(LEN('1-Award Info'!$G$4)=7,'1-Award Info'!$G$4&$B76&$C76&\"9\"&E76&RIGHT($D76,3),'1-Award Info'!$G$4&$C76&\"9\"&E76&RIGHT($D76,3)))=\"\",\"BLANK\",IF($F76=0,\"\",IF(LEN('1-Award Info'!$G$4)=7,'1-Award Info'!$G$4&$B76&$C76&\"9\"&E76&RIGHT($D76,3),'1-Award Info'!$G$4&$C76&\"9\"&E76&RIGHT($D76,3))))","v":"BLANK"},0,0,null,"00000",{"$f":"COUNTIF(AQ$17:AQ76,1)","v":0},{"$f":"IF(AR76=\"BLANK\",0,COUNTIF(AR$17:AR76,AR76))","v":0},"BLANK",null,{"$f":"$AT$14+COUNTIF(AV$17:AV76,\"<>BLANK\")","v":0},{"$f":"COUNTA(AU$17:AU75)+1&\"0001\"","v":"600001"},"BLANK","BLANK",0,0,{"$f":"\"20\"&RIGHT(Tables!$E$3,2)","v":"2019"},null,"BLANK",{"$f":"IF(IF($G76=0,\"\",IF(LEN('1-Award Info'!$G$4)=7,'1-Award Info'!$G$4&$B76&$C76&\"9\"&E76&RIGHT($D76,3),'1-Award Info'!$G$4&$C76&\"9\"&E76&RIGHT($D76,3)))=\"\",\"BLANK\",IF($G76=0,\"\",IF(LEN('1-Award Info'!$G$4)=7,'1-Award Info'!$G$4&$B76&$C76&\"9\"&E76&RIGHT($D76,3),'1-Award Info'!$G$4&$C76&\"9\"&E76&RIGHT($D76,3))))","v":"BLANK"},0,0,null,"00000",{"$f":"COUNTIF(BI$17:BI76,1)","v":0},{"$f":"IF(BJ76=\"BLANk\",0,COUNTIF(BJ$17:BJ76,BJ76))","v":0},"BLANK",null,{"$f":"$BL$14+COUNTIF(BO$17:BO76,\"<>BLANK\")","v":0},{"$f":"COUNTA(BM$17:BM75)+1&\"0001\"","v":"600001"},"BLANK","BLANK",0,6,{"$f":"\"20\"&RIGHT(Tables!$E$4,2)","v":"2020"},null,"BLANK",{"$f":"IF(IF($H76=0,\"\",IF(LEN('1-Award Info'!$G$4)=7,'1-Award Info'!$G$4&$B76&$C76&\"9\"&E76&RIGHT($D76,3),'1-Award Info'!$G$4&$C76&\"9\"&E76&RIGHT($D76,3)))=\"\",\"BLANK\",IF($H76=0,\"\",IF(LEN('1-Award Info'!$G$4)=7,'1-Award Info'!$G$4&$B76&$C76&\"9\"&E76&RIGHT($D76,3),'1-Award Info'!$G$4&$C76&\"9\"&E76&RIGHT($D76,3))))","v":"BLANK"},0,0,null,"00000",{"$f":"COUNTIF(CA$17:CA76,1)","v":0},{"$f":"IF(CB76=\"BLANk\",0,COUNTIF(CB$17:CB76,CB76))","v":0},"BLANK",null,{"$f":"$CD$14+COUNTIF(CG$17:CG76,\"<>BLANK\")","v":0},{"$f":"COUNTA(CE$17:CE75)+1&\"0001\"","v":"600001"},"BLANK","BLANK",0,0,{"$f":"\"20\"&RIGHT(Tables!$E$5,2)","v":"2021"},null,"BLANK",{"$f":"IF(IF($I76=0,\"\",IF(LEN('1-Award Info'!$G$4)=7,'1-Award Info'!$G$4&$B76&$C76&\"9\"&$E76&RIGHT($D76,3),'1-Award Info'!$G$4&$C76&\"9\"&E$17&RIGHT($D76,3)))=\"\",\"BLANK\",IF($I76=0,\"\",IF(LEN('1-Award Info'!$G$4)=7,'1-Award Info'!$G$4&$B76&$C76&\"9\"&$E76&RIGHT($D76,3),'1-Award Info'!$G$4&$C76&\"9\"&$E76&RIGHT($D76,3))))","v":"BLANK"},0,0,null,"00000",{"$f":"COUNTIF(CS$17:CS76,1)","v":0},{"$f":"IF(CT76=\"BLANk\",0,COUNTIF(CT$17:CT76,CT76))","v":0},"BLANK",null,{"$f":"$CV$14+COUNTIF(CY$17:CY76,\"<>BLANK\")","v":0},{"$f":"COUNTA(CW$17:CW75)+1&\"0001\"","v":"600001"},"BLANK","BLANK",0,0,{"$f":"\"20\"&RIGHT(Tables!$E$6,2)","v":"2022"},null,"BLANK",{"$f":"IF(IF($J76=0,\"\",IF(LEN('1-Award Info'!$G$4)=7,'1-Award Info'!$G$4&$B76&$C76&\"9\"&$E76&RIGHT($D76,3),'1-Award Info'!$G$4&$C76&\"9\"&W$17&RIGHT($D76,3)))=\"\",\"BLANK\",IF($J76=0,\"\",IF(LEN('1-Award Info'!$G$4)=7,'1-Award Info'!$G$4&$B76&$C76&\"9\"&$E76&RIGHT($D76,3),'1-Award Info'!$G$4&$C76&\"9\"&$E76&RIGHT($D76,3))))","v":"BLANK"},0,0,null,"00000",{"$f":"COUNTIF(DK$17:DK76,1)","v":0},{"$f":"IF(DL76=\"BLANk\",0,COUNTIF(DL$17:DL76,DL76))","v":0},"BLANK",null,{"$f":"$DN$14+COUNTIF(DQ$17:DQ76,\"<>BLANK\")","v":0},{"$f":"COUNTA(DO$17:DO75)+1&\"0001\"","v":"600001"},"BLANK","BLANK",0,0,{"$f":"\"20\"&RIGHT(Tables!$E$7,2)","v":"2023"},null,60,{"$f":"\"00\"&'1-Award Info'!$G$6","v":"00"},"","",1,"",{"$f":"IFERROR(\nIF(VLOOKUP(\"FY\"&RIGHT($EA76,2),'1-Award Info'!$F$28:$G$32,2,0)=0,\n     1,\n     VLOOKUP(\"FY\"&RIGHT($EA76,2),'1-Award Info'!$F$28:$G$32,2,0)),1)","v":1},"",null,""]
[null,null,null,null,null,null,null,null,null,null,0,null,null,null,null,null,null,null,null,"100061",{"$f":"COUNTIF(V$17:$V77,1)","v":1},{"$f":"COUNTIF(W$17:$W77,W77)","v":61},{"$f":"IF($K77=0,\"\",IF(LEN('1-Award Info'!$G$4)=7,'1-Award Info'!$G$4&$B77&$C77,'1-Award Info'!$G$4&$C77))","v":""},null,{"$f":"COUNTA(Y$17:Y76)+1&\"0001\"","v":"610001"},"",null,"100061",{"$f":"COUNTIF($AD$17:AD77,AD77)","v":1},{"$f":"COUNTIF($AE$17:AE77,AE77)","v":61},"",null,{"$f":"COUNTA(AG$17:AG76)+1&\"0001\"","v":"610001"},"",null,"BLANK",{"$f":"IF(IF($F77=0,\"\",IF(LEN('1-Award Info'!$G$4)=7,'1-Award Info'!$G$4&$B77&$C77&\"9\"&E77&RIGHT($D77,3),'1-Award Info'!$G$4&$C77&\"9\"&E77&RIGHT($D77,3)))=\"\",\"BLANK\",IF($F77=0,\"\",IF(LEN('1-Award Info'!$G$4)=7,'1-Award Info'!$G$4&$B77&$C77&\"9\"&E77&RIGHT($D77,3),'1-Award Info'!$G$4&$C77&\"9\"&E77&RIGHT($D77,3))))","v":"BLANK"},0,0,null,"00000",{"$f":"COUNTIF(AQ$17:AQ77,1)","v":0},{"$f":"IF(AR77=\"BLANK\",0,COUNTIF(AR$17:AR77,AR77))","v":0},"BLANK",null,{"$f":"$AT$14+COUNTIF(AV$17:AV77,\"<>BLANK\")","v":0},{"$f":"COUNTA(AU$17:AU76)+1&\"0001\"","v":"610001"},"BLANK","BLANK",0,0,{"$f":"\"20\"&RIGHT(Tables!$E$3,2)","v":"2019"},null,"BLANK",{"$f":"IF(IF($G77=0,\"\",IF(LEN('1-Award Info'!$G$4)=7,'1-Award Info'!$G$4&$B77&$C77&\"9\"&E77&RIGHT($D77,3),'1-Award Info'!$G$4&$C77&\"9\"&E77&RIGHT($D77,3)))=\"\",\"BLANK\",IF($G77=0,\"\",IF(LEN('1-Award Info'!$G$4)=7,'1-Award Info'!$G$4&$B77&$C77&\"9\"&E77&RIGHT($D77,3),'1-Award Info'!$G$4&$C77&\"9\"&E77&RIGHT($D77,3))))","v":"BLANK"},0,0,null,"00000",{"$f":"COUNTIF(BI$17:BI77,1)","v":0},{"$f":"IF(BJ77=\"BLANk\",0,COUNTIF(BJ$17:BJ77,BJ77))","v":0},"BLANK",null,{"$f":"$BL$14+COUNTIF(BO$17:BO77,\"<>BLANK\")","v":0},{"$f":"COUNTA(BM$17:BM76)+1&\"0001\"","v":"610001"},"BLANK","BLANK",0,6,{"$f":"\"20\"&RIGHT(Tables!$E$4,2)","v":"2020"},null,"BLANK",{"$f":"IF(IF($H77=0,\"\",IF(LEN('1-Award Info'!$G$4)=7,'1-Award Info'!$G$4&$B77&$C77&\"9\"&E77&RIGHT($D77,3),'1-Award Info'!$G$4&$C77&\"9\"&E77&RIGHT($D77,3)))=\"\",\"BLANK\",IF($H77=0,\"\",IF(LEN('1-Award Info'!$G$4)=7,'1-Award Info'!$G$4&$B77&$C77&\"9\"&E77&RIGHT($D77,3),'1-Award Info'!$G$4&$C77&\"9\"&E77&RIGHT($D77,3))))","v":"BLANK"},0,0,null,"00000",{"$f":"COUNTIF(CA$17:CA77,1)","v":0},{"$f":"IF(CB77=\"BLANk\",0,COUNTIF(CB$17:CB77,CB77))","v":0},"BLANK",null,{"$f":"$CD$14+COUNTIF(CG$17:CG77,\"<>BLANK\")","v":0},{"$f":"COUNTA(CE$17:CE76)+1&\"0001\"","v":"610001"},"BLANK","BLANK",0,0,{"$f":"\"20\"&RIGHT(Tables!$E$5,2)","v":"2021"},null,"BLANK",{"$f":"IF(IF($I77=0,\"\",IF(LEN('1-Award Info'!$G$4)=7,'1-Award Info'!$G$4&$B77&$C77&\"9\"&$E77&RIGHT($D77,3),'1-Award Info'!$G$4&$C77&\"9\"&E$17&RIGHT($D77,3)))=\"\",\"BLANK\",IF($I77=0,\"\",IF(LEN('1-Award Info'!$G$4)=7,'1-Award Info'!$G$4&$B77&$C77&\"9\"&$E77&RIGHT($D77,3),'1-Award Info'!$G$4&$C77&\"9\"&$E77&RIGHT($D77,3))))","v":"BLANK"},0,0,null,"00000",{"$f":"COUNTIF(CS$17:CS77,1)","v":0},{"$f":"IF(CT77=\"BLANk\",0,COUNTIF(CT$17:CT77,CT77))","v":0},"BLANK",null,{"$f":"$CV$14+COUNTIF(CY$17:CY77,\"<>BLANK\")","v":0},{"$f":"COUNTA(CW$17:CW76)+1&\"0001\"","v":"610001"},"BLANK","BLANK",0,0,{"$f":"\"20\"&RIGHT(Tables!$E$6,2)","v":"2022"},null,"BLANK",{"$f":"IF(IF($J77=0,\"\",IF(LEN('1-Award Info'!$G$4)=7,'1-Award Info'!$G$4&$B77&$C77&\"9\"&$E77&RIGHT($D77,3),'1-Award Info'!$G$4&$C77&\"9\"&W$17&RIGHT($D77,3)))=\"\",\"BLANK\",IF($J77=0,\"\",IF(LEN('1-Award Info'!$G$4)=7,'1-Award Info'!$G$4&$B77&$C77&\"9\"&$E77&RIGHT($D77,3),'1-Award Info'!$G$4&$C77&\"9\"&$E77&RIGHT($D77,3))))","v":"BLANK"},0,0,null,"00000",{"$f":"COUNTIF(DK$17:DK77,1)","v":0},{"$f":"IF(DL77=\"BLANk\",0,COUNTIF(DL$17:DL77,DL77))","v":0},"BLANK",null,{"$f":"$DN$14+COUNTIF(DQ$17:DQ77,\"<>BLANK\")","v":0},{"$f":"COUNTA(DO$17:DO76)+1&\"0001\"","v":"610001"},"BLANK","BLANK",0,0,{"$f":"\"20\"&RIGHT(Tables!$E$7,2)","v":"2023"},null,61,{"$f":"\"00\"&'1-Award Info'!$G$6","v":"00"},"","",1,"",{"$f":"IFERROR(\nIF(VLOOKUP(\"FY\"&RIGHT($EA77,2),'1-Award Info'!$F$28:$G$32,2,0)=0,\n     1,\n     VLOOKUP(\"FY\"&RIGHT($EA77,2),'1-Award Info'!$F$28:$G$32,2,0)),1)","v":1},"",null,""]
[null,null,null,null,null,null,null,null,null,null,0,null,null,null,null,null,null,null,null,"100062",{"$f":"COUNTIF(V$17:$V78,1)","v":1},{"$f":"COUNTIF(W$17:$W78,W78)","v":62},{"$f":"IF($K78=0,\"\",IF(LEN('1-Award Info'!$G$4)=7,'1-Award Info'!$G$4&$B78&$C78,'1-Award Info'!$G$4&$C78))","v":""},null,{"$f":"COUNTA(Y$17:Y77)+1&\"0001\"","v":"620001"},"",null,"100062",{"$f":"COUNTIF($AD$17:AD78,AD78)","v":1},{"$f":"COUNTIF($AE$17:AE78,AE78)","v":62},"",null,{"$f":"COUNTA(AG$17:AG77)+1&\"0001\"","v":"620001"},"",null,"BLANK",{"$f":"IF(IF($F78=0,\"\",IF(LEN('1-Award Info'!$G$4)=7,'1-Award Info'!$G$4&$B78&$C78&\"9\"&E78&RIGHT($D78,3),'1-Award Info'!$G$4&$C78&\"9\"&E78&RIGHT($D78,3)))=\"\",\"BLANK\",IF($F78=0,\"\",IF(LEN('1-Award Info'!$G$4)=7,'1-Award Info'!$G$4&$B78&$C78&\"9\"&E78&RIGHT($D78,3),'1-Award Info'!$G$4&$C78&\"9\"&E78&RIGHT($D78,3))))","v":"BLANK"},0,0,null,"00000",{"$f":"COUNTIF(AQ$17:AQ78,1)","v":0},{"$f":"IF(AR78=\"BLANK\",0,COUNTIF(AR$17:AR78,AR78))","v":0},"BLANK",null,{"$f":"$AT$14+COUNTIF(AV$17:AV78,\"<>BLANK\")","v":0},{"$f":"COUNTA(AU$17:AU77)+1&\"0001\"","v":"620001"},"BLANK","BLANK",0,0,{"$f":"\"20\"&RIGHT(Tables!$E$3,2)","v":"2019"},null,"BLANK",{"$f":"IF(IF($G78=0,\"\",IF(LEN('1-Award Info'!$G$4)=7,'1-Award Info'!$G$4&$B78&$C78&\"9\"&E78&RIGHT($D78,3),'1-Award Info'!$G$4&$C78&\"9\"&E78&RIGHT($D78,3)))=\"\",\"BLANK\",IF($G78=0,\"\",IF(LEN('1-Award Info'!$G$4)=7,'1-Award Info'!$G$4&$B78&$C78&\"9\"&E78&RIGHT($D78,3),'1-Award Info'!$G$4&$C78&\"9\"&E78&RIGHT($D78,3))))","v":"BLANK"},0,0,null,"00000",{"$f":"COUNTIF(BI$17:BI78,1)","v":0},{"$f":"IF(BJ78=\"BLANk\",0,COUNTIF(BJ$17:BJ78,BJ78))","v":0},"BLANK",null,{"$f":"$BL$14+COUNTIF(BO$17:BO78,\"<>BLANK\")","v":0},{"$f":"COUNTA(BM$17:BM77)+1&\"0001\"","v":"620001"},"BLANK","BLANK",0,6,{"$f":"\"20\"&RIGHT(Tables!$E$4,2)","v":"2020"},null,"BLANK",{"$f":"IF(IF($H78=0,\"\",IF(LEN('1-Award Info'!$G$4)=7,'1-Award Info'!$G$4&$B78&$C78&\"9\"&E78&RIGHT($D78,3),'1-Award Info'!$G$4&$C78&\"9\"&E78&RIGHT($D78,3)))=\"\",\"BLANK\",IF($H78=0,\"\",IF(LEN('1-Award Info'!$G$4)=7,'1-Award Info'!$G$4&$B78&$C78&\"9\"&E78&RIGHT($D78,3),'1-Award Info'!$G$4&$C78&\"9\"&E78&RIGHT($D78,3))))","v":"BLANK"},0,0,null,"00000",{"$f":"COUNTIF(CA$17:CA78,1)","v":0},{"$f":"IF(CB78=\"BLANk\",0,COUNTIF(CB$17:CB78,CB78))","v":0},"BLANK",null,{"$f":"$CD$14+COUNTIF(CG$17:CG78,\"<>BLANK\")","v":0},{"$f":"COUNTA(CE$17:CE77)+1&\"0001\"","v":"620001"},"BLANK","BLANK",0,0,{"$f":"\"20\"&RIGHT(Tables!$E$5,2)","v":"2021"},null,"BLANK",{"$f":"IF(IF($I78=0,\"\",IF(LEN('1-Award Info'!$G$4)=7,'1-Award Info'!$G$4&$B78&$C78&\"9\"&$E78&RIGHT($D78,3),'1-Award Info'!$G$4&$C78&\"9\"&E$17&RIGHT($D78,3)))=\"\",\"BLANK\",IF($I78=0,\"\",IF(LEN('1-Award Info'!$G$4)=7,'1-Award Info'!$G$4&$B78&$C78&\"9\"&$E78&RIGHT($D78,3),'1-Award Info'!$G$4&$C78&\"9\"&$E78&RIGHT($D78,3))))","v":"BLANK"},0,0,null,"00000",{"$f":"COUNTIF(CS$17:CS78,1)","v":0},{"$f":"IF(CT78=\"BLANk\",0,COUNTIF(CT$17:CT78,CT78))","v":0},"BLANK",null,{"$f":"$CV$14+COUNTIF(CY$17:CY78,\"<>BLANK\")","v":0},{"$f":"COUNTA(CW$17:CW77)+1&\"0001\"","v":"620001"},"BLANK","BLANK",0,0,{"$f":"\"20\"&RIGHT(Tables!$E$6,2)","v":"2022"},null,"BLANK",{"$f":"IF(IF($J78=0,\"\",IF(LEN('1-Award Info'!$G$4)=7,'1-Award Info'!$G$4&$B78&$C78&\"9\"&$E78&RIGHT($D78,3),'1-Award Info'!$G$4&$C78&\"9\"&W$17&RIGHT($D78,3)))=\"\",\"BLANK\",IF($J78=0,\"\",IF(LEN('1-Award Info'!$G$4)=7,'1-Award Info'!$G$4&$B78&$C78&\"9\"&$E78&RIGHT($D78,3),'1-Award Info'!$G$4&$C78&\"9\"&$E78&RIGHT($D78,3))))","v":"BLANK"},0,0,null,"00000",{"$f":"COUNTIF(DK$17:DK78,1)","v":0},{"$f":"IF(DL78=\"BLANk\",0,COUNTIF(DL$17:DL78,DL78))","v":0},"BLANK",null,{"$f":"$DN$14+COUNTIF(DQ$17:DQ78,\"<>BLANK\")","v":0},{"$f":"COUNTA(DO$17:DO77)+1&\"0001\"","v":"620001"},"BLANK","BLANK",0,0,{"$f":"\"20\"&RIGHT(Tables!$E$7,2)","v":"2023"},null,62,{"$f":"\"00\"&'1-Award Info'!$G$6","v":"00"},"","",1,"",{"$f":"IFERROR(\nIF(VLOOKUP(\"FY\"&RIGHT($EA78,2),'1-Award Info'!$F$28:$G$32,2,0)=0,\n     1,\n     VLOOKUP(\"FY\"&RIGHT($EA78,2),'1-Award Info'!$F$28:$G$32,2,0)),1)","v":1},"",null,""]
[null,null,null,null,null,null,null,null,null,null,0,null,null,null,null,null,null,null,null,"100063",{"$f":"COUNTIF(V$17:$V79,1)","v":1},{"$f":"COUNTIF(W$17:$W79,W79)","v":63},{"$f":"IF($K79=0,\"\",IF(LEN('1-Award Info'!$G$4)=7,'1-Award Info'!$G$4&$B79&$C79,'1-Award Info'!$G$4&$C79))","v":""},null,{"$f":"COUNTA(Y$17:Y78)+1&\"0001\"","v":"630001"},"",null,"100063",{"$f":"COUNTIF($AD$17:AD79,AD79)","v":1},{"$f":"COUNTIF($AE$17:AE79,AE79)","v":63},"",null,{"$f":"COUNTA(AG$17:AG78)+1&\"0001\"","v":"630001"},"",null,"BLANK",{"$f":"IF(IF($F79=0,\"\",IF(LEN('1-Award Info'!$G$4)=7,'1-Award Info'!$G$4&$B79&$C79&\"9\"&E79&RIGHT($D79,3),'1-Award Info'!$G$4&$C79&\"9\"&E79&RIGHT($D79,3)))=\"\",\"BLANK\",IF($F79=0,\"\",IF(LEN('1-Award Info'!$G$4)=7,'1-Award Info'!$G$4&$B79&$C79&\"9\"&E79&RIGHT($D79,3),'1-Award Info'!$G$4&$C79&\"9\"&E79&RIGHT($D79,3))))","v":"BLANK"},0,0,null,"00000",{"$f":"COUNTIF(AQ$17:AQ79,1)","v":0},{"$f":"IF(AR79=\"BLANK\",0,COUNTIF(AR$17:AR79,AR79))","v":0},"BLANK",null,{"$f":"$AT$14+COUNTIF(AV$17:AV79,\"<>BLANK\")","v":0},{"$f":"COUNTA(AU$17:AU78)+1&\"0001\"","v":"630001"},"BLANK","BLANK",0,0,{"$f":"\"20\"&RIGHT(Tables!$E$3,2)","v":"2019"},null,"BLANK",{"$f":"IF(IF($G79=0,\"\",IF(LEN('1-Award Info'!$G$4)=7,'1-Award Info'!$G$4&$B79&$C79&\"9\"&E79&RIGHT($D79,3),'1-Award Info'!$G$4&$C79&\"9\"&E79&RIGHT($D79,3)))=\"\",\"BLANK\",IF($G79=0,\"\",IF(LEN('1-Award Info'!$G$4)=7,'1-Award Info'!$G$4&$B79&$C79&\"9\"&E79&RIGHT($D79,3),'1-Award Info'!$G$4&$C79&\"9\"&E79&RIGHT($D79,3))))","v":"BLANK"},0,0,null,"00000",{"$f":"COUNTIF(BI$17:BI79,1)","v":0},{"$f":"IF(BJ79=\"BLANk\",0,COUNTIF(BJ$17:BJ79,BJ79))","v":0},"BLANK",null,{"$f":"$BL$14+COUNTIF(BO$17:BO79,\"<>BLANK\")","v":0},{"$f":"COUNTA(BM$17:BM78)+1&\"0001\"","v":"630001"},"BLANK","BLANK",0,6,{"$f":"\"20\"&RIGHT(Tables!$E$4,2)","v":"2020"},null,"BLANK",{"$f":"IF(IF($H79=0,\"\",IF(LEN('1-Award Info'!$G$4)=7,'1-Award Info'!$G$4&$B79&$C79&\"9\"&E79&RIGHT($D79,3),'1-Award Info'!$G$4&$C79&\"9\"&E79&RIGHT($D79,3)))=\"\",\"BLANK\",IF($H79=0,\"\",IF(LEN('1-Award Info'!$G$4)=7,'1-Award Info'!$G$4&$B79&$C79&\"9\"&E79&RIGHT($D79,3),'1-Award Info'!$G$4&$C79&\"9\"&E79&RIGHT($D79,3))))","v":"BLANK"},0,0,null,"00000",{"$f":"COUNTIF(CA$17:CA79,1)","v":0},{"$f":"IF(CB79=\"BLANk\",0,COUNTIF(CB$17:CB79,CB79))","v":0},"BLANK",null,{"$f":"$CD$14+COUNTIF(CG$17:CG79,\"<>BLANK\")","v":0},{"$f":"COUNTA(CE$17:CE78)+1&\"0001\"","v":"630001"},"BLANK","BLANK",0,0,{"$f":"\"20\"&RIGHT(Tables!$E$5,2)","v":"2021"},null,"BLANK",{"$f":"IF(IF($I79=0,\"\",IF(LEN('1-Award Info'!$G$4)=7,'1-Award Info'!$G$4&$B79&$C79&\"9\"&$E79&RIGHT($D79,3),'1-Award Info'!$G$4&$C79&\"9\"&E$17&RIGHT($D79,3)))=\"\",\"BLANK\",IF($I79=0,\"\",IF(LEN('1-Award Info'!$G$4)=7,'1-Award Info'!$G$4&$B79&$C79&\"9\"&$E79&RIGHT($D79,3),'1-Award Info'!$G$4&$C79&\"9\"&$E79&RIGHT($D79,3))))","v":"BLANK"},0,0,null,"00000",{"$f":"COUNTIF(CS$17:CS79,1)","v":0},{"$f":"IF(CT79=\"BLANk\",0,COUNTIF(CT$17:CT79,CT79))","v":0},"BLANK",null,{"$f":"$CV$14+COUNTIF(CY$17:CY79,\"<>BLANK\")","v":0},{"$f":"COUNTA(CW$17:CW78)+1&\"0001\"","v":"630001"},"BLANK","BLANK",0,0,{"$f":"\"20\"&RIGHT(Tables!$E$6,2)","v":"2022"},null,"BLANK",{"$f":"IF(IF($J79=0,\"\",IF(LEN('1-Award Info'!$G$4)=7,'1-Award Info'!$G$4&$B79&$C79&\"9\"&$E79&RIGHT($D79,3),'1-Award Info'!$G$4&$C79&\"9\"&W$17&RIGHT($D79,3)))=\"\",\"BLANK\",IF($J79=0,\"\",IF(LEN('1-Award Info'!$G$4)=7,'1-Award Info'!$G$4&$B79&$C79&\"9\"&$E79&RIGHT($D79,3),'1-Award Info'!$G$4&$C79&\"9\"&$E79&RIGHT($D79,3))))","v":"BLANK"},0,0,null,"00000",{"$f":"COUNTIF(DK$17:DK79,1)","v":0},{"$f":"IF(DL79=\"BLANk\",0,COUNTIF(DL$17:DL79,DL79))","v":0},"BLANK",null,{"$f":"$DN$14+COUNTIF(DQ$17:DQ79,\"<>BLANK\")","v":0},{"$f":"COUNTA(DO$17:DO78)+1&\"0001\"","v":"630001"},"BLANK","BLANK",0,0,{"$f":"\"20\"&RIGHT(Tables!$E$7,2)","v":"2023"},null,63,{"$f":"\"00\"&'1-Award Info'!$G$6","v":"00"},"","",1,"",{"$f":"IFERROR(\nIF(VLOOKUP(\"FY\"&RIGHT($EA79,2),'1-Award Info'!$F$28:$G$32,2,0)=0,\n     1,\n     VLOOKUP(\"FY\"&RIGHT($EA79,2),'1-Award Info'!$F$28:$G$32,2,0)),1)","v":1},"",null,""]
[null,null,null,null,null,null,null,null,null,null,0,null,null,null,null,null,null,null,null,"100064",{"$f":"COUNTIF(V$17:$V80,1)","v":1},{"$f":"COUNTIF(W$17:$W80,W80)","v":64},{"$f":"IF($K80=0,\"\",IF(LEN('1-Award Info'!$G$4)=7,'1-Award Info'!$G$4&$B80&$C80,'1-Award Info'!$G$4&$C80))","v":""},null,{"$f":"COUNTA(Y$17:Y79)+1&\"0001\"","v":"640001"},"",null,"100064",{"$f":"COUNTIF($AD$17:AD80,AD80)","v":1},{"$f":"COUNTIF($AE$17:AE80,AE80)","v":64},"",null,{"$f":"COUNTA(AG$17:AG79)+1&\"0001\"","v":"640001"},"",null,"BLANK",{"$f":"IF(IF($F80=0,\"\",IF(LEN('1-Award Info'!$G$4)=7,'1-Award Info'!$G$4&$B80&$C80&\"9\"&E80&RIGHT($D80,3),'1-Award Info'!$G$4&$C80&\"9\"&E80&RIGHT($D80,3)))=\"\",\"BLANK\",IF($F80=0,\"\",IF(LEN('1-Award Info'!$G$4)=7,'1-Award Info'!$G$4&$B80&$C80&\"9\"&E80&RIGHT($D80,3),'1-Award Info'!$G$4&$C80&\"9\"&E80&RIGHT($D80,3))))","v":"BLANK"},0,0,null,"00000",{"$f":"COUNTIF(AQ$17:AQ80,1)","v":0},{"$f":"IF(AR80=\"BLANK\",0,COUNTIF(AR$17:AR80,AR80))","v":0},"BLANK",null,{"$f":"$AT$14+COUNTIF(AV$17:AV80,\"<>BLANK\")","v":0},{"$f":"COUNTA(AU$17:AU79)+1&\"0001\"","v":"640001"},"BLANK","BLANK",0,0,{"$f":"\"20\"&RIGHT(Tables!$E$3,2)","v":"2019"},null,"BLANK",{"$f":"IF(IF($G80=0,\"\",IF(LEN('1-Award Info'!$G$4)=7,'1-Award Info'!$G$4&$B80&$C80&\"9\"&E80&RIGHT($D80,3),'1-Award Info'!$G$4&$C80&\"9\"&E80&RIGHT($D80,3)))=\"\",\"BLANK\",IF($G80=0,\"\",IF(LEN('1-Award Info'!$G$4)=7,'1-Award Info'!$G$4&$B80&$C80&\"9\"&E80&RIGHT($D80,3),'1-Award Info'!$G$4&$C80&\"9\"&E80&RIGHT($D80,3))))","v":"BLANK"},0,0,null,"00000",{"$f":"COUNTIF(BI$17:BI80,1)","v":0},{"$f":"IF(BJ80=\"BLANk\",0,COUNTIF(BJ$17:BJ80,BJ80))","v":0},"BLANK",null,{"$f":"$BL$14+COUNTIF(BO$17:BO80,\"<>BLANK\")","v":0},{"$f":"COUNTA(BM$17:BM79)+1&\"0001\"","v":"640001"},"BLANK","BLANK",0,6,{"$f":"\"20\"&RIGHT(Tables!$E$4,2)","v":"2020"},null,"BLANK",{"$f":"IF(IF($H80=0,\"\",IF(LEN('1-Award Info'!$G$4)=7,'1-Award Info'!$G$4&$B80&$C80&\"9\"&E80&RIGHT($D80,3),'1-Award Info'!$G$4&$C80&\"9\"&E80&RIGHT($D80,3)))=\"\",\"BLANK\",IF($H80=0,\"\",IF(LEN('1-Award Info'!$G$4)=7,'1-Award Info'!$G$4&$B80&$C80&\"9\"&E80&RIGHT($D80,3),'1-Award Info'!$G$4&$C80&\"9\"&E80&RIGHT($D80,3))))","v":"BLANK"},0,0,null,"00000",{"$f":"COUNTIF(CA$17:CA80,1)","v":0},{"$f":"IF(CB80=\"BLANk\",0,COUNTIF(CB$17:CB80,CB80))","v":0},"BLANK",null,{"$f":"$CD$14+COUNTIF(CG$17:CG80,\"<>BLANK\")","v":0},{"$f":"COUNTA(CE$17:CE79)+1&\"0001\"","v":"640001"},"BLANK","BLANK",0,0,{"$f":"\"20\"&RIGHT(Tables!$E$5,2)","v":"2021"},null,"BLANK",{"$f":"IF(IF($I80=0,\"\",IF(LEN('1-Award Info'!$G$4)=7,'1-Award Info'!$G$4&$B80&$C80&\"9\"&$E80&RIGHT($D80,3),'1-Award Info'!$G$4&$C80&\"9\"&E$17&RIGHT($D80,3)))=\"\",\"BLANK\",IF($I80=0,\"\",IF(LEN('1-Award Info'!$G$4)=7,'1-Award Info'!$G$4&$B80&$C80&\"9\"&$E80&RIGHT($D80,3),'1-Award Info'!$G$4&$C80&\"9\"&$E80&RIGHT($D80,3))))","v":"BLANK"},0,0,null,"00000",{"$f":"COUNTIF(CS$17:CS80,1)","v":0},{"$f":"IF(CT80=\"BLANk\",0,COUNTIF(CT$17:CT80,CT80))","v":0},"BLANK",null,{"$f":"$CV$14+COUNTIF(CY$17:CY80,\"<>BLANK\")","v":0},{"$f":"COUNTA(CW$17:CW79)+1&\"0001\"","v":"640001"},"BLANK","BLANK",0,0,{"$f":"\"20\"&RIGHT(Tables!$E$6,2)","v":"2022"},null,"BLANK",{"$f":"IF(IF($J80=0,\"\",IF(LEN('1-Award Info'!$G$4)=7,'1-Award Info'!$G$4&$B80&$C80&\"9\"&$E80&RIGHT($D80,3),'1-Award Info'!$G$4&$C80&\"9\"&W$17&RIGHT($D80,3)))=\"\",\"BLANK\",IF($J80=0,\"\",IF(LEN('1-Award Info'!$G$4)=7,'1-Award Info'!$G$4&$B80&$C80&\"9\"&$E80&RIGHT($D80,3),'1-Award Info'!$G$4&$C80&\"9\"&$E80&RIGHT($D80,3))))","v":"BLANK"},0,0,null,"00000",{"$f":"COUNTIF(DK$17:DK80,1)","v":0},{"$f":"IF(DL80=\"BLANk\",0,COUNTIF(DL$17:DL80,DL80))","v":0},"BLANK",null,{"$f":"$DN$14+COUNTIF(DQ$17:DQ80,\"<>BLANK\")","v":0},{"$f":"COUNTA(DO$17:DO79)+1&\"0001\"","v":"640001"},"BLANK","BLANK",0,0,{"$f":"\"20\"&RIGHT(Tables!$E$7,2)","v":"2023"},null,64,{"$f":"\"00\"&'1-Award Info'!$G$6","v":"00"},"","",1,"",{"$f":"IFERROR(\nIF(VLOOKUP(\"FY\"&RIGHT($EA80,2),'1-Award Info'!$F$28:$G$32,2,0)=0,\n     1,\n     VLOOKUP(\"FY\"&RIGHT($EA80,2),'1-Award Info'!$F$28:$G$32,2,0)),1)","v":1},"",null,""]
[null,null,null,null,null,null,null,null,null,null,0,null,null,null,null,null,null,null,null,"100065",{"$f":"COUNTIF(V$17:$V81,1)","v":1},{"$f":"COUNTIF(W$17:$W81,W81)","v":65},{"$f":"IF($K81=0,\"\",IF(LEN('1-Award Info'!$G$4)=7,'1-Award Info'!$G$4&$B81&$C81,'1-Award Info'!$G$4&$C81))","v":""},null,{"$f":"COUNTA(Y$17:Y80)+1&\"0001\"","v":"650001"},{"$f":"IFERROR(VLOOKUP(Y81,T:W,4,0),\"\")","v":""},null,"100065",{"$f":"COUNTIF($AD$17:AD81,AD81)","v":1},{"$f":"COUNTIF($AE$17:AE81,AE81)","v":65},"",null,{"$f":"COUNTA(AG$17:AG80)+1&\"0001\"","v":"650001"},{"$f":"IFERROR(VLOOKUP(AG81,AB:AE,4,0),\"\")","v":""},null,"BLANK",{"$f":"IF(IF($F81=0,\"\",IF(LEN('1-Award Info'!$G$4)=7,'1-Award Info'!$G$4&$B81&$C81&\"9\"&E81&RIGHT($D81,3),'1-Award Info'!$G$4&$C81&\"9\"&E81&RIGHT($D81,3)))=\"\",\"BLANK\",IF($F81=0,\"\",IF(LEN('1-Award Info'!$G$4)=7,'1-Award Info'!$G$4&$B81&$C81&\"9\"&E81&RIGHT($D81,3),'1-Award Info'!$G$4&$C81&\"9\"&E81&RIGHT($D81,3))))","v":"BLANK"},0,0,null,"00000",{"$f":"COUNTIF(AQ$17:AQ81,1)","v":0},{"$f":"IF(AR81=\"BLANK\",0,COUNTIF(AR$17:AR81,AR81))","v":0},"BLANK",null,{"$f":"$AT$14+COUNTIF(AV$17:AV81,\"<>BLANK\")","v":0},{"$f":"COUNTA(AU$17:AU80)+1&\"0001\"","v":"650001"},{"$f":"IFERROR(VLOOKUP(AU81,AO:AR,4,0),\"BLANK\")","v":"BLANK"},"BLANK",{"$f":"SUMIF($AJ:$AJ,$AV81,AL:AL)","v":0},{"$f":"SUMIF($AJ:$AJ,$AV81,AM:AM)","v":0},{"$f":"\"20\"&RIGHT(Tables!$E$3,2)","v":"2019"},null,"BLANK",{"$f":"IF(IF($G81=0,\"\",IF(LEN('1-Award Info'!$G$4)=7,'1-Award Info'!$G$4&$B81&$C81&\"9\"&E81&RIGHT($D81,3),'1-Award Info'!$G$4&$C81&\"9\"&E81&RIGHT($D81,3)))=\"\",\"BLANK\",IF($G81=0,\"\",IF(LEN('1-Award Info'!$G$4)=7,'1-Award Info'!$G$4&$B81&$C81&\"9\"&E81&RIGHT($D81,3),'1-Award Info'!$G$4&$C81&\"9\"&E81&RIGHT($D81,3))))","v":"BLANK"},0,0,null,"00000",{"$f":"COUNTIF(BI$17:BI81,1)","v":0},{"$f":"IF(BJ81=\"BLANk\",0,COUNTIF(BJ$17:BJ81,BJ81))","v":0},"BLANK",null,{"$f":"$BL$14+COUNTIF(BO$17:BO81,\"<>BLANK\")","v":0},{"$f":"COUNTA(BM$17:BM80)+1&\"0001\"","v":"650001"},{"$f":"IFERROR(VLOOKUP(BM81,BG:BJ,4,0),\"BLANK\")","v":"BLANK"},"BLANK",{"$f":"SUMIF($BB:$BB,$BN81,BD:BD)","v":0},{"$f":"SUMIF($BB:$BB,$BN81,BE:BE)","v":6},{"$f":"\"20\"&RIGHT(Tables!$E$4,2)","v":"2020"},null,"BLANK",{"$f":"IF(IF($H81=0,\"\",IF(LEN('1-Award Info'!$G$4)=7,'1-Award Info'!$G$4&$B81&$C81&\"9\"&E81&RIGHT($D81,3),'1-Award Info'!$G$4&$C81&\"9\"&E81&RIGHT($D81,3)))=\"\",\"BLANK\",IF($H81=0,\"\",IF(LEN('1-Award Info'!$G$4)=7,'1-Award Info'!$G$4&$B81&$C81&\"9\"&E81&RIGHT($D81,3),'1-Award Info'!$G$4&$C81&\"9\"&E81&RIGHT($D81,3))))","v":"BLANK"},0,0,null,"00000",{"$f":"COUNTIF(CA$17:CA81,1)","v":0},{"$f":"IF(CB81=\"BLANk\",0,COUNTIF(CB$17:CB81,CB81))","v":0},"BLANK",null,{"$f":"$CD$14+COUNTIF(CG$17:CG81,\"<>BLANK\")","v":0},{"$f":"COUNTA(CE$17:CE80)+1&\"0001\"","v":"650001"},{"$f":"IFERROR(VLOOKUP(CE81,BY:CB,4,0),\"BLANK\")","v":"BLANK"},"BLANK",{"$f":"SUMIF($BT:$BT,$CF81,BV:BV)","v":0},{"$f":"SUMIF($BT:$BT,$CF81,BW:BW)","v":0},{"$f":"\"20\"&RIGHT(Tables!$E$5,2)","v":"2021"},null,"BLANK",{"$f":"IF(IF($I81=0,\"\",IF(LEN('1-Award Info'!$G$4)=7,'1-Award Info'!$G$4&$B81&$C81&\"9\"&$E81&RIGHT($D81,3),'1-Award Info'!$G$4&$C81&\"9\"&E$17&RIGHT($D81,3)))=\"\",\"BLANK\",IF($I81=0,\"\",IF(LEN('1-Award Info'!$G$4)=7,'1-Award Info'!$G$4&$B81&$C81&\"9\"&$E81&RIGHT($D81,3),'1-Award Info'!$G$4&$C81&\"9\"&$E81&RIGHT($D81,3))))","v":"BLANK"},0,0,null,"00000",{"$f":"COUNTIF(CS$17:CS81,1)","v":0},{"$f":"IF(CT81=\"BLANk\",0,COUNTIF(CT$17:CT81,CT81))","v":0},"BLANK",null,{"$f":"$CV$14+COUNTIF(CY$17:CY81,\"<>BLANK\")","v":0},{"$f":"COUNTA(CW$17:CW80)+1&\"0001\"","v":"650001"},{"$f":"IFERROR(VLOOKUP(CW81,CQ:CT,4,0),\"BLANK\")","v":"BLANK"},"BLANK",0,0,{"$f":"\"20\"&RIGHT(Tables!$E$6,2)","v":"2022"},null,"BLANK",{"$f":"IF(IF($J81=0,\"\",IF(LEN('1-Award Info'!$G$4)=7,'1-Award Info'!$G$4&$B81&$C81&\"9\"&$E81&RIGHT($D81,3),'1-Award Info'!$G$4&$C81&\"9\"&W$17&RIGHT($D81,3)))=\"\",\"BLANK\",IF($J81=0,\"\",IF(LEN('1-Award Info'!$G$4)=7,'1-Award Info'!$G$4&$B81&$C81&\"9\"&$E81&RIGHT($D81,3),'1-Award Info'!$G$4&$C81&\"9\"&$E81&RIGHT($D81,3))))","v":"BLANK"},0,0,null,"00000",{"$f":"COUNTIF(DK$17:DK81,1)","v":0},{"$f":"IF(DL81=\"BLANk\",0,COUNTIF(DL$17:DL81,DL81))","v":0},"BLANK",null,{"$f":"$DN$14+COUNTIF(DQ$17:DQ81,\"<>BLANK\")","v":0},{"$f":"COUNTA(DO$17:DO80)+1&\"0001\"","v":"650001"},{"$f":"IFERROR(VLOOKUP(DO81,DI:DL,4,0),\"BLANK\")","v":"BLANK"},"BLANK",{"$f":"SUMIF($DD:$DD,$DP81,DF:DF)","v":0},{"$f":"SUMIF($DD:$DD,$DP81,DG:DG)","v":0},{"$f":"\"20\"&RIGHT(Tables!$E$7,2)","v":"2023"},null,65,{"$f":"\"00\"&'1-Award Info'!$G$6","v":"00"},{"$f":"IFERROR(IFERROR(IFERROR(IFERROR(IFERROR(LEFT(VLOOKUP($DV81,$AT:$AW,4,0),15),LEFT(VLOOKUP($DV81,$BL:$BO,4,0),15)),LEFT(VLOOKUP($DV81,$CD:$CG,4,0),15)),LEFT(VLOOKUP($DV81,CV:CY,4,0),15)),LEFT(VLOOKUP($DV81,DN:DQ,4,0),15)),\"\")","v":""},{"$f":"IFERROR(IFERROR(IFERROR(IFERROR(IFERROR(RIGHT(VLOOKUP($DV81,$AT:$AW,4,0),5),RIGHT(VLOOKUP($DV81,$BL:$BO,4,0),5)),RIGHT(VLOOKUP($DV81,$CD:$CG,4,0),5)),RIGHT(VLOOKUP($DV81,CV:CY,4,0),5)),RIGHT(VLOOKUP($DV81,DN:DR,4,0),5)),\"\")","v":""},1,{"$f":"IFERROR(IFERROR(IFERROR(IFERROR(IFERROR(VLOOKUP($DV81,$AT:$AZ,7,0),VLOOKUP($DV81,$BL:$BR,7,0)),VLOOKUP($DV81,$CD:$CJ,7,0)),VLOOKUP($DV81,CV:DB,7,0)),VLOOKUP($DV81,DN:DT,7,0)),\"\")","v":""},{"$f":"IFERROR(\nIF(VLOOKUP(\"FY\"&RIGHT($EA81,2),'1-Award Info'!$F$28:$G$32,2,0)=0,\n     1,\n     VLOOKUP(\"FY\"&RIGHT($EA81,2),'1-Award Info'!$F$28:$G$32,2,0)),1)","v":1},{"$f":"IFERROR(IFERROR(IFERROR(IFERROR(IFERROR(VLOOKUP($DV81,$AT:$AZ,5,0),VLOOKUP($DV81,$BL:$BR,5,0)),VLOOKUP($DV81,$CD:$CJ,5,0)),VLOOKUP($DV81,CV:CZ,5,0)),VLOOKUP($DV81,DN:DR,5,0)),\"\")","v":""},null,{"$f":"IFERROR(IFERROR(IFERROR(IFERROR(IFERROR(VLOOKUP($DV81,$AT:$AZ,6,0),VLOOKUP($DV81,$BL:$BR,6,0)),VLOOKUP($DV81,$CD:$CJ,6,0)),VLOOKUP($DV81,CV:DA,6,0)),VLOOKUP($DV81,DN:DS,6,0)),\"\")","v":""}]
[null,null,null,null,null,null,null,null,null,null,{"$f":"SUM(F82:J82)","v":0},null,null,null,null,null,null,null,null,"100066",{"$f":"COUNTIF(V$17:$V82,1)","v":1},{"$f":"COUNTIF(W$17:$W82,W82)","v":66},{"$f":"IF($K82=0,\"\",IF(LEN('1-Award Info'!$G$4)=7,'1-Award Info'!$G$4&$B82&$C82,'1-Award Info'!$G$4&$C82))","v":""},null,{"$f":"COUNTA(Y$17:Y81)+1&\"0001\"","v":"660001"},"",null,"100066",{"$f":"COUNTIF($AD$17:AD82,AD82)","v":1},{"$f":"COUNTIF($AE$17:AE82,AE82)","v":66},"",null,{"$f":"COUNTA(AG$17:AG81)+1&\"0001\"","v":"660001"},"",null,"BLANK",{"$f":"IF(IF($F82=0,\"\",IF(LEN('1-Award Info'!$G$4)=7,'1-Award Info'!$G$4&$B82&$C82&\"9\"&E82&RIGHT($D82,3),'1-Award Info'!$G$4&$C82&\"9\"&E82&RIGHT($D82,3)))=\"\",\"BLANK\",IF($F82=0,\"\",IF(LEN('1-Award Info'!$G$4)=7,'1-Award Info'!$G$4&$B82&$C82&\"9\"&E82&RIGHT($D82,3),'1-Award Info'!$G$4&$C82&\"9\"&E82&RIGHT($D82,3))))","v":"BLANK"},0,0,null,"00000",{"$f":"COUNTIF(AQ$17:AQ82,1)","v":0},{"$f":"IF(AR82=\"BLANK\",0,COUNTIF(AR$17:AR82,AR82))","v":0},"BLANK",null,{"$f":"$AT$14+COUNTIF(AV$17:AV82,\"<>BLANK\")","v":0},{"$f":"COUNTA(AU$17:AU81)+1&\"0001\"","v":"660001"},"BLANK","BLANK",0,0,{"$f":"\"20\"&RIGHT(Tables!$E$3,2)","v":"2019"},null,"BLANK",{"$f":"IF(IF($G82=0,\"\",IF(LEN('1-Award Info'!$G$4)=7,'1-Award Info'!$G$4&$B82&$C82&\"9\"&E82&RIGHT($D82,3),'1-Award Info'!$G$4&$C82&\"9\"&E82&RIGHT($D82,3)))=\"\",\"BLANK\",IF($G82=0,\"\",IF(LEN('1-Award Info'!$G$4)=7,'1-Award Info'!$G$4&$B82&$C82&\"9\"&E82&RIGHT($D82,3),'1-Award Info'!$G$4&$C82&\"9\"&E82&RIGHT($D82,3))))","v":"BLANK"},0,0,null,"00000",{"$f":"COUNTIF(BI$17:BI82,1)","v":0},{"$f":"IF(BJ82=\"BLANk\",0,COUNTIF(BJ$17:BJ82,BJ82))","v":0},"BLANK",null,{"$f":"$BL$14+COUNTIF(BO$17:BO82,\"<>BLANK\")","v":0},{"$f":"COUNTA(BM$17:BM81)+1&\"0001\"","v":"660001"},"BLANK","BLANK",0,6,{"$f":"\"20\"&RIGHT(Tables!$E$4,2)","v":"2020"},null,"BLANK",{"$f":"IF(IF($H82=0,\"\",IF(LEN('1-Award Info'!$G$4)=7,'1-Award Info'!$G$4&$B82&$C82&\"9\"&E82&RIGHT($D82,3),'1-Award Info'!$G$4&$C82&\"9\"&E82&RIGHT($D82,3)))=\"\",\"BLANK\",IF($H82=0,\"\",IF(LEN('1-Award Info'!$G$4)=7,'1-Award Info'!$G$4&$B82&$C82&\"9\"&E82&RIGHT($D82,3),'1-Award Info'!$G$4&$C82&\"9\"&E82&RIGHT($D82,3))))","v":"BLANK"},0,0,null,"00000",{"$f":"COUNTIF(CA$17:CA82,1)","v":0},{"$f":"IF(CB82=\"BLANk\",0,COUNTIF(CB$17:CB82,CB82))","v":0},"BLANK",null,{"$f":"$CD$14+COUNTIF(CG$17:CG82,\"<>BLANK\")","v":0},{"$f":"COUNTA(CE$17:CE81)+1&\"0001\"","v":"660001"},"BLANK","BLANK",0,0,{"$f":"\"20\"&RIGHT(Tables!$E$5,2)","v":"2021"},null,{"$f":"IF(CM82=\"BLANK\",\"BLANK\",\"Z\"&CM82)","v":"BLANK"},{"$f":"IF(IF($I82=0,\"\",IF(LEN('1-Award Info'!$G$4)=7,'1-Award Info'!$G$4&$B82&$C82&\"9\"&$E82&RIGHT($D82,3),'1-Award Info'!$G$4&$C82&\"9\"&E$17&RIGHT($D82,3)))=\"\",\"BLANK\",IF($I82=0,\"\",IF(LEN('1-Award Info'!$G$4)=7,'1-Award Info'!$G$4&$B82&$C82&\"9\"&$E82&RIGHT($D82,3),'1-Award Info'!$G$4&$C82&\"9\"&$E82&RIGHT($D82,3))))","v":"BLANK"},{"$f":"$I82","v":0},{"$f":"$P82","v":0},null,{"$f":"CR82&\"000\"&CS82","v":"00000"},{"$f":"COUNTIF(CS$17:CS82,1)","v":0},{"$f":"IF(CT82=\"BLANk\",0,COUNTIF(CT$17:CT82,CT82))","v":0},{"$f":"IF(LEFT(CL82,1)=\"Z\",\"Z\"&CM82,\"BLANK\")","v":"BLANK"},null,{"$f":"$CV$14+COUNTIF(CY$17:CY82,\"<>BLANK\")","v":0},{"$f":"COUNTA(CW$17:CW81)+1&\"0001\"","v":"660001"},"BLANK",{"$f":"RIGHT(CX82,20)","v":"BLANK"},{"$f":"SUMIF($CL:$CL,$CX82,CN:CN)","v":0},{"$f":"SUMIF($CL:$CL,$CX82,CO:CO)","v":0},{"$f":"\"20\"&RIGHT(Tables!$E$6,2)","v":"2022"},null,{"$f":"IF(DE82=\"BLANK\",\"BLANK\",\"Z\"&DE82)","v":"BLANK"},{"$f":"IF(IF($J82=0,\"\",IF(LEN('1-Award Info'!$G$4)=7,'1-Award Info'!$G$4&$B82&$C82&\"9\"&$E82&RIGHT($D82,3),'1-Award Info'!$G$4&$C82&\"9\"&W$17&RIGHT($D82,3)))=\"\",\"BLANK\",IF($J82=0,\"\",IF(LEN('1-Award Info'!$G$4)=7,'1-Award Info'!$G$4&$B82&$C82&\"9\"&$E82&RIGHT($D82,3),'1-Award Info'!$G$4&$C82&\"9\"&$E82&RIGHT($D82,3))))","v":"BLANK"},{"$f":"$J82","v":0},{"$f":"$Q82","v":0},null,{"$f":"DJ82&\"000\"&DK82","v":"00000"},{"$f":"COUNTIF(DK$17:DK82,1)","v":0},{"$f":"IF(DL82=\"BLANk\",0,COUNTIF(DL$17:DL82,DL82))","v":0},{"$f":"IF(LEFT(DD82,1)=\"Z\",\"Z\"&DE82,\"BLANK\")","v":"BLANK"},null,{"$f":"$DN$14+COUNTIF(DQ$17:DQ82,\"<>BLANK\")","v":0},{"$f":"COUNTA(DO$17:DO81)+1&\"0001\"","v":"660001"},"BLANK",{"$f":"RIGHT(DP82,20)","v":"BLANK"},0,0,{"$f":"\"20\"&RIGHT(Tables!$E$7,2)","v":"2023"},null,66,{"$f":"\"00\"&'1-Award Info'!$G$6","v":"00"},"","",1,"",{"$f":"IFERROR(\nIF(VLOOKUP(\"FY\"&RIGHT($EA82,2),'1-Award Info'!$F$28:$G$32,2,0)=0,\n     1,\n     VLOOKUP(\"FY\"&RIGHT($EA82,2),'1-Award Info'!$F$28:$G$32,2,0)),1)","v":1},"",null,""]
[null,null,null,null,null,null,null,null,null,null,0,null,null,null,null,null,null,null,null,"100067",{"$f":"COUNTIF(V$17:$V83,1)","v":1},{"$f":"COUNTIF(W$17:$W83,W83)","v":67},{"$f":"IF($K83=0,\"\",IF(LEN('1-Award Info'!$G$4)=7,'1-Award Info'!$G$4&$B83&$C83,'1-Award Info'!$G$4&$C83))","v":""},null,{"$f":"COUNTA(Y$17:Y82)+1&\"0001\"","v":"670001"},"",null,"100067",{"$f":"COUNTIF($AD$17:AD83,AD83)","v":1},{"$f":"COUNTIF($AE$17:AE83,AE83)","v":67},"",null,{"$f":"COUNTA(AG$17:AG82)+1&\"0001\"","v":"670001"},"",null,"BLANK",{"$f":"IF(IF($F83=0,\"\",IF(LEN('1-Award Info'!$G$4)=7,'1-Award Info'!$G$4&$B83&$C83&\"9\"&E83&RIGHT($D83,3),'1-Award Info'!$G$4&$C83&\"9\"&E83&RIGHT($D83,3)))=\"\",\"BLANK\",IF($F83=0,\"\",IF(LEN('1-Award Info'!$G$4)=7,'1-Award Info'!$G$4&$B83&$C83&\"9\"&E83&RIGHT($D83,3),'1-Award Info'!$G$4&$C83&\"9\"&E83&RIGHT($D83,3))))","v":"BLANK"},0,0,null,"00000",{"$f":"COUNTIF(AQ$17:AQ83,1)","v":0},{"$f":"IF(AR83=\"BLANK\",0,COUNTIF(AR$17:AR83,AR83))","v":0},"BLANK",null,{"$f":"$AT$14+COUNTIF(AV$17:AV83,\"<>BLANK\")","v":0},{"$f":"COUNTA(AU$17:AU82)+1&\"0001\"","v":"670001"},"BLANK","BLANK",0,0,{"$f":"\"20\"&RIGHT(Tables!$E$3,2)","v":"2019"},null,"BLANK",{"$f":"IF(IF($G83=0,\"\",IF(LEN('1-Award Info'!$G$4)=7,'1-Award Info'!$G$4&$B83&$C83&\"9\"&E83&RIGHT($D83,3),'1-Award Info'!$G$4&$C83&\"9\"&E83&RIGHT($D83,3)))=\"\",\"BLANK\",IF($G83=0,\"\",IF(LEN('1-Award Info'!$G$4)=7,'1-Award Info'!$G$4&$B83&$C83&\"9\"&E83&RIGHT($D83,3),'1-Award Info'!$G$4&$C83&\"9\"&E83&RIGHT($D83,3))))","v":"BLANK"},0,0,null,"00000",{"$f":"COUNTIF(BI$17:BI83,1)","v":0},{"$f":"IF(BJ83=\"BLANk\",0,COUNTIF(BJ$17:BJ83,BJ83))","v":0},"BLANK",null,{"$f":"$BL$14+COUNTIF(BO$17:BO83,\"<>BLANK\")","v":0},{"$f":"COUNTA(BM$17:BM82)+1&\"0001\"","v":"670001"},"BLANK","BLANK",0,6,{"$f":"\"20\"&RIGHT(Tables!$E$4,2)","v":"2020"},null,"BLANK",{"$f":"IF(IF($H83=0,\"\",IF(LEN('1-Award Info'!$G$4)=7,'1-Award Info'!$G$4&$B83&$C83&\"9\"&E83&RIGHT($D83,3),'1-Award Info'!$G$4&$C83&\"9\"&E83&RIGHT($D83,3)))=\"\",\"BLANK\",IF($H83=0,\"\",IF(LEN('1-Award Info'!$G$4)=7,'1-Award Info'!$G$4&$B83&$C83&\"9\"&E83&RIGHT($D83,3),'1-Award Info'!$G$4&$C83&\"9\"&E83&RIGHT($D83,3))))","v":"BLANK"},0,0,null,"00000",{"$f":"COUNTIF(CA$17:CA83,1)","v":0},{"$f":"IF(CB83=\"BLANk\",0,COUNTIF(CB$17:CB83,CB83))","v":0},"BLANK",null,{"$f":"$CD$14+COUNTIF(CG$17:CG83,\"<>BLANK\")","v":0},{"$f":"COUNTA(CE$17:CE82)+1&\"0001\"","v":"670001"},"BLANK","BLANK",0,0,{"$f":"\"20\"&RIGHT(Tables!$E$5,2)","v":"2021"},null,"BLANK",{"$f":"IF(IF($I83=0,\"\",IF(LEN('1-Award Info'!$G$4)=7,'1-Award Info'!$G$4&$B83&$C83&\"9\"&$E83&RIGHT($D83,3),'1-Award Info'!$G$4&$C83&\"9\"&E$17&RIGHT($D83,3)))=\"\",\"BLANK\",IF($I83=0,\"\",IF(LEN('1-Award Info'!$G$4)=7,'1-Award Info'!$G$4&$B83&$C83&\"9\"&$E83&RIGHT($D83,3),'1-Award Info'!$G$4&$C83&\"9\"&$E83&RIGHT($D83,3))))","v":"BLANK"},0,0,null,"00000",{"$f":"COUNTIF(CS$17:CS83,1)","v":0},{"$f":"IF(CT83=\"BLANk\",0,COUNTIF(CT$17:CT83,CT83))","v":0},"BLANK",null,{"$f":"$CV$14+COUNTIF(CY$17:CY83,\"<>BLANK\")","v":0},{"$f":"COUNTA(CW$17:CW82)+1&\"0001\"","v":"670001"},"BLANK","BLANK",0,0,{"$f":"\"20\"&RIGHT(Tables!$E$6,2)","v":"2022"},null,"BLANK",{"$f":"IF(IF($J83=0,\"\",IF(LEN('1-Award Info'!$G$4)=7,'1-Award Info'!$G$4&$B83&$C83&\"9\"&$E83&RIGHT($D83,3),'1-Award Info'!$G$4&$C83&\"9\"&W$17&RIGHT($D83,3)))=\"\",\"BLANK\",IF($J83=0,\"\",IF(LEN('1-Award Info'!$G$4)=7,'1-Award Info'!$G$4&$B83&$C83&\"9\"&$E83&RIGHT($D83,3),'1-Award Info'!$G$4&$C83&\"9\"&$E83&RIGHT($D83,3))))","v":"BLANK"},0,0,null,"00000",{"$f":"COUNTIF(DK$17:DK83,1)","v":0},{"$f":"IF(DL83=\"BLANk\",0,COUNTIF(DL$17:DL83,DL83))","v":0},"BLANK",null,{"$f":"$DN$14+COUNTIF(DQ$17:DQ83,\"<>BLANK\")","v":0},{"$f":"COUNTA(DO$17:DO82)+1&\"0001\"","v":"670001"},"BLANK","BLANK",0,0,{"$f":"\"20\"&RIGHT(Tables!$E$7,2)","v":"2023"},null,{"$f":"DV82+1","v":67},{"$f":"\"00\"&'1-Award Info'!$G$6","v":"00"},"","",1,"",{"$f":"IFERROR(\nIF(VLOOKUP(\"FY\"&RIGHT($EA83,2),'1-Award Info'!$F$28:$G$32,2,0)=0,\n     1,\n     VLOOKUP(\"FY\"&RIGHT($EA83,2),'1-Award Info'!$F$28:$G$32,2,0)),1)","v":1},"",null,""]
[null,null,null,null,null,null,null,null,null,null,0,null,null,null,null,null,null,null,null,"100068",{"$f":"COUNTIF(V$17:$V84,1)","v":1},{"$f":"COUNTIF(W$17:$W84,W84)","v":68},{"$f":"IF($K84=0,\"\",IF(LEN('1-Award Info'!$G$4)=7,'1-Award Info'!$G$4&$B84&$C84,'1-Award Info'!$G$4&$C84))","v":""},null,{"$f":"COUNTA(Y$17:Y83)+1&\"0001\"","v":"680001"},"",null,"100068",{"$f":"COUNTIF($AD$17:AD84,AD84)","v":1},{"$f":"COUNTIF($AE$17:AE84,AE84)","v":68},"",null,{"$f":"COUNTA(AG$17:AG83)+1&\"0001\"","v":"680001"},"",null,"BLANK",{"$f":"IF(IF($F84=0,\"\",IF(LEN('1-Award Info'!$G$4)=7,'1-Award Info'!$G$4&$B84&$C84&\"9\"&E84&RIGHT($D84,3),'1-Award Info'!$G$4&$C84&\"9\"&E84&RIGHT($D84,3)))=\"\",\"BLANK\",IF($F84=0,\"\",IF(LEN('1-Award Info'!$G$4)=7,'1-Award Info'!$G$4&$B84&$C84&\"9\"&E84&RIGHT($D84,3),'1-Award Info'!$G$4&$C84&\"9\"&E84&RIGHT($D84,3))))","v":"BLANK"},0,0,null,"00000",{"$f":"COUNTIF(AQ$17:AQ84,1)","v":0},{"$f":"IF(AR84=\"BLANK\",0,COUNTIF(AR$17:AR84,AR84))","v":0},"BLANK",null,{"$f":"$AT$14+COUNTIF(AV$17:AV84,\"<>BLANK\")","v":0},{"$f":"COUNTA(AU$17:AU83)+1&\"0001\"","v":"680001"},"BLANK","BLANK",0,0,{"$f":"\"20\"&RIGHT(Tables!$E$3,2)","v":"2019"},null,"BLANK",{"$f":"IF(IF($G84=0,\"\",IF(LEN('1-Award Info'!$G$4)=7,'1-Award Info'!$G$4&$B84&$C84&\"9\"&E84&RIGHT($D84,3),'1-Award Info'!$G$4&$C84&\"9\"&E84&RIGHT($D84,3)))=\"\",\"BLANK\",IF($G84=0,\"\",IF(LEN('1-Award Info'!$G$4)=7,'1-Award Info'!$G$4&$B84&$C84&\"9\"&E84&RIGHT($D84,3),'1-Award Info'!$G$4&$C84&\"9\"&E84&RIGHT($D84,3))))","v":"BLANK"},0,0,null,"00000",{"$f":"COUNTIF(BI$17:BI84,1)","v":0},{"$f":"IF(BJ84=\"BLANk\",0,COUNTIF(BJ$17:BJ84,BJ84))","v":0},"BLANK",null,{"$f":"$BL$14+COUNTIF(BO$17:BO84,\"<>BLANK\")","v":0},{"$f":"COUNTA(BM$17:BM83)+1&\"0001\"","v":"680001"},"BLANK","BLANK",0,6,{"$f":"\"20\"&RIGHT(Tables!$E$4,2)","v":"2020"},null,"BLANK",{"$f":"IF(IF($H84=0,\"\",IF(LEN('1-Award Info'!$G$4)=7,'1-Award Info'!$G$4&$B84&$C84&\"9\"&E84&RIGHT($D84,3),'1-Award Info'!$G$4&$C84&\"9\"&E84&RIGHT($D84,3)))=\"\",\"BLANK\",IF($H84=0,\"\",IF(LEN('1-Award Info'!$G$4)=7,'1-Award Info'!$G$4&$B84&$C84&\"9\"&E84&RIGHT($D84,3),'1-Award Info'!$G$4&$C84&\"9\"&E84&RIGHT($D84,3))))","v":"BLANK"},0,0,null,"00000",{"$f":"COUNTIF(CA$17:CA84,1)","v":0},{"$f":"IF(CB84=\"BLANk\",0,COUNTIF(CB$17:CB84,CB84))","v":0},"BLANK",null,{"$f":"$CD$14+COUNTIF(CG$17:CG84,\"<>BLANK\")","v":0},{"$f":"COUNTA(CE$17:CE83)+1&\"0001\"","v":"680001"},"BLANK","BLANK",0,0,{"$f":"\"20\"&RIGHT(Tables!$E$5,2)","v":"2021"},null,"BLANK",{"$f":"IF(IF($I84=0,\"\",IF(LEN('1-Award Info'!$G$4)=7,'1-Award Info'!$G$4&$B84&$C84&\"9\"&$E84&RIGHT($D84,3),'1-Award Info'!$G$4&$C84&\"9\"&E$17&RIGHT($D84,3)))=\"\",\"BLANK\",IF($I84=0,\"\",IF(LEN('1-Award Info'!$G$4)=7,'1-Award Info'!$G$4&$B84&$C84&\"9\"&$E84&RIGHT($D84,3),'1-Award Info'!$G$4&$C84&\"9\"&$E84&RIGHT($D84,3))))","v":"BLANK"},0,0,null,"00000",{"$f":"COUNTIF(CS$17:CS84,1)","v":0},{"$f":"IF(CT84=\"BLANk\",0,COUNTIF(CT$17:CT84,CT84))","v":0},"BLANK",null,{"$f":"$CV$14+COUNTIF(CY$17:CY84,\"<>BLANK\")","v":0},{"$f":"COUNTA(CW$17:CW83)+1&\"0001\"","v":"680001"},"BLANK","BLANK",0,0,{"$f":"\"20\"&RIGHT(Tables!$E$6,2)","v":"2022"},null,"BLANK",{"$f":"IF(IF($J84=0,\"\",IF(LEN('1-Award Info'!$G$4)=7,'1-Award Info'!$G$4&$B84&$C84&\"9\"&$E84&RIGHT($D84,3),'1-Award Info'!$G$4&$C84&\"9\"&W$17&RIGHT($D84,3)))=\"\",\"BLANK\",IF($J84=0,\"\",IF(LEN('1-Award Info'!$G$4)=7,'1-Award Info'!$G$4&$B84&$C84&\"9\"&$E84&RIGHT($D84,3),'1-Award Info'!$G$4&$C84&\"9\"&$E84&RIGHT($D84,3))))","v":"BLANK"},0,0,null,"00000",{"$f":"COUNTIF(DK$17:DK84,1)","v":0},{"$f":"IF(DL84=\"BLANk\",0,COUNTIF(DL$17:DL84,DL84))","v":0},"BLANK",null,{"$f":"$DN$14+COUNTIF(DQ$17:DQ84,\"<>BLANK\")","v":0},{"$f":"COUNTA(DO$17:DO83)+1&\"0001\"","v":"680001"},"BLANK","BLANK",0,0,{"$f":"\"20\"&RIGHT(Tables!$E$7,2)","v":"2023"},null,68,{"$f":"\"00\"&'1-Award Info'!$G$6","v":"00"},"","",1,"",{"$f":"IFERROR(\nIF(VLOOKUP(\"FY\"&RIGHT($EA84,2),'1-Award Info'!$F$28:$G$32,2,0)=0,\n     1,\n     VLOOKUP(\"FY\"&RIGHT($EA84,2),'1-Award Info'!$F$28:$G$32,2,0)),1)","v":1},"",null,""]
[null,null,null,null,null,null,null,null,null,null,0,null,null,null,null,null,null,null,null,"100069",{"$f":"COUNTIF(V$17:$V85,1)","v":1},{"$f":"COUNTIF(W$17:$W85,W85)","v":69},{"$f":"IF($K85=0,\"\",IF(LEN('1-Award Info'!$G$4)=7,'1-Award Info'!$G$4&$B85&$C85,'1-Award Info'!$G$4&$C85))","v":""},null,{"$f":"COUNTA(Y$17:Y84)+1&\"0001\"","v":"690001"},"",null,"100069",{"$f":"COUNTIF($AD$17:AD85,AD85)","v":1},{"$f":"COUNTIF($AE$17:AE85,AE85)","v":69},"",null,{"$f":"COUNTA(AG$17:AG84)+1&\"0001\"","v":"690001"},"",null,"BLANK",{"$f":"IF(IF($F85=0,\"\",IF(LEN('1-Award Info'!$G$4)=7,'1-Award Info'!$G$4&$B85&$C85&\"9\"&E85&RIGHT($D85,3),'1-Award Info'!$G$4&$C85&\"9\"&E85&RIGHT($D85,3)))=\"\",\"BLANK\",IF($F85=0,\"\",IF(LEN('1-Award Info'!$G$4)=7,'1-Award Info'!$G$4&$B85&$C85&\"9\"&E85&RIGHT($D85,3),'1-Award Info'!$G$4&$C85&\"9\"&E85&RIGHT($D85,3))))","v":"BLANK"},0,0,null,"00000",{"$f":"COUNTIF(AQ$17:AQ85,1)","v":0},{"$f":"IF(AR85=\"BLANK\",0,COUNTIF(AR$17:AR85,AR85))","v":0},"BLANK",null,{"$f":"$AT$14+COUNTIF(AV$17:AV85,\"<>BLANK\")","v":0},{"$f":"COUNTA(AU$17:AU84)+1&\"0001\"","v":"690001"},"BLANK","BLANK",0,0,{"$f":"\"20\"&RIGHT(Tables!$E$3,2)","v":"2019"},null,"BLANK",{"$f":"IF(IF($G85=0,\"\",IF(LEN('1-Award Info'!$G$4)=7,'1-Award Info'!$G$4&$B85&$C85&\"9\"&E85&RIGHT($D85,3),'1-Award Info'!$G$4&$C85&\"9\"&E85&RIGHT($D85,3)))=\"\",\"BLANK\",IF($G85=0,\"\",IF(LEN('1-Award Info'!$G$4)=7,'1-Award Info'!$G$4&$B85&$C85&\"9\"&E85&RIGHT($D85,3),'1-Award Info'!$G$4&$C85&\"9\"&E85&RIGHT($D85,3))))","v":"BLANK"},0,0,null,"00000",{"$f":"COUNTIF(BI$17:BI85,1)","v":0},{"$f":"IF(BJ85=\"BLANk\",0,COUNTIF(BJ$17:BJ85,BJ85))","v":0},"BLANK",null,{"$f":"$BL$14+COUNTIF(BO$17:BO85,\"<>BLANK\")","v":0},{"$f":"COUNTA(BM$17:BM84)+1&\"0001\"","v":"690001"},"BLANK","BLANK",0,6,{"$f":"\"20\"&RIGHT(Tables!$E$4,2)","v":"2020"},null,"BLANK",{"$f":"IF(IF($H85=0,\"\",IF(LEN('1-Award Info'!$G$4)=7,'1-Award Info'!$G$4&$B85&$C85&\"9\"&E85&RIGHT($D85,3),'1-Award Info'!$G$4&$C85&\"9\"&E85&RIGHT($D85,3)))=\"\",\"BLANK\",IF($H85=0,\"\",IF(LEN('1-Award Info'!$G$4)=7,'1-Award Info'!$G$4&$B85&$C85&\"9\"&E85&RIGHT($D85,3),'1-Award Info'!$G$4&$C85&\"9\"&E85&RIGHT($D85,3))))","v":"BLANK"},0,0,null,"00000",{"$f":"COUNTIF(CA$17:CA85,1)","v":0},{"$f":"IF(CB85=\"BLANk\",0,COUNTIF(CB$17:CB85,CB85))","v":0},"BLANK",null,{"$f":"$CD$14+COUNTIF(CG$17:CG85,\"<>BLANK\")","v":0},{"$f":"COUNTA(CE$17:CE84)+1&\"0001\"","v":"690001"},"BLANK","BLANK",0,0,{"$f":"\"20\"&RIGHT(Tables!$E$5,2)","v":"2021"},null,"BLANK",{"$f":"IF(IF($I85=0,\"\",IF(LEN('1-Award Info'!$G$4)=7,'1-Award Info'!$G$4&$B85&$C85&\"9\"&$E85&RIGHT($D85,3),'1-Award Info'!$G$4&$C85&\"9\"&E$17&RIGHT($D85,3)))=\"\",\"BLANK\",IF($I85=0,\"\",IF(LEN('1-Award Info'!$G$4)=7,'1-Award Info'!$G$4&$B85&$C85&\"9\"&$E85&RIGHT($D85,3),'1-Award Info'!$G$4&$C85&\"9\"&$E85&RIGHT($D85,3))))","v":"BLANK"},0,0,null,"00000",{"$f":"COUNTIF(CS$17:CS85,1)","v":0},{"$f":"IF(CT85=\"BLANk\",0,COUNTIF(CT$17:CT85,CT85))","v":0},"BLANK",null,{"$f":"$CV$14+COUNTIF(CY$17:CY85,\"<>BLANK\")","v":0},{"$f":"COUNTA(CW$17:CW84)+1&\"0001\"","v":"690001"},"BLANK","BLANK",0,0,{"$f":"\"20\"&RIGHT(Tables!$E$6,2)","v":"2022"},null,"BLANK",{"$f":"IF(IF($J85=0,\"\",IF(LEN('1-Award Info'!$G$4)=7,'1-Award Info'!$G$4&$B85&$C85&\"9\"&$E85&RIGHT($D85,3),'1-Award Info'!$G$4&$C85&\"9\"&W$17&RIGHT($D85,3)))=\"\",\"BLANK\",IF($J85=0,\"\",IF(LEN('1-Award Info'!$G$4)=7,'1-Award Info'!$G$4&$B85&$C85&\"9\"&$E85&RIGHT($D85,3),'1-Award Info'!$G$4&$C85&\"9\"&$E85&RIGHT($D85,3))))","v":"BLANK"},0,0,null,"00000",{"$f":"COUNTIF(DK$17:DK85,1)","v":0},{"$f":"IF(DL85=\"BLANk\",0,COUNTIF(DL$17:DL85,DL85))","v":0},"BLANK",null,{"$f":"$DN$14+COUNTIF(DQ$17:DQ85,\"<>BLANK\")","v":0},{"$f":"COUNTA(DO$17:DO84)+1&\"0001\"","v":"690001"},"BLANK","BLANK",0,0,{"$f":"\"20\"&RIGHT(Tables!$E$7,2)","v":"2023"},null,69,{"$f":"\"00\"&'1-Award Info'!$G$6","v":"00"},"","",1,"",{"$f":"IFERROR(\nIF(VLOOKUP(\"FY\"&RIGHT($EA85,2),'1-Award Info'!$F$28:$G$32,2,0)=0,\n     1,\n     VLOOKUP(\"FY\"&RIGHT($EA85,2),'1-Award Info'!$F$28:$G$32,2,0)),1)","v":1},"",null,""]
[null,null,null,null,null,null,null,null,null,null,0,null,null,null,null,null,null,null,null,"100070",{"$f":"COUNTIF(V$17:$V86,1)","v":1},{"$f":"COUNTIF(W$17:$W86,W86)","v":70},{"$f":"IF($K86=0,\"\",IF(LEN('1-Award Info'!$G$4)=7,'1-Award Info'!$G$4&$B86&$C86,'1-Award Info'!$G$4&$C86))","v":""},null,{"$f":"COUNTA(Y$17:Y85)+1&\"0001\"","v":"700001"},"",null,"100070",{"$f":"COUNTIF($AD$17:AD86,AD86)","v":1},{"$f":"COUNTIF($AE$17:AE86,AE86)","v":70},"",null,{"$f":"COUNTA(AG$17:AG85)+1&\"0001\"","v":"700001"},"",null,"BLANK",{"$f":"IF(IF($F86=0,\"\",IF(LEN('1-Award Info'!$G$4)=7,'1-Award Info'!$G$4&$B86&$C86&\"9\"&E86&RIGHT($D86,3),'1-Award Info'!$G$4&$C86&\"9\"&E86&RIGHT($D86,3)))=\"\",\"BLANK\",IF($F86=0,\"\",IF(LEN('1-Award Info'!$G$4)=7,'1-Award Info'!$G$4&$B86&$C86&\"9\"&E86&RIGHT($D86,3),'1-Award Info'!$G$4&$C86&\"9\"&E86&RIGHT($D86,3))))","v":"BLANK"},0,0,null,"00000",{"$f":"COUNTIF(AQ$17:AQ86,1)","v":0},{"$f":"IF(AR86=\"BLANK\",0,COUNTIF(AR$17:AR86,AR86))","v":0},"BLANK",null,{"$f":"$AT$14+COUNTIF(AV$17:AV86,\"<>BLANK\")","v":0},{"$f":"COUNTA(AU$17:AU85)+1&\"0001\"","v":"700001"},"BLANK","BLANK",0,0,{"$f":"\"20\"&RIGHT(Tables!$E$3,2)","v":"2019"},null,"BLANK",{"$f":"IF(IF($G86=0,\"\",IF(LEN('1-Award Info'!$G$4)=7,'1-Award Info'!$G$4&$B86&$C86&\"9\"&E86&RIGHT($D86,3),'1-Award Info'!$G$4&$C86&\"9\"&E86&RIGHT($D86,3)))=\"\",\"BLANK\",IF($G86=0,\"\",IF(LEN('1-Award Info'!$G$4)=7,'1-Award Info'!$G$4&$B86&$C86&\"9\"&E86&RIGHT($D86,3),'1-Award Info'!$G$4&$C86&\"9\"&E86&RIGHT($D86,3))))","v":"BLANK"},0,0,null,"00000",{"$f":"COUNTIF(BI$17:BI86,1)","v":0},{"$f":"IF(BJ86=\"BLANk\",0,COUNTIF(BJ$17:BJ86,BJ86))","v":0},"BLANK",null,{"$f":"$BL$14+COUNTIF(BO$17:BO86,\"<>BLANK\")","v":0},{"$f":"COUNTA(BM$17:BM85)+1&\"0001\"","v":"700001"},"BLANK","BLANK",0,6,{"$f":"\"20\"&RIGHT(Tables!$E$4,2)","v":"2020"},null,"BLANK",{"$f":"IF(IF($H86=0,\"\",IF(LEN('1-Award Info'!$G$4)=7,'1-Award Info'!$G$4&$B86&$C86&\"9\"&E86&RIGHT($D86,3),'1-Award Info'!$G$4&$C86&\"9\"&E86&RIGHT($D86,3)))=\"\",\"BLANK\",IF($H86=0,\"\",IF(LEN('1-Award Info'!$G$4)=7,'1-Award Info'!$G$4&$B86&$C86&\"9\"&E86&RIGHT($D86,3),'1-Award Info'!$G$4&$C86&\"9\"&E86&RIGHT($D86,3))))","v":"BLANK"},0,0,null,"00000",{"$f":"COUNTIF(CA$17:CA86,1)","v":0},{"$f":"IF(CB86=\"BLANk\",0,COUNTIF(CB$17:CB86,CB86))","v":0},"BLANK",null,{"$f":"$CD$14+COUNTIF(CG$17:CG86,\"<>BLANK\")","v":0},{"$f":"COUNTA(CE$17:CE85)+1&\"0001\"","v":"700001"},"BLANK","BLANK",0,0,{"$f":"\"20\"&RIGHT(Tables!$E$5,2)","v":"2021"},null,"BLANK",{"$f":"IF(IF($I86=0,\"\",IF(LEN('1-Award Info'!$G$4)=7,'1-Award Info'!$G$4&$B86&$C86&\"9\"&$E86&RIGHT($D86,3),'1-Award Info'!$G$4&$C86&\"9\"&E$17&RIGHT($D86,3)))=\"\",\"BLANK\",IF($I86=0,\"\",IF(LEN('1-Award Info'!$G$4)=7,'1-Award Info'!$G$4&$B86&$C86&\"9\"&$E86&RIGHT($D86,3),'1-Award Info'!$G$4&$C86&\"9\"&$E86&RIGHT($D86,3))))","v":"BLANK"},0,0,null,"00000",{"$f":"COUNTIF(CS$17:CS86,1)","v":0},{"$f":"IF(CT86=\"BLANk\",0,COUNTIF(CT$17:CT86,CT86))","v":0},"BLANK",null,{"$f":"$CV$14+COUNTIF(CY$17:CY86,\"<>BLANK\")","v":0},{"$f":"COUNTA(CW$17:CW85)+1&\"0001\"","v":"700001"},"BLANK","BLANK",0,0,{"$f":"\"20\"&RIGHT(Tables!$E$6,2)","v":"2022"},null,"BLANK",{"$f":"IF(IF($J86=0,\"\",IF(LEN('1-Award Info'!$G$4)=7,'1-Award Info'!$G$4&$B86&$C86&\"9\"&$E86&RIGHT($D86,3),'1-Award Info'!$G$4&$C86&\"9\"&W$17&RIGHT($D86,3)))=\"\",\"BLANK\",IF($J86=0,\"\",IF(LEN('1-Award Info'!$G$4)=7,'1-Award Info'!$G$4&$B86&$C86&\"9\"&$E86&RIGHT($D86,3),'1-Award Info'!$G$4&$C86&\"9\"&$E86&RIGHT($D86,3))))","v":"BLANK"},0,0,null,"00000",{"$f":"COUNTIF(DK$17:DK86,1)","v":0},{"$f":"IF(DL86=\"BLANk\",0,COUNTIF(DL$17:DL86,DL86))","v":0},"BLANK",null,{"$f":"$DN$14+COUNTIF(DQ$17:DQ86,\"<>BLANK\")","v":0},{"$f":"COUNTA(DO$17:DO85)+1&\"0001\"","v":"700001"},"BLANK","BLANK",0,0,{"$f":"\"20\"&RIGHT(Tables!$E$7,2)","v":"2023"},null,70,{"$f":"\"00\"&'1-Award Info'!$G$6","v":"00"},"","",1,"",{"$f":"IFERROR(\nIF(VLOOKUP(\"FY\"&RIGHT($EA86,2),'1-Award Info'!$F$28:$G$32,2,0)=0,\n     1,\n     VLOOKUP(\"FY\"&RIGHT($EA86,2),'1-Award Info'!$F$28:$G$32,2,0)),1)","v":1},"",null,""]
[null,null,null,null,null,null,null,null,null,null,0,null,null,null,null,null,null,null,null,"100071",{"$f":"COUNTIF(V$17:$V87,1)","v":1},{"$f":"COUNTIF(W$17:$W87,W87)","v":71},{"$f":"IF($K87=0,\"\",IF(LEN('1-Award Info'!$G$4)=7,'1-Award Info'!$G$4&$B87&$C87,'1-Award Info'!$G$4&$C87))","v":""},null,{"$f":"COUNTA(Y$17:Y86)+1&\"0001\"","v":"710001"},"",null,"100071",{"$f":"COUNTIF($AD$17:AD87,AD87)","v":1},{"$f":"COUNTIF($AE$17:AE87,AE87)","v":71},"",null,{"$f":"COUNTA(AG$17:AG86)+1&\"0001\"","v":"710001"},"",null,"BLANK",{"$f":"IF(IF($F87=0,\"\",IF(LEN('1-Award Info'!$G$4)=7,'1-Award Info'!$G$4&$B87&$C87&\"9\"&E87&RIGHT($D87,3),'1-Award Info'!$G$4&$C87&\"9\"&E87&RIGHT($D87,3)))=\"\",\"BLANK\",IF($F87=0,\"\",IF(LEN('1-Award Info'!$G$4)=7,'1-Award Info'!$G$4&$B87&$C87&\"9\"&E87&RIGHT($D87,3),'1-Award Info'!$G$4&$C87&\"9\"&E87&RIGHT($D87,3))))","v":"BLANK"},0,0,null,"00000",{"$f":"COUNTIF(AQ$17:AQ87,1)","v":0},{"$f":"IF(AR87=\"BLANK\",0,COUNTIF(AR$17:AR87,AR87))","v":0},"BLANK",null,{"$f":"$AT$14+COUNTIF(AV$17:AV87,\"<>BLANK\")","v":0},{"$f":"COUNTA(AU$17:AU86)+1&\"0001\"","v":"710001"},"BLANK","BLANK",0,0,{"$f":"\"20\"&RIGHT(Tables!$E$3,2)","v":"2019"},null,"BLANK",{"$f":"IF(IF($G87=0,\"\",IF(LEN('1-Award Info'!$G$4)=7,'1-Award Info'!$G$4&$B87&$C87&\"9\"&E87&RIGHT($D87,3),'1-Award Info'!$G$4&$C87&\"9\"&E87&RIGHT($D87,3)))=\"\",\"BLANK\",IF($G87=0,\"\",IF(LEN('1-Award Info'!$G$4)=7,'1-Award Info'!$G$4&$B87&$C87&\"9\"&E87&RIGHT($D87,3),'1-Award Info'!$G$4&$C87&\"9\"&E87&RIGHT($D87,3))))","v":"BLANK"},0,0,null,"00000",{"$f":"COUNTIF(BI$17:BI87,1)","v":0},{"$f":"IF(BJ87=\"BLANk\",0,COUNTIF(BJ$17:BJ87,BJ87))","v":0},"BLANK",null,{"$f":"$BL$14+COUNTIF(BO$17:BO87,\"<>BLANK\")","v":0},{"$f":"COUNTA(BM$17:BM86)+1&\"0001\"","v":"710001"},"BLANK","BLANK",0,6,{"$f":"\"20\"&RIGHT(Tables!$E$4,2)","v":"2020"},null,"BLANK",{"$f":"IF(IF($H87=0,\"\",IF(LEN('1-Award Info'!$G$4)=7,'1-Award Info'!$G$4&$B87&$C87&\"9\"&E87&RIGHT($D87,3),'1-Award Info'!$G$4&$C87&\"9\"&E87&RIGHT($D87,3)))=\"\",\"BLANK\",IF($H87=0,\"\",IF(LEN('1-Award Info'!$G$4)=7,'1-Award Info'!$G$4&$B87&$C87&\"9\"&E87&RIGHT($D87,3),'1-Award Info'!$G$4&$C87&\"9\"&E87&RIGHT($D87,3))))","v":"BLANK"},0,0,null,"00000",{"$f":"COUNTIF(CA$17:CA87,1)","v":0},{"$f":"IF(CB87=\"BLANk\",0,COUNTIF(CB$17:CB87,CB87))","v":0},"BLANK",null,{"$f":"$CD$14+COUNTIF(CG$17:CG87,\"<>BLANK\")","v":0},{"$f":"COUNTA(CE$17:CE86)+1&\"0001\"","v":"710001"},"BLANK","BLANK",0,0,{"$f":"\"20\"&RIGHT(Tables!$E$5,2)","v":"2021"},null,"BLANK",{"$f":"IF(IF($I87=0,\"\",IF(LEN('1-Award Info'!$G$4)=7,'1-Award Info'!$G$4&$B87&$C87&\"9\"&$E87&RIGHT($D87,3),'1-Award Info'!$G$4&$C87&\"9\"&E$17&RIGHT($D87,3)))=\"\",\"BLANK\",IF($I87=0,\"\",IF(LEN('1-Award Info'!$G$4)=7,'1-Award Info'!$G$4&$B87&$C87&\"9\"&$E87&RIGHT($D87,3),'1-Award Info'!$G$4&$C87&\"9\"&$E87&RIGHT($D87,3))))","v":"BLANK"},0,0,null,"00000",{"$f":"COUNTIF(CS$17:CS87,1)","v":0},{"$f":"IF(CT87=\"BLANk\",0,COUNTIF(CT$17:CT87,CT87))","v":0},"BLANK",null,{"$f":"$CV$14+COUNTIF(CY$17:CY87,\"<>BLANK\")","v":0},{"$f":"COUNTA(CW$17:CW86)+1&\"0001\"","v":"710001"},"BLANK","BLANK",0,0,{"$f":"\"20\"&RIGHT(Tables!$E$6,2)","v":"2022"},null,"BLANK",{"$f":"IF(IF($J87=0,\"\",IF(LEN('1-Award Info'!$G$4)=7,'1-Award Info'!$G$4&$B87&$C87&\"9\"&$E87&RIGHT($D87,3),'1-Award Info'!$G$4&$C87&\"9\"&W$17&RIGHT($D87,3)))=\"\",\"BLANK\",IF($J87=0,\"\",IF(LEN('1-Award Info'!$G$4)=7,'1-Award Info'!$G$4&$B87&$C87&\"9\"&$E87&RIGHT($D87,3),'1-Award Info'!$G$4&$C87&\"9\"&$E87&RIGHT($D87,3))))","v":"BLANK"},0,0,null,"00000",{"$f":"COUNTIF(DK$17:DK87,1)","v":0},{"$f":"IF(DL87=\"BLANk\",0,COUNTIF(DL$17:DL87,DL87))","v":0},"BLANK",null,{"$f":"$DN$14+COUNTIF(DQ$17:DQ87,\"<>BLANK\")","v":0},{"$f":"COUNTA(DO$17:DO86)+1&\"0001\"","v":"710001"},"BLANK","BLANK",0,0,{"$f":"\"20\"&RIGHT(Tables!$E$7,2)","v":"2023"},null,71,{"$f":"\"00\"&'1-Award Info'!$G$6","v":"00"},"","",1,"",{"$f":"IFERROR(\nIF(VLOOKUP(\"FY\"&RIGHT($EA87,2),'1-Award Info'!$F$28:$G$32,2,0)=0,\n     1,\n     VLOOKUP(\"FY\"&RIGHT($EA87,2),'1-Award Info'!$F$28:$G$32,2,0)),1)","v":1},"",null,""]
[null,null,null,null,null,null,null,null,null,null,0,null,null,null,null,null,null,null,null,"100072",{"$f":"COUNTIF(V$17:$V88,1)","v":1},{"$f":"COUNTIF(W$17:$W88,W88)","v":72},{"$f":"IF($K88=0,\"\",IF(LEN('1-Award Info'!$G$4)=7,'1-Award Info'!$G$4&$B88&$C88,'1-Award Info'!$G$4&$C88))","v":""},null,{"$f":"COUNTA(Y$17:Y87)+1&\"0001\"","v":"720001"},"",null,"100072",{"$f":"COUNTIF($AD$17:AD88,AD88)","v":1},{"$f":"COUNTIF($AE$17:AE88,AE88)","v":72},"",null,{"$f":"COUNTA(AG$17:AG87)+1&\"0001\"","v":"720001"},"",null,"BLANK",{"$f":"IF(IF($F88=0,\"\",IF(LEN('1-Award Info'!$G$4)=7,'1-Award Info'!$G$4&$B88&$C88&\"9\"&E88&RIGHT($D88,3),'1-Award Info'!$G$4&$C88&\"9\"&E88&RIGHT($D88,3)))=\"\",\"BLANK\",IF($F88=0,\"\",IF(LEN('1-Award Info'!$G$4)=7,'1-Award Info'!$G$4&$B88&$C88&\"9\"&E88&RIGHT($D88,3),'1-Award Info'!$G$4&$C88&\"9\"&E88&RIGHT($D88,3))))","v":"BLANK"},0,0,null,"00000",{"$f":"COUNTIF(AQ$17:AQ88,1)","v":0},{"$f":"IF(AR88=\"BLANK\",0,COUNTIF(AR$17:AR88,AR88))","v":0},"BLANK",null,{"$f":"$AT$14+COUNTIF(AV$17:AV88,\"<>BLANK\")","v":0},{"$f":"COUNTA(AU$17:AU87)+1&\"0001\"","v":"720001"},"BLANK","BLANK",0,0,{"$f":"\"20\"&RIGHT(Tables!$E$3,2)","v":"2019"},null,"BLANK",{"$f":"IF(IF($G88=0,\"\",IF(LEN('1-Award Info'!$G$4)=7,'1-Award Info'!$G$4&$B88&$C88&\"9\"&E88&RIGHT($D88,3),'1-Award Info'!$G$4&$C88&\"9\"&E88&RIGHT($D88,3)))=\"\",\"BLANK\",IF($G88=0,\"\",IF(LEN('1-Award Info'!$G$4)=7,'1-Award Info'!$G$4&$B88&$C88&\"9\"&E88&RIGHT($D88,3),'1-Award Info'!$G$4&$C88&\"9\"&E88&RIGHT($D88,3))))","v":"BLANK"},0,0,null,"00000",{"$f":"COUNTIF(BI$17:BI88,1)","v":0},{"$f":"IF(BJ88=\"BLANk\",0,COUNTIF(BJ$17:BJ88,BJ88))","v":0},"BLANK",null,{"$f":"$BL$14+COUNTIF(BO$17:BO88,\"<>BLANK\")","v":0},{"$f":"COUNTA(BM$17:BM87)+1&\"0001\"","v":"720001"},"BLANK","BLANK",0,6,{"$f":"\"20\"&RIGHT(Tables!$E$4,2)","v":"2020"},null,"BLANK",{"$f":"IF(IF($H88=0,\"\",IF(LEN('1-Award Info'!$G$4)=7,'1-Award Info'!$G$4&$B88&$C88&\"9\"&E88&RIGHT($D88,3),'1-Award Info'!$G$4&$C88&\"9\"&E88&RIGHT($D88,3)))=\"\",\"BLANK\",IF($H88=0,\"\",IF(LEN('1-Award Info'!$G$4)=7,'1-Award Info'!$G$4&$B88&$C88&\"9\"&E88&RIGHT($D88,3),'1-Award Info'!$G$4&$C88&\"9\"&E88&RIGHT($D88,3))))","v":"BLANK"},0,0,null,"00000",{"$f":"COUNTIF(CA$17:CA88,1)","v":0},{"$f":"IF(CB88=\"BLANk\",0,COUNTIF(CB$17:CB88,CB88))","v":0},"BLANK",null,{"$f":"$CD$14+COUNTIF(CG$17:CG88,\"<>BLANK\")","v":0},{"$f":"COUNTA(CE$17:CE87)+1&\"0001\"","v":"720001"},"BLANK","BLANK",0,0,{"$f":"\"20\"&RIGHT(Tables!$E$5,2)","v":"2021"},null,"BLANK",{"$f":"IF(IF($I88=0,\"\",IF(LEN('1-Award Info'!$G$4)=7,'1-Award Info'!$G$4&$B88&$C88&\"9\"&$E88&RIGHT($D88,3),'1-Award Info'!$G$4&$C88&\"9\"&E$17&RIGHT($D88,3)))=\"\",\"BLANK\",IF($I88=0,\"\",IF(LEN('1-Award Info'!$G$4)=7,'1-Award Info'!$G$4&$B88&$C88&\"9\"&$E88&RIGHT($D88,3),'1-Award Info'!$G$4&$C88&\"9\"&$E88&RIGHT($D88,3))))","v":"BLANK"},0,0,null,"00000",{"$f":"COUNTIF(CS$17:CS88,1)","v":0},{"$f":"IF(CT88=\"BLANk\",0,COUNTIF(CT$17:CT88,CT88))","v":0},"BLANK",null,{"$f":"$CV$14+COUNTIF(CY$17:CY88,\"<>BLANK\")","v":0},{"$f":"COUNTA(CW$17:CW87)+1&\"0001\"","v":"720001"},"BLANK","BLANK",0,0,{"$f":"\"20\"&RIGHT(Tables!$E$6,2)","v":"2022"},null,"BLANK",{"$f":"IF(IF($J88=0,\"\",IF(LEN('1-Award Info'!$G$4)=7,'1-Award Info'!$G$4&$B88&$C88&\"9\"&$E88&RIGHT($D88,3),'1-Award Info'!$G$4&$C88&\"9\"&W$17&RIGHT($D88,3)))=\"\",\"BLANK\",IF($J88=0,\"\",IF(LEN('1-Award Info'!$G$4)=7,'1-Award Info'!$G$4&$B88&$C88&\"9\"&$E88&RIGHT($D88,3),'1-Award Info'!$G$4&$C88&\"9\"&$E88&RIGHT($D88,3))))","v":"BLANK"},0,0,null,"00000",{"$f":"COUNTIF(DK$17:DK88,1)","v":0},{"$f":"IF(DL88=\"BLANk\",0,COUNTIF(DL$17:DL88,DL88))","v":0},"BLANK",null,{"$f":"$DN$14+COUNTIF(DQ$17:DQ88,\"<>BLANK\")","v":0},{"$f":"COUNTA(DO$17:DO87)+1&\"0001\"","v":"720001"},"BLANK","BLANK",0,0,{"$f":"\"20\"&RIGHT(Tables!$E$7,2)","v":"2023"},null,72,{"$f":"\"00\"&'1-Award Info'!$G$6","v":"00"},"","",1,"",{"$f":"IFERROR(\nIF(VLOOKUP(\"FY\"&RIGHT($EA88,2),'1-Award Info'!$F$28:$G$32,2,0)=0,\n     1,\n     VLOOKUP(\"FY\"&RIGHT($EA88,2),'1-Award Info'!$F$28:$G$32,2,0)),1)","v":1},"",null,""]
[null,null,null,null,null,null,null,null,null,null,0,null,null,null,null,null,null,null,null,"100073",{"$f":"COUNTIF(V$17:$V89,1)","v":1},{"$f":"COUNTIF(W$17:$W89,W89)","v":73},{"$f":"IF($K89=0,\"\",IF(LEN('1-Award Info'!$G$4)=7,'1-Award Info'!$G$4&$B89&$C89,'1-Award Info'!$G$4&$C89))","v":""},null,{"$f":"COUNTA(Y$17:Y88)+1&\"0001\"","v":"730001"},"",null,"100073",{"$f":"COUNTIF($AD$17:AD89,AD89)","v":1},{"$f":"COUNTIF($AE$17:AE89,AE89)","v":73},"",null,{"$f":"COUNTA(AG$17:AG88)+1&\"0001\"","v":"730001"},"",null,"BLANK",{"$f":"IF(IF($F89=0,\"\",IF(LEN('1-Award Info'!$G$4)=7,'1-Award Info'!$G$4&$B89&$C89&\"9\"&E89&RIGHT($D89,3),'1-Award Info'!$G$4&$C89&\"9\"&E89&RIGHT($D89,3)))=\"\",\"BLANK\",IF($F89=0,\"\",IF(LEN('1-Award Info'!$G$4)=7,'1-Award Info'!$G$4&$B89&$C89&\"9\"&E89&RIGHT($D89,3),'1-Award Info'!$G$4&$C89&\"9\"&E89&RIGHT($D89,3))))","v":"BLANK"},0,0,null,"00000",{"$f":"COUNTIF(AQ$17:AQ89,1)","v":0},{"$f":"IF(AR89=\"BLANK\",0,COUNTIF(AR$17:AR89,AR89))","v":0},"BLANK",null,{"$f":"$AT$14+COUNTIF(AV$17:AV89,\"<>BLANK\")","v":0},{"$f":"COUNTA(AU$17:AU88)+1&\"0001\"","v":"730001"},"BLANK","BLANK",0,0,{"$f":"\"20\"&RIGHT(Tables!$E$3,2)","v":"2019"},null,"BLANK",{"$f":"IF(IF($G89=0,\"\",IF(LEN('1-Award Info'!$G$4)=7,'1-Award Info'!$G$4&$B89&$C89&\"9\"&E89&RIGHT($D89,3),'1-Award Info'!$G$4&$C89&\"9\"&E89&RIGHT($D89,3)))=\"\",\"BLANK\",IF($G89=0,\"\",IF(LEN('1-Award Info'!$G$4)=7,'1-Award Info'!$G$4&$B89&$C89&\"9\"&E89&RIGHT($D89,3),'1-Award Info'!$G$4&$C89&\"9\"&E89&RIGHT($D89,3))))","v":"BLANK"},0,0,null,"00000",{"$f":"COUNTIF(BI$17:BI89,1)","v":0},{"$f":"IF(BJ89=\"BLANk\",0,COUNTIF(BJ$17:BJ89,BJ89))","v":0},"BLANK",null,{"$f":"$BL$14+COUNTIF(BO$17:BO89,\"<>BLANK\")","v":0},{"$f":"COUNTA(BM$17:BM88)+1&\"0001\"","v":"730001"},"BLANK","BLANK",0,6,{"$f":"\"20\"&RIGHT(Tables!$E$4,2)","v":"2020"},null,"BLANK",{"$f":"IF(IF($H89=0,\"\",IF(LEN('1-Award Info'!$G$4)=7,'1-Award Info'!$G$4&$B89&$C89&\"9\"&E89&RIGHT($D89,3),'1-Award Info'!$G$4&$C89&\"9\"&E89&RIGHT($D89,3)))=\"\",\"BLANK\",IF($H89=0,\"\",IF(LEN('1-Award Info'!$G$4)=7,'1-Award Info'!$G$4&$B89&$C89&\"9\"&E89&RIGHT($D89,3),'1-Award Info'!$G$4&$C89&\"9\"&E89&RIGHT($D89,3))))","v":"BLANK"},0,0,null,"00000",{"$f":"COUNTIF(CA$17:CA89,1)","v":0},{"$f":"IF(CB89=\"BLANk\",0,COUNTIF(CB$17:CB89,CB89))","v":0},"BLANK",null,{"$f":"$CD$14+COUNTIF(CG$17:CG89,\"<>BLANK\")","v":0},{"$f":"COUNTA(CE$17:CE88)+1&\"0001\"","v":"730001"},"BLANK","BLANK",0,0,{"$f":"\"20\"&RIGHT(Tables!$E$5,2)","v":"2021"},null,"BLANK",{"$f":"IF(IF($I89=0,\"\",IF(LEN('1-Award Info'!$G$4)=7,'1-Award Info'!$G$4&$B89&$C89&\"9\"&$E89&RIGHT($D89,3),'1-Award Info'!$G$4&$C89&\"9\"&E$17&RIGHT($D89,3)))=\"\",\"BLANK\",IF($I89=0,\"\",IF(LEN('1-Award Info'!$G$4)=7,'1-Award Info'!$G$4&$B89&$C89&\"9\"&$E89&RIGHT($D89,3),'1-Award Info'!$G$4&$C89&\"9\"&$E89&RIGHT($D89,3))))","v":"BLANK"},0,0,null,"00000",{"$f":"COUNTIF(CS$17:CS89,1)","v":0},{"$f":"IF(CT89=\"BLANk\",0,COUNTIF(CT$17:CT89,CT89))","v":0},"BLANK",null,{"$f":"$CV$14+COUNTIF(CY$17:CY89,\"<>BLANK\")","v":0},{"$f":"COUNTA(CW$17:CW88)+1&\"0001\"","v":"730001"},"BLANK","BLANK",0,0,{"$f":"\"20\"&RIGHT(Tables!$E$6,2)","v":"2022"},null,"BLANK",{"$f":"IF(IF($J89=0,\"\",IF(LEN('1-Award Info'!$G$4)=7,'1-Award Info'!$G$4&$B89&$C89&\"9\"&$E89&RIGHT($D89,3),'1-Award Info'!$G$4&$C89&\"9\"&W$17&RIGHT($D89,3)))=\"\",\"BLANK\",IF($J89=0,\"\",IF(LEN('1-Award Info'!$G$4)=7,'1-Award Info'!$G$4&$B89&$C89&\"9\"&$E89&RIGHT($D89,3),'1-Award Info'!$G$4&$C89&\"9\"&$E89&RIGHT($D89,3))))","v":"BLANK"},0,0,null,"00000",{"$f":"COUNTIF(DK$17:DK89,1)","v":0},{"$f":"IF(DL89=\"BLANk\",0,COUNTIF(DL$17:DL89,DL89))","v":0},"BLANK",null,{"$f":"$DN$14+COUNTIF(DQ$17:DQ89,\"<>BLANK\")","v":0},{"$f":"COUNTA(DO$17:DO88)+1&\"0001\"","v":"730001"},"BLANK","BLANK",0,0,{"$f":"\"20\"&RIGHT(Tables!$E$7,2)","v":"2023"},null,73,{"$f":"\"00\"&'1-Award Info'!$G$6","v":"00"},"","",1,"",{"$f":"IFERROR(\nIF(VLOOKUP(\"FY\"&RIGHT($EA89,2),'1-Award Info'!$F$28:$G$32,2,0)=0,\n     1,\n     VLOOKUP(\"FY\"&RIGHT($EA89,2),'1-Award Info'!$F$28:$G$32,2,0)),1)","v":1},"",null,""]
[null,null,null,null,null,null,null,null,null,null,0,null,null,null,null,null,null,null,null,"100074",{"$f":"COUNTIF(V$17:$V90,1)","v":1},{"$f":"COUNTIF(W$17:$W90,W90)","v":74},{"$f":"IF($K90=0,\"\",IF(LEN('1-Award Info'!$G$4)=7,'1-Award Info'!$G$4&$B90&$C90,'1-Award Info'!$G$4&$C90))","v":""},null,{"$f":"COUNTA(Y$17:Y89)+1&\"0001\"","v":"740001"},"",null,"100074",{"$f":"COUNTIF($AD$17:AD90,AD90)","v":1},{"$f":"COUNTIF($AE$17:AE90,AE90)","v":74},"",null,{"$f":"COUNTA(AG$17:AG89)+1&\"0001\"","v":"740001"},"",null,"BLANK",{"$f":"IF(IF($F90=0,\"\",IF(LEN('1-Award Info'!$G$4)=7,'1-Award Info'!$G$4&$B90&$C90&\"9\"&E90&RIGHT($D90,3),'1-Award Info'!$G$4&$C90&\"9\"&E90&RIGHT($D90,3)))=\"\",\"BLANK\",IF($F90=0,\"\",IF(LEN('1-Award Info'!$G$4)=7,'1-Award Info'!$G$4&$B90&$C90&\"9\"&E90&RIGHT($D90,3),'1-Award Info'!$G$4&$C90&\"9\"&E90&RIGHT($D90,3))))","v":"BLANK"},0,0,null,"00000",{"$f":"COUNTIF(AQ$17:AQ90,1)","v":0},{"$f":"IF(AR90=\"BLANK\",0,COUNTIF(AR$17:AR90,AR90))","v":0},"BLANK",null,{"$f":"$AT$14+COUNTIF(AV$17:AV90,\"<>BLANK\")","v":0},{"$f":"COUNTA(AU$17:AU89)+1&\"0001\"","v":"740001"},"BLANK","BLANK",0,0,{"$f":"\"20\"&RIGHT(Tables!$E$3,2)","v":"2019"},null,"BLANK",{"$f":"IF(IF($G90=0,\"\",IF(LEN('1-Award Info'!$G$4)=7,'1-Award Info'!$G$4&$B90&$C90&\"9\"&E90&RIGHT($D90,3),'1-Award Info'!$G$4&$C90&\"9\"&E90&RIGHT($D90,3)))=\"\",\"BLANK\",IF($G90=0,\"\",IF(LEN('1-Award Info'!$G$4)=7,'1-Award Info'!$G$4&$B90&$C90&\"9\"&E90&RIGHT($D90,3),'1-Award Info'!$G$4&$C90&\"9\"&E90&RIGHT($D90,3))))","v":"BLANK"},0,0,null,"00000",{"$f":"COUNTIF(BI$17:BI90,1)","v":0},{"$f":"IF(BJ90=\"BLANk\",0,COUNTIF(BJ$17:BJ90,BJ90))","v":0},"BLANK",null,{"$f":"$BL$14+COUNTIF(BO$17:BO90,\"<>BLANK\")","v":0},{"$f":"COUNTA(BM$17:BM89)+1&\"0001\"","v":"740001"},"BLANK","BLANK",0,6,{"$f":"\"20\"&RIGHT(Tables!$E$4,2)","v":"2020"},null,"BLANK",{"$f":"IF(IF($H90=0,\"\",IF(LEN('1-Award Info'!$G$4)=7,'1-Award Info'!$G$4&$B90&$C90&\"9\"&E90&RIGHT($D90,3),'1-Award Info'!$G$4&$C90&\"9\"&E90&RIGHT($D90,3)))=\"\",\"BLANK\",IF($H90=0,\"\",IF(LEN('1-Award Info'!$G$4)=7,'1-Award Info'!$G$4&$B90&$C90&\"9\"&E90&RIGHT($D90,3),'1-Award Info'!$G$4&$C90&\"9\"&E90&RIGHT($D90,3))))","v":"BLANK"},0,0,null,"00000",{"$f":"COUNTIF(CA$17:CA90,1)","v":0},{"$f":"IF(CB90=\"BLANk\",0,COUNTIF(CB$17:CB90,CB90))","v":0},"BLANK",null,{"$f":"$CD$14+COUNTIF(CG$17:CG90,\"<>BLANK\")","v":0},{"$f":"COUNTA(CE$17:CE89)+1&\"0001\"","v":"740001"},"BLANK","BLANK",0,0,{"$f":"\"20\"&RIGHT(Tables!$E$5,2)","v":"2021"},null,"BLANK",{"$f":"IF(IF($I90=0,\"\",IF(LEN('1-Award Info'!$G$4)=7,'1-Award Info'!$G$4&$B90&$C90&\"9\"&$E90&RIGHT($D90,3),'1-Award Info'!$G$4&$C90&\"9\"&E$17&RIGHT($D90,3)))=\"\",\"BLANK\",IF($I90=0,\"\",IF(LEN('1-Award Info'!$G$4)=7,'1-Award Info'!$G$4&$B90&$C90&\"9\"&$E90&RIGHT($D90,3),'1-Award Info'!$G$4&$C90&\"9\"&$E90&RIGHT($D90,3))))","v":"BLANK"},0,0,null,"00000",{"$f":"COUNTIF(CS$17:CS90,1)","v":0},{"$f":"IF(CT90=\"BLANk\",0,COUNTIF(CT$17:CT90,CT90))","v":0},"BLANK",null,{"$f":"$CV$14+COUNTIF(CY$17:CY90,\"<>BLANK\")","v":0},{"$f":"COUNTA(CW$17:CW89)+1&\"0001\"","v":"740001"},"BLANK","BLANK",0,0,{"$f":"\"20\"&RIGHT(Tables!$E$6,2)","v":"2022"},null,"BLANK",{"$f":"IF(IF($J90=0,\"\",IF(LEN('1-Award Info'!$G$4)=7,'1-Award Info'!$G$4&$B90&$C90&\"9\"&$E90&RIGHT($D90,3),'1-Award Info'!$G$4&$C90&\"9\"&W$17&RIGHT($D90,3)))=\"\",\"BLANK\",IF($J90=0,\"\",IF(LEN('1-Award Info'!$G$4)=7,'1-Award Info'!$G$4&$B90&$C90&\"9\"&$E90&RIGHT($D90,3),'1-Award Info'!$G$4&$C90&\"9\"&$E90&RIGHT($D90,3))))","v":"BLANK"},0,0,null,"00000",{"$f":"COUNTIF(DK$17:DK90,1)","v":0},{"$f":"IF(DL90=\"BLANk\",0,COUNTIF(DL$17:DL90,DL90))","v":0},"BLANK",null,{"$f":"$DN$14+COUNTIF(DQ$17:DQ90,\"<>BLANK\")","v":0},{"$f":"COUNTA(DO$17:DO89)+1&\"0001\"","v":"740001"},"BLANK","BLANK",0,0,{"$f":"\"20\"&RIGHT(Tables!$E$7,2)","v":"2023"},null,74,{"$f":"\"00\"&'1-Award Info'!$G$6","v":"00"},"","",1,"",{"$f":"IFERROR(\nIF(VLOOKUP(\"FY\"&RIGHT($EA90,2),'1-Award Info'!$F$28:$G$32,2,0)=0,\n     1,\n     VLOOKUP(\"FY\"&RIGHT($EA90,2),'1-Award Info'!$F$28:$G$32,2,0)),1)","v":1},"",null,""]
[null,null,null,null,null,null,null,null,null,null,0,null,null,null,null,null,null,null,null,"100075",{"$f":"COUNTIF(V$17:$V91,1)","v":1},{"$f":"COUNTIF(W$17:$W91,W91)","v":75},{"$f":"IF($K91=0,\"\",IF(LEN('1-Award Info'!$G$4)=7,'1-Award Info'!$G$4&$B91&$C91,'1-Award Info'!$G$4&$C91))","v":""},null,{"$f":"COUNTA(Y$17:Y90)+1&\"0001\"","v":"750001"},"",null,"100075",{"$f":"COUNTIF($AD$17:AD91,AD91)","v":1},{"$f":"COUNTIF($AE$17:AE91,AE91)","v":75},"",null,{"$f":"COUNTA(AG$17:AG90)+1&\"0001\"","v":"750001"},"",null,"BLANK",{"$f":"IF(IF($F91=0,\"\",IF(LEN('1-Award Info'!$G$4)=7,'1-Award Info'!$G$4&$B91&$C91&\"9\"&E91&RIGHT($D91,3),'1-Award Info'!$G$4&$C91&\"9\"&E91&RIGHT($D91,3)))=\"\",\"BLANK\",IF($F91=0,\"\",IF(LEN('1-Award Info'!$G$4)=7,'1-Award Info'!$G$4&$B91&$C91&\"9\"&E91&RIGHT($D91,3),'1-Award Info'!$G$4&$C91&\"9\"&E91&RIGHT($D91,3))))","v":"BLANK"},0,0,null,"00000",{"$f":"COUNTIF(AQ$17:AQ91,1)","v":0},{"$f":"IF(AR91=\"BLANK\",0,COUNTIF(AR$17:AR91,AR91))","v":0},"BLANK",null,{"$f":"$AT$14+COUNTIF(AV$17:AV91,\"<>BLANK\")","v":0},{"$f":"COUNTA(AU$17:AU90)+1&\"0001\"","v":"750001"},"BLANK","BLANK",0,0,{"$f":"\"20\"&RIGHT(Tables!$E$3,2)","v":"2019"},null,"BLANK",{"$f":"IF(IF($G91=0,\"\",IF(LEN('1-Award Info'!$G$4)=7,'1-Award Info'!$G$4&$B91&$C91&\"9\"&E91&RIGHT($D91,3),'1-Award Info'!$G$4&$C91&\"9\"&E91&RIGHT($D91,3)))=\"\",\"BLANK\",IF($G91=0,\"\",IF(LEN('1-Award Info'!$G$4)=7,'1-Award Info'!$G$4&$B91&$C91&\"9\"&E91&RIGHT($D91,3),'1-Award Info'!$G$4&$C91&\"9\"&E91&RIGHT($D91,3))))","v":"BLANK"},0,0,null,"00000",{"$f":"COUNTIF(BI$17:BI91,1)","v":0},{"$f":"IF(BJ91=\"BLANk\",0,COUNTIF(BJ$17:BJ91,BJ91))","v":0},"BLANK",null,{"$f":"$BL$14+COUNTIF(BO$17:BO91,\"<>BLANK\")","v":0},{"$f":"COUNTA(BM$17:BM90)+1&\"0001\"","v":"750001"},"BLANK","BLANK",0,6,{"$f":"\"20\"&RIGHT(Tables!$E$4,2)","v":"2020"},null,"BLANK",{"$f":"IF(IF($H91=0,\"\",IF(LEN('1-Award Info'!$G$4)=7,'1-Award Info'!$G$4&$B91&$C91&\"9\"&E91&RIGHT($D91,3),'1-Award Info'!$G$4&$C91&\"9\"&E91&RIGHT($D91,3)))=\"\",\"BLANK\",IF($H91=0,\"\",IF(LEN('1-Award Info'!$G$4)=7,'1-Award Info'!$G$4&$B91&$C91&\"9\"&E91&RIGHT($D91,3),'1-Award Info'!$G$4&$C91&\"9\"&E91&RIGHT($D91,3))))","v":"BLANK"},0,0,null,"00000",{"$f":"COUNTIF(CA$17:CA91,1)","v":0},{"$f":"IF(CB91=\"BLANk\",0,COUNTIF(CB$17:CB91,CB91))","v":0},"BLANK",null,{"$f":"$CD$14+COUNTIF(CG$17:CG91,\"<>BLANK\")","v":0},{"$f":"COUNTA(CE$17:CE90)+1&\"0001\"","v":"750001"},"BLANK","BLANK",0,0,{"$f":"\"20\"&RIGHT(Tables!$E$5,2)","v":"2021"},null,"BLANK",{"$f":"IF(IF($I91=0,\"\",IF(LEN('1-Award Info'!$G$4)=7,'1-Award Info'!$G$4&$B91&$C91&\"9\"&$E91&RIGHT($D91,3),'1-Award Info'!$G$4&$C91&\"9\"&E$17&RIGHT($D91,3)))=\"\",\"BLANK\",IF($I91=0,\"\",IF(LEN('1-Award Info'!$G$4)=7,'1-Award Info'!$G$4&$B91&$C91&\"9\"&$E91&RIGHT($D91,3),'1-Award Info'!$G$4&$C91&\"9\"&$E91&RIGHT($D91,3))))","v":"BLANK"},0,0,null,"00000",{"$f":"COUNTIF(CS$17:CS91,1)","v":0},{"$f":"IF(CT91=\"BLANk\",0,COUNTIF(CT$17:CT91,CT91))","v":0},"BLANK",null,{"$f":"$CV$14+COUNTIF(CY$17:CY91,\"<>BLANK\")","v":0},{"$f":"COUNTA(CW$17:CW90)+1&\"0001\"","v":"750001"},"BLANK","BLANK",0,0,{"$f":"\"20\"&RIGHT(Tables!$E$6,2)","v":"2022"},null,"BLANK",{"$f":"IF(IF($J91=0,\"\",IF(LEN('1-Award Info'!$G$4)=7,'1-Award Info'!$G$4&$B91&$C91&\"9\"&$E91&RIGHT($D91,3),'1-Award Info'!$G$4&$C91&\"9\"&W$17&RIGHT($D91,3)))=\"\",\"BLANK\",IF($J91=0,\"\",IF(LEN('1-Award Info'!$G$4)=7,'1-Award Info'!$G$4&$B91&$C91&\"9\"&$E91&RIGHT($D91,3),'1-Award Info'!$G$4&$C91&\"9\"&$E91&RIGHT($D91,3))))","v":"BLANK"},0,0,null,"00000",{"$f":"COUNTIF(DK$17:DK91,1)","v":0},{"$f":"IF(DL91=\"BLANk\",0,COUNTIF(DL$17:DL91,DL91))","v":0},"BLANK",null,{"$f":"$DN$14+COUNTIF(DQ$17:DQ91,\"<>BLANK\")","v":0},{"$f":"COUNTA(DO$17:DO90)+1&\"0001\"","v":"750001"},"BLANK","BLANK",0,0,{"$f":"\"20\"&RIGHT(Tables!$E$7,2)","v":"2023"},null,75,{"$f":"\"00\"&'1-Award Info'!$G$6","v":"00"},"","",1,"",{"$f":"IFERROR(\nIF(VLOOKUP(\"FY\"&RIGHT($EA91,2),'1-Award Info'!$F$28:$G$32,2,0)=0,\n     1,\n     VLOOKUP(\"FY\"&RIGHT($EA91,2),'1-Award Info'!$F$28:$G$32,2,0)),1)","v":1},"",null,""]
[null,null,null,null,null,null,null,null,null,null,0,null,null,null,null,null,null,null,null,"100076",{"$f":"COUNTIF(V$17:$V92,1)","v":1},{"$f":"COUNTIF(W$17:$W92,W92)","v":76},{"$f":"IF($K92=0,\"\",IF(LEN('1-Award Info'!$G$4)=7,'1-Award Info'!$G$4&$B92&$C92,'1-Award Info'!$G$4&$C92))","v":""},null,{"$f":"COUNTA(Y$17:Y91)+1&\"0001\"","v":"760001"},"",null,"100076",{"$f":"COUNTIF($AD$17:AD92,AD92)","v":1},{"$f":"COUNTIF($AE$17:AE92,AE92)","v":76},"",null,{"$f":"COUNTA(AG$17:AG91)+1&\"0001\"","v":"760001"},"",null,"BLANK",{"$f":"IF(IF($F92=0,\"\",IF(LEN('1-Award Info'!$G$4)=7,'1-Award Info'!$G$4&$B92&$C92&\"9\"&E92&RIGHT($D92,3),'1-Award Info'!$G$4&$C92&\"9\"&E92&RIGHT($D92,3)))=\"\",\"BLANK\",IF($F92=0,\"\",IF(LEN('1-Award Info'!$G$4)=7,'1-Award Info'!$G$4&$B92&$C92&\"9\"&E92&RIGHT($D92,3),'1-Award Info'!$G$4&$C92&\"9\"&E92&RIGHT($D92,3))))","v":"BLANK"},0,0,null,"00000",{"$f":"COUNTIF(AQ$17:AQ92,1)","v":0},{"$f":"IF(AR92=\"BLANK\",0,COUNTIF(AR$17:AR92,AR92))","v":0},"BLANK",null,{"$f":"$AT$14+COUNTIF(AV$17:AV92,\"<>BLANK\")","v":0},{"$f":"COUNTA(AU$17:AU91)+1&\"0001\"","v":"760001"},"BLANK","BLANK",0,0,{"$f":"\"20\"&RIGHT(Tables!$E$3,2)","v":"2019"},null,"BLANK",{"$f":"IF(IF($G92=0,\"\",IF(LEN('1-Award Info'!$G$4)=7,'1-Award Info'!$G$4&$B92&$C92&\"9\"&E92&RIGHT($D92,3),'1-Award Info'!$G$4&$C92&\"9\"&E92&RIGHT($D92,3)))=\"\",\"BLANK\",IF($G92=0,\"\",IF(LEN('1-Award Info'!$G$4)=7,'1-Award Info'!$G$4&$B92&$C92&\"9\"&E92&RIGHT($D92,3),'1-Award Info'!$G$4&$C92&\"9\"&E92&RIGHT($D92,3))))","v":"BLANK"},0,0,null,"00000",{"$f":"COUNTIF(BI$17:BI92,1)","v":0},{"$f":"IF(BJ92=\"BLANk\",0,COUNTIF(BJ$17:BJ92,BJ92))","v":0},"BLANK",null,{"$f":"$BL$14+COUNTIF(BO$17:BO92,\"<>BLANK\")","v":0},{"$f":"COUNTA(BM$17:BM91)+1&\"0001\"","v":"760001"},"BLANK","BLANK",0,6,{"$f":"\"20\"&RIGHT(Tables!$E$4,2)","v":"2020"},null,"BLANK",{"$f":"IF(IF($H92=0,\"\",IF(LEN('1-Award Info'!$G$4)=7,'1-Award Info'!$G$4&$B92&$C92&\"9\"&E92&RIGHT($D92,3),'1-Award Info'!$G$4&$C92&\"9\"&E92&RIGHT($D92,3)))=\"\",\"BLANK\",IF($H92=0,\"\",IF(LEN('1-Award Info'!$G$4)=7,'1-Award Info'!$G$4&$B92&$C92&\"9\"&E92&RIGHT($D92,3),'1-Award Info'!$G$4&$C92&\"9\"&E92&RIGHT($D92,3))))","v":"BLANK"},0,0,null,"00000",{"$f":"COUNTIF(CA$17:CA92,1)","v":0},{"$f":"IF(CB92=\"BLANk\",0,COUNTIF(CB$17:CB92,CB92))","v":0},"BLANK",null,{"$f":"$CD$14+COUNTIF(CG$17:CG92,\"<>BLANK\")","v":0},{"$f":"COUNTA(CE$17:CE91)+1&\"0001\"","v":"760001"},"BLANK","BLANK",0,0,{"$f":"\"20\"&RIGHT(Tables!$E$5,2)","v":"2021"},null,"BLANK",{"$f":"IF(IF($I92=0,\"\",IF(LEN('1-Award Info'!$G$4)=7,'1-Award Info'!$G$4&$B92&$C92&\"9\"&$E92&RIGHT($D92,3),'1-Award Info'!$G$4&$C92&\"9\"&E$17&RIGHT($D92,3)))=\"\",\"BLANK\",IF($I92=0,\"\",IF(LEN('1-Award Info'!$G$4)=7,'1-Award Info'!$G$4&$B92&$C92&\"9\"&$E92&RIGHT($D92,3),'1-Award Info'!$G$4&$C92&\"9\"&$E92&RIGHT($D92,3))))","v":"BLANK"},0,0,null,"00000",{"$f":"COUNTIF(CS$17:CS92,1)","v":0},{"$f":"IF(CT92=\"BLANk\",0,COUNTIF(CT$17:CT92,CT92))","v":0},"BLANK",null,{"$f":"$CV$14+COUNTIF(CY$17:CY92,\"<>BLANK\")","v":0},{"$f":"COUNTA(CW$17:CW91)+1&\"0001\"","v":"760001"},"BLANK","BLANK",0,0,{"$f":"\"20\"&RIGHT(Tables!$E$6,2)","v":"2022"},null,"BLANK",{"$f":"IF(IF($J92=0,\"\",IF(LEN('1-Award Info'!$G$4)=7,'1-Award Info'!$G$4&$B92&$C92&\"9\"&$E92&RIGHT($D92,3),'1-Award Info'!$G$4&$C92&\"9\"&W$17&RIGHT($D92,3)))=\"\",\"BLANK\",IF($J92=0,\"\",IF(LEN('1-Award Info'!$G$4)=7,'1-Award Info'!$G$4&$B92&$C92&\"9\"&$E92&RIGHT($D92,3),'1-Award Info'!$G$4&$C92&\"9\"&$E92&RIGHT($D92,3))))","v":"BLANK"},0,0,null,"00000",{"$f":"COUNTIF(DK$17:DK92,1)","v":0},{"$f":"IF(DL92=\"BLANk\",0,COUNTIF(DL$17:DL92,DL92))","v":0},"BLANK",null,{"$f":"$DN$14+COUNTIF(DQ$17:DQ92,\"<>BLANK\")","v":0},{"$f":"COUNTA(DO$17:DO91)+1&\"0001\"","v":"760001"},"BLANK","BLANK",0,0,{"$f":"\"20\"&RIGHT(Tables!$E$7,2)","v":"2023"},null,76,{"$f":"\"00\"&'1-Award Info'!$G$6","v":"00"},"","",1,"",{"$f":"IFERROR(\nIF(VLOOKUP(\"FY\"&RIGHT($EA92,2),'1-Award Info'!$F$28:$G$32,2,0)=0,\n     1,\n     VLOOKUP(\"FY\"&RIGHT($EA92,2),'1-Award Info'!$F$28:$G$32,2,0)),1)","v":1},"",null,""]
[null,null,null,null,null,null,null,null,null,null,0,null,null,null,null,null,null,null,null,"100077",{"$f":"COUNTIF(V$17:$V93,1)","v":1},{"$f":"COUNTIF(W$17:$W93,W93)","v":77},{"$f":"IF($K93=0,\"\",IF(LEN('1-Award Info'!$G$4)=7,'1-Award Info'!$G$4&$B93&$C93,'1-Award Info'!$G$4&$C93))","v":""},null,{"$f":"COUNTA(Y$17:Y92)+1&\"0001\"","v":"770001"},"",null,"100077",{"$f":"COUNTIF($AD$17:AD93,AD93)","v":1},{"$f":"COUNTIF($AE$17:AE93,AE93)","v":77},"",null,{"$f":"COUNTA(AG$17:AG92)+1&\"0001\"","v":"770001"},"",null,"BLANK",{"$f":"IF(IF($F93=0,\"\",IF(LEN('1-Award Info'!$G$4)=7,'1-Award Info'!$G$4&$B93&$C93&\"9\"&E93&RIGHT($D93,3),'1-Award Info'!$G$4&$C93&\"9\"&E93&RIGHT($D93,3)))=\"\",\"BLANK\",IF($F93=0,\"\",IF(LEN('1-Award Info'!$G$4)=7,'1-Award Info'!$G$4&$B93&$C93&\"9\"&E93&RIGHT($D93,3),'1-Award Info'!$G$4&$C93&\"9\"&E93&RIGHT($D93,3))))","v":"BLANK"},0,0,null,"00000",{"$f":"COUNTIF(AQ$17:AQ93,1)","v":0},{"$f":"IF(AR93=\"BLANK\",0,COUNTIF(AR$17:AR93,AR93))","v":0},"BLANK",null,{"$f":"$AT$14+COUNTIF(AV$17:AV93,\"<>BLANK\")","v":0},{"$f":"COUNTA(AU$17:AU92)+1&\"0001\"","v":"770001"},"BLANK","BLANK",0,0,{"$f":"\"20\"&RIGHT(Tables!$E$3,2)","v":"2019"},null,"BLANK",{"$f":"IF(IF($G93=0,\"\",IF(LEN('1-Award Info'!$G$4)=7,'1-Award Info'!$G$4&$B93&$C93&\"9\"&E93&RIGHT($D93,3),'1-Award Info'!$G$4&$C93&\"9\"&E93&RIGHT($D93,3)))=\"\",\"BLANK\",IF($G93=0,\"\",IF(LEN('1-Award Info'!$G$4)=7,'1-Award Info'!$G$4&$B93&$C93&\"9\"&E93&RIGHT($D93,3),'1-Award Info'!$G$4&$C93&\"9\"&E93&RIGHT($D93,3))))","v":"BLANK"},0,0,null,"00000",{"$f":"COUNTIF(BI$17:BI93,1)","v":0},{"$f":"IF(BJ93=\"BLANk\",0,COUNTIF(BJ$17:BJ93,BJ93))","v":0},"BLANK",null,{"$f":"$BL$14+COUNTIF(BO$17:BO93,\"<>BLANK\")","v":0},{"$f":"COUNTA(BM$17:BM92)+1&\"0001\"","v":"770001"},"BLANK","BLANK",0,6,{"$f":"\"20\"&RIGHT(Tables!$E$4,2)","v":"2020"},null,"BLANK",{"$f":"IF(IF($H93=0,\"\",IF(LEN('1-Award Info'!$G$4)=7,'1-Award Info'!$G$4&$B93&$C93&\"9\"&E93&RIGHT($D93,3),'1-Award Info'!$G$4&$C93&\"9\"&E93&RIGHT($D93,3)))=\"\",\"BLANK\",IF($H93=0,\"\",IF(LEN('1-Award Info'!$G$4)=7,'1-Award Info'!$G$4&$B93&$C93&\"9\"&E93&RIGHT($D93,3),'1-Award Info'!$G$4&$C93&\"9\"&E93&RIGHT($D93,3))))","v":"BLANK"},0,0,null,"00000",{"$f":"COUNTIF(CA$17:CA93,1)","v":0},{"$f":"IF(CB93=\"BLANk\",0,COUNTIF(CB$17:CB93,CB93))","v":0},"BLANK",null,{"$f":"$CD$14+COUNTIF(CG$17:CG93,\"<>BLANK\")","v":0},{"$f":"COUNTA(CE$17:CE92)+1&\"0001\"","v":"770001"},"BLANK","BLANK",0,0,{"$f":"\"20\"&RIGHT(Tables!$E$5,2)","v":"2021"},null,"BLANK",{"$f":"IF(IF($I93=0,\"\",IF(LEN('1-Award Info'!$G$4)=7,'1-Award Info'!$G$4&$B93&$C93&\"9\"&$E93&RIGHT($D93,3),'1-Award Info'!$G$4&$C93&\"9\"&E$17&RIGHT($D93,3)))=\"\",\"BLANK\",IF($I93=0,\"\",IF(LEN('1-Award Info'!$G$4)=7,'1-Award Info'!$G$4&$B93&$C93&\"9\"&$E93&RIGHT($D93,3),'1-Award Info'!$G$4&$C93&\"9\"&$E93&RIGHT($D93,3))))","v":"BLANK"},0,0,null,"00000",{"$f":"COUNTIF(CS$17:CS93,1)","v":0},{"$f":"IF(CT93=\"BLANk\",0,COUNTIF(CT$17:CT93,CT93))","v":0},"BLANK",null,{"$f":"$CV$14+COUNTIF(CY$17:CY93,\"<>BLANK\")","v":0},{"$f":"COUNTA(CW$17:CW92)+1&\"0001\"","v":"770001"},"BLANK","BLANK",0,0,{"$f":"\"20\"&RIGHT(Tables!$E$6,2)","v":"2022"},null,"BLANK",{"$f":"IF(IF($J93=0,\"\",IF(LEN('1-Award Info'!$G$4)=7,'1-Award Info'!$G$4&$B93&$C93&\"9\"&$E93&RIGHT($D93,3),'1-Award Info'!$G$4&$C93&\"9\"&W$17&RIGHT($D93,3)))=\"\",\"BLANK\",IF($J93=0,\"\",IF(LEN('1-Award Info'!$G$4)=7,'1-Award Info'!$G$4&$B93&$C93&\"9\"&$E93&RIGHT($D93,3),'1-Award Info'!$G$4&$C93&\"9\"&$E93&RIGHT($D93,3))))","v":"BLANK"},0,0,null,"00000",{"$f":"COUNTIF(DK$17:DK93,1)","v":0},{"$f":"IF(DL93=\"BLANk\",0,COUNTIF(DL$17:DL93,DL93))","v":0},"BLANK",null,{"$f":"$DN$14+COUNTIF(DQ$17:DQ93,\"<>BLANK\")","v":0},{"$f":"COUNTA(DO$17:DO92)+1&\"0001\"","v":"770001"},"BLANK","BLANK",0,0,{"$f":"\"20\"&RIGHT(Tables!$E$7,2)","v":"2023"},null,77,{"$f":"\"00\"&'1-Award Info'!$G$6","v":"00"},"","",1,"",{"$f":"IFERROR(\nIF(VLOOKUP(\"FY\"&RIGHT($EA93,2),'1-Award Info'!$F$28:$G$32,2,0)=0,\n     1,\n     VLOOKUP(\"FY\"&RIGHT($EA93,2),'1-Award Info'!$F$28:$G$32,2,0)),1)","v":1},"",null,""]
[null,null,null,null,null,null,null,null,null,null,0,null,null,null,null,null,null,null,null,"100078",{"$f":"COUNTIF(V$17:$V94,1)","v":1},{"$f":"COUNTIF(W$17:$W94,W94)","v":78},{"$f":"IF($K94=0,\"\",IF(LEN('1-Award Info'!$G$4)=7,'1-Award Info'!$G$4&$B94&$C94,'1-Award Info'!$G$4&$C94))","v":""},null,{"$f":"COUNTA(Y$17:Y93)+1&\"0001\"","v":"780001"},"",null,"100078",{"$f":"COUNTIF($AD$17:AD94,AD94)","v":1},{"$f":"COUNTIF($AE$17:AE94,AE94)","v":78},"",null,{"$f":"COUNTA(AG$17:AG93)+1&\"0001\"","v":"780001"},"",null,"BLANK",{"$f":"IF(IF($F94=0,\"\",IF(LEN('1-Award Info'!$G$4)=7,'1-Award Info'!$G$4&$B94&$C94&\"9\"&E94&RIGHT($D94,3),'1-Award Info'!$G$4&$C94&\"9\"&E94&RIGHT($D94,3)))=\"\",\"BLANK\",IF($F94=0,\"\",IF(LEN('1-Award Info'!$G$4)=7,'1-Award Info'!$G$4&$B94&$C94&\"9\"&E94&RIGHT($D94,3),'1-Award Info'!$G$4&$C94&\"9\"&E94&RIGHT($D94,3))))","v":"BLANK"},0,0,null,"00000",{"$f":"COUNTIF(AQ$17:AQ94,1)","v":0},{"$f":"IF(AR94=\"BLANK\",0,COUNTIF(AR$17:AR94,AR94))","v":0},"BLANK",null,{"$f":"$AT$14+COUNTIF(AV$17:AV94,\"<>BLANK\")","v":0},{"$f":"COUNTA(AU$17:AU93)+1&\"0001\"","v":"780001"},"BLANK","BLANK",0,0,{"$f":"\"20\"&RIGHT(Tables!$E$3,2)","v":"2019"},null,"BLANK",{"$f":"IF(IF($G94=0,\"\",IF(LEN('1-Award Info'!$G$4)=7,'1-Award Info'!$G$4&$B94&$C94&\"9\"&E94&RIGHT($D94,3),'1-Award Info'!$G$4&$C94&\"9\"&E94&RIGHT($D94,3)))=\"\",\"BLANK\",IF($G94=0,\"\",IF(LEN('1-Award Info'!$G$4)=7,'1-Award Info'!$G$4&$B94&$C94&\"9\"&E94&RIGHT($D94,3),'1-Award Info'!$G$4&$C94&\"9\"&E94&RIGHT($D94,3))))","v":"BLANK"},0,0,null,"00000",{"$f":"COUNTIF(BI$17:BI94,1)","v":0},{"$f":"IF(BJ94=\"BLANk\",0,COUNTIF(BJ$17:BJ94,BJ94))","v":0},"BLANK",null,{"$f":"$BL$14+COUNTIF(BO$17:BO94,\"<>BLANK\")","v":0},{"$f":"COUNTA(BM$17:BM93)+1&\"0001\"","v":"780001"},"BLANK","BLANK",0,6,{"$f":"\"20\"&RIGHT(Tables!$E$4,2)","v":"2020"},null,"BLANK",{"$f":"IF(IF($H94=0,\"\",IF(LEN('1-Award Info'!$G$4)=7,'1-Award Info'!$G$4&$B94&$C94&\"9\"&E94&RIGHT($D94,3),'1-Award Info'!$G$4&$C94&\"9\"&E94&RIGHT($D94,3)))=\"\",\"BLANK\",IF($H94=0,\"\",IF(LEN('1-Award Info'!$G$4)=7,'1-Award Info'!$G$4&$B94&$C94&\"9\"&E94&RIGHT($D94,3),'1-Award Info'!$G$4&$C94&\"9\"&E94&RIGHT($D94,3))))","v":"BLANK"},0,0,null,"00000",{"$f":"COUNTIF(CA$17:CA94,1)","v":0},{"$f":"IF(CB94=\"BLANk\",0,COUNTIF(CB$17:CB94,CB94))","v":0},"BLANK",null,{"$f":"$CD$14+COUNTIF(CG$17:CG94,\"<>BLANK\")","v":0},{"$f":"COUNTA(CE$17:CE93)+1&\"0001\"","v":"780001"},"BLANK","BLANK",0,0,{"$f":"\"20\"&RIGHT(Tables!$E$5,2)","v":"2021"},null,"BLANK",{"$f":"IF(IF($I94=0,\"\",IF(LEN('1-Award Info'!$G$4)=7,'1-Award Info'!$G$4&$B94&$C94&\"9\"&$E94&RIGHT($D94,3),'1-Award Info'!$G$4&$C94&\"9\"&E$17&RIGHT($D94,3)))=\"\",\"BLANK\",IF($I94=0,\"\",IF(LEN('1-Award Info'!$G$4)=7,'1-Award Info'!$G$4&$B94&$C94&\"9\"&$E94&RIGHT($D94,3),'1-Award Info'!$G$4&$C94&\"9\"&$E94&RIGHT($D94,3))))","v":"BLANK"},0,0,null,"00000",{"$f":"COUNTIF(CS$17:CS94,1)","v":0},{"$f":"IF(CT94=\"BLANk\",0,COUNTIF(CT$17:CT94,CT94))","v":0},"BLANK",null,{"$f":"$CV$14+COUNTIF(CY$17:CY94,\"<>BLANK\")","v":0},{"$f":"COUNTA(CW$17:CW93)+1&\"0001\"","v":"780001"},"BLANK","BLANK",0,0,{"$f":"\"20\"&RIGHT(Tables!$E$6,2)","v":"2022"},null,"BLANK",{"$f":"IF(IF($J94=0,\"\",IF(LEN('1-Award Info'!$G$4)=7,'1-Award Info'!$G$4&$B94&$C94&\"9\"&$E94&RIGHT($D94,3),'1-Award Info'!$G$4&$C94&\"9\"&W$17&RIGHT($D94,3)))=\"\",\"BLANK\",IF($J94=0,\"\",IF(LEN('1-Award Info'!$G$4)=7,'1-Award Info'!$G$4&$B94&$C94&\"9\"&$E94&RIGHT($D94,3),'1-Award Info'!$G$4&$C94&\"9\"&$E94&RIGHT($D94,3))))","v":"BLANK"},0,0,null,"00000",{"$f":"COUNTIF(DK$17:DK94,1)","v":0},{"$f":"IF(DL94=\"BLANk\",0,COUNTIF(DL$17:DL94,DL94))","v":0},"BLANK",null,{"$f":"$DN$14+COUNTIF(DQ$17:DQ94,\"<>BLANK\")","v":0},{"$f":"COUNTA(DO$17:DO93)+1&\"0001\"","v":"780001"},"BLANK","BLANK",0,0,{"$f":"\"20\"&RIGHT(Tables!$E$7,2)","v":"2023"},null,78,{"$f":"\"00\"&'1-Award Info'!$G$6","v":"00"},"","",1,"",{"$f":"IFERROR(\nIF(VLOOKUP(\"FY\"&RIGHT($EA94,2),'1-Award Info'!$F$28:$G$32,2,0)=0,\n     1,\n     VLOOKUP(\"FY\"&RIGHT($EA94,2),'1-Award Info'!$F$28:$G$32,2,0)),1)","v":1},"",null,""]
[null,null,null,null,null,null,null,null,null,null,0,null,null,null,null,null,null,null,null,"100079",{"$f":"COUNTIF(V$17:$V95,1)","v":1},{"$f":"COUNTIF(W$17:$W95,W95)","v":79},{"$f":"IF($K95=0,\"\",IF(LEN('1-Award Info'!$G$4)=7,'1-Award Info'!$G$4&$B95&$C95,'1-Award Info'!$G$4&$C95))","v":""},null,{"$f":"COUNTA(Y$17:Y94)+1&\"0001\"","v":"790001"},"",null,"100079",{"$f":"COUNTIF($AD$17:AD95,AD95)","v":1},{"$f":"COUNTIF($AE$17:AE95,AE95)","v":79},"",null,{"$f":"COUNTA(AG$17:AG94)+1&\"0001\"","v":"790001"},"",null,"BLANK",{"$f":"IF(IF($F95=0,\"\",IF(LEN('1-Award Info'!$G$4)=7,'1-Award Info'!$G$4&$B95&$C95&\"9\"&E95&RIGHT($D95,3),'1-Award Info'!$G$4&$C95&\"9\"&E95&RIGHT($D95,3)))=\"\",\"BLANK\",IF($F95=0,\"\",IF(LEN('1-Award Info'!$G$4)=7,'1-Award Info'!$G$4&$B95&$C95&\"9\"&E95&RIGHT($D95,3),'1-Award Info'!$G$4&$C95&\"9\"&E95&RIGHT($D95,3))))","v":"BLANK"},0,0,null,"00000",{"$f":"COUNTIF(AQ$17:AQ95,1)","v":0},{"$f":"IF(AR95=\"BLANK\",0,COUNTIF(AR$17:AR95,AR95))","v":0},"BLANK",null,{"$f":"$AT$14+COUNTIF(AV$17:AV95,\"<>BLANK\")","v":0},{"$f":"COUNTA(AU$17:AU94)+1&\"0001\"","v":"790001"},"BLANK","BLANK",0,0,{"$f":"\"20\"&RIGHT(Tables!$E$3,2)","v":"2019"},null,"BLANK",{"$f":"IF(IF($G95=0,\"\",IF(LEN('1-Award Info'!$G$4)=7,'1-Award Info'!$G$4&$B95&$C95&\"9\"&E95&RIGHT($D95,3),'1-Award Info'!$G$4&$C95&\"9\"&E95&RIGHT($D95,3)))=\"\",\"BLANK\",IF($G95=0,\"\",IF(LEN('1-Award Info'!$G$4)=7,'1-Award Info'!$G$4&$B95&$C95&\"9\"&E95&RIGHT($D95,3),'1-Award Info'!$G$4&$C95&\"9\"&E95&RIGHT($D95,3))))","v":"BLANK"},0,0,null,"00000",{"$f":"COUNTIF(BI$17:BI95,1)","v":0},{"$f":"IF(BJ95=\"BLANk\",0,COUNTIF(BJ$17:BJ95,BJ95))","v":0},"BLANK",null,{"$f":"$BL$14+COUNTIF(BO$17:BO95,\"<>BLANK\")","v":0},{"$f":"COUNTA(BM$17:BM94)+1&\"0001\"","v":"790001"},"BLANK","BLANK",0,6,{"$f":"\"20\"&RIGHT(Tables!$E$4,2)","v":"2020"},null,"BLANK",{"$f":"IF(IF($H95=0,\"\",IF(LEN('1-Award Info'!$G$4)=7,'1-Award Info'!$G$4&$B95&$C95&\"9\"&E95&RIGHT($D95,3),'1-Award Info'!$G$4&$C95&\"9\"&E95&RIGHT($D95,3)))=\"\",\"BLANK\",IF($H95=0,\"\",IF(LEN('1-Award Info'!$G$4)=7,'1-Award Info'!$G$4&$B95&$C95&\"9\"&E95&RIGHT($D95,3),'1-Award Info'!$G$4&$C95&\"9\"&E95&RIGHT($D95,3))))","v":"BLANK"},0,0,null,"00000",{"$f":"COUNTIF(CA$17:CA95,1)","v":0},{"$f":"IF(CB95=\"BLANk\",0,COUNTIF(CB$17:CB95,CB95))","v":0},"BLANK",null,{"$f":"$CD$14+COUNTIF(CG$17:CG95,\"<>BLANK\")","v":0},{"$f":"COUNTA(CE$17:CE94)+1&\"0001\"","v":"790001"},"BLANK","BLANK",0,0,{"$f":"\"20\"&RIGHT(Tables!$E$5,2)","v":"2021"},null,"BLANK",{"$f":"IF(IF($I95=0,\"\",IF(LEN('1-Award Info'!$G$4)=7,'1-Award Info'!$G$4&$B95&$C95&\"9\"&$E95&RIGHT($D95,3),'1-Award Info'!$G$4&$C95&\"9\"&E$17&RIGHT($D95,3)))=\"\",\"BLANK\",IF($I95=0,\"\",IF(LEN('1-Award Info'!$G$4)=7,'1-Award Info'!$G$4&$B95&$C95&\"9\"&$E95&RIGHT($D95,3),'1-Award Info'!$G$4&$C95&\"9\"&$E95&RIGHT($D95,3))))","v":"BLANK"},0,0,null,"00000",{"$f":"COUNTIF(CS$17:CS95,1)","v":0},{"$f":"IF(CT95=\"BLANk\",0,COUNTIF(CT$17:CT95,CT95))","v":0},"BLANK",null,{"$f":"$CV$14+COUNTIF(CY$17:CY95,\"<>BLANK\")","v":0},{"$f":"COUNTA(CW$17:CW94)+1&\"0001\"","v":"790001"},"BLANK","BLANK",0,0,{"$f":"\"20\"&RIGHT(Tables!$E$6,2)","v":"2022"},null,"BLANK",{"$f":"IF(IF($J95=0,\"\",IF(LEN('1-Award Info'!$G$4)=7,'1-Award Info'!$G$4&$B95&$C95&\"9\"&$E95&RIGHT($D95,3),'1-Award Info'!$G$4&$C95&\"9\"&W$17&RIGHT($D95,3)))=\"\",\"BLANK\",IF($J95=0,\"\",IF(LEN('1-Award Info'!$G$4)=7,'1-Award Info'!$G$4&$B95&$C95&\"9\"&$E95&RIGHT($D95,3),'1-Award Info'!$G$4&$C95&\"9\"&$E95&RIGHT($D95,3))))","v":"BLANK"},0,0,null,"00000",{"$f":"COUNTIF(DK$17:DK95,1)","v":0},{"$f":"IF(DL95=\"BLANk\",0,COUNTIF(DL$17:DL95,DL95))","v":0},"BLANK",null,{"$f":"$DN$14+COUNTIF(DQ$17:DQ95,\"<>BLANK\")","v":0},{"$f":"COUNTA(DO$17:DO94)+1&\"0001\"","v":"790001"},"BLANK","BLANK",0,0,{"$f":"\"20\"&RIGHT(Tables!$E$7,2)","v":"2023"},null,79,{"$f":"\"00\"&'1-Award Info'!$G$6","v":"00"},"","",1,"",{"$f":"IFERROR(\nIF(VLOOKUP(\"FY\"&RIGHT($EA95,2),'1-Award Info'!$F$28:$G$32,2,0)=0,\n     1,\n     VLOOKUP(\"FY\"&RIGHT($EA95,2),'1-Award Info'!$F$28:$G$32,2,0)),1)","v":1},"",null,""]
[null,null,null,null,null,null,null,null,null,null,0,null,null,null,null,null,null,null,null,"100080",{"$f":"COUNTIF(V$17:$V96,1)","v":1},{"$f":"COUNTIF(W$17:$W96,W96)","v":80},{"$f":"IF($K96=0,\"\",IF(LEN('1-Award Info'!$G$4)=7,'1-Award Info'!$G$4&$B96&$C96,'1-Award Info'!$G$4&$C96))","v":""},null,{"$f":"COUNTA(Y$17:Y95)+1&\"0001\"","v":"800001"},"",null,"100080",{"$f":"COUNTIF($AD$17:AD96,AD96)","v":1},{"$f":"COUNTIF($AE$17:AE96,AE96)","v":80},"",null,{"$f":"COUNTA(AG$17:AG95)+1&\"0001\"","v":"800001"},"",null,"BLANK",{"$f":"IF(IF($F96=0,\"\",IF(LEN('1-Award Info'!$G$4)=7,'1-Award Info'!$G$4&$B96&$C96&\"9\"&E96&RIGHT($D96,3),'1-Award Info'!$G$4&$C96&\"9\"&E96&RIGHT($D96,3)))=\"\",\"BLANK\",IF($F96=0,\"\",IF(LEN('1-Award Info'!$G$4)=7,'1-Award Info'!$G$4&$B96&$C96&\"9\"&E96&RIGHT($D96,3),'1-Award Info'!$G$4&$C96&\"9\"&E96&RIGHT($D96,3))))","v":"BLANK"},0,0,null,"00000",{"$f":"COUNTIF(AQ$17:AQ96,1)","v":0},{"$f":"IF(AR96=\"BLANK\",0,COUNTIF(AR$17:AR96,AR96))","v":0},"BLANK",null,{"$f":"$AT$14+COUNTIF(AV$17:AV96,\"<>BLANK\")","v":0},{"$f":"COUNTA(AU$17:AU95)+1&\"0001\"","v":"800001"},"BLANK","BLANK",0,0,{"$f":"\"20\"&RIGHT(Tables!$E$3,2)","v":"2019"},null,"BLANK",{"$f":"IF(IF($G96=0,\"\",IF(LEN('1-Award Info'!$G$4)=7,'1-Award Info'!$G$4&$B96&$C96&\"9\"&E96&RIGHT($D96,3),'1-Award Info'!$G$4&$C96&\"9\"&E96&RIGHT($D96,3)))=\"\",\"BLANK\",IF($G96=0,\"\",IF(LEN('1-Award Info'!$G$4)=7,'1-Award Info'!$G$4&$B96&$C96&\"9\"&E96&RIGHT($D96,3),'1-Award Info'!$G$4&$C96&\"9\"&E96&RIGHT($D96,3))))","v":"BLANK"},0,0,null,"00000",{"$f":"COUNTIF(BI$17:BI96,1)","v":0},{"$f":"IF(BJ96=\"BLANk\",0,COUNTIF(BJ$17:BJ96,BJ96))","v":0},"BLANK",null,{"$f":"$BL$14+COUNTIF(BO$17:BO96,\"<>BLANK\")","v":0},{"$f":"COUNTA(BM$17:BM95)+1&\"0001\"","v":"800001"},"BLANK","BLANK",0,6,{"$f":"\"20\"&RIGHT(Tables!$E$4,2)","v":"2020"},null,"BLANK",{"$f":"IF(IF($H96=0,\"\",IF(LEN('1-Award Info'!$G$4)=7,'1-Award Info'!$G$4&$B96&$C96&\"9\"&E96&RIGHT($D96,3),'1-Award Info'!$G$4&$C96&\"9\"&E96&RIGHT($D96,3)))=\"\",\"BLANK\",IF($H96=0,\"\",IF(LEN('1-Award Info'!$G$4)=7,'1-Award Info'!$G$4&$B96&$C96&\"9\"&E96&RIGHT($D96,3),'1-Award Info'!$G$4&$C96&\"9\"&E96&RIGHT($D96,3))))","v":"BLANK"},0,0,null,"00000",{"$f":"COUNTIF(CA$17:CA96,1)","v":0},{"$f":"IF(CB96=\"BLANk\",0,COUNTIF(CB$17:CB96,CB96))","v":0},"BLANK",null,{"$f":"$CD$14+COUNTIF(CG$17:CG96,\"<>BLANK\")","v":0},{"$f":"COUNTA(CE$17:CE95)+1&\"0001\"","v":"800001"},"BLANK","BLANK",0,0,{"$f":"\"20\"&RIGHT(Tables!$E$5,2)","v":"2021"},null,"BLANK",{"$f":"IF(IF($I96=0,\"\",IF(LEN('1-Award Info'!$G$4)=7,'1-Award Info'!$G$4&$B96&$C96&\"9\"&$E96&RIGHT($D96,3),'1-Award Info'!$G$4&$C96&\"9\"&E$17&RIGHT($D96,3)))=\"\",\"BLANK\",IF($I96=0,\"\",IF(LEN('1-Award Info'!$G$4)=7,'1-Award Info'!$G$4&$B96&$C96&\"9\"&$E96&RIGHT($D96,3),'1-Award Info'!$G$4&$C96&\"9\"&$E96&RIGHT($D96,3))))","v":"BLANK"},0,0,null,"00000",{"$f":"COUNTIF(CS$17:CS96,1)","v":0},{"$f":"IF(CT96=\"BLANk\",0,COUNTIF(CT$17:CT96,CT96))","v":0},"BLANK",null,{"$f":"$CV$14+COUNTIF(CY$17:CY96,\"<>BLANK\")","v":0},{"$f":"COUNTA(CW$17:CW95)+1&\"0001\"","v":"800001"},"BLANK","BLANK",0,0,{"$f":"\"20\"&RIGHT(Tables!$E$6,2)","v":"2022"},null,"BLANK",{"$f":"IF(IF($J96=0,\"\",IF(LEN('1-Award Info'!$G$4)=7,'1-Award Info'!$G$4&$B96&$C96&\"9\"&$E96&RIGHT($D96,3),'1-Award Info'!$G$4&$C96&\"9\"&W$17&RIGHT($D96,3)))=\"\",\"BLANK\",IF($J96=0,\"\",IF(LEN('1-Award Info'!$G$4)=7,'1-Award Info'!$G$4&$B96&$C96&\"9\"&$E96&RIGHT($D96,3),'1-Award Info'!$G$4&$C96&\"9\"&$E96&RIGHT($D96,3))))","v":"BLANK"},0,0,null,"00000",{"$f":"COUNTIF(DK$17:DK96,1)","v":0},{"$f":"IF(DL96=\"BLANk\",0,COUNTIF(DL$17:DL96,DL96))","v":0},"BLANK",null,{"$f":"$DN$14+COUNTIF(DQ$17:DQ96,\"<>BLANK\")","v":0},{"$f":"COUNTA(DO$17:DO95)+1&\"0001\"","v":"800001"},"BLANK","BLANK",0,0,{"$f":"\"20\"&RIGHT(Tables!$E$7,2)","v":"2023"},null,80,{"$f":"\"00\"&'1-Award Info'!$G$6","v":"00"},"","",1,"",{"$f":"IFERROR(\nIF(VLOOKUP(\"FY\"&RIGHT($EA96,2),'1-Award Info'!$F$28:$G$32,2,0)=0,\n     1,\n     VLOOKUP(\"FY\"&RIGHT($EA96,2),'1-Award Info'!$F$28:$G$32,2,0)),1)","v":1},"",null,""]
[null,null,null,null,null,null,null,null,null,null,0,null,null,null,null,null,null,null,null,"100081",{"$f":"COUNTIF(V$17:$V97,1)","v":1},{"$f":"COUNTIF(W$17:$W97,W97)","v":81},{"$f":"IF($K97=0,\"\",IF(LEN('1-Award Info'!$G$4)=7,'1-Award Info'!$G$4&$B97&$C97,'1-Award Info'!$G$4&$C97))","v":""},null,{"$f":"COUNTA(Y$17:Y96)+1&\"0001\"","v":"810001"},"",null,"100081",{"$f":"COUNTIF($AD$17:AD97,AD97)","v":1},{"$f":"COUNTIF($AE$17:AE97,AE97)","v":81},"",null,{"$f":"COUNTA(AG$17:AG96)+1&\"0001\"","v":"810001"},"",null,"BLANK",{"$f":"IF(IF($F97=0,\"\",IF(LEN('1-Award Info'!$G$4)=7,'1-Award Info'!$G$4&$B97&$C97&\"9\"&E97&RIGHT($D97,3),'1-Award Info'!$G$4&$C97&\"9\"&E97&RIGHT($D97,3)))=\"\",\"BLANK\",IF($F97=0,\"\",IF(LEN('1-Award Info'!$G$4)=7,'1-Award Info'!$G$4&$B97&$C97&\"9\"&E97&RIGHT($D97,3),'1-Award Info'!$G$4&$C97&\"9\"&E97&RIGHT($D97,3))))","v":"BLANK"},0,0,null,"00000",{"$f":"COUNTIF(AQ$17:AQ97,1)","v":0},{"$f":"IF(AR97=\"BLANK\",0,COUNTIF(AR$17:AR97,AR97))","v":0},"BLANK",null,{"$f":"$AT$14+COUNTIF(AV$17:AV97,\"<>BLANK\")","v":0},{"$f":"COUNTA(AU$17:AU96)+1&\"0001\"","v":"810001"},"BLANK","BLANK",0,0,{"$f":"\"20\"&RIGHT(Tables!$E$3,2)","v":"2019"},null,"BLANK",{"$f":"IF(IF($G97=0,\"\",IF(LEN('1-Award Info'!$G$4)=7,'1-Award Info'!$G$4&$B97&$C97&\"9\"&E97&RIGHT($D97,3),'1-Award Info'!$G$4&$C97&\"9\"&E97&RIGHT($D97,3)))=\"\",\"BLANK\",IF($G97=0,\"\",IF(LEN('1-Award Info'!$G$4)=7,'1-Award Info'!$G$4&$B97&$C97&\"9\"&E97&RIGHT($D97,3),'1-Award Info'!$G$4&$C97&\"9\"&E97&RIGHT($D97,3))))","v":"BLANK"},0,0,null,"00000",{"$f":"COUNTIF(BI$17:BI97,1)","v":0},{"$f":"IF(BJ97=\"BLANk\",0,COUNTIF(BJ$17:BJ97,BJ97))","v":0},"BLANK",null,{"$f":"$BL$14+COUNTIF(BO$17:BO97,\"<>BLANK\")","v":0},{"$f":"COUNTA(BM$17:BM96)+1&\"0001\"","v":"810001"},"BLANK","BLANK",0,6,{"$f":"\"20\"&RIGHT(Tables!$E$4,2)","v":"2020"},null,"BLANK",{"$f":"IF(IF($H97=0,\"\",IF(LEN('1-Award Info'!$G$4)=7,'1-Award Info'!$G$4&$B97&$C97&\"9\"&E97&RIGHT($D97,3),'1-Award Info'!$G$4&$C97&\"9\"&E97&RIGHT($D97,3)))=\"\",\"BLANK\",IF($H97=0,\"\",IF(LEN('1-Award Info'!$G$4)=7,'1-Award Info'!$G$4&$B97&$C97&\"9\"&E97&RIGHT($D97,3),'1-Award Info'!$G$4&$C97&\"9\"&E97&RIGHT($D97,3))))","v":"BLANK"},0,0,null,"00000",{"$f":"COUNTIF(CA$17:CA97,1)","v":0},{"$f":"IF(CB97=\"BLANk\",0,COUNTIF(CB$17:CB97,CB97))","v":0},"BLANK",null,{"$f":"$CD$14+COUNTIF(CG$17:CG97,\"<>BLANK\")","v":0},{"$f":"COUNTA(CE$17:CE96)+1&\"0001\"","v":"810001"},"BLANK","BLANK",0,0,{"$f":"\"20\"&RIGHT(Tables!$E$5,2)","v":"2021"},null,"BLANK",{"$f":"IF(IF($I97=0,\"\",IF(LEN('1-Award Info'!$G$4)=7,'1-Award Info'!$G$4&$B97&$C97&\"9\"&$E97&RIGHT($D97,3),'1-Award Info'!$G$4&$C97&\"9\"&E$17&RIGHT($D97,3)))=\"\",\"BLANK\",IF($I97=0,\"\",IF(LEN('1-Award Info'!$G$4)=7,'1-Award Info'!$G$4&$B97&$C97&\"9\"&$E97&RIGHT($D97,3),'1-Award Info'!$G$4&$C97&\"9\"&$E97&RIGHT($D97,3))))","v":"BLANK"},0,0,null,"00000",{"$f":"COUNTIF(CS$17:CS97,1)","v":0},{"$f":"IF(CT97=\"BLANk\",0,COUNTIF(CT$17:CT97,CT97))","v":0},"BLANK",null,{"$f":"$CV$14+COUNTIF(CY$17:CY97,\"<>BLANK\")","v":0},{"$f":"COUNTA(CW$17:CW96)+1&\"0001\"","v":"810001"},"BLANK","BLANK",0,0,{"$f":"\"20\"&RIGHT(Tables!$E$6,2)","v":"2022"},null,"BLANK",{"$f":"IF(IF($J97=0,\"\",IF(LEN('1-Award Info'!$G$4)=7,'1-Award Info'!$G$4&$B97&$C97&\"9\"&$E97&RIGHT($D97,3),'1-Award Info'!$G$4&$C97&\"9\"&W$17&RIGHT($D97,3)))=\"\",\"BLANK\",IF($J97=0,\"\",IF(LEN('1-Award Info'!$G$4)=7,'1-Award Info'!$G$4&$B97&$C97&\"9\"&$E97&RIGHT($D97,3),'1-Award Info'!$G$4&$C97&\"9\"&$E97&RIGHT($D97,3))))","v":"BLANK"},0,0,null,"00000",{"$f":"COUNTIF(DK$17:DK97,1)","v":0},{"$f":"IF(DL97=\"BLANk\",0,COUNTIF(DL$17:DL97,DL97))","v":0},"BLANK",null,{"$f":"$DN$14+COUNTIF(DQ$17:DQ97,\"<>BLANK\")","v":0},{"$f":"COUNTA(DO$17:DO96)+1&\"0001\"","v":"810001"},"BLANK","BLANK",0,0,{"$f":"\"20\"&RIGHT(Tables!$E$7,2)","v":"2023"},null,81,{"$f":"\"00\"&'1-Award Info'!$G$6","v":"00"},"","",1,"",{"$f":"IFERROR(\nIF(VLOOKUP(\"FY\"&RIGHT($EA97,2),'1-Award Info'!$F$28:$G$32,2,0)=0,\n     1,\n     VLOOKUP(\"FY\"&RIGHT($EA97,2),'1-Award Info'!$F$28:$G$32,2,0)),1)","v":1},"",null,""]
[null,null,null,null,null,null,null,null,null,null,0,null,null,null,null,null,null,null,null,"100082",{"$f":"COUNTIF(V$17:$V98,1)","v":1},{"$f":"COUNTIF(W$17:$W98,W98)","v":82},{"$f":"IF($K98=0,\"\",IF(LEN('1-Award Info'!$G$4)=7,'1-Award Info'!$G$4&$B98&$C98,'1-Award Info'!$G$4&$C98))","v":""},null,{"$f":"COUNTA(Y$17:Y97)+1&\"0001\"","v":"820001"},"",null,"100082",{"$f":"COUNTIF($AD$17:AD98,AD98)","v":1},{"$f":"COUNTIF($AE$17:AE98,AE98)","v":82},"",null,{"$f":"COUNTA(AG$17:AG97)+1&\"0001\"","v":"820001"},"",null,"BLANK",{"$f":"IF(IF($F98=0,\"\",IF(LEN('1-Award Info'!$G$4)=7,'1-Award Info'!$G$4&$B98&$C98&\"9\"&E98&RIGHT($D98,3),'1-Award Info'!$G$4&$C98&\"9\"&E98&RIGHT($D98,3)))=\"\",\"BLANK\",IF($F98=0,\"\",IF(LEN('1-Award Info'!$G$4)=7,'1-Award Info'!$G$4&$B98&$C98&\"9\"&E98&RIGHT($D98,3),'1-Award Info'!$G$4&$C98&\"9\"&E98&RIGHT($D98,3))))","v":"BLANK"},0,0,null,"00000",{"$f":"COUNTIF(AQ$17:AQ98,1)","v":0},{"$f":"IF(AR98=\"BLANK\",0,COUNTIF(AR$17:AR98,AR98))","v":0},"BLANK",null,{"$f":"$AT$14+COUNTIF(AV$17:AV98,\"<>BLANK\")","v":0},{"$f":"COUNTA(AU$17:AU97)+1&\"0001\"","v":"820001"},"BLANK","BLANK",0,0,{"$f":"\"20\"&RIGHT(Tables!$E$3,2)","v":"2019"},null,"BLANK",{"$f":"IF(IF($G98=0,\"\",IF(LEN('1-Award Info'!$G$4)=7,'1-Award Info'!$G$4&$B98&$C98&\"9\"&E98&RIGHT($D98,3),'1-Award Info'!$G$4&$C98&\"9\"&E98&RIGHT($D98,3)))=\"\",\"BLANK\",IF($G98=0,\"\",IF(LEN('1-Award Info'!$G$4)=7,'1-Award Info'!$G$4&$B98&$C98&\"9\"&E98&RIGHT($D98,3),'1-Award Info'!$G$4&$C98&\"9\"&E98&RIGHT($D98,3))))","v":"BLANK"},0,0,null,"00000",{"$f":"COUNTIF(BI$17:BI98,1)","v":0},{"$f":"IF(BJ98=\"BLANk\",0,COUNTIF(BJ$17:BJ98,BJ98))","v":0},"BLANK",null,{"$f":"$BL$14+COUNTIF(BO$17:BO98,\"<>BLANK\")","v":0},{"$f":"COUNTA(BM$17:BM97)+1&\"0001\"","v":"820001"},"BLANK","BLANK",0,6,{"$f":"\"20\"&RIGHT(Tables!$E$4,2)","v":"2020"},null,"BLANK",{"$f":"IF(IF($H98=0,\"\",IF(LEN('1-Award Info'!$G$4)=7,'1-Award Info'!$G$4&$B98&$C98&\"9\"&E98&RIGHT($D98,3),'1-Award Info'!$G$4&$C98&\"9\"&E98&RIGHT($D98,3)))=\"\",\"BLANK\",IF($H98=0,\"\",IF(LEN('1-Award Info'!$G$4)=7,'1-Award Info'!$G$4&$B98&$C98&\"9\"&E98&RIGHT($D98,3),'1-Award Info'!$G$4&$C98&\"9\"&E98&RIGHT($D98,3))))","v":"BLANK"},0,0,null,"00000",{"$f":"COUNTIF(CA$17:CA98,1)","v":0},{"$f":"IF(CB98=\"BLANk\",0,COUNTIF(CB$17:CB98,CB98))","v":0},"BLANK",null,{"$f":"$CD$14+COUNTIF(CG$17:CG98,\"<>BLANK\")","v":0},{"$f":"COUNTA(CE$17:CE97)+1&\"0001\"","v":"820001"},"BLANK","BLANK",0,0,{"$f":"\"20\"&RIGHT(Tables!$E$5,2)","v":"2021"},null,"BLANK",{"$f":"IF(IF($I98=0,\"\",IF(LEN('1-Award Info'!$G$4)=7,'1-Award Info'!$G$4&$B98&$C98&\"9\"&$E98&RIGHT($D98,3),'1-Award Info'!$G$4&$C98&\"9\"&E$17&RIGHT($D98,3)))=\"\",\"BLANK\",IF($I98=0,\"\",IF(LEN('1-Award Info'!$G$4)=7,'1-Award Info'!$G$4&$B98&$C98&\"9\"&$E98&RIGHT($D98,3),'1-Award Info'!$G$4&$C98&\"9\"&$E98&RIGHT($D98,3))))","v":"BLANK"},0,0,null,"00000",{"$f":"COUNTIF(CS$17:CS98,1)","v":0},{"$f":"IF(CT98=\"BLANk\",0,COUNTIF(CT$17:CT98,CT98))","v":0},"BLANK",null,{"$f":"$CV$14+COUNTIF(CY$17:CY98,\"<>BLANK\")","v":0},{"$f":"COUNTA(CW$17:CW97)+1&\"0001\"","v":"820001"},"BLANK","BLANK",0,0,{"$f":"\"20\"&RIGHT(Tables!$E$6,2)","v":"2022"},null,"BLANK",{"$f":"IF(IF($J98=0,\"\",IF(LEN('1-Award Info'!$G$4)=7,'1-Award Info'!$G$4&$B98&$C98&\"9\"&$E98&RIGHT($D98,3),'1-Award Info'!$G$4&$C98&\"9\"&W$17&RIGHT($D98,3)))=\"\",\"BLANK\",IF($J98=0,\"\",IF(LEN('1-Award Info'!$G$4)=7,'1-Award Info'!$G$4&$B98&$C98&\"9\"&$E98&RIGHT($D98,3),'1-Award Info'!$G$4&$C98&\"9\"&$E98&RIGHT($D98,3))))","v":"BLANK"},0,0,null,"00000",{"$f":"COUNTIF(DK$17:DK98,1)","v":0},{"$f":"IF(DL98=\"BLANk\",0,COUNTIF(DL$17:DL98,DL98))","v":0},"BLANK",null,{"$f":"$DN$14+COUNTIF(DQ$17:DQ98,\"<>BLANK\")","v":0},{"$f":"COUNTA(DO$17:DO97)+1&\"0001\"","v":"820001"},"BLANK","BLANK",0,0,{"$f":"\"20\"&RIGHT(Tables!$E$7,2)","v":"2023"},null,82,{"$f":"\"00\"&'1-Award Info'!$G$6","v":"00"},"","",1,"",{"$f":"IFERROR(\nIF(VLOOKUP(\"FY\"&RIGHT($EA98,2),'1-Award Info'!$F$28:$G$32,2,0)=0,\n     1,\n     VLOOKUP(\"FY\"&RIGHT($EA98,2),'1-Award Info'!$F$28:$G$32,2,0)),1)","v":1},"",null,""]
[null,null,null,null,null,null,null,null,null,null,0,null,null,null,null,null,null,null,null,"100083",{"$f":"COUNTIF(V$17:$V99,1)","v":1},{"$f":"COUNTIF(W$17:$W99,W99)","v":83},{"$f":"IF($K99=0,\"\",IF(LEN('1-Award Info'!$G$4)=7,'1-Award Info'!$G$4&$B99&$C99,'1-Award Info'!$G$4&$C99))","v":""},null,{"$f":"COUNTA(Y$17:Y98)+1&\"0001\"","v":"830001"},"",null,"100083",{"$f":"COUNTIF($AD$17:AD99,AD99)","v":1},{"$f":"COUNTIF($AE$17:AE99,AE99)","v":83},"",null,{"$f":"COUNTA(AG$17:AG98)+1&\"0001\"","v":"830001"},"",null,"BLANK",{"$f":"IF(IF($F99=0,\"\",IF(LEN('1-Award Info'!$G$4)=7,'1-Award Info'!$G$4&$B99&$C99&\"9\"&E99&RIGHT($D99,3),'1-Award Info'!$G$4&$C99&\"9\"&E99&RIGHT($D99,3)))=\"\",\"BLANK\",IF($F99=0,\"\",IF(LEN('1-Award Info'!$G$4)=7,'1-Award Info'!$G$4&$B99&$C99&\"9\"&E99&RIGHT($D99,3),'1-Award Info'!$G$4&$C99&\"9\"&E99&RIGHT($D99,3))))","v":"BLANK"},0,0,null,"00000",{"$f":"COUNTIF(AQ$17:AQ99,1)","v":0},{"$f":"IF(AR99=\"BLANK\",0,COUNTIF(AR$17:AR99,AR99))","v":0},"BLANK",null,{"$f":"$AT$14+COUNTIF(AV$17:AV99,\"<>BLANK\")","v":0},{"$f":"COUNTA(AU$17:AU98)+1&\"0001\"","v":"830001"},"BLANK","BLANK",0,0,{"$f":"\"20\"&RIGHT(Tables!$E$3,2)","v":"2019"},null,"BLANK",{"$f":"IF(IF($G99=0,\"\",IF(LEN('1-Award Info'!$G$4)=7,'1-Award Info'!$G$4&$B99&$C99&\"9\"&E99&RIGHT($D99,3),'1-Award Info'!$G$4&$C99&\"9\"&E99&RIGHT($D99,3)))=\"\",\"BLANK\",IF($G99=0,\"\",IF(LEN('1-Award Info'!$G$4)=7,'1-Award Info'!$G$4&$B99&$C99&\"9\"&E99&RIGHT($D99,3),'1-Award Info'!$G$4&$C99&\"9\"&E99&RIGHT($D99,3))))","v":"BLANK"},0,0,null,"00000",{"$f":"COUNTIF(BI$17:BI99,1)","v":0},{"$f":"IF(BJ99=\"BLANk\",0,COUNTIF(BJ$17:BJ99,BJ99))","v":0},"BLANK",null,{"$f":"$BL$14+COUNTIF(BO$17:BO99,\"<>BLANK\")","v":0},{"$f":"COUNTA(BM$17:BM98)+1&\"0001\"","v":"830001"},"BLANK","BLANK",0,6,{"$f":"\"20\"&RIGHT(Tables!$E$4,2)","v":"2020"},null,"BLANK",{"$f":"IF(IF($H99=0,\"\",IF(LEN('1-Award Info'!$G$4)=7,'1-Award Info'!$G$4&$B99&$C99&\"9\"&E99&RIGHT($D99,3),'1-Award Info'!$G$4&$C99&\"9\"&E99&RIGHT($D99,3)))=\"\",\"BLANK\",IF($H99=0,\"\",IF(LEN('1-Award Info'!$G$4)=7,'1-Award Info'!$G$4&$B99&$C99&\"9\"&E99&RIGHT($D99,3),'1-Award Info'!$G$4&$C99&\"9\"&E99&RIGHT($D99,3))))","v":"BLANK"},0,0,null,"00000",{"$f":"COUNTIF(CA$17:CA99,1)","v":0},{"$f":"IF(CB99=\"BLANk\",0,COUNTIF(CB$17:CB99,CB99))","v":0},"BLANK",null,{"$f":"$CD$14+COUNTIF(CG$17:CG99,\"<>BLANK\")","v":0},{"$f":"COUNTA(CE$17:CE98)+1&\"0001\"","v":"830001"},"BLANK","BLANK",0,0,{"$f":"\"20\"&RIGHT(Tables!$E$5,2)","v":"2021"},null,"BLANK",{"$f":"IF(IF($I99=0,\"\",IF(LEN('1-Award Info'!$G$4)=7,'1-Award Info'!$G$4&$B99&$C99&\"9\"&$E99&RIGHT($D99,3),'1-Award Info'!$G$4&$C99&\"9\"&E$17&RIGHT($D99,3)))=\"\",\"BLANK\",IF($I99=0,\"\",IF(LEN('1-Award Info'!$G$4)=7,'1-Award Info'!$G$4&$B99&$C99&\"9\"&$E99&RIGHT($D99,3),'1-Award Info'!$G$4&$C99&\"9\"&$E99&RIGHT($D99,3))))","v":"BLANK"},0,0,null,"00000",{"$f":"COUNTIF(CS$17:CS99,1)","v":0},{"$f":"IF(CT99=\"BLANk\",0,COUNTIF(CT$17:CT99,CT99))","v":0},"BLANK",null,{"$f":"$CV$14+COUNTIF(CY$17:CY99,\"<>BLANK\")","v":0},{"$f":"COUNTA(CW$17:CW98)+1&\"0001\"","v":"830001"},"BLANK","BLANK",0,0,{"$f":"\"20\"&RIGHT(Tables!$E$6,2)","v":"2022"},null,"BLANK",{"$f":"IF(IF($J99=0,\"\",IF(LEN('1-Award Info'!$G$4)=7,'1-Award Info'!$G$4&$B99&$C99&\"9\"&$E99&RIGHT($D99,3),'1-Award Info'!$G$4&$C99&\"9\"&W$17&RIGHT($D99,3)))=\"\",\"BLANK\",IF($J99=0,\"\",IF(LEN('1-Award Info'!$G$4)=7,'1-Award Info'!$G$4&$B99&$C99&\"9\"&$E99&RIGHT($D99,3),'1-Award Info'!$G$4&$C99&\"9\"&$E99&RIGHT($D99,3))))","v":"BLANK"},0,0,null,"00000",{"$f":"COUNTIF(DK$17:DK99,1)","v":0},{"$f":"IF(DL99=\"BLANk\",0,COUNTIF(DL$17:DL99,DL99))","v":0},"BLANK",null,{"$f":"$DN$14+COUNTIF(DQ$17:DQ99,\"<>BLANK\")","v":0},{"$f":"COUNTA(DO$17:DO98)+1&\"0001\"","v":"830001"},"BLANK","BLANK",0,0,{"$f":"\"20\"&RIGHT(Tables!$E$7,2)","v":"2023"},null,83,{"$f":"\"00\"&'1-Award Info'!$G$6","v":"00"},"","",1,"",{"$f":"IFERROR(\nIF(VLOOKUP(\"FY\"&RIGHT($EA99,2),'1-Award Info'!$F$28:$G$32,2,0)=0,\n     1,\n     VLOOKUP(\"FY\"&RIGHT($EA99,2),'1-Award Info'!$F$28:$G$32,2,0)),1)","v":1},"",null,""]
[null,null,null,null,null,null,null,null,null,null,0,null,null,null,null,null,null,null,null,"100084",{"$f":"COUNTIF(V$17:$V100,1)","v":1},{"$f":"COUNTIF(W$17:$W100,W100)","v":84},{"$f":"IF($K100=0,\"\",IF(LEN('1-Award Info'!$G$4)=7,'1-Award Info'!$G$4&$B100&$C100,'1-Award Info'!$G$4&$C100))","v":""},null,{"$f":"COUNTA(Y$17:Y99)+1&\"0001\"","v":"840001"},"",null,"100084",{"$f":"COUNTIF($AD$17:AD100,AD100)","v":1},{"$f":"COUNTIF($AE$17:AE100,AE100)","v":84},"",null,{"$f":"COUNTA(AG$17:AG99)+1&\"0001\"","v":"840001"},"",null,"BLANK",{"$f":"IF(IF($F100=0,\"\",IF(LEN('1-Award Info'!$G$4)=7,'1-Award Info'!$G$4&$B100&$C100&\"9\"&E100&RIGHT($D100,3),'1-Award Info'!$G$4&$C100&\"9\"&E100&RIGHT($D100,3)))=\"\",\"BLANK\",IF($F100=0,\"\",IF(LEN('1-Award Info'!$G$4)=7,'1-Award Info'!$G$4&$B100&$C100&\"9\"&E100&RIGHT($D100,3),'1-Award Info'!$G$4&$C100&\"9\"&E100&RIGHT($D100,3))))","v":"BLANK"},0,0,null,"00000",{"$f":"COUNTIF(AQ$17:AQ100,1)","v":0},{"$f":"IF(AR100=\"BLANK\",0,COUNTIF(AR$17:AR100,AR100))","v":0},"BLANK",null,{"$f":"$AT$14+COUNTIF(AV$17:AV100,\"<>BLANK\")","v":0},{"$f":"COUNTA(AU$17:AU99)+1&\"0001\"","v":"840001"},"BLANK","BLANK",0,0,{"$f":"\"20\"&RIGHT(Tables!$E$3,2)","v":"2019"},null,"BLANK",{"$f":"IF(IF($G100=0,\"\",IF(LEN('1-Award Info'!$G$4)=7,'1-Award Info'!$G$4&$B100&$C100&\"9\"&E100&RIGHT($D100,3),'1-Award Info'!$G$4&$C100&\"9\"&E100&RIGHT($D100,3)))=\"\",\"BLANK\",IF($G100=0,\"\",IF(LEN('1-Award Info'!$G$4)=7,'1-Award Info'!$G$4&$B100&$C100&\"9\"&E100&RIGHT($D100,3),'1-Award Info'!$G$4&$C100&\"9\"&E100&RIGHT($D100,3))))","v":"BLANK"},0,0,null,"00000",{"$f":"COUNTIF(BI$17:BI100,1)","v":0},{"$f":"IF(BJ100=\"BLANk\",0,COUNTIF(BJ$17:BJ100,BJ100))","v":0},"BLANK",null,{"$f":"$BL$14+COUNTIF(BO$17:BO100,\"<>BLANK\")","v":0},{"$f":"COUNTA(BM$17:BM99)+1&\"0001\"","v":"840001"},"BLANK","BLANK",0,6,{"$f":"\"20\"&RIGHT(Tables!$E$4,2)","v":"2020"},null,"BLANK",{"$f":"IF(IF($H100=0,\"\",IF(LEN('1-Award Info'!$G$4)=7,'1-Award Info'!$G$4&$B100&$C100&\"9\"&E100&RIGHT($D100,3),'1-Award Info'!$G$4&$C100&\"9\"&E100&RIGHT($D100,3)))=\"\",\"BLANK\",IF($H100=0,\"\",IF(LEN('1-Award Info'!$G$4)=7,'1-Award Info'!$G$4&$B100&$C100&\"9\"&E100&RIGHT($D100,3),'1-Award Info'!$G$4&$C100&\"9\"&E100&RIGHT($D100,3))))","v":"BLANK"},0,0,null,"00000",{"$f":"COUNTIF(CA$17:CA100,1)","v":0},{"$f":"IF(CB100=\"BLANk\",0,COUNTIF(CB$17:CB100,CB100))","v":0},"BLANK",null,{"$f":"$CD$14+COUNTIF(CG$17:CG100,\"<>BLANK\")","v":0},{"$f":"COUNTA(CE$17:CE99)+1&\"0001\"","v":"840001"},"BLANK","BLANK",0,0,{"$f":"\"20\"&RIGHT(Tables!$E$5,2)","v":"2021"},null,"BLANK",{"$f":"IF(IF($I100=0,\"\",IF(LEN('1-Award Info'!$G$4)=7,'1-Award Info'!$G$4&$B100&$C100&\"9\"&$E100&RIGHT($D100,3),'1-Award Info'!$G$4&$C100&\"9\"&E$17&RIGHT($D100,3)))=\"\",\"BLANK\",IF($I100=0,\"\",IF(LEN('1-Award Info'!$G$4)=7,'1-Award Info'!$G$4&$B100&$C100&\"9\"&$E100&RIGHT($D100,3),'1-Award Info'!$G$4&$C100&\"9\"&$E100&RIGHT($D100,3))))","v":"BLANK"},0,0,null,"00000",{"$f":"COUNTIF(CS$17:CS100,1)","v":0},{"$f":"IF(CT100=\"BLANk\",0,COUNTIF(CT$17:CT100,CT100))","v":0},"BLANK",null,{"$f":"$CV$14+COUNTIF(CY$17:CY100,\"<>BLANK\")","v":0},{"$f":"COUNTA(CW$17:CW99)+1&\"0001\"","v":"840001"},"BLANK","BLANK",0,0,{"$f":"\"20\"&RIGHT(Tables!$E$6,2)","v":"2022"},null,"BLANK",{"$f":"IF(IF($J100=0,\"\",IF(LEN('1-Award Info'!$G$4)=7,'1-Award Info'!$G$4&$B100&$C100&\"9\"&$E100&RIGHT($D100,3),'1-Award Info'!$G$4&$C100&\"9\"&W$17&RIGHT($D100,3)))=\"\",\"BLANK\",IF($J100=0,\"\",IF(LEN('1-Award Info'!$G$4)=7,'1-Award Info'!$G$4&$B100&$C100&\"9\"&$E100&RIGHT($D100,3),'1-Award Info'!$G$4&$C100&\"9\"&$E100&RIGHT($D100,3))))","v":"BLANK"},0,0,null,"00000",{"$f":"COUNTIF(DK$17:DK100,1)","v":0},{"$f":"IF(DL100=\"BLANk\",0,COUNTIF(DL$17:DL100,DL100))","v":0},"BLANK",null,{"$f":"$DN$14+COUNTIF(DQ$17:DQ100,\"<>BLANK\")","v":0},{"$f":"COUNTA(DO$17:DO99)+1&\"0001\"","v":"840001"},"BLANK","BLANK",0,0,{"$f":"\"20\"&RIGHT(Tables!$E$7,2)","v":"2023"},null,84,{"$f":"\"00\"&'1-Award Info'!$G$6","v":"00"},"","",1,"",{"$f":"IFERROR(\nIF(VLOOKUP(\"FY\"&RIGHT($EA100,2),'1-Award Info'!$F$28:$G$32,2,0)=0,\n     1,\n     VLOOKUP(\"FY\"&RIGHT($EA100,2),'1-Award Info'!$F$28:$G$32,2,0)),1)","v":1},"",null,""]
[null,null,null,null,null,null,null,null,null,null,0,null,null,null,null,null,null,null,null,"100085",{"$f":"COUNTIF(V$17:$V101,1)","v":1},{"$f":"COUNTIF(W$17:$W101,W101)","v":85},{"$f":"IF($K101=0,\"\",IF(LEN('1-Award Info'!$G$4)=7,'1-Award Info'!$G$4&$B101&$C101,'1-Award Info'!$G$4&$C101))","v":""},null,{"$f":"COUNTA(Y$17:Y100)+1&\"0001\"","v":"850001"},"",null,"100085",{"$f":"COUNTIF($AD$17:AD101,AD101)","v":1},{"$f":"COUNTIF($AE$17:AE101,AE101)","v":85},"",null,{"$f":"COUNTA(AG$17:AG100)+1&\"0001\"","v":"850001"},"",null,"BLANK",{"$f":"IF(IF($F101=0,\"\",IF(LEN('1-Award Info'!$G$4)=7,'1-Award Info'!$G$4&$B101&$C101&\"9\"&E101&RIGHT($D101,3),'1-Award Info'!$G$4&$C101&\"9\"&E101&RIGHT($D101,3)))=\"\",\"BLANK\",IF($F101=0,\"\",IF(LEN('1-Award Info'!$G$4)=7,'1-Award Info'!$G$4&$B101&$C101&\"9\"&E101&RIGHT($D101,3),'1-Award Info'!$G$4&$C101&\"9\"&E101&RIGHT($D101,3))))","v":"BLANK"},0,0,null,"00000",{"$f":"COUNTIF(AQ$17:AQ101,1)","v":0},{"$f":"IF(AR101=\"BLANK\",0,COUNTIF(AR$17:AR101,AR101))","v":0},"BLANK",null,{"$f":"$AT$14+COUNTIF(AV$17:AV101,\"<>BLANK\")","v":0},{"$f":"COUNTA(AU$17:AU100)+1&\"0001\"","v":"850001"},"BLANK","BLANK",0,0,{"$f":"\"20\"&RIGHT(Tables!$E$3,2)","v":"2019"},null,"BLANK",{"$f":"IF(IF($G101=0,\"\",IF(LEN('1-Award Info'!$G$4)=7,'1-Award Info'!$G$4&$B101&$C101&\"9\"&E101&RIGHT($D101,3),'1-Award Info'!$G$4&$C101&\"9\"&E101&RIGHT($D101,3)))=\"\",\"BLANK\",IF($G101=0,\"\",IF(LEN('1-Award Info'!$G$4)=7,'1-Award Info'!$G$4&$B101&$C101&\"9\"&E101&RIGHT($D101,3),'1-Award Info'!$G$4&$C101&\"9\"&E101&RIGHT($D101,3))))","v":"BLANK"},0,0,null,"00000",{"$f":"COUNTIF(BI$17:BI101,1)","v":0},{"$f":"IF(BJ101=\"BLANk\",0,COUNTIF(BJ$17:BJ101,BJ101))","v":0},"BLANK",null,{"$f":"$BL$14+COUNTIF(BO$17:BO101,\"<>BLANK\")","v":0},{"$f":"COUNTA(BM$17:BM100)+1&\"0001\"","v":"850001"},"BLANK","BLANK",0,6,{"$f":"\"20\"&RIGHT(Tables!$E$4,2)","v":"2020"},null,"BLANK",{"$f":"IF(IF($H101=0,\"\",IF(LEN('1-Award Info'!$G$4)=7,'1-Award Info'!$G$4&$B101&$C101&\"9\"&E101&RIGHT($D101,3),'1-Award Info'!$G$4&$C101&\"9\"&E101&RIGHT($D101,3)))=\"\",\"BLANK\",IF($H101=0,\"\",IF(LEN('1-Award Info'!$G$4)=7,'1-Award Info'!$G$4&$B101&$C101&\"9\"&E101&RIGHT($D101,3),'1-Award Info'!$G$4&$C101&\"9\"&E101&RIGHT($D101,3))))","v":"BLANK"},0,0,null,"00000",{"$f":"COUNTIF(CA$17:CA101,1)","v":0},{"$f":"IF(CB101=\"BLANk\",0,COUNTIF(CB$17:CB101,CB101))","v":0},"BLANK",null,{"$f":"$CD$14+COUNTIF(CG$17:CG101,\"<>BLANK\")","v":0},{"$f":"COUNTA(CE$17:CE100)+1&\"0001\"","v":"850001"},"BLANK","BLANK",0,0,{"$f":"\"20\"&RIGHT(Tables!$E$5,2)","v":"2021"},null,"BLANK",{"$f":"IF(IF($I101=0,\"\",IF(LEN('1-Award Info'!$G$4)=7,'1-Award Info'!$G$4&$B101&$C101&\"9\"&$E101&RIGHT($D101,3),'1-Award Info'!$G$4&$C101&\"9\"&E$17&RIGHT($D101,3)))=\"\",\"BLANK\",IF($I101=0,\"\",IF(LEN('1-Award Info'!$G$4)=7,'1-Award Info'!$G$4&$B101&$C101&\"9\"&$E101&RIGHT($D101,3),'1-Award Info'!$G$4&$C101&\"9\"&$E101&RIGHT($D101,3))))","v":"BLANK"},0,0,null,"00000",{"$f":"COUNTIF(CS$17:CS101,1)","v":0},{"$f":"IF(CT101=\"BLANk\",0,COUNTIF(CT$17:CT101,CT101))","v":0},"BLANK",null,{"$f":"$CV$14+COUNTIF(CY$17:CY101,\"<>BLANK\")","v":0},{"$f":"COUNTA(CW$17:CW100)+1&\"0001\"","v":"850001"},"BLANK","BLANK",0,0,{"$f":"\"20\"&RIGHT(Tables!$E$6,2)","v":"2022"},null,"BLANK",{"$f":"IF(IF($J101=0,\"\",IF(LEN('1-Award Info'!$G$4)=7,'1-Award Info'!$G$4&$B101&$C101&\"9\"&$E101&RIGHT($D101,3),'1-Award Info'!$G$4&$C101&\"9\"&W$17&RIGHT($D101,3)))=\"\",\"BLANK\",IF($J101=0,\"\",IF(LEN('1-Award Info'!$G$4)=7,'1-Award Info'!$G$4&$B101&$C101&\"9\"&$E101&RIGHT($D101,3),'1-Award Info'!$G$4&$C101&\"9\"&$E101&RIGHT($D101,3))))","v":"BLANK"},0,0,null,"00000",{"$f":"COUNTIF(DK$17:DK101,1)","v":0},{"$f":"IF(DL101=\"BLANk\",0,COUNTIF(DL$17:DL101,DL101))","v":0},"BLANK",null,{"$f":"$DN$14+COUNTIF(DQ$17:DQ101,\"<>BLANK\")","v":0},{"$f":"COUNTA(DO$17:DO100)+1&\"0001\"","v":"850001"},"BLANK","BLANK",0,0,{"$f":"\"20\"&RIGHT(Tables!$E$7,2)","v":"2023"},null,85,{"$f":"\"00\"&'1-Award Info'!$G$6","v":"00"},"","",1,"",{"$f":"IFERROR(\nIF(VLOOKUP(\"FY\"&RIGHT($EA101,2),'1-Award Info'!$F$28:$G$32,2,0)=0,\n     1,\n     VLOOKUP(\"FY\"&RIGHT($EA101,2),'1-Award Info'!$F$28:$G$32,2,0)),1)","v":1},"",null,""]
[null,null,null,null,null,null,null,null,null,null,0,null,null,null,null,null,null,null,null,"100086",{"$f":"COUNTIF(V$17:$V102,1)","v":1},{"$f":"COUNTIF(W$17:$W102,W102)","v":86},{"$f":"IF($K102=0,\"\",IF(LEN('1-Award Info'!$G$4)=7,'1-Award Info'!$G$4&$B102&$C102,'1-Award Info'!$G$4&$C102))","v":""},null,{"$f":"COUNTA(Y$17:Y101)+1&\"0001\"","v":"860001"},"",null,"100086",{"$f":"COUNTIF($AD$17:AD102,AD102)","v":1},{"$f":"COUNTIF($AE$17:AE102,AE102)","v":86},"",null,{"$f":"COUNTA(AG$17:AG101)+1&\"0001\"","v":"860001"},"",null,"BLANK",{"$f":"IF(IF($F102=0,\"\",IF(LEN('1-Award Info'!$G$4)=7,'1-Award Info'!$G$4&$B102&$C102&\"9\"&E102&RIGHT($D102,3),'1-Award Info'!$G$4&$C102&\"9\"&E102&RIGHT($D102,3)))=\"\",\"BLANK\",IF($F102=0,\"\",IF(LEN('1-Award Info'!$G$4)=7,'1-Award Info'!$G$4&$B102&$C102&\"9\"&E102&RIGHT($D102,3),'1-Award Info'!$G$4&$C102&\"9\"&E102&RIGHT($D102,3))))","v":"BLANK"},0,0,null,"00000",{"$f":"COUNTIF(AQ$17:AQ102,1)","v":0},{"$f":"IF(AR102=\"BLANK\",0,COUNTIF(AR$17:AR102,AR102))","v":0},"BLANK",null,{"$f":"$AT$14+COUNTIF(AV$17:AV102,\"<>BLANK\")","v":0},{"$f":"COUNTA(AU$17:AU101)+1&\"0001\"","v":"860001"},"BLANK","BLANK",0,0,{"$f":"\"20\"&RIGHT(Tables!$E$3,2)","v":"2019"},null,"BLANK",{"$f":"IF(IF($G102=0,\"\",IF(LEN('1-Award Info'!$G$4)=7,'1-Award Info'!$G$4&$B102&$C102&\"9\"&E102&RIGHT($D102,3),'1-Award Info'!$G$4&$C102&\"9\"&E102&RIGHT($D102,3)))=\"\",\"BLANK\",IF($G102=0,\"\",IF(LEN('1-Award Info'!$G$4)=7,'1-Award Info'!$G$4&$B102&$C102&\"9\"&E102&RIGHT($D102,3),'1-Award Info'!$G$4&$C102&\"9\"&E102&RIGHT($D102,3))))","v":"BLANK"},0,0,null,"00000",{"$f":"COUNTIF(BI$17:BI102,1)","v":0},{"$f":"IF(BJ102=\"BLANk\",0,COUNTIF(BJ$17:BJ102,BJ102))","v":0},"BLANK",null,{"$f":"$BL$14+COUNTIF(BO$17:BO102,\"<>BLANK\")","v":0},{"$f":"COUNTA(BM$17:BM101)+1&\"0001\"","v":"860001"},"BLANK","BLANK",0,6,{"$f":"\"20\"&RIGHT(Tables!$E$4,2)","v":"2020"},null,"BLANK",{"$f":"IF(IF($H102=0,\"\",IF(LEN('1-Award Info'!$G$4)=7,'1-Award Info'!$G$4&$B102&$C102&\"9\"&E102&RIGHT($D102,3),'1-Award Info'!$G$4&$C102&\"9\"&E102&RIGHT($D102,3)))=\"\",\"BLANK\",IF($H102=0,\"\",IF(LEN('1-Award Info'!$G$4)=7,'1-Award Info'!$G$4&$B102&$C102&\"9\"&E102&RIGHT($D102,3),'1-Award Info'!$G$4&$C102&\"9\"&E102&RIGHT($D102,3))))","v":"BLANK"},0,0,null,"00000",{"$f":"COUNTIF(CA$17:CA102,1)","v":0},{"$f":"IF(CB102=\"BLANk\",0,COUNTIF(CB$17:CB102,CB102))","v":0},"BLANK",null,{"$f":"$CD$14+COUNTIF(CG$17:CG102,\"<>BLANK\")","v":0},{"$f":"COUNTA(CE$17:CE101)+1&\"0001\"","v":"860001"},"BLANK","BLANK",0,0,{"$f":"\"20\"&RIGHT(Tables!$E$5,2)","v":"2021"},null,"BLANK",{"$f":"IF(IF($I102=0,\"\",IF(LEN('1-Award Info'!$G$4)=7,'1-Award Info'!$G$4&$B102&$C102&\"9\"&$E102&RIGHT($D102,3),'1-Award Info'!$G$4&$C102&\"9\"&E$17&RIGHT($D102,3)))=\"\",\"BLANK\",IF($I102=0,\"\",IF(LEN('1-Award Info'!$G$4)=7,'1-Award Info'!$G$4&$B102&$C102&\"9\"&$E102&RIGHT($D102,3),'1-Award Info'!$G$4&$C102&\"9\"&$E102&RIGHT($D102,3))))","v":"BLANK"},0,0,null,"00000",{"$f":"COUNTIF(CS$17:CS102,1)","v":0},{"$f":"IF(CT102=\"BLANk\",0,COUNTIF(CT$17:CT102,CT102))","v":0},"BLANK",null,{"$f":"$CV$14+COUNTIF(CY$17:CY102,\"<>BLANK\")","v":0},{"$f":"COUNTA(CW$17:CW101)+1&\"0001\"","v":"860001"},"BLANK","BLANK",0,0,{"$f":"\"20\"&RIGHT(Tables!$E$6,2)","v":"2022"},null,"BLANK",{"$f":"IF(IF($J102=0,\"\",IF(LEN('1-Award Info'!$G$4)=7,'1-Award Info'!$G$4&$B102&$C102&\"9\"&$E102&RIGHT($D102,3),'1-Award Info'!$G$4&$C102&\"9\"&W$17&RIGHT($D102,3)))=\"\",\"BLANK\",IF($J102=0,\"\",IF(LEN('1-Award Info'!$G$4)=7,'1-Award Info'!$G$4&$B102&$C102&\"9\"&$E102&RIGHT($D102,3),'1-Award Info'!$G$4&$C102&\"9\"&$E102&RIGHT($D102,3))))","v":"BLANK"},0,0,null,"00000",{"$f":"COUNTIF(DK$17:DK102,1)","v":0},{"$f":"IF(DL102=\"BLANk\",0,COUNTIF(DL$17:DL102,DL102))","v":0},"BLANK",null,{"$f":"$DN$14+COUNTIF(DQ$17:DQ102,\"<>BLANK\")","v":0},{"$f":"COUNTA(DO$17:DO101)+1&\"0001\"","v":"860001"},"BLANK","BLANK",0,0,{"$f":"\"20\"&RIGHT(Tables!$E$7,2)","v":"2023"},null,86,{"$f":"\"00\"&'1-Award Info'!$G$6","v":"00"},"","",1,"",{"$f":"IFERROR(\nIF(VLOOKUP(\"FY\"&RIGHT($EA102,2),'1-Award Info'!$F$28:$G$32,2,0)=0,\n     1,\n     VLOOKUP(\"FY\"&RIGHT($EA102,2),'1-Award Info'!$F$28:$G$32,2,0)),1)","v":1},"",null,""]
[null,null,null,null,null,null,null,null,null,null,0,null,null,null,null,null,null,null,null,"100087",{"$f":"COUNTIF(V$17:$V103,1)","v":1},{"$f":"COUNTIF(W$17:$W103,W103)","v":87},{"$f":"IF($K103=0,\"\",IF(LEN('1-Award Info'!$G$4)=7,'1-Award Info'!$G$4&$B103&$C103,'1-Award Info'!$G$4&$C103))","v":""},null,{"$f":"COUNTA(Y$17:Y102)+1&\"0001\"","v":"870001"},"",null,"100087",{"$f":"COUNTIF($AD$17:AD103,AD103)","v":1},{"$f":"COUNTIF($AE$17:AE103,AE103)","v":87},"",null,{"$f":"COUNTA(AG$17:AG102)+1&\"0001\"","v":"870001"},"",null,"BLANK",{"$f":"IF(IF($F103=0,\"\",IF(LEN('1-Award Info'!$G$4)=7,'1-Award Info'!$G$4&$B103&$C103&\"9\"&E103&RIGHT($D103,3),'1-Award Info'!$G$4&$C103&\"9\"&E103&RIGHT($D103,3)))=\"\",\"BLANK\",IF($F103=0,\"\",IF(LEN('1-Award Info'!$G$4)=7,'1-Award Info'!$G$4&$B103&$C103&\"9\"&E103&RIGHT($D103,3),'1-Award Info'!$G$4&$C103&\"9\"&E103&RIGHT($D103,3))))","v":"BLANK"},0,0,null,"00000",{"$f":"COUNTIF(AQ$17:AQ103,1)","v":0},{"$f":"IF(AR103=\"BLANK\",0,COUNTIF(AR$17:AR103,AR103))","v":0},"BLANK",null,{"$f":"$AT$14+COUNTIF(AV$17:AV103,\"<>BLANK\")","v":0},{"$f":"COUNTA(AU$17:AU102)+1&\"0001\"","v":"870001"},"BLANK","BLANK",0,0,{"$f":"\"20\"&RIGHT(Tables!$E$3,2)","v":"2019"},null,"BLANK",{"$f":"IF(IF($G103=0,\"\",IF(LEN('1-Award Info'!$G$4)=7,'1-Award Info'!$G$4&$B103&$C103&\"9\"&E103&RIGHT($D103,3),'1-Award Info'!$G$4&$C103&\"9\"&E103&RIGHT($D103,3)))=\"\",\"BLANK\",IF($G103=0,\"\",IF(LEN('1-Award Info'!$G$4)=7,'1-Award Info'!$G$4&$B103&$C103&\"9\"&E103&RIGHT($D103,3),'1-Award Info'!$G$4&$C103&\"9\"&E103&RIGHT($D103,3))))","v":"BLANK"},0,0,null,"00000",{"$f":"COUNTIF(BI$17:BI103,1)","v":0},{"$f":"IF(BJ103=\"BLANk\",0,COUNTIF(BJ$17:BJ103,BJ103))","v":0},"BLANK",null,{"$f":"$BL$14+COUNTIF(BO$17:BO103,\"<>BLANK\")","v":0},{"$f":"COUNTA(BM$17:BM102)+1&\"0001\"","v":"870001"},"BLANK","BLANK",0,6,{"$f":"\"20\"&RIGHT(Tables!$E$4,2)","v":"2020"},null,"BLANK",{"$f":"IF(IF($H103=0,\"\",IF(LEN('1-Award Info'!$G$4)=7,'1-Award Info'!$G$4&$B103&$C103&\"9\"&E103&RIGHT($D103,3),'1-Award Info'!$G$4&$C103&\"9\"&E103&RIGHT($D103,3)))=\"\",\"BLANK\",IF($H103=0,\"\",IF(LEN('1-Award Info'!$G$4)=7,'1-Award Info'!$G$4&$B103&$C103&\"9\"&E103&RIGHT($D103,3),'1-Award Info'!$G$4&$C103&\"9\"&E103&RIGHT($D103,3))))","v":"BLANK"},0,0,null,"00000",{"$f":"COUNTIF(CA$17:CA103,1)","v":0},{"$f":"IF(CB103=\"BLANk\",0,COUNTIF(CB$17:CB103,CB103))","v":0},"BLANK",null,{"$f":"$CD$14+COUNTIF(CG$17:CG103,\"<>BLANK\")","v":0},{"$f":"COUNTA(CE$17:CE102)+1&\"0001\"","v":"870001"},"BLANK","BLANK",0,0,{"$f":"\"20\"&RIGHT(Tables!$E$5,2)","v":"2021"},null,"BLANK",{"$f":"IF(IF($I103=0,\"\",IF(LEN('1-Award Info'!$G$4)=7,'1-Award Info'!$G$4&$B103&$C103&\"9\"&$E103&RIGHT($D103,3),'1-Award Info'!$G$4&$C103&\"9\"&E$17&RIGHT($D103,3)))=\"\",\"BLANK\",IF($I103=0,\"\",IF(LEN('1-Award Info'!$G$4)=7,'1-Award Info'!$G$4&$B103&$C103&\"9\"&$E103&RIGHT($D103,3),'1-Award Info'!$G$4&$C103&\"9\"&$E103&RIGHT($D103,3))))","v":"BLANK"},0,0,null,"00000",{"$f":"COUNTIF(CS$17:CS103,1)","v":0},{"$f":"IF(CT103=\"BLANk\",0,COUNTIF(CT$17:CT103,CT103))","v":0},"BLANK",null,{"$f":"$CV$14+COUNTIF(CY$17:CY103,\"<>BLANK\")","v":0},{"$f":"COUNTA(CW$17:CW102)+1&\"0001\"","v":"870001"},"BLANK","BLANK",0,0,{"$f":"\"20\"&RIGHT(Tables!$E$6,2)","v":"2022"},null,"BLANK",{"$f":"IF(IF($J103=0,\"\",IF(LEN('1-Award Info'!$G$4)=7,'1-Award Info'!$G$4&$B103&$C103&\"9\"&$E103&RIGHT($D103,3),'1-Award Info'!$G$4&$C103&\"9\"&W$17&RIGHT($D103,3)))=\"\",\"BLANK\",IF($J103=0,\"\",IF(LEN('1-Award Info'!$G$4)=7,'1-Award Info'!$G$4&$B103&$C103&\"9\"&$E103&RIGHT($D103,3),'1-Award Info'!$G$4&$C103&\"9\"&$E103&RIGHT($D103,3))))","v":"BLANK"},0,0,null,"00000",{"$f":"COUNTIF(DK$17:DK103,1)","v":0},{"$f":"IF(DL103=\"BLANk\",0,COUNTIF(DL$17:DL103,DL103))","v":0},"BLANK",null,{"$f":"$DN$14+COUNTIF(DQ$17:DQ103,\"<>BLANK\")","v":0},{"$f":"COUNTA(DO$17:DO102)+1&\"0001\"","v":"870001"},"BLANK","BLANK",0,0,{"$f":"\"20\"&RIGHT(Tables!$E$7,2)","v":"2023"},null,87,{"$f":"\"00\"&'1-Award Info'!$G$6","v":"00"},"","",1,"",{"$f":"IFERROR(\nIF(VLOOKUP(\"FY\"&RIGHT($EA103,2),'1-Award Info'!$F$28:$G$32,2,0)=0,\n     1,\n     VLOOKUP(\"FY\"&RIGHT($EA103,2),'1-Award Info'!$F$28:$G$32,2,0)),1)","v":1},"",null,""]
[null,null,null,null,null,null,null,null,null,null,0,null,null,null,null,null,null,null,null,"100088",{"$f":"COUNTIF(V$17:$V104,1)","v":1},{"$f":"COUNTIF(W$17:$W104,W104)","v":88},{"$f":"IF($K104=0,\"\",IF(LEN('1-Award Info'!$G$4)=7,'1-Award Info'!$G$4&$B104&$C104,'1-Award Info'!$G$4&$C104))","v":""},null,{"$f":"COUNTA(Y$17:Y103)+1&\"0001\"","v":"880001"},"",null,"100088",{"$f":"COUNTIF($AD$17:AD104,AD104)","v":1},{"$f":"COUNTIF($AE$17:AE104,AE104)","v":88},"",null,{"$f":"COUNTA(AG$17:AG103)+1&\"0001\"","v":"880001"},"",null,"BLANK",{"$f":"IF(IF($F104=0,\"\",IF(LEN('1-Award Info'!$G$4)=7,'1-Award Info'!$G$4&$B104&$C104&\"9\"&E104&RIGHT($D104,3),'1-Award Info'!$G$4&$C104&\"9\"&E104&RIGHT($D104,3)))=\"\",\"BLANK\",IF($F104=0,\"\",IF(LEN('1-Award Info'!$G$4)=7,'1-Award Info'!$G$4&$B104&$C104&\"9\"&E104&RIGHT($D104,3),'1-Award Info'!$G$4&$C104&\"9\"&E104&RIGHT($D104,3))))","v":"BLANK"},0,0,null,"00000",{"$f":"COUNTIF(AQ$17:AQ104,1)","v":0},{"$f":"IF(AR104=\"BLANK\",0,COUNTIF(AR$17:AR104,AR104))","v":0},"BLANK",null,{"$f":"$AT$14+COUNTIF(AV$17:AV104,\"<>BLANK\")","v":0},{"$f":"COUNTA(AU$17:AU103)+1&\"0001\"","v":"880001"},"BLANK","BLANK",0,0,{"$f":"\"20\"&RIGHT(Tables!$E$3,2)","v":"2019"},null,"BLANK",{"$f":"IF(IF($G104=0,\"\",IF(LEN('1-Award Info'!$G$4)=7,'1-Award Info'!$G$4&$B104&$C104&\"9\"&E104&RIGHT($D104,3),'1-Award Info'!$G$4&$C104&\"9\"&E104&RIGHT($D104,3)))=\"\",\"BLANK\",IF($G104=0,\"\",IF(LEN('1-Award Info'!$G$4)=7,'1-Award Info'!$G$4&$B104&$C104&\"9\"&E104&RIGHT($D104,3),'1-Award Info'!$G$4&$C104&\"9\"&E104&RIGHT($D104,3))))","v":"BLANK"},0,0,null,"00000",{"$f":"COUNTIF(BI$17:BI104,1)","v":0},{"$f":"IF(BJ104=\"BLANk\",0,COUNTIF(BJ$17:BJ104,BJ104))","v":0},"BLANK",null,{"$f":"$BL$14+COUNTIF(BO$17:BO104,\"<>BLANK\")","v":0},{"$f":"COUNTA(BM$17:BM103)+1&\"0001\"","v":"880001"},"BLANK","BLANK",0,6,{"$f":"\"20\"&RIGHT(Tables!$E$4,2)","v":"2020"},null,"BLANK",{"$f":"IF(IF($H104=0,\"\",IF(LEN('1-Award Info'!$G$4)=7,'1-Award Info'!$G$4&$B104&$C104&\"9\"&E104&RIGHT($D104,3),'1-Award Info'!$G$4&$C104&\"9\"&E104&RIGHT($D104,3)))=\"\",\"BLANK\",IF($H104=0,\"\",IF(LEN('1-Award Info'!$G$4)=7,'1-Award Info'!$G$4&$B104&$C104&\"9\"&E104&RIGHT($D104,3),'1-Award Info'!$G$4&$C104&\"9\"&E104&RIGHT($D104,3))))","v":"BLANK"},0,0,null,"00000",{"$f":"COUNTIF(CA$17:CA104,1)","v":0},{"$f":"IF(CB104=\"BLANk\",0,COUNTIF(CB$17:CB104,CB104))","v":0},"BLANK",null,{"$f":"$CD$14+COUNTIF(CG$17:CG104,\"<>BLANK\")","v":0},{"$f":"COUNTA(CE$17:CE103)+1&\"0001\"","v":"880001"},"BLANK","BLANK",0,0,{"$f":"\"20\"&RIGHT(Tables!$E$5,2)","v":"2021"},null,"BLANK",{"$f":"IF(IF($I104=0,\"\",IF(LEN('1-Award Info'!$G$4)=7,'1-Award Info'!$G$4&$B104&$C104&\"9\"&$E104&RIGHT($D104,3),'1-Award Info'!$G$4&$C104&\"9\"&E$17&RIGHT($D104,3)))=\"\",\"BLANK\",IF($I104=0,\"\",IF(LEN('1-Award Info'!$G$4)=7,'1-Award Info'!$G$4&$B104&$C104&\"9\"&$E104&RIGHT($D104,3),'1-Award Info'!$G$4&$C104&\"9\"&$E104&RIGHT($D104,3))))","v":"BLANK"},0,0,null,"00000",{"$f":"COUNTIF(CS$17:CS104,1)","v":0},{"$f":"IF(CT104=\"BLANk\",0,COUNTIF(CT$17:CT104,CT104))","v":0},"BLANK",null,{"$f":"$CV$14+COUNTIF(CY$17:CY104,\"<>BLANK\")","v":0},{"$f":"COUNTA(CW$17:CW103)+1&\"0001\"","v":"880001"},"BLANK","BLANK",0,0,{"$f":"\"20\"&RIGHT(Tables!$E$6,2)","v":"2022"},null,"BLANK",{"$f":"IF(IF($J104=0,\"\",IF(LEN('1-Award Info'!$G$4)=7,'1-Award Info'!$G$4&$B104&$C104&\"9\"&$E104&RIGHT($D104,3),'1-Award Info'!$G$4&$C104&\"9\"&W$17&RIGHT($D104,3)))=\"\",\"BLANK\",IF($J104=0,\"\",IF(LEN('1-Award Info'!$G$4)=7,'1-Award Info'!$G$4&$B104&$C104&\"9\"&$E104&RIGHT($D104,3),'1-Award Info'!$G$4&$C104&\"9\"&$E104&RIGHT($D104,3))))","v":"BLANK"},0,0,null,"00000",{"$f":"COUNTIF(DK$17:DK104,1)","v":0},{"$f":"IF(DL104=\"BLANk\",0,COUNTIF(DL$17:DL104,DL104))","v":0},"BLANK",null,{"$f":"$DN$14+COUNTIF(DQ$17:DQ104,\"<>BLANK\")","v":0},{"$f":"COUNTA(DO$17:DO103)+1&\"0001\"","v":"880001"},"BLANK","BLANK",0,0,{"$f":"\"20\"&RIGHT(Tables!$E$7,2)","v":"2023"},null,88,{"$f":"\"00\"&'1-Award Info'!$G$6","v":"00"},"","",1,"",{"$f":"IFERROR(\nIF(VLOOKUP(\"FY\"&RIGHT($EA104,2),'1-Award Info'!$F$28:$G$32,2,0)=0,\n     1,\n     VLOOKUP(\"FY\"&RIGHT($EA104,2),'1-Award Info'!$F$28:$G$32,2,0)),1)","v":1},"",null,""]
[null,null,null,null,null,null,null,null,null,null,0,null,null,null,null,null,null,null,null,{"$f":"U105&\"000\"&V105","v":"100089"},{"$f":"COUNTIF(V$17:$V105,1)","v":1},{"$f":"COUNTIF(W$17:$W105,W105)","v":89},{"$f":"IF($K105=0,\"\",IF(LEN('1-Award Info'!$G$4)=7,'1-Award Info'!$G$4&$B105&$C105,'1-Award Info'!$G$4&$C105))","v":""},null,{"$f":"COUNTA(Y$17:Y104)+1&\"0001\"","v":"890001"},"",null,{"$f":"AC105&\"000\"&AD105","v":"100089"},{"$f":"COUNTIF($AD$17:AD105,AD105)","v":1},{"$f":"COUNTIF($AE$17:AE105,AE105)","v":89},{"$f":"IF(K105=0,\"\",B105)","v":""},null,{"$f":"COUNTA(AG$17:AG104)+1&\"0001\"","v":"890001"},"",null,{"$f":"IF(AK105=\"BLANK\",\"BLANK\",\"Z\"&AK105)","v":"BLANK"},{"$f":"IF(IF($F105=0,\"\",IF(LEN('1-Award Info'!$G$4)=7,'1-Award Info'!$G$4&$B105&$C105&\"9\"&E105&RIGHT($D105,3),'1-Award Info'!$G$4&$C105&\"9\"&E105&RIGHT($D105,3)))=\"\",\"BLANK\",IF($F105=0,\"\",IF(LEN('1-Award Info'!$G$4)=7,'1-Award Info'!$G$4&$B105&$C105&\"9\"&E105&RIGHT($D105,3),'1-Award Info'!$G$4&$C105&\"9\"&E105&RIGHT($D105,3))))","v":"BLANK"},0,0,null,{"$f":"AP105&\"000\"&AQ105","v":"00000"},{"$f":"COUNTIF(AQ$17:AQ105,1)","v":0},{"$f":"IF(AR105=\"BLANK\",0,COUNTIF(AR$17:AR105,AR105))","v":0},{"$f":"IF(LEFT(AJ105,1)=\"Z\",\"Z\"&AK105,\"BLANK\")","v":"BLANK"},null,{"$f":"$AT$14+COUNTIF(AV$17:AV105,\"<>BLANK\")","v":0},{"$f":"COUNTA(AU$17:AU104)+1&\"0001\"","v":"890001"},"BLANK",{"$f":"RIGHT(AV105,20)","v":"BLANK"},0,0,{"$f":"\"20\"&RIGHT(Tables!$E$3,2)","v":"2019"},null,{"$f":"IF(BC105=\"BLANK\",\"BLANK\",\"Z\"&BC105)","v":"BLANK"},{"$f":"IF(IF($G105=0,\"\",IF(LEN('1-Award Info'!$G$4)=7,'1-Award Info'!$G$4&$B105&$C105&\"9\"&E105&RIGHT($D105,3),'1-Award Info'!$G$4&$C105&\"9\"&E105&RIGHT($D105,3)))=\"\",\"BLANK\",IF($G105=0,\"\",IF(LEN('1-Award Info'!$G$4)=7,'1-Award Info'!$G$4&$B105&$C105&\"9\"&E105&RIGHT($D105,3),'1-Award Info'!$G$4&$C105&\"9\"&E105&RIGHT($D105,3))))","v":"BLANK"},0,0,null,{"$f":"BH105&\"000\"&BI105","v":"00000"},{"$f":"COUNTIF(BI$17:BI105,1)","v":0},{"$f":"IF(BJ105=\"BLANk\",0,COUNTIF(BJ$17:BJ105,BJ105))","v":0},{"$f":"IF(LEFT(BB105,1)=\"Z\",\"Z\"&BC105,\"BLANK\")","v":"BLANK"},null,{"$f":"$BL$14+COUNTIF(BO$17:BO105,\"<>BLANK\")","v":0},{"$f":"COUNTA(BM$17:BM104)+1&\"0001\"","v":"890001"},"BLANK",{"$f":"RIGHT(BN105,20)","v":"BLANK"},0,6,{"$f":"\"20\"&RIGHT(Tables!$E$4,2)","v":"2020"},null,{"$f":"IF(BU105=\"BLANK\",\"BLANK\",\"Z\"&BU105)","v":"BLANK"},{"$f":"IF(IF($H105=0,\"\",IF(LEN('1-Award Info'!$G$4)=7,'1-Award Info'!$G$4&$B105&$C105&\"9\"&E105&RIGHT($D105,3),'1-Award Info'!$G$4&$C105&\"9\"&E105&RIGHT($D105,3)))=\"\",\"BLANK\",IF($H105=0,\"\",IF(LEN('1-Award Info'!$G$4)=7,'1-Award Info'!$G$4&$B105&$C105&\"9\"&E105&RIGHT($D105,3),'1-Award Info'!$G$4&$C105&\"9\"&E105&RIGHT($D105,3))))","v":"BLANK"},0,0,null,{"$f":"BZ105&\"000\"&CA105","v":"00000"},{"$f":"COUNTIF(CA$17:CA105,1)","v":0},{"$f":"IF(CB105=\"BLANk\",0,COUNTIF(CB$17:CB105,CB105))","v":0},{"$f":"IF(LEFT(BT105,1)=\"Z\",\"Z\"&BU105,\"BLANK\")","v":"BLANK"},null,{"$f":"$CD$14+COUNTIF(CG$17:CG105,\"<>BLANK\")","v":0},{"$f":"COUNTA(CE$17:CE104)+1&\"0001\"","v":"890001"},"BLANK",{"$f":"RIGHT(CF105,20)","v":"BLANK"},0,0,{"$f":"\"20\"&RIGHT(Tables!$E$5,2)","v":"2021"},null,"BLANK",{"$f":"IF(IF($I105=0,\"\",IF(LEN('1-Award Info'!$G$4)=7,'1-Award Info'!$G$4&$B105&$C105&\"9\"&$E105&RIGHT($D105,3),'1-Award Info'!$G$4&$C105&\"9\"&E$17&RIGHT($D105,3)))=\"\",\"BLANK\",IF($I105=0,\"\",IF(LEN('1-Award Info'!$G$4)=7,'1-Award Info'!$G$4&$B105&$C105&\"9\"&$E105&RIGHT($D105,3),'1-Award Info'!$G$4&$C105&\"9\"&$E105&RIGHT($D105,3))))","v":"BLANK"},0,0,null,"00000",{"$f":"COUNTIF(CS$17:CS105,1)","v":0},{"$f":"IF(CT105=\"BLANk\",0,COUNTIF(CT$17:CT105,CT105))","v":0},"BLANK",null,{"$f":"$CV$14+COUNTIF(CY$17:CY105,\"<>BLANK\")","v":0},{"$f":"COUNTA(CW$17:CW104)+1&\"0001\"","v":"890001"},"BLANK","BLANK",0,0,{"$f":"\"20\"&RIGHT(Tables!$E$6,2)","v":"2022"},null,"BLANK",{"$f":"IF(IF($J105=0,\"\",IF(LEN('1-Award Info'!$G$4)=7,'1-Award Info'!$G$4&$B105&$C105&\"9\"&$E105&RIGHT($D105,3),'1-Award Info'!$G$4&$C105&\"9\"&W$17&RIGHT($D105,3)))=\"\",\"BLANK\",IF($J105=0,\"\",IF(LEN('1-Award Info'!$G$4)=7,'1-Award Info'!$G$4&$B105&$C105&\"9\"&$E105&RIGHT($D105,3),'1-Award Info'!$G$4&$C105&\"9\"&$E105&RIGHT($D105,3))))","v":"BLANK"},0,0,null,"00000",{"$f":"COUNTIF(DK$17:DK105,1)","v":0},{"$f":"IF(DL105=\"BLANk\",0,COUNTIF(DL$17:DL105,DL105))","v":0},"BLANK",null,{"$f":"$DN$14+COUNTIF(DQ$17:DQ105,\"<>BLANK\")","v":0},{"$f":"COUNTA(DO$17:DO104)+1&\"0001\"","v":"890001"},"BLANK","BLANK",0,0,{"$f":"\"20\"&RIGHT(Tables!$E$7,2)","v":"2023"},null,89,{"$f":"\"00\"&'1-Award Info'!$G$6","v":"00"},"","",1,"",{"$f":"IFERROR(\nIF(VLOOKUP(\"FY\"&RIGHT($EA105,2),'1-Award Info'!$F$28:$G$32,2,0)=0,\n     1,\n     VLOOKUP(\"FY\"&RIGHT($EA105,2),'1-Award Info'!$F$28:$G$32,2,0)),1)","v":1},"",null,""]
[null,null,null,null,null,null,null,null,null,null,0,null,null,null,null,null,null,null,null,"100090",{"$f":"COUNTIF(V$17:$V106,1)","v":1},{"$f":"COUNTIF(W$17:$W106,W106)","v":90},{"$f":"IF($K106=0,\"\",IF(LEN('1-Award Info'!$G$4)=7,'1-Award Info'!$G$4&$B106&$C106,'1-Award Info'!$G$4&$C106))","v":""},null,{"$f":"COUNTA(Y$17:Y105)+1&\"0001\"","v":"900001"},"",null,"100090",{"$f":"COUNTIF($AD$17:AD106,AD106)","v":1},{"$f":"COUNTIF($AE$17:AE106,AE106)","v":90},"",null,{"$f":"COUNTA(AG$17:AG105)+1&\"0001\"","v":"900001"},"",null,"BLANK",{"$f":"IF(IF($F106=0,\"\",IF(LEN('1-Award Info'!$G$4)=7,'1-Award Info'!$G$4&$B106&$C106&\"9\"&E106&RIGHT($D106,3),'1-Award Info'!$G$4&$C106&\"9\"&E106&RIGHT($D106,3)))=\"\",\"BLANK\",IF($F106=0,\"\",IF(LEN('1-Award Info'!$G$4)=7,'1-Award Info'!$G$4&$B106&$C106&\"9\"&E106&RIGHT($D106,3),'1-Award Info'!$G$4&$C106&\"9\"&E106&RIGHT($D106,3))))","v":"BLANK"},0,0,null,"00000",{"$f":"COUNTIF(AQ$17:AQ106,1)","v":0},{"$f":"IF(AR106=\"BLANK\",0,COUNTIF(AR$17:AR106,AR106))","v":0},"BLANK",null,{"$f":"$AT$14+COUNTIF(AV$17:AV106,\"<>BLANK\")","v":0},{"$f":"COUNTA(AU$17:AU105)+1&\"0001\"","v":"900001"},"BLANK","BLANK",0,0,{"$f":"\"20\"&RIGHT(Tables!$E$3,2)","v":"2019"},null,"BLANK",{"$f":"IF(IF($G106=0,\"\",IF(LEN('1-Award Info'!$G$4)=7,'1-Award Info'!$G$4&$B106&$C106&\"9\"&E106&RIGHT($D106,3),'1-Award Info'!$G$4&$C106&\"9\"&E106&RIGHT($D106,3)))=\"\",\"BLANK\",IF($G106=0,\"\",IF(LEN('1-Award Info'!$G$4)=7,'1-Award Info'!$G$4&$B106&$C106&\"9\"&E106&RIGHT($D106,3),'1-Award Info'!$G$4&$C106&\"9\"&E106&RIGHT($D106,3))))","v":"BLANK"},0,0,null,"00000",{"$f":"COUNTIF(BI$17:BI106,1)","v":0},{"$f":"IF(BJ106=\"BLANk\",0,COUNTIF(BJ$17:BJ106,BJ106))","v":0},"BLANK",null,{"$f":"$BL$14+COUNTIF(BO$17:BO106,\"<>BLANK\")","v":0},{"$f":"COUNTA(BM$17:BM105)+1&\"0001\"","v":"900001"},"BLANK","BLANK",0,6,{"$f":"\"20\"&RIGHT(Tables!$E$4,2)","v":"2020"},null,"BLANK",{"$f":"IF(IF($H106=0,\"\",IF(LEN('1-Award Info'!$G$4)=7,'1-Award Info'!$G$4&$B106&$C106&\"9\"&E106&RIGHT($D106,3),'1-Award Info'!$G$4&$C106&\"9\"&E106&RIGHT($D106,3)))=\"\",\"BLANK\",IF($H106=0,\"\",IF(LEN('1-Award Info'!$G$4)=7,'1-Award Info'!$G$4&$B106&$C106&\"9\"&E106&RIGHT($D106,3),'1-Award Info'!$G$4&$C106&\"9\"&E106&RIGHT($D106,3))))","v":"BLANK"},0,0,null,"00000",{"$f":"COUNTIF(CA$17:CA106,1)","v":0},{"$f":"IF(CB106=\"BLANk\",0,COUNTIF(CB$17:CB106,CB106))","v":0},"BLANK",null,{"$f":"$CD$14+COUNTIF(CG$17:CG106,\"<>BLANK\")","v":0},{"$f":"COUNTA(CE$17:CE105)+1&\"0001\"","v":"900001"},"BLANK","BLANK",0,0,{"$f":"\"20\"&RIGHT(Tables!$E$5,2)","v":"2021"},null,"BLANK",{"$f":"IF(IF($I106=0,\"\",IF(LEN('1-Award Info'!$G$4)=7,'1-Award Info'!$G$4&$B106&$C106&\"9\"&$E106&RIGHT($D106,3),'1-Award Info'!$G$4&$C106&\"9\"&E$17&RIGHT($D106,3)))=\"\",\"BLANK\",IF($I106=0,\"\",IF(LEN('1-Award Info'!$G$4)=7,'1-Award Info'!$G$4&$B106&$C106&\"9\"&$E106&RIGHT($D106,3),'1-Award Info'!$G$4&$C106&\"9\"&$E106&RIGHT($D106,3))))","v":"BLANK"},0,0,null,"00000",{"$f":"COUNTIF(CS$17:CS106,1)","v":0},{"$f":"IF(CT106=\"BLANk\",0,COUNTIF(CT$17:CT106,CT106))","v":0},"BLANK",null,{"$f":"$CV$14+COUNTIF(CY$17:CY106,\"<>BLANK\")","v":0},{"$f":"COUNTA(CW$17:CW105)+1&\"0001\"","v":"900001"},"BLANK","BLANK",0,0,{"$f":"\"20\"&RIGHT(Tables!$E$6,2)","v":"2022"},null,"BLANK",{"$f":"IF(IF($J106=0,\"\",IF(LEN('1-Award Info'!$G$4)=7,'1-Award Info'!$G$4&$B106&$C106&\"9\"&$E106&RIGHT($D106,3),'1-Award Info'!$G$4&$C106&\"9\"&W$17&RIGHT($D106,3)))=\"\",\"BLANK\",IF($J106=0,\"\",IF(LEN('1-Award Info'!$G$4)=7,'1-Award Info'!$G$4&$B106&$C106&\"9\"&$E106&RIGHT($D106,3),'1-Award Info'!$G$4&$C106&\"9\"&$E106&RIGHT($D106,3))))","v":"BLANK"},0,0,null,"00000",{"$f":"COUNTIF(DK$17:DK106,1)","v":0},{"$f":"IF(DL106=\"BLANk\",0,COUNTIF(DL$17:DL106,DL106))","v":0},"BLANK",null,{"$f":"$DN$14+COUNTIF(DQ$17:DQ106,\"<>BLANK\")","v":0},{"$f":"COUNTA(DO$17:DO105)+1&\"0001\"","v":"900001"},"BLANK","BLANK",0,0,{"$f":"\"20\"&RIGHT(Tables!$E$7,2)","v":"2023"},null,90,{"$f":"\"00\"&'1-Award Info'!$G$6","v":"00"},"","",1,"",{"$f":"IFERROR(\nIF(VLOOKUP(\"FY\"&RIGHT($EA106,2),'1-Award Info'!$F$28:$G$32,2,0)=0,\n     1,\n     VLOOKUP(\"FY\"&RIGHT($EA106,2),'1-Award Info'!$F$28:$G$32,2,0)),1)","v":1},"",null,""]
[null,null,null,null,null,null,null,null,null,null,0,null,null,null,null,null,null,null,null,"100091",{"$f":"COUNTIF(V$17:$V107,1)","v":1},{"$f":"COUNTIF(W$17:$W107,W107)","v":91},{"$f":"IF($K107=0,\"\",IF(LEN('1-Award Info'!$G$4)=7,'1-Award Info'!$G$4&$B107&$C107,'1-Award Info'!$G$4&$C107))","v":""},null,{"$f":"COUNTA(Y$17:Y106)+1&\"0001\"","v":"910001"},"",null,"100091",{"$f":"COUNTIF($AD$17:AD107,AD107)","v":1},{"$f":"COUNTIF($AE$17:AE107,AE107)","v":91},"",null,{"$f":"COUNTA(AG$17:AG106)+1&\"0001\"","v":"910001"},"",null,"BLANK",{"$f":"IF(IF($F107=0,\"\",IF(LEN('1-Award Info'!$G$4)=7,'1-Award Info'!$G$4&$B107&$C107&\"9\"&E107&RIGHT($D107,3),'1-Award Info'!$G$4&$C107&\"9\"&E107&RIGHT($D107,3)))=\"\",\"BLANK\",IF($F107=0,\"\",IF(LEN('1-Award Info'!$G$4)=7,'1-Award Info'!$G$4&$B107&$C107&\"9\"&E107&RIGHT($D107,3),'1-Award Info'!$G$4&$C107&\"9\"&E107&RIGHT($D107,3))))","v":"BLANK"},0,0,null,"00000",{"$f":"COUNTIF(AQ$17:AQ107,1)","v":0},{"$f":"IF(AR107=\"BLANK\",0,COUNTIF(AR$17:AR107,AR107))","v":0},"BLANK",null,{"$f":"$AT$14+COUNTIF(AV$17:AV107,\"<>BLANK\")","v":0},{"$f":"COUNTA(AU$17:AU106)+1&\"0001\"","v":"910001"},"BLANK","BLANK",0,0,{"$f":"\"20\"&RIGHT(Tables!$E$3,2)","v":"2019"},null,"BLANK",{"$f":"IF(IF($G107=0,\"\",IF(LEN('1-Award Info'!$G$4)=7,'1-Award Info'!$G$4&$B107&$C107&\"9\"&E107&RIGHT($D107,3),'1-Award Info'!$G$4&$C107&\"9\"&E107&RIGHT($D107,3)))=\"\",\"BLANK\",IF($G107=0,\"\",IF(LEN('1-Award Info'!$G$4)=7,'1-Award Info'!$G$4&$B107&$C107&\"9\"&E107&RIGHT($D107,3),'1-Award Info'!$G$4&$C107&\"9\"&E107&RIGHT($D107,3))))","v":"BLANK"},0,0,null,"00000",{"$f":"COUNTIF(BI$17:BI107,1)","v":0},{"$f":"IF(BJ107=\"BLANk\",0,COUNTIF(BJ$17:BJ107,BJ107))","v":0},"BLANK",null,{"$f":"$BL$14+COUNTIF(BO$17:BO107,\"<>BLANK\")","v":0},{"$f":"COUNTA(BM$17:BM106)+1&\"0001\"","v":"910001"},"BLANK","BLANK",0,6,{"$f":"\"20\"&RIGHT(Tables!$E$4,2)","v":"2020"},null,"BLANK",{"$f":"IF(IF($H107=0,\"\",IF(LEN('1-Award Info'!$G$4)=7,'1-Award Info'!$G$4&$B107&$C107&\"9\"&E107&RIGHT($D107,3),'1-Award Info'!$G$4&$C107&\"9\"&E107&RIGHT($D107,3)))=\"\",\"BLANK\",IF($H107=0,\"\",IF(LEN('1-Award Info'!$G$4)=7,'1-Award Info'!$G$4&$B107&$C107&\"9\"&E107&RIGHT($D107,3),'1-Award Info'!$G$4&$C107&\"9\"&E107&RIGHT($D107,3))))","v":"BLANK"},0,0,null,"00000",{"$f":"COUNTIF(CA$17:CA107,1)","v":0},{"$f":"IF(CB107=\"BLANk\",0,COUNTIF(CB$17:CB107,CB107))","v":0},"BLANK",null,{"$f":"$CD$14+COUNTIF(CG$17:CG107,\"<>BLANK\")","v":0},{"$f":"COUNTA(CE$17:CE106)+1&\"0001\"","v":"910001"},"BLANK","BLANK",0,0,{"$f":"\"20\"&RIGHT(Tables!$E$5,2)","v":"2021"},null,"BLANK",{"$f":"IF(IF($I107=0,\"\",IF(LEN('1-Award Info'!$G$4)=7,'1-Award Info'!$G$4&$B107&$C107&\"9\"&$E107&RIGHT($D107,3),'1-Award Info'!$G$4&$C107&\"9\"&E$17&RIGHT($D107,3)))=\"\",\"BLANK\",IF($I107=0,\"\",IF(LEN('1-Award Info'!$G$4)=7,'1-Award Info'!$G$4&$B107&$C107&\"9\"&$E107&RIGHT($D107,3),'1-Award Info'!$G$4&$C107&\"9\"&$E107&RIGHT($D107,3))))","v":"BLANK"},0,0,null,"00000",{"$f":"COUNTIF(CS$17:CS107,1)","v":0},{"$f":"IF(CT107=\"BLANk\",0,COUNTIF(CT$17:CT107,CT107))","v":0},"BLANK",null,{"$f":"$CV$14+COUNTIF(CY$17:CY107,\"<>BLANK\")","v":0},{"$f":"COUNTA(CW$17:CW106)+1&\"0001\"","v":"910001"},"BLANK","BLANK",0,0,{"$f":"\"20\"&RIGHT(Tables!$E$6,2)","v":"2022"},null,"BLANK",{"$f":"IF(IF($J107=0,\"\",IF(LEN('1-Award Info'!$G$4)=7,'1-Award Info'!$G$4&$B107&$C107&\"9\"&$E107&RIGHT($D107,3),'1-Award Info'!$G$4&$C107&\"9\"&W$17&RIGHT($D107,3)))=\"\",\"BLANK\",IF($J107=0,\"\",IF(LEN('1-Award Info'!$G$4)=7,'1-Award Info'!$G$4&$B107&$C107&\"9\"&$E107&RIGHT($D107,3),'1-Award Info'!$G$4&$C107&\"9\"&$E107&RIGHT($D107,3))))","v":"BLANK"},0,0,null,"00000",{"$f":"COUNTIF(DK$17:DK107,1)","v":0},{"$f":"IF(DL107=\"BLANk\",0,COUNTIF(DL$17:DL107,DL107))","v":0},"BLANK",null,{"$f":"$DN$14+COUNTIF(DQ$17:DQ107,\"<>BLANK\")","v":0},{"$f":"COUNTA(DO$17:DO106)+1&\"0001\"","v":"910001"},"BLANK","BLANK",0,0,{"$f":"\"20\"&RIGHT(Tables!$E$7,2)","v":"2023"},null,91,{"$f":"\"00\"&'1-Award Info'!$G$6","v":"00"},"","",1,"",{"$f":"IFERROR(\nIF(VLOOKUP(\"FY\"&RIGHT($EA107,2),'1-Award Info'!$F$28:$G$32,2,0)=0,\n     1,\n     VLOOKUP(\"FY\"&RIGHT($EA107,2),'1-Award Info'!$F$28:$G$32,2,0)),1)","v":1},"",null,""]
[null,null,null,null,null,null,null,null,null,null,0,null,null,null,null,null,null,null,null,"100092",{"$f":"COUNTIF(V$17:$V108,1)","v":1},{"$f":"COUNTIF(W$17:$W108,W108)","v":92},{"$f":"IF($K108=0,\"\",IF(LEN('1-Award Info'!$G$4)=7,'1-Award Info'!$G$4&$B108&$C108,'1-Award Info'!$G$4&$C108))","v":""},null,{"$f":"COUNTA(Y$17:Y107)+1&\"0001\"","v":"920001"},"",null,"100092",{"$f":"COUNTIF($AD$17:AD108,AD108)","v":1},{"$f":"COUNTIF($AE$17:AE108,AE108)","v":92},"",null,{"$f":"COUNTA(AG$17:AG107)+1&\"0001\"","v":"920001"},"",null,"BLANK",{"$f":"IF(IF($F108=0,\"\",IF(LEN('1-Award Info'!$G$4)=7,'1-Award Info'!$G$4&$B108&$C108&\"9\"&E108&RIGHT($D108,3),'1-Award Info'!$G$4&$C108&\"9\"&E108&RIGHT($D108,3)))=\"\",\"BLANK\",IF($F108=0,\"\",IF(LEN('1-Award Info'!$G$4)=7,'1-Award Info'!$G$4&$B108&$C108&\"9\"&E108&RIGHT($D108,3),'1-Award Info'!$G$4&$C108&\"9\"&E108&RIGHT($D108,3))))","v":"BLANK"},0,0,null,"00000",{"$f":"COUNTIF(AQ$17:AQ108,1)","v":0},{"$f":"IF(AR108=\"BLANK\",0,COUNTIF(AR$17:AR108,AR108))","v":0},"BLANK",null,{"$f":"$AT$14+COUNTIF(AV$17:AV108,\"<>BLANK\")","v":0},{"$f":"COUNTA(AU$17:AU107)+1&\"0001\"","v":"920001"},"BLANK","BLANK",0,0,{"$f":"\"20\"&RIGHT(Tables!$E$3,2)","v":"2019"},null,"BLANK",{"$f":"IF(IF($G108=0,\"\",IF(LEN('1-Award Info'!$G$4)=7,'1-Award Info'!$G$4&$B108&$C108&\"9\"&E108&RIGHT($D108,3),'1-Award Info'!$G$4&$C108&\"9\"&E108&RIGHT($D108,3)))=\"\",\"BLANK\",IF($G108=0,\"\",IF(LEN('1-Award Info'!$G$4)=7,'1-Award Info'!$G$4&$B108&$C108&\"9\"&E108&RIGHT($D108,3),'1-Award Info'!$G$4&$C108&\"9\"&E108&RIGHT($D108,3))))","v":"BLANK"},0,0,null,"00000",{"$f":"COUNTIF(BI$17:BI108,1)","v":0},{"$f":"IF(BJ108=\"BLANk\",0,COUNTIF(BJ$17:BJ108,BJ108))","v":0},"BLANK",null,{"$f":"$BL$14+COUNTIF(BO$17:BO108,\"<>BLANK\")","v":0},{"$f":"COUNTA(BM$17:BM107)+1&\"0001\"","v":"920001"},"BLANK","BLANK",0,6,{"$f":"\"20\"&RIGHT(Tables!$E$4,2)","v":"2020"},null,"BLANK",{"$f":"IF(IF($H108=0,\"\",IF(LEN('1-Award Info'!$G$4)=7,'1-Award Info'!$G$4&$B108&$C108&\"9\"&E108&RIGHT($D108,3),'1-Award Info'!$G$4&$C108&\"9\"&E108&RIGHT($D108,3)))=\"\",\"BLANK\",IF($H108=0,\"\",IF(LEN('1-Award Info'!$G$4)=7,'1-Award Info'!$G$4&$B108&$C108&\"9\"&E108&RIGHT($D108,3),'1-Award Info'!$G$4&$C108&\"9\"&E108&RIGHT($D108,3))))","v":"BLANK"},0,0,null,"00000",{"$f":"COUNTIF(CA$17:CA108,1)","v":0},{"$f":"IF(CB108=\"BLANk\",0,COUNTIF(CB$17:CB108,CB108))","v":0},"BLANK",null,{"$f":"$CD$14+COUNTIF(CG$17:CG108,\"<>BLANK\")","v":0},{"$f":"COUNTA(CE$17:CE107)+1&\"0001\"","v":"920001"},"BLANK","BLANK",0,0,{"$f":"\"20\"&RIGHT(Tables!$E$5,2)","v":"2021"},null,"BLANK",{"$f":"IF(IF($I108=0,\"\",IF(LEN('1-Award Info'!$G$4)=7,'1-Award Info'!$G$4&$B108&$C108&\"9\"&$E108&RIGHT($D108,3),'1-Award Info'!$G$4&$C108&\"9\"&E$17&RIGHT($D108,3)))=\"\",\"BLANK\",IF($I108=0,\"\",IF(LEN('1-Award Info'!$G$4)=7,'1-Award Info'!$G$4&$B108&$C108&\"9\"&$E108&RIGHT($D108,3),'1-Award Info'!$G$4&$C108&\"9\"&$E108&RIGHT($D108,3))))","v":"BLANK"},0,0,null,"00000",{"$f":"COUNTIF(CS$17:CS108,1)","v":0},{"$f":"IF(CT108=\"BLANk\",0,COUNTIF(CT$17:CT108,CT108))","v":0},"BLANK",null,{"$f":"$CV$14+COUNTIF(CY$17:CY108,\"<>BLANK\")","v":0},{"$f":"COUNTA(CW$17:CW107)+1&\"0001\"","v":"920001"},"BLANK","BLANK",0,0,{"$f":"\"20\"&RIGHT(Tables!$E$6,2)","v":"2022"},null,"BLANK",{"$f":"IF(IF($J108=0,\"\",IF(LEN('1-Award Info'!$G$4)=7,'1-Award Info'!$G$4&$B108&$C108&\"9\"&$E108&RIGHT($D108,3),'1-Award Info'!$G$4&$C108&\"9\"&W$17&RIGHT($D108,3)))=\"\",\"BLANK\",IF($J108=0,\"\",IF(LEN('1-Award Info'!$G$4)=7,'1-Award Info'!$G$4&$B108&$C108&\"9\"&$E108&RIGHT($D108,3),'1-Award Info'!$G$4&$C108&\"9\"&$E108&RIGHT($D108,3))))","v":"BLANK"},0,0,null,"00000",{"$f":"COUNTIF(DK$17:DK108,1)","v":0},{"$f":"IF(DL108=\"BLANk\",0,COUNTIF(DL$17:DL108,DL108))","v":0},"BLANK",null,{"$f":"$DN$14+COUNTIF(DQ$17:DQ108,\"<>BLANK\")","v":0},{"$f":"COUNTA(DO$17:DO107)+1&\"0001\"","v":"920001"},"BLANK","BLANK",0,0,{"$f":"\"20\"&RIGHT(Tables!$E$7,2)","v":"2023"},null,92,{"$f":"\"00\"&'1-Award Info'!$G$6","v":"00"},"","",1,"",{"$f":"IFERROR(\nIF(VLOOKUP(\"FY\"&RIGHT($EA108,2),'1-Award Info'!$F$28:$G$32,2,0)=0,\n     1,\n     VLOOKUP(\"FY\"&RIGHT($EA108,2),'1-Award Info'!$F$28:$G$32,2,0)),1)","v":1},"",null,""]
[null,null,null,null,null,null,null,null,null,null,0,null,null,null,null,null,null,null,null,"100093",{"$f":"COUNTIF(V$17:$V109,1)","v":1},{"$f":"COUNTIF(W$17:$W109,W109)","v":93},{"$f":"IF($K109=0,\"\",IF(LEN('1-Award Info'!$G$4)=7,'1-Award Info'!$G$4&$B109&$C109,'1-Award Info'!$G$4&$C109))","v":""},null,{"$f":"COUNTA(Y$17:Y108)+1&\"0001\"","v":"930001"},"",null,"100093",{"$f":"COUNTIF($AD$17:AD109,AD109)","v":1},{"$f":"COUNTIF($AE$17:AE109,AE109)","v":93},"",null,{"$f":"COUNTA(AG$17:AG108)+1&\"0001\"","v":"930001"},"",null,"BLANK",{"$f":"IF(IF($F109=0,\"\",IF(LEN('1-Award Info'!$G$4)=7,'1-Award Info'!$G$4&$B109&$C109&\"9\"&E109&RIGHT($D109,3),'1-Award Info'!$G$4&$C109&\"9\"&E109&RIGHT($D109,3)))=\"\",\"BLANK\",IF($F109=0,\"\",IF(LEN('1-Award Info'!$G$4)=7,'1-Award Info'!$G$4&$B109&$C109&\"9\"&E109&RIGHT($D109,3),'1-Award Info'!$G$4&$C109&\"9\"&E109&RIGHT($D109,3))))","v":"BLANK"},0,0,null,"00000",{"$f":"COUNTIF(AQ$17:AQ109,1)","v":0},{"$f":"IF(AR109=\"BLANK\",0,COUNTIF(AR$17:AR109,AR109))","v":0},"BLANK",null,{"$f":"$AT$14+COUNTIF(AV$17:AV109,\"<>BLANK\")","v":0},{"$f":"COUNTA(AU$17:AU108)+1&\"0001\"","v":"930001"},"BLANK","BLANK",0,0,{"$f":"\"20\"&RIGHT(Tables!$E$3,2)","v":"2019"},null,"BLANK",{"$f":"IF(IF($G109=0,\"\",IF(LEN('1-Award Info'!$G$4)=7,'1-Award Info'!$G$4&$B109&$C109&\"9\"&E109&RIGHT($D109,3),'1-Award Info'!$G$4&$C109&\"9\"&E109&RIGHT($D109,3)))=\"\",\"BLANK\",IF($G109=0,\"\",IF(LEN('1-Award Info'!$G$4)=7,'1-Award Info'!$G$4&$B109&$C109&\"9\"&E109&RIGHT($D109,3),'1-Award Info'!$G$4&$C109&\"9\"&E109&RIGHT($D109,3))))","v":"BLANK"},0,0,null,"00000",{"$f":"COUNTIF(BI$17:BI109,1)","v":0},{"$f":"IF(BJ109=\"BLANk\",0,COUNTIF(BJ$17:BJ109,BJ109))","v":0},"BLANK",null,{"$f":"$BL$14+COUNTIF(BO$17:BO109,\"<>BLANK\")","v":0},{"$f":"COUNTA(BM$17:BM108)+1&\"0001\"","v":"930001"},"BLANK","BLANK",0,6,{"$f":"\"20\"&RIGHT(Tables!$E$4,2)","v":"2020"},null,"BLANK",{"$f":"IF(IF($H109=0,\"\",IF(LEN('1-Award Info'!$G$4)=7,'1-Award Info'!$G$4&$B109&$C109&\"9\"&E109&RIGHT($D109,3),'1-Award Info'!$G$4&$C109&\"9\"&E109&RIGHT($D109,3)))=\"\",\"BLANK\",IF($H109=0,\"\",IF(LEN('1-Award Info'!$G$4)=7,'1-Award Info'!$G$4&$B109&$C109&\"9\"&E109&RIGHT($D109,3),'1-Award Info'!$G$4&$C109&\"9\"&E109&RIGHT($D109,3))))","v":"BLANK"},0,0,null,"00000",{"$f":"COUNTIF(CA$17:CA109,1)","v":0},{"$f":"IF(CB109=\"BLANk\",0,COUNTIF(CB$17:CB109,CB109))","v":0},"BLANK",null,{"$f":"$CD$14+COUNTIF(CG$17:CG109,\"<>BLANK\")","v":0},{"$f":"COUNTA(CE$17:CE108)+1&\"0001\"","v":"930001"},"BLANK","BLANK",0,0,{"$f":"\"20\"&RIGHT(Tables!$E$5,2)","v":"2021"},null,"BLANK",{"$f":"IF(IF($I109=0,\"\",IF(LEN('1-Award Info'!$G$4)=7,'1-Award Info'!$G$4&$B109&$C109&\"9\"&$E109&RIGHT($D109,3),'1-Award Info'!$G$4&$C109&\"9\"&E$17&RIGHT($D109,3)))=\"\",\"BLANK\",IF($I109=0,\"\",IF(LEN('1-Award Info'!$G$4)=7,'1-Award Info'!$G$4&$B109&$C109&\"9\"&$E109&RIGHT($D109,3),'1-Award Info'!$G$4&$C109&\"9\"&$E109&RIGHT($D109,3))))","v":"BLANK"},0,0,null,"00000",{"$f":"COUNTIF(CS$17:CS109,1)","v":0},{"$f":"IF(CT109=\"BLANk\",0,COUNTIF(CT$17:CT109,CT109))","v":0},"BLANK",null,{"$f":"$CV$14+COUNTIF(CY$17:CY109,\"<>BLANK\")","v":0},{"$f":"COUNTA(CW$17:CW108)+1&\"0001\"","v":"930001"},"BLANK","BLANK",0,0,{"$f":"\"20\"&RIGHT(Tables!$E$6,2)","v":"2022"},null,"BLANK",{"$f":"IF(IF($J109=0,\"\",IF(LEN('1-Award Info'!$G$4)=7,'1-Award Info'!$G$4&$B109&$C109&\"9\"&$E109&RIGHT($D109,3),'1-Award Info'!$G$4&$C109&\"9\"&W$17&RIGHT($D109,3)))=\"\",\"BLANK\",IF($J109=0,\"\",IF(LEN('1-Award Info'!$G$4)=7,'1-Award Info'!$G$4&$B109&$C109&\"9\"&$E109&RIGHT($D109,3),'1-Award Info'!$G$4&$C109&\"9\"&$E109&RIGHT($D109,3))))","v":"BLANK"},0,0,null,"00000",{"$f":"COUNTIF(DK$17:DK109,1)","v":0},{"$f":"IF(DL109=\"BLANk\",0,COUNTIF(DL$17:DL109,DL109))","v":0},"BLANK",null,{"$f":"$DN$14+COUNTIF(DQ$17:DQ109,\"<>BLANK\")","v":0},{"$f":"COUNTA(DO$17:DO108)+1&\"0001\"","v":"930001"},"BLANK","BLANK",0,0,{"$f":"\"20\"&RIGHT(Tables!$E$7,2)","v":"2023"},null,93,{"$f":"\"00\"&'1-Award Info'!$G$6","v":"00"},"","",1,"",{"$f":"IFERROR(\nIF(VLOOKUP(\"FY\"&RIGHT($EA109,2),'1-Award Info'!$F$28:$G$32,2,0)=0,\n     1,\n     VLOOKUP(\"FY\"&RIGHT($EA109,2),'1-Award Info'!$F$28:$G$32,2,0)),1)","v":1},"",null,""]
[null,null,null,null,null,null,null,null,null,null,0,null,null,null,null,null,null,null,null,"100094",{"$f":"COUNTIF(V$17:$V110,1)","v":1},{"$f":"COUNTIF(W$17:$W110,W110)","v":94},{"$f":"IF($K110=0,\"\",IF(LEN('1-Award Info'!$G$4)=7,'1-Award Info'!$G$4&$B110&$C110,'1-Award Info'!$G$4&$C110))","v":""},null,{"$f":"COUNTA(Y$17:Y109)+1&\"0001\"","v":"940001"},"",null,"100094",{"$f":"COUNTIF($AD$17:AD110,AD110)","v":1},{"$f":"COUNTIF($AE$17:AE110,AE110)","v":94},"",null,{"$f":"COUNTA(AG$17:AG109)+1&\"0001\"","v":"940001"},"",null,"BLANK",{"$f":"IF(IF($F110=0,\"\",IF(LEN('1-Award Info'!$G$4)=7,'1-Award Info'!$G$4&$B110&$C110&\"9\"&E110&RIGHT($D110,3),'1-Award Info'!$G$4&$C110&\"9\"&E110&RIGHT($D110,3)))=\"\",\"BLANK\",IF($F110=0,\"\",IF(LEN('1-Award Info'!$G$4)=7,'1-Award Info'!$G$4&$B110&$C110&\"9\"&E110&RIGHT($D110,3),'1-Award Info'!$G$4&$C110&\"9\"&E110&RIGHT($D110,3))))","v":"BLANK"},0,0,null,"00000",{"$f":"COUNTIF(AQ$17:AQ110,1)","v":0},{"$f":"IF(AR110=\"BLANK\",0,COUNTIF(AR$17:AR110,AR110))","v":0},"BLANK",null,{"$f":"$AT$14+COUNTIF(AV$17:AV110,\"<>BLANK\")","v":0},{"$f":"COUNTA(AU$17:AU109)+1&\"0001\"","v":"940001"},"BLANK","BLANK",0,0,{"$f":"\"20\"&RIGHT(Tables!$E$3,2)","v":"2019"},null,"BLANK",{"$f":"IF(IF($G110=0,\"\",IF(LEN('1-Award Info'!$G$4)=7,'1-Award Info'!$G$4&$B110&$C110&\"9\"&E110&RIGHT($D110,3),'1-Award Info'!$G$4&$C110&\"9\"&E110&RIGHT($D110,3)))=\"\",\"BLANK\",IF($G110=0,\"\",IF(LEN('1-Award Info'!$G$4)=7,'1-Award Info'!$G$4&$B110&$C110&\"9\"&E110&RIGHT($D110,3),'1-Award Info'!$G$4&$C110&\"9\"&E110&RIGHT($D110,3))))","v":"BLANK"},0,0,null,"00000",{"$f":"COUNTIF(BI$17:BI110,1)","v":0},{"$f":"IF(BJ110=\"BLANk\",0,COUNTIF(BJ$17:BJ110,BJ110))","v":0},"BLANK",null,{"$f":"$BL$14+COUNTIF(BO$17:BO110,\"<>BLANK\")","v":0},{"$f":"COUNTA(BM$17:BM109)+1&\"0001\"","v":"940001"},"BLANK","BLANK",0,6,{"$f":"\"20\"&RIGHT(Tables!$E$4,2)","v":"2020"},null,"BLANK",{"$f":"IF(IF($H110=0,\"\",IF(LEN('1-Award Info'!$G$4)=7,'1-Award Info'!$G$4&$B110&$C110&\"9\"&E110&RIGHT($D110,3),'1-Award Info'!$G$4&$C110&\"9\"&E110&RIGHT($D110,3)))=\"\",\"BLANK\",IF($H110=0,\"\",IF(LEN('1-Award Info'!$G$4)=7,'1-Award Info'!$G$4&$B110&$C110&\"9\"&E110&RIGHT($D110,3),'1-Award Info'!$G$4&$C110&\"9\"&E110&RIGHT($D110,3))))","v":"BLANK"},0,0,null,"00000",{"$f":"COUNTIF(CA$17:CA110,1)","v":0},{"$f":"IF(CB110=\"BLANk\",0,COUNTIF(CB$17:CB110,CB110))","v":0},"BLANK",null,{"$f":"$CD$14+COUNTIF(CG$17:CG110,\"<>BLANK\")","v":0},{"$f":"COUNTA(CE$17:CE109)+1&\"0001\"","v":"940001"},"BLANK","BLANK",0,0,{"$f":"\"20\"&RIGHT(Tables!$E$5,2)","v":"2021"},null,"BLANK",{"$f":"IF(IF($I110=0,\"\",IF(LEN('1-Award Info'!$G$4)=7,'1-Award Info'!$G$4&$B110&$C110&\"9\"&$E110&RIGHT($D110,3),'1-Award Info'!$G$4&$C110&\"9\"&E$17&RIGHT($D110,3)))=\"\",\"BLANK\",IF($I110=0,\"\",IF(LEN('1-Award Info'!$G$4)=7,'1-Award Info'!$G$4&$B110&$C110&\"9\"&$E110&RIGHT($D110,3),'1-Award Info'!$G$4&$C110&\"9\"&$E110&RIGHT($D110,3))))","v":"BLANK"},0,0,null,"00000",{"$f":"COUNTIF(CS$17:CS110,1)","v":0},{"$f":"IF(CT110=\"BLANk\",0,COUNTIF(CT$17:CT110,CT110))","v":0},"BLANK",null,{"$f":"$CV$14+COUNTIF(CY$17:CY110,\"<>BLANK\")","v":0},{"$f":"COUNTA(CW$17:CW109)+1&\"0001\"","v":"940001"},"BLANK","BLANK",0,0,{"$f":"\"20\"&RIGHT(Tables!$E$6,2)","v":"2022"},null,"BLANK",{"$f":"IF(IF($J110=0,\"\",IF(LEN('1-Award Info'!$G$4)=7,'1-Award Info'!$G$4&$B110&$C110&\"9\"&$E110&RIGHT($D110,3),'1-Award Info'!$G$4&$C110&\"9\"&W$17&RIGHT($D110,3)))=\"\",\"BLANK\",IF($J110=0,\"\",IF(LEN('1-Award Info'!$G$4)=7,'1-Award Info'!$G$4&$B110&$C110&\"9\"&$E110&RIGHT($D110,3),'1-Award Info'!$G$4&$C110&\"9\"&$E110&RIGHT($D110,3))))","v":"BLANK"},0,0,null,"00000",{"$f":"COUNTIF(DK$17:DK110,1)","v":0},{"$f":"IF(DL110=\"BLANk\",0,COUNTIF(DL$17:DL110,DL110))","v":0},"BLANK",null,{"$f":"$DN$14+COUNTIF(DQ$17:DQ110,\"<>BLANK\")","v":0},{"$f":"COUNTA(DO$17:DO109)+1&\"0001\"","v":"940001"},"BLANK","BLANK",0,0,{"$f":"\"20\"&RIGHT(Tables!$E$7,2)","v":"2023"},null,94,{"$f":"\"00\"&'1-Award Info'!$G$6","v":"00"},"","",1,"",{"$f":"IFERROR(\nIF(VLOOKUP(\"FY\"&RIGHT($EA110,2),'1-Award Info'!$F$28:$G$32,2,0)=0,\n     1,\n     VLOOKUP(\"FY\"&RIGHT($EA110,2),'1-Award Info'!$F$28:$G$32,2,0)),1)","v":1},"",null,""]
[null,null,null,null,null,null,null,null,null,null,0,null,null,null,null,null,null,null,null,"100095",{"$f":"COUNTIF(V$17:$V111,1)","v":1},{"$f":"COUNTIF(W$17:$W111,W111)","v":95},{"$f":"IF($K111=0,\"\",IF(LEN('1-Award Info'!$G$4)=7,'1-Award Info'!$G$4&$B111&$C111,'1-Award Info'!$G$4&$C111))","v":""},null,{"$f":"COUNTA(Y$17:Y110)+1&\"0001\"","v":"950001"},"",null,"100095",{"$f":"COUNTIF($AD$17:AD111,AD111)","v":1},{"$f":"COUNTIF($AE$17:AE111,AE111)","v":95},"",null,{"$f":"COUNTA(AG$17:AG110)+1&\"0001\"","v":"950001"},"",null,"BLANK",{"$f":"IF(IF($F111=0,\"\",IF(LEN('1-Award Info'!$G$4)=7,'1-Award Info'!$G$4&$B111&$C111&\"9\"&E111&RIGHT($D111,3),'1-Award Info'!$G$4&$C111&\"9\"&E111&RIGHT($D111,3)))=\"\",\"BLANK\",IF($F111=0,\"\",IF(LEN('1-Award Info'!$G$4)=7,'1-Award Info'!$G$4&$B111&$C111&\"9\"&E111&RIGHT($D111,3),'1-Award Info'!$G$4&$C111&\"9\"&E111&RIGHT($D111,3))))","v":"BLANK"},0,0,null,"00000",{"$f":"COUNTIF(AQ$17:AQ111,1)","v":0},{"$f":"IF(AR111=\"BLANK\",0,COUNTIF(AR$17:AR111,AR111))","v":0},"BLANK",null,{"$f":"$AT$14+COUNTIF(AV$17:AV111,\"<>BLANK\")","v":0},{"$f":"COUNTA(AU$17:AU110)+1&\"0001\"","v":"950001"},"BLANK","BLANK",0,0,{"$f":"\"20\"&RIGHT(Tables!$E$3,2)","v":"2019"},null,"BLANK",{"$f":"IF(IF($G111=0,\"\",IF(LEN('1-Award Info'!$G$4)=7,'1-Award Info'!$G$4&$B111&$C111&\"9\"&E111&RIGHT($D111,3),'1-Award Info'!$G$4&$C111&\"9\"&E111&RIGHT($D111,3)))=\"\",\"BLANK\",IF($G111=0,\"\",IF(LEN('1-Award Info'!$G$4)=7,'1-Award Info'!$G$4&$B111&$C111&\"9\"&E111&RIGHT($D111,3),'1-Award Info'!$G$4&$C111&\"9\"&E111&RIGHT($D111,3))))","v":"BLANK"},0,0,null,"00000",{"$f":"COUNTIF(BI$17:BI111,1)","v":0},{"$f":"IF(BJ111=\"BLANk\",0,COUNTIF(BJ$17:BJ111,BJ111))","v":0},"BLANK",null,{"$f":"$BL$14+COUNTIF(BO$17:BO111,\"<>BLANK\")","v":0},{"$f":"COUNTA(BM$17:BM110)+1&\"0001\"","v":"950001"},"BLANK","BLANK",0,6,{"$f":"\"20\"&RIGHT(Tables!$E$4,2)","v":"2020"},null,"BLANK",{"$f":"IF(IF($H111=0,\"\",IF(LEN('1-Award Info'!$G$4)=7,'1-Award Info'!$G$4&$B111&$C111&\"9\"&E111&RIGHT($D111,3),'1-Award Info'!$G$4&$C111&\"9\"&E111&RIGHT($D111,3)))=\"\",\"BLANK\",IF($H111=0,\"\",IF(LEN('1-Award Info'!$G$4)=7,'1-Award Info'!$G$4&$B111&$C111&\"9\"&E111&RIGHT($D111,3),'1-Award Info'!$G$4&$C111&\"9\"&E111&RIGHT($D111,3))))","v":"BLANK"},0,0,null,"00000",{"$f":"COUNTIF(CA$17:CA111,1)","v":0},{"$f":"IF(CB111=\"BLANk\",0,COUNTIF(CB$17:CB111,CB111))","v":0},"BLANK",null,{"$f":"$CD$14+COUNTIF(CG$17:CG111,\"<>BLANK\")","v":0},{"$f":"COUNTA(CE$17:CE110)+1&\"0001\"","v":"950001"},"BLANK","BLANK",0,0,{"$f":"\"20\"&RIGHT(Tables!$E$5,2)","v":"2021"},null,"BLANK",{"$f":"IF(IF($I111=0,\"\",IF(LEN('1-Award Info'!$G$4)=7,'1-Award Info'!$G$4&$B111&$C111&\"9\"&$E111&RIGHT($D111,3),'1-Award Info'!$G$4&$C111&\"9\"&E$17&RIGHT($D111,3)))=\"\",\"BLANK\",IF($I111=0,\"\",IF(LEN('1-Award Info'!$G$4)=7,'1-Award Info'!$G$4&$B111&$C111&\"9\"&$E111&RIGHT($D111,3),'1-Award Info'!$G$4&$C111&\"9\"&$E111&RIGHT($D111,3))))","v":"BLANK"},0,0,null,"00000",{"$f":"COUNTIF(CS$17:CS111,1)","v":0},{"$f":"IF(CT111=\"BLANk\",0,COUNTIF(CT$17:CT111,CT111))","v":0},"BLANK",null,{"$f":"$CV$14+COUNTIF(CY$17:CY111,\"<>BLANK\")","v":0},{"$f":"COUNTA(CW$17:CW110)+1&\"0001\"","v":"950001"},"BLANK","BLANK",0,0,{"$f":"\"20\"&RIGHT(Tables!$E$6,2)","v":"2022"},null,"BLANK",{"$f":"IF(IF($J111=0,\"\",IF(LEN('1-Award Info'!$G$4)=7,'1-Award Info'!$G$4&$B111&$C111&\"9\"&$E111&RIGHT($D111,3),'1-Award Info'!$G$4&$C111&\"9\"&W$17&RIGHT($D111,3)))=\"\",\"BLANK\",IF($J111=0,\"\",IF(LEN('1-Award Info'!$G$4)=7,'1-Award Info'!$G$4&$B111&$C111&\"9\"&$E111&RIGHT($D111,3),'1-Award Info'!$G$4&$C111&\"9\"&$E111&RIGHT($D111,3))))","v":"BLANK"},0,0,null,"00000",{"$f":"COUNTIF(DK$17:DK111,1)","v":0},{"$f":"IF(DL111=\"BLANk\",0,COUNTIF(DL$17:DL111,DL111))","v":0},"BLANK",null,{"$f":"$DN$14+COUNTIF(DQ$17:DQ111,\"<>BLANK\")","v":0},{"$f":"COUNTA(DO$17:DO110)+1&\"0001\"","v":"950001"},"BLANK","BLANK",0,0,{"$f":"\"20\"&RIGHT(Tables!$E$7,2)","v":"2023"},null,95,{"$f":"\"00\"&'1-Award Info'!$G$6","v":"00"},"","",1,"",{"$f":"IFERROR(\nIF(VLOOKUP(\"FY\"&RIGHT($EA111,2),'1-Award Info'!$F$28:$G$32,2,0)=0,\n     1,\n     VLOOKUP(\"FY\"&RIGHT($EA111,2),'1-Award Info'!$F$28:$G$32,2,0)),1)","v":1},"",null,""]
[null,null,null,null,null,null,null,null,null,null,0,null,null,null,null,null,null,null,null,"100096",{"$f":"COUNTIF(V$17:$V112,1)","v":1},{"$f":"COUNTIF(W$17:$W112,W112)","v":96},{"$f":"IF($K112=0,\"\",IF(LEN('1-Award Info'!$G$4)=7,'1-Award Info'!$G$4&$B112&$C112,'1-Award Info'!$G$4&$C112))","v":""},null,{"$f":"COUNTA(Y$17:Y111)+1&\"0001\"","v":"960001"},"",null,"100096",{"$f":"COUNTIF($AD$17:AD112,AD112)","v":1},{"$f":"COUNTIF($AE$17:AE112,AE112)","v":96},"",null,{"$f":"COUNTA(AG$17:AG111)+1&\"0001\"","v":"960001"},"",null,"BLANK",{"$f":"IF(IF($F112=0,\"\",IF(LEN('1-Award Info'!$G$4)=7,'1-Award Info'!$G$4&$B112&$C112&\"9\"&E112&RIGHT($D112,3),'1-Award Info'!$G$4&$C112&\"9\"&E112&RIGHT($D112,3)))=\"\",\"BLANK\",IF($F112=0,\"\",IF(LEN('1-Award Info'!$G$4)=7,'1-Award Info'!$G$4&$B112&$C112&\"9\"&E112&RIGHT($D112,3),'1-Award Info'!$G$4&$C112&\"9\"&E112&RIGHT($D112,3))))","v":"BLANK"},0,0,null,"00000",{"$f":"COUNTIF(AQ$17:AQ112,1)","v":0},{"$f":"IF(AR112=\"BLANK\",0,COUNTIF(AR$17:AR112,AR112))","v":0},"BLANK",null,{"$f":"$AT$14+COUNTIF(AV$17:AV112,\"<>BLANK\")","v":0},{"$f":"COUNTA(AU$17:AU111)+1&\"0001\"","v":"960001"},"BLANK","BLANK",0,0,{"$f":"\"20\"&RIGHT(Tables!$E$3,2)","v":"2019"},null,"BLANK",{"$f":"IF(IF($G112=0,\"\",IF(LEN('1-Award Info'!$G$4)=7,'1-Award Info'!$G$4&$B112&$C112&\"9\"&E112&RIGHT($D112,3),'1-Award Info'!$G$4&$C112&\"9\"&E112&RIGHT($D112,3)))=\"\",\"BLANK\",IF($G112=0,\"\",IF(LEN('1-Award Info'!$G$4)=7,'1-Award Info'!$G$4&$B112&$C112&\"9\"&E112&RIGHT($D112,3),'1-Award Info'!$G$4&$C112&\"9\"&E112&RIGHT($D112,3))))","v":"BLANK"},0,0,null,"00000",{"$f":"COUNTIF(BI$17:BI112,1)","v":0},{"$f":"IF(BJ112=\"BLANk\",0,COUNTIF(BJ$17:BJ112,BJ112))","v":0},"BLANK",null,{"$f":"$BL$14+COUNTIF(BO$17:BO112,\"<>BLANK\")","v":0},{"$f":"COUNTA(BM$17:BM111)+1&\"0001\"","v":"960001"},"BLANK","BLANK",0,6,{"$f":"\"20\"&RIGHT(Tables!$E$4,2)","v":"2020"},null,"BLANK",{"$f":"IF(IF($H112=0,\"\",IF(LEN('1-Award Info'!$G$4)=7,'1-Award Info'!$G$4&$B112&$C112&\"9\"&E112&RIGHT($D112,3),'1-Award Info'!$G$4&$C112&\"9\"&E112&RIGHT($D112,3)))=\"\",\"BLANK\",IF($H112=0,\"\",IF(LEN('1-Award Info'!$G$4)=7,'1-Award Info'!$G$4&$B112&$C112&\"9\"&E112&RIGHT($D112,3),'1-Award Info'!$G$4&$C112&\"9\"&E112&RIGHT($D112,3))))","v":"BLANK"},0,0,null,"00000",{"$f":"COUNTIF(CA$17:CA112,1)","v":0},{"$f":"IF(CB112=\"BLANk\",0,COUNTIF(CB$17:CB112,CB112))","v":0},"BLANK",null,{"$f":"$CD$14+COUNTIF(CG$17:CG112,\"<>BLANK\")","v":0},{"$f":"COUNTA(CE$17:CE111)+1&\"0001\"","v":"960001"},"BLANK","BLANK",0,0,{"$f":"\"20\"&RIGHT(Tables!$E$5,2)","v":"2021"},null,"BLANK",{"$f":"IF(IF($I112=0,\"\",IF(LEN('1-Award Info'!$G$4)=7,'1-Award Info'!$G$4&$B112&$C112&\"9\"&$E112&RIGHT($D112,3),'1-Award Info'!$G$4&$C112&\"9\"&E$17&RIGHT($D112,3)))=\"\",\"BLANK\",IF($I112=0,\"\",IF(LEN('1-Award Info'!$G$4)=7,'1-Award Info'!$G$4&$B112&$C112&\"9\"&$E112&RIGHT($D112,3),'1-Award Info'!$G$4&$C112&\"9\"&$E112&RIGHT($D112,3))))","v":"BLANK"},0,0,null,"00000",{"$f":"COUNTIF(CS$17:CS112,1)","v":0},{"$f":"IF(CT112=\"BLANk\",0,COUNTIF(CT$17:CT112,CT112))","v":0},"BLANK",null,{"$f":"$CV$14+COUNTIF(CY$17:CY112,\"<>BLANK\")","v":0},{"$f":"COUNTA(CW$17:CW111)+1&\"0001\"","v":"960001"},"BLANK","BLANK",0,0,{"$f":"\"20\"&RIGHT(Tables!$E$6,2)","v":"2022"},null,"BLANK",{"$f":"IF(IF($J112=0,\"\",IF(LEN('1-Award Info'!$G$4)=7,'1-Award Info'!$G$4&$B112&$C112&\"9\"&$E112&RIGHT($D112,3),'1-Award Info'!$G$4&$C112&\"9\"&W$17&RIGHT($D112,3)))=\"\",\"BLANK\",IF($J112=0,\"\",IF(LEN('1-Award Info'!$G$4)=7,'1-Award Info'!$G$4&$B112&$C112&\"9\"&$E112&RIGHT($D112,3),'1-Award Info'!$G$4&$C112&\"9\"&$E112&RIGHT($D112,3))))","v":"BLANK"},0,0,null,"00000",{"$f":"COUNTIF(DK$17:DK112,1)","v":0},{"$f":"IF(DL112=\"BLANk\",0,COUNTIF(DL$17:DL112,DL112))","v":0},"BLANK",null,{"$f":"$DN$14+COUNTIF(DQ$17:DQ112,\"<>BLANK\")","v":0},{"$f":"COUNTA(DO$17:DO111)+1&\"0001\"","v":"960001"},"BLANK","BLANK",0,0,{"$f":"\"20\"&RIGHT(Tables!$E$7,2)","v":"2023"},null,96,{"$f":"\"00\"&'1-Award Info'!$G$6","v":"00"},"","",1,"",{"$f":"IFERROR(\nIF(VLOOKUP(\"FY\"&RIGHT($EA112,2),'1-Award Info'!$F$28:$G$32,2,0)=0,\n     1,\n     VLOOKUP(\"FY\"&RIGHT($EA112,2),'1-Award Info'!$F$28:$G$32,2,0)),1)","v":1},"",null,""]
[null,null,null,null,null,null,null,null,null,null,0,null,null,null,null,null,null,null,null,"100097",{"$f":"COUNTIF(V$17:$V113,1)","v":1},{"$f":"COUNTIF(W$17:$W113,W113)","v":97},{"$f":"IF($K113=0,\"\",IF(LEN('1-Award Info'!$G$4)=7,'1-Award Info'!$G$4&$B113&$C113,'1-Award Info'!$G$4&$C113))","v":""},null,{"$f":"COUNTA(Y$17:Y112)+1&\"0001\"","v":"970001"},{"$f":"IFERROR(VLOOKUP(Y113,T:W,4,0),\"\")","v":""},null,"100097",{"$f":"COUNTIF($AD$17:AD113,AD113)","v":1},{"$f":"COUNTIF($AE$17:AE113,AE113)","v":97},"",null,{"$f":"COUNTA(AG$17:AG112)+1&\"0001\"","v":"970001"},{"$f":"IFERROR(VLOOKUP(AG113,AB:AE,4,0),\"\")","v":""},null,"BLANK",{"$f":"IF(IF($F113=0,\"\",IF(LEN('1-Award Info'!$G$4)=7,'1-Award Info'!$G$4&$B113&$C113&\"9\"&E113&RIGHT($D113,3),'1-Award Info'!$G$4&$C113&\"9\"&E113&RIGHT($D113,3)))=\"\",\"BLANK\",IF($F113=0,\"\",IF(LEN('1-Award Info'!$G$4)=7,'1-Award Info'!$G$4&$B113&$C113&\"9\"&E113&RIGHT($D113,3),'1-Award Info'!$G$4&$C113&\"9\"&E113&RIGHT($D113,3))))","v":"BLANK"},0,0,null,"00000",{"$f":"COUNTIF(AQ$17:AQ113,1)","v":0},{"$f":"IF(AR113=\"BLANK\",0,COUNTIF(AR$17:AR113,AR113))","v":0},"BLANK",null,{"$f":"$AT$14+COUNTIF(AV$17:AV113,\"<>BLANK\")","v":0},{"$f":"COUNTA(AU$17:AU112)+1&\"0001\"","v":"970001"},{"$f":"IFERROR(VLOOKUP(AU113,AO:AR,4,0),\"BLANK\")","v":"BLANK"},"BLANK",{"$f":"SUMIF($AJ:$AJ,$AV113,AL:AL)","v":0},{"$f":"SUMIF($AJ:$AJ,$AV113,AM:AM)","v":0},{"$f":"\"20\"&RIGHT(Tables!$E$3,2)","v":"2019"},null,"BLANK",{"$f":"IF(IF($G113=0,\"\",IF(LEN('1-Award Info'!$G$4)=7,'1-Award Info'!$G$4&$B113&$C113&\"9\"&E113&RIGHT($D113,3),'1-Award Info'!$G$4&$C113&\"9\"&E113&RIGHT($D113,3)))=\"\",\"BLANK\",IF($G113=0,\"\",IF(LEN('1-Award Info'!$G$4)=7,'1-Award Info'!$G$4&$B113&$C113&\"9\"&E113&RIGHT($D113,3),'1-Award Info'!$G$4&$C113&\"9\"&E113&RIGHT($D113,3))))","v":"BLANK"},0,0,null,"00000",{"$f":"COUNTIF(BI$17:BI113,1)","v":0},{"$f":"IF(BJ113=\"BLANk\",0,COUNTIF(BJ$17:BJ113,BJ113))","v":0},"BLANK",null,{"$f":"$BL$14+COUNTIF(BO$17:BO113,\"<>BLANK\")","v":0},{"$f":"COUNTA(BM$17:BM112)+1&\"0001\"","v":"970001"},{"$f":"IFERROR(VLOOKUP(BM113,BG:BJ,4,0),\"BLANK\")","v":"BLANK"},"BLANK",{"$f":"SUMIF($BB:$BB,$BN113,BD:BD)","v":0},{"$f":"SUMIF($BB:$BB,$BN113,BE:BE)","v":6},{"$f":"\"20\"&RIGHT(Tables!$E$4,2)","v":"2020"},null,"BLANK",{"$f":"IF(IF($H113=0,\"\",IF(LEN('1-Award Info'!$G$4)=7,'1-Award Info'!$G$4&$B113&$C113&\"9\"&E113&RIGHT($D113,3),'1-Award Info'!$G$4&$C113&\"9\"&E113&RIGHT($D113,3)))=\"\",\"BLANK\",IF($H113=0,\"\",IF(LEN('1-Award Info'!$G$4)=7,'1-Award Info'!$G$4&$B113&$C113&\"9\"&E113&RIGHT($D113,3),'1-Award Info'!$G$4&$C113&\"9\"&E113&RIGHT($D113,3))))","v":"BLANK"},0,0,null,"00000",{"$f":"COUNTIF(CA$17:CA113,1)","v":0},{"$f":"IF(CB113=\"BLANk\",0,COUNTIF(CB$17:CB113,CB113))","v":0},"BLANK",null,{"$f":"$CD$14+COUNTIF(CG$17:CG113,\"<>BLANK\")","v":0},{"$f":"COUNTA(CE$17:CE112)+1&\"0001\"","v":"970001"},{"$f":"IFERROR(VLOOKUP(CE113,BY:CB,4,0),\"BLANK\")","v":"BLANK"},"BLANK",{"$f":"SUMIF($BT:$BT,$CF113,BV:BV)","v":0},{"$f":"SUMIF($BT:$BT,$CF113,BW:BW)","v":0},{"$f":"\"20\"&RIGHT(Tables!$E$5,2)","v":"2021"},null,"BLANK",{"$f":"IF(IF($I113=0,\"\",IF(LEN('1-Award Info'!$G$4)=7,'1-Award Info'!$G$4&$B113&$C113&\"9\"&$E113&RIGHT($D113,3),'1-Award Info'!$G$4&$C113&\"9\"&E$17&RIGHT($D113,3)))=\"\",\"BLANK\",IF($I113=0,\"\",IF(LEN('1-Award Info'!$G$4)=7,'1-Award Info'!$G$4&$B113&$C113&\"9\"&$E113&RIGHT($D113,3),'1-Award Info'!$G$4&$C113&\"9\"&$E113&RIGHT($D113,3))))","v":"BLANK"},0,0,null,"00000",{"$f":"COUNTIF(CS$17:CS113,1)","v":0},{"$f":"IF(CT113=\"BLANk\",0,COUNTIF(CT$17:CT113,CT113))","v":0},"BLANK",null,{"$f":"$CV$14+COUNTIF(CY$17:CY113,\"<>BLANK\")","v":0},{"$f":"COUNTA(CW$17:CW112)+1&\"0001\"","v":"970001"},{"$f":"IFERROR(VLOOKUP(CW113,CQ:CT,4,0),\"BLANK\")","v":"BLANK"},"BLANK",0,0,{"$f":"\"20\"&RIGHT(Tables!$E$6,2)","v":"2022"},null,"BLANK",{"$f":"IF(IF($J113=0,\"\",IF(LEN('1-Award Info'!$G$4)=7,'1-Award Info'!$G$4&$B113&$C113&\"9\"&$E113&RIGHT($D113,3),'1-Award Info'!$G$4&$C113&\"9\"&W$17&RIGHT($D113,3)))=\"\",\"BLANK\",IF($J113=0,\"\",IF(LEN('1-Award Info'!$G$4)=7,'1-Award Info'!$G$4&$B113&$C113&\"9\"&$E113&RIGHT($D113,3),'1-Award Info'!$G$4&$C113&\"9\"&$E113&RIGHT($D113,3))))","v":"BLANK"},0,0,null,"00000",{"$f":"COUNTIF(DK$17:DK113,1)","v":0},{"$f":"IF(DL113=\"BLANk\",0,COUNTIF(DL$17:DL113,DL113))","v":0},"BLANK",null,{"$f":"$DN$14+COUNTIF(DQ$17:DQ113,\"<>BLANK\")","v":0},{"$f":"COUNTA(DO$17:DO112)+1&\"0001\"","v":"970001"},{"$f":"IFERROR(VLOOKUP(DO113,DI:DL,4,0),\"BLANK\")","v":"BLANK"},"BLANK",{"$f":"SUMIF($DD:$DD,$DP113,DF:DF)","v":0},{"$f":"SUMIF($DD:$DD,$DP113,DG:DG)","v":0},{"$f":"\"20\"&RIGHT(Tables!$E$7,2)","v":"2023"},null,97,{"$f":"\"00\"&'1-Award Info'!$G$6","v":"00"},{"$f":"IFERROR(IFERROR(IFERROR(IFERROR(IFERROR(LEFT(VLOOKUP($DV113,$AT:$AW,4,0),15),LEFT(VLOOKUP($DV113,$BL:$BO,4,0),15)),LEFT(VLOOKUP($DV113,$CD:$CG,4,0),15)),LEFT(VLOOKUP($DV113,CV:CY,4,0),15)),LEFT(VLOOKUP($DV113,DN:DQ,4,0),15)),\"\")","v":""},{"$f":"IFERROR(IFERROR(IFERROR(IFERROR(IFERROR(RIGHT(VLOOKUP($DV113,$AT:$AW,4,0),5),RIGHT(VLOOKUP($DV113,$BL:$BO,4,0),5)),RIGHT(VLOOKUP($DV113,$CD:$CG,4,0),5)),RIGHT(VLOOKUP($DV113,CV:CY,4,0),5)),RIGHT(VLOOKUP($DV113,DN:DR,4,0),5)),\"\")","v":""},1,{"$f":"IFERROR(IFERROR(IFERROR(IFERROR(IFERROR(VLOOKUP($DV113,$AT:$AZ,7,0),VLOOKUP($DV113,$BL:$BR,7,0)),VLOOKUP($DV113,$CD:$CJ,7,0)),VLOOKUP($DV113,CV:DB,7,0)),VLOOKUP($DV113,DN:DT,7,0)),\"\")","v":""},{"$f":"IFERROR(\nIF(VLOOKUP(\"FY\"&RIGHT($EA113,2),'1-Award Info'!$F$28:$G$32,2,0)=0,\n     1,\n     VLOOKUP(\"FY\"&RIGHT($EA113,2),'1-Award Info'!$F$28:$G$32,2,0)),1)","v":1},{"$f":"IFERROR(IFERROR(IFERROR(IFERROR(IFERROR(VLOOKUP($DV113,$AT:$AZ,5,0),VLOOKUP($DV113,$BL:$BR,5,0)),VLOOKUP($DV113,$CD:$CJ,5,0)),VLOOKUP($DV113,CV:CZ,5,0)),VLOOKUP($DV113,DN:DR,5,0)),\"\")","v":""},null,{"$f":"IFERROR(IFERROR(IFERROR(IFERROR(IFERROR(VLOOKUP($DV113,$AT:$AZ,6,0),VLOOKUP($DV113,$BL:$BR,6,0)),VLOOKUP($DV113,$CD:$CJ,6,0)),VLOOKUP($DV113,CV:DA,6,0)),VLOOKUP($DV113,DN:DS,6,0)),\"\")","v":""}]
[null,null,null,null,null,null,null,null,null,null,0,null,null,null,null,null,null,null,null,"100098",{"$f":"COUNTIF(V$17:$V114,1)","v":1},{"$f":"COUNTIF(W$17:$W114,W114)","v":98},{"$f":"IF($K114=0,\"\",IF(LEN('1-Award Info'!$G$4)=7,'1-Award Info'!$G$4&$B114&$C114,'1-Award Info'!$G$4&$C114))","v":""},null,{"$f":"COUNTA(Y$17:Y113)+1&\"0001\"","v":"980001"},"",null,"100098",{"$f":"COUNTIF($AD$17:AD114,AD114)","v":1},{"$f":"COUNTIF($AE$17:AE114,AE114)","v":98},"",null,{"$f":"COUNTA(AG$17:AG113)+1&\"0001\"","v":"980001"},"",null,"BLANK",{"$f":"IF(IF($F114=0,\"\",IF(LEN('1-Award Info'!$G$4)=7,'1-Award Info'!$G$4&$B114&$C114&\"9\"&E114&RIGHT($D114,3),'1-Award Info'!$G$4&$C114&\"9\"&E114&RIGHT($D114,3)))=\"\",\"BLANK\",IF($F114=0,\"\",IF(LEN('1-Award Info'!$G$4)=7,'1-Award Info'!$G$4&$B114&$C114&\"9\"&E114&RIGHT($D114,3),'1-Award Info'!$G$4&$C114&\"9\"&E114&RIGHT($D114,3))))","v":"BLANK"},0,0,null,"00000",{"$f":"COUNTIF(AQ$17:AQ114,1)","v":0},{"$f":"IF(AR114=\"BLANK\",0,COUNTIF(AR$17:AR114,AR114))","v":0},"BLANK",null,{"$f":"$AT$14+COUNTIF(AV$17:AV114,\"<>BLANK\")","v":0},{"$f":"COUNTA(AU$17:AU113)+1&\"0001\"","v":"980001"},"BLANK","BLANK",0,0,{"$f":"\"20\"&RIGHT(Tables!$E$3,2)","v":"2019"},null,"BLANK",{"$f":"IF(IF($G114=0,\"\",IF(LEN('1-Award Info'!$G$4)=7,'1-Award Info'!$G$4&$B114&$C114&\"9\"&E114&RIGHT($D114,3),'1-Award Info'!$G$4&$C114&\"9\"&E114&RIGHT($D114,3)))=\"\",\"BLANK\",IF($G114=0,\"\",IF(LEN('1-Award Info'!$G$4)=7,'1-Award Info'!$G$4&$B114&$C114&\"9\"&E114&RIGHT($D114,3),'1-Award Info'!$G$4&$C114&\"9\"&E114&RIGHT($D114,3))))","v":"BLANK"},0,0,null,"00000",{"$f":"COUNTIF(BI$17:BI114,1)","v":0},{"$f":"IF(BJ114=\"BLANk\",0,COUNTIF(BJ$17:BJ114,BJ114))","v":0},"BLANK",null,{"$f":"$BL$14+COUNTIF(BO$17:BO114,\"<>BLANK\")","v":0},{"$f":"COUNTA(BM$17:BM113)+1&\"0001\"","v":"980001"},"BLANK","BLANK",0,6,{"$f":"\"20\"&RIGHT(Tables!$E$4,2)","v":"2020"},null,"BLANK",{"$f":"IF(IF($H114=0,\"\",IF(LEN('1-Award Info'!$G$4)=7,'1-Award Info'!$G$4&$B114&$C114&\"9\"&E114&RIGHT($D114,3),'1-Award Info'!$G$4&$C114&\"9\"&E114&RIGHT($D114,3)))=\"\",\"BLANK\",IF($H114=0,\"\",IF(LEN('1-Award Info'!$G$4)=7,'1-Award Info'!$G$4&$B114&$C114&\"9\"&E114&RIGHT($D114,3),'1-Award Info'!$G$4&$C114&\"9\"&E114&RIGHT($D114,3))))","v":"BLANK"},0,0,null,"00000",{"$f":"COUNTIF(CA$17:CA114,1)","v":0},{"$f":"IF(CB114=\"BLANk\",0,COUNTIF(CB$17:CB114,CB114))","v":0},"BLANK",null,{"$f":"$CD$14+COUNTIF(CG$17:CG114,\"<>BLANK\")","v":0},{"$f":"COUNTA(CE$17:CE113)+1&\"0001\"","v":"980001"},"BLANK","BLANK",0,0,{"$f":"\"20\"&RIGHT(Tables!$E$5,2)","v":"2021"},null,"BLANK",{"$f":"IF(IF($I114=0,\"\",IF(LEN('1-Award Info'!$G$4)=7,'1-Award Info'!$G$4&$B114&$C114&\"9\"&$E114&RIGHT($D114,3),'1-Award Info'!$G$4&$C114&\"9\"&E$17&RIGHT($D114,3)))=\"\",\"BLANK\",IF($I114=0,\"\",IF(LEN('1-Award Info'!$G$4)=7,'1-Award Info'!$G$4&$B114&$C114&\"9\"&$E114&RIGHT($D114,3),'1-Award Info'!$G$4&$C114&\"9\"&$E114&RIGHT($D114,3))))","v":"BLANK"},0,0,null,"00000",{"$f":"COUNTIF(CS$17:CS114,1)","v":0},{"$f":"IF(CT114=\"BLANk\",0,COUNTIF(CT$17:CT114,CT114))","v":0},"BLANK",null,{"$f":"$CV$14+COUNTIF(CY$17:CY114,\"<>BLANK\")","v":0},{"$f":"COUNTA(CW$17:CW113)+1&\"0001\"","v":"980001"},"BLANK","BLANK",0,0,{"$f":"\"20\"&RIGHT(Tables!$E$6,2)","v":"2022"},null,"BLANK",{"$f":"IF(IF($J114=0,\"\",IF(LEN('1-Award Info'!$G$4)=7,'1-Award Info'!$G$4&$B114&$C114&\"9\"&$E114&RIGHT($D114,3),'1-Award Info'!$G$4&$C114&\"9\"&W$17&RIGHT($D114,3)))=\"\",\"BLANK\",IF($J114=0,\"\",IF(LEN('1-Award Info'!$G$4)=7,'1-Award Info'!$G$4&$B114&$C114&\"9\"&$E114&RIGHT($D114,3),'1-Award Info'!$G$4&$C114&\"9\"&$E114&RIGHT($D114,3))))","v":"BLANK"},0,0,null,"00000",{"$f":"COUNTIF(DK$17:DK114,1)","v":0},{"$f":"IF(DL114=\"BLANk\",0,COUNTIF(DL$17:DL114,DL114))","v":0},"BLANK",null,{"$f":"$DN$14+COUNTIF(DQ$17:DQ114,\"<>BLANK\")","v":0},{"$f":"COUNTA(DO$17:DO113)+1&\"0001\"","v":"980001"},"BLANK","BLANK",0,0,{"$f":"\"20\"&RIGHT(Tables!$E$7,2)","v":"2023"},null,98,{"$f":"\"00\"&'1-Award Info'!$G$6","v":"00"},"","",1,"",{"$f":"IFERROR(\nIF(VLOOKUP(\"FY\"&RIGHT($EA114,2),'1-Award Info'!$F$28:$G$32,2,0)=0,\n     1,\n     VLOOKUP(\"FY\"&RIGHT($EA114,2),'1-Award Info'!$F$28:$G$32,2,0)),1)","v":1},"",null,""]
[null,null,null,null,null,null,null,null,null,null,0,null,null,null,null,null,null,null,null,"100099",{"$f":"COUNTIF(V$17:$V115,1)","v":1},{"$f":"COUNTIF(W$17:$W115,W115)","v":99},{"$f":"IF($K115=0,\"\",IF(LEN('1-Award Info'!$G$4)=7,'1-Award Info'!$G$4&$B115&$C115,'1-Award Info'!$G$4&$C115))","v":""},null,{"$f":"COUNTA(Y$17:Y114)+1&\"0001\"","v":"990001"},"",null,"100099",{"$f":"COUNTIF($AD$17:AD115,AD115)","v":1},{"$f":"COUNTIF($AE$17:AE115,AE115)","v":99},"",null,{"$f":"COUNTA(AG$17:AG114)+1&\"0001\"","v":"990001"},"",null,"BLANK",{"$f":"IF(IF($F115=0,\"\",IF(LEN('1-Award Info'!$G$4)=7,'1-Award Info'!$G$4&$B115&$C115&\"9\"&E115&RIGHT($D115,3),'1-Award Info'!$G$4&$C115&\"9\"&E115&RIGHT($D115,3)))=\"\",\"BLANK\",IF($F115=0,\"\",IF(LEN('1-Award Info'!$G$4)=7,'1-Award Info'!$G$4&$B115&$C115&\"9\"&E115&RIGHT($D115,3),'1-Award Info'!$G$4&$C115&\"9\"&E115&RIGHT($D115,3))))","v":"BLANK"},0,0,null,"00000",{"$f":"COUNTIF(AQ$17:AQ115,1)","v":0},{"$f":"IF(AR115=\"BLANK\",0,COUNTIF(AR$17:AR115,AR115))","v":0},"BLANK",null,{"$f":"$AT$14+COUNTIF(AV$17:AV115,\"<>BLANK\")","v":0},{"$f":"COUNTA(AU$17:AU114)+1&\"0001\"","v":"990001"},"BLANK","BLANK",0,0,{"$f":"\"20\"&RIGHT(Tables!$E$3,2)","v":"2019"},null,"BLANK",{"$f":"IF(IF($G115=0,\"\",IF(LEN('1-Award Info'!$G$4)=7,'1-Award Info'!$G$4&$B115&$C115&\"9\"&E115&RIGHT($D115,3),'1-Award Info'!$G$4&$C115&\"9\"&E115&RIGHT($D115,3)))=\"\",\"BLANK\",IF($G115=0,\"\",IF(LEN('1-Award Info'!$G$4)=7,'1-Award Info'!$G$4&$B115&$C115&\"9\"&E115&RIGHT($D115,3),'1-Award Info'!$G$4&$C115&\"9\"&E115&RIGHT($D115,3))))","v":"BLANK"},0,0,null,"00000",{"$f":"COUNTIF(BI$17:BI115,1)","v":0},{"$f":"IF(BJ115=\"BLANk\",0,COUNTIF(BJ$17:BJ115,BJ115))","v":0},"BLANK",null,{"$f":"$BL$14+COUNTIF(BO$17:BO115,\"<>BLANK\")","v":0},{"$f":"COUNTA(BM$17:BM114)+1&\"0001\"","v":"990001"},"BLANK","BLANK",0,6,{"$f":"\"20\"&RIGHT(Tables!$E$4,2)","v":"2020"},null,"BLANK",{"$f":"IF(IF($H115=0,\"\",IF(LEN('1-Award Info'!$G$4)=7,'1-Award Info'!$G$4&$B115&$C115&\"9\"&E115&RIGHT($D115,3),'1-Award Info'!$G$4&$C115&\"9\"&E115&RIGHT($D115,3)))=\"\",\"BLANK\",IF($H115=0,\"\",IF(LEN('1-Award Info'!$G$4)=7,'1-Award Info'!$G$4&$B115&$C115&\"9\"&E115&RIGHT($D115,3),'1-Award Info'!$G$4&$C115&\"9\"&E115&RIGHT($D115,3))))","v":"BLANK"},0,0,null,"00000",{"$f":"COUNTIF(CA$17:CA115,1)","v":0},{"$f":"IF(CB115=\"BLANk\",0,COUNTIF(CB$17:CB115,CB115))","v":0},"BLANK",null,{"$f":"$CD$14+COUNTIF(CG$17:CG115,\"<>BLANK\")","v":0},{"$f":"COUNTA(CE$17:CE114)+1&\"0001\"","v":"990001"},"BLANK","BLANK",0,0,{"$f":"\"20\"&RIGHT(Tables!$E$5,2)","v":"2021"},null,"BLANK",{"$f":"IF(IF($I115=0,\"\",IF(LEN('1-Award Info'!$G$4)=7,'1-Award Info'!$G$4&$B115&$C115&\"9\"&$E115&RIGHT($D115,3),'1-Award Info'!$G$4&$C115&\"9\"&E$17&RIGHT($D115,3)))=\"\",\"BLANK\",IF($I115=0,\"\",IF(LEN('1-Award Info'!$G$4)=7,'1-Award Info'!$G$4&$B115&$C115&\"9\"&$E115&RIGHT($D115,3),'1-Award Info'!$G$4&$C115&\"9\"&$E115&RIGHT($D115,3))))","v":"BLANK"},0,0,null,"00000",{"$f":"COUNTIF(CS$17:CS115,1)","v":0},{"$f":"IF(CT115=\"BLANk\",0,COUNTIF(CT$17:CT115,CT115))","v":0},"BLANK",null,{"$f":"$CV$14+COUNTIF(CY$17:CY115,\"<>BLANK\")","v":0},{"$f":"COUNTA(CW$17:CW114)+1&\"0001\"","v":"990001"},"BLANK","BLANK",0,0,{"$f":"\"20\"&RIGHT(Tables!$E$6,2)","v":"2022"},null,"BLANK",{"$f":"IF(IF($J115=0,\"\",IF(LEN('1-Award Info'!$G$4)=7,'1-Award Info'!$G$4&$B115&$C115&\"9\"&$E115&RIGHT($D115,3),'1-Award Info'!$G$4&$C115&\"9\"&W$17&RIGHT($D115,3)))=\"\",\"BLANK\",IF($J115=0,\"\",IF(LEN('1-Award Info'!$G$4)=7,'1-Award Info'!$G$4&$B115&$C115&\"9\"&$E115&RIGHT($D115,3),'1-Award Info'!$G$4&$C115&\"9\"&$E115&RIGHT($D115,3))))","v":"BLANK"},0,0,null,"00000",{"$f":"COUNTIF(DK$17:DK115,1)","v":0},{"$f":"IF(DL115=\"BLANk\",0,COUNTIF(DL$17:DL115,DL115))","v":0},"BLANK",null,{"$f":"$DN$14+COUNTIF(DQ$17:DQ115,\"<>BLANK\")","v":0},{"$f":"COUNTA(DO$17:DO114)+1&\"0001\"","v":"990001"},"BLANK","BLANK",0,0,{"$f":"\"20\"&RIGHT(Tables!$E$7,2)","v":"2023"},null,99,{"$f":"\"00\"&'1-Award Info'!$G$6","v":"00"},"","",1,"",{"$f":"IFERROR(\nIF(VLOOKUP(\"FY\"&RIGHT($EA115,2),'1-Award Info'!$F$28:$G$32,2,0)=0,\n     1,\n     VLOOKUP(\"FY\"&RIGHT($EA115,2),'1-Award Info'!$F$28:$G$32,2,0)),1)","v":1},"",null,""]
[null,null,null,null,null,null,null,null,null,null,0,null,null,null,null,null,null,null,null,"1000100",{"$f":"COUNTIF(V$17:$V116,1)","v":1},{"$f":"COUNTIF(W$17:$W116,W116)","v":100},{"$f":"IF($K116=0,\"\",IF(LEN('1-Award Info'!$G$4)=7,'1-Award Info'!$G$4&$B116&$C116,'1-Award Info'!$G$4&$C116))","v":""},null,{"$f":"COUNTA(Y$17:Y115)+1&\"0001\"","v":"1000001"},"",null,"1000100",{"$f":"COUNTIF($AD$17:AD116,AD116)","v":1},{"$f":"COUNTIF($AE$17:AE116,AE116)","v":100},"",null,{"$f":"COUNTA(AG$17:AG115)+1&\"0001\"","v":"1000001"},"",null,"BLANK",{"$f":"IF(IF($F116=0,\"\",IF(LEN('1-Award Info'!$G$4)=7,'1-Award Info'!$G$4&$B116&$C116&\"9\"&E116&RIGHT($D116,3),'1-Award Info'!$G$4&$C116&\"9\"&E116&RIGHT($D116,3)))=\"\",\"BLANK\",IF($F116=0,\"\",IF(LEN('1-Award Info'!$G$4)=7,'1-Award Info'!$G$4&$B116&$C116&\"9\"&E116&RIGHT($D116,3),'1-Award Info'!$G$4&$C116&\"9\"&E116&RIGHT($D116,3))))","v":"BLANK"},0,0,null,"00000",{"$f":"COUNTIF(AQ$17:AQ116,1)","v":0},{"$f":"IF(AR116=\"BLANK\",0,COUNTIF(AR$17:AR116,AR116))","v":0},"BLANK",null,{"$f":"$AT$14+COUNTIF(AV$17:AV116,\"<>BLANK\")","v":0},{"$f":"COUNTA(AU$17:AU115)+1&\"0001\"","v":"1000001"},"BLANK","BLANK",0,0,{"$f":"\"20\"&RIGHT(Tables!$E$3,2)","v":"2019"},null,"BLANK",{"$f":"IF(IF($G116=0,\"\",IF(LEN('1-Award Info'!$G$4)=7,'1-Award Info'!$G$4&$B116&$C116&\"9\"&E116&RIGHT($D116,3),'1-Award Info'!$G$4&$C116&\"9\"&E116&RIGHT($D116,3)))=\"\",\"BLANK\",IF($G116=0,\"\",IF(LEN('1-Award Info'!$G$4)=7,'1-Award Info'!$G$4&$B116&$C116&\"9\"&E116&RIGHT($D116,3),'1-Award Info'!$G$4&$C116&\"9\"&E116&RIGHT($D116,3))))","v":"BLANK"},0,0,null,"00000",{"$f":"COUNTIF(BI$17:BI116,1)","v":0},{"$f":"IF(BJ116=\"BLANk\",0,COUNTIF(BJ$17:BJ116,BJ116))","v":0},"BLANK",null,{"$f":"$BL$14+COUNTIF(BO$17:BO116,\"<>BLANK\")","v":0},{"$f":"COUNTA(BM$17:BM115)+1&\"0001\"","v":"1000001"},"BLANK","BLANK",0,6,{"$f":"\"20\"&RIGHT(Tables!$E$4,2)","v":"2020"},null,"BLANK",{"$f":"IF(IF($H116=0,\"\",IF(LEN('1-Award Info'!$G$4)=7,'1-Award Info'!$G$4&$B116&$C116&\"9\"&E116&RIGHT($D116,3),'1-Award Info'!$G$4&$C116&\"9\"&E116&RIGHT($D116,3)))=\"\",\"BLANK\",IF($H116=0,\"\",IF(LEN('1-Award Info'!$G$4)=7,'1-Award Info'!$G$4&$B116&$C116&\"9\"&E116&RIGHT($D116,3),'1-Award Info'!$G$4&$C116&\"9\"&E116&RIGHT($D116,3))))","v":"BLANK"},0,0,null,"00000",{"$f":"COUNTIF(CA$17:CA116,1)","v":0},{"$f":"IF(CB116=\"BLANk\",0,COUNTIF(CB$17:CB116,CB116))","v":0},"BLANK",null,{"$f":"$CD$14+COUNTIF(CG$17:CG116,\"<>BLANK\")","v":0},{"$f":"COUNTA(CE$17:CE115)+1&\"0001\"","v":"1000001"},"BLANK","BLANK",0,0,{"$f":"\"20\"&RIGHT(Tables!$E$5,2)","v":"2021"},null,"BLANK",{"$f":"IF(IF($I116=0,\"\",IF(LEN('1-Award Info'!$G$4)=7,'1-Award Info'!$G$4&$B116&$C116&\"9\"&$E116&RIGHT($D116,3),'1-Award Info'!$G$4&$C116&\"9\"&E$17&RIGHT($D116,3)))=\"\",\"BLANK\",IF($I116=0,\"\",IF(LEN('1-Award Info'!$G$4)=7,'1-Award Info'!$G$4&$B116&$C116&\"9\"&$E116&RIGHT($D116,3),'1-Award Info'!$G$4&$C116&\"9\"&$E116&RIGHT($D116,3))))","v":"BLANK"},0,0,null,"00000",{"$f":"COUNTIF(CS$17:CS116,1)","v":0},{"$f":"IF(CT116=\"BLANk\",0,COUNTIF(CT$17:CT116,CT116))","v":0},"BLANK",null,{"$f":"$CV$14+COUNTIF(CY$17:CY116,\"<>BLANK\")","v":0},{"$f":"COUNTA(CW$17:CW115)+1&\"0001\"","v":"1000001"},"BLANK","BLANK",0,0,{"$f":"\"20\"&RIGHT(Tables!$E$6,2)","v":"2022"},null,"BLANK",{"$f":"IF(IF($J116=0,\"\",IF(LEN('1-Award Info'!$G$4)=7,'1-Award Info'!$G$4&$B116&$C116&\"9\"&$E116&RIGHT($D116,3),'1-Award Info'!$G$4&$C116&\"9\"&W$17&RIGHT($D116,3)))=\"\",\"BLANK\",IF($J116=0,\"\",IF(LEN('1-Award Info'!$G$4)=7,'1-Award Info'!$G$4&$B116&$C116&\"9\"&$E116&RIGHT($D116,3),'1-Award Info'!$G$4&$C116&\"9\"&$E116&RIGHT($D116,3))))","v":"BLANK"},0,0,null,"00000",{"$f":"COUNTIF(DK$17:DK116,1)","v":0},{"$f":"IF(DL116=\"BLANk\",0,COUNTIF(DL$17:DL116,DL116))","v":0},"BLANK",null,{"$f":"$DN$14+COUNTIF(DQ$17:DQ116,\"<>BLANK\")","v":0},{"$f":"COUNTA(DO$17:DO115)+1&\"0001\"","v":"1000001"},"BLANK","BLANK",0,0,{"$f":"\"20\"&RIGHT(Tables!$E$7,2)","v":"2023"},null,100,{"$f":"\"00\"&'1-Award Info'!$G$6","v":"00"},"","",1,"",{"$f":"IFERROR(\nIF(VLOOKUP(\"FY\"&RIGHT($EA116,2),'1-Award Info'!$F$28:$G$32,2,0)=0,\n     1,\n     VLOOKUP(\"FY\"&RIGHT($EA116,2),'1-Award Info'!$F$28:$G$32,2,0)),1)","v":1},"",null,""]
[null,null,null,null,null,null,null,null,null,null,0,null,null,null,null,null,null,null,null,"1000101",{"$f":"COUNTIF(V$17:$V117,1)","v":1},{"$f":"COUNTIF(W$17:$W117,W117)","v":101},{"$f":"IF($K117=0,\"\",IF(LEN('1-Award Info'!$G$4)=7,'1-Award Info'!$G$4&$B117&$C117,'1-Award Info'!$G$4&$C117))","v":""},null,{"$f":"COUNTA(Y$17:Y116)+1&\"0001\"","v":"1010001"},"",null,"1000101",{"$f":"COUNTIF($AD$17:AD117,AD117)","v":1},{"$f":"COUNTIF($AE$17:AE117,AE117)","v":101},"",null,{"$f":"COUNTA(AG$17:AG116)+1&\"0001\"","v":"1010001"},"",null,"BLANK",{"$f":"IF(IF($F117=0,\"\",IF(LEN('1-Award Info'!$G$4)=7,'1-Award Info'!$G$4&$B117&$C117&\"9\"&E117&RIGHT($D117,3),'1-Award Info'!$G$4&$C117&\"9\"&E117&RIGHT($D117,3)))=\"\",\"BLANK\",IF($F117=0,\"\",IF(LEN('1-Award Info'!$G$4)=7,'1-Award Info'!$G$4&$B117&$C117&\"9\"&E117&RIGHT($D117,3),'1-Award Info'!$G$4&$C117&\"9\"&E117&RIGHT($D117,3))))","v":"BLANK"},0,0,null,"00000",{"$f":"COUNTIF(AQ$17:AQ117,1)","v":0},{"$f":"IF(AR117=\"BLANK\",0,COUNTIF(AR$17:AR117,AR117))","v":0},"BLANK",null,{"$f":"$AT$14+COUNTIF(AV$17:AV117,\"<>BLANK\")","v":0},{"$f":"COUNTA(AU$17:AU116)+1&\"0001\"","v":"1010001"},"BLANK","BLANK",0,0,{"$f":"\"20\"&RIGHT(Tables!$E$3,2)","v":"2019"},null,"BLANK",{"$f":"IF(IF($G117=0,\"\",IF(LEN('1-Award Info'!$G$4)=7,'1-Award Info'!$G$4&$B117&$C117&\"9\"&E117&RIGHT($D117,3),'1-Award Info'!$G$4&$C117&\"9\"&E117&RIGHT($D117,3)))=\"\",\"BLANK\",IF($G117=0,\"\",IF(LEN('1-Award Info'!$G$4)=7,'1-Award Info'!$G$4&$B117&$C117&\"9\"&E117&RIGHT($D117,3),'1-Award Info'!$G$4&$C117&\"9\"&E117&RIGHT($D117,3))))","v":"BLANK"},0,0,null,"00000",{"$f":"COUNTIF(BI$17:BI117,1)","v":0},{"$f":"IF(BJ117=\"BLANk\",0,COUNTIF(BJ$17:BJ117,BJ117))","v":0},"BLANK",null,{"$f":"$BL$14+COUNTIF(BO$17:BO117,\"<>BLANK\")","v":0},{"$f":"COUNTA(BM$17:BM116)+1&\"0001\"","v":"1010001"},"BLANK","BLANK",0,6,{"$f":"\"20\"&RIGHT(Tables!$E$4,2)","v":"2020"},null,"BLANK",{"$f":"IF(IF($H117=0,\"\",IF(LEN('1-Award Info'!$G$4)=7,'1-Award Info'!$G$4&$B117&$C117&\"9\"&E117&RIGHT($D117,3),'1-Award Info'!$G$4&$C117&\"9\"&E117&RIGHT($D117,3)))=\"\",\"BLANK\",IF($H117=0,\"\",IF(LEN('1-Award Info'!$G$4)=7,'1-Award Info'!$G$4&$B117&$C117&\"9\"&E117&RIGHT($D117,3),'1-Award Info'!$G$4&$C117&\"9\"&E117&RIGHT($D117,3))))","v":"BLANK"},0,0,null,"00000",{"$f":"COUNTIF(CA$17:CA117,1)","v":0},{"$f":"IF(CB117=\"BLANk\",0,COUNTIF(CB$17:CB117,CB117))","v":0},"BLANK",null,{"$f":"$CD$14+COUNTIF(CG$17:CG117,\"<>BLANK\")","v":0},{"$f":"COUNTA(CE$17:CE116)+1&\"0001\"","v":"1010001"},"BLANK","BLANK",0,0,{"$f":"\"20\"&RIGHT(Tables!$E$5,2)","v":"2021"},null,"BLANK",{"$f":"IF(IF($I117=0,\"\",IF(LEN('1-Award Info'!$G$4)=7,'1-Award Info'!$G$4&$B117&$C117&\"9\"&$E117&RIGHT($D117,3),'1-Award Info'!$G$4&$C117&\"9\"&E$17&RIGHT($D117,3)))=\"\",\"BLANK\",IF($I117=0,\"\",IF(LEN('1-Award Info'!$G$4)=7,'1-Award Info'!$G$4&$B117&$C117&\"9\"&$E117&RIGHT($D117,3),'1-Award Info'!$G$4&$C117&\"9\"&$E117&RIGHT($D117,3))))","v":"BLANK"},0,0,null,"00000",{"$f":"COUNTIF(CS$17:CS117,1)","v":0},{"$f":"IF(CT117=\"BLANk\",0,COUNTIF(CT$17:CT117,CT117))","v":0},"BLANK",null,{"$f":"$CV$14+COUNTIF(CY$17:CY117,\"<>BLANK\")","v":0},{"$f":"COUNTA(CW$17:CW116)+1&\"0001\"","v":"1010001"},"BLANK","BLANK",0,0,{"$f":"\"20\"&RIGHT(Tables!$E$6,2)","v":"2022"},null,"BLANK",{"$f":"IF(IF($J117=0,\"\",IF(LEN('1-Award Info'!$G$4)=7,'1-Award Info'!$G$4&$B117&$C117&\"9\"&$E117&RIGHT($D117,3),'1-Award Info'!$G$4&$C117&\"9\"&W$17&RIGHT($D117,3)))=\"\",\"BLANK\",IF($J117=0,\"\",IF(LEN('1-Award Info'!$G$4)=7,'1-Award Info'!$G$4&$B117&$C117&\"9\"&$E117&RIGHT($D117,3),'1-Award Info'!$G$4&$C117&\"9\"&$E117&RIGHT($D117,3))))","v":"BLANK"},0,0,null,"00000",{"$f":"COUNTIF(DK$17:DK117,1)","v":0},{"$f":"IF(DL117=\"BLANk\",0,COUNTIF(DL$17:DL117,DL117))","v":0},"BLANK",null,{"$f":"$DN$14+COUNTIF(DQ$17:DQ117,\"<>BLANK\")","v":0},{"$f":"COUNTA(DO$17:DO116)+1&\"0001\"","v":"1010001"},"BLANK","BLANK",0,0,{"$f":"\"20\"&RIGHT(Tables!$E$7,2)","v":"2023"},null,101,{"$f":"\"00\"&'1-Award Info'!$G$6","v":"00"},"","",1,"",{"$f":"IFERROR(\nIF(VLOOKUP(\"FY\"&RIGHT($EA117,2),'1-Award Info'!$F$28:$G$32,2,0)=0,\n     1,\n     VLOOKUP(\"FY\"&RIGHT($EA117,2),'1-Award Info'!$F$28:$G$32,2,0)),1)","v":1},"",null,""]
[null,null,null,null,null,null,null,null,null,null,0,null,null,null,null,null,null,null,null,"1000102",{"$f":"COUNTIF(V$17:$V118,1)","v":1},{"$f":"COUNTIF(W$17:$W118,W118)","v":102},{"$f":"IF($K118=0,\"\",IF(LEN('1-Award Info'!$G$4)=7,'1-Award Info'!$G$4&$B118&$C118,'1-Award Info'!$G$4&$C118))","v":""},null,{"$f":"COUNTA(Y$17:Y117)+1&\"0001\"","v":"1020001"},"",null,"1000102",{"$f":"COUNTIF($AD$17:AD118,AD118)","v":1},{"$f":"COUNTIF($AE$17:AE118,AE118)","v":102},"",null,{"$f":"COUNTA(AG$17:AG117)+1&\"0001\"","v":"1020001"},"",null,"BLANK",{"$f":"IF(IF($F118=0,\"\",IF(LEN('1-Award Info'!$G$4)=7,'1-Award Info'!$G$4&$B118&$C118&\"9\"&E118&RIGHT($D118,3),'1-Award Info'!$G$4&$C118&\"9\"&E118&RIGHT($D118,3)))=\"\",\"BLANK\",IF($F118=0,\"\",IF(LEN('1-Award Info'!$G$4)=7,'1-Award Info'!$G$4&$B118&$C118&\"9\"&E118&RIGHT($D118,3),'1-Award Info'!$G$4&$C118&\"9\"&E118&RIGHT($D118,3))))","v":"BLANK"},0,0,null,"00000",{"$f":"COUNTIF(AQ$17:AQ118,1)","v":0},{"$f":"IF(AR118=\"BLANK\",0,COUNTIF(AR$17:AR118,AR118))","v":0},"BLANK",null,{"$f":"$AT$14+COUNTIF(AV$17:AV118,\"<>BLANK\")","v":0},{"$f":"COUNTA(AU$17:AU117)+1&\"0001\"","v":"1020001"},"BLANK","BLANK",0,0,{"$f":"\"20\"&RIGHT(Tables!$E$3,2)","v":"2019"},null,"BLANK",{"$f":"IF(IF($G118=0,\"\",IF(LEN('1-Award Info'!$G$4)=7,'1-Award Info'!$G$4&$B118&$C118&\"9\"&E118&RIGHT($D118,3),'1-Award Info'!$G$4&$C118&\"9\"&E118&RIGHT($D118,3)))=\"\",\"BLANK\",IF($G118=0,\"\",IF(LEN('1-Award Info'!$G$4)=7,'1-Award Info'!$G$4&$B118&$C118&\"9\"&E118&RIGHT($D118,3),'1-Award Info'!$G$4&$C118&\"9\"&E118&RIGHT($D118,3))))","v":"BLANK"},0,0,null,"00000",{"$f":"COUNTIF(BI$17:BI118,1)","v":0},{"$f":"IF(BJ118=\"BLANk\",0,COUNTIF(BJ$17:BJ118,BJ118))","v":0},"BLANK",null,{"$f":"$BL$14+COUNTIF(BO$17:BO118,\"<>BLANK\")","v":0},{"$f":"COUNTA(BM$17:BM117)+1&\"0001\"","v":"1020001"},"BLANK","BLANK",0,6,{"$f":"\"20\"&RIGHT(Tables!$E$4,2)","v":"2020"},null,"BLANK",{"$f":"IF(IF($H118=0,\"\",IF(LEN('1-Award Info'!$G$4)=7,'1-Award Info'!$G$4&$B118&$C118&\"9\"&E118&RIGHT($D118,3),'1-Award Info'!$G$4&$C118&\"9\"&E118&RIGHT($D118,3)))=\"\",\"BLANK\",IF($H118=0,\"\",IF(LEN('1-Award Info'!$G$4)=7,'1-Award Info'!$G$4&$B118&$C118&\"9\"&E118&RIGHT($D118,3),'1-Award Info'!$G$4&$C118&\"9\"&E118&RIGHT($D118,3))))","v":"BLANK"},0,0,null,"00000",{"$f":"COUNTIF(CA$17:CA118,1)","v":0},{"$f":"IF(CB118=\"BLANk\",0,COUNTIF(CB$17:CB118,CB118))","v":0},"BLANK",null,{"$f":"$CD$14+COUNTIF(CG$17:CG118,\"<>BLANK\")","v":0},{"$f":"COUNTA(CE$17:CE117)+1&\"0001\"","v":"1020001"},"BLANK","BLANK",0,0,{"$f":"\"20\"&RIGHT(Tables!$E$5,2)","v":"2021"},null,"BLANK",{"$f":"IF(IF($I118=0,\"\",IF(LEN('1-Award Info'!$G$4)=7,'1-Award Info'!$G$4&$B118&$C118&\"9\"&$E118&RIGHT($D118,3),'1-Award Info'!$G$4&$C118&\"9\"&E$17&RIGHT($D118,3)))=\"\",\"BLANK\",IF($I118=0,\"\",IF(LEN('1-Award Info'!$G$4)=7,'1-Award Info'!$G$4&$B118&$C118&\"9\"&$E118&RIGHT($D118,3),'1-Award Info'!$G$4&$C118&\"9\"&$E118&RIGHT($D118,3))))","v":"BLANK"},0,0,null,"00000",{"$f":"COUNTIF(CS$17:CS118,1)","v":0},{"$f":"IF(CT118=\"BLANk\",0,COUNTIF(CT$17:CT118,CT118))","v":0},"BLANK",null,{"$f":"$CV$14+COUNTIF(CY$17:CY118,\"<>BLANK\")","v":0},{"$f":"COUNTA(CW$17:CW117)+1&\"0001\"","v":"1020001"},"BLANK","BLANK",0,0,{"$f":"\"20\"&RIGHT(Tables!$E$6,2)","v":"2022"},null,"BLANK",{"$f":"IF(IF($J118=0,\"\",IF(LEN('1-Award Info'!$G$4)=7,'1-Award Info'!$G$4&$B118&$C118&\"9\"&$E118&RIGHT($D118,3),'1-Award Info'!$G$4&$C118&\"9\"&W$17&RIGHT($D118,3)))=\"\",\"BLANK\",IF($J118=0,\"\",IF(LEN('1-Award Info'!$G$4)=7,'1-Award Info'!$G$4&$B118&$C118&\"9\"&$E118&RIGHT($D118,3),'1-Award Info'!$G$4&$C118&\"9\"&$E118&RIGHT($D118,3))))","v":"BLANK"},0,0,null,"00000",{"$f":"COUNTIF(DK$17:DK118,1)","v":0},{"$f":"IF(DL118=\"BLANk\",0,COUNTIF(DL$17:DL118,DL118))","v":0},"BLANK",null,{"$f":"$DN$14+COUNTIF(DQ$17:DQ118,\"<>BLANK\")","v":0},{"$f":"COUNTA(DO$17:DO117)+1&\"0001\"","v":"1020001"},"BLANK","BLANK",0,0,{"$f":"\"20\"&RIGHT(Tables!$E$7,2)","v":"2023"},null,102,{"$f":"\"00\"&'1-Award Info'!$G$6","v":"00"},"","",1,"",{"$f":"IFERROR(\nIF(VLOOKUP(\"FY\"&RIGHT($EA118,2),'1-Award Info'!$F$28:$G$32,2,0)=0,\n     1,\n     VLOOKUP(\"FY\"&RIGHT($EA118,2),'1-Award Info'!$F$28:$G$32,2,0)),1)","v":1},"",null,""]
[null,null,null,null,null,null,null,null,null,null,0,null,null,null,null,null,null,null,null,"1000103",{"$f":"COUNTIF(V$17:$V119,1)","v":1},{"$f":"COUNTIF(W$17:$W119,W119)","v":103},{"$f":"IF($K119=0,\"\",IF(LEN('1-Award Info'!$G$4)=7,'1-Award Info'!$G$4&$B119&$C119,'1-Award Info'!$G$4&$C119))","v":""},null,{"$f":"COUNTA(Y$17:Y118)+1&\"0001\"","v":"1030001"},"",null,"1000103",{"$f":"COUNTIF($AD$17:AD119,AD119)","v":1},{"$f":"COUNTIF($AE$17:AE119,AE119)","v":103},"",null,{"$f":"COUNTA(AG$17:AG118)+1&\"0001\"","v":"1030001"},"",null,"BLANK",{"$f":"IF(IF($F119=0,\"\",IF(LEN('1-Award Info'!$G$4)=7,'1-Award Info'!$G$4&$B119&$C119&\"9\"&E119&RIGHT($D119,3),'1-Award Info'!$G$4&$C119&\"9\"&E119&RIGHT($D119,3)))=\"\",\"BLANK\",IF($F119=0,\"\",IF(LEN('1-Award Info'!$G$4)=7,'1-Award Info'!$G$4&$B119&$C119&\"9\"&E119&RIGHT($D119,3),'1-Award Info'!$G$4&$C119&\"9\"&E119&RIGHT($D119,3))))","v":"BLANK"},0,0,null,"00000",{"$f":"COUNTIF(AQ$17:AQ119,1)","v":0},{"$f":"IF(AR119=\"BLANK\",0,COUNTIF(AR$17:AR119,AR119))","v":0},"BLANK",null,{"$f":"$AT$14+COUNTIF(AV$17:AV119,\"<>BLANK\")","v":0},{"$f":"COUNTA(AU$17:AU118)+1&\"0001\"","v":"1030001"},"BLANK","BLANK",0,0,{"$f":"\"20\"&RIGHT(Tables!$E$3,2)","v":"2019"},null,"BLANK",{"$f":"IF(IF($G119=0,\"\",IF(LEN('1-Award Info'!$G$4)=7,'1-Award Info'!$G$4&$B119&$C119&\"9\"&E119&RIGHT($D119,3),'1-Award Info'!$G$4&$C119&\"9\"&E119&RIGHT($D119,3)))=\"\",\"BLANK\",IF($G119=0,\"\",IF(LEN('1-Award Info'!$G$4)=7,'1-Award Info'!$G$4&$B119&$C119&\"9\"&E119&RIGHT($D119,3),'1-Award Info'!$G$4&$C119&\"9\"&E119&RIGHT($D119,3))))","v":"BLANK"},0,0,null,"00000",{"$f":"COUNTIF(BI$17:BI119,1)","v":0},{"$f":"IF(BJ119=\"BLANk\",0,COUNTIF(BJ$17:BJ119,BJ119))","v":0},"BLANK",null,{"$f":"$BL$14+COUNTIF(BO$17:BO119,\"<>BLANK\")","v":0},{"$f":"COUNTA(BM$17:BM118)+1&\"0001\"","v":"1030001"},"BLANK","BLANK",0,6,{"$f":"\"20\"&RIGHT(Tables!$E$4,2)","v":"2020"},null,"BLANK",{"$f":"IF(IF($H119=0,\"\",IF(LEN('1-Award Info'!$G$4)=7,'1-Award Info'!$G$4&$B119&$C119&\"9\"&E119&RIGHT($D119,3),'1-Award Info'!$G$4&$C119&\"9\"&E119&RIGHT($D119,3)))=\"\",\"BLANK\",IF($H119=0,\"\",IF(LEN('1-Award Info'!$G$4)=7,'1-Award Info'!$G$4&$B119&$C119&\"9\"&E119&RIGHT($D119,3),'1-Award Info'!$G$4&$C119&\"9\"&E119&RIGHT($D119,3))))","v":"BLANK"},0,0,null,"00000",{"$f":"COUNTIF(CA$17:CA119,1)","v":0},{"$f":"IF(CB119=\"BLANk\",0,COUNTIF(CB$17:CB119,CB119))","v":0},"BLANK",null,{"$f":"$CD$14+COUNTIF(CG$17:CG119,\"<>BLANK\")","v":0},{"$f":"COUNTA(CE$17:CE118)+1&\"0001\"","v":"1030001"},"BLANK","BLANK",0,0,{"$f":"\"20\"&RIGHT(Tables!$E$5,2)","v":"2021"},null,"BLANK",{"$f":"IF(IF($I119=0,\"\",IF(LEN('1-Award Info'!$G$4)=7,'1-Award Info'!$G$4&$B119&$C119&\"9\"&$E119&RIGHT($D119,3),'1-Award Info'!$G$4&$C119&\"9\"&E$17&RIGHT($D119,3)))=\"\",\"BLANK\",IF($I119=0,\"\",IF(LEN('1-Award Info'!$G$4)=7,'1-Award Info'!$G$4&$B119&$C119&\"9\"&$E119&RIGHT($D119,3),'1-Award Info'!$G$4&$C119&\"9\"&$E119&RIGHT($D119,3))))","v":"BLANK"},0,0,null,"00000",{"$f":"COUNTIF(CS$17:CS119,1)","v":0},{"$f":"IF(CT119=\"BLANk\",0,COUNTIF(CT$17:CT119,CT119))","v":0},"BLANK",null,{"$f":"$CV$14+COUNTIF(CY$17:CY119,\"<>BLANK\")","v":0},{"$f":"COUNTA(CW$17:CW118)+1&\"0001\"","v":"1030001"},"BLANK","BLANK",0,0,{"$f":"\"20\"&RIGHT(Tables!$E$6,2)","v":"2022"},null,"BLANK",{"$f":"IF(IF($J119=0,\"\",IF(LEN('1-Award Info'!$G$4)=7,'1-Award Info'!$G$4&$B119&$C119&\"9\"&$E119&RIGHT($D119,3),'1-Award Info'!$G$4&$C119&\"9\"&W$17&RIGHT($D119,3)))=\"\",\"BLANK\",IF($J119=0,\"\",IF(LEN('1-Award Info'!$G$4)=7,'1-Award Info'!$G$4&$B119&$C119&\"9\"&$E119&RIGHT($D119,3),'1-Award Info'!$G$4&$C119&\"9\"&$E119&RIGHT($D119,3))))","v":"BLANK"},0,0,null,"00000",{"$f":"COUNTIF(DK$17:DK119,1)","v":0},{"$f":"IF(DL119=\"BLANk\",0,COUNTIF(DL$17:DL119,DL119))","v":0},"BLANK",null,{"$f":"$DN$14+COUNTIF(DQ$17:DQ119,\"<>BLANK\")","v":0},{"$f":"COUNTA(DO$17:DO118)+1&\"0001\"","v":"1030001"},"BLANK","BLANK",0,0,{"$f":"\"20\"&RIGHT(Tables!$E$7,2)","v":"2023"},null,103,{"$f":"\"00\"&'1-Award Info'!$G$6","v":"00"},"","",1,"",{"$f":"IFERROR(\nIF(VLOOKUP(\"FY\"&RIGHT($EA119,2),'1-Award Info'!$F$28:$G$32,2,0)=0,\n     1,\n     VLOOKUP(\"FY\"&RIGHT($EA119,2),'1-Award Info'!$F$28:$G$32,2,0)),1)","v":1},"",null,""]
[null,null,null,null,null,null,null,null,null,null,0,null,null,null,null,null,null,null,null,"1000104",{"$f":"COUNTIF(V$17:$V120,1)","v":1},{"$f":"COUNTIF(W$17:$W120,W120)","v":104},{"$f":"IF($K120=0,\"\",IF(LEN('1-Award Info'!$G$4)=7,'1-Award Info'!$G$4&$B120&$C120,'1-Award Info'!$G$4&$C120))","v":""},null,{"$f":"COUNTA(Y$17:Y119)+1&\"0001\"","v":"1040001"},"",null,"1000104",{"$f":"COUNTIF($AD$17:AD120,AD120)","v":1},{"$f":"COUNTIF($AE$17:AE120,AE120)","v":104},"",null,{"$f":"COUNTA(AG$17:AG119)+1&\"0001\"","v":"1040001"},"",null,"BLANK",{"$f":"IF(IF($F120=0,\"\",IF(LEN('1-Award Info'!$G$4)=7,'1-Award Info'!$G$4&$B120&$C120&\"9\"&E120&RIGHT($D120,3),'1-Award Info'!$G$4&$C120&\"9\"&E120&RIGHT($D120,3)))=\"\",\"BLANK\",IF($F120=0,\"\",IF(LEN('1-Award Info'!$G$4)=7,'1-Award Info'!$G$4&$B120&$C120&\"9\"&E120&RIGHT($D120,3),'1-Award Info'!$G$4&$C120&\"9\"&E120&RIGHT($D120,3))))","v":"BLANK"},0,0,null,"00000",{"$f":"COUNTIF(AQ$17:AQ120,1)","v":0},{"$f":"IF(AR120=\"BLANK\",0,COUNTIF(AR$17:AR120,AR120))","v":0},"BLANK",null,{"$f":"$AT$14+COUNTIF(AV$17:AV120,\"<>BLANK\")","v":0},{"$f":"COUNTA(AU$17:AU119)+1&\"0001\"","v":"1040001"},"BLANK","BLANK",0,0,{"$f":"\"20\"&RIGHT(Tables!$E$3,2)","v":"2019"},null,"BLANK",{"$f":"IF(IF($G120=0,\"\",IF(LEN('1-Award Info'!$G$4)=7,'1-Award Info'!$G$4&$B120&$C120&\"9\"&E120&RIGHT($D120,3),'1-Award Info'!$G$4&$C120&\"9\"&E120&RIGHT($D120,3)))=\"\",\"BLANK\",IF($G120=0,\"\",IF(LEN('1-Award Info'!$G$4)=7,'1-Award Info'!$G$4&$B120&$C120&\"9\"&E120&RIGHT($D120,3),'1-Award Info'!$G$4&$C120&\"9\"&E120&RIGHT($D120,3))))","v":"BLANK"},0,0,null,"00000",{"$f":"COUNTIF(BI$17:BI120,1)","v":0},{"$f":"IF(BJ120=\"BLANk\",0,COUNTIF(BJ$17:BJ120,BJ120))","v":0},"BLANK",null,{"$f":"$BL$14+COUNTIF(BO$17:BO120,\"<>BLANK\")","v":0},{"$f":"COUNTA(BM$17:BM119)+1&\"0001\"","v":"1040001"},"BLANK","BLANK",0,6,{"$f":"\"20\"&RIGHT(Tables!$E$4,2)","v":"2020"},null,"BLANK",{"$f":"IF(IF($H120=0,\"\",IF(LEN('1-Award Info'!$G$4)=7,'1-Award Info'!$G$4&$B120&$C120&\"9\"&E120&RIGHT($D120,3),'1-Award Info'!$G$4&$C120&\"9\"&E120&RIGHT($D120,3)))=\"\",\"BLANK\",IF($H120=0,\"\",IF(LEN('1-Award Info'!$G$4)=7,'1-Award Info'!$G$4&$B120&$C120&\"9\"&E120&RIGHT($D120,3),'1-Award Info'!$G$4&$C120&\"9\"&E120&RIGHT($D120,3))))","v":"BLANK"},0,0,null,"00000",{"$f":"COUNTIF(CA$17:CA120,1)","v":0},{"$f":"IF(CB120=\"BLANk\",0,COUNTIF(CB$17:CB120,CB120))","v":0},"BLANK",null,{"$f":"$CD$14+COUNTIF(CG$17:CG120,\"<>BLANK\")","v":0},{"$f":"COUNTA(CE$17:CE119)+1&\"0001\"","v":"1040001"},"BLANK","BLANK",0,0,{"$f":"\"20\"&RIGHT(Tables!$E$5,2)","v":"2021"},null,"BLANK",{"$f":"IF(IF($I120=0,\"\",IF(LEN('1-Award Info'!$G$4)=7,'1-Award Info'!$G$4&$B120&$C120&\"9\"&$E120&RIGHT($D120,3),'1-Award Info'!$G$4&$C120&\"9\"&E$17&RIGHT($D120,3)))=\"\",\"BLANK\",IF($I120=0,\"\",IF(LEN('1-Award Info'!$G$4)=7,'1-Award Info'!$G$4&$B120&$C120&\"9\"&$E120&RIGHT($D120,3),'1-Award Info'!$G$4&$C120&\"9\"&$E120&RIGHT($D120,3))))","v":"BLANK"},0,0,null,"00000",{"$f":"COUNTIF(CS$17:CS120,1)","v":0},{"$f":"IF(CT120=\"BLANk\",0,COUNTIF(CT$17:CT120,CT120))","v":0},"BLANK",null,{"$f":"$CV$14+COUNTIF(CY$17:CY120,\"<>BLANK\")","v":0},{"$f":"COUNTA(CW$17:CW119)+1&\"0001\"","v":"1040001"},"BLANK","BLANK",0,0,{"$f":"\"20\"&RIGHT(Tables!$E$6,2)","v":"2022"},null,"BLANK",{"$f":"IF(IF($J120=0,\"\",IF(LEN('1-Award Info'!$G$4)=7,'1-Award Info'!$G$4&$B120&$C120&\"9\"&$E120&RIGHT($D120,3),'1-Award Info'!$G$4&$C120&\"9\"&W$17&RIGHT($D120,3)))=\"\",\"BLANK\",IF($J120=0,\"\",IF(LEN('1-Award Info'!$G$4)=7,'1-Award Info'!$G$4&$B120&$C120&\"9\"&$E120&RIGHT($D120,3),'1-Award Info'!$G$4&$C120&\"9\"&$E120&RIGHT($D120,3))))","v":"BLANK"},0,0,null,"00000",{"$f":"COUNTIF(DK$17:DK120,1)","v":0},{"$f":"IF(DL120=\"BLANk\",0,COUNTIF(DL$17:DL120,DL120))","v":0},"BLANK",null,{"$f":"$DN$14+COUNTIF(DQ$17:DQ120,\"<>BLANK\")","v":0},{"$f":"COUNTA(DO$17:DO119)+1&\"0001\"","v":"1040001"},"BLANK","BLANK",0,0,{"$f":"\"20\"&RIGHT(Tables!$E$7,2)","v":"2023"},null,104,{"$f":"\"00\"&'1-Award Info'!$G$6","v":"00"},"","",1,"",{"$f":"IFERROR(\nIF(VLOOKUP(\"FY\"&RIGHT($EA120,2),'1-Award Info'!$F$28:$G$32,2,0)=0,\n     1,\n     VLOOKUP(\"FY\"&RIGHT($EA120,2),'1-Award Info'!$F$28:$G$32,2,0)),1)","v":1},"",null,""]
[null,null,null,null,null,null,null,null,null,null,0,null,null,null,null,null,null,null,null,"1000105",{"$f":"COUNTIF(V$17:$V121,1)","v":1},{"$f":"COUNTIF(W$17:$W121,W121)","v":105},{"$f":"IF($K121=0,\"\",IF(LEN('1-Award Info'!$G$4)=7,'1-Award Info'!$G$4&$B121&$C121,'1-Award Info'!$G$4&$C121))","v":""},null,{"$f":"COUNTA(Y$17:Y120)+1&\"0001\"","v":"1050001"},"",null,"1000105",{"$f":"COUNTIF($AD$17:AD121,AD121)","v":1},{"$f":"COUNTIF($AE$17:AE121,AE121)","v":105},"",null,{"$f":"COUNTA(AG$17:AG120)+1&\"0001\"","v":"1050001"},"",null,"BLANK",{"$f":"IF(IF($F121=0,\"\",IF(LEN('1-Award Info'!$G$4)=7,'1-Award Info'!$G$4&$B121&$C121&\"9\"&E121&RIGHT($D121,3),'1-Award Info'!$G$4&$C121&\"9\"&E121&RIGHT($D121,3)))=\"\",\"BLANK\",IF($F121=0,\"\",IF(LEN('1-Award Info'!$G$4)=7,'1-Award Info'!$G$4&$B121&$C121&\"9\"&E121&RIGHT($D121,3),'1-Award Info'!$G$4&$C121&\"9\"&E121&RIGHT($D121,3))))","v":"BLANK"},0,0,null,"00000",{"$f":"COUNTIF(AQ$17:AQ121,1)","v":0},{"$f":"IF(AR121=\"BLANK\",0,COUNTIF(AR$17:AR121,AR121))","v":0},"BLANK",null,{"$f":"$AT$14+COUNTIF(AV$17:AV121,\"<>BLANK\")","v":0},{"$f":"COUNTA(AU$17:AU120)+1&\"0001\"","v":"1050001"},"BLANK","BLANK",0,0,{"$f":"\"20\"&RIGHT(Tables!$E$3,2)","v":"2019"},null,"BLANK",{"$f":"IF(IF($G121=0,\"\",IF(LEN('1-Award Info'!$G$4)=7,'1-Award Info'!$G$4&$B121&$C121&\"9\"&E121&RIGHT($D121,3),'1-Award Info'!$G$4&$C121&\"9\"&E121&RIGHT($D121,3)))=\"\",\"BLANK\",IF($G121=0,\"\",IF(LEN('1-Award Info'!$G$4)=7,'1-Award Info'!$G$4&$B121&$C121&\"9\"&E121&RIGHT($D121,3),'1-Award Info'!$G$4&$C121&\"9\"&E121&RIGHT($D121,3))))","v":"BLANK"},0,0,null,"00000",{"$f":"COUNTIF(BI$17:BI121,1)","v":0},{"$f":"IF(BJ121=\"BLANk\",0,COUNTIF(BJ$17:BJ121,BJ121))","v":0},"BLANK",null,{"$f":"$BL$14+COUNTIF(BO$17:BO121,\"<>BLANK\")","v":0},{"$f":"COUNTA(BM$17:BM120)+1&\"0001\"","v":"1050001"},"BLANK","BLANK",0,6,{"$f":"\"20\"&RIGHT(Tables!$E$4,2)","v":"2020"},null,"BLANK",{"$f":"IF(IF($H121=0,\"\",IF(LEN('1-Award Info'!$G$4)=7,'1-Award Info'!$G$4&$B121&$C121&\"9\"&E121&RIGHT($D121,3),'1-Award Info'!$G$4&$C121&\"9\"&E121&RIGHT($D121,3)))=\"\",\"BLANK\",IF($H121=0,\"\",IF(LEN('1-Award Info'!$G$4)=7,'1-Award Info'!$G$4&$B121&$C121&\"9\"&E121&RIGHT($D121,3),'1-Award Info'!$G$4&$C121&\"9\"&E121&RIGHT($D121,3))))","v":"BLANK"},0,0,null,"00000",{"$f":"COUNTIF(CA$17:CA121,1)","v":0},{"$f":"IF(CB121=\"BLANk\",0,COUNTIF(CB$17:CB121,CB121))","v":0},"BLANK",null,{"$f":"$CD$14+COUNTIF(CG$17:CG121,\"<>BLANK\")","v":0},{"$f":"COUNTA(CE$17:CE120)+1&\"0001\"","v":"1050001"},"BLANK","BLANK",0,0,{"$f":"\"20\"&RIGHT(Tables!$E$5,2)","v":"2021"},null,"BLANK",{"$f":"IF(IF($I121=0,\"\",IF(LEN('1-Award Info'!$G$4)=7,'1-Award Info'!$G$4&$B121&$C121&\"9\"&$E121&RIGHT($D121,3),'1-Award Info'!$G$4&$C121&\"9\"&E$17&RIGHT($D121,3)))=\"\",\"BLANK\",IF($I121=0,\"\",IF(LEN('1-Award Info'!$G$4)=7,'1-Award Info'!$G$4&$B121&$C121&\"9\"&$E121&RIGHT($D121,3),'1-Award Info'!$G$4&$C121&\"9\"&$E121&RIGHT($D121,3))))","v":"BLANK"},0,0,null,"00000",{"$f":"COUNTIF(CS$17:CS121,1)","v":0},{"$f":"IF(CT121=\"BLANk\",0,COUNTIF(CT$17:CT121,CT121))","v":0},"BLANK",null,{"$f":"$CV$14+COUNTIF(CY$17:CY121,\"<>BLANK\")","v":0},{"$f":"COUNTA(CW$17:CW120)+1&\"0001\"","v":"1050001"},"BLANK","BLANK",0,0,{"$f":"\"20\"&RIGHT(Tables!$E$6,2)","v":"2022"},null,"BLANK",{"$f":"IF(IF($J121=0,\"\",IF(LEN('1-Award Info'!$G$4)=7,'1-Award Info'!$G$4&$B121&$C121&\"9\"&$E121&RIGHT($D121,3),'1-Award Info'!$G$4&$C121&\"9\"&W$17&RIGHT($D121,3)))=\"\",\"BLANK\",IF($J121=0,\"\",IF(LEN('1-Award Info'!$G$4)=7,'1-Award Info'!$G$4&$B121&$C121&\"9\"&$E121&RIGHT($D121,3),'1-Award Info'!$G$4&$C121&\"9\"&$E121&RIGHT($D121,3))))","v":"BLANK"},0,0,null,"00000",{"$f":"COUNTIF(DK$17:DK121,1)","v":0},{"$f":"IF(DL121=\"BLANk\",0,COUNTIF(DL$17:DL121,DL121))","v":0},"BLANK",null,{"$f":"$DN$14+COUNTIF(DQ$17:DQ121,\"<>BLANK\")","v":0},{"$f":"COUNTA(DO$17:DO120)+1&\"0001\"","v":"1050001"},"BLANK","BLANK",0,0,{"$f":"\"20\"&RIGHT(Tables!$E$7,2)","v":"2023"},null,105,{"$f":"\"00\"&'1-Award Info'!$G$6","v":"00"},"","",1,"",{"$f":"IFERROR(\nIF(VLOOKUP(\"FY\"&RIGHT($EA121,2),'1-Award Info'!$F$28:$G$32,2,0)=0,\n     1,\n     VLOOKUP(\"FY\"&RIGHT($EA121,2),'1-Award Info'!$F$28:$G$32,2,0)),1)","v":1},"",null,""]
[null,null,null,null,null,null,null,null,null,null,0,null,null,null,null,null,null,null,null,"1000106",{"$f":"COUNTIF(V$17:$V122,1)","v":1},{"$f":"COUNTIF(W$17:$W122,W122)","v":106},{"$f":"IF($K122=0,\"\",IF(LEN('1-Award Info'!$G$4)=7,'1-Award Info'!$G$4&$B122&$C122,'1-Award Info'!$G$4&$C122))","v":""},null,{"$f":"COUNTA(Y$17:Y121)+1&\"0001\"","v":"1060001"},"",null,"1000106",{"$f":"COUNTIF($AD$17:AD122,AD122)","v":1},{"$f":"COUNTIF($AE$17:AE122,AE122)","v":106},"",null,{"$f":"COUNTA(AG$17:AG121)+1&\"0001\"","v":"1060001"},"",null,"BLANK",{"$f":"IF(IF($F122=0,\"\",IF(LEN('1-Award Info'!$G$4)=7,'1-Award Info'!$G$4&$B122&$C122&\"9\"&E122&RIGHT($D122,3),'1-Award Info'!$G$4&$C122&\"9\"&E122&RIGHT($D122,3)))=\"\",\"BLANK\",IF($F122=0,\"\",IF(LEN('1-Award Info'!$G$4)=7,'1-Award Info'!$G$4&$B122&$C122&\"9\"&E122&RIGHT($D122,3),'1-Award Info'!$G$4&$C122&\"9\"&E122&RIGHT($D122,3))))","v":"BLANK"},0,0,null,"00000",{"$f":"COUNTIF(AQ$17:AQ122,1)","v":0},{"$f":"IF(AR122=\"BLANK\",0,COUNTIF(AR$17:AR122,AR122))","v":0},"BLANK",null,{"$f":"$AT$14+COUNTIF(AV$17:AV122,\"<>BLANK\")","v":0},{"$f":"COUNTA(AU$17:AU121)+1&\"0001\"","v":"1060001"},"BLANK","BLANK",0,0,{"$f":"\"20\"&RIGHT(Tables!$E$3,2)","v":"2019"},null,"BLANK",{"$f":"IF(IF($G122=0,\"\",IF(LEN('1-Award Info'!$G$4)=7,'1-Award Info'!$G$4&$B122&$C122&\"9\"&E122&RIGHT($D122,3),'1-Award Info'!$G$4&$C122&\"9\"&E122&RIGHT($D122,3)))=\"\",\"BLANK\",IF($G122=0,\"\",IF(LEN('1-Award Info'!$G$4)=7,'1-Award Info'!$G$4&$B122&$C122&\"9\"&E122&RIGHT($D122,3),'1-Award Info'!$G$4&$C122&\"9\"&E122&RIGHT($D122,3))))","v":"BLANK"},0,0,null,"00000",{"$f":"COUNTIF(BI$17:BI122,1)","v":0},{"$f":"IF(BJ122=\"BLANk\",0,COUNTIF(BJ$17:BJ122,BJ122))","v":0},"BLANK",null,{"$f":"$BL$14+COUNTIF(BO$17:BO122,\"<>BLANK\")","v":0},{"$f":"COUNTA(BM$17:BM121)+1&\"0001\"","v":"1060001"},"BLANK","BLANK",0,6,{"$f":"\"20\"&RIGHT(Tables!$E$4,2)","v":"2020"},null,"BLANK",{"$f":"IF(IF($H122=0,\"\",IF(LEN('1-Award Info'!$G$4)=7,'1-Award Info'!$G$4&$B122&$C122&\"9\"&E122&RIGHT($D122,3),'1-Award Info'!$G$4&$C122&\"9\"&E122&RIGHT($D122,3)))=\"\",\"BLANK\",IF($H122=0,\"\",IF(LEN('1-Award Info'!$G$4)=7,'1-Award Info'!$G$4&$B122&$C122&\"9\"&E122&RIGHT($D122,3),'1-Award Info'!$G$4&$C122&\"9\"&E122&RIGHT($D122,3))))","v":"BLANK"},0,0,null,"00000",{"$f":"COUNTIF(CA$17:CA122,1)","v":0},{"$f":"IF(CB122=\"BLANk\",0,COUNTIF(CB$17:CB122,CB122))","v":0},"BLANK",null,{"$f":"$CD$14+COUNTIF(CG$17:CG122,\"<>BLANK\")","v":0},{"$f":"COUNTA(CE$17:CE121)+1&\"0001\"","v":"1060001"},"BLANK","BLANK",0,0,{"$f":"\"20\"&RIGHT(Tables!$E$5,2)","v":"2021"},null,"BLANK",{"$f":"IF(IF($I122=0,\"\",IF(LEN('1-Award Info'!$G$4)=7,'1-Award Info'!$G$4&$B122&$C122&\"9\"&$E122&RIGHT($D122,3),'1-Award Info'!$G$4&$C122&\"9\"&E$17&RIGHT($D122,3)))=\"\",\"BLANK\",IF($I122=0,\"\",IF(LEN('1-Award Info'!$G$4)=7,'1-Award Info'!$G$4&$B122&$C122&\"9\"&$E122&RIGHT($D122,3),'1-Award Info'!$G$4&$C122&\"9\"&$E122&RIGHT($D122,3))))","v":"BLANK"},0,0,null,"00000",{"$f":"COUNTIF(CS$17:CS122,1)","v":0},{"$f":"IF(CT122=\"BLANk\",0,COUNTIF(CT$17:CT122,CT122))","v":0},"BLANK",null,{"$f":"$CV$14+COUNTIF(CY$17:CY122,\"<>BLANK\")","v":0},{"$f":"COUNTA(CW$17:CW121)+1&\"0001\"","v":"1060001"},"BLANK","BLANK",0,0,{"$f":"\"20\"&RIGHT(Tables!$E$6,2)","v":"2022"},null,"BLANK",{"$f":"IF(IF($J122=0,\"\",IF(LEN('1-Award Info'!$G$4)=7,'1-Award Info'!$G$4&$B122&$C122&\"9\"&$E122&RIGHT($D122,3),'1-Award Info'!$G$4&$C122&\"9\"&W$17&RIGHT($D122,3)))=\"\",\"BLANK\",IF($J122=0,\"\",IF(LEN('1-Award Info'!$G$4)=7,'1-Award Info'!$G$4&$B122&$C122&\"9\"&$E122&RIGHT($D122,3),'1-Award Info'!$G$4&$C122&\"9\"&$E122&RIGHT($D122,3))))","v":"BLANK"},0,0,null,"00000",{"$f":"COUNTIF(DK$17:DK122,1)","v":0},{"$f":"IF(DL122=\"BLANk\",0,COUNTIF(DL$17:DL122,DL122))","v":0},"BLANK",null,{"$f":"$DN$14+COUNTIF(DQ$17:DQ122,\"<>BLANK\")","v":0},{"$f":"COUNTA(DO$17:DO121)+1&\"0001\"","v":"1060001"},"BLANK","BLANK",0,0,{"$f":"\"20\"&RIGHT(Tables!$E$7,2)","v":"2023"},null,106,{"$f":"\"00\"&'1-Award Info'!$G$6","v":"00"},"","",1,"",{"$f":"IFERROR(\nIF(VLOOKUP(\"FY\"&RIGHT($EA122,2),'1-Award Info'!$F$28:$G$32,2,0)=0,\n     1,\n     VLOOKUP(\"FY\"&RIGHT($EA122,2),'1-Award Info'!$F$28:$G$32,2,0)),1)","v":1},"",null,""]
[null,null,null,null,null,null,null,null,null,null,0,null,null,null,null,null,null,null,null,"1000107",{"$f":"COUNTIF(V$17:$V123,1)","v":1},{"$f":"COUNTIF(W$17:$W123,W123)","v":107},{"$f":"IF($K123=0,\"\",IF(LEN('1-Award Info'!$G$4)=7,'1-Award Info'!$G$4&$B123&$C123,'1-Award Info'!$G$4&$C123))","v":""},null,{"$f":"COUNTA(Y$17:Y122)+1&\"0001\"","v":"1070001"},"",null,"1000107",{"$f":"COUNTIF($AD$17:AD123,AD123)","v":1},{"$f":"COUNTIF($AE$17:AE123,AE123)","v":107},"",null,{"$f":"COUNTA(AG$17:AG122)+1&\"0001\"","v":"1070001"},"",null,"BLANK",{"$f":"IF(IF($F123=0,\"\",IF(LEN('1-Award Info'!$G$4)=7,'1-Award Info'!$G$4&$B123&$C123&\"9\"&E123&RIGHT($D123,3),'1-Award Info'!$G$4&$C123&\"9\"&E123&RIGHT($D123,3)))=\"\",\"BLANK\",IF($F123=0,\"\",IF(LEN('1-Award Info'!$G$4)=7,'1-Award Info'!$G$4&$B123&$C123&\"9\"&E123&RIGHT($D123,3),'1-Award Info'!$G$4&$C123&\"9\"&E123&RIGHT($D123,3))))","v":"BLANK"},0,0,null,"00000",{"$f":"COUNTIF(AQ$17:AQ123,1)","v":0},{"$f":"IF(AR123=\"BLANK\",0,COUNTIF(AR$17:AR123,AR123))","v":0},"BLANK",null,{"$f":"$AT$14+COUNTIF(AV$17:AV123,\"<>BLANK\")","v":0},{"$f":"COUNTA(AU$17:AU122)+1&\"0001\"","v":"1070001"},"BLANK","BLANK",0,0,{"$f":"\"20\"&RIGHT(Tables!$E$3,2)","v":"2019"},null,"BLANK",{"$f":"IF(IF($G123=0,\"\",IF(LEN('1-Award Info'!$G$4)=7,'1-Award Info'!$G$4&$B123&$C123&\"9\"&E123&RIGHT($D123,3),'1-Award Info'!$G$4&$C123&\"9\"&E123&RIGHT($D123,3)))=\"\",\"BLANK\",IF($G123=0,\"\",IF(LEN('1-Award Info'!$G$4)=7,'1-Award Info'!$G$4&$B123&$C123&\"9\"&E123&RIGHT($D123,3),'1-Award Info'!$G$4&$C123&\"9\"&E123&RIGHT($D123,3))))","v":"BLANK"},0,0,null,"00000",{"$f":"COUNTIF(BI$17:BI123,1)","v":0},{"$f":"IF(BJ123=\"BLANk\",0,COUNTIF(BJ$17:BJ123,BJ123))","v":0},"BLANK",null,{"$f":"$BL$14+COUNTIF(BO$17:BO123,\"<>BLANK\")","v":0},{"$f":"COUNTA(BM$17:BM122)+1&\"0001\"","v":"1070001"},"BLANK","BLANK",0,6,{"$f":"\"20\"&RIGHT(Tables!$E$4,2)","v":"2020"},null,"BLANK",{"$f":"IF(IF($H123=0,\"\",IF(LEN('1-Award Info'!$G$4)=7,'1-Award Info'!$G$4&$B123&$C123&\"9\"&E123&RIGHT($D123,3),'1-Award Info'!$G$4&$C123&\"9\"&E123&RIGHT($D123,3)))=\"\",\"BLANK\",IF($H123=0,\"\",IF(LEN('1-Award Info'!$G$4)=7,'1-Award Info'!$G$4&$B123&$C123&\"9\"&E123&RIGHT($D123,3),'1-Award Info'!$G$4&$C123&\"9\"&E123&RIGHT($D123,3))))","v":"BLANK"},0,0,null,"00000",{"$f":"COUNTIF(CA$17:CA123,1)","v":0},{"$f":"IF(CB123=\"BLANk\",0,COUNTIF(CB$17:CB123,CB123))","v":0},"BLANK",null,{"$f":"$CD$14+COUNTIF(CG$17:CG123,\"<>BLANK\")","v":0},{"$f":"COUNTA(CE$17:CE122)+1&\"0001\"","v":"1070001"},"BLANK","BLANK",0,0,{"$f":"\"20\"&RIGHT(Tables!$E$5,2)","v":"2021"},null,"BLANK",{"$f":"IF(IF($I123=0,\"\",IF(LEN('1-Award Info'!$G$4)=7,'1-Award Info'!$G$4&$B123&$C123&\"9\"&$E123&RIGHT($D123,3),'1-Award Info'!$G$4&$C123&\"9\"&E$17&RIGHT($D123,3)))=\"\",\"BLANK\",IF($I123=0,\"\",IF(LEN('1-Award Info'!$G$4)=7,'1-Award Info'!$G$4&$B123&$C123&\"9\"&$E123&RIGHT($D123,3),'1-Award Info'!$G$4&$C123&\"9\"&$E123&RIGHT($D123,3))))","v":"BLANK"},0,0,null,"00000",{"$f":"COUNTIF(CS$17:CS123,1)","v":0},{"$f":"IF(CT123=\"BLANk\",0,COUNTIF(CT$17:CT123,CT123))","v":0},"BLANK",null,{"$f":"$CV$14+COUNTIF(CY$17:CY123,\"<>BLANK\")","v":0},{"$f":"COUNTA(CW$17:CW122)+1&\"0001\"","v":"1070001"},"BLANK","BLANK",0,0,{"$f":"\"20\"&RIGHT(Tables!$E$6,2)","v":"2022"},null,"BLANK",{"$f":"IF(IF($J123=0,\"\",IF(LEN('1-Award Info'!$G$4)=7,'1-Award Info'!$G$4&$B123&$C123&\"9\"&$E123&RIGHT($D123,3),'1-Award Info'!$G$4&$C123&\"9\"&W$17&RIGHT($D123,3)))=\"\",\"BLANK\",IF($J123=0,\"\",IF(LEN('1-Award Info'!$G$4)=7,'1-Award Info'!$G$4&$B123&$C123&\"9\"&$E123&RIGHT($D123,3),'1-Award Info'!$G$4&$C123&\"9\"&$E123&RIGHT($D123,3))))","v":"BLANK"},0,0,null,"00000",{"$f":"COUNTIF(DK$17:DK123,1)","v":0},{"$f":"IF(DL123=\"BLANk\",0,COUNTIF(DL$17:DL123,DL123))","v":0},"BLANK",null,{"$f":"$DN$14+COUNTIF(DQ$17:DQ123,\"<>BLANK\")","v":0},{"$f":"COUNTA(DO$17:DO122)+1&\"0001\"","v":"1070001"},"BLANK","BLANK",0,0,{"$f":"\"20\"&RIGHT(Tables!$E$7,2)","v":"2023"},null,107,{"$f":"\"00\"&'1-Award Info'!$G$6","v":"00"},"","",1,"",{"$f":"IFERROR(\nIF(VLOOKUP(\"FY\"&RIGHT($EA123,2),'1-Award Info'!$F$28:$G$32,2,0)=0,\n     1,\n     VLOOKUP(\"FY\"&RIGHT($EA123,2),'1-Award Info'!$F$28:$G$32,2,0)),1)","v":1},"",null,""]
[null,null,null,null,null,null,null,null,null,null,0,null,null,null,null,null,null,null,null,"1000108",{"$f":"COUNTIF(V$17:$V124,1)","v":1},{"$f":"COUNTIF(W$17:$W124,W124)","v":108},{"$f":"IF($K124=0,\"\",IF(LEN('1-Award Info'!$G$4)=7,'1-Award Info'!$G$4&$B124&$C124,'1-Award Info'!$G$4&$C124))","v":""},null,{"$f":"COUNTA(Y$17:Y123)+1&\"0001\"","v":"1080001"},"",null,"1000108",{"$f":"COUNTIF($AD$17:AD124,AD124)","v":1},{"$f":"COUNTIF($AE$17:AE124,AE124)","v":108},"",null,{"$f":"COUNTA(AG$17:AG123)+1&\"0001\"","v":"1080001"},"",null,"BLANK",{"$f":"IF(IF($F124=0,\"\",IF(LEN('1-Award Info'!$G$4)=7,'1-Award Info'!$G$4&$B124&$C124&\"9\"&E124&RIGHT($D124,3),'1-Award Info'!$G$4&$C124&\"9\"&E124&RIGHT($D124,3)))=\"\",\"BLANK\",IF($F124=0,\"\",IF(LEN('1-Award Info'!$G$4)=7,'1-Award Info'!$G$4&$B124&$C124&\"9\"&E124&RIGHT($D124,3),'1-Award Info'!$G$4&$C124&\"9\"&E124&RIGHT($D124,3))))","v":"BLANK"},0,0,null,"00000",{"$f":"COUNTIF(AQ$17:AQ124,1)","v":0},{"$f":"IF(AR124=\"BLANK\",0,COUNTIF(AR$17:AR124,AR124))","v":0},"BLANK",null,{"$f":"$AT$14+COUNTIF(AV$17:AV124,\"<>BLANK\")","v":0},{"$f":"COUNTA(AU$17:AU123)+1&\"0001\"","v":"1080001"},"BLANK","BLANK",0,0,{"$f":"\"20\"&RIGHT(Tables!$E$3,2)","v":"2019"},null,"BLANK",{"$f":"IF(IF($G124=0,\"\",IF(LEN('1-Award Info'!$G$4)=7,'1-Award Info'!$G$4&$B124&$C124&\"9\"&E124&RIGHT($D124,3),'1-Award Info'!$G$4&$C124&\"9\"&E124&RIGHT($D124,3)))=\"\",\"BLANK\",IF($G124=0,\"\",IF(LEN('1-Award Info'!$G$4)=7,'1-Award Info'!$G$4&$B124&$C124&\"9\"&E124&RIGHT($D124,3),'1-Award Info'!$G$4&$C124&\"9\"&E124&RIGHT($D124,3))))","v":"BLANK"},0,0,null,"00000",{"$f":"COUNTIF(BI$17:BI124,1)","v":0},{"$f":"IF(BJ124=\"BLANk\",0,COUNTIF(BJ$17:BJ124,BJ124))","v":0},"BLANK",null,{"$f":"$BL$14+COUNTIF(BO$17:BO124,\"<>BLANK\")","v":0},{"$f":"COUNTA(BM$17:BM123)+1&\"0001\"","v":"1080001"},"BLANK","BLANK",0,6,{"$f":"\"20\"&RIGHT(Tables!$E$4,2)","v":"2020"},null,"BLANK",{"$f":"IF(IF($H124=0,\"\",IF(LEN('1-Award Info'!$G$4)=7,'1-Award Info'!$G$4&$B124&$C124&\"9\"&E124&RIGHT($D124,3),'1-Award Info'!$G$4&$C124&\"9\"&E124&RIGHT($D124,3)))=\"\",\"BLANK\",IF($H124=0,\"\",IF(LEN('1-Award Info'!$G$4)=7,'1-Award Info'!$G$4&$B124&$C124&\"9\"&E124&RIGHT($D124,3),'1-Award Info'!$G$4&$C124&\"9\"&E124&RIGHT($D124,3))))","v":"BLANK"},0,0,null,"00000",{"$f":"COUNTIF(CA$17:CA124,1)","v":0},{"$f":"IF(CB124=\"BLANk\",0,COUNTIF(CB$17:CB124,CB124))","v":0},"BLANK",null,{"$f":"$CD$14+COUNTIF(CG$17:CG124,\"<>BLANK\")","v":0},{"$f":"COUNTA(CE$17:CE123)+1&\"0001\"","v":"1080001"},"BLANK","BLANK",0,0,{"$f":"\"20\"&RIGHT(Tables!$E$5,2)","v":"2021"},null,"BLANK",{"$f":"IF(IF($I124=0,\"\",IF(LEN('1-Award Info'!$G$4)=7,'1-Award Info'!$G$4&$B124&$C124&\"9\"&$E124&RIGHT($D124,3),'1-Award Info'!$G$4&$C124&\"9\"&E$17&RIGHT($D124,3)))=\"\",\"BLANK\",IF($I124=0,\"\",IF(LEN('1-Award Info'!$G$4)=7,'1-Award Info'!$G$4&$B124&$C124&\"9\"&$E124&RIGHT($D124,3),'1-Award Info'!$G$4&$C124&\"9\"&$E124&RIGHT($D124,3))))","v":"BLANK"},0,0,null,"00000",{"$f":"COUNTIF(CS$17:CS124,1)","v":0},{"$f":"IF(CT124=\"BLANk\",0,COUNTIF(CT$17:CT124,CT124))","v":0},"BLANK",null,{"$f":"$CV$14+COUNTIF(CY$17:CY124,\"<>BLANK\")","v":0},{"$f":"COUNTA(CW$17:CW123)+1&\"0001\"","v":"1080001"},"BLANK","BLANK",0,0,{"$f":"\"20\"&RIGHT(Tables!$E$6,2)","v":"2022"},null,"BLANK",{"$f":"IF(IF($J124=0,\"\",IF(LEN('1-Award Info'!$G$4)=7,'1-Award Info'!$G$4&$B124&$C124&\"9\"&$E124&RIGHT($D124,3),'1-Award Info'!$G$4&$C124&\"9\"&W$17&RIGHT($D124,3)))=\"\",\"BLANK\",IF($J124=0,\"\",IF(LEN('1-Award Info'!$G$4)=7,'1-Award Info'!$G$4&$B124&$C124&\"9\"&$E124&RIGHT($D124,3),'1-Award Info'!$G$4&$C124&\"9\"&$E124&RIGHT($D124,3))))","v":"BLANK"},0,0,null,"00000",{"$f":"COUNTIF(DK$17:DK124,1)","v":0},{"$f":"IF(DL124=\"BLANk\",0,COUNTIF(DL$17:DL124,DL124))","v":0},"BLANK",null,{"$f":"$DN$14+COUNTIF(DQ$17:DQ124,\"<>BLANK\")","v":0},{"$f":"COUNTA(DO$17:DO123)+1&\"0001\"","v":"1080001"},"BLANK","BLANK",0,0,{"$f":"\"20\"&RIGHT(Tables!$E$7,2)","v":"2023"},null,108,{"$f":"\"00\"&'1-Award Info'!$G$6","v":"00"},"","",1,"",{"$f":"IFERROR(\nIF(VLOOKUP(\"FY\"&RIGHT($EA124,2),'1-Award Info'!$F$28:$G$32,2,0)=0,\n     1,\n     VLOOKUP(\"FY\"&RIGHT($EA124,2),'1-Award Info'!$F$28:$G$32,2,0)),1)","v":1},"",null,""]
[null,null,null,null,null,null,null,null,null,null,0,null,null,null,null,null,null,null,null,"1000109",{"$f":"COUNTIF(V$17:$V125,1)","v":1},{"$f":"COUNTIF(W$17:$W125,W125)","v":109},{"$f":"IF($K125=0,\"\",IF(LEN('1-Award Info'!$G$4)=7,'1-Award Info'!$G$4&$B125&$C125,'1-Award Info'!$G$4&$C125))","v":""},null,{"$f":"COUNTA(Y$17:Y124)+1&\"0001\"","v":"1090001"},"",null,"1000109",{"$f":"COUNTIF($AD$17:AD125,AD125)","v":1},{"$f":"COUNTIF($AE$17:AE125,AE125)","v":109},"",null,{"$f":"COUNTA(AG$17:AG124)+1&\"0001\"","v":"1090001"},"",null,"BLANK",{"$f":"IF(IF($F125=0,\"\",IF(LEN('1-Award Info'!$G$4)=7,'1-Award Info'!$G$4&$B125&$C125&\"9\"&E125&RIGHT($D125,3),'1-Award Info'!$G$4&$C125&\"9\"&E125&RIGHT($D125,3)))=\"\",\"BLANK\",IF($F125=0,\"\",IF(LEN('1-Award Info'!$G$4)=7,'1-Award Info'!$G$4&$B125&$C125&\"9\"&E125&RIGHT($D125,3),'1-Award Info'!$G$4&$C125&\"9\"&E125&RIGHT($D125,3))))","v":"BLANK"},0,0,null,"00000",{"$f":"COUNTIF(AQ$17:AQ125,1)","v":0},{"$f":"IF(AR125=\"BLANK\",0,COUNTIF(AR$17:AR125,AR125))","v":0},"BLANK",null,{"$f":"$AT$14+COUNTIF(AV$17:AV125,\"<>BLANK\")","v":0},{"$f":"COUNTA(AU$17:AU124)+1&\"0001\"","v":"1090001"},"BLANK","BLANK",0,0,{"$f":"\"20\"&RIGHT(Tables!$E$3,2)","v":"2019"},null,"BLANK",{"$f":"IF(IF($G125=0,\"\",IF(LEN('1-Award Info'!$G$4)=7,'1-Award Info'!$G$4&$B125&$C125&\"9\"&E125&RIGHT($D125,3),'1-Award Info'!$G$4&$C125&\"9\"&E125&RIGHT($D125,3)))=\"\",\"BLANK\",IF($G125=0,\"\",IF(LEN('1-Award Info'!$G$4)=7,'1-Award Info'!$G$4&$B125&$C125&\"9\"&E125&RIGHT($D125,3),'1-Award Info'!$G$4&$C125&\"9\"&E125&RIGHT($D125,3))))","v":"BLANK"},0,0,null,"00000",{"$f":"COUNTIF(BI$17:BI125,1)","v":0},{"$f":"IF(BJ125=\"BLANk\",0,COUNTIF(BJ$17:BJ125,BJ125))","v":0},"BLANK",null,{"$f":"$BL$14+COUNTIF(BO$17:BO125,\"<>BLANK\")","v":0},{"$f":"COUNTA(BM$17:BM124)+1&\"0001\"","v":"1090001"},"BLANK","BLANK",0,6,{"$f":"\"20\"&RIGHT(Tables!$E$4,2)","v":"2020"},null,"BLANK",{"$f":"IF(IF($H125=0,\"\",IF(LEN('1-Award Info'!$G$4)=7,'1-Award Info'!$G$4&$B125&$C125&\"9\"&E125&RIGHT($D125,3),'1-Award Info'!$G$4&$C125&\"9\"&E125&RIGHT($D125,3)))=\"\",\"BLANK\",IF($H125=0,\"\",IF(LEN('1-Award Info'!$G$4)=7,'1-Award Info'!$G$4&$B125&$C125&\"9\"&E125&RIGHT($D125,3),'1-Award Info'!$G$4&$C125&\"9\"&E125&RIGHT($D125,3))))","v":"BLANK"},0,0,null,"00000",{"$f":"COUNTIF(CA$17:CA125,1)","v":0},{"$f":"IF(CB125=\"BLANk\",0,COUNTIF(CB$17:CB125,CB125))","v":0},"BLANK",null,{"$f":"$CD$14+COUNTIF(CG$17:CG125,\"<>BLANK\")","v":0},{"$f":"COUNTA(CE$17:CE124)+1&\"0001\"","v":"1090001"},"BLANK","BLANK",0,0,{"$f":"\"20\"&RIGHT(Tables!$E$5,2)","v":"2021"},null,"BLANK",{"$f":"IF(IF($I125=0,\"\",IF(LEN('1-Award Info'!$G$4)=7,'1-Award Info'!$G$4&$B125&$C125&\"9\"&$E125&RIGHT($D125,3),'1-Award Info'!$G$4&$C125&\"9\"&E$17&RIGHT($D125,3)))=\"\",\"BLANK\",IF($I125=0,\"\",IF(LEN('1-Award Info'!$G$4)=7,'1-Award Info'!$G$4&$B125&$C125&\"9\"&$E125&RIGHT($D125,3),'1-Award Info'!$G$4&$C125&\"9\"&$E125&RIGHT($D125,3))))","v":"BLANK"},0,0,null,"00000",{"$f":"COUNTIF(CS$17:CS125,1)","v":0},{"$f":"IF(CT125=\"BLANk\",0,COUNTIF(CT$17:CT125,CT125))","v":0},"BLANK",null,{"$f":"$CV$14+COUNTIF(CY$17:CY125,\"<>BLANK\")","v":0},{"$f":"COUNTA(CW$17:CW124)+1&\"0001\"","v":"1090001"},"BLANK","BLANK",0,0,{"$f":"\"20\"&RIGHT(Tables!$E$6,2)","v":"2022"},null,"BLANK",{"$f":"IF(IF($J125=0,\"\",IF(LEN('1-Award Info'!$G$4)=7,'1-Award Info'!$G$4&$B125&$C125&\"9\"&$E125&RIGHT($D125,3),'1-Award Info'!$G$4&$C125&\"9\"&W$17&RIGHT($D125,3)))=\"\",\"BLANK\",IF($J125=0,\"\",IF(LEN('1-Award Info'!$G$4)=7,'1-Award Info'!$G$4&$B125&$C125&\"9\"&$E125&RIGHT($D125,3),'1-Award Info'!$G$4&$C125&\"9\"&$E125&RIGHT($D125,3))))","v":"BLANK"},0,0,null,"00000",{"$f":"COUNTIF(DK$17:DK125,1)","v":0},{"$f":"IF(DL125=\"BLANk\",0,COUNTIF(DL$17:DL125,DL125))","v":0},"BLANK",null,{"$f":"$DN$14+COUNTIF(DQ$17:DQ125,\"<>BLANK\")","v":0},{"$f":"COUNTA(DO$17:DO124)+1&\"0001\"","v":"1090001"},"BLANK","BLANK",0,0,{"$f":"\"20\"&RIGHT(Tables!$E$7,2)","v":"2023"},null,109,{"$f":"\"00\"&'1-Award Info'!$G$6","v":"00"},"","",1,"",{"$f":"IFERROR(\nIF(VLOOKUP(\"FY\"&RIGHT($EA125,2),'1-Award Info'!$F$28:$G$32,2,0)=0,\n     1,\n     VLOOKUP(\"FY\"&RIGHT($EA125,2),'1-Award Info'!$F$28:$G$32,2,0)),1)","v":1},"",null,""]
[null,null,null,null,null,null,null,null,null,null,0,null,null,null,null,null,null,null,null,"1000110",{"$f":"COUNTIF(V$17:$V126,1)","v":1},{"$f":"COUNTIF(W$17:$W126,W126)","v":110},{"$f":"IF($K126=0,\"\",IF(LEN('1-Award Info'!$G$4)=7,'1-Award Info'!$G$4&$B126&$C126,'1-Award Info'!$G$4&$C126))","v":""},null,{"$f":"COUNTA(Y$17:Y125)+1&\"0001\"","v":"1100001"},"",null,"1000110",{"$f":"COUNTIF($AD$17:AD126,AD126)","v":1},{"$f":"COUNTIF($AE$17:AE126,AE126)","v":110},"",null,{"$f":"COUNTA(AG$17:AG125)+1&\"0001\"","v":"1100001"},"",null,"BLANK",{"$f":"IF(IF($F126=0,\"\",IF(LEN('1-Award Info'!$G$4)=7,'1-Award Info'!$G$4&$B126&$C126&\"9\"&E126&RIGHT($D126,3),'1-Award Info'!$G$4&$C126&\"9\"&E126&RIGHT($D126,3)))=\"\",\"BLANK\",IF($F126=0,\"\",IF(LEN('1-Award Info'!$G$4)=7,'1-Award Info'!$G$4&$B126&$C126&\"9\"&E126&RIGHT($D126,3),'1-Award Info'!$G$4&$C126&\"9\"&E126&RIGHT($D126,3))))","v":"BLANK"},0,0,null,"00000",{"$f":"COUNTIF(AQ$17:AQ126,1)","v":0},{"$f":"IF(AR126=\"BLANK\",0,COUNTIF(AR$17:AR126,AR126))","v":0},"BLANK",null,{"$f":"$AT$14+COUNTIF(AV$17:AV126,\"<>BLANK\")","v":0},{"$f":"COUNTA(AU$17:AU125)+1&\"0001\"","v":"1100001"},"BLANK","BLANK",0,0,{"$f":"\"20\"&RIGHT(Tables!$E$3,2)","v":"2019"},null,"BLANK",{"$f":"IF(IF($G126=0,\"\",IF(LEN('1-Award Info'!$G$4)=7,'1-Award Info'!$G$4&$B126&$C126&\"9\"&E126&RIGHT($D126,3),'1-Award Info'!$G$4&$C126&\"9\"&E126&RIGHT($D126,3)))=\"\",\"BLANK\",IF($G126=0,\"\",IF(LEN('1-Award Info'!$G$4)=7,'1-Award Info'!$G$4&$B126&$C126&\"9\"&E126&RIGHT($D126,3),'1-Award Info'!$G$4&$C126&\"9\"&E126&RIGHT($D126,3))))","v":"BLANK"},0,0,null,"00000",{"$f":"COUNTIF(BI$17:BI126,1)","v":0},{"$f":"IF(BJ126=\"BLANk\",0,COUNTIF(BJ$17:BJ126,BJ126))","v":0},"BLANK",null,{"$f":"$BL$14+COUNTIF(BO$17:BO126,\"<>BLANK\")","v":0},{"$f":"COUNTA(BM$17:BM125)+1&\"0001\"","v":"1100001"},"BLANK","BLANK",0,6,{"$f":"\"20\"&RIGHT(Tables!$E$4,2)","v":"2020"},null,"BLANK",{"$f":"IF(IF($H126=0,\"\",IF(LEN('1-Award Info'!$G$4)=7,'1-Award Info'!$G$4&$B126&$C126&\"9\"&E126&RIGHT($D126,3),'1-Award Info'!$G$4&$C126&\"9\"&E126&RIGHT($D126,3)))=\"\",\"BLANK\",IF($H126=0,\"\",IF(LEN('1-Award Info'!$G$4)=7,'1-Award Info'!$G$4&$B126&$C126&\"9\"&E126&RIGHT($D126,3),'1-Award Info'!$G$4&$C126&\"9\"&E126&RIGHT($D126,3))))","v":"BLANK"},0,0,null,"00000",{"$f":"COUNTIF(CA$17:CA126,1)","v":0},{"$f":"IF(CB126=\"BLANk\",0,COUNTIF(CB$17:CB126,CB126))","v":0},"BLANK",null,{"$f":"$CD$14+COUNTIF(CG$17:CG126,\"<>BLANK\")","v":0},{"$f":"COUNTA(CE$17:CE125)+1&\"0001\"","v":"1100001"},"BLANK","BLANK",0,0,{"$f":"\"20\"&RIGHT(Tables!$E$5,2)","v":"2021"},null,"BLANK",{"$f":"IF(IF($I126=0,\"\",IF(LEN('1-Award Info'!$G$4)=7,'1-Award Info'!$G$4&$B126&$C126&\"9\"&$E126&RIGHT($D126,3),'1-Award Info'!$G$4&$C126&\"9\"&E$17&RIGHT($D126,3)))=\"\",\"BLANK\",IF($I126=0,\"\",IF(LEN('1-Award Info'!$G$4)=7,'1-Award Info'!$G$4&$B126&$C126&\"9\"&$E126&RIGHT($D126,3),'1-Award Info'!$G$4&$C126&\"9\"&$E126&RIGHT($D126,3))))","v":"BLANK"},0,0,null,"00000",{"$f":"COUNTIF(CS$17:CS126,1)","v":0},{"$f":"IF(CT126=\"BLANk\",0,COUNTIF(CT$17:CT126,CT126))","v":0},"BLANK",null,{"$f":"$CV$14+COUNTIF(CY$17:CY126,\"<>BLANK\")","v":0},{"$f":"COUNTA(CW$17:CW125)+1&\"0001\"","v":"1100001"},"BLANK","BLANK",0,0,{"$f":"\"20\"&RIGHT(Tables!$E$6,2)","v":"2022"},null,"BLANK",{"$f":"IF(IF($J126=0,\"\",IF(LEN('1-Award Info'!$G$4)=7,'1-Award Info'!$G$4&$B126&$C126&\"9\"&$E126&RIGHT($D126,3),'1-Award Info'!$G$4&$C126&\"9\"&W$17&RIGHT($D126,3)))=\"\",\"BLANK\",IF($J126=0,\"\",IF(LEN('1-Award Info'!$G$4)=7,'1-Award Info'!$G$4&$B126&$C126&\"9\"&$E126&RIGHT($D126,3),'1-Award Info'!$G$4&$C126&\"9\"&$E126&RIGHT($D126,3))))","v":"BLANK"},0,0,null,"00000",{"$f":"COUNTIF(DK$17:DK126,1)","v":0},{"$f":"IF(DL126=\"BLANk\",0,COUNTIF(DL$17:DL126,DL126))","v":0},"BLANK",null,{"$f":"$DN$14+COUNTIF(DQ$17:DQ126,\"<>BLANK\")","v":0},{"$f":"COUNTA(DO$17:DO125)+1&\"0001\"","v":"1100001"},"BLANK","BLANK",0,0,{"$f":"\"20\"&RIGHT(Tables!$E$7,2)","v":"2023"},null,110,{"$f":"\"00\"&'1-Award Info'!$G$6","v":"00"},"","",1,"",{"$f":"IFERROR(\nIF(VLOOKUP(\"FY\"&RIGHT($EA126,2),'1-Award Info'!$F$28:$G$32,2,0)=0,\n     1,\n     VLOOKUP(\"FY\"&RIGHT($EA126,2),'1-Award Info'!$F$28:$G$32,2,0)),1)","v":1},"",null,""]
[null,null,null,null,null,null,null,null,null,null,0,null,null,null,null,null,null,null,null,"1000111",{"$f":"COUNTIF(V$17:$V127,1)","v":1},{"$f":"COUNTIF(W$17:$W127,W127)","v":111},{"$f":"IF($K127=0,\"\",IF(LEN('1-Award Info'!$G$4)=7,'1-Award Info'!$G$4&$B127&$C127,'1-Award Info'!$G$4&$C127))","v":""},null,{"$f":"COUNTA(Y$17:Y126)+1&\"0001\"","v":"1110001"},"",null,"1000111",{"$f":"COUNTIF($AD$17:AD127,AD127)","v":1},{"$f":"COUNTIF($AE$17:AE127,AE127)","v":111},"",null,{"$f":"COUNTA(AG$17:AG126)+1&\"0001\"","v":"1110001"},"",null,"BLANK",{"$f":"IF(IF($F127=0,\"\",IF(LEN('1-Award Info'!$G$4)=7,'1-Award Info'!$G$4&$B127&$C127&\"9\"&E127&RIGHT($D127,3),'1-Award Info'!$G$4&$C127&\"9\"&E127&RIGHT($D127,3)))=\"\",\"BLANK\",IF($F127=0,\"\",IF(LEN('1-Award Info'!$G$4)=7,'1-Award Info'!$G$4&$B127&$C127&\"9\"&E127&RIGHT($D127,3),'1-Award Info'!$G$4&$C127&\"9\"&E127&RIGHT($D127,3))))","v":"BLANK"},0,0,null,"00000",{"$f":"COUNTIF(AQ$17:AQ127,1)","v":0},{"$f":"IF(AR127=\"BLANK\",0,COUNTIF(AR$17:AR127,AR127))","v":0},"BLANK",null,{"$f":"$AT$14+COUNTIF(AV$17:AV127,\"<>BLANK\")","v":0},{"$f":"COUNTA(AU$17:AU126)+1&\"0001\"","v":"1110001"},"BLANK","BLANK",0,0,{"$f":"\"20\"&RIGHT(Tables!$E$3,2)","v":"2019"},null,"BLANK",{"$f":"IF(IF($G127=0,\"\",IF(LEN('1-Award Info'!$G$4)=7,'1-Award Info'!$G$4&$B127&$C127&\"9\"&E127&RIGHT($D127,3),'1-Award Info'!$G$4&$C127&\"9\"&E127&RIGHT($D127,3)))=\"\",\"BLANK\",IF($G127=0,\"\",IF(LEN('1-Award Info'!$G$4)=7,'1-Award Info'!$G$4&$B127&$C127&\"9\"&E127&RIGHT($D127,3),'1-Award Info'!$G$4&$C127&\"9\"&E127&RIGHT($D127,3))))","v":"BLANK"},0,0,null,"00000",{"$f":"COUNTIF(BI$17:BI127,1)","v":0},{"$f":"IF(BJ127=\"BLANk\",0,COUNTIF(BJ$17:BJ127,BJ127))","v":0},"BLANK",null,{"$f":"$BL$14+COUNTIF(BO$17:BO127,\"<>BLANK\")","v":0},{"$f":"COUNTA(BM$17:BM126)+1&\"0001\"","v":"1110001"},"BLANK","BLANK",0,6,{"$f":"\"20\"&RIGHT(Tables!$E$4,2)","v":"2020"},null,"BLANK",{"$f":"IF(IF($H127=0,\"\",IF(LEN('1-Award Info'!$G$4)=7,'1-Award Info'!$G$4&$B127&$C127&\"9\"&E127&RIGHT($D127,3),'1-Award Info'!$G$4&$C127&\"9\"&E127&RIGHT($D127,3)))=\"\",\"BLANK\",IF($H127=0,\"\",IF(LEN('1-Award Info'!$G$4)=7,'1-Award Info'!$G$4&$B127&$C127&\"9\"&E127&RIGHT($D127,3),'1-Award Info'!$G$4&$C127&\"9\"&E127&RIGHT($D127,3))))","v":"BLANK"},0,0,null,"00000",{"$f":"COUNTIF(CA$17:CA127,1)","v":0},{"$f":"IF(CB127=\"BLANk\",0,COUNTIF(CB$17:CB127,CB127))","v":0},"BLANK",null,{"$f":"$CD$14+COUNTIF(CG$17:CG127,\"<>BLANK\")","v":0},{"$f":"COUNTA(CE$17:CE126)+1&\"0001\"","v":"1110001"},"BLANK","BLANK",0,0,{"$f":"\"20\"&RIGHT(Tables!$E$5,2)","v":"2021"},null,"BLANK",{"$f":"IF(IF($I127=0,\"\",IF(LEN('1-Award Info'!$G$4)=7,'1-Award Info'!$G$4&$B127&$C127&\"9\"&$E127&RIGHT($D127,3),'1-Award Info'!$G$4&$C127&\"9\"&E$17&RIGHT($D127,3)))=\"\",\"BLANK\",IF($I127=0,\"\",IF(LEN('1-Award Info'!$G$4)=7,'1-Award Info'!$G$4&$B127&$C127&\"9\"&$E127&RIGHT($D127,3),'1-Award Info'!$G$4&$C127&\"9\"&$E127&RIGHT($D127,3))))","v":"BLANK"},0,0,null,"00000",{"$f":"COUNTIF(CS$17:CS127,1)","v":0},{"$f":"IF(CT127=\"BLANk\",0,COUNTIF(CT$17:CT127,CT127))","v":0},"BLANK",null,{"$f":"$CV$14+COUNTIF(CY$17:CY127,\"<>BLANK\")","v":0},{"$f":"COUNTA(CW$17:CW126)+1&\"0001\"","v":"1110001"},"BLANK","BLANK",0,0,{"$f":"\"20\"&RIGHT(Tables!$E$6,2)","v":"2022"},null,"BLANK",{"$f":"IF(IF($J127=0,\"\",IF(LEN('1-Award Info'!$G$4)=7,'1-Award Info'!$G$4&$B127&$C127&\"9\"&$E127&RIGHT($D127,3),'1-Award Info'!$G$4&$C127&\"9\"&W$17&RIGHT($D127,3)))=\"\",\"BLANK\",IF($J127=0,\"\",IF(LEN('1-Award Info'!$G$4)=7,'1-Award Info'!$G$4&$B127&$C127&\"9\"&$E127&RIGHT($D127,3),'1-Award Info'!$G$4&$C127&\"9\"&$E127&RIGHT($D127,3))))","v":"BLANK"},0,0,null,"00000",{"$f":"COUNTIF(DK$17:DK127,1)","v":0},{"$f":"IF(DL127=\"BLANk\",0,COUNTIF(DL$17:DL127,DL127))","v":0},"BLANK",null,{"$f":"$DN$14+COUNTIF(DQ$17:DQ127,\"<>BLANK\")","v":0},{"$f":"COUNTA(DO$17:DO126)+1&\"0001\"","v":"1110001"},"BLANK","BLANK",0,0,{"$f":"\"20\"&RIGHT(Tables!$E$7,2)","v":"2023"},null,111,{"$f":"\"00\"&'1-Award Info'!$G$6","v":"00"},"","",1,"",{"$f":"IFERROR(\nIF(VLOOKUP(\"FY\"&RIGHT($EA127,2),'1-Award Info'!$F$28:$G$32,2,0)=0,\n     1,\n     VLOOKUP(\"FY\"&RIGHT($EA127,2),'1-Award Info'!$F$28:$G$32,2,0)),1)","v":1},"",null,""]
[null,null,null,null,null,null,null,null,null,null,0,null,null,null,null,null,null,null,null,"1000112",{"$f":"COUNTIF(V$17:$V128,1)","v":1},{"$f":"COUNTIF(W$17:$W128,W128)","v":112},{"$f":"IF($K128=0,\"\",IF(LEN('1-Award Info'!$G$4)=7,'1-Award Info'!$G$4&$B128&$C128,'1-Award Info'!$G$4&$C128))","v":""},null,{"$f":"COUNTA(Y$17:Y127)+1&\"0001\"","v":"1120001"},"",null,"1000112",{"$f":"COUNTIF($AD$17:AD128,AD128)","v":1},{"$f":"COUNTIF($AE$17:AE128,AE128)","v":112},"",null,{"$f":"COUNTA(AG$17:AG127)+1&\"0001\"","v":"1120001"},"",null,"BLANK",{"$f":"IF(IF($F128=0,\"\",IF(LEN('1-Award Info'!$G$4)=7,'1-Award Info'!$G$4&$B128&$C128&\"9\"&E128&RIGHT($D128,3),'1-Award Info'!$G$4&$C128&\"9\"&E128&RIGHT($D128,3)))=\"\",\"BLANK\",IF($F128=0,\"\",IF(LEN('1-Award Info'!$G$4)=7,'1-Award Info'!$G$4&$B128&$C128&\"9\"&E128&RIGHT($D128,3),'1-Award Info'!$G$4&$C128&\"9\"&E128&RIGHT($D128,3))))","v":"BLANK"},0,0,null,"00000",{"$f":"COUNTIF(AQ$17:AQ128,1)","v":0},{"$f":"IF(AR128=\"BLANK\",0,COUNTIF(AR$17:AR128,AR128))","v":0},"BLANK",null,{"$f":"$AT$14+COUNTIF(AV$17:AV128,\"<>BLANK\")","v":0},{"$f":"COUNTA(AU$17:AU127)+1&\"0001\"","v":"1120001"},"BLANK","BLANK",0,0,{"$f":"\"20\"&RIGHT(Tables!$E$3,2)","v":"2019"},null,"BLANK",{"$f":"IF(IF($G128=0,\"\",IF(LEN('1-Award Info'!$G$4)=7,'1-Award Info'!$G$4&$B128&$C128&\"9\"&E128&RIGHT($D128,3),'1-Award Info'!$G$4&$C128&\"9\"&E128&RIGHT($D128,3)))=\"\",\"BLANK\",IF($G128=0,\"\",IF(LEN('1-Award Info'!$G$4)=7,'1-Award Info'!$G$4&$B128&$C128&\"9\"&E128&RIGHT($D128,3),'1-Award Info'!$G$4&$C128&\"9\"&E128&RIGHT($D128,3))))","v":"BLANK"},0,0,null,"00000",{"$f":"COUNTIF(BI$17:BI128,1)","v":0},{"$f":"IF(BJ128=\"BLANk\",0,COUNTIF(BJ$17:BJ128,BJ128))","v":0},"BLANK",null,{"$f":"$BL$14+COUNTIF(BO$17:BO128,\"<>BLANK\")","v":0},{"$f":"COUNTA(BM$17:BM127)+1&\"0001\"","v":"1120001"},"BLANK","BLANK",0,6,{"$f":"\"20\"&RIGHT(Tables!$E$4,2)","v":"2020"},null,"BLANK",{"$f":"IF(IF($H128=0,\"\",IF(LEN('1-Award Info'!$G$4)=7,'1-Award Info'!$G$4&$B128&$C128&\"9\"&E128&RIGHT($D128,3),'1-Award Info'!$G$4&$C128&\"9\"&E128&RIGHT($D128,3)))=\"\",\"BLANK\",IF($H128=0,\"\",IF(LEN('1-Award Info'!$G$4)=7,'1-Award Info'!$G$4&$B128&$C128&\"9\"&E128&RIGHT($D128,3),'1-Award Info'!$G$4&$C128&\"9\"&E128&RIGHT($D128,3))))","v":"BLANK"},0,0,null,"00000",{"$f":"COUNTIF(CA$17:CA128,1)","v":0},{"$f":"IF(CB128=\"BLANk\",0,COUNTIF(CB$17:CB128,CB128))","v":0},"BLANK",null,{"$f":"$CD$14+COUNTIF(CG$17:CG128,\"<>BLANK\")","v":0},{"$f":"COUNTA(CE$17:CE127)+1&\"0001\"","v":"1120001"},"BLANK","BLANK",0,0,{"$f":"\"20\"&RIGHT(Tables!$E$5,2)","v":"2021"},null,"BLANK",{"$f":"IF(IF($I128=0,\"\",IF(LEN('1-Award Info'!$G$4)=7,'1-Award Info'!$G$4&$B128&$C128&\"9\"&$E128&RIGHT($D128,3),'1-Award Info'!$G$4&$C128&\"9\"&E$17&RIGHT($D128,3)))=\"\",\"BLANK\",IF($I128=0,\"\",IF(LEN('1-Award Info'!$G$4)=7,'1-Award Info'!$G$4&$B128&$C128&\"9\"&$E128&RIGHT($D128,3),'1-Award Info'!$G$4&$C128&\"9\"&$E128&RIGHT($D128,3))))","v":"BLANK"},0,0,null,"00000",{"$f":"COUNTIF(CS$17:CS128,1)","v":0},{"$f":"IF(CT128=\"BLANk\",0,COUNTIF(CT$17:CT128,CT128))","v":0},"BLANK",null,{"$f":"$CV$14+COUNTIF(CY$17:CY128,\"<>BLANK\")","v":0},{"$f":"COUNTA(CW$17:CW127)+1&\"0001\"","v":"1120001"},"BLANK","BLANK",0,0,{"$f":"\"20\"&RIGHT(Tables!$E$6,2)","v":"2022"},null,"BLANK",{"$f":"IF(IF($J128=0,\"\",IF(LEN('1-Award Info'!$G$4)=7,'1-Award Info'!$G$4&$B128&$C128&\"9\"&$E128&RIGHT($D128,3),'1-Award Info'!$G$4&$C128&\"9\"&W$17&RIGHT($D128,3)))=\"\",\"BLANK\",IF($J128=0,\"\",IF(LEN('1-Award Info'!$G$4)=7,'1-Award Info'!$G$4&$B128&$C128&\"9\"&$E128&RIGHT($D128,3),'1-Award Info'!$G$4&$C128&\"9\"&$E128&RIGHT($D128,3))))","v":"BLANK"},0,0,null,"00000",{"$f":"COUNTIF(DK$17:DK128,1)","v":0},{"$f":"IF(DL128=\"BLANk\",0,COUNTIF(DL$17:DL128,DL128))","v":0},"BLANK",null,{"$f":"$DN$14+COUNTIF(DQ$17:DQ128,\"<>BLANK\")","v":0},{"$f":"COUNTA(DO$17:DO127)+1&\"0001\"","v":"1120001"},"BLANK","BLANK",0,0,{"$f":"\"20\"&RIGHT(Tables!$E$7,2)","v":"2023"},null,112,{"$f":"\"00\"&'1-Award Info'!$G$6","v":"00"},"","",1,"",{"$f":"IFERROR(\nIF(VLOOKUP(\"FY\"&RIGHT($EA128,2),'1-Award Info'!$F$28:$G$32,2,0)=0,\n     1,\n     VLOOKUP(\"FY\"&RIGHT($EA128,2),'1-Award Info'!$F$28:$G$32,2,0)),1)","v":1},"",null,""]
[null,null,null,null,null,null,null,null,null,null,0,null,null,null,null,null,null,null,null,"1000113",{"$f":"COUNTIF(V$17:$V129,1)","v":1},{"$f":"COUNTIF(W$17:$W129,W129)","v":113},{"$f":"IF($K129=0,\"\",IF(LEN('1-Award Info'!$G$4)=7,'1-Award Info'!$G$4&$B129&$C129,'1-Award Info'!$G$4&$C129))","v":""},null,{"$f":"COUNTA(Y$17:Y128)+1&\"0001\"","v":"1130001"},"",null,"1000113",{"$f":"COUNTIF($AD$17:AD129,AD129)","v":1},{"$f":"COUNTIF($AE$17:AE129,AE129)","v":113},"",null,{"$f":"COUNTA(AG$17:AG128)+1&\"0001\"","v":"1130001"},"",null,"BLANK",{"$f":"IF(IF($F129=0,\"\",IF(LEN('1-Award Info'!$G$4)=7,'1-Award Info'!$G$4&$B129&$C129&\"9\"&E129&RIGHT($D129,3),'1-Award Info'!$G$4&$C129&\"9\"&E129&RIGHT($D129,3)))=\"\",\"BLANK\",IF($F129=0,\"\",IF(LEN('1-Award Info'!$G$4)=7,'1-Award Info'!$G$4&$B129&$C129&\"9\"&E129&RIGHT($D129,3),'1-Award Info'!$G$4&$C129&\"9\"&E129&RIGHT($D129,3))))","v":"BLANK"},0,0,null,"00000",{"$f":"COUNTIF(AQ$17:AQ129,1)","v":0},{"$f":"IF(AR129=\"BLANK\",0,COUNTIF(AR$17:AR129,AR129))","v":0},"BLANK",null,{"$f":"$AT$14+COUNTIF(AV$17:AV129,\"<>BLANK\")","v":0},{"$f":"COUNTA(AU$17:AU128)+1&\"0001\"","v":"1130001"},"BLANK","BLANK",0,0,{"$f":"\"20\"&RIGHT(Tables!$E$3,2)","v":"2019"},null,"BLANK",{"$f":"IF(IF($G129=0,\"\",IF(LEN('1-Award Info'!$G$4)=7,'1-Award Info'!$G$4&$B129&$C129&\"9\"&E129&RIGHT($D129,3),'1-Award Info'!$G$4&$C129&\"9\"&E129&RIGHT($D129,3)))=\"\",\"BLANK\",IF($G129=0,\"\",IF(LEN('1-Award Info'!$G$4)=7,'1-Award Info'!$G$4&$B129&$C129&\"9\"&E129&RIGHT($D129,3),'1-Award Info'!$G$4&$C129&\"9\"&E129&RIGHT($D129,3))))","v":"BLANK"},0,0,null,"00000",{"$f":"COUNTIF(BI$17:BI129,1)","v":0},{"$f":"IF(BJ129=\"BLANk\",0,COUNTIF(BJ$17:BJ129,BJ129))","v":0},"BLANK",null,{"$f":"$BL$14+COUNTIF(BO$17:BO129,\"<>BLANK\")","v":0},{"$f":"COUNTA(BM$17:BM128)+1&\"0001\"","v":"1130001"},"BLANK","BLANK",0,6,{"$f":"\"20\"&RIGHT(Tables!$E$4,2)","v":"2020"},null,"BLANK",{"$f":"IF(IF($H129=0,\"\",IF(LEN('1-Award Info'!$G$4)=7,'1-Award Info'!$G$4&$B129&$C129&\"9\"&E129&RIGHT($D129,3),'1-Award Info'!$G$4&$C129&\"9\"&E129&RIGHT($D129,3)))=\"\",\"BLANK\",IF($H129=0,\"\",IF(LEN('1-Award Info'!$G$4)=7,'1-Award Info'!$G$4&$B129&$C129&\"9\"&E129&RIGHT($D129,3),'1-Award Info'!$G$4&$C129&\"9\"&E129&RIGHT($D129,3))))","v":"BLANK"},0,0,null,"00000",{"$f":"COUNTIF(CA$17:CA129,1)","v":0},{"$f":"IF(CB129=\"BLANk\",0,COUNTIF(CB$17:CB129,CB129))","v":0},"BLANK",null,{"$f":"$CD$14+COUNTIF(CG$17:CG129,\"<>BLANK\")","v":0},{"$f":"COUNTA(CE$17:CE128)+1&\"0001\"","v":"1130001"},"BLANK","BLANK",0,0,{"$f":"\"20\"&RIGHT(Tables!$E$5,2)","v":"2021"},null,"BLANK",{"$f":"IF(IF($I129=0,\"\",IF(LEN('1-Award Info'!$G$4)=7,'1-Award Info'!$G$4&$B129&$C129&\"9\"&$E129&RIGHT($D129,3),'1-Award Info'!$G$4&$C129&\"9\"&E$17&RIGHT($D129,3)))=\"\",\"BLANK\",IF($I129=0,\"\",IF(LEN('1-Award Info'!$G$4)=7,'1-Award Info'!$G$4&$B129&$C129&\"9\"&$E129&RIGHT($D129,3),'1-Award Info'!$G$4&$C129&\"9\"&$E129&RIGHT($D129,3))))","v":"BLANK"},0,0,null,"00000",{"$f":"COUNTIF(CS$17:CS129,1)","v":0},{"$f":"IF(CT129=\"BLANk\",0,COUNTIF(CT$17:CT129,CT129))","v":0},"BLANK",null,{"$f":"$CV$14+COUNTIF(CY$17:CY129,\"<>BLANK\")","v":0},{"$f":"COUNTA(CW$17:CW128)+1&\"0001\"","v":"1130001"},"BLANK","BLANK",0,0,{"$f":"\"20\"&RIGHT(Tables!$E$6,2)","v":"2022"},null,"BLANK",{"$f":"IF(IF($J129=0,\"\",IF(LEN('1-Award Info'!$G$4)=7,'1-Award Info'!$G$4&$B129&$C129&\"9\"&$E129&RIGHT($D129,3),'1-Award Info'!$G$4&$C129&\"9\"&W$17&RIGHT($D129,3)))=\"\",\"BLANK\",IF($J129=0,\"\",IF(LEN('1-Award Info'!$G$4)=7,'1-Award Info'!$G$4&$B129&$C129&\"9\"&$E129&RIGHT($D129,3),'1-Award Info'!$G$4&$C129&\"9\"&$E129&RIGHT($D129,3))))","v":"BLANK"},0,0,null,"00000",{"$f":"COUNTIF(DK$17:DK129,1)","v":0},{"$f":"IF(DL129=\"BLANk\",0,COUNTIF(DL$17:DL129,DL129))","v":0},"BLANK",null,{"$f":"$DN$14+COUNTIF(DQ$17:DQ129,\"<>BLANK\")","v":0},{"$f":"COUNTA(DO$17:DO128)+1&\"0001\"","v":"1130001"},"BLANK","BLANK",0,0,{"$f":"\"20\"&RIGHT(Tables!$E$7,2)","v":"2023"},null,113,{"$f":"\"00\"&'1-Award Info'!$G$6","v":"00"},"","",1,"",{"$f":"IFERROR(\nIF(VLOOKUP(\"FY\"&RIGHT($EA129,2),'1-Award Info'!$F$28:$G$32,2,0)=0,\n     1,\n     VLOOKUP(\"FY\"&RIGHT($EA129,2),'1-Award Info'!$F$28:$G$32,2,0)),1)","v":1},"",null,""]
[null,null,null,null,null,null,null,null,null,null,0,null,null,null,null,null,null,null,null,"1000114",{"$f":"COUNTIF(V$17:$V130,1)","v":1},{"$f":"COUNTIF(W$17:$W130,W130)","v":114},{"$f":"IF($K130=0,\"\",IF(LEN('1-Award Info'!$G$4)=7,'1-Award Info'!$G$4&$B130&$C130,'1-Award Info'!$G$4&$C130))","v":""},null,{"$f":"COUNTA(Y$17:Y129)+1&\"0001\"","v":"1140001"},"",null,"1000114",{"$f":"COUNTIF($AD$17:AD130,AD130)","v":1},{"$f":"COUNTIF($AE$17:AE130,AE130)","v":114},"",null,{"$f":"COUNTA(AG$17:AG129)+1&\"0001\"","v":"1140001"},"",null,"BLANK",{"$f":"IF(IF($F130=0,\"\",IF(LEN('1-Award Info'!$G$4)=7,'1-Award Info'!$G$4&$B130&$C130&\"9\"&E130&RIGHT($D130,3),'1-Award Info'!$G$4&$C130&\"9\"&E130&RIGHT($D130,3)))=\"\",\"BLANK\",IF($F130=0,\"\",IF(LEN('1-Award Info'!$G$4)=7,'1-Award Info'!$G$4&$B130&$C130&\"9\"&E130&RIGHT($D130,3),'1-Award Info'!$G$4&$C130&\"9\"&E130&RIGHT($D130,3))))","v":"BLANK"},0,0,null,"00000",{"$f":"COUNTIF(AQ$17:AQ130,1)","v":0},{"$f":"IF(AR130=\"BLANK\",0,COUNTIF(AR$17:AR130,AR130))","v":0},"BLANK",null,{"$f":"$AT$14+COUNTIF(AV$17:AV130,\"<>BLANK\")","v":0},{"$f":"COUNTA(AU$17:AU129)+1&\"0001\"","v":"1140001"},"BLANK","BLANK",0,0,{"$f":"\"20\"&RIGHT(Tables!$E$3,2)","v":"2019"},null,"BLANK",{"$f":"IF(IF($G130=0,\"\",IF(LEN('1-Award Info'!$G$4)=7,'1-Award Info'!$G$4&$B130&$C130&\"9\"&E130&RIGHT($D130,3),'1-Award Info'!$G$4&$C130&\"9\"&E130&RIGHT($D130,3)))=\"\",\"BLANK\",IF($G130=0,\"\",IF(LEN('1-Award Info'!$G$4)=7,'1-Award Info'!$G$4&$B130&$C130&\"9\"&E130&RIGHT($D130,3),'1-Award Info'!$G$4&$C130&\"9\"&E130&RIGHT($D130,3))))","v":"BLANK"},0,0,null,"00000",{"$f":"COUNTIF(BI$17:BI130,1)","v":0},{"$f":"IF(BJ130=\"BLANk\",0,COUNTIF(BJ$17:BJ130,BJ130))","v":0},"BLANK",null,{"$f":"$BL$14+COUNTIF(BO$17:BO130,\"<>BLANK\")","v":0},{"$f":"COUNTA(BM$17:BM129)+1&\"0001\"","v":"1140001"},"BLANK","BLANK",0,6,{"$f":"\"20\"&RIGHT(Tables!$E$4,2)","v":"2020"},null,"BLANK",{"$f":"IF(IF($H130=0,\"\",IF(LEN('1-Award Info'!$G$4)=7,'1-Award Info'!$G$4&$B130&$C130&\"9\"&E130&RIGHT($D130,3),'1-Award Info'!$G$4&$C130&\"9\"&E130&RIGHT($D130,3)))=\"\",\"BLANK\",IF($H130=0,\"\",IF(LEN('1-Award Info'!$G$4)=7,'1-Award Info'!$G$4&$B130&$C130&\"9\"&E130&RIGHT($D130,3),'1-Award Info'!$G$4&$C130&\"9\"&E130&RIGHT($D130,3))))","v":"BLANK"},0,0,null,"00000",{"$f":"COUNTIF(CA$17:CA130,1)","v":0},{"$f":"IF(CB130=\"BLANk\",0,COUNTIF(CB$17:CB130,CB130))","v":0},"BLANK",null,{"$f":"$CD$14+COUNTIF(CG$17:CG130,\"<>BLANK\")","v":0},{"$f":"COUNTA(CE$17:CE129)+1&\"0001\"","v":"1140001"},"BLANK","BLANK",0,0,{"$f":"\"20\"&RIGHT(Tables!$E$5,2)","v":"2021"},null,"BLANK",{"$f":"IF(IF($I130=0,\"\",IF(LEN('1-Award Info'!$G$4)=7,'1-Award Info'!$G$4&$B130&$C130&\"9\"&$E130&RIGHT($D130,3),'1-Award Info'!$G$4&$C130&\"9\"&E$17&RIGHT($D130,3)))=\"\",\"BLANK\",IF($I130=0,\"\",IF(LEN('1-Award Info'!$G$4)=7,'1-Award Info'!$G$4&$B130&$C130&\"9\"&$E130&RIGHT($D130,3),'1-Award Info'!$G$4&$C130&\"9\"&$E130&RIGHT($D130,3))))","v":"BLANK"},0,0,null,"00000",{"$f":"COUNTIF(CS$17:CS130,1)","v":0},{"$f":"IF(CT130=\"BLANk\",0,COUNTIF(CT$17:CT130,CT130))","v":0},"BLANK",null,{"$f":"$CV$14+COUNTIF(CY$17:CY130,\"<>BLANK\")","v":0},{"$f":"COUNTA(CW$17:CW129)+1&\"0001\"","v":"1140001"},"BLANK","BLANK",0,0,{"$f":"\"20\"&RIGHT(Tables!$E$6,2)","v":"2022"},null,"BLANK",{"$f":"IF(IF($J130=0,\"\",IF(LEN('1-Award Info'!$G$4)=7,'1-Award Info'!$G$4&$B130&$C130&\"9\"&$E130&RIGHT($D130,3),'1-Award Info'!$G$4&$C130&\"9\"&W$17&RIGHT($D130,3)))=\"\",\"BLANK\",IF($J130=0,\"\",IF(LEN('1-Award Info'!$G$4)=7,'1-Award Info'!$G$4&$B130&$C130&\"9\"&$E130&RIGHT($D130,3),'1-Award Info'!$G$4&$C130&\"9\"&$E130&RIGHT($D130,3))))","v":"BLANK"},0,0,null,"00000",{"$f":"COUNTIF(DK$17:DK130,1)","v":0},{"$f":"IF(DL130=\"BLANk\",0,COUNTIF(DL$17:DL130,DL130))","v":0},"BLANK",null,{"$f":"$DN$14+COUNTIF(DQ$17:DQ130,\"<>BLANK\")","v":0},{"$f":"COUNTA(DO$17:DO129)+1&\"0001\"","v":"1140001"},"BLANK","BLANK",0,0,{"$f":"\"20\"&RIGHT(Tables!$E$7,2)","v":"2023"},null,114,{"$f":"\"00\"&'1-Award Info'!$G$6","v":"00"},"","",1,"",{"$f":"IFERROR(\nIF(VLOOKUP(\"FY\"&RIGHT($EA130,2),'1-Award Info'!$F$28:$G$32,2,0)=0,\n     1,\n     VLOOKUP(\"FY\"&RIGHT($EA130,2),'1-Award Info'!$F$28:$G$32,2,0)),1)","v":1},"",null,""]
[null,null,null,null,null,null,null,null,null,null,0,null,null,null,null,null,null,null,null,"1000115",{"$f":"COUNTIF(V$17:$V131,1)","v":1},{"$f":"COUNTIF(W$17:$W131,W131)","v":115},{"$f":"IF($K131=0,\"\",IF(LEN('1-Award Info'!$G$4)=7,'1-Award Info'!$G$4&$B131&$C131,'1-Award Info'!$G$4&$C131))","v":""},null,{"$f":"COUNTA(Y$17:Y130)+1&\"0001\"","v":"1150001"},"",null,"1000115",{"$f":"COUNTIF($AD$17:AD131,AD131)","v":1},{"$f":"COUNTIF($AE$17:AE131,AE131)","v":115},"",null,{"$f":"COUNTA(AG$17:AG130)+1&\"0001\"","v":"1150001"},"",null,"BLANK",{"$f":"IF(IF($F131=0,\"\",IF(LEN('1-Award Info'!$G$4)=7,'1-Award Info'!$G$4&$B131&$C131&\"9\"&E131&RIGHT($D131,3),'1-Award Info'!$G$4&$C131&\"9\"&E131&RIGHT($D131,3)))=\"\",\"BLANK\",IF($F131=0,\"\",IF(LEN('1-Award Info'!$G$4)=7,'1-Award Info'!$G$4&$B131&$C131&\"9\"&E131&RIGHT($D131,3),'1-Award Info'!$G$4&$C131&\"9\"&E131&RIGHT($D131,3))))","v":"BLANK"},0,0,null,"00000",{"$f":"COUNTIF(AQ$17:AQ131,1)","v":0},{"$f":"IF(AR131=\"BLANK\",0,COUNTIF(AR$17:AR131,AR131))","v":0},"BLANK",null,{"$f":"$AT$14+COUNTIF(AV$17:AV131,\"<>BLANK\")","v":0},{"$f":"COUNTA(AU$17:AU130)+1&\"0001\"","v":"1150001"},"BLANK","BLANK",0,0,{"$f":"\"20\"&RIGHT(Tables!$E$3,2)","v":"2019"},null,"BLANK",{"$f":"IF(IF($G131=0,\"\",IF(LEN('1-Award Info'!$G$4)=7,'1-Award Info'!$G$4&$B131&$C131&\"9\"&E131&RIGHT($D131,3),'1-Award Info'!$G$4&$C131&\"9\"&E131&RIGHT($D131,3)))=\"\",\"BLANK\",IF($G131=0,\"\",IF(LEN('1-Award Info'!$G$4)=7,'1-Award Info'!$G$4&$B131&$C131&\"9\"&E131&RIGHT($D131,3),'1-Award Info'!$G$4&$C131&\"9\"&E131&RIGHT($D131,3))))","v":"BLANK"},0,0,null,"00000",{"$f":"COUNTIF(BI$17:BI131,1)","v":0},{"$f":"IF(BJ131=\"BLANk\",0,COUNTIF(BJ$17:BJ131,BJ131))","v":0},"BLANK",null,{"$f":"$BL$14+COUNTIF(BO$17:BO131,\"<>BLANK\")","v":0},{"$f":"COUNTA(BM$17:BM130)+1&\"0001\"","v":"1150001"},"BLANK","BLANK",0,6,{"$f":"\"20\"&RIGHT(Tables!$E$4,2)","v":"2020"},null,"BLANK",{"$f":"IF(IF($H131=0,\"\",IF(LEN('1-Award Info'!$G$4)=7,'1-Award Info'!$G$4&$B131&$C131&\"9\"&E131&RIGHT($D131,3),'1-Award Info'!$G$4&$C131&\"9\"&E131&RIGHT($D131,3)))=\"\",\"BLANK\",IF($H131=0,\"\",IF(LEN('1-Award Info'!$G$4)=7,'1-Award Info'!$G$4&$B131&$C131&\"9\"&E131&RIGHT($D131,3),'1-Award Info'!$G$4&$C131&\"9\"&E131&RIGHT($D131,3))))","v":"BLANK"},0,0,null,"00000",{"$f":"COUNTIF(CA$17:CA131,1)","v":0},{"$f":"IF(CB131=\"BLANk\",0,COUNTIF(CB$17:CB131,CB131))","v":0},"BLANK",null,{"$f":"$CD$14+COUNTIF(CG$17:CG131,\"<>BLANK\")","v":0},{"$f":"COUNTA(CE$17:CE130)+1&\"0001\"","v":"1150001"},"BLANK","BLANK",0,0,{"$f":"\"20\"&RIGHT(Tables!$E$5,2)","v":"2021"},null,"BLANK",{"$f":"IF(IF($I131=0,\"\",IF(LEN('1-Award Info'!$G$4)=7,'1-Award Info'!$G$4&$B131&$C131&\"9\"&$E131&RIGHT($D131,3),'1-Award Info'!$G$4&$C131&\"9\"&E$17&RIGHT($D131,3)))=\"\",\"BLANK\",IF($I131=0,\"\",IF(LEN('1-Award Info'!$G$4)=7,'1-Award Info'!$G$4&$B131&$C131&\"9\"&$E131&RIGHT($D131,3),'1-Award Info'!$G$4&$C131&\"9\"&$E131&RIGHT($D131,3))))","v":"BLANK"},0,0,null,"00000",{"$f":"COUNTIF(CS$17:CS131,1)","v":0},{"$f":"IF(CT131=\"BLANk\",0,COUNTIF(CT$17:CT131,CT131))","v":0},"BLANK",null,{"$f":"$CV$14+COUNTIF(CY$17:CY131,\"<>BLANK\")","v":0},{"$f":"COUNTA(CW$17:CW130)+1&\"0001\"","v":"1150001"},"BLANK","BLANK",0,0,{"$f":"\"20\"&RIGHT(Tables!$E$6,2)","v":"2022"},null,"BLANK",{"$f":"IF(IF($J131=0,\"\",IF(LEN('1-Award Info'!$G$4)=7,'1-Award Info'!$G$4&$B131&$C131&\"9\"&$E131&RIGHT($D131,3),'1-Award Info'!$G$4&$C131&\"9\"&W$17&RIGHT($D131,3)))=\"\",\"BLANK\",IF($J131=0,\"\",IF(LEN('1-Award Info'!$G$4)=7,'1-Award Info'!$G$4&$B131&$C131&\"9\"&$E131&RIGHT($D131,3),'1-Award Info'!$G$4&$C131&\"9\"&$E131&RIGHT($D131,3))))","v":"BLANK"},0,0,null,"00000",{"$f":"COUNTIF(DK$17:DK131,1)","v":0},{"$f":"IF(DL131=\"BLANk\",0,COUNTIF(DL$17:DL131,DL131))","v":0},"BLANK",null,{"$f":"$DN$14+COUNTIF(DQ$17:DQ131,\"<>BLANK\")","v":0},{"$f":"COUNTA(DO$17:DO130)+1&\"0001\"","v":"1150001"},"BLANK","BLANK",0,0,{"$f":"\"20\"&RIGHT(Tables!$E$7,2)","v":"2023"},null,115,{"$f":"\"00\"&'1-Award Info'!$G$6","v":"00"},"","",1,"",{"$f":"IFERROR(\nIF(VLOOKUP(\"FY\"&RIGHT($EA131,2),'1-Award Info'!$F$28:$G$32,2,0)=0,\n     1,\n     VLOOKUP(\"FY\"&RIGHT($EA131,2),'1-Award Info'!$F$28:$G$32,2,0)),1)","v":1},"",null,""]
[null,null,null,null,null,null,null,null,null,null,0,null,null,null,null,null,null,null,null,"1000116",{"$f":"COUNTIF(V$17:$V132,1)","v":1},{"$f":"COUNTIF(W$17:$W132,W132)","v":116},{"$f":"IF($K132=0,\"\",IF(LEN('1-Award Info'!$G$4)=7,'1-Award Info'!$G$4&$B132&$C132,'1-Award Info'!$G$4&$C132))","v":""},null,{"$f":"COUNTA(Y$17:Y131)+1&\"0001\"","v":"1160001"},"",null,"1000116",{"$f":"COUNTIF($AD$17:AD132,AD132)","v":1},{"$f":"COUNTIF($AE$17:AE132,AE132)","v":116},"",null,{"$f":"COUNTA(AG$17:AG131)+1&\"0001\"","v":"1160001"},"",null,"BLANK",{"$f":"IF(IF($F132=0,\"\",IF(LEN('1-Award Info'!$G$4)=7,'1-Award Info'!$G$4&$B132&$C132&\"9\"&E132&RIGHT($D132,3),'1-Award Info'!$G$4&$C132&\"9\"&E132&RIGHT($D132,3)))=\"\",\"BLANK\",IF($F132=0,\"\",IF(LEN('1-Award Info'!$G$4)=7,'1-Award Info'!$G$4&$B132&$C132&\"9\"&E132&RIGHT($D132,3),'1-Award Info'!$G$4&$C132&\"9\"&E132&RIGHT($D132,3))))","v":"BLANK"},0,0,null,"00000",{"$f":"COUNTIF(AQ$17:AQ132,1)","v":0},{"$f":"IF(AR132=\"BLANK\",0,COUNTIF(AR$17:AR132,AR132))","v":0},"BLANK",null,{"$f":"$AT$14+COUNTIF(AV$17:AV132,\"<>BLANK\")","v":0},{"$f":"COUNTA(AU$17:AU131)+1&\"0001\"","v":"1160001"},"BLANK","BLANK",0,0,{"$f":"\"20\"&RIGHT(Tables!$E$3,2)","v":"2019"},null,"BLANK",{"$f":"IF(IF($G132=0,\"\",IF(LEN('1-Award Info'!$G$4)=7,'1-Award Info'!$G$4&$B132&$C132&\"9\"&E132&RIGHT($D132,3),'1-Award Info'!$G$4&$C132&\"9\"&E132&RIGHT($D132,3)))=\"\",\"BLANK\",IF($G132=0,\"\",IF(LEN('1-Award Info'!$G$4)=7,'1-Award Info'!$G$4&$B132&$C132&\"9\"&E132&RIGHT($D132,3),'1-Award Info'!$G$4&$C132&\"9\"&E132&RIGHT($D132,3))))","v":"BLANK"},0,0,null,"00000",{"$f":"COUNTIF(BI$17:BI132,1)","v":0},{"$f":"IF(BJ132=\"BLANk\",0,COUNTIF(BJ$17:BJ132,BJ132))","v":0},"BLANK",null,{"$f":"$BL$14+COUNTIF(BO$17:BO132,\"<>BLANK\")","v":0},{"$f":"COUNTA(BM$17:BM131)+1&\"0001\"","v":"1160001"},"BLANK","BLANK",0,6,{"$f":"\"20\"&RIGHT(Tables!$E$4,2)","v":"2020"},null,"BLANK",{"$f":"IF(IF($H132=0,\"\",IF(LEN('1-Award Info'!$G$4)=7,'1-Award Info'!$G$4&$B132&$C132&\"9\"&E132&RIGHT($D132,3),'1-Award Info'!$G$4&$C132&\"9\"&E132&RIGHT($D132,3)))=\"\",\"BLANK\",IF($H132=0,\"\",IF(LEN('1-Award Info'!$G$4)=7,'1-Award Info'!$G$4&$B132&$C132&\"9\"&E132&RIGHT($D132,3),'1-Award Info'!$G$4&$C132&\"9\"&E132&RIGHT($D132,3))))","v":"BLANK"},0,0,null,"00000",{"$f":"COUNTIF(CA$17:CA132,1)","v":0},{"$f":"IF(CB132=\"BLANk\",0,COUNTIF(CB$17:CB132,CB132))","v":0},"BLANK",null,{"$f":"$CD$14+COUNTIF(CG$17:CG132,\"<>BLANK\")","v":0},{"$f":"COUNTA(CE$17:CE131)+1&\"0001\"","v":"1160001"},"BLANK","BLANK",0,0,{"$f":"\"20\"&RIGHT(Tables!$E$5,2)","v":"2021"},null,"BLANK",{"$f":"IF(IF($I132=0,\"\",IF(LEN('1-Award Info'!$G$4)=7,'1-Award Info'!$G$4&$B132&$C132&\"9\"&$E132&RIGHT($D132,3),'1-Award Info'!$G$4&$C132&\"9\"&E$17&RIGHT($D132,3)))=\"\",\"BLANK\",IF($I132=0,\"\",IF(LEN('1-Award Info'!$G$4)=7,'1-Award Info'!$G$4&$B132&$C132&\"9\"&$E132&RIGHT($D132,3),'1-Award Info'!$G$4&$C132&\"9\"&$E132&RIGHT($D132,3))))","v":"BLANK"},0,0,null,"00000",{"$f":"COUNTIF(CS$17:CS132,1)","v":0},{"$f":"IF(CT132=\"BLANk\",0,COUNTIF(CT$17:CT132,CT132))","v":0},"BLANK",null,{"$f":"$CV$14+COUNTIF(CY$17:CY132,\"<>BLANK\")","v":0},{"$f":"COUNTA(CW$17:CW131)+1&\"0001\"","v":"1160001"},"BLANK","BLANK",0,0,{"$f":"\"20\"&RIGHT(Tables!$E$6,2)","v":"2022"},null,"BLANK",{"$f":"IF(IF($J132=0,\"\",IF(LEN('1-Award Info'!$G$4)=7,'1-Award Info'!$G$4&$B132&$C132&\"9\"&$E132&RIGHT($D132,3),'1-Award Info'!$G$4&$C132&\"9\"&W$17&RIGHT($D132,3)))=\"\",\"BLANK\",IF($J132=0,\"\",IF(LEN('1-Award Info'!$G$4)=7,'1-Award Info'!$G$4&$B132&$C132&\"9\"&$E132&RIGHT($D132,3),'1-Award Info'!$G$4&$C132&\"9\"&$E132&RIGHT($D132,3))))","v":"BLANK"},0,0,null,"00000",{"$f":"COUNTIF(DK$17:DK132,1)","v":0},{"$f":"IF(DL132=\"BLANk\",0,COUNTIF(DL$17:DL132,DL132))","v":0},"BLANK",null,{"$f":"$DN$14+COUNTIF(DQ$17:DQ132,\"<>BLANK\")","v":0},{"$f":"COUNTA(DO$17:DO131)+1&\"0001\"","v":"1160001"},"BLANK","BLANK",0,0,{"$f":"\"20\"&RIGHT(Tables!$E$7,2)","v":"2023"},null,116,{"$f":"\"00\"&'1-Award Info'!$G$6","v":"00"},"","",1,"",{"$f":"IFERROR(\nIF(VLOOKUP(\"FY\"&RIGHT($EA132,2),'1-Award Info'!$F$28:$G$32,2,0)=0,\n     1,\n     VLOOKUP(\"FY\"&RIGHT($EA132,2),'1-Award Info'!$F$28:$G$32,2,0)),1)","v":1},"",null,""]
[null,null,null,null,null,null,null,null,null,null,null,null,null,null,null,null,null,null,null,null,null,null,null,null,null,null,null,null,null,null,null,null,null,null,null,null,null,null,null,null,null,null,null,null,null,null,null,null,null,null,null,null,null,null,null,null,null,null,null,null,null,null,null,null,null,null,null,null,null,null,null,null,null,null,null,null,null,null,null,null,null,null,null,null,null,null,null,null,null,null,null,null,null,null,null,null,null,null,null,null,null,null,null,null,null,null,null,null,null,null,null,null,null,null,null,null,null,null,null,null,null,null,null,null,null,117,{"$f":"\"00\"&'1-Award Info'!$G$6","v":"00"},{"$f":"IFERROR(IFERROR(IFERROR(IFERROR(IFERROR(LEFT(VLOOKUP($DV133,$AT:$AW,4,0),15),LEFT(VLOOKUP($DV133,$BL:$BO,4,0),15)),LEFT(VLOOKUP($DV133,$CD:$CG,4,0),15)),LEFT(VLOOKUP($DV133,CV:CY,4,0),15)),LEFT(VLOOKUP($DV133,DN:DQ,4,0),15)),\"\")","v":""},{"$f":"IFERROR(IFERROR(IFERROR(IFERROR(IFERROR(RIGHT(VLOOKUP($DV133,$AT:$AW,4,0),5),RIGHT(VLOOKUP($DV133,$BL:$BO,4,0),5)),RIGHT(VLOOKUP($DV133,$CD:$CG,4,0),5)),RIGHT(VLOOKUP($DV133,CV:CY,4,0),5)),RIGHT(VLOOKUP($DV133,DN:DR,4,0),5)),\"\")","v":""},1,{"$f":"IFERROR(IFERROR(IFERROR(IFERROR(IFERROR(VLOOKUP($DV133,$AT:$AZ,7,0),VLOOKUP($DV133,$BL:$BR,7,0)),VLOOKUP($DV133,$CD:$CJ,7,0)),VLOOKUP($DV133,CV:DB,7,0)),VLOOKUP($DV133,DN:DT,7,0)),\"\")","v":""},{"$f":"IFERROR(\nIF(VLOOKUP(\"FY\"&RIGHT($EA133,2),'1-Award Info'!$F$28:$G$32,2,0)=0,\n     1,\n     VLOOKUP(\"FY\"&RIGHT($EA133,2),'1-Award Info'!$F$28:$G$32,2,0)),1)","v":1},{"$f":"IFERROR(IFERROR(IFERROR(IFERROR(IFERROR(VLOOKUP($DV133,$AT:$AZ,5,0),VLOOKUP($DV133,$BL:$BR,5,0)),VLOOKUP($DV133,$CD:$CJ,5,0)),VLOOKUP($DV133,CV:CZ,5,0)),VLOOKUP($DV133,DN:DR,5,0)),\"\")","v":""},null,{"$f":"IFERROR(IFERROR(IFERROR(IFERROR(IFERROR(VLOOKUP($DV133,$AT:$AZ,6,0),VLOOKUP($DV133,$BL:$BR,6,0)),VLOOKUP($DV133,$CD:$CJ,6,0)),VLOOKUP($DV133,CV:DA,6,0)),VLOOKUP($DV133,DN:DS,6,0)),\"\")","v":""}]
[null,null,null,null,null,null,null,null,null,null,null,null,null,null,null,null,null,null,null,null,null,null,null,null,null,null,null,null,null,null,null,null,null,null,null,null,null,null,null,null,null,null,null,null,null,{"$f":"AT132","v":0},"MAX VALUE",null,null,null,null,null,null,null,null,null,null,null,null,null,null,null,null,{"$f":"BL132","v":0},"MAX VALUE",null,null,null,null,null,null,null,null,null,null,null,null,null,null,null,null,{"$f":"CD132","v":0},"MAX VALUE",null,null,null,null,null,null,null,null,null,null,null,null,null,null,null,null,{"$f":"CV132","v":0},"MAX VALUE",null,null,null,null,null,null,null,null,null,null,null,null,null,null,null,null,{"$f":"IF(DN132=0,-1,MAX(DN17:DN132))","v":-1},"MAX VALUE",null,null,null,null,null,null,118,{"$f":"\"00\"&'1-Award Info'!$G$6","v":"00"},"","",1,"",{"$f":"IFERROR(\nIF(VLOOKUP(\"FY\"&RIGHT($EA134,2),'1-Award Info'!$F$28:$G$32,2,0)=0,\n     1,\n     VLOOKUP(\"FY\"&RIGHT($EA134,2),'1-Award Info'!$F$28:$G$32,2,0)),1)","v":1},"",null,""]
[null,null,null,null,null,null,null,null,null,null,null,null,null,null,null,null,null,null,null,null,null,null,null,null,null,null,null,null,null,null,null,null,null,null,null,null,null,null,null,null,null,null,null,null,null,null,null,null,null,null,null,null,null,null,null,null,null,null,null,null,null,null,null,null,null,null,null,null,null,null,null,null,null,null,null,null,null,null,null,null,null,null,null,null,null,null,null,null,null,null,null,null,null,null,null,null,null,null,null,null,null,null,null,null,null,null,null,null,null,null,null,null,null,null,null,null,null,null,null,null,null,null,null,null,null,119,{"$f":"\"00\"&'1-Award Info'!$G$6","v":"00"},"","",1,"",{"$f":"IFERROR(\nIF(VLOOKUP(\"FY\"&RIGHT($EA135,2),'1-Award Info'!$F$28:$G$32,2,0)=0,\n     1,\n     VLOOKUP(\"FY\"&RIGHT($EA135,2),'1-Award Info'!$F$28:$G$32,2,0)),1)","v":1},"",null,""]
[null,null,null,null,null,null,null,null,null,null,null,null,null,null,null,null,null,null,null,null,null,null,null,null,null,null,null,null,null,null,null,null,null,null,null,null,null,null,null,null,null,null,null,null,null,null,null,null,null,null,null,null,null,null,null,null,null,null,null,null,null,null,null,null,null,null,null,null,null,null,null,null,null,null,null,null,null,null,null,null,null,null,null,null,null,null,null,null,null,null,null,null,null,null,null,null,null,null,null,null,null,null,null,null,null,null,null,null,null,null,null,null,null,null,null,null,null,null,null,null,null,null,null,null,null,120,{"$f":"\"00\"&'1-Award Info'!$G$6","v":"00"},"","",1,"",{"$f":"IFERROR(\nIF(VLOOKUP(\"FY\"&RIGHT($EA136,2),'1-Award Info'!$F$28:$G$32,2,0)=0,\n     1,\n     VLOOKUP(\"FY\"&RIGHT($EA136,2),'1-Award Info'!$F$28:$G$32,2,0)),1)","v":1},"",null,""]
[null,null,null,null,null,null,null,null,null,null,null,null,null,null,null,null,null,null,null,null,null,null,null,null,null,null,null,null,null,null,null,null,null,null,null,null,null,null,null,null,null,null,null,null,null,null,null,null,null,null,null,null,null,null,null,null,null,null,null,null,null,null,null,null,null,null,null,null,null,null,null,null,null,null,null,null,null,null,null,null,null,null,null,null,null,null,null,null,null,null,null,null,null,null,null,null,null,null,null,null,null,null,null,null,null,null,null,null,null,null,null,null,null,null,null,null,null,null,null,null,null,null,null,null,null,121,{"$f":"\"00\"&'1-Award Info'!$G$6","v":"00"},"","",1,"",{"$f":"IFERROR(\nIF(VLOOKUP(\"FY\"&RIGHT($EA137,2),'1-Award Info'!$F$28:$G$32,2,0)=0,\n     1,\n     VLOOKUP(\"FY\"&RIGHT($EA137,2),'1-Award Info'!$F$28:$G$32,2,0)),1)","v":1},"",null,""]
[null,null,null,null,null,null,null,null,null,null,null,null,null,null,null,null,null,null,null,null,null,null,null,null,null,null,null,null,null,null,null,null,null,null,null,null,null,null,null,null,null,null,null,null,null,null,null,null,null,null,null,null,null,null,null,null,null,null,null,null,null,null,null,null,null,null,null,null,null,null,null,null,null,null,null,null,null,null,null,null,null,null,null,null,null,null,null,null,null,null,null,null,null,null,null,null,null,null,null,null,null,null,null,null,null,null,null,null,null,null,null,null,null,null,null,null,null,null,null,null,null,null,null,null,null,122,{"$f":"\"00\"&'1-Award Info'!$G$6","v":"00"},"","",1,"",{"$f":"IFERROR(\nIF(VLOOKUP(\"FY\"&RIGHT($EA138,2),'1-Award Info'!$F$28:$G$32,2,0)=0,\n     1,\n     VLOOKUP(\"FY\"&RIGHT($EA138,2),'1-Award Info'!$F$28:$G$32,2,0)),1)","v":1},"",null,""]
[null,null,null,null,null,null,null,null,null,null,null,null,null,null,null,null,null,null,null,null,null,null,null,null,null,null,null,null,null,null,null,null,null,null,null,null,null,null,null,null,null,null,null,null,null,null,null,null,null,null,null,null,null,null,null,null,null,null,null,null,null,null,null,null,null,null,null,null,null,null,null,null,null,null,null,null,null,null,null,null,null,null,null,null,null,null,null,null,null,null,null,null,null,null,null,null,null,null,null,null,null,null,null,null,null,null,null,null,null,null,null,null,null,null,null,null,null,null,null,null,null,null,null,null,null,{"$f":"DV138+1","v":123},{"$f":"\"00\"&'1-Award Info'!$G$6","v":"00"},{"$f":"IFERROR(IFERROR(IFERROR(IFERROR(IFERROR(LEFT(VLOOKUP($DV139,$AT:$AW,4,0),15),LEFT(VLOOKUP($DV139,$BL:$BO,4,0),15)),LEFT(VLOOKUP($DV139,$CD:$CG,4,0),15)),LEFT(VLOOKUP($DV139,CV:CY,4,0),15)),LEFT(VLOOKUP($DV139,DN:DQ,4,0),15)),\"\")","v":""},{"$f":"IFERROR(IFERROR(IFERROR(IFERROR(IFERROR(RIGHT(VLOOKUP($DV139,$AT:$AW,4,0),5),RIGHT(VLOOKUP($DV139,$BL:$BO,4,0),5)),RIGHT(VLOOKUP($DV139,$CD:$CG,4,0),5)),RIGHT(VLOOKUP($DV139,CV:CY,4,0),5)),RIGHT(VLOOKUP($DV139,DN:DR,4,0),5)),\"\")","v":""},1,{"$f":"IFERROR(IFERROR(IFERROR(IFERROR(IFERROR(VLOOKUP($DV139,$AT:$AZ,7,0),VLOOKUP($DV139,$BL:$BR,7,0)),VLOOKUP($DV139,$CD:$CJ,7,0)),VLOOKUP($DV139,CV:DB,7,0)),VLOOKUP($DV139,DN:DT,7,0)),\"\")","v":""},{"$f":"IFERROR(\nIF(VLOOKUP(\"FY\"&RIGHT($EA139,2),'1-Award Info'!$F$28:$G$32,2,0)=0,\n     1,\n     VLOOKUP(\"FY\"&RIGHT($EA139,2),'1-Award Info'!$F$28:$G$32,2,0)),1)","v":1},{"$f":"IFERROR(IFERROR(IFERROR(IFERROR(IFERROR(VLOOKUP($DV139,$AT:$AZ,5,0),VLOOKUP($DV139,$BL:$BR,5,0)),VLOOKUP($DV139,$CD:$CJ,5,0)),VLOOKUP($DV139,CV:CZ,5,0)),VLOOKUP($DV139,DN:DR,5,0)),\"\")","v":""},null,{"$f":"IFERROR(IFERROR(IFERROR(IFERROR(IFERROR(VLOOKUP($DV139,$AT:$AZ,6,0),VLOOKUP($DV139,$BL:$BR,6,0)),VLOOKUP($DV139,$CD:$CJ,6,0)),VLOOKUP($DV139,CV:DA,6,0)),VLOOKUP($DV139,DN:DS,6,0)),\"\")","v":""}]
[null,null,null,null,null,null,null,null,null,null,null,null,null,null,null,null,null,null,null,null,null,null,null,null,null,null,null,null,null,null,null,null,null,null,null,null,null,null,null,null,null,null,null,null,null,null,null,null,null,null,null,null,null,null,null,null,null,null,null,null,null,null,null,null,null,null,null,null,null,null,null,null,null,null,null,null,null,null,null,null,null,null,null,null,null,null,null,null,null,null,null,null,null,null,null,null,null,null,null,null,null,null,null,null,null,null,null,null,null,null,null,null,null,null,null,null,null,null,null,null,null,null,null,null,null,124,{"$f":"\"00\"&'1-Award Info'!$G$6","v":"00"},"","",1,"",{"$f":"IFERROR(\nIF(VLOOKUP(\"FY\"&RIGHT($EA140,2),'1-Award Info'!$F$28:$G$32,2,0)=0,\n     1,\n     VLOOKUP(\"FY\"&RIGHT($EA140,2),'1-Award Info'!$F$28:$G$32,2,0)),1)","v":1},"",null,""]
[null,null,null,null,null,null,null,null,null,null,null,null,null,null,null,null,null,null,null,null,null,null,null,null,null,null,null,null,null,null,null,null,null,null,null,null,null,null,null,null,null,null,null,null,null,null,null,null,null,null,null,null,null,null,null,null,null,null,null,null,null,null,null,null,null,null,null,null,null,null,null,null,null,null,null,null,null,null,null,null,null,null,null,null,null,null,null,null,null,null,null,null,null,null,null,null,null,null,null,null,null,null,null,null,null,null,null,null,null,null,null,null,null,null,null,null,null,null,null,null,null,null,null,null,null,125,{"$f":"\"00\"&'1-Award Info'!$G$6","v":"00"},"","",1,"",{"$f":"IFERROR(\nIF(VLOOKUP(\"FY\"&RIGHT($EA141,2),'1-Award Info'!$F$28:$G$32,2,0)=0,\n     1,\n     VLOOKUP(\"FY\"&RIGHT($EA141,2),'1-Award Info'!$F$28:$G$32,2,0)),1)","v":1},"",null,""]
[null,null,null,null,null,null,null,null,null,null,null,null,null,null,null,null,null,null,null,null,null,null,null,null,null,null,null,null,null,null,null,null,null,null,null,null,null,null,null,null,null,null,null,null,null,null,null,null,null,null,null,null,null,null,null,null,null,null,null,null,null,null,null,null,null,null,null,null,null,null,null,null,null,null,null,null,null,null,null,null,null,null,null,null,null,null,null,null,null,null,null,null,null,null,null,null,null,null,null,null,null,null,null,null,null,null,null,null,null,null,null,null,null,null,null,null,null,null,null,null,null,null,null,null,null,126,{"$f":"\"00\"&'1-Award Info'!$G$6","v":"00"},"","",1,"",{"$f":"IFERROR(\nIF(VLOOKUP(\"FY\"&RIGHT($EA142,2),'1-Award Info'!$F$28:$G$32,2,0)=0,\n     1,\n     VLOOKUP(\"FY\"&RIGHT($EA142,2),'1-Award Info'!$F$28:$G$32,2,0)),1)","v":1},"",null,""]
[null,null,null,null,null,null,null,null,null,null,null,null,null,null,null,null,null,null,null,null,null,null,null,null,null,null,null,null,null,null,null,null,null,null,null,null,null,null,null,null,null,null,null,null,null,null,null,null,null,null,null,null,null,null,null,null,null,null,null,null,null,null,null,null,null,null,null,null,null,null,null,null,null,null,null,null,null,null,null,null,null,null,null,null,null,null,null,null,null,null,null,null,null,null,null,null,null,null,null,null,null,null,null,null,null,null,null,null,null,null,null,null,null,null,null,null,null,null,null,null,null,null,null,null,null,127,{"$f":"\"00\"&'1-Award Info'!$G$6","v":"00"},"","",1,"",{"$f":"IFERROR(\nIF(VLOOKUP(\"FY\"&RIGHT($EA143,2),'1-Award Info'!$F$28:$G$32,2,0)=0,\n     1,\n     VLOOKUP(\"FY\"&RIGHT($EA143,2),'1-Award Info'!$F$28:$G$32,2,0)),1)","v":1},"",null,""]
[null,null,null,null,null,null,null,null,null,null,null,null,null,null,null,null,null,null,null,null,null,null,null,null,null,null,null,null,null,null,null,null,null,null,null,null,null,null,null,null,null,null,null,null,null,null,null,null,null,null,null,null,null,null,null,null,null,null,null,null,null,null,null,null,null,null,null,null,null,null,null,null,null,null,null,null,null,null,null,null,null,null,null,null,null,null,null,null,null,null,null,null,null,null,null,null,null,null,null,null,null,null,null,null,null,null,null,null,null,null,null,null,null,null,null,null,null,null,null,null,null,null,null,null,null,128,{"$f":"\"00\"&'1-Award Info'!$G$6","v":"00"},"","",1,"",{"$f":"IFERROR(\nIF(VLOOKUP(\"FY\"&RIGHT($EA144,2),'1-Award Info'!$F$28:$G$32,2,0)=0,\n     1,\n     VLOOKUP(\"FY\"&RIGHT($EA144,2),'1-Award Info'!$F$28:$G$32,2,0)),1)","v":1},"",null,""]
[null,null,null,null,null,null,null,null,null,null,null,null,null,null,null,null,null,null,null,null,null,null,null,null,null,null,null,null,null,null,null,null,null,null,null,null,null,null,null,null,null,null,null,null,null,null,null,null,null,null,null,null,null,null,null,null,null,null,null,null,null,null,null,null,null,null,null,null,null,null,null,null,null,null,null,null,null,null,null,null,null,null,null,null,null,null,null,null,null,null,null,null,null,null,null,null,null,null,null,null,null,null,null,null,null,null,null,null,null,null,null,null,null,null,null,null,null,null,null,null,null,null,null,null,null,129,{"$f":"\"00\"&'1-Award Info'!$G$6","v":"00"},"","",1,"",{"$f":"IFERROR(\nIF(VLOOKUP(\"FY\"&RIGHT($EA145,2),'1-Award Info'!$F$28:$G$32,2,0)=0,\n     1,\n     VLOOKUP(\"FY\"&RIGHT($EA145,2),'1-Award Info'!$F$28:$G$32,2,0)),1)","v":1},"",null,""]
[null,null,null,null,null,null,null,null,null,null,null,null,null,null,null,null,null,null,null,null,null,null,null,null,null,null,null,null,null,null,null,null,null,null,null,null,null,null,null,null,null,null,null,null,null,null,null,null,null,null,null,null,null,null,null,null,null,null,null,null,null,null,null,null,null,null,null,null,null,null,null,null,null,null,null,null,null,null,null,null,null,null,null,null,null,null,null,null,null,null,null,null,null,null,null,null,null,null,null,null,null,null,null,null,null,null,null,null,null,null,null,null,null,null,null,null,null,null,null,null,null,null,null,null,null,130,{"$f":"\"00\"&'1-Award Info'!$G$6","v":"00"},"","",1,"",{"$f":"IFERROR(\nIF(VLOOKUP(\"FY\"&RIGHT($EA146,2),'1-Award Info'!$F$28:$G$32,2,0)=0,\n     1,\n     VLOOKUP(\"FY\"&RIGHT($EA146,2),'1-Award Info'!$F$28:$G$32,2,0)),1)","v":1},"",null,""]
[null,null,null,null,null,null,null,null,null,null,null,null,null,null,null,null,null,null,null,null,null,null,null,null,null,null,null,null,null,null,null,null,null,null,null,null,null,null,null,null,null,null,null,null,null,null,null,null,null,null,null,null,null,null,null,null,null,null,null,null,null,null,null,null,null,null,null,null,null,null,null,null,null,null,null,null,null,null,null,null,null,null,null,null,null,null,null,null,null,null,null,null,null,null,null,null,null,null,null,null,null,null,null,null,null,null,null,null,null,null,null,null,null,null,null,null,null,null,null,null,null,null,null,null,null,{"$f":"DV146+1","v":131},{"$f":"\"00\"&'1-Award Info'!$G$6","v":"00"},"","",1,"",{"$f":"IFERROR(\nIF(VLOOKUP(\"FY\"&RIGHT($EA147,2),'1-Award Info'!$F$28:$G$32,2,0)=0,\n     1,\n     VLOOKUP(\"FY\"&RIGHT($EA147,2),'1-Award Info'!$F$28:$G$32,2,0)),1)","v":1},"",null,""]
[null,null,null,null,null,null,null,null,null,null,null,null,null,null,null,null,null,null,null,null,null,null,null,null,null,null,null,null,null,null,null,null,null,null,null,null,null,null,null,null,null,null,null,null,null,null,null,null,null,null,null,null,null,null,null,null,null,null,null,null,null,null,null,null,null,null,null,null,null,null,null,null,null,null,null,null,null,null,null,null,null,null,null,null,null,null,null,null,null,null,null,null,null,null,null,null,null,null,null,null,null,null,null,null,null,null,null,null,null,null,null,null,null,null,null,null,null,null,null,null,null,null,null,null,null,132,{"$f":"\"00\"&'1-Award Info'!$G$6","v":"00"},"","",1,"",{"$f":"IFERROR(\nIF(VLOOKUP(\"FY\"&RIGHT($EA148,2),'1-Award Info'!$F$28:$G$32,2,0)=0,\n     1,\n     VLOOKUP(\"FY\"&RIGHT($EA148,2),'1-Award Info'!$F$28:$G$32,2,0)),1)","v":1},"",null,""]
[null,null,null,null,null,null,null,null,null,null,null,null,null,null,null,null,null,null,null,null,null,null,null,null,null,null,null,null,null,null,null,null,null,null,null,null,null,null,null,null,null,null,null,null,null,null,null,null,null,null,null,null,null,null,null,null,null,null,null,null,null,null,null,null,null,null,null,null,null,null,null,null,null,null,null,null,null,null,null,null,null,null,null,null,null,null,null,null,null,null,null,null,null,null,null,null,null,null,null,null,null,null,null,null,null,null,null,null,null,null,null,null,null,null,null,null,null,null,null,null,null,null,null,null,null,133,{"$f":"\"00\"&'1-Award Info'!$G$6","v":"00"},"","",1,"",{"$f":"IFERROR(\nIF(VLOOKUP(\"FY\"&RIGHT($EA149,2),'1-Award Info'!$F$28:$G$32,2,0)=0,\n     1,\n     VLOOKUP(\"FY\"&RIGHT($EA149,2),'1-Award Info'!$F$28:$G$32,2,0)),1)","v":1},"",null,""]
[null,null,null,null,null,null,null,null,null,null,null,null,null,null,null,null,null,null,null,null,null,null,null,null,null,null,null,null,null,null,null,null,null,null,null,null,null,null,null,null,null,null,null,null,null,null,null,null,null,null,null,null,null,null,null,null,null,null,null,null,null,null,null,null,null,null,null,null,null,null,null,null,null,null,null,null,null,null,null,null,null,null,null,null,null,null,null,null,null,null,null,null,null,null,null,null,null,null,null,null,null,null,null,null,null,null,null,null,null,null,null,null,null,null,null,null,null,null,null,null,null,null,null,null,null,134,{"$f":"\"00\"&'1-Award Info'!$G$6","v":"00"},"","",1,"",{"$f":"IFERROR(\nIF(VLOOKUP(\"FY\"&RIGHT($EA150,2),'1-Award Info'!$F$28:$G$32,2,0)=0,\n     1,\n     VLOOKUP(\"FY\"&RIGHT($EA150,2),'1-Award Info'!$F$28:$G$32,2,0)),1)","v":1},"",null,""]
[null,null,null,null,null,null,null,null,null,null,null,null,null,null,null,null,null,null,null,null,null,null,null,null,null,null,null,null,null,null,null,null,null,null,null,null,null,null,null,null,null,null,null,null,null,null,null,null,null,null,null,null,null,null,null,null,null,null,null,null,null,null,null,null,null,null,null,null,null,null,null,null,null,null,null,null,null,null,null,null,null,null,null,null,null,null,null,null,null,null,null,null,null,null,null,null,null,null,null,null,null,null,null,null,null,null,null,null,null,null,null,null,null,null,null,null,null,null,null,null,null,null,null,null,null,135,{"$f":"\"00\"&'1-Award Info'!$G$6","v":"00"},"","",1,"",{"$f":"IFERROR(\nIF(VLOOKUP(\"FY\"&RIGHT($EA151,2),'1-Award Info'!$F$28:$G$32,2,0)=0,\n     1,\n     VLOOKUP(\"FY\"&RIGHT($EA151,2),'1-Award Info'!$F$28:$G$32,2,0)),1)","v":1},"",null,""]
[null,null,null,null,null,null,null,null,null,null,null,null,null,null,null,null,null,null,null,null,null,null,null,null,null,null,null,null,null,null,null,null,null,null,null,null,null,null,null,null,null,null,null,null,null,null,null,null,null,null,null,null,null,null,null,null,null,null,null,null,null,null,null,null,null,null,null,null,null,null,null,null,null,null,null,null,null,null,null,null,null,null,null,null,null,null,null,null,null,null,null,null,null,null,null,null,null,null,null,null,null,null,null,null,null,null,null,null,null,null,null,null,null,null,null,null,null,null,null,null,null,null,null,null,null,136,{"$f":"\"00\"&'1-Award Info'!$G$6","v":"00"},"","",1,"",{"$f":"IFERROR(\nIF(VLOOKUP(\"FY\"&RIGHT($EA152,2),'1-Award Info'!$F$28:$G$32,2,0)=0,\n     1,\n     VLOOKUP(\"FY\"&RIGHT($EA152,2),'1-Award Info'!$F$28:$G$32,2,0)),1)","v":1},"",null,""]
[null,null,null,null,null,null,null,null,null,null,null,null,null,null,null,null,null,null,null,null,null,null,null,null,null,null,null,null,null,null,null,null,null,null,null,null,null,null,null,null,null,null,null,null,null,null,null,null,null,null,null,null,null,null,null,null,null,null,null,null,null,null,null,null,null,null,null,null,null,null,null,null,null,null,null,null,null,null,null,null,null,null,null,null,null,null,null,null,null,null,null,null,null,null,null,null,null,null,null,null,null,null,null,null,null,null,null,null,null,null,null,null,null,null,null,null,null,null,null,null,null,null,null,null,null,137,{"$f":"\"00\"&'1-Award Info'!$G$6","v":"00"},"","",1,"",{"$f":"IFERROR(\nIF(VLOOKUP(\"FY\"&RIGHT($EA153,2),'1-Award Info'!$F$28:$G$32,2,0)=0,\n     1,\n     VLOOKUP(\"FY\"&RIGHT($EA153,2),'1-Award Info'!$F$28:$G$32,2,0)),1)","v":1},"",null,""]
[null,null,null,null,null,null,null,null,null,null,null,null,null,null,null,null,null,null,null,null,null,null,null,null,null,null,null,null,null,null,null,null,null,null,null,null,null,null,null,null,null,null,null,null,null,null,null,null,null,null,null,null,null,null,null,null,null,null,null,null,null,null,null,null,null,null,null,null,null,null,null,null,null,null,null,null,null,null,null,null,null,null,null,null,null,null,null,null,null,null,null,null,null,null,null,null,null,null,null,null,null,null,null,null,null,null,null,null,null,null,null,null,null,null,null,null,null,null,null,null,null,null,null,null,null,138,{"$f":"\"00\"&'1-Award Info'!$G$6","v":"00"},"","",1,"",{"$f":"IFERROR(\nIF(VLOOKUP(\"FY\"&RIGHT($EA154,2),'1-Award Info'!$F$28:$G$32,2,0)=0,\n     1,\n     VLOOKUP(\"FY\"&RIGHT($EA154,2),'1-Award Info'!$F$28:$G$32,2,0)),1)","v":1},"",null,""]
[null,null,null,null,null,null,null,null,null,null,null,null,null,null,null,null,null,null,null,null,null,null,null,null,null,null,null,null,null,null,null,null,null,null,null,null,null,null,null,null,null,null,null,null,null,null,null,null,null,null,null,null,null,null,null,null,null,null,null,null,null,null,null,null,null,null,null,null,null,null,null,null,null,null,null,null,null,null,null,null,null,null,null,null,null,null,null,null,null,null,null,null,null,null,null,null,null,null,null,null,null,null,null,null,null,null,null,null,null,null,null,null,null,null,null,null,null,null,null,null,null,null,null,null,null,139,{"$f":"\"00\"&'1-Award Info'!$G$6","v":"00"},"","",1,"",{"$f":"IFERROR(\nIF(VLOOKUP(\"FY\"&RIGHT($EA155,2),'1-Award Info'!$F$28:$G$32,2,0)=0,\n     1,\n     VLOOKUP(\"FY\"&RIGHT($EA155,2),'1-Award Info'!$F$28:$G$32,2,0)),1)","v":1},"",null,""]
[null,null,null,null,null,null,null,null,null,null,null,null,null,null,null,null,null,null,null,null,null,null,null,null,null,null,null,null,null,null,null,null,null,null,null,null,null,null,null,null,null,null,null,null,null,null,null,null,null,null,null,null,null,null,null,null,null,null,null,null,null,null,null,null,null,null,null,null,null,null,null,null,null,null,null,null,null,null,null,null,null,null,null,null,null,null,null,null,null,null,null,null,null,null,null,null,null,null,null,null,null,null,null,null,null,null,null,null,null,null,null,null,null,null,null,null,null,null,null,null,null,null,null,null,null,140,{"$f":"\"00\"&'1-Award Info'!$G$6","v":"00"},"","",1,"",{"$f":"IFERROR(\nIF(VLOOKUP(\"FY\"&RIGHT($EA156,2),'1-Award Info'!$F$28:$G$32,2,0)=0,\n     1,\n     VLOOKUP(\"FY\"&RIGHT($EA156,2),'1-Award Info'!$F$28:$G$32,2,0)),1)","v":1},"",null,""]
[null,null,null,null,null,null,null,null,null,null,null,null,null,null,null,null,null,null,null,null,null,null,null,null,null,null,null,null,null,null,null,null,null,null,null,null,null,null,null,null,null,null,null,null,null,null,null,null,null,null,null,null,null,null,null,null,null,null,null,null,null,null,null,null,null,null,null,null,null,null,null,null,null,null,null,null,null,null,null,null,null,null,null,null,null,null,null,null,null,null,null,null,null,null,null,null,null,null,null,null,null,null,null,null,null,null,null,null,null,null,null,null,null,null,null,null,null,null,null,null,null,null,null,null,null,141,{"$f":"\"00\"&'1-Award Info'!$G$6","v":"00"},"","",1,"",{"$f":"IFERROR(\nIF(VLOOKUP(\"FY\"&RIGHT($EA157,2),'1-Award Info'!$F$28:$G$32,2,0)=0,\n     1,\n     VLOOKUP(\"FY\"&RIGHT($EA157,2),'1-Award Info'!$F$28:$G$32,2,0)),1)","v":1},"",null,""]
[null,null,null,null,null,null,null,null,null,null,null,null,null,null,null,null,null,null,null,null,null,null,null,null,null,null,null,null,null,null,null,null,null,null,null,null,null,null,null,null,null,null,null,null,null,null,null,null,null,null,null,null,null,null,null,null,null,null,null,null,null,null,null,null,null,null,null,null,null,null,null,null,null,null,null,null,null,null,null,null,null,null,null,null,null,null,null,null,null,null,null,null,null,null,null,null,null,null,null,null,null,null,null,null,null,null,null,null,null,null,null,null,null,null,null,null,null,null,null,null,null,null,null,null,null,142,{"$f":"\"00\"&'1-Award Info'!$G$6","v":"00"},"","",1,"",{"$f":"IFERROR(\nIF(VLOOKUP(\"FY\"&RIGHT($EA158,2),'1-Award Info'!$F$28:$G$32,2,0)=0,\n     1,\n     VLOOKUP(\"FY\"&RIGHT($EA158,2),'1-Award Info'!$F$28:$G$32,2,0)),1)","v":1},"",null,""]
[null,null,null,null,null,null,null,null,null,null,null,null,null,null,null,null,null,null,null,null,null,null,null,null,null,null,null,null,null,null,null,null,null,null,null,null,null,null,null,null,null,null,null,null,null,null,null,null,null,null,null,null,null,null,null,null,null,null,null,null,null,null,null,null,null,null,null,null,null,null,null,null,null,null,null,null,null,null,null,null,null,null,null,null,null,null,null,null,null,null,null,null,null,null,null,null,null,null,null,null,null,null,null,null,null,null,null,null,null,null,null,null,null,null,null,null,null,null,null,null,null,null,null,null,null,143,{"$f":"\"00\"&'1-Award Info'!$G$6","v":"00"},"","",1,"",{"$f":"IFERROR(\nIF(VLOOKUP(\"FY\"&RIGHT($EA159,2),'1-Award Info'!$F$28:$G$32,2,0)=0,\n     1,\n     VLOOKUP(\"FY\"&RIGHT($EA159,2),'1-Award Info'!$F$28:$G$32,2,0)),1)","v":1},"",null,""]
[null,null,null,null,null,null,null,null,null,null,null,null,null,null,null,null,null,null,null,null,null,null,null,null,null,null,null,null,null,null,null,null,null,null,null,null,null,null,null,null,null,null,null,null,null,null,null,null,null,null,null,null,null,null,null,null,null,null,null,null,null,null,null,null,null,null,null,null,null,null,null,null,null,null,null,null,null,null,null,null,null,null,null,null,null,null,null,null,null,null,null,null,null,null,null,null,null,null,null,null,null,null,null,null,null,null,null,null,null,null,null,null,null,null,null,null,null,null,null,null,null,null,null,null,null,144,{"$f":"\"00\"&'1-Award Info'!$G$6","v":"00"},"","",1,"",{"$f":"IFERROR(\nIF(VLOOKUP(\"FY\"&RIGHT($EA160,2),'1-Award Info'!$F$28:$G$32,2,0)=0,\n     1,\n     VLOOKUP(\"FY\"&RIGHT($EA160,2),'1-Award Info'!$F$28:$G$32,2,0)),1)","v":1},"",null,""]
[null,null,null,null,null,null,null,null,null,null,null,null,null,null,null,null,null,null,null,null,null,null,null,null,null,null,null,null,null,null,null,null,null,null,null,null,null,null,null,null,null,null,null,null,null,null,null,null,null,null,null,null,null,null,null,null,null,null,null,null,null,null,null,null,null,null,null,null,null,null,null,null,null,null,null,null,null,null,null,null,null,null,null,null,null,null,null,null,null,null,null,null,null,null,null,null,null,null,null,null,null,null,null,null,null,null,null,null,null,null,null,null,null,null,null,null,null,null,null,null,null,null,null,null,null,145,{"$f":"\"00\"&'1-Award Info'!$G$6","v":"00"},"","",1,"",{"$f":"IFERROR(\nIF(VLOOKUP(\"FY\"&RIGHT($EA161,2),'1-Award Info'!$F$28:$G$32,2,0)=0,\n     1,\n     VLOOKUP(\"FY\"&RIGHT($EA161,2),'1-Award Info'!$F$28:$G$32,2,0)),1)","v":1},"",null,""]
[null,null,null,null,null,null,null,null,null,null,null,null,null,null,null,null,null,null,null,null,null,null,null,null,null,null,null,null,null,null,null,null,null,null,null,null,null,null,null,null,null,null,null,null,null,null,null,null,null,null,null,null,null,null,null,null,null,null,null,null,null,null,null,null,null,null,null,null,null,null,null,null,null,null,null,null,null,null,null,null,null,null,null,null,null,null,null,null,null,null,null,null,null,null,null,null,null,null,null,null,null,null,null,null,null,null,null,null,null,null,null,null,null,null,null,null,null,null,null,null,null,null,null,null,null,146,{"$f":"\"00\"&'1-Award Info'!$G$6","v":"00"},"","",1,"",{"$f":"IFERROR(\nIF(VLOOKUP(\"FY\"&RIGHT($EA162,2),'1-Award Info'!$F$28:$G$32,2,0)=0,\n     1,\n     VLOOKUP(\"FY\"&RIGHT($EA162,2),'1-Award Info'!$F$28:$G$32,2,0)),1)","v":1},"",null,""]
[null,null,null,null,null,null,null,null,null,null,null,null,null,null,null,null,null,null,null,null,null,null,null,null,null,null,null,null,null,null,null,null,null,null,null,null,null,null,null,null,null,null,null,null,null,null,null,null,null,null,null,null,null,null,null,null,null,null,null,null,null,null,null,null,null,null,null,null,null,null,null,null,null,null,null,null,null,null,null,null,null,null,null,null,null,null,null,null,null,null,null,null,null,null,null,null,null,null,null,null,null,null,null,null,null,null,null,null,null,null,null,null,null,null,null,null,null,null,null,null,null,null,null,null,null,147,{"$f":"\"00\"&'1-Award Info'!$G$6","v":"00"},"","",1,"",{"$f":"IFERROR(\nIF(VLOOKUP(\"FY\"&RIGHT($EA163,2),'1-Award Info'!$F$28:$G$32,2,0)=0,\n     1,\n     VLOOKUP(\"FY\"&RIGHT($EA163,2),'1-Award Info'!$F$28:$G$32,2,0)),1)","v":1},"",null,""]
[null,null,null,null,null,null,null,null,null,null,null,null,null,null,null,null,null,null,null,null,null,null,null,null,null,null,null,null,null,null,null,null,null,null,null,null,null,null,null,null,null,null,null,null,null,null,null,null,null,null,null,null,null,null,null,null,null,null,null,null,null,null,null,null,null,null,null,null,null,null,null,null,null,null,null,null,null,null,null,null,null,null,null,null,null,null,null,null,null,null,null,null,null,null,null,null,null,null,null,null,null,null,null,null,null,null,null,null,null,null,null,null,null,null,null,null,null,null,null,null,null,null,null,null,null,148,{"$f":"\"00\"&'1-Award Info'!$G$6","v":"00"},"","",1,"",{"$f":"IFERROR(\nIF(VLOOKUP(\"FY\"&RIGHT($EA164,2),'1-Award Info'!$F$28:$G$32,2,0)=0,\n     1,\n     VLOOKUP(\"FY\"&RIGHT($EA164,2),'1-Award Info'!$F$28:$G$32,2,0)),1)","v":1},"",null,""]
[null,null,null,null,null,null,null,null,null,null,null,null,null,null,null,null,null,null,null,null,null,null,null,null,null,null,null,null,null,null,null,null,null,null,null,null,null,null,null,null,null,null,null,null,null,null,null,null,null,null,null,null,null,null,null,null,null,null,null,null,null,null,null,null,null,null,null,null,null,null,null,null,null,null,null,null,null,null,null,null,null,null,null,null,null,null,null,null,null,null,null,null,null,null,null,null,null,null,null,null,null,null,null,null,null,null,null,null,null,null,null,null,null,null,null,null,null,null,null,null,null,null,null,null,null,149,{"$f":"\"00\"&'1-Award Info'!$G$6","v":"00"},"","",1,"",{"$f":"IFERROR(\nIF(VLOOKUP(\"FY\"&RIGHT($EA165,2),'1-Award Info'!$F$28:$G$32,2,0)=0,\n     1,\n     VLOOKUP(\"FY\"&RIGHT($EA165,2),'1-Award Info'!$F$28:$G$32,2,0)),1)","v":1},"",null,""]
[null,null,null,null,null,null,null,null,null,null,null,null,null,null,null,null,null,null,null,null,null,null,null,null,null,null,null,null,null,null,null,null,null,null,null,null,null,null,null,null,null,null,null,null,null,null,null,null,null,null,null,null,null,null,null,null,null,null,null,null,null,null,null,null,null,null,null,null,null,null,null,null,null,null,null,null,null,null,null,null,null,null,null,null,null,null,null,null,null,null,null,null,null,null,null,null,null,null,null,null,null,null,null,null,null,null,null,null,null,null,null,null,null,null,null,null,null,null,null,null,null,null,null,null,null,150,{"$f":"\"00\"&'1-Award Info'!$G$6","v":"00"},"","",1,"",{"$f":"IFERROR(\nIF(VLOOKUP(\"FY\"&RIGHT($EA166,2),'1-Award Info'!$F$28:$G$32,2,0)=0,\n     1,\n     VLOOKUP(\"FY\"&RIGHT($EA166,2),'1-Award Info'!$F$28:$G$32,2,0)),1)","v":1},"",null,""]
[null,null,null,null,null,null,null,null,null,null,null,null,null,null,null,null,null,null,null,null,null,null,null,null,null,null,null,null,null,null,null,null,null,null,null,null,null,null,null,null,null,null,null,null,null,null,null,null,null,null,null,null,null,null,null,null,null,null,null,null,null,null,null,null,null,null,null,null,null,null,null,null,null,null,null,null,null,null,null,null,null,null,null,null,null,null,null,null,null,null,null,null,null,null,null,null,null,null,null,null,null,null,null,null,null,null,null,null,null,null,null,null,null,null,null,null,null,null,null,null,null,null,null,null,null,151,{"$f":"\"00\"&'1-Award Info'!$G$6","v":"00"},"","",1,"",{"$f":"IFERROR(\nIF(VLOOKUP(\"FY\"&RIGHT($EA167,2),'1-Award Info'!$F$28:$G$32,2,0)=0,\n     1,\n     VLOOKUP(\"FY\"&RIGHT($EA167,2),'1-Award Info'!$F$28:$G$32,2,0)),1)","v":1},"",null,""]
[null,null,null,null,null,null,null,null,null,null,null,null,null,null,null,null,null,null,null,null,null,null,null,null,null,null,null,null,null,null,null,null,null,null,null,null,null,null,null,null,null,null,null,null,null,null,null,null,null,null,null,null,null,null,null,null,null,null,null,null,null,null,null,null,null,null,null,null,null,null,null,null,null,null,null,null,null,null,null,null,null,null,null,null,null,null,null,null,null,null,null,null,null,null,null,null,null,null,null,null,null,null,null,null,null,null,null,null,null,null,null,null,null,null,null,null,null,null,null,null,null,null,null,null,null,152,{"$f":"\"00\"&'1-Award Info'!$G$6","v":"00"},"","",1,"",{"$f":"IFERROR(\nIF(VLOOKUP(\"FY\"&RIGHT($EA168,2),'1-Award Info'!$F$28:$G$32,2,0)=0,\n     1,\n     VLOOKUP(\"FY\"&RIGHT($EA168,2),'1-Award Info'!$F$28:$G$32,2,0)),1)","v":1},"",null,""]
[null,null,null,null,null,null,null,null,null,null,null,null,null,null,null,null,null,null,null,null,null,null,null,null,null,null,null,null,null,null,null,null,null,null,null,null,null,null,null,null,null,null,null,null,null,null,null,null,null,null,null,null,null,null,null,null,null,null,null,null,null,null,null,null,null,null,null,null,null,null,null,null,null,null,null,null,null,null,null,null,null,null,null,null,null,null,null,null,null,null,null,null,null,null,null,null,null,null,null,null,null,null,null,null,null,null,null,null,null,null,null,null,null,null,null,null,null,null,null,null,null,null,null,null,null,153,{"$f":"\"00\"&'1-Award Info'!$G$6","v":"00"},"","",1,"",{"$f":"IFERROR(\nIF(VLOOKUP(\"FY\"&RIGHT($EA169,2),'1-Award Info'!$F$28:$G$32,2,0)=0,\n     1,\n     VLOOKUP(\"FY\"&RIGHT($EA169,2),'1-Award Info'!$F$28:$G$32,2,0)),1)","v":1},"",null,""]
[null,null,null,null,null,null,null,null,null,null,null,null,null,null,null,null,null,null,null,null,null,null,null,null,null,null,null,null,null,null,null,null,null,null,null,null,null,null,null,null,null,null,null,null,null,null,null,null,null,null,null,null,null,null,null,null,null,null,null,null,null,null,null,null,null,null,null,null,null,null,null,null,null,null,null,null,null,null,null,null,null,null,null,null,null,null,null,null,null,null,null,null,null,null,null,null,null,null,null,null,null,null,null,null,null,null,null,null,null,null,null,null,null,null,null,null,null,null,null,null,null,null,null,null,null,154,{"$f":"\"00\"&'1-Award Info'!$G$6","v":"00"},"","",1,"",{"$f":"IFERROR(\nIF(VLOOKUP(\"FY\"&RIGHT($EA170,2),'1-Award Info'!$F$28:$G$32,2,0)=0,\n     1,\n     VLOOKUP(\"FY\"&RIGHT($EA170,2),'1-Award Info'!$F$28:$G$32,2,0)),1)","v":1},"",null,""]
[null,null,null,null,null,null,null,null,null,null,null,null,null,null,null,null,null,null,null,null,null,null,null,null,null,null,null,null,null,null,null,null,null,null,null,null,null,null,null,null,null,null,null,null,null,null,null,null,null,null,null,null,null,null,null,null,null,null,null,null,null,null,null,null,null,null,null,null,null,null,null,null,null,null,null,null,null,null,null,null,null,null,null,null,null,null,null,null,null,null,null,null,null,null,null,null,null,null,null,null,null,null,null,null,null,null,null,null,null,null,null,null,null,null,null,null,null,null,null,null,null,null,null,null,null,155,{"$f":"\"00\"&'1-Award Info'!$G$6","v":"00"},{"$f":"IFERROR(IFERROR(IFERROR(IFERROR(IFERROR(LEFT(VLOOKUP($DV171,$AT:$AW,4,0),15),LEFT(VLOOKUP($DV171,$BL:$BO,4,0),15)),LEFT(VLOOKUP($DV171,$CD:$CG,4,0),15)),LEFT(VLOOKUP($DV171,CV:CY,4,0),15)),LEFT(VLOOKUP($DV171,DN:DQ,4,0),15)),\"\")","v":""},{"$f":"IFERROR(IFERROR(IFERROR(IFERROR(IFERROR(RIGHT(VLOOKUP($DV171,$AT:$AW,4,0),5),RIGHT(VLOOKUP($DV171,$BL:$BO,4,0),5)),RIGHT(VLOOKUP($DV171,$CD:$CG,4,0),5)),RIGHT(VLOOKUP($DV171,CV:CY,4,0),5)),RIGHT(VLOOKUP($DV171,DN:DR,4,0),5)),\"\")","v":""},1,{"$f":"IFERROR(IFERROR(IFERROR(IFERROR(IFERROR(VLOOKUP($DV171,$AT:$AZ,7,0),VLOOKUP($DV171,$BL:$BR,7,0)),VLOOKUP($DV171,$CD:$CJ,7,0)),VLOOKUP($DV171,CV:DB,7,0)),VLOOKUP($DV171,DN:DT,7,0)),\"\")","v":""},{"$f":"IFERROR(\nIF(VLOOKUP(\"FY\"&RIGHT($EA171,2),'1-Award Info'!$F$28:$G$32,2,0)=0,\n     1,\n     VLOOKUP(\"FY\"&RIGHT($EA171,2),'1-Award Info'!$F$28:$G$32,2,0)),1)","v":1},{"$f":"IFERROR(IFERROR(IFERROR(IFERROR(IFERROR(VLOOKUP($DV171,$AT:$AZ,5,0),VLOOKUP($DV171,$BL:$BR,5,0)),VLOOKUP($DV171,$CD:$CJ,5,0)),VLOOKUP($DV171,CV:CZ,5,0)),VLOOKUP($DV171,DN:DR,5,0)),\"\")","v":""},null,{"$f":"IFERROR(IFERROR(IFERROR(IFERROR(IFERROR(VLOOKUP($DV171,$AT:$AZ,6,0),VLOOKUP($DV171,$BL:$BR,6,0)),VLOOKUP($DV171,$CD:$CJ,6,0)),VLOOKUP($DV171,CV:DA,6,0)),VLOOKUP($DV171,DN:DS,6,0)),\"\")","v":""}]
[null,null,null,null,null,null,null,null,null,null,null,null,null,null,null,null,null,null,null,null,null,null,null,null,null,null,null,null,null,null,null,null,null,null,null,null,null,null,null,null,null,null,null,null,null,null,null,null,null,null,null,null,null,null,null,null,null,null,null,null,null,null,null,null,null,null,null,null,null,null,null,null,null,null,null,null,null,null,null,null,null,null,null,null,null,null,null,null,null,null,null,null,null,null,null,null,null,null,null,null,null,null,null,null,null,null,null,null,null,null,null,null,null,null,null,null,null,null,null,null,null,null,null,null,null,156,{"$f":"\"00\"&'1-Award Info'!$G$6","v":"00"},"","",1,"",{"$f":"IFERROR(\nIF(VLOOKUP(\"FY\"&RIGHT($EA172,2),'1-Award Info'!$F$28:$G$32,2,0)=0,\n     1,\n     VLOOKUP(\"FY\"&RIGHT($EA172,2),'1-Award Info'!$F$28:$G$32,2,0)),1)","v":1},"",null,""]
[null,null,null,null,null,null,null,null,null,null,null,null,null,null,null,null,null,null,null,null,null,null,null,null,null,null,null,null,null,null,null,null,null,null,null,null,null,null,null,null,null,null,null,null,null,null,null,null,null,null,null,null,null,null,null,null,null,null,null,null,null,null,null,null,null,null,null,null,null,null,null,null,null,null,null,null,null,null,null,null,null,null,null,null,null,null,null,null,null,null,null,null,null,null,null,null,null,null,null,null,null,null,null,null,null,null,null,null,null,null,null,null,null,null,null,null,null,null,null,null,null,null,null,null,null,157,{"$f":"\"00\"&'1-Award Info'!$G$6","v":"00"},"","",1,"",{"$f":"IFERROR(\nIF(VLOOKUP(\"FY\"&RIGHT($EA173,2),'1-Award Info'!$F$28:$G$32,2,0)=0,\n     1,\n     VLOOKUP(\"FY\"&RIGHT($EA173,2),'1-Award Info'!$F$28:$G$32,2,0)),1)","v":1},"",null,""]
[null,null,null,null,null,null,null,null,null,null,null,null,null,null,null,null,null,null,null,null,null,null,null,null,null,null,null,null,null,null,null,null,null,null,null,null,null,null,null,null,null,null,null,null,null,null,null,null,null,null,null,null,null,null,null,null,null,null,null,null,null,null,null,null,null,null,null,null,null,null,null,null,null,null,null,null,null,null,null,null,null,null,null,null,null,null,null,null,null,null,null,null,null,null,null,null,null,null,null,null,null,null,null,null,null,null,null,null,null,null,null,null,null,null,null,null,null,null,null,null,null,null,null,null,null,158,{"$f":"\"00\"&'1-Award Info'!$G$6","v":"00"},"","",1,"",{"$f":"IFERROR(\nIF(VLOOKUP(\"FY\"&RIGHT($EA174,2),'1-Award Info'!$F$28:$G$32,2,0)=0,\n     1,\n     VLOOKUP(\"FY\"&RIGHT($EA174,2),'1-Award Info'!$F$28:$G$32,2,0)),1)","v":1},"",null,""]
[null,null,null,null,null,null,null,null,null,null,null,null,null,null,null,null,null,null,null,null,null,null,null,null,null,null,null,null,null,null,null,null,null,null,null,null,null,null,null,null,null,null,null,null,null,null,null,null,null,null,null,null,null,null,null,null,null,null,null,null,null,null,null,null,null,null,null,null,null,null,null,null,null,null,null,null,null,null,null,null,null,null,null,null,null,null,null,null,null,null,null,null,null,null,null,null,null,null,null,null,null,null,null,null,null,null,null,null,null,null,null,null,null,null,null,null,null,null,null,null,null,null,null,null,null,159,{"$f":"\"00\"&'1-Award Info'!$G$6","v":"00"},"","",1,"",{"$f":"IFERROR(\nIF(VLOOKUP(\"FY\"&RIGHT($EA175,2),'1-Award Info'!$F$28:$G$32,2,0)=0,\n     1,\n     VLOOKUP(\"FY\"&RIGHT($EA175,2),'1-Award Info'!$F$28:$G$32,2,0)),1)","v":1},"",null,""]
[null,null,null,null,null,null,null,null,null,null,null,null,null,null,null,null,null,null,null,null,null,null,null,null,null,null,null,null,null,null,null,null,null,null,null,null,null,null,null,null,null,null,null,null,null,null,null,null,null,null,null,null,null,null,null,null,null,null,null,null,null,null,null,null,null,null,null,null,null,null,null,null,null,null,null,null,null,null,null,null,null,null,null,null,null,null,null,null,null,null,null,null,null,null,null,null,null,null,null,null,null,null,null,null,null,null,null,null,null,null,null,null,null,null,null,null,null,null,null,null,null,null,null,null,null,160,{"$f":"\"00\"&'1-Award Info'!$G$6","v":"00"},"","",1,"",{"$f":"IFERROR(\nIF(VLOOKUP(\"FY\"&RIGHT($EA176,2),'1-Award Info'!$F$28:$G$32,2,0)=0,\n     1,\n     VLOOKUP(\"FY\"&RIGHT($EA176,2),'1-Award Info'!$F$28:$G$32,2,0)),1)","v":1},"",null,""]
[null,null,null,null,null,null,null,null,null,null,null,null,null,null,null,null,null,null,null,null,null,null,null,null,null,null,null,null,null,null,null,null,null,null,null,null,null,null,null,null,null,null,null,null,null,null,null,null,null,null,null,null,null,null,null,null,null,null,null,null,null,null,null,null,null,null,null,null,null,null,null,null,null,null,null,null,null,null,null,null,null,null,null,null,null,null,null,null,null,null,null,null,null,null,null,null,null,null,null,null,null,null,null,null,null,null,null,null,null,null,null,null,null,null,null,null,null,null,null,null,null,null,null,null,null,161,{"$f":"\"00\"&'1-Award Info'!$G$6","v":"00"},"","",1,"",{"$f":"IFERROR(\nIF(VLOOKUP(\"FY\"&RIGHT($EA177,2),'1-Award Info'!$F$28:$G$32,2,0)=0,\n     1,\n     VLOOKUP(\"FY\"&RIGHT($EA177,2),'1-Award Info'!$F$28:$G$32,2,0)),1)","v":1},"",null,""]
[null,null,null,null,null,null,null,null,null,null,null,null,null,null,null,null,null,null,null,null,null,null,null,null,null,null,null,null,null,null,null,null,null,null,null,null,null,null,null,null,null,null,null,null,null,null,null,null,null,null,null,null,null,null,null,null,null,null,null,null,null,null,null,null,null,null,null,null,null,null,null,null,null,null,null,null,null,null,null,null,null,null,null,null,null,null,null,null,null,null,null,null,null,null,null,null,null,null,null,null,null,null,null,null,null,null,null,null,null,null,null,null,null,null,null,null,null,null,null,null,null,null,null,null,null,162,{"$f":"\"00\"&'1-Award Info'!$G$6","v":"00"},"","",1,"",{"$f":"IFERROR(\nIF(VLOOKUP(\"FY\"&RIGHT($EA178,2),'1-Award Info'!$F$28:$G$32,2,0)=0,\n     1,\n     VLOOKUP(\"FY\"&RIGHT($EA178,2),'1-Award Info'!$F$28:$G$32,2,0)),1)","v":1},"",null,""]
[null,null,null,null,null,null,null,null,null,null,null,null,null,null,null,null,null,null,null,null,null,null,null,null,null,null,null,null,null,null,null,null,null,null,null,null,null,null,null,null,null,null,null,null,null,null,null,null,null,null,null,null,null,null,null,null,null,null,null,null,null,null,null,null,null,null,null,null,null,null,null,null,null,null,null,null,null,null,null,null,null,null,null,null,null,null,null,null,null,null,null,null,null,null,null,null,null,null,null,null,null,null,null,null,null,null,null,null,null,null,null,null,null,null,null,null,null,null,null,null,null,null,null,null,null,163,{"$f":"\"00\"&'1-Award Info'!$G$6","v":"00"},"","",1,"",{"$f":"IFERROR(\nIF(VLOOKUP(\"FY\"&RIGHT($EA179,2),'1-Award Info'!$F$28:$G$32,2,0)=0,\n     1,\n     VLOOKUP(\"FY\"&RIGHT($EA179,2),'1-Award Info'!$F$28:$G$32,2,0)),1)","v":1},"",null,""]
[null,null,null,null,null,null,null,null,null,null,null,null,null,null,null,null,null,null,null,null,null,null,null,null,null,null,null,null,null,null,null,null,null,null,null,null,null,null,null,null,null,null,null,null,null,null,null,null,null,null,null,null,null,null,null,null,null,null,null,null,null,null,null,null,null,null,null,null,null,null,null,null,null,null,null,null,null,null,null,null,null,null,null,null,null,null,null,null,null,null,null,null,null,null,null,null,null,null,null,null,null,null,null,null,null,null,null,null,null,null,null,null,null,null,null,null,null,null,null,null,null,null,null,null,null,164,{"$f":"\"00\"&'1-Award Info'!$G$6","v":"00"},"","",1,"",{"$f":"IFERROR(\nIF(VLOOKUP(\"FY\"&RIGHT($EA180,2),'1-Award Info'!$F$28:$G$32,2,0)=0,\n     1,\n     VLOOKUP(\"FY\"&RIGHT($EA180,2),'1-Award Info'!$F$28:$G$32,2,0)),1)","v":1},"",null,""]
[null,null,null,null,null,null,null,null,null,null,null,null,null,null,null,null,null,null,null,null,null,null,null,null,null,null,null,null,null,null,null,null,null,null,null,null,null,null,null,null,null,null,null,null,null,null,null,null,null,null,null,null,null,null,null,null,null,null,null,null,null,null,null,null,null,null,null,null,null,null,null,null,null,null,null,null,null,null,null,null,null,null,null,null,null,null,null,null,null,null,null,null,null,null,null,null,null,null,null,null,null,null,null,null,null,null,null,null,null,null,null,null,null,null,null,null,null,null,null,null,null,null,null,null,null,165,{"$f":"\"00\"&'1-Award Info'!$G$6","v":"00"},"","",1,"",{"$f":"IFERROR(\nIF(VLOOKUP(\"FY\"&RIGHT($EA181,2),'1-Award Info'!$F$28:$G$32,2,0)=0,\n     1,\n     VLOOKUP(\"FY\"&RIGHT($EA181,2),'1-Award Info'!$F$28:$G$32,2,0)),1)","v":1},"",null,""]
[null,null,null,null,null,null,null,null,null,null,null,null,null,null,null,null,null,null,null,null,null,null,null,null,null,null,null,null,null,null,null,null,null,null,null,null,null,null,null,null,null,null,null,null,null,null,null,null,null,null,null,null,null,null,null,null,null,null,null,null,null,null,null,null,null,null,null,null,null,null,null,null,null,null,null,null,null,null,null,null,null,null,null,null,null,null,null,null,null,null,null,null,null,null,null,null,null,null,null,null,null,null,null,null,null,null,null,null,null,null,null,null,null,null,null,null,null,null,null,null,null,null,null,null,null,166,{"$f":"\"00\"&'1-Award Info'!$G$6","v":"00"},"","",1,"",{"$f":"IFERROR(\nIF(VLOOKUP(\"FY\"&RIGHT($EA182,2),'1-Award Info'!$F$28:$G$32,2,0)=0,\n     1,\n     VLOOKUP(\"FY\"&RIGHT($EA182,2),'1-Award Info'!$F$28:$G$32,2,0)),1)","v":1},"",null,""]
[null,null,null,null,null,null,null,null,null,null,null,null,null,null,null,null,null,null,null,null,null,null,null,null,null,null,null,null,null,null,null,null,null,null,null,null,null,null,null,null,null,null,null,null,null,null,null,null,null,null,null,null,null,null,null,null,null,null,null,null,null,null,null,null,null,null,null,null,null,null,null,null,null,null,null,null,null,null,null,null,null,null,null,null,null,null,null,null,null,null,null,null,null,null,null,null,null,null,null,null,null,null,null,null,null,null,null,null,null,null,null,null,null,null,null,null,null,null,null,null,null,null,null,null,null,167,{"$f":"\"00\"&'1-Award Info'!$G$6","v":"00"},"","",1,"",{"$f":"IFERROR(\nIF(VLOOKUP(\"FY\"&RIGHT($EA183,2),'1-Award Info'!$F$28:$G$32,2,0)=0,\n     1,\n     VLOOKUP(\"FY\"&RIGHT($EA183,2),'1-Award Info'!$F$28:$G$32,2,0)),1)","v":1},"",null,""]
[null,null,null,null,null,null,null,null,null,null,null,null,null,null,null,null,null,null,null,null,null,null,null,null,null,null,null,null,null,null,null,null,null,null,null,null,null,null,null,null,null,null,null,null,null,null,null,null,null,null,null,null,null,null,null,null,null,null,null,null,null,null,null,null,null,null,null,null,null,null,null,null,null,null,null,null,null,null,null,null,null,null,null,null,null,null,null,null,null,null,null,null,null,null,null,null,null,null,null,null,null,null,null,null,null,null,null,null,null,null,null,null,null,null,null,null,null,null,null,null,null,null,null,null,null,168,{"$f":"\"00\"&'1-Award Info'!$G$6","v":"00"},"","",1,"",{"$f":"IFERROR(\nIF(VLOOKUP(\"FY\"&RIGHT($EA184,2),'1-Award Info'!$F$28:$G$32,2,0)=0,\n     1,\n     VLOOKUP(\"FY\"&RIGHT($EA184,2),'1-Award Info'!$F$28:$G$32,2,0)),1)","v":1},"",null,""]
[null,null,null,null,null,null,null,null,null,null,null,null,null,null,null,null,null,null,null,null,null,null,null,null,null,null,null,null,null,null,null,null,null,null,null,null,null,null,null,null,null,null,null,null,null,null,null,null,null,null,null,null,null,null,null,null,null,null,null,null,null,null,null,null,null,null,null,null,null,null,null,null,null,null,null,null,null,null,null,null,null,null,null,null,null,null,null,null,null,null,null,null,null,null,null,null,null,null,null,null,null,null,null,null,null,null,null,null,null,null,null,null,null,null,null,null,null,null,null,null,null,null,null,null,null,169,{"$f":"\"00\"&'1-Award Info'!$G$6","v":"00"},"","",1,"",{"$f":"IFERROR(\nIF(VLOOKUP(\"FY\"&RIGHT($EA185,2),'1-Award Info'!$F$28:$G$32,2,0)=0,\n     1,\n     VLOOKUP(\"FY\"&RIGHT($EA185,2),'1-Award Info'!$F$28:$G$32,2,0)),1)","v":1},"",null,""]
[null,null,null,null,null,null,null,null,null,null,null,null,null,null,null,null,null,null,null,null,null,null,null,null,null,null,null,null,null,null,null,null,null,null,null,null,null,null,null,null,null,null,null,null,null,null,null,null,null,null,null,null,null,null,null,null,null,null,null,null,null,null,null,null,null,null,null,null,null,null,null,null,null,null,null,null,null,null,null,null,null,null,null,null,null,null,null,null,null,null,null,null,null,null,null,null,null,null,null,null,null,null,null,null,null,null,null,null,null,null,null,null,null,null,null,null,null,null,null,null,null,null,null,null,null,170,{"$f":"\"00\"&'1-Award Info'!$G$6","v":"00"},"","",1,"",{"$f":"IFERROR(\nIF(VLOOKUP(\"FY\"&RIGHT($EA186,2),'1-Award Info'!$F$28:$G$32,2,0)=0,\n     1,\n     VLOOKUP(\"FY\"&RIGHT($EA186,2),'1-Award Info'!$F$28:$G$32,2,0)),1)","v":1},"",null,""]
[null,null,null,null,null,null,null,null,null,null,null,null,null,null,null,null,null,null,null,null,null,null,null,null,null,null,null,null,null,null,null,null,null,null,null,null,null,null,null,null,null,null,null,null,null,null,null,null,null,null,null,null,null,null,null,null,null,null,null,null,null,null,null,null,null,null,null,null,null,null,null,null,null,null,null,null,null,null,null,null,null,null,null,null,null,null,null,null,null,null,null,null,null,null,null,null,null,null,null,null,null,null,null,null,null,null,null,null,null,null,null,null,null,null,null,null,null,null,null,null,null,null,null,null,null,171,{"$f":"\"00\"&'1-Award Info'!$G$6","v":"00"},"","",1,"",{"$f":"IFERROR(\nIF(VLOOKUP(\"FY\"&RIGHT($EA187,2),'1-Award Info'!$F$28:$G$32,2,0)=0,\n     1,\n     VLOOKUP(\"FY\"&RIGHT($EA187,2),'1-Award Info'!$F$28:$G$32,2,0)),1)","v":1},"",null,""]
[null,null,null,null,null,null,null,null,null,null,null,null,null,null,null,null,null,null,null,null,null,null,null,null,null,null,null,null,null,null,null,null,null,null,null,null,null,null,null,null,null,null,null,null,null,null,null,null,null,null,null,null,null,null,null,null,null,null,null,null,null,null,null,null,null,null,null,null,null,null,null,null,null,null,null,null,null,null,null,null,null,null,null,null,null,null,null,null,null,null,null,null,null,null,null,null,null,null,null,null,null,null,null,null,null,null,null,null,null,null,null,null,null,null,null,null,null,null,null,null,null,null,null,null,null,172,{"$f":"\"00\"&'1-Award Info'!$G$6","v":"00"},"","",1,"",{"$f":"IFERROR(\nIF(VLOOKUP(\"FY\"&RIGHT($EA188,2),'1-Award Info'!$F$28:$G$32,2,0)=0,\n     1,\n     VLOOKUP(\"FY\"&RIGHT($EA188,2),'1-Award Info'!$F$28:$G$32,2,0)),1)","v":1},"",null,""]
[null,null,null,null,null,null,null,null,null,null,null,null,null,null,null,null,null,null,null,null,null,null,null,null,null,null,null,null,null,null,null,null,null,null,null,null,null,null,null,null,null,null,null,null,null,null,null,null,null,null,null,null,null,null,null,null,null,null,null,null,null,null,null,null,null,null,null,null,null,null,null,null,null,null,null,null,null,null,null,null,null,null,null,null,null,null,null,null,null,null,null,null,null,null,null,null,null,null,null,null,null,null,null,null,null,null,null,null,null,null,null,null,null,null,null,null,null,null,null,null,null,null,null,null,null,173,{"$f":"\"00\"&'1-Award Info'!$G$6","v":"00"},"","",1,"",{"$f":"IFERROR(\nIF(VLOOKUP(\"FY\"&RIGHT($EA189,2),'1-Award Info'!$F$28:$G$32,2,0)=0,\n     1,\n     VLOOKUP(\"FY\"&RIGHT($EA189,2),'1-Award Info'!$F$28:$G$32,2,0)),1)","v":1},"",null,""]
[null,null,null,null,null,null,null,null,null,null,null,null,null,null,null,null,null,null,null,null,null,null,null,null,null,null,null,null,null,null,null,null,null,null,null,null,null,null,null,null,null,null,null,null,null,null,null,null,null,null,null,null,null,null,null,null,null,null,null,null,null,null,null,null,null,null,null,null,null,null,null,null,null,null,null,null,null,null,null,null,null,null,null,null,null,null,null,null,null,null,null,null,null,null,null,null,null,null,null,null,null,null,null,null,null,null,null,null,null,null,null,null,null,null,null,null,null,null,null,null,null,null,null,null,null,174,{"$f":"\"00\"&'1-Award Info'!$G$6","v":"00"},"","",1,"",{"$f":"IFERROR(\nIF(VLOOKUP(\"FY\"&RIGHT($EA190,2),'1-Award Info'!$F$28:$G$32,2,0)=0,\n     1,\n     VLOOKUP(\"FY\"&RIGHT($EA190,2),'1-Award Info'!$F$28:$G$32,2,0)),1)","v":1},"",null,""]
[null,null,null,null,null,null,null,null,null,null,null,null,null,null,null,null,null,null,null,null,null,null,null,null,null,null,null,null,null,null,null,null,null,null,null,null,null,null,null,null,null,null,null,null,null,null,null,null,null,null,null,null,null,null,null,null,null,null,null,null,null,null,null,null,null,null,null,null,null,null,null,null,null,null,null,null,null,null,null,null,null,null,null,null,null,null,null,null,null,null,null,null,null,null,null,null,null,null,null,null,null,null,null,null,null,null,null,null,null,null,null,null,null,null,null,null,null,null,null,null,null,null,null,null,null,175,{"$f":"\"00\"&'1-Award Info'!$G$6","v":"00"},"","",1,"",{"$f":"IFERROR(\nIF(VLOOKUP(\"FY\"&RIGHT($EA191,2),'1-Award Info'!$F$28:$G$32,2,0)=0,\n     1,\n     VLOOKUP(\"FY\"&RIGHT($EA191,2),'1-Award Info'!$F$28:$G$32,2,0)),1)","v":1},"",null,""]
[null,null,null,null,null,null,null,null,null,null,null,null,null,null,null,null,null,null,null,null,null,null,null,null,null,null,null,null,null,null,null,null,null,null,null,null,null,null,null,null,null,null,null,null,null,null,null,null,null,null,null,null,null,null,null,null,null,null,null,null,null,null,null,null,null,null,null,null,null,null,null,null,null,null,null,null,null,null,null,null,null,null,null,null,null,null,null,null,null,null,null,null,null,null,null,null,null,null,null,null,null,null,null,null,null,null,null,null,null,null,null,null,null,null,null,null,null,null,null,null,null,null,null,null,null,176,{"$f":"\"00\"&'1-Award Info'!$G$6","v":"00"},"","",1,"",{"$f":"IFERROR(\nIF(VLOOKUP(\"FY\"&RIGHT($EA192,2),'1-Award Info'!$F$28:$G$32,2,0)=0,\n     1,\n     VLOOKUP(\"FY\"&RIGHT($EA192,2),'1-Award Info'!$F$28:$G$32,2,0)),1)","v":1},"",null,""]
[null,null,null,null,null,null,null,null,null,null,null,null,null,null,null,null,null,null,null,null,null,null,null,null,null,null,null,null,null,null,null,null,null,null,null,null,null,null,null,null,null,null,null,null,null,null,null,null,null,null,null,null,null,null,null,null,null,null,null,null,null,null,null,null,null,null,null,null,null,null,null,null,null,null,null,null,null,null,null,null,null,null,null,null,null,null,null,null,null,null,null,null,null,null,null,null,null,null,null,null,null,null,null,null,null,null,null,null,null,null,null,null,null,null,null,null,null,null,null,null,null,null,null,null,null,177,{"$f":"\"00\"&'1-Award Info'!$G$6","v":"00"},"","",1,"",{"$f":"IFERROR(\nIF(VLOOKUP(\"FY\"&RIGHT($EA193,2),'1-Award Info'!$F$28:$G$32,2,0)=0,\n     1,\n     VLOOKUP(\"FY\"&RIGHT($EA193,2),'1-Award Info'!$F$28:$G$32,2,0)),1)","v":1},"",null,""]
[null,null,null,null,null,null,null,null,null,null,null,null,null,null,null,null,null,null,null,null,null,null,null,null,null,null,null,null,null,null,null,null,null,null,null,null,null,null,null,null,null,null,null,null,null,null,null,null,null,null,null,null,null,null,null,null,null,null,null,null,null,null,null,null,null,null,null,null,null,null,null,null,null,null,null,null,null,null,null,null,null,null,null,null,null,null,null,null,null,null,null,null,null,null,null,null,null,null,null,null,null,null,null,null,null,null,null,null,null,null,null,null,null,null,null,null,null,null,null,null,null,null,null,null,null,178,{"$f":"\"00\"&'1-Award Info'!$G$6","v":"00"},"","",1,"",{"$f":"IFERROR(\nIF(VLOOKUP(\"FY\"&RIGHT($EA194,2),'1-Award Info'!$F$28:$G$32,2,0)=0,\n     1,\n     VLOOKUP(\"FY\"&RIGHT($EA194,2),'1-Award Info'!$F$28:$G$32,2,0)),1)","v":1},"",null,""]
[null,null,null,null,null,null,null,null,null,null,null,null,null,null,null,null,null,null,null,null,null,null,null,null,null,null,null,null,null,null,null,null,null,null,null,null,null,null,null,null,null,null,null,null,null,null,null,null,null,null,null,null,null,null,null,null,null,null,null,null,null,null,null,null,null,null,null,null,null,null,null,null,null,null,null,null,null,null,null,null,null,null,null,null,null,null,null,null,null,null,null,null,null,null,null,null,null,null,null,null,null,null,null,null,null,null,null,null,null,null,null,null,null,null,null,null,null,null,null,null,null,null,null,null,null,179,{"$f":"\"00\"&'1-Award Info'!$G$6","v":"00"},"","",1,"",{"$f":"IFERROR(\nIF(VLOOKUP(\"FY\"&RIGHT($EA195,2),'1-Award Info'!$F$28:$G$32,2,0)=0,\n     1,\n     VLOOKUP(\"FY\"&RIGHT($EA195,2),'1-Award Info'!$F$28:$G$32,2,0)),1)","v":1},"",null,""]
[null,null,null,null,null,null,null,null,null,null,null,null,null,null,null,null,null,null,null,null,null,null,null,null,null,null,null,null,null,null,null,null,null,null,null,null,null,null,null,null,null,null,null,null,null,null,null,null,null,null,null,null,null,null,null,null,null,null,null,null,null,null,null,null,null,null,null,null,null,null,null,null,null,null,null,null,null,null,null,null,null,null,null,null,null,null,null,null,null,null,null,null,null,null,null,null,null,null,null,null,null,null,null,null,null,null,null,null,null,null,null,null,null,null,null,null,null,null,null,null,null,null,null,null,null,180,{"$f":"\"00\"&'1-Award Info'!$G$6","v":"00"},"","",1,"",{"$f":"IFERROR(\nIF(VLOOKUP(\"FY\"&RIGHT($EA196,2),'1-Award Info'!$F$28:$G$32,2,0)=0,\n     1,\n     VLOOKUP(\"FY\"&RIGHT($EA196,2),'1-Award Info'!$F$28:$G$32,2,0)),1)","v":1},"",null,""]
[null,null,null,null,null,null,null,null,null,null,null,null,null,null,null,null,null,null,null,null,null,null,null,null,null,null,null,null,null,null,null,null,null,null,null,null,null,null,null,null,null,null,null,null,null,null,null,null,null,null,null,null,null,null,null,null,null,null,null,null,null,null,null,null,null,null,null,null,null,null,null,null,null,null,null,null,null,null,null,null,null,null,null,null,null,null,null,null,null,null,null,null,null,null,null,null,null,null,null,null,null,null,null,null,null,null,null,null,null,null,null,null,null,null,null,null,null,null,null,null,null,null,null,null,null,181,{"$f":"\"00\"&'1-Award Info'!$G$6","v":"00"},"","",1,"",{"$f":"IFERROR(\nIF(VLOOKUP(\"FY\"&RIGHT($EA197,2),'1-Award Info'!$F$28:$G$32,2,0)=0,\n     1,\n     VLOOKUP(\"FY\"&RIGHT($EA197,2),'1-Award Info'!$F$28:$G$32,2,0)),1)","v":1},"",null,""]
[null,null,null,null,null,null,null,null,null,null,null,null,null,null,null,null,null,null,null,null,null,null,null,null,null,null,null,null,null,null,null,null,null,null,null,null,null,null,null,null,null,null,null,null,null,null,null,null,null,null,null,null,null,null,null,null,null,null,null,null,null,null,null,null,null,null,null,null,null,null,null,null,null,null,null,null,null,null,null,null,null,null,null,null,null,null,null,null,null,null,null,null,null,null,null,null,null,null,null,null,null,null,null,null,null,null,null,null,null,null,null,null,null,null,null,null,null,null,null,null,null,null,null,null,null,182,{"$f":"\"00\"&'1-Award Info'!$G$6","v":"00"},"","",1,"",{"$f":"IFERROR(\nIF(VLOOKUP(\"FY\"&RIGHT($EA198,2),'1-Award Info'!$F$28:$G$32,2,0)=0,\n     1,\n     VLOOKUP(\"FY\"&RIGHT($EA198,2),'1-Award Info'!$F$28:$G$32,2,0)),1)","v":1},"",null,""]
[null,null,null,null,null,null,null,null,null,null,null,null,null,null,null,null,null,null,null,null,null,null,null,null,null,null,null,null,null,null,null,null,null,null,null,null,null,null,null,null,null,null,null,null,null,null,null,null,null,null,null,null,null,null,null,null,null,null,null,null,null,null,null,null,null,null,null,null,null,null,null,null,null,null,null,null,null,null,null,null,null,null,null,null,null,null,null,null,null,null,null,null,null,null,null,null,null,null,null,null,null,null,null,null,null,null,null,null,null,null,null,null,null,null,null,null,null,null,null,null,null,null,null,null,null,183,{"$f":"\"00\"&'1-Award Info'!$G$6","v":"00"},"","",1,"",{"$f":"IFERROR(\nIF(VLOOKUP(\"FY\"&RIGHT($EA199,2),'1-Award Info'!$F$28:$G$32,2,0)=0,\n     1,\n     VLOOKUP(\"FY\"&RIGHT($EA199,2),'1-Award Info'!$F$28:$G$32,2,0)),1)","v":1},"",null,""]
[null,null,null,null,null,null,null,null,null,null,null,null,null,null,null,null,null,null,null,null,null,null,null,null,null,null,null,null,null,null,null,null,null,null,null,null,null,null,null,null,null,null,null,null,null,null,null,null,null,null,null,null,null,null,null,null,null,null,null,null,null,null,null,null,null,null,null,null,null,null,null,null,null,null,null,null,null,null,null,null,null,null,null,null,null,null,null,null,null,null,null,null,null,null,null,null,null,null,null,null,null,null,null,null,null,null,null,null,null,null,null,null,null,null,null,null,null,null,null,null,null,null,null,null,null,184,{"$f":"\"00\"&'1-Award Info'!$G$6","v":"00"},{"$f":"IFERROR(IFERROR(IFERROR(IFERROR(IFERROR(LEFT(VLOOKUP($DV200,$AT:$AW,4,0),15),LEFT(VLOOKUP($DV200,$BL:$BO,4,0),15)),LEFT(VLOOKUP($DV200,$CD:$CG,4,0),15)),LEFT(VLOOKUP($DV200,CV:CY,4,0),15)),LEFT(VLOOKUP($DV200,DN:DQ,4,0),15)),\"\")","v":""},{"$f":"IFERROR(IFERROR(IFERROR(IFERROR(IFERROR(RIGHT(VLOOKUP($DV200,$AT:$AW,4,0),5),RIGHT(VLOOKUP($DV200,$BL:$BO,4,0),5)),RIGHT(VLOOKUP($DV200,$CD:$CG,4,0),5)),RIGHT(VLOOKUP($DV200,CV:CY,4,0),5)),RIGHT(VLOOKUP($DV200,DN:DR,4,0),5)),\"\")","v":""},1,{"$f":"IFERROR(IFERROR(IFERROR(IFERROR(IFERROR(VLOOKUP($DV200,$AT:$AZ,7,0),VLOOKUP($DV200,$BL:$BR,7,0)),VLOOKUP($DV200,$CD:$CJ,7,0)),VLOOKUP($DV200,CV:DB,7,0)),VLOOKUP($DV200,DN:DT,7,0)),\"\")","v":""},{"$f":"IFERROR(\nIF(VLOOKUP(\"FY\"&RIGHT($EA200,2),'1-Award Info'!$F$28:$G$32,2,0)=0,\n     1,\n     VLOOKUP(\"FY\"&RIGHT($EA200,2),'1-Award Info'!$F$28:$G$32,2,0)),1)","v":1},{"$f":"IFERROR(IFERROR(IFERROR(IFERROR(IFERROR(VLOOKUP($DV200,$AT:$AZ,5,0),VLOOKUP($DV200,$BL:$BR,5,0)),VLOOKUP($DV200,$CD:$CJ,5,0)),VLOOKUP($DV200,CV:CZ,5,0)),VLOOKUP($DV200,DN:DR,5,0)),\"\")","v":""},null,{"$f":"IFERROR(IFERROR(IFERROR(IFERROR(IFERROR(VLOOKUP($DV200,$AT:$AZ,6,0),VLOOKUP($DV200,$BL:$BR,6,0)),VLOOKUP($DV200,$CD:$CJ,6,0)),VLOOKUP($DV200,CV:DA,6,0)),VLOOKUP($DV200,DN:DS,6,0)),\"\")","v":""}]
[null,null,null,null,null,null,null,null,null,null,null,null,null,null,null,null,null,null,null,null,null,null,null,null,null,null,null,null,null,null,null,null,null,null,null,null,null,null,null,null,null,null,null,null,null,null,null,null,null,null,null,null,null,null,null,null,null,null,null,null,null,null,null,null,null,null,null,null,null,null,null,null,null,null,null,null,null,null,null,null,null,null,null,null,null,null,null,null,null,null,null,null,null,null,null,null,null,null,null,null,null,null,null,null,null,null,null,null,null,null,null,null,null,null,null,null,null,null,null,null,null,null,null,null,null,185,{"$f":"\"00\"&'1-Award Info'!$G$6","v":"00"},"","",1,"",{"$f":"IFERROR(\nIF(VLOOKUP(\"FY\"&RIGHT($EA201,2),'1-Award Info'!$F$28:$G$32,2,0)=0,\n     1,\n     VLOOKUP(\"FY\"&RIGHT($EA201,2),'1-Award Info'!$F$28:$G$32,2,0)),1)","v":1},"",null,""]
[null,null,null,null,null,null,null,null,null,null,null,null,null,null,null,null,null,null,null,null,null,null,null,null,null,null,null,null,null,null,null,null,null,null,null,null,null,null,null,null,null,null,null,null,null,null,null,null,null,null,null,null,null,null,null,null,null,null,null,null,null,null,null,null,null,null,null,null,null,null,null,null,null,null,null,null,null,null,null,null,null,null,null,null,null,null,null,null,null,null,null,null,null,null,null,null,null,null,null,null,null,null,null,null,null,null,null,null,null,null,null,null,null,null,null,null,null,null,null,null,null,null,null,null,null,186,{"$f":"\"00\"&'1-Award Info'!$G$6","v":"00"},"","",1,"",{"$f":"IFERROR(\nIF(VLOOKUP(\"FY\"&RIGHT($EA202,2),'1-Award Info'!$F$28:$G$32,2,0)=0,\n     1,\n     VLOOKUP(\"FY\"&RIGHT($EA202,2),'1-Award Info'!$F$28:$G$32,2,0)),1)","v":1},"",null,""]
[null,null,null,null,null,null,null,null,null,null,null,null,null,null,null,null,null,null,null,null,null,null,null,null,null,null,null,null,null,null,null,null,null,null,null,null,null,null,null,null,null,null,null,null,null,null,null,null,null,null,null,null,null,null,null,null,null,null,null,null,null,null,null,null,null,null,null,null,null,null,null,null,null,null,null,null,null,null,null,null,null,null,null,null,null,null,null,null,null,null,null,null,null,null,null,null,null,null,null,null,null,null,null,null,null,null,null,null,null,null,null,null,null,null,null,null,null,null,null,null,null,null,null,null,null,187,{"$f":"\"00\"&'1-Award Info'!$G$6","v":"00"},"","",1,"",{"$f":"IFERROR(\nIF(VLOOKUP(\"FY\"&RIGHT($EA203,2),'1-Award Info'!$F$28:$G$32,2,0)=0,\n     1,\n     VLOOKUP(\"FY\"&RIGHT($EA203,2),'1-Award Info'!$F$28:$G$32,2,0)),1)","v":1},"",null,""]
[null,null,null,null,null,null,null,null,null,null,null,null,null,null,null,null,null,null,null,null,null,null,null,null,null,null,null,null,null,null,null,null,null,null,null,null,null,null,null,null,null,null,null,null,null,null,null,null,null,null,null,null,null,null,null,null,null,null,null,null,null,null,null,null,null,null,null,null,null,null,null,null,null,null,null,null,null,null,null,null,null,null,null,null,null,null,null,null,null,null,null,null,null,null,null,null,null,null,null,null,null,null,null,null,null,null,null,null,null,null,null,null,null,null,null,null,null,null,null,null,null,null,null,null,null,188,{"$f":"\"00\"&'1-Award Info'!$G$6","v":"00"},"","",1,"",{"$f":"IFERROR(\nIF(VLOOKUP(\"FY\"&RIGHT($EA204,2),'1-Award Info'!$F$28:$G$32,2,0)=0,\n     1,\n     VLOOKUP(\"FY\"&RIGHT($EA204,2),'1-Award Info'!$F$28:$G$32,2,0)),1)","v":1},"",null,""]
[null,null,null,null,null,null,null,null,null,null,null,null,null,null,null,null,null,null,null,null,null,null,null,null,null,null,null,null,null,null,null,null,null,null,null,null,null,null,null,null,null,null,null,null,null,null,null,null,null,null,null,null,null,null,null,null,null,null,null,null,null,null,null,null,null,null,null,null,null,null,null,null,null,null,null,null,null,null,null,null,null,null,null,null,null,null,null,null,null,null,null,null,null,null,null,null,null,null,null,null,null,null,null,null,null,null,null,null,null,null,null,null,null,null,null,null,null,null,null,null,null,null,null,null,null,189,{"$f":"\"00\"&'1-Award Info'!$G$6","v":"00"},"","",1,"",{"$f":"IFERROR(\nIF(VLOOKUP(\"FY\"&RIGHT($EA205,2),'1-Award Info'!$F$28:$G$32,2,0)=0,\n     1,\n     VLOOKUP(\"FY\"&RIGHT($EA205,2),'1-Award Info'!$F$28:$G$32,2,0)),1)","v":1},"",null,""]
[null,null,null,null,null,null,null,null,null,null,null,null,null,null,null,null,null,null,null,null,null,null,null,null,null,null,null,null,null,null,null,null,null,null,null,null,null,null,null,null,null,null,null,null,null,null,null,null,null,null,null,null,null,null,null,null,null,null,null,null,null,null,null,null,null,null,null,null,null,null,null,null,null,null,null,null,null,null,null,null,null,null,null,null,null,null,null,null,null,null,null,null,null,null,null,null,null,null,null,null,null,null,null,null,null,null,null,null,null,null,null,null,null,null,null,null,null,null,null,null,null,null,null,null,null,190,{"$f":"\"00\"&'1-Award Info'!$G$6","v":"00"},"","",1,"",{"$f":"IFERROR(\nIF(VLOOKUP(\"FY\"&RIGHT($EA206,2),'1-Award Info'!$F$28:$G$32,2,0)=0,\n     1,\n     VLOOKUP(\"FY\"&RIGHT($EA206,2),'1-Award Info'!$F$28:$G$32,2,0)),1)","v":1},"",null,""]
[null,null,null,null,null,null,null,null,null,null,null,null,null,null,null,null,null,null,null,null,null,null,null,null,null,null,null,null,null,null,null,null,null,null,null,null,null,null,null,null,null,null,null,null,null,null,null,null,null,null,null,null,null,null,null,null,null,null,null,null,null,null,null,null,null,null,null,null,null,null,null,null,null,null,null,null,null,null,null,null,null,null,null,null,null,null,null,null,null,null,null,null,null,null,null,null,null,null,null,null,null,null,null,null,null,null,null,null,null,null,null,null,null,null,null,null,null,null,null,null,null,null,null,null,null,191,{"$f":"\"00\"&'1-Award Info'!$G$6","v":"00"},"","",1,"",{"$f":"IFERROR(\nIF(VLOOKUP(\"FY\"&RIGHT($EA207,2),'1-Award Info'!$F$28:$G$32,2,0)=0,\n     1,\n     VLOOKUP(\"FY\"&RIGHT($EA207,2),'1-Award Info'!$F$28:$G$32,2,0)),1)","v":1},"",null,""]
[null,null,null,null,null,null,null,null,null,null,null,null,null,null,null,null,null,null,null,null,null,null,null,null,null,null,null,null,null,null,null,null,null,null,null,null,null,null,null,null,null,null,null,null,null,null,null,null,null,null,null,null,null,null,null,null,null,null,null,null,null,null,null,null,null,null,null,null,null,null,null,null,null,null,null,null,null,null,null,null,null,null,null,null,null,null,null,null,null,null,null,null,null,null,null,null,null,null,null,null,null,null,null,null,null,null,null,null,null,null,null,null,null,null,null,null,null,null,null,null,null,null,null,null,null,192,{"$f":"\"00\"&'1-Award Info'!$G$6","v":"00"},"","",1,"",{"$f":"IFERROR(\nIF(VLOOKUP(\"FY\"&RIGHT($EA208,2),'1-Award Info'!$F$28:$G$32,2,0)=0,\n     1,\n     VLOOKUP(\"FY\"&RIGHT($EA208,2),'1-Award Info'!$F$28:$G$32,2,0)),1)","v":1},"",null,""]
[null,null,null,null,null,null,null,null,null,null,null,null,null,null,null,null,null,null,null,null,null,null,null,null,null,null,null,null,null,null,null,null,null,null,null,null,null,null,null,null,null,null,null,null,null,null,null,null,null,null,null,null,null,null,null,null,null,null,null,null,null,null,null,null,null,null,null,null,null,null,null,null,null,null,null,null,null,null,null,null,null,null,null,null,null,null,null,null,null,null,null,null,null,null,null,null,null,null,null,null,null,null,null,null,null,null,null,null,null,null,null,null,null,null,null,null,null,null,null,null,null,null,null,null,null,193,{"$f":"\"00\"&'1-Award Info'!$G$6","v":"00"},"","",1,"",{"$f":"IFERROR(\nIF(VLOOKUP(\"FY\"&RIGHT($EA209,2),'1-Award Info'!$F$28:$G$32,2,0)=0,\n     1,\n     VLOOKUP(\"FY\"&RIGHT($EA209,2),'1-Award Info'!$F$28:$G$32,2,0)),1)","v":1},"",null,""]
[null,null,null,null,null,null,null,null,null,null,null,null,null,null,null,null,null,null,null,null,null,null,null,null,null,null,null,null,null,null,null,null,null,null,null,null,null,null,null,null,null,null,null,null,null,null,null,null,null,null,null,null,null,null,null,null,null,null,null,null,null,null,null,null,null,null,null,null,null,null,null,null,null,null,null,null,null,null,null,null,null,null,null,null,null,null,null,null,null,null,null,null,null,null,null,null,null,null,null,null,null,null,null,null,null,null,null,null,null,null,null,null,null,null,null,null,null,null,null,null,null,null,null,null,null,194,{"$f":"\"00\"&'1-Award Info'!$G$6","v":"00"},"","",1,"",{"$f":"IFERROR(\nIF(VLOOKUP(\"FY\"&RIGHT($EA210,2),'1-Award Info'!$F$28:$G$32,2,0)=0,\n     1,\n     VLOOKUP(\"FY\"&RIGHT($EA210,2),'1-Award Info'!$F$28:$G$32,2,0)),1)","v":1},"",null,""]
[null,null,null,null,null,null,null,null,null,null,null,null,null,null,null,null,null,null,null,null,null,null,null,null,null,null,null,null,null,null,null,null,null,null,null,null,null,null,null,null,null,null,null,null,null,null,null,null,null,null,null,null,null,null,null,null,null,null,null,null,null,null,null,null,null,null,null,null,null,null,null,null,null,null,null,null,null,null,null,null,null,null,null,null,null,null,null,null,null,null,null,null,null,null,null,null,null,null,null,null,null,null,null,null,null,null,null,null,null,null,null,null,null,null,null,null,null,null,null,null,null,null,null,null,null,{"$f":"DV210+1","v":195},{"$f":"\"00\"&'1-Award Info'!$G$6","v":"00"},"","",1,"",{"$f":"IFERROR(\nIF(VLOOKUP(\"FY\"&RIGHT($EA211,2),'1-Award Info'!$F$28:$G$32,2,0)=0,\n     1,\n     VLOOKUP(\"FY\"&RIGHT($EA211,2),'1-Award Info'!$F$28:$G$32,2,0)),1)","v":1},"",null,""]
[null,null,null,null,null,null,null,null,null,null,null,null,null,null,null,null,null,null,null,null,null,null,null,null,null,null,null,null,null,null,null,null,null,null,null,null,null,null,null,null,null,null,null,null,null,null,null,null,null,null,null,null,null,null,null,null,null,null,null,null,null,null,null,null,null,null,null,null,null,null,null,null,null,null,null,null,null,null,null,null,null,null,null,null,null,null,null,null,null,null,null,null,null,null,null,null,null,null,null,null,null,null,null,null,null,null,null,null,null,null,null,null,null,null,null,null,null,null,null,null,null,null,null,null,null,196,{"$f":"\"00\"&'1-Award Info'!$G$6","v":"00"},"","",1,"",{"$f":"IFERROR(\nIF(VLOOKUP(\"FY\"&RIGHT($EA212,2),'1-Award Info'!$F$28:$G$32,2,0)=0,\n     1,\n     VLOOKUP(\"FY\"&RIGHT($EA212,2),'1-Award Info'!$F$28:$G$32,2,0)),1)","v":1},"",null,""]
[null,null,null,null,null,null,null,null,null,null,null,null,null,null,null,null,null,null,null,null,null,null,null,null,null,null,null,null,null,null,null,null,null,null,null,null,null,null,null,null,null,null,null,null,null,null,null,null,null,null,null,null,null,null,null,null,null,null,null,null,null,null,null,null,null,null,null,null,null,null,null,null,null,null,null,null,null,null,null,null,null,null,null,null,null,null,null,null,null,null,null,null,null,null,null,null,null,null,null,null,null,null,null,null,null,null,null,null,null,null,null,null,null,null,null,null,null,null,null,null,null,null,null,null,null,197,{"$f":"\"00\"&'1-Award Info'!$G$6","v":"00"},"","",1,"",{"$f":"IFERROR(\nIF(VLOOKUP(\"FY\"&RIGHT($EA213,2),'1-Award Info'!$F$28:$G$32,2,0)=0,\n     1,\n     VLOOKUP(\"FY\"&RIGHT($EA213,2),'1-Award Info'!$F$28:$G$32,2,0)),1)","v":1},"",null,""]
[null,null,null,null,null,null,null,null,null,null,null,null,null,null,null,null,null,null,null,null,null,null,null,null,null,null,null,null,null,null,null,null,null,null,null,null,null,null,null,null,null,null,null,null,null,null,null,null,null,null,null,null,null,null,null,null,null,null,null,null,null,null,null,null,null,null,null,null,null,null,null,null,null,null,null,null,null,null,null,null,null,null,null,null,null,null,null,null,null,null,null,null,null,null,null,null,null,null,null,null,null,null,null,null,null,null,null,null,null,null,null,null,null,null,null,null,null,null,null,null,null,null,null,null,null,198,{"$f":"\"00\"&'1-Award Info'!$G$6","v":"00"},"","",1,"",{"$f":"IFERROR(\nIF(VLOOKUP(\"FY\"&RIGHT($EA214,2),'1-Award Info'!$F$28:$G$32,2,0)=0,\n     1,\n     VLOOKUP(\"FY\"&RIGHT($EA214,2),'1-Award Info'!$F$28:$G$32,2,0)),1)","v":1},"",null,""]
[null,null,null,null,null,null,null,null,null,null,null,null,null,null,null,null,null,null,null,null,null,null,null,null,null,null,null,null,null,null,null,null,null,null,null,null,null,null,null,null,null,null,null,null,null,null,null,null,null,null,null,null,null,null,null,null,null,null,null,null,null,null,null,null,null,null,null,null,null,null,null,null,null,null,null,null,null,null,null,null,null,null,null,null,null,null,null,null,null,null,null,null,null,null,null,null,null,null,null,null,null,null,null,null,null,null,null,null,null,null,null,null,null,null,null,null,null,null,null,null,null,null,null,null,null,199,{"$f":"\"00\"&'1-Award Info'!$G$6","v":"00"},"","",1,"",{"$f":"IFERROR(\nIF(VLOOKUP(\"FY\"&RIGHT($EA215,2),'1-Award Info'!$F$28:$G$32,2,0)=0,\n     1,\n     VLOOKUP(\"FY\"&RIGHT($EA215,2),'1-Award Info'!$F$28:$G$32,2,0)),1)","v":1},"",null,""]
[null,null,null,null,null,null,null,null,null,null,null,null,null,null,null,null,null,null,null,null,null,null,null,null,null,null,null,null,null,null,null,null,null,null,null,null,null,null,null,null,null,null,null,null,null,null,null,null,null,null,null,null,null,null,null,null,null,null,null,null,null,null,null,null,null,null,null,null,null,null,null,null,null,null,null,null,null,null,null,null,null,null,null,null,null,null,null,null,null,null,null,null,null,null,null,null,null,null,null,null,null,null,null,null,null,null,null,null,null,null,null,null,null,null,null,null,null,null,null,null,null,null,null,null,null,200,{"$f":"\"00\"&'1-Award Info'!$G$6","v":"00"},"","",1,"",{"$f":"IFERROR(\nIF(VLOOKUP(\"FY\"&RIGHT($EA216,2),'1-Award Info'!$F$28:$G$32,2,0)=0,\n     1,\n     VLOOKUP(\"FY\"&RIGHT($EA216,2),'1-Award Info'!$F$28:$G$32,2,0)),1)","v":1},"",null,""]
[null,null,null,null,null,null,null,null,null,null,null,null,null,null,null,null,null,null,null,null,null,null,null,null,null,null,null,null,null,null,null,null,null,null,null,null,null,null,null,null,null,null,null,null,null,null,null,null,null,null,null,null,null,null,null,null,null,null,null,null,null,null,null,null,null,null,null,null,null,null,null,null,null,null,null,null,null,null,null,null,null,null,null,null,null,null,null,null,null,null,null,null,null,null,null,null,null,null,null,null,null,null,null,null,null,null,null,null,null,null,null,null,null,null,null,null,null,null,null,null,null,null,null,null,null,201,{"$f":"\"00\"&'1-Award Info'!$G$6","v":"00"},"","",1,"",{"$f":"IFERROR(\nIF(VLOOKUP(\"FY\"&RIGHT($EA217,2),'1-Award Info'!$F$28:$G$32,2,0)=0,\n     1,\n     VLOOKUP(\"FY\"&RIGHT($EA217,2),'1-Award Info'!$F$28:$G$32,2,0)),1)","v":1},"",null,""]
[null,null,null,null,null,null,null,null,null,null,null,null,null,null,null,null,null,null,null,null,null,null,null,null,null,null,null,null,null,null,null,null,null,null,null,null,null,null,null,null,null,null,null,null,null,null,null,null,null,null,null,null,null,null,null,null,null,null,null,null,null,null,null,null,null,null,null,null,null,null,null,null,null,null,null,null,null,null,null,null,null,null,null,null,null,null,null,null,null,null,null,null,null,null,null,null,null,null,null,null,null,null,null,null,null,null,null,null,null,null,null,null,null,null,null,null,null,null,null,null,null,null,null,null,null,202,{"$f":"\"00\"&'1-Award Info'!$G$6","v":"00"},"","",1,"",{"$f":"IFERROR(\nIF(VLOOKUP(\"FY\"&RIGHT($EA218,2),'1-Award Info'!$F$28:$G$32,2,0)=0,\n     1,\n     VLOOKUP(\"FY\"&RIGHT($EA218,2),'1-Award Info'!$F$28:$G$32,2,0)),1)","v":1},"",null,""]
[null,null,null,null,null,null,null,null,null,null,null,null,null,null,null,null,null,null,null,null,null,null,null,null,null,null,null,null,null,null,null,null,null,null,null,null,null,null,null,null,null,null,null,null,null,null,null,null,null,null,null,null,null,null,null,null,null,null,null,null,null,null,null,null,null,null,null,null,null,null,null,null,null,null,null,null,null,null,null,null,null,null,null,null,null,null,null,null,null,null,null,null,null,null,null,null,null,null,null,null,null,null,null,null,null,null,null,null,null,null,null,null,null,null,null,null,null,null,null,null,null,null,null,null,null,203,{"$f":"\"00\"&'1-Award Info'!$G$6","v":"00"},"","",1,"",{"$f":"IFERROR(\nIF(VLOOKUP(\"FY\"&RIGHT($EA219,2),'1-Award Info'!$F$28:$G$32,2,0)=0,\n     1,\n     VLOOKUP(\"FY\"&RIGHT($EA219,2),'1-Award Info'!$F$28:$G$32,2,0)),1)","v":1},"",null,""]
[null,null,null,null,null,null,null,null,null,null,null,null,null,null,null,null,null,null,null,null,null,null,null,null,null,null,null,null,null,null,null,null,null,null,null,null,null,null,null,null,null,null,null,null,null,null,null,null,null,null,null,null,null,null,null,null,null,null,null,null,null,null,null,null,null,null,null,null,null,null,null,null,null,null,null,null,null,null,null,null,null,null,null,null,null,null,null,null,null,null,null,null,null,null,null,null,null,null,null,null,null,null,null,null,null,null,null,null,null,null,null,null,null,null,null,null,null,null,null,null,null,null,null,null,null,204,{"$f":"\"00\"&'1-Award Info'!$G$6","v":"00"},"","",1,"",{"$f":"IFERROR(\nIF(VLOOKUP(\"FY\"&RIGHT($EA220,2),'1-Award Info'!$F$28:$G$32,2,0)=0,\n     1,\n     VLOOKUP(\"FY\"&RIGHT($EA220,2),'1-Award Info'!$F$28:$G$32,2,0)),1)","v":1},"",null,""]
[null,null,null,null,null,null,null,null,null,null,null,null,null,null,null,null,null,null,null,null,null,null,null,null,null,null,null,null,null,null,null,null,null,null,null,null,null,null,null,null,null,null,null,null,null,null,null,null,null,null,null,null,null,null,null,null,null,null,null,null,null,null,null,null,null,null,null,null,null,null,null,null,null,null,null,null,null,null,null,null,null,null,null,null,null,null,null,null,null,null,null,null,null,null,null,null,null,null,null,null,null,null,null,null,null,null,null,null,null,null,null,null,null,null,null,null,null,null,null,null,null,null,null,null,null,205,{"$f":"\"00\"&'1-Award Info'!$G$6","v":"00"},"","",1,"",{"$f":"IFERROR(\nIF(VLOOKUP(\"FY\"&RIGHT($EA221,2),'1-Award Info'!$F$28:$G$32,2,0)=0,\n     1,\n     VLOOKUP(\"FY\"&RIGHT($EA221,2),'1-Award Info'!$F$28:$G$32,2,0)),1)","v":1},"",null,""]
[null,null,null,null,null,null,null,null,null,null,null,null,null,null,null,null,null,null,null,null,null,null,null,null,null,null,null,null,null,null,null,null,null,null,null,null,null,null,null,null,null,null,null,null,null,null,null,null,null,null,null,null,null,null,null,null,null,null,null,null,null,null,null,null,null,null,null,null,null,null,null,null,null,null,null,null,null,null,null,null,null,null,null,null,null,null,null,null,null,null,null,null,null,null,null,null,null,null,null,null,null,null,null,null,null,null,null,null,null,null,null,null,null,null,null,null,null,null,null,null,null,null,null,null,null,206,{"$f":"\"00\"&'1-Award Info'!$G$6","v":"00"},"","",1,"",{"$f":"IFERROR(\nIF(VLOOKUP(\"FY\"&RIGHT($EA222,2),'1-Award Info'!$F$28:$G$32,2,0)=0,\n     1,\n     VLOOKUP(\"FY\"&RIGHT($EA222,2),'1-Award Info'!$F$28:$G$32,2,0)),1)","v":1},"",null,""]
[null,null,null,null,null,null,null,null,null,null,null,null,null,null,null,null,null,null,null,null,null,null,null,null,null,null,null,null,null,null,null,null,null,null,null,null,null,null,null,null,null,null,null,null,null,null,null,null,null,null,null,null,null,null,null,null,null,null,null,null,null,null,null,null,null,null,null,null,null,null,null,null,null,null,null,null,null,null,null,null,null,null,null,null,null,null,null,null,null,null,null,null,null,null,null,null,null,null,null,null,null,null,null,null,null,null,null,null,null,null,null,null,null,null,null,null,null,null,null,null,null,null,null,null,null,207,{"$f":"\"00\"&'1-Award Info'!$G$6","v":"00"},"","",1,"",{"$f":"IFERROR(\nIF(VLOOKUP(\"FY\"&RIGHT($EA223,2),'1-Award Info'!$F$28:$G$32,2,0)=0,\n     1,\n     VLOOKUP(\"FY\"&RIGHT($EA223,2),'1-Award Info'!$F$28:$G$32,2,0)),1)","v":1},"",null,""]
[null,null,null,null,null,null,null,null,null,null,null,null,null,null,null,null,null,null,null,null,null,null,null,null,null,null,null,null,null,null,null,null,null,null,null,null,null,null,null,null,null,null,null,null,null,null,null,null,null,null,null,null,null,null,null,null,null,null,null,null,null,null,null,null,null,null,null,null,null,null,null,null,null,null,null,null,null,null,null,null,null,null,null,null,null,null,null,null,null,null,null,null,null,null,null,null,null,null,null,null,null,null,null,null,null,null,null,null,null,null,null,null,null,null,null,null,null,null,null,null,null,null,null,null,null,208,{"$f":"\"00\"&'1-Award Info'!$G$6","v":"00"},"","",1,"",{"$f":"IFERROR(\nIF(VLOOKUP(\"FY\"&RIGHT($EA224,2),'1-Award Info'!$F$28:$G$32,2,0)=0,\n     1,\n     VLOOKUP(\"FY\"&RIGHT($EA224,2),'1-Award Info'!$F$28:$G$32,2,0)),1)","v":1},"",null,""]
[null,null,null,null,null,null,null,null,null,null,null,null,null,null,null,null,null,null,null,null,null,null,null,null,null,null,null,null,null,null,null,null,null,null,null,null,null,null,null,null,null,null,null,null,null,null,null,null,null,null,null,null,null,null,null,null,null,null,null,null,null,null,null,null,null,null,null,null,null,null,null,null,null,null,null,null,null,null,null,null,null,null,null,null,null,null,null,null,null,null,null,null,null,null,null,null,null,null,null,null,null,null,null,null,null,null,null,null,null,null,null,null,null,null,null,null,null,null,null,null,null,null,null,null,null,209,{"$f":"\"00\"&'1-Award Info'!$G$6","v":"00"},"","",1,"",{"$f":"IFERROR(\nIF(VLOOKUP(\"FY\"&RIGHT($EA225,2),'1-Award Info'!$F$28:$G$32,2,0)=0,\n     1,\n     VLOOKUP(\"FY\"&RIGHT($EA225,2),'1-Award Info'!$F$28:$G$32,2,0)),1)","v":1},"",null,""]
[null,null,null,null,null,null,null,null,null,null,null,null,null,null,null,null,null,null,null,null,null,null,null,null,null,null,null,null,null,null,null,null,null,null,null,null,null,null,null,null,null,null,null,null,null,null,null,null,null,null,null,null,null,null,null,null,null,null,null,null,null,null,null,null,null,null,null,null,null,null,null,null,null,null,null,null,null,null,null,null,null,null,null,null,null,null,null,null,null,null,null,null,null,null,null,null,null,null,null,null,null,null,null,null,null,null,null,null,null,null,null,null,null,null,null,null,null,null,null,null,null,null,null,null,null,210,{"$f":"\"00\"&'1-Award Info'!$G$6","v":"00"},"","",1,"",{"$f":"IFERROR(\nIF(VLOOKUP(\"FY\"&RIGHT($EA226,2),'1-Award Info'!$F$28:$G$32,2,0)=0,\n     1,\n     VLOOKUP(\"FY\"&RIGHT($EA226,2),'1-Award Info'!$F$28:$G$32,2,0)),1)","v":1},"",null,""]
[null,null,null,null,null,null,null,null,null,null,null,null,null,null,null,null,null,null,null,null,null,null,null,null,null,null,null,null,null,null,null,null,null,null,null,null,null,null,null,null,null,null,null,null,null,null,null,null,null,null,null,null,null,null,null,null,null,null,null,null,null,null,null,null,null,null,null,null,null,null,null,null,null,null,null,null,null,null,null,null,null,null,null,null,null,null,null,null,null,null,null,null,null,null,null,null,null,null,null,null,null,null,null,null,null,null,null,null,null,null,null,null,null,null,null,null,null,null,null,null,null,null,null,null,null,211,{"$f":"\"00\"&'1-Award Info'!$G$6","v":"00"},"","",1,"",{"$f":"IFERROR(\nIF(VLOOKUP(\"FY\"&RIGHT($EA227,2),'1-Award Info'!$F$28:$G$32,2,0)=0,\n     1,\n     VLOOKUP(\"FY\"&RIGHT($EA227,2),'1-Award Info'!$F$28:$G$32,2,0)),1)","v":1},"",null,""]
[null,null,null,null,null,null,null,null,null,null,null,null,null,null,null,null,null,null,null,null,null,null,null,null,null,null,null,null,null,null,null,null,null,null,null,null,null,null,null,null,null,null,null,null,null,null,null,null,null,null,null,null,null,null,null,null,null,null,null,null,null,null,null,null,null,null,null,null,null,null,null,null,null,null,null,null,null,null,null,null,null,null,null,null,null,null,null,null,null,null,null,null,null,null,null,null,null,null,null,null,null,null,null,null,null,null,null,null,null,null,null,null,null,null,null,null,null,null,null,null,null,null,null,null,null,212,{"$f":"\"00\"&'1-Award Info'!$G$6","v":"00"},"","",1,"",{"$f":"IFERROR(\nIF(VLOOKUP(\"FY\"&RIGHT($EA228,2),'1-Award Info'!$F$28:$G$32,2,0)=0,\n     1,\n     VLOOKUP(\"FY\"&RIGHT($EA228,2),'1-Award Info'!$F$28:$G$32,2,0)),1)","v":1},"",null,""]
[null,null,null,null,null,null,null,null,null,null,null,null,null,null,null,null,null,null,null,null,null,null,null,null,null,null,null,null,null,null,null,null,null,null,null,null,null,null,null,null,null,null,null,null,null,null,null,null,null,null,null,null,null,null,null,null,null,null,null,null,null,null,null,null,null,null,null,null,null,null,null,null,null,null,null,null,null,null,null,null,null,null,null,null,null,null,null,null,null,null,null,null,null,null,null,null,null,null,null,null,null,null,null,null,null,null,null,null,null,null,null,null,null,null,null,null,null,null,null,null,null,null,null,null,null,213,{"$f":"\"00\"&'1-Award Info'!$G$6","v":"00"},"","",1,"",{"$f":"IFERROR(\nIF(VLOOKUP(\"FY\"&RIGHT($EA229,2),'1-Award Info'!$F$28:$G$32,2,0)=0,\n     1,\n     VLOOKUP(\"FY\"&RIGHT($EA229,2),'1-Award Info'!$F$28:$G$32,2,0)),1)","v":1},"",null,""]
[null,null,null,null,null,null,null,null,null,null,null,null,null,null,null,null,null,null,null,null,null,null,null,null,null,null,null,null,null,null,null,null,null,null,null,null,null,null,null,null,null,null,null,null,null,null,null,null,null,null,null,null,null,null,null,null,null,null,null,null,null,null,null,null,null,null,null,null,null,null,null,null,null,null,null,null,null,null,null,null,null,null,null,null,null,null,null,null,null,null,null,null,null,null,null,null,null,null,null,null,null,null,null,null,null,null,null,null,null,null,null,null,null,null,null,null,null,null,null,null,null,null,null,null,null,214,{"$f":"\"00\"&'1-Award Info'!$G$6","v":"00"},"","",1,"",{"$f":"IFERROR(\nIF(VLOOKUP(\"FY\"&RIGHT($EA230,2),'1-Award Info'!$F$28:$G$32,2,0)=0,\n     1,\n     VLOOKUP(\"FY\"&RIGHT($EA230,2),'1-Award Info'!$F$28:$G$32,2,0)),1)","v":1},"",null,""]
[null,null,null,null,null,null,null,null,null,null,null,null,null,null,null,null,null,null,null,null,null,null,null,null,null,null,null,null,null,null,null,null,null,null,null,null,null,null,null,null,null,null,null,null,null,null,null,null,null,null,null,null,null,null,null,null,null,null,null,null,null,null,null,null,null,null,null,null,null,null,null,null,null,null,null,null,null,null,null,null,null,null,null,null,null,null,null,null,null,null,null,null,null,null,null,null,null,null,null,null,null,null,null,null,null,null,null,null,null,null,null,null,null,null,null,null,null,null,null,null,null,null,null,null,null,215,{"$f":"\"00\"&'1-Award Info'!$G$6","v":"00"},"","",1,"",{"$f":"IFERROR(\nIF(VLOOKUP(\"FY\"&RIGHT($EA231,2),'1-Award Info'!$F$28:$G$32,2,0)=0,\n     1,\n     VLOOKUP(\"FY\"&RIGHT($EA231,2),'1-Award Info'!$F$28:$G$32,2,0)),1)","v":1},"",null,""]
[null,null,null,null,null,null,null,null,null,null,null,null,null,null,null,null,null,null,null,null,null,null,null,null,null,null,null,null,null,null,null,null,null,null,null,null,null,null,null,null,null,null,null,null,null,null,null,null,null,null,null,null,null,null,null,null,null,null,null,null,null,null,null,null,null,null,null,null,null,null,null,null,null,null,null,null,null,null,null,null,null,null,null,null,null,null,null,null,null,null,null,null,null,null,null,null,null,null,null,null,null,null,null,null,null,null,null,null,null,null,null,null,null,null,null,null,null,null,null,null,null,null,null,null,null,216,{"$f":"\"00\"&'1-Award Info'!$G$6","v":"00"},"","",1,"",{"$f":"IFERROR(\nIF(VLOOKUP(\"FY\"&RIGHT($EA232,2),'1-Award Info'!$F$28:$G$32,2,0)=0,\n     1,\n     VLOOKUP(\"FY\"&RIGHT($EA232,2),'1-Award Info'!$F$28:$G$32,2,0)),1)","v":1},"",null,""]
[null,null,null,null,null,null,null,null,null,null,null,null,null,null,null,null,null,null,null,null,null,null,null,null,null,null,null,null,null,null,null,null,null,null,null,null,null,null,null,null,null,null,null,null,null,null,null,null,null,null,null,null,null,null,null,null,null,null,null,null,null,null,null,null,null,null,null,null,null,null,null,null,null,null,null,null,null,null,null,null,null,null,null,null,null,null,null,null,null,null,null,null,null,null,null,null,null,null,null,null,null,null,null,null,null,null,null,null,null,null,null,null,null,null,null,null,null,null,null,null,null,null,null,null,null,217,{"$f":"\"00\"&'1-Award Info'!$G$6","v":"00"},"","",1,"",{"$f":"IFERROR(\nIF(VLOOKUP(\"FY\"&RIGHT($EA233,2),'1-Award Info'!$F$28:$G$32,2,0)=0,\n     1,\n     VLOOKUP(\"FY\"&RIGHT($EA233,2),'1-Award Info'!$F$28:$G$32,2,0)),1)","v":1},"",null,""]
[null,null,null,null,null,null,null,null,null,null,null,null,null,null,null,null,null,null,null,null,null,null,null,null,null,null,null,null,null,null,null,null,null,null,null,null,null,null,null,null,null,null,null,null,null,null,null,null,null,null,null,null,null,null,null,null,null,null,null,null,null,null,null,null,null,null,null,null,null,null,null,null,null,null,null,null,null,null,null,null,null,null,null,null,null,null,null,null,null,null,null,null,null,null,null,null,null,null,null,null,null,null,null,null,null,null,null,null,null,null,null,null,null,null,null,null,null,null,null,null,null,null,null,null,null,218,{"$f":"\"00\"&'1-Award Info'!$G$6","v":"00"},"","",1,"",{"$f":"IFERROR(\nIF(VLOOKUP(\"FY\"&RIGHT($EA234,2),'1-Award Info'!$F$28:$G$32,2,0)=0,\n     1,\n     VLOOKUP(\"FY\"&RIGHT($EA234,2),'1-Award Info'!$F$28:$G$32,2,0)),1)","v":1},"",null,""]
[null,null,null,null,null,null,null,null,null,null,null,null,null,null,null,null,null,null,null,null,null,null,null,null,null,null,null,null,null,null,null,null,null,null,null,null,null,null,null,null,null,null,null,null,null,null,null,null,null,null,null,null,null,null,null,null,null,null,null,null,null,null,null,null,null,null,null,null,null,null,null,null,null,null,null,null,null,null,null,null,null,null,null,null,null,null,null,null,null,null,null,null,null,null,null,null,null,null,null,null,null,null,null,null,null,null,null,null,null,null,null,null,null,null,null,null,null,null,null,null,null,null,null,null,null,219,{"$f":"\"00\"&'1-Award Info'!$G$6","v":"00"},"","",1,"",{"$f":"IFERROR(\nIF(VLOOKUP(\"FY\"&RIGHT($EA235,2),'1-Award Info'!$F$28:$G$32,2,0)=0,\n     1,\n     VLOOKUP(\"FY\"&RIGHT($EA235,2),'1-Award Info'!$F$28:$G$32,2,0)),1)","v":1},"",null,""]
[null,null,null,null,null,null,null,null,null,null,null,null,null,null,null,null,null,null,null,null,null,null,null,null,null,null,null,null,null,null,null,null,null,null,null,null,null,null,null,null,null,null,null,null,null,null,null,null,null,null,null,null,null,null,null,null,null,null,null,null,null,null,null,null,null,null,null,null,null,null,null,null,null,null,null,null,null,null,null,null,null,null,null,null,null,null,null,null,null,null,null,null,null,null,null,null,null,null,null,null,null,null,null,null,null,null,null,null,null,null,null,null,null,null,null,null,null,null,null,null,null,null,null,null,null,220,{"$f":"\"00\"&'1-Award Info'!$G$6","v":"00"},"","",1,"",{"$f":"IFERROR(\nIF(VLOOKUP(\"FY\"&RIGHT($EA236,2),'1-Award Info'!$F$28:$G$32,2,0)=0,\n     1,\n     VLOOKUP(\"FY\"&RIGHT($EA236,2),'1-Award Info'!$F$28:$G$32,2,0)),1)","v":1},"",null,""]
[null,null,null,null,null,null,null,null,null,null,null,null,null,null,null,null,null,null,null,null,null,null,null,null,null,null,null,null,null,null,null,null,null,null,null,null,null,null,null,null,null,null,null,null,null,null,null,null,null,null,null,null,null,null,null,null,null,null,null,null,null,null,null,null,null,null,null,null,null,null,null,null,null,null,null,null,null,null,null,null,null,null,null,null,null,null,null,null,null,null,null,null,null,null,null,null,null,null,null,null,null,null,null,null,null,null,null,null,null,null,null,null,null,null,null,null,null,null,null,null,null,null,null,null,null,221,{"$f":"\"00\"&'1-Award Info'!$G$6","v":"00"},"","",1,"",{"$f":"IFERROR(\nIF(VLOOKUP(\"FY\"&RIGHT($EA237,2),'1-Award Info'!$F$28:$G$32,2,0)=0,\n     1,\n     VLOOKUP(\"FY\"&RIGHT($EA237,2),'1-Award Info'!$F$28:$G$32,2,0)),1)","v":1},"",null,""]
[null,null,null,null,null,null,null,null,null,null,null,null,null,null,null,null,null,null,null,null,null,null,null,null,null,null,null,null,null,null,null,null,null,null,null,null,null,null,null,null,null,null,null,null,null,null,null,null,null,null,null,null,null,null,null,null,null,null,null,null,null,null,null,null,null,null,null,null,null,null,null,null,null,null,null,null,null,null,null,null,null,null,null,null,null,null,null,null,null,null,null,null,null,null,null,null,null,null,null,null,null,null,null,null,null,null,null,null,null,null,null,null,null,null,null,null,null,null,null,null,null,null,null,null,null,222,{"$f":"\"00\"&'1-Award Info'!$G$6","v":"00"},"","",1,"",{"$f":"IFERROR(\nIF(VLOOKUP(\"FY\"&RIGHT($EA238,2),'1-Award Info'!$F$28:$G$32,2,0)=0,\n     1,\n     VLOOKUP(\"FY\"&RIGHT($EA238,2),'1-Award Info'!$F$28:$G$32,2,0)),1)","v":1},"",null,""]
[null,null,null,null,null,null,null,null,null,null,null,null,null,null,null,null,null,null,null,null,null,null,null,null,null,null,null,null,null,null,null,null,null,null,null,null,null,null,null,null,null,null,null,null,null,null,null,null,null,null,null,null,null,null,null,null,null,null,null,null,null,null,null,null,null,null,null,null,null,null,null,null,null,null,null,null,null,null,null,null,null,null,null,null,null,null,null,null,null,null,null,null,null,null,null,null,null,null,null,null,null,null,null,null,null,null,null,null,null,null,null,null,null,null,null,null,null,null,null,null,null,null,null,null,null,223,{"$f":"\"00\"&'1-Award Info'!$G$6","v":"00"},"","",1,"",{"$f":"IFERROR(\nIF(VLOOKUP(\"FY\"&RIGHT($EA239,2),'1-Award Info'!$F$28:$G$32,2,0)=0,\n     1,\n     VLOOKUP(\"FY\"&RIGHT($EA239,2),'1-Award Info'!$F$28:$G$32,2,0)),1)","v":1},"",null,""]
[null,null,null,null,null,null,null,null,null,null,null,null,null,null,null,null,null,null,null,null,null,null,null,null,null,null,null,null,null,null,null,null,null,null,null,null,null,null,null,null,null,null,null,null,null,null,null,null,null,null,null,null,null,null,null,null,null,null,null,null,null,null,null,null,null,null,null,null,null,null,null,null,null,null,null,null,null,null,null,null,null,null,null,null,null,null,null,null,null,null,null,null,null,null,null,null,null,null,null,null,null,null,null,null,null,null,null,null,null,null,null,null,null,null,null,null,null,null,null,null,null,null,null,null,null,224,{"$f":"\"00\"&'1-Award Info'!$G$6","v":"00"},"","",1,"",{"$f":"IFERROR(\nIF(VLOOKUP(\"FY\"&RIGHT($EA240,2),'1-Award Info'!$F$28:$G$32,2,0)=0,\n     1,\n     VLOOKUP(\"FY\"&RIGHT($EA240,2),'1-Award Info'!$F$28:$G$32,2,0)),1)","v":1},"",null,""]
[null,null,null,null,null,null,null,null,null,null,null,null,null,null,null,null,null,null,null,null,null,null,null,null,null,null,null,null,null,null,null,null,null,null,null,null,null,null,null,null,null,null,null,null,null,null,null,null,null,null,null,null,null,null,null,null,null,null,null,null,null,null,null,null,null,null,null,null,null,null,null,null,null,null,null,null,null,null,null,null,null,null,null,null,null,null,null,null,null,null,null,null,null,null,null,null,null,null,null,null,null,null,null,null,null,null,null,null,null,null,null,null,null,null,null,null,null,null,null,null,null,null,null,null,null,225,{"$f":"\"00\"&'1-Award Info'!$G$6","v":"00"},"","",1,"",{"$f":"IFERROR(\nIF(VLOOKUP(\"FY\"&RIGHT($EA241,2),'1-Award Info'!$F$28:$G$32,2,0)=0,\n     1,\n     VLOOKUP(\"FY\"&RIGHT($EA241,2),'1-Award Info'!$F$28:$G$32,2,0)),1)","v":1},"",null,""]
[null,null,null,null,null,null,null,null,null,null,null,null,null,null,null,null,null,null,null,null,null,null,null,null,null,null,null,null,null,null,null,null,null,null,null,null,null,null,null,null,null,null,null,null,null,null,null,null,null,null,null,null,null,null,null,null,null,null,null,null,null,null,null,null,null,null,null,null,null,null,null,null,null,null,null,null,null,null,null,null,null,null,null,null,null,null,null,null,null,null,null,null,null,null,null,null,null,null,null,null,null,null,null,null,null,null,null,null,null,null,null,null,null,null,null,null,null,null,null,null,null,null,null,null,null,226,{"$f":"\"00\"&'1-Award Info'!$G$6","v":"00"},"","",1,"",{"$f":"IFERROR(\nIF(VLOOKUP(\"FY\"&RIGHT($EA242,2),'1-Award Info'!$F$28:$G$32,2,0)=0,\n     1,\n     VLOOKUP(\"FY\"&RIGHT($EA242,2),'1-Award Info'!$F$28:$G$32,2,0)),1)","v":1},"",null,""]
[null,null,null,null,null,null,null,null,null,null,null,null,null,null,null,null,null,null,null,null,null,null,null,null,null,null,null,null,null,null,null,null,null,null,null,null,null,null,null,null,null,null,null,null,null,null,null,null,null,null,null,null,null,null,null,null,null,null,null,null,null,null,null,null,null,null,null,null,null,null,null,null,null,null,null,null,null,null,null,null,null,null,null,null,null,null,null,null,null,null,null,null,null,null,null,null,null,null,null,null,null,null,null,null,null,null,null,null,null,null,null,null,null,null,null,null,null,null,null,null,null,null,null,null,null,227,{"$f":"\"00\"&'1-Award Info'!$G$6","v":"00"},"","",1,"",{"$f":"IFERROR(\nIF(VLOOKUP(\"FY\"&RIGHT($EA243,2),'1-Award Info'!$F$28:$G$32,2,0)=0,\n     1,\n     VLOOKUP(\"FY\"&RIGHT($EA243,2),'1-Award Info'!$F$28:$G$32,2,0)),1)","v":1},"",null,""]
[null,null,null,null,null,null,null,null,null,null,null,null,null,null,null,null,null,null,null,null,null,null,null,null,null,null,null,null,null,null,null,null,null,null,null,null,null,null,null,null,null,null,null,null,null,null,null,null,null,null,null,null,null,null,null,null,null,null,null,null,null,null,null,null,null,null,null,null,null,null,null,null,null,null,null,null,null,null,null,null,null,null,null,null,null,null,null,null,null,null,null,null,null,null,null,null,null,null,null,null,null,null,null,null,null,null,null,null,null,null,null,null,null,null,null,null,null,null,null,null,null,null,null,null,null,228,{"$f":"\"00\"&'1-Award Info'!$G$6","v":"00"},"","",1,"",{"$f":"IFERROR(\nIF(VLOOKUP(\"FY\"&RIGHT($EA244,2),'1-Award Info'!$F$28:$G$32,2,0)=0,\n     1,\n     VLOOKUP(\"FY\"&RIGHT($EA244,2),'1-Award Info'!$F$28:$G$32,2,0)),1)","v":1},"",null,""]
[null,null,null,null,null,null,null,null,null,null,null,null,null,null,null,null,null,null,null,null,null,null,null,null,null,null,null,null,null,null,null,null,null,null,null,null,null,null,null,null,null,null,null,null,null,null,null,null,null,null,null,null,null,null,null,null,null,null,null,null,null,null,null,null,null,null,null,null,null,null,null,null,null,null,null,null,null,null,null,null,null,null,null,null,null,null,null,null,null,null,null,null,null,null,null,null,null,null,null,null,null,null,null,null,null,null,null,null,null,null,null,null,null,null,null,null,null,null,null,null,null,null,null,null,null,229,{"$f":"\"00\"&'1-Award Info'!$G$6","v":"00"},"","",1,"",{"$f":"IFERROR(\nIF(VLOOKUP(\"FY\"&RIGHT($EA245,2),'1-Award Info'!$F$28:$G$32,2,0)=0,\n     1,\n     VLOOKUP(\"FY\"&RIGHT($EA245,2),'1-Award Info'!$F$28:$G$32,2,0)),1)","v":1},"",null,""]
[null,null,null,null,null,null,null,null,null,null,null,null,null,null,null,null,null,null,null,null,null,null,null,null,null,null,null,null,null,null,null,null,null,null,null,null,null,null,null,null,null,null,null,null,null,null,null,null,null,null,null,null,null,null,null,null,null,null,null,null,null,null,null,null,null,null,null,null,null,null,null,null,null,null,null,null,null,null,null,null,null,null,null,null,null,null,null,null,null,null,null,null,null,null,null,null,null,null,null,null,null,null,null,null,null,null,null,null,null,null,null,null,null,null,null,null,null,null,null,null,null,null,null,null,null,230,{"$f":"\"00\"&'1-Award Info'!$G$6","v":"00"},"","",1,"",{"$f":"IFERROR(\nIF(VLOOKUP(\"FY\"&RIGHT($EA246,2),'1-Award Info'!$F$28:$G$32,2,0)=0,\n     1,\n     VLOOKUP(\"FY\"&RIGHT($EA246,2),'1-Award Info'!$F$28:$G$32,2,0)),1)","v":1},"",null,""]
[null,null,null,null,null,null,null,null,null,null,null,null,null,null,null,null,null,null,null,null,null,null,null,null,null,null,null,null,null,null,null,null,null,null,null,null,null,null,null,null,null,null,null,null,null,null,null,null,null,null,null,null,null,null,null,null,null,null,null,null,null,null,null,null,null,null,null,null,null,null,null,null,null,null,null,null,null,null,null,null,null,null,null,null,null,null,null,null,null,null,null,null,null,null,null,null,null,null,null,null,null,null,null,null,null,null,null,null,null,null,null,null,null,null,null,null,null,null,null,null,null,null,null,null,null,231,{"$f":"\"00\"&'1-Award Info'!$G$6","v":"00"},"","",1,"",{"$f":"IFERROR(\nIF(VLOOKUP(\"FY\"&RIGHT($EA247,2),'1-Award Info'!$F$28:$G$32,2,0)=0,\n     1,\n     VLOOKUP(\"FY\"&RIGHT($EA247,2),'1-Award Info'!$F$28:$G$32,2,0)),1)","v":1},"",null,""]
[null,null,null,null,null,null,null,null,null,null,null,null,null,null,null,null,null,null,null,null,null,null,null,null,null,null,null,null,null,null,null,null,null,null,null,null,null,null,null,null,null,null,null,null,null,null,null,null,null,null,null,null,null,null,null,null,null,null,null,null,null,null,null,null,null,null,null,null,null,null,null,null,null,null,null,null,null,null,null,null,null,null,null,null,null,null,null,null,null,null,null,null,null,null,null,null,null,null,null,null,null,null,null,null,null,null,null,null,null,null,null,null,null,null,null,null,null,null,null,null,null,null,null,null,null,232,{"$f":"\"00\"&'1-Award Info'!$G$6","v":"00"},"","",1,"",{"$f":"IFERROR(\nIF(VLOOKUP(\"FY\"&RIGHT($EA248,2),'1-Award Info'!$F$28:$G$32,2,0)=0,\n     1,\n     VLOOKUP(\"FY\"&RIGHT($EA248,2),'1-Award Info'!$F$28:$G$32,2,0)),1)","v":1},"",null,""]
[null,null,null,null,null,null,null,null,null,null,null,null,null,null,null,null,null,null,null,null,null,null,null,null,null,null,null,null,null,null,null,null,null,null,null,null,null,null,null,null,null,null,null,null,null,null,null,null,null,null,null,null,null,null,null,null,null,null,null,null,null,null,null,null,null,null,null,null,null,null,null,null,null,null,null,null,null,null,null,null,null,null,null,null,null,null,null,null,null,null,null,null,null,null,null,null,null,null,null,null,null,null,null,null,null,null,null,null,null,null,null,null,null,null,null,null,null,null,null,null,null,null,null,null,null,233,{"$f":"\"00\"&'1-Award Info'!$G$6","v":"00"},"","",1,"",{"$f":"IFERROR(\nIF(VLOOKUP(\"FY\"&RIGHT($EA249,2),'1-Award Info'!$F$28:$G$32,2,0)=0,\n     1,\n     VLOOKUP(\"FY\"&RIGHT($EA249,2),'1-Award Info'!$F$28:$G$32,2,0)),1)","v":1},"",null,""]
[null,null,null,null,null,null,null,null,null,null,null,null,null,null,null,null,null,null,null,null,null,null,null,null,null,null,null,null,null,null,null,null,null,null,null,null,null,null,null,null,null,null,null,null,null,null,null,null,null,null,null,null,null,null,null,null,null,null,null,null,null,null,null,null,null,null,null,null,null,null,null,null,null,null,null,null,null,null,null,null,null,null,null,null,null,null,null,null,null,null,null,null,null,null,null,null,null,null,null,null,null,null,null,null,null,null,null,null,null,null,null,null,null,null,null,null,null,null,null,null,null,null,null,null,null,234,{"$f":"\"00\"&'1-Award Info'!$G$6","v":"00"},"","",1,"",{"$f":"IFERROR(\nIF(VLOOKUP(\"FY\"&RIGHT($EA250,2),'1-Award Info'!$F$28:$G$32,2,0)=0,\n     1,\n     VLOOKUP(\"FY\"&RIGHT($EA250,2),'1-Award Info'!$F$28:$G$32,2,0)),1)","v":1},"",null,""]
[null,null,null,null,null,null,null,null,null,null,null,null,null,null,null,null,null,null,null,null,null,null,null,null,null,null,null,null,null,null,null,null,null,null,null,null,null,null,null,null,null,null,null,null,null,null,null,null,null,null,null,null,null,null,null,null,null,null,null,null,null,null,null,null,null,null,null,null,null,null,null,null,null,null,null,null,null,null,null,null,null,null,null,null,null,null,null,null,null,null,null,null,null,null,null,null,null,null,null,null,null,null,null,null,null,null,null,null,null,null,null,null,null,null,null,null,null,null,null,null,null,null,null,null,null,235,{"$f":"\"00\"&'1-Award Info'!$G$6","v":"00"},"","",1,"",{"$f":"IFERROR(\nIF(VLOOKUP(\"FY\"&RIGHT($EA251,2),'1-Award Info'!$F$28:$G$32,2,0)=0,\n     1,\n     VLOOKUP(\"FY\"&RIGHT($EA251,2),'1-Award Info'!$F$28:$G$32,2,0)),1)","v":1},"",null,""]
[null,null,null,null,null,null,null,null,null,null,null,null,null,null,null,null,null,null,null,null,null,null,null,null,null,null,null,null,null,null,null,null,null,null,null,null,null,null,null,null,null,null,null,null,null,null,null,null,null,null,null,null,null,null,null,null,null,null,null,null,null,null,null,null,null,null,null,null,null,null,null,null,null,null,null,null,null,null,null,null,null,null,null,null,null,null,null,null,null,null,null,null,null,null,null,null,null,null,null,null,null,null,null,null,null,null,null,null,null,null,null,null,null,null,null,null,null,null,null,null,null,null,null,null,null,236,{"$f":"\"00\"&'1-Award Info'!$G$6","v":"00"},"","",1,"",{"$f":"IFERROR(\nIF(VLOOKUP(\"FY\"&RIGHT($EA252,2),'1-Award Info'!$F$28:$G$32,2,0)=0,\n     1,\n     VLOOKUP(\"FY\"&RIGHT($EA252,2),'1-Award Info'!$F$28:$G$32,2,0)),1)","v":1},"",null,""]
[null,null,null,null,null,null,null,null,null,null,null,null,null,null,null,null,null,null,null,null,null,null,null,null,null,null,null,null,null,null,null,null,null,null,null,null,null,null,null,null,null,null,null,null,null,null,null,null,null,null,null,null,null,null,null,null,null,null,null,null,null,null,null,null,null,null,null,null,null,null,null,null,null,null,null,null,null,null,null,null,null,null,null,null,null,null,null,null,null,null,null,null,null,null,null,null,null,null,null,null,null,null,null,null,null,null,null,null,null,null,null,null,null,null,null,null,null,null,null,null,null,null,null,null,null,237,{"$f":"\"00\"&'1-Award Info'!$G$6","v":"00"},"","",1,"",{"$f":"IFERROR(\nIF(VLOOKUP(\"FY\"&RIGHT($EA253,2),'1-Award Info'!$F$28:$G$32,2,0)=0,\n     1,\n     VLOOKUP(\"FY\"&RIGHT($EA253,2),'1-Award Info'!$F$28:$G$32,2,0)),1)","v":1},"",null,""]
[null,null,null,null,null,null,null,null,null,null,null,null,null,null,null,null,null,null,null,null,null,null,null,null,null,null,null,null,null,null,null,null,null,null,null,null,null,null,null,null,null,null,null,null,null,null,null,null,null,null,null,null,null,null,null,null,null,null,null,null,null,null,null,null,null,null,null,null,null,null,null,null,null,null,null,null,null,null,null,null,null,null,null,null,null,null,null,null,null,null,null,null,null,null,null,null,null,null,null,null,null,null,null,null,null,null,null,null,null,null,null,null,null,null,null,null,null,null,null,null,null,null,null,null,null,238,{"$f":"\"00\"&'1-Award Info'!$G$6","v":"00"},"","",1,"",{"$f":"IFERROR(\nIF(VLOOKUP(\"FY\"&RIGHT($EA254,2),'1-Award Info'!$F$28:$G$32,2,0)=0,\n     1,\n     VLOOKUP(\"FY\"&RIGHT($EA254,2),'1-Award Info'!$F$28:$G$32,2,0)),1)","v":1},"",null,""]
[null,null,null,null,null,null,null,null,null,null,null,null,null,null,null,null,null,null,null,null,null,null,null,null,null,null,null,null,null,null,null,null,null,null,null,null,null,null,null,null,null,null,null,null,null,null,null,null,null,null,null,null,null,null,null,null,null,null,null,null,null,null,null,null,null,null,null,null,null,null,null,null,null,null,null,null,null,null,null,null,null,null,null,null,null,null,null,null,null,null,null,null,null,null,null,null,null,null,null,null,null,null,null,null,null,null,null,null,null,null,null,null,null,null,null,null,null,null,null,null,null,null,null,null,null,239,{"$f":"\"00\"&'1-Award Info'!$G$6","v":"00"},"","",1,"",{"$f":"IFERROR(\nIF(VLOOKUP(\"FY\"&RIGHT($EA255,2),'1-Award Info'!$F$28:$G$32,2,0)=0,\n     1,\n     VLOOKUP(\"FY\"&RIGHT($EA255,2),'1-Award Info'!$F$28:$G$32,2,0)),1)","v":1},"",null,""]
[null,null,null,null,null,null,null,null,null,null,null,null,null,null,null,null,null,null,null,null,null,null,null,null,null,null,null,null,null,null,null,null,null,null,null,null,null,null,null,null,null,null,null,null,null,null,null,null,null,null,null,null,null,null,null,null,null,null,null,null,null,null,null,null,null,null,null,null,null,null,null,null,null,null,null,null,null,null,null,null,null,null,null,null,null,null,null,null,null,null,null,null,null,null,null,null,null,null,null,null,null,null,null,null,null,null,null,null,null,null,null,null,null,null,null,null,null,null,null,null,null,null,null,null,null,240,{"$f":"\"00\"&'1-Award Info'!$G$6","v":"00"},"","",1,"",{"$f":"IFERROR(\nIF(VLOOKUP(\"FY\"&RIGHT($EA256,2),'1-Award Info'!$F$28:$G$32,2,0)=0,\n     1,\n     VLOOKUP(\"FY\"&RIGHT($EA256,2),'1-Award Info'!$F$28:$G$32,2,0)),1)","v":1},"",null,""]
[null,null,null,null,null,null,null,null,null,null,null,null,null,null,null,null,null,null,null,null,null,null,null,null,null,null,null,null,null,null,null,null,null,null,null,null,null,null,null,null,null,null,null,null,null,null,null,null,null,null,null,null,null,null,null,null,null,null,null,null,null,null,null,null,null,null,null,null,null,null,null,null,null,null,null,null,null,null,null,null,null,null,null,null,null,null,null,null,null,null,null,null,null,null,null,null,null,null,null,null,null,null,null,null,null,null,null,null,null,null,null,null,null,null,null,null,null,null,null,null,null,null,null,null,null,241,{"$f":"\"00\"&'1-Award Info'!$G$6","v":"00"},"","",1,"",{"$f":"IFERROR(\nIF(VLOOKUP(\"FY\"&RIGHT($EA257,2),'1-Award Info'!$F$28:$G$32,2,0)=0,\n     1,\n     VLOOKUP(\"FY\"&RIGHT($EA257,2),'1-Award Info'!$F$28:$G$32,2,0)),1)","v":1},"",null,""]
[null,null,null,null,null,null,null,null,null,null,null,null,null,null,null,null,null,null,null,null,null,null,null,null,null,null,null,null,null,null,null,null,null,null,null,null,null,null,null,null,null,null,null,null,null,null,null,null,null,null,null,null,null,null,null,null,null,null,null,null,null,null,null,null,null,null,null,null,null,null,null,null,null,null,null,null,null,null,null,null,null,null,null,null,null,null,null,null,null,null,null,null,null,null,null,null,null,null,null,null,null,null,null,null,null,null,null,null,null,null,null,null,null,null,null,null,null,null,null,null,null,null,null,null,null,242,{"$f":"\"00\"&'1-Award Info'!$G$6","v":"00"},"","",1,"",{"$f":"IFERROR(\nIF(VLOOKUP(\"FY\"&RIGHT($EA258,2),'1-Award Info'!$F$28:$G$32,2,0)=0,\n     1,\n     VLOOKUP(\"FY\"&RIGHT($EA258,2),'1-Award Info'!$F$28:$G$32,2,0)),1)","v":1},"",null,""]
[null,null,null,null,null,null,null,null,null,null,null,null,null,null,null,null,null,null,null,null,null,null,null,null,null,null,null,null,null,null,null,null,null,null,null,null,null,null,null,null,null,null,null,null,null,null,null,null,null,null,null,null,null,null,null,null,null,null,null,null,null,null,null,null,null,null,null,null,null,null,null,null,null,null,null,null,null,null,null,null,null,null,null,null,null,null,null,null,null,null,null,null,null,null,null,null,null,null,null,null,null,null,null,null,null,null,null,null,null,null,null,null,null,null,null,null,null,null,null,null,null,null,null,null,null,243,{"$f":"\"00\"&'1-Award Info'!$G$6","v":"00"},"","",1,"",{"$f":"IFERROR(\nIF(VLOOKUP(\"FY\"&RIGHT($EA259,2),'1-Award Info'!$F$28:$G$32,2,0)=0,\n     1,\n     VLOOKUP(\"FY\"&RIGHT($EA259,2),'1-Award Info'!$F$28:$G$32,2,0)),1)","v":1},"",null,""]
[null,null,null,null,null,null,null,null,null,null,null,null,null,null,null,null,null,null,null,null,null,null,null,null,null,null,null,null,null,null,null,null,null,null,null,null,null,null,null,null,null,null,null,null,null,null,null,null,null,null,null,null,null,null,null,null,null,null,null,null,null,null,null,null,null,null,null,null,null,null,null,null,null,null,null,null,null,null,null,null,null,null,null,null,null,null,null,null,null,null,null,null,null,null,null,null,null,null,null,null,null,null,null,null,null,null,null,null,null,null,null,null,null,null,null,null,null,null,null,null,null,null,null,null,null,244,{"$f":"\"00\"&'1-Award Info'!$G$6","v":"00"},"","",1,"",{"$f":"IFERROR(\nIF(VLOOKUP(\"FY\"&RIGHT($EA260,2),'1-Award Info'!$F$28:$G$32,2,0)=0,\n     1,\n     VLOOKUP(\"FY\"&RIGHT($EA260,2),'1-Award Info'!$F$28:$G$32,2,0)),1)","v":1},"",null,""]
[null,null,null,null,null,null,null,null,null,null,null,null,null,null,null,null,null,null,null,null,null,null,null,null,null,null,null,null,null,null,null,null,null,null,null,null,null,null,null,null,null,null,null,null,null,null,null,null,null,null,null,null,null,null,null,null,null,null,null,null,null,null,null,null,null,null,null,null,null,null,null,null,null,null,null,null,null,null,null,null,null,null,null,null,null,null,null,null,null,null,null,null,null,null,null,null,null,null,null,null,null,null,null,null,null,null,null,null,null,null,null,null,null,null,null,null,null,null,null,null,null,null,null,null,null,245,{"$f":"\"00\"&'1-Award Info'!$G$6","v":"00"},"","",1,"",{"$f":"IFERROR(\nIF(VLOOKUP(\"FY\"&RIGHT($EA261,2),'1-Award Info'!$F$28:$G$32,2,0)=0,\n     1,\n     VLOOKUP(\"FY\"&RIGHT($EA261,2),'1-Award Info'!$F$28:$G$32,2,0)),1)","v":1},"",null,""]
[null,null,null,null,null,null,null,null,null,null,null,null,null,null,null,null,null,null,null,null,null,null,null,null,null,null,null,null,null,null,null,null,null,null,null,null,null,null,null,null,null,null,null,null,null,null,null,null,null,null,null,null,null,null,null,null,null,null,null,null,null,null,null,null,null,null,null,null,null,null,null,null,null,null,null,null,null,null,null,null,null,null,null,null,null,null,null,null,null,null,null,null,null,null,null,null,null,null,null,null,null,null,null,null,null,null,null,null,null,null,null,null,null,null,null,null,null,null,null,null,null,null,null,null,null,246,{"$f":"\"00\"&'1-Award Info'!$G$6","v":"00"},"","",1,"",{"$f":"IFERROR(\nIF(VLOOKUP(\"FY\"&RIGHT($EA262,2),'1-Award Info'!$F$28:$G$32,2,0)=0,\n     1,\n     VLOOKUP(\"FY\"&RIGHT($EA262,2),'1-Award Info'!$F$28:$G$32,2,0)),1)","v":1},"",null,""]
[null,null,null,null,null,null,null,null,null,null,null,null,null,null,null,null,null,null,null,null,null,null,null,null,null,null,null,null,null,null,null,null,null,null,null,null,null,null,null,null,null,null,null,null,null,null,null,null,null,null,null,null,null,null,null,null,null,null,null,null,null,null,null,null,null,null,null,null,null,null,null,null,null,null,null,null,null,null,null,null,null,null,null,null,null,null,null,null,null,null,null,null,null,null,null,null,null,null,null,null,null,null,null,null,null,null,null,null,null,null,null,null,null,null,null,null,null,null,null,null,null,null,null,null,null,247,{"$f":"\"00\"&'1-Award Info'!$G$6","v":"00"},"","",1,"",{"$f":"IFERROR(\nIF(VLOOKUP(\"FY\"&RIGHT($EA263,2),'1-Award Info'!$F$28:$G$32,2,0)=0,\n     1,\n     VLOOKUP(\"FY\"&RIGHT($EA263,2),'1-Award Info'!$F$28:$G$32,2,0)),1)","v":1},"",null,""]
[null,null,null,null,null,null,null,null,null,null,null,null,null,null,null,null,null,null,null,null,null,null,null,null,null,null,null,null,null,null,null,null,null,null,null,null,null,null,null,null,null,null,null,null,null,null,null,null,null,null,null,null,null,null,null,null,null,null,null,null,null,null,null,null,null,null,null,null,null,null,null,null,null,null,null,null,null,null,null,null,null,null,null,null,null,null,null,null,null,null,null,null,null,null,null,null,null,null,null,null,null,null,null,null,null,null,null,null,null,null,null,null,null,null,null,null,null,null,null,null,null,null,null,null,null,248,{"$f":"\"00\"&'1-Award Info'!$G$6","v":"00"},{"$f":"IFERROR(IFERROR(IFERROR(IFERROR(IFERROR(LEFT(VLOOKUP($DV264,$AT:$AW,4,0),15),LEFT(VLOOKUP($DV264,$BL:$BO,4,0),15)),LEFT(VLOOKUP($DV264,$CD:$CG,4,0),15)),LEFT(VLOOKUP($DV264,CV:CY,4,0),15)),LEFT(VLOOKUP($DV264,DN:DQ,4,0),15)),\"\")","v":""},{"$f":"IFERROR(IFERROR(IFERROR(IFERROR(IFERROR(RIGHT(VLOOKUP($DV264,$AT:$AW,4,0),5),RIGHT(VLOOKUP($DV264,$BL:$BO,4,0),5)),RIGHT(VLOOKUP($DV264,$CD:$CG,4,0),5)),RIGHT(VLOOKUP($DV264,CV:CY,4,0),5)),RIGHT(VLOOKUP($DV264,DN:DR,4,0),5)),\"\")","v":""},1,{"$f":"IFERROR(IFERROR(IFERROR(IFERROR(IFERROR(VLOOKUP($DV264,$AT:$AZ,7,0),VLOOKUP($DV264,$BL:$BR,7,0)),VLOOKUP($DV264,$CD:$CJ,7,0)),VLOOKUP($DV264,CV:DB,7,0)),VLOOKUP($DV264,DN:DT,7,0)),\"\")","v":""},{"$f":"IFERROR(\nIF(VLOOKUP(\"FY\"&RIGHT($EA264,2),'1-Award Info'!$F$28:$G$32,2,0)=0,\n     1,\n     VLOOKUP(\"FY\"&RIGHT($EA264,2),'1-Award Info'!$F$28:$G$32,2,0)),1)","v":1},{"$f":"IFERROR(IFERROR(IFERROR(IFERROR(IFERROR(VLOOKUP($DV264,$AT:$AZ,5,0),VLOOKUP($DV264,$BL:$BR,5,0)),VLOOKUP($DV264,$CD:$CJ,5,0)),VLOOKUP($DV264,CV:CZ,5,0)),VLOOKUP($DV264,DN:DR,5,0)),\"\")","v":""},null,{"$f":"IFERROR(IFERROR(IFERROR(IFERROR(IFERROR(VLOOKUP($DV264,$AT:$AZ,6,0),VLOOKUP($DV264,$BL:$BR,6,0)),VLOOKUP($DV264,$CD:$CJ,6,0)),VLOOKUP($DV264,CV:DA,6,0)),VLOOKUP($DV264,DN:DS,6,0)),\"\")","v":""}]
[null,null,null,null,null,null,null,null,null,null,null,null,null,null,null,null,null,null,null,null,null,null,null,null,null,null,null,null,null,null,null,null,null,null,null,null,null,null,null,null,null,null,null,null,null,null,null,null,null,null,null,null,null,null,null,null,null,null,null,null,null,null,null,null,null,null,null,null,null,null,null,null,null,null,null,null,null,null,null,null,null,null,null,null,null,null,null,null,null,null,null,null,null,null,null,null,null,null,null,null,null,null,null,null,null,null,null,null,null,null,null,null,null,null,null,null,null,null,null,null,null,null,null,null,null,249,{"$f":"\"00\"&'1-Award Info'!$G$6","v":"00"},"","",1,"",{"$f":"IFERROR(\nIF(VLOOKUP(\"FY\"&RIGHT($EA265,2),'1-Award Info'!$F$28:$G$32,2,0)=0,\n     1,\n     VLOOKUP(\"FY\"&RIGHT($EA265,2),'1-Award Info'!$F$28:$G$32,2,0)),1)","v":1},"",null,""]
[null,null,null,null,null,null,null,null,null,null,null,null,null,null,null,null,null,null,null,null,null,null,null,null,null,null,null,null,null,null,null,null,null,null,null,null,null,null,null,null,null,null,null,null,null,null,null,null,null,null,null,null,null,null,null,null,null,null,null,null,null,null,null,null,null,null,null,null,null,null,null,null,null,null,null,null,null,null,null,null,null,null,null,null,null,null,null,null,null,null,null,null,null,null,null,null,null,null,null,null,null,null,null,null,null,null,null,null,null,null,null,null,null,null,null,null,null,null,null,null,null,null,null,null,null,250,{"$f":"\"00\"&'1-Award Info'!$G$6","v":"00"},"","",1,"",{"$f":"IFERROR(\nIF(VLOOKUP(\"FY\"&RIGHT($EA266,2),'1-Award Info'!$F$28:$G$32,2,0)=0,\n     1,\n     VLOOKUP(\"FY\"&RIGHT($EA266,2),'1-Award Info'!$F$28:$G$32,2,0)),1)","v":1},"",null,""]
[null,null,null,null,null,null,null,null,null,null,null,null,null,null,null,null,null,null,null,null,null,null,null,null,null,null,null,null,null,null,null,null,null,null,null,null,null,null,null,null,null,null,null,null,null,null,null,null,null,null,null,null,null,null,null,null,null,null,null,null,null,null,null,null,null,null,null,null,null,null,null,null,null,null,null,null,null,null,null,null,null,null,null,null,null,null,null,null,null,null,null,null,null,null,null,null,null,null,null,null,null,null,null,null,null,null,null,null,null,null,null,null,null,null,null,null,null,null,null,null,null,null,null,null,null,251,{"$f":"\"00\"&'1-Award Info'!$G$6","v":"00"},"","",1,"",{"$f":"IFERROR(\nIF(VLOOKUP(\"FY\"&RIGHT($EA267,2),'1-Award Info'!$F$28:$G$32,2,0)=0,\n     1,\n     VLOOKUP(\"FY\"&RIGHT($EA267,2),'1-Award Info'!$F$28:$G$32,2,0)),1)","v":1},"",null,""]
[null,null,null,null,null,null,null,null,null,null,null,null,null,null,null,null,null,null,null,null,null,null,null,null,null,null,null,null,null,null,null,null,null,null,null,null,null,null,null,null,null,null,null,null,null,null,null,null,null,null,null,null,null,null,null,null,null,null,null,null,null,null,null,null,null,null,null,null,null,null,null,null,null,null,null,null,null,null,null,null,null,null,null,null,null,null,null,null,null,null,null,null,null,null,null,null,null,null,null,null,null,null,null,null,null,null,null,null,null,null,null,null,null,null,null,null,null,null,null,null,null,null,null,null,null,252,{"$f":"\"00\"&'1-Award Info'!$G$6","v":"00"},"","",1,"",{"$f":"IFERROR(\nIF(VLOOKUP(\"FY\"&RIGHT($EA268,2),'1-Award Info'!$F$28:$G$32,2,0)=0,\n     1,\n     VLOOKUP(\"FY\"&RIGHT($EA268,2),'1-Award Info'!$F$28:$G$32,2,0)),1)","v":1},"",null,""]
[null,null,null,null,null,null,null,null,null,null,null,null,null,null,null,null,null,null,null,null,null,null,null,null,null,null,null,null,null,null,null,null,null,null,null,null,null,null,null,null,null,null,null,null,null,null,null,null,null,null,null,null,null,null,null,null,null,null,null,null,null,null,null,null,null,null,null,null,null,null,null,null,null,null,null,null,null,null,null,null,null,null,null,null,null,null,null,null,null,null,null,null,null,null,null,null,null,null,null,null,null,null,null,null,null,null,null,null,null,null,null,null,null,null,null,null,null,null,null,null,null,null,null,null,null,253,{"$f":"\"00\"&'1-Award Info'!$G$6","v":"00"},"","",1,"",{"$f":"IFERROR(\nIF(VLOOKUP(\"FY\"&RIGHT($EA269,2),'1-Award Info'!$F$28:$G$32,2,0)=0,\n     1,\n     VLOOKUP(\"FY\"&RIGHT($EA269,2),'1-Award Info'!$F$28:$G$32,2,0)),1)","v":1},"",null,""]
[null,null,null,null,null,null,null,null,null,null,null,null,null,null,null,null,null,null,null,null,null,null,null,null,null,null,null,null,null,null,null,null,null,null,null,null,null,null,null,null,null,null,null,null,null,null,null,null,null,null,null,null,null,null,null,null,null,null,null,null,null,null,null,null,null,null,null,null,null,null,null,null,null,null,null,null,null,null,null,null,null,null,null,null,null,null,null,null,null,null,null,null,null,null,null,null,null,null,null,null,null,null,null,null,null,null,null,null,null,null,null,null,null,null,null,null,null,null,null,null,null,null,null,null,null,254,{"$f":"\"00\"&'1-Award Info'!$G$6","v":"00"},"","",1,"",{"$f":"IFERROR(\nIF(VLOOKUP(\"FY\"&RIGHT($EA270,2),'1-Award Info'!$F$28:$G$32,2,0)=0,\n     1,\n     VLOOKUP(\"FY\"&RIGHT($EA270,2),'1-Award Info'!$F$28:$G$32,2,0)),1)","v":1},"",null,""]
[null,null,null,null,null,null,null,null,null,null,null,null,null,null,null,null,null,null,null,null,null,null,null,null,null,null,null,null,null,null,null,null,null,null,null,null,null,null,null,null,null,null,null,null,null,null,null,null,null,null,null,null,null,null,null,null,null,null,null,null,null,null,null,null,null,null,null,null,null,null,null,null,null,null,null,null,null,null,null,null,null,null,null,null,null,null,null,null,null,null,null,null,null,null,null,null,null,null,null,null,null,null,null,null,null,null,null,null,null,null,null,null,null,null,null,null,null,null,null,null,null,null,null,null,null,255,{"$f":"\"00\"&'1-Award Info'!$G$6","v":"00"},"","",1,"",{"$f":"IFERROR(\nIF(VLOOKUP(\"FY\"&RIGHT($EA271,2),'1-Award Info'!$F$28:$G$32,2,0)=0,\n     1,\n     VLOOKUP(\"FY\"&RIGHT($EA271,2),'1-Award Info'!$F$28:$G$32,2,0)),1)","v":1},"",null,""]
[null,null,null,null,null,null,null,null,null,null,null,null,null,null,null,null,null,null,null,null,null,null,null,null,null,null,null,null,null,null,null,null,null,null,null,null,null,null,null,null,null,null,null,null,null,null,null,null,null,null,null,null,null,null,null,null,null,null,null,null,null,null,null,null,null,null,null,null,null,null,null,null,null,null,null,null,null,null,null,null,null,null,null,null,null,null,null,null,null,null,null,null,null,null,null,null,null,null,null,null,null,null,null,null,null,null,null,null,null,null,null,null,null,null,null,null,null,null,null,null,null,null,null,null,null,256,{"$f":"\"00\"&'1-Award Info'!$G$6","v":"00"},"","",1,"",{"$f":"IFERROR(\nIF(VLOOKUP(\"FY\"&RIGHT($EA272,2),'1-Award Info'!$F$28:$G$32,2,0)=0,\n     1,\n     VLOOKUP(\"FY\"&RIGHT($EA272,2),'1-Award Info'!$F$28:$G$32,2,0)),1)","v":1},"",null,""]
[null,null,null,null,null,null,null,null,null,null,null,null,null,null,null,null,null,null,null,null,null,null,null,null,null,null,null,null,null,null,null,null,null,null,null,null,null,null,null,null,null,null,null,null,null,null,null,null,null,null,null,null,null,null,null,null,null,null,null,null,null,null,null,null,null,null,null,null,null,null,null,null,null,null,null,null,null,null,null,null,null,null,null,null,null,null,null,null,null,null,null,null,null,null,null,null,null,null,null,null,null,null,null,null,null,null,null,null,null,null,null,null,null,null,null,null,null,null,null,null,null,null,null,null,null,257,{"$f":"\"00\"&'1-Award Info'!$G$6","v":"00"},"","",1,"",{"$f":"IFERROR(\nIF(VLOOKUP(\"FY\"&RIGHT($EA273,2),'1-Award Info'!$F$28:$G$32,2,0)=0,\n     1,\n     VLOOKUP(\"FY\"&RIGHT($EA273,2),'1-Award Info'!$F$28:$G$32,2,0)),1)","v":1},"",null,""]
[null,null,null,null,null,null,null,null,null,null,null,null,null,null,null,null,null,null,null,null,null,null,null,null,null,null,null,null,null,null,null,null,null,null,null,null,null,null,null,null,null,null,null,null,null,null,null,null,null,null,null,null,null,null,null,null,null,null,null,null,null,null,null,null,null,null,null,null,null,null,null,null,null,null,null,null,null,null,null,null,null,null,null,null,null,null,null,null,null,null,null,null,null,null,null,null,null,null,null,null,null,null,null,null,null,null,null,null,null,null,null,null,null,null,null,null,null,null,null,null,null,null,null,null,null,258,{"$f":"\"00\"&'1-Award Info'!$G$6","v":"00"},"","",1,"",{"$f":"IFERROR(\nIF(VLOOKUP(\"FY\"&RIGHT($EA274,2),'1-Award Info'!$F$28:$G$32,2,0)=0,\n     1,\n     VLOOKUP(\"FY\"&RIGHT($EA274,2),'1-Award Info'!$F$28:$G$32,2,0)),1)","v":1},"",null,""]
[null,null,null,null,null,null,null,null,null,null,null,null,null,null,null,null,null,null,null,null,null,null,null,null,null,null,null,null,null,null,null,null,null,null,null,null,null,null,null,null,null,null,null,null,null,null,null,null,null,null,null,null,null,null,null,null,null,null,null,null,null,null,null,null,null,null,null,null,null,null,null,null,null,null,null,null,null,null,null,null,null,null,null,null,null,null,null,null,null,null,null,null,null,null,null,null,null,null,null,null,null,null,null,null,null,null,null,null,null,null,null,null,null,null,null,null,null,null,null,null,null,null,null,null,null,{"$f":"DV274+1","v":259},{"$f":"\"00\"&'1-Award Info'!$G$6","v":"00"},"","",1,"",{"$f":"IFERROR(\nIF(VLOOKUP(\"FY\"&RIGHT($EA275,2),'1-Award Info'!$F$28:$G$32,2,0)=0,\n     1,\n     VLOOKUP(\"FY\"&RIGHT($EA275,2),'1-Award Info'!$F$28:$G$32,2,0)),1)","v":1},"",null,""]
[null,null,null,null,null,null,null,null,null,null,null,null,null,null,null,null,null,null,null,null,null,null,null,null,null,null,null,null,null,null,null,null,null,null,null,null,null,null,null,null,null,null,null,null,null,null,null,null,null,null,null,null,null,null,null,null,null,null,null,null,null,null,null,null,null,null,null,null,null,null,null,null,null,null,null,null,null,null,null,null,null,null,null,null,null,null,null,null,null,null,null,null,null,null,null,null,null,null,null,null,null,null,null,null,null,null,null,null,null,null,null,null,null,null,null,null,null,null,null,null,null,null,null,null,null,260,{"$f":"\"00\"&'1-Award Info'!$G$6","v":"00"},"","",1,"",{"$f":"IFERROR(\nIF(VLOOKUP(\"FY\"&RIGHT($EA276,2),'1-Award Info'!$F$28:$G$32,2,0)=0,\n     1,\n     VLOOKUP(\"FY\"&RIGHT($EA276,2),'1-Award Info'!$F$28:$G$32,2,0)),1)","v":1},"",null,""]
[null,null,null,null,null,null,null,null,null,null,null,null,null,null,null,null,null,null,null,null,null,null,null,null,null,null,null,null,null,null,null,null,null,null,null,null,null,null,null,null,null,null,null,null,null,null,null,null,null,null,null,null,null,null,null,null,null,null,null,null,null,null,null,null,null,null,null,null,null,null,null,null,null,null,null,null,null,null,null,null,null,null,null,null,null,null,null,null,null,null,null,null,null,null,null,null,null,null,null,null,null,null,null,null,null,null,null,null,null,null,null,null,null,null,null,null,null,null,null,null,null,null,null,null,null,261,{"$f":"\"00\"&'1-Award Info'!$G$6","v":"00"},"","",1,"",{"$f":"IFERROR(\nIF(VLOOKUP(\"FY\"&RIGHT($EA277,2),'1-Award Info'!$F$28:$G$32,2,0)=0,\n     1,\n     VLOOKUP(\"FY\"&RIGHT($EA277,2),'1-Award Info'!$F$28:$G$32,2,0)),1)","v":1},"",null,""]
[null,null,null,null,null,null,null,null,null,null,null,null,null,null,null,null,null,null,null,null,null,null,null,null,null,null,null,null,null,null,null,null,null,null,null,null,null,null,null,null,null,null,null,null,null,null,null,null,null,null,null,null,null,null,null,null,null,null,null,null,null,null,null,null,null,null,null,null,null,null,null,null,null,null,null,null,null,null,null,null,null,null,null,null,null,null,null,null,null,null,null,null,null,null,null,null,null,null,null,null,null,null,null,null,null,null,null,null,null,null,null,null,null,null,null,null,null,null,null,null,null,null,null,null,null,262,{"$f":"\"00\"&'1-Award Info'!$G$6","v":"00"},"","",1,"",{"$f":"IFERROR(\nIF(VLOOKUP(\"FY\"&RIGHT($EA278,2),'1-Award Info'!$F$28:$G$32,2,0)=0,\n     1,\n     VLOOKUP(\"FY\"&RIGHT($EA278,2),'1-Award Info'!$F$28:$G$32,2,0)),1)","v":1},"",null,""]
[null,null,null,null,null,null,null,null,null,null,null,null,null,null,null,null,null,null,null,null,null,null,null,null,null,null,null,null,null,null,null,null,null,null,null,null,null,null,null,null,null,null,null,null,null,null,null,null,null,null,null,null,null,null,null,null,null,null,null,null,null,null,null,null,null,null,null,null,null,null,null,null,null,null,null,null,null,null,null,null,null,null,null,null,null,null,null,null,null,null,null,null,null,null,null,null,null,null,null,null,null,null,null,null,null,null,null,null,null,null,null,null,null,null,null,null,null,null,null,null,null,null,null,null,null,263,{"$f":"\"00\"&'1-Award Info'!$G$6","v":"00"},"","",1,"",{"$f":"IFERROR(\nIF(VLOOKUP(\"FY\"&RIGHT($EA279,2),'1-Award Info'!$F$28:$G$32,2,0)=0,\n     1,\n     VLOOKUP(\"FY\"&RIGHT($EA279,2),'1-Award Info'!$F$28:$G$32,2,0)),1)","v":1},"",null,""]
[null,null,null,null,null,null,null,null,null,null,null,null,null,null,null,null,null,null,null,null,null,null,null,null,null,null,null,null,null,null,null,null,null,null,null,null,null,null,null,null,null,null,null,null,null,null,null,null,null,null,null,null,null,null,null,null,null,null,null,null,null,null,null,null,null,null,null,null,null,null,null,null,null,null,null,null,null,null,null,null,null,null,null,null,null,null,null,null,null,null,null,null,null,null,null,null,null,null,null,null,null,null,null,null,null,null,null,null,null,null,null,null,null,null,null,null,null,null,null,null,null,null,null,null,null,264,{"$f":"\"00\"&'1-Award Info'!$G$6","v":"00"},"","",1,"",{"$f":"IFERROR(\nIF(VLOOKUP(\"FY\"&RIGHT($EA280,2),'1-Award Info'!$F$28:$G$32,2,0)=0,\n     1,\n     VLOOKUP(\"FY\"&RIGHT($EA280,2),'1-Award Info'!$F$28:$G$32,2,0)),1)","v":1},"",null,""]
[null,null,null,null,null,null,null,null,null,null,null,null,null,null,null,null,null,null,null,null,null,null,null,null,null,null,null,null,null,null,null,null,null,null,null,null,null,null,null,null,null,null,null,null,null,null,null,null,null,null,null,null,null,null,null,null,null,null,null,null,null,null,null,null,null,null,null,null,null,null,null,null,null,null,null,null,null,null,null,null,null,null,null,null,null,null,null,null,null,null,null,null,null,null,null,null,null,null,null,null,null,null,null,null,null,null,null,null,null,null,null,null,null,null,null,null,null,null,null,null,null,null,null,null,null,265,{"$f":"\"00\"&'1-Award Info'!$G$6","v":"00"},"","",1,"",{"$f":"IFERROR(\nIF(VLOOKUP(\"FY\"&RIGHT($EA281,2),'1-Award Info'!$F$28:$G$32,2,0)=0,\n     1,\n     VLOOKUP(\"FY\"&RIGHT($EA281,2),'1-Award Info'!$F$28:$G$32,2,0)),1)","v":1},"",null,""]
[null,null,null,null,null,null,null,null,null,null,null,null,null,null,null,null,null,null,null,null,null,null,null,null,null,null,null,null,null,null,null,null,null,null,null,null,null,null,null,null,null,null,null,null,null,null,null,null,null,null,null,null,null,null,null,null,null,null,null,null,null,null,null,null,null,null,null,null,null,null,null,null,null,null,null,null,null,null,null,null,null,null,null,null,null,null,null,null,null,null,null,null,null,null,null,null,null,null,null,null,null,null,null,null,null,null,null,null,null,null,null,null,null,null,null,null,null,null,null,null,null,null,null,null,null,266,{"$f":"\"00\"&'1-Award Info'!$G$6","v":"00"},"","",1,"",{"$f":"IFERROR(\nIF(VLOOKUP(\"FY\"&RIGHT($EA282,2),'1-Award Info'!$F$28:$G$32,2,0)=0,\n     1,\n     VLOOKUP(\"FY\"&RIGHT($EA282,2),'1-Award Info'!$F$28:$G$32,2,0)),1)","v":1},"",null,""]
[null,null,null,null,null,null,null,null,null,null,null,null,null,null,null,null,null,null,null,null,null,null,null,null,null,null,null,null,null,null,null,null,null,null,null,null,null,null,null,null,null,null,null,null,null,null,null,null,null,null,null,null,null,null,null,null,null,null,null,null,null,null,null,null,null,null,null,null,null,null,null,null,null,null,null,null,null,null,null,null,null,null,null,null,null,null,null,null,null,null,null,null,null,null,null,null,null,null,null,null,null,null,null,null,null,null,null,null,null,null,null,null,null,null,null,null,null,null,null,null,null,null,null,null,null,267,{"$f":"\"00\"&'1-Award Info'!$G$6","v":"00"},"","",1,"",{"$f":"IFERROR(\nIF(VLOOKUP(\"FY\"&RIGHT($EA283,2),'1-Award Info'!$F$28:$G$32,2,0)=0,\n     1,\n     VLOOKUP(\"FY\"&RIGHT($EA283,2),'1-Award Info'!$F$28:$G$32,2,0)),1)","v":1},"",null,""]
[null,null,null,null,null,null,null,null,null,null,null,null,null,null,null,null,null,null,null,null,null,null,null,null,null,null,null,null,null,null,null,null,null,null,null,null,null,null,null,null,null,null,null,null,null,null,null,null,null,null,null,null,null,null,null,null,null,null,null,null,null,null,null,null,null,null,null,null,null,null,null,null,null,null,null,null,null,null,null,null,null,null,null,null,null,null,null,null,null,null,null,null,null,null,null,null,null,null,null,null,null,null,null,null,null,null,null,null,null,null,null,null,null,null,null,null,null,null,null,null,null,null,null,null,null,268,{"$f":"\"00\"&'1-Award Info'!$G$6","v":"00"},"","",1,"",{"$f":"IFERROR(\nIF(VLOOKUP(\"FY\"&RIGHT($EA284,2),'1-Award Info'!$F$28:$G$32,2,0)=0,\n     1,\n     VLOOKUP(\"FY\"&RIGHT($EA284,2),'1-Award Info'!$F$28:$G$32,2,0)),1)","v":1},"",null,""]
[null,null,null,null,null,null,null,null,null,null,null,null,null,null,null,null,null,null,null,null,null,null,null,null,null,null,null,null,null,null,null,null,null,null,null,null,null,null,null,null,null,null,null,null,null,null,null,null,null,null,null,null,null,null,null,null,null,null,null,null,null,null,null,null,null,null,null,null,null,null,null,null,null,null,null,null,null,null,null,null,null,null,null,null,null,null,null,null,null,null,null,null,null,null,null,null,null,null,null,null,null,null,null,null,null,null,null,null,null,null,null,null,null,null,null,null,null,null,null,null,null,null,null,null,null,269,{"$f":"\"00\"&'1-Award Info'!$G$6","v":"00"},"","",1,"",{"$f":"IFERROR(\nIF(VLOOKUP(\"FY\"&RIGHT($EA285,2),'1-Award Info'!$F$28:$G$32,2,0)=0,\n     1,\n     VLOOKUP(\"FY\"&RIGHT($EA285,2),'1-Award Info'!$F$28:$G$32,2,0)),1)","v":1},"",null,""]
[null,null,null,null,null,null,null,null,null,null,null,null,null,null,null,null,null,null,null,null,null,null,null,null,null,null,null,null,null,null,null,null,null,null,null,null,null,null,null,null,null,null,null,null,null,null,null,null,null,null,null,null,null,null,null,null,null,null,null,null,null,null,null,null,null,null,null,null,null,null,null,null,null,null,null,null,null,null,null,null,null,null,null,null,null,null,null,null,null,null,null,null,null,null,null,null,null,null,null,null,null,null,null,null,null,null,null,null,null,null,null,null,null,null,null,null,null,null,null,null,null,null,null,null,null,270,{"$f":"\"00\"&'1-Award Info'!$G$6","v":"00"},"","",1,"",{"$f":"IFERROR(\nIF(VLOOKUP(\"FY\"&RIGHT($EA286,2),'1-Award Info'!$F$28:$G$32,2,0)=0,\n     1,\n     VLOOKUP(\"FY\"&RIGHT($EA286,2),'1-Award Info'!$F$28:$G$32,2,0)),1)","v":1},"",null,""]
[null,null,null,null,null,null,null,null,null,null,null,null,null,null,null,null,null,null,null,null,null,null,null,null,null,null,null,null,null,null,null,null,null,null,null,null,null,null,null,null,null,null,null,null,null,null,null,null,null,null,null,null,null,null,null,null,null,null,null,null,null,null,null,null,null,null,null,null,null,null,null,null,null,null,null,null,null,null,null,null,null,null,null,null,null,null,null,null,null,null,null,null,null,null,null,null,null,null,null,null,null,null,null,null,null,null,null,null,null,null,null,null,null,null,null,null,null,null,null,null,null,null,null,null,null,271,{"$f":"\"00\"&'1-Award Info'!$G$6","v":"00"},"","",1,"",{"$f":"IFERROR(\nIF(VLOOKUP(\"FY\"&RIGHT($EA287,2),'1-Award Info'!$F$28:$G$32,2,0)=0,\n     1,\n     VLOOKUP(\"FY\"&RIGHT($EA287,2),'1-Award Info'!$F$28:$G$32,2,0)),1)","v":1},"",null,""]
[null,null,null,null,null,null,null,null,null,null,null,null,null,null,null,null,null,null,null,null,null,null,null,null,null,null,null,null,null,null,null,null,null,null,null,null,null,null,null,null,null,null,null,null,null,null,null,null,null,null,null,null,null,null,null,null,null,null,null,null,null,null,null,null,null,null,null,null,null,null,null,null,null,null,null,null,null,null,null,null,null,null,null,null,null,null,null,null,null,null,null,null,null,null,null,null,null,null,null,null,null,null,null,null,null,null,null,null,null,null,null,null,null,null,null,null,null,null,null,null,null,null,null,null,null,272,{"$f":"\"00\"&'1-Award Info'!$G$6","v":"00"},"","",1,"",{"$f":"IFERROR(\nIF(VLOOKUP(\"FY\"&RIGHT($EA288,2),'1-Award Info'!$F$28:$G$32,2,0)=0,\n     1,\n     VLOOKUP(\"FY\"&RIGHT($EA288,2),'1-Award Info'!$F$28:$G$32,2,0)),1)","v":1},"",null,""]
[null,null,null,null,null,null,null,null,null,null,null,null,null,null,null,null,null,null,null,null,null,null,null,null,null,null,null,null,null,null,null,null,null,null,null,null,null,null,null,null,null,null,null,null,null,null,null,null,null,null,null,null,null,null,null,null,null,null,null,null,null,null,null,null,null,null,null,null,null,null,null,null,null,null,null,null,null,null,null,null,null,null,null,null,null,null,null,null,null,null,null,null,null,null,null,null,null,null,null,null,null,null,null,null,null,null,null,null,null,null,null,null,null,null,null,null,null,null,null,null,null,null,null,null,null,273,{"$f":"\"00\"&'1-Award Info'!$G$6","v":"00"},"","",1,"",{"$f":"IFERROR(\nIF(VLOOKUP(\"FY\"&RIGHT($EA289,2),'1-Award Info'!$F$28:$G$32,2,0)=0,\n     1,\n     VLOOKUP(\"FY\"&RIGHT($EA289,2),'1-Award Info'!$F$28:$G$32,2,0)),1)","v":1},"",null,""]
[null,null,null,null,null,null,null,null,null,null,null,null,null,null,null,null,null,null,null,null,null,null,null,null,null,null,null,null,null,null,null,null,null,null,null,null,null,null,null,null,null,null,null,null,null,null,null,null,null,null,null,null,null,null,null,null,null,null,null,null,null,null,null,null,null,null,null,null,null,null,null,null,null,null,null,null,null,null,null,null,null,null,null,null,null,null,null,null,null,null,null,null,null,null,null,null,null,null,null,null,null,null,null,null,null,null,null,null,null,null,null,null,null,null,null,null,null,null,null,null,null,null,null,null,null,274,{"$f":"\"00\"&'1-Award Info'!$G$6","v":"00"},"","",1,"",{"$f":"IFERROR(\nIF(VLOOKUP(\"FY\"&RIGHT($EA290,2),'1-Award Info'!$F$28:$G$32,2,0)=0,\n     1,\n     VLOOKUP(\"FY\"&RIGHT($EA290,2),'1-Award Info'!$F$28:$G$32,2,0)),1)","v":1},"",null,""]
[null,null,null,null,null,null,null,null,null,null,null,null,null,null,null,null,null,null,null,null,null,null,null,null,null,null,null,null,null,null,null,null,null,null,null,null,null,null,null,null,null,null,null,null,null,null,null,null,null,null,null,null,null,null,null,null,null,null,null,null,null,null,null,null,null,null,null,null,null,null,null,null,null,null,null,null,null,null,null,null,null,null,null,null,null,null,null,null,null,null,null,null,null,null,null,null,null,null,null,null,null,null,null,null,null,null,null,null,null,null,null,null,null,null,null,null,null,null,null,null,null,null,null,null,null,275,{"$f":"\"00\"&'1-Award Info'!$G$6","v":"00"},"","",1,"",{"$f":"IFERROR(\nIF(VLOOKUP(\"FY\"&RIGHT($EA291,2),'1-Award Info'!$F$28:$G$32,2,0)=0,\n     1,\n     VLOOKUP(\"FY\"&RIGHT($EA291,2),'1-Award Info'!$F$28:$G$32,2,0)),1)","v":1},"",null,""]
[null,null,null,null,null,null,null,null,null,null,null,null,null,null,null,null,null,null,null,null,null,null,null,null,null,null,null,null,null,null,null,null,null,null,null,null,null,null,null,null,null,null,null,null,null,null,null,null,null,null,null,null,null,null,null,null,null,null,null,null,null,null,null,null,null,null,null,null,null,null,null,null,null,null,null,null,null,null,null,null,null,null,null,null,null,null,null,null,null,null,null,null,null,null,null,null,null,null,null,null,null,null,null,null,null,null,null,null,null,null,null,null,null,null,null,null,null,null,null,null,null,null,null,null,null,276,{"$f":"\"00\"&'1-Award Info'!$G$6","v":"00"},"","",1,"",{"$f":"IFERROR(\nIF(VLOOKUP(\"FY\"&RIGHT($EA292,2),'1-Award Info'!$F$28:$G$32,2,0)=0,\n     1,\n     VLOOKUP(\"FY\"&RIGHT($EA292,2),'1-Award Info'!$F$28:$G$32,2,0)),1)","v":1},"",null,""]
[null,null,null,null,null,null,null,null,null,null,null,null,null,null,null,null,null,null,null,null,null,null,null,null,null,null,null,null,null,null,null,null,null,null,null,null,null,null,null,null,null,null,null,null,null,null,null,null,null,null,null,null,null,null,null,null,null,null,null,null,null,null,null,null,null,null,null,null,null,null,null,null,null,null,null,null,null,null,null,null,null,null,null,null,null,null,null,null,null,null,null,null,null,null,null,null,null,null,null,null,null,null,null,null,null,null,null,null,null,null,null,null,null,null,null,null,null,null,null,null,null,null,null,null,null,277,{"$f":"\"00\"&'1-Award Info'!$G$6","v":"00"},"","",1,"",{"$f":"IFERROR(\nIF(VLOOKUP(\"FY\"&RIGHT($EA293,2),'1-Award Info'!$F$28:$G$32,2,0)=0,\n     1,\n     VLOOKUP(\"FY\"&RIGHT($EA293,2),'1-Award Info'!$F$28:$G$32,2,0)),1)","v":1},"",null,""]
[null,null,null,null,null,null,null,null,null,null,null,null,null,null,null,null,null,null,null,null,null,null,null,null,null,null,null,null,null,null,null,null,null,null,null,null,null,null,null,null,null,null,null,null,null,null,null,null,null,null,null,null,null,null,null,null,null,null,null,null,null,null,null,null,null,null,null,null,null,null,null,null,null,null,null,null,null,null,null,null,null,null,null,null,null,null,null,null,null,null,null,null,null,null,null,null,null,null,null,null,null,null,null,null,null,null,null,null,null,null,null,null,null,null,null,null,null,null,null,null,null,null,null,null,null,278,{"$f":"\"00\"&'1-Award Info'!$G$6","v":"00"},"","",1,"",{"$f":"IFERROR(\nIF(VLOOKUP(\"FY\"&RIGHT($EA294,2),'1-Award Info'!$F$28:$G$32,2,0)=0,\n     1,\n     VLOOKUP(\"FY\"&RIGHT($EA294,2),'1-Award Info'!$F$28:$G$32,2,0)),1)","v":1},"",null,""]
[null,null,null,null,null,null,null,null,null,null,null,null,null,null,null,null,null,null,null,null,null,null,null,null,null,null,null,null,null,null,null,null,null,null,null,null,null,null,null,null,null,null,null,null,null,null,null,null,null,null,null,null,null,null,null,null,null,null,null,null,null,null,null,null,null,null,null,null,null,null,null,null,null,null,null,null,null,null,null,null,null,null,null,null,null,null,null,null,null,null,null,null,null,null,null,null,null,null,null,null,null,null,null,null,null,null,null,null,null,null,null,null,null,null,null,null,null,null,null,null,null,null,null,null,null,279,{"$f":"\"00\"&'1-Award Info'!$G$6","v":"00"},"","",1,"",{"$f":"IFERROR(\nIF(VLOOKUP(\"FY\"&RIGHT($EA295,2),'1-Award Info'!$F$28:$G$32,2,0)=0,\n     1,\n     VLOOKUP(\"FY\"&RIGHT($EA295,2),'1-Award Info'!$F$28:$G$32,2,0)),1)","v":1},"",null,""]
[null,null,null,null,null,null,null,null,null,null,null,null,null,null,null,null,null,null,null,null,null,null,null,null,null,null,null,null,null,null,null,null,null,null,null,null,null,null,null,null,null,null,null,null,null,null,null,null,null,null,null,null,null,null,null,null,null,null,null,null,null,null,null,null,null,null,null,null,null,null,null,null,null,null,null,null,null,null,null,null,null,null,null,null,null,null,null,null,null,null,null,null,null,null,null,null,null,null,null,null,null,null,null,null,null,null,null,null,null,null,null,null,null,null,null,null,null,null,null,null,null,null,null,null,null,280,{"$f":"\"00\"&'1-Award Info'!$G$6","v":"00"},"","",1,"",{"$f":"IFERROR(\nIF(VLOOKUP(\"FY\"&RIGHT($EA296,2),'1-Award Info'!$F$28:$G$32,2,0)=0,\n     1,\n     VLOOKUP(\"FY\"&RIGHT($EA296,2),'1-Award Info'!$F$28:$G$32,2,0)),1)","v":1},"",null,""]
[null,null,null,null,null,null,null,null,null,null,null,null,null,null,null,null,null,null,null,null,null,null,null,null,null,null,null,null,null,null,null,null,null,null,null,null,null,null,null,null,null,null,null,null,null,null,null,null,null,null,null,null,null,null,null,null,null,null,null,null,null,null,null,null,null,null,null,null,null,null,null,null,null,null,null,null,null,null,null,null,null,null,null,null,null,null,null,null,null,null,null,null,null,null,null,null,null,null,null,null,null,null,null,null,null,null,null,null,null,null,null,null,null,null,null,null,null,null,null,null,null,null,null,null,null,281,{"$f":"\"00\"&'1-Award Info'!$G$6","v":"00"},"","",1,"",{"$f":"IFERROR(\nIF(VLOOKUP(\"FY\"&RIGHT($EA297,2),'1-Award Info'!$F$28:$G$32,2,0)=0,\n     1,\n     VLOOKUP(\"FY\"&RIGHT($EA297,2),'1-Award Info'!$F$28:$G$32,2,0)),1)","v":1},"",null,""]
[null,null,null,null,null,null,null,null,null,null,null,null,null,null,null,null,null,null,null,null,null,null,null,null,null,null,null,null,null,null,null,null,null,null,null,null,null,null,null,null,null,null,null,null,null,null,null,null,null,null,null,null,null,null,null,null,null,null,null,null,null,null,null,null,null,null,null,null,null,null,null,null,null,null,null,null,null,null,null,null,null,null,null,null,null,null,null,null,null,null,null,null,null,null,null,null,null,null,null,null,null,null,null,null,null,null,null,null,null,null,null,null,null,null,null,null,null,null,null,null,null,null,null,null,null,282,{"$f":"\"00\"&'1-Award Info'!$G$6","v":"00"},"","",1,"",{"$f":"IFERROR(\nIF(VLOOKUP(\"FY\"&RIGHT($EA298,2),'1-Award Info'!$F$28:$G$32,2,0)=0,\n     1,\n     VLOOKUP(\"FY\"&RIGHT($EA298,2),'1-Award Info'!$F$28:$G$32,2,0)),1)","v":1},"",null,""]
[null,null,null,null,null,null,null,null,null,null,null,null,null,null,null,null,null,null,null,null,null,null,null,null,null,null,null,null,null,null,null,null,null,null,null,null,null,null,null,null,null,null,null,null,null,null,null,null,null,null,null,null,null,null,null,null,null,null,null,null,null,null,null,null,null,null,null,null,null,null,null,null,null,null,null,null,null,null,null,null,null,null,null,null,null,null,null,null,null,null,null,null,null,null,null,null,null,null,null,null,null,null,null,null,null,null,null,null,null,null,null,null,null,null,null,null,null,null,null,null,null,null,null,null,null,283,{"$f":"\"00\"&'1-Award Info'!$G$6","v":"00"},"","",1,"",{"$f":"IFERROR(\nIF(VLOOKUP(\"FY\"&RIGHT($EA299,2),'1-Award Info'!$F$28:$G$32,2,0)=0,\n     1,\n     VLOOKUP(\"FY\"&RIGHT($EA299,2),'1-Award Info'!$F$28:$G$32,2,0)),1)","v":1},"",null,""]
[null,null,null,null,null,null,null,null,null,null,null,null,null,null,null,null,null,null,null,null,null,null,null,null,null,null,null,null,null,null,null,null,null,null,null,null,null,null,null,null,null,null,null,null,null,null,null,null,null,null,null,null,null,null,null,null,null,null,null,null,null,null,null,null,null,null,null,null,null,null,null,null,null,null,null,null,null,null,null,null,null,null,null,null,null,null,null,null,null,null,null,null,null,null,null,null,null,null,null,null,null,null,null,null,null,null,null,null,null,null,null,null,null,null,null,null,null,null,null,null,null,null,null,null,null,284,{"$f":"\"00\"&'1-Award Info'!$G$6","v":"00"},"","",1,"",{"$f":"IFERROR(\nIF(VLOOKUP(\"FY\"&RIGHT($EA300,2),'1-Award Info'!$F$28:$G$32,2,0)=0,\n     1,\n     VLOOKUP(\"FY\"&RIGHT($EA300,2),'1-Award Info'!$F$28:$G$32,2,0)),1)","v":1},"",null,""]
[null,null,null,null,null,null,null,null,null,null,null,null,null,null,null,null,null,null,null,null,null,null,null,null,null,null,null,null,null,null,null,null,null,null,null,null,null,null,null,null,null,null,null,null,null,null,null,null,null,null,null,null,null,null,null,null,null,null,null,null,null,null,null,null,null,null,null,null,null,null,null,null,null,null,null,null,null,null,null,null,null,null,null,null,null,null,null,null,null,null,null,null,null,null,null,null,null,null,null,null,null,null,null,null,null,null,null,null,null,null,null,null,null,null,null,null,null,null,null,null,null,null,null,null,null,285,{"$f":"\"00\"&'1-Award Info'!$G$6","v":"00"},"","",1,"",{"$f":"IFERROR(\nIF(VLOOKUP(\"FY\"&RIGHT($EA301,2),'1-Award Info'!$F$28:$G$32,2,0)=0,\n     1,\n     VLOOKUP(\"FY\"&RIGHT($EA301,2),'1-Award Info'!$F$28:$G$32,2,0)),1)","v":1},"",null,""]
[null,null,null,null,null,null,null,null,null,null,null,null,null,null,null,null,null,null,null,null,null,null,null,null,null,null,null,null,null,null,null,null,null,null,null,null,null,null,null,null,null,null,null,null,null,null,null,null,null,null,null,null,null,null,null,null,null,null,null,null,null,null,null,null,null,null,null,null,null,null,null,null,null,null,null,null,null,null,null,null,null,null,null,null,null,null,null,null,null,null,null,null,null,null,null,null,null,null,null,null,null,null,null,null,null,null,null,null,null,null,null,null,null,null,null,null,null,null,null,null,null,null,null,null,null,286,{"$f":"\"00\"&'1-Award Info'!$G$6","v":"00"},"","",1,"",{"$f":"IFERROR(\nIF(VLOOKUP(\"FY\"&RIGHT($EA302,2),'1-Award Info'!$F$28:$G$32,2,0)=0,\n     1,\n     VLOOKUP(\"FY\"&RIGHT($EA302,2),'1-Award Info'!$F$28:$G$32,2,0)),1)","v":1},"",null,""]
[null,null,null,null,null,null,null,null,null,null,null,null,null,null,null,null,null,null,null,null,null,null,null,null,null,null,null,null,null,null,null,null,null,null,null,null,null,null,null,null,null,null,null,null,null,null,null,null,null,null,null,null,null,null,null,null,null,null,null,null,null,null,null,null,null,null,null,null,null,null,null,null,null,null,null,null,null,null,null,null,null,null,null,null,null,null,null,null,null,null,null,null,null,null,null,null,null,null,null,null,null,null,null,null,null,null,null,null,null,null,null,null,null,null,null,null,null,null,null,null,null,null,null,null,null,287,{"$f":"\"00\"&'1-Award Info'!$G$6","v":"00"},"","",1,"",{"$f":"IFERROR(\nIF(VLOOKUP(\"FY\"&RIGHT($EA303,2),'1-Award Info'!$F$28:$G$32,2,0)=0,\n     1,\n     VLOOKUP(\"FY\"&RIGHT($EA303,2),'1-Award Info'!$F$28:$G$32,2,0)),1)","v":1},"",null,""]
[null,null,null,null,null,null,null,null,null,null,null,null,null,null,null,null,null,null,null,null,null,null,null,null,null,null,null,null,null,null,null,null,null,null,null,null,null,null,null,null,null,null,null,null,null,null,null,null,null,null,null,null,null,null,null,null,null,null,null,null,null,null,null,null,null,null,null,null,null,null,null,null,null,null,null,null,null,null,null,null,null,null,null,null,null,null,null,null,null,null,null,null,null,null,null,null,null,null,null,null,null,null,null,null,null,null,null,null,null,null,null,null,null,null,null,null,null,null,null,null,null,null,null,null,null,288,{"$f":"\"00\"&'1-Award Info'!$G$6","v":"00"},"","",1,"",{"$f":"IFERROR(\nIF(VLOOKUP(\"FY\"&RIGHT($EA304,2),'1-Award Info'!$F$28:$G$32,2,0)=0,\n     1,\n     VLOOKUP(\"FY\"&RIGHT($EA304,2),'1-Award Info'!$F$28:$G$32,2,0)),1)","v":1},"",null,""]
[null,null,null,null,null,null,null,null,null,null,null,null,null,null,null,null,null,null,null,null,null,null,null,null,null,null,null,null,null,null,null,null,null,null,null,null,null,null,null,null,null,null,null,null,null,null,null,null,null,null,null,null,null,null,null,null,null,null,null,null,null,null,null,null,null,null,null,null,null,null,null,null,null,null,null,null,null,null,null,null,null,null,null,null,null,null,null,null,null,null,null,null,null,null,null,null,null,null,null,null,null,null,null,null,null,null,null,null,null,null,null,null,null,null,null,null,null,null,null,null,null,null,null,null,null,289,{"$f":"\"00\"&'1-Award Info'!$G$6","v":"00"},"","",1,"",{"$f":"IFERROR(\nIF(VLOOKUP(\"FY\"&RIGHT($EA305,2),'1-Award Info'!$F$28:$G$32,2,0)=0,\n     1,\n     VLOOKUP(\"FY\"&RIGHT($EA305,2),'1-Award Info'!$F$28:$G$32,2,0)),1)","v":1},"",null,""]
[null,null,null,null,null,null,null,null,null,null,null,null,null,null,null,null,null,null,null,null,null,null,null,null,null,null,null,null,null,null,null,null,null,null,null,null,null,null,null,null,null,null,null,null,null,null,null,null,null,null,null,null,null,null,null,null,null,null,null,null,null,null,null,null,null,null,null,null,null,null,null,null,null,null,null,null,null,null,null,null,null,null,null,null,null,null,null,null,null,null,null,null,null,null,null,null,null,null,null,null,null,null,null,null,null,null,null,null,null,null,null,null,null,null,null,null,null,null,null,null,null,null,null,null,null,290,{"$f":"\"00\"&'1-Award Info'!$G$6","v":"00"},"","",1,"",{"$f":"IFERROR(\nIF(VLOOKUP(\"FY\"&RIGHT($EA306,2),'1-Award Info'!$F$28:$G$32,2,0)=0,\n     1,\n     VLOOKUP(\"FY\"&RIGHT($EA306,2),'1-Award Info'!$F$28:$G$32,2,0)),1)","v":1},"",null,""]
[null,null,null,null,null,null,null,null,null,null,null,null,null,null,null,null,null,null,null,null,null,null,null,null,null,null,null,null,null,null,null,null,null,null,null,null,null,null,null,null,null,null,null,null,null,null,null,null,null,null,null,null,null,null,null,null,null,null,null,null,null,null,null,null,null,null,null,null,null,null,null,null,null,null,null,null,null,null,null,null,null,null,null,null,null,null,null,null,null,null,null,null,null,null,null,null,null,null,null,null,null,null,null,null,null,null,null,null,null,null,null,null,null,null,null,null,null,null,null,null,null,null,null,null,null,291,{"$f":"\"00\"&'1-Award Info'!$G$6","v":"00"},"","",1,"",{"$f":"IFERROR(\nIF(VLOOKUP(\"FY\"&RIGHT($EA307,2),'1-Award Info'!$F$28:$G$32,2,0)=0,\n     1,\n     VLOOKUP(\"FY\"&RIGHT($EA307,2),'1-Award Info'!$F$28:$G$32,2,0)),1)","v":1},"",null,""]
[null,null,null,null,null,null,null,null,null,null,null,null,null,null,null,null,null,null,null,null,null,null,null,null,null,null,null,null,null,null,null,null,null,null,null,null,null,null,null,null,null,null,null,null,null,null,null,null,null,null,null,null,null,null,null,null,null,null,null,null,null,null,null,null,null,null,null,null,null,null,null,null,null,null,null,null,null,null,null,null,null,null,null,null,null,null,null,null,null,null,null,null,null,null,null,null,null,null,null,null,null,null,null,null,null,null,null,null,null,null,null,null,null,null,null,null,null,null,null,null,null,null,null,null,null,292,{"$f":"\"00\"&'1-Award Info'!$G$6","v":"00"},"","",1,"",{"$f":"IFERROR(\nIF(VLOOKUP(\"FY\"&RIGHT($EA308,2),'1-Award Info'!$F$28:$G$32,2,0)=0,\n     1,\n     VLOOKUP(\"FY\"&RIGHT($EA308,2),'1-Award Info'!$F$28:$G$32,2,0)),1)","v":1},"",null,""]
[null,null,null,null,null,null,null,null,null,null,null,null,null,null,null,null,null,null,null,null,null,null,null,null,null,null,null,null,null,null,null,null,null,null,null,null,null,null,null,null,null,null,null,null,null,null,null,null,null,null,null,null,null,null,null,null,null,null,null,null,null,null,null,null,null,null,null,null,null,null,null,null,null,null,null,null,null,null,null,null,null,null,null,null,null,null,null,null,null,null,null,null,null,null,null,null,null,null,null,null,null,null,null,null,null,null,null,null,null,null,null,null,null,null,null,null,null,null,null,null,null,null,null,null,null,293,{"$f":"\"00\"&'1-Award Info'!$G$6","v":"00"},"","",1,"",{"$f":"IFERROR(\nIF(VLOOKUP(\"FY\"&RIGHT($EA309,2),'1-Award Info'!$F$28:$G$32,2,0)=0,\n     1,\n     VLOOKUP(\"FY\"&RIGHT($EA309,2),'1-Award Info'!$F$28:$G$32,2,0)),1)","v":1},"",null,""]
[null,null,null,null,null,null,null,null,null,null,null,null,null,null,null,null,null,null,null,null,null,null,null,null,null,null,null,null,null,null,null,null,null,null,null,null,null,null,null,null,null,null,null,null,null,null,null,null,null,null,null,null,null,null,null,null,null,null,null,null,null,null,null,null,null,null,null,null,null,null,null,null,null,null,null,null,null,null,null,null,null,null,null,null,null,null,null,null,null,null,null,null,null,null,null,null,null,null,null,null,null,null,null,null,null,null,null,null,null,null,null,null,null,null,null,null,null,null,null,null,null,null,null,null,null,294,{"$f":"\"00\"&'1-Award Info'!$G$6","v":"00"},"","",1,"",{"$f":"IFERROR(\nIF(VLOOKUP(\"FY\"&RIGHT($EA310,2),'1-Award Info'!$F$28:$G$32,2,0)=0,\n     1,\n     VLOOKUP(\"FY\"&RIGHT($EA310,2),'1-Award Info'!$F$28:$G$32,2,0)),1)","v":1},"",null,""]
[null,null,null,null,null,null,null,null,null,null,null,null,null,null,null,null,null,null,null,null,null,null,null,null,null,null,null,null,null,null,null,null,null,null,null,null,null,null,null,null,null,null,null,null,null,null,null,null,null,null,null,null,null,null,null,null,null,null,null,null,null,null,null,null,null,null,null,null,null,null,null,null,null,null,null,null,null,null,null,null,null,null,null,null,null,null,null,null,null,null,null,null,null,null,null,null,null,null,null,null,null,null,null,null,null,null,null,null,null,null,null,null,null,null,null,null,null,null,null,null,null,null,null,null,null,295,{"$f":"\"00\"&'1-Award Info'!$G$6","v":"00"},"","",1,"",{"$f":"IFERROR(\nIF(VLOOKUP(\"FY\"&RIGHT($EA311,2),'1-Award Info'!$F$28:$G$32,2,0)=0,\n     1,\n     VLOOKUP(\"FY\"&RIGHT($EA311,2),'1-Award Info'!$F$28:$G$32,2,0)),1)","v":1},"",null,""]
[null,null,null,null,null,null,null,null,null,null,null,null,null,null,null,null,null,null,null,null,null,null,null,null,null,null,null,null,null,null,null,null,null,null,null,null,null,null,null,null,null,null,null,null,null,null,null,null,null,null,null,null,null,null,null,null,null,null,null,null,null,null,null,null,null,null,null,null,null,null,null,null,null,null,null,null,null,null,null,null,null,null,null,null,null,null,null,null,null,null,null,null,null,null,null,null,null,null,null,null,null,null,null,null,null,null,null,null,null,null,null,null,null,null,null,null,null,null,null,null,null,null,null,null,null,296,{"$f":"\"00\"&'1-Award Info'!$G$6","v":"00"},"","",1,"",{"$f":"IFERROR(\nIF(VLOOKUP(\"FY\"&RIGHT($EA312,2),'1-Award Info'!$F$28:$G$32,2,0)=0,\n     1,\n     VLOOKUP(\"FY\"&RIGHT($EA312,2),'1-Award Info'!$F$28:$G$32,2,0)),1)","v":1},"",null,""]
[null,null,null,null,null,null,null,null,null,null,null,null,null,null,null,null,null,null,null,null,null,null,null,null,null,null,null,null,null,null,null,null,null,null,null,null,null,null,null,null,null,null,null,null,null,null,null,null,null,null,null,null,null,null,null,null,null,null,null,null,null,null,null,null,null,null,null,null,null,null,null,null,null,null,null,null,null,null,null,null,null,null,null,null,null,null,null,null,null,null,null,null,null,null,null,null,null,null,null,null,null,null,null,null,null,null,null,null,null,null,null,null,null,null,null,null,null,null,null,null,null,null,null,null,null,297,{"$f":"\"00\"&'1-Award Info'!$G$6","v":"00"},"","",1,"",{"$f":"IFERROR(\nIF(VLOOKUP(\"FY\"&RIGHT($EA313,2),'1-Award Info'!$F$28:$G$32,2,0)=0,\n     1,\n     VLOOKUP(\"FY\"&RIGHT($EA313,2),'1-Award Info'!$F$28:$G$32,2,0)),1)","v":1},"",null,""]
[null,null,null,null,null,null,null,null,null,null,null,null,null,null,null,null,null,null,null,null,null,null,null,null,null,null,null,null,null,null,null,null,null,null,null,null,null,null,null,null,null,null,null,null,null,null,null,null,null,null,null,null,null,null,null,null,null,null,null,null,null,null,null,null,null,null,null,null,null,null,null,null,null,null,null,null,null,null,null,null,null,null,null,null,null,null,null,null,null,null,null,null,null,null,null,null,null,null,null,null,null,null,null,null,null,null,null,null,null,null,null,null,null,null,null,null,null,null,null,null,null,null,null,null,null,298,{"$f":"\"00\"&'1-Award Info'!$G$6","v":"00"},"","",1,"",{"$f":"IFERROR(\nIF(VLOOKUP(\"FY\"&RIGHT($EA314,2),'1-Award Info'!$F$28:$G$32,2,0)=0,\n     1,\n     VLOOKUP(\"FY\"&RIGHT($EA314,2),'1-Award Info'!$F$28:$G$32,2,0)),1)","v":1},"",null,""]
[null,null,null,null,null,null,null,null,null,null,null,null,null,null,null,null,null,null,null,null,null,null,null,null,null,null,null,null,null,null,null,null,null,null,null,null,null,null,null,null,null,null,null,null,null,null,null,null,null,null,null,null,null,null,null,null,null,null,null,null,null,null,null,null,null,null,null,null,null,null,null,null,null,null,null,null,null,null,null,null,null,null,null,null,null,null,null,null,null,null,null,null,null,null,null,null,null,null,null,null,null,null,null,null,null,null,null,null,null,null,null,null,null,null,null,null,null,null,null,null,null,null,null,null,null,299,{"$f":"\"00\"&'1-Award Info'!$G$6","v":"00"},"","",1,"",{"$f":"IFERROR(\nIF(VLOOKUP(\"FY\"&RIGHT($EA315,2),'1-Award Info'!$F$28:$G$32,2,0)=0,\n     1,\n     VLOOKUP(\"FY\"&RIGHT($EA315,2),'1-Award Info'!$F$28:$G$32,2,0)),1)","v":1},"",null,""]
[null,null,null,null,null,null,null,null,null,null,null,null,null,null,null,null,null,null,null,null,null,null,null,null,null,null,null,null,null,null,null,null,null,null,null,null,null,null,null,null,null,null,null,null,null,null,null,null,null,null,null,null,null,null,null,null,null,null,null,null,null,null,null,null,null,null,null,null,null,null,null,null,null,null,null,null,null,null,null,null,null,null,null,null,null,null,null,null,null,null,null,null,null,null,null,null,null,null,null,null,null,null,null,null,null,null,null,null,null,null,null,null,null,null,null,null,null,null,null,null,null,null,null,null,null,300,{"$f":"\"00\"&'1-Award Info'!$G$6","v":"00"},"","",1,"",{"$f":"IFERROR(\nIF(VLOOKUP(\"FY\"&RIGHT($EA316,2),'1-Award Info'!$F$28:$G$32,2,0)=0,\n     1,\n     VLOOKUP(\"FY\"&RIGHT($EA316,2),'1-Award Info'!$F$28:$G$32,2,0)),1)","v":1},"",null,""]
[null,null,null,null,null,null,null,null,null,null,null,null,null,null,null,null,null,null,null,null,null,null,null,null,null,null,null,null,null,null,null,null,null,null,null,null,null,null,null,null,null,null,null,null,null,null,null,null,null,null,null,null,null,null,null,null,null,null,null,null,null,null,null,null,null,null,null,null,null,null,null,null,null,null,null,null,null,null,null,null,null,null,null,null,null,null,null,null,null,null,null,null,null,null,null,null,null,null,null,null,null,null,null,null,null,null,null,null,null,null,null,null,null,null,null,null,null,null,null,null,null,null,null,null,null,301,{"$f":"\"00\"&'1-Award Info'!$G$6","v":"00"},"","",1,"",{"$f":"IFERROR(\nIF(VLOOKUP(\"FY\"&RIGHT($EA317,2),'1-Award Info'!$F$28:$G$32,2,0)=0,\n     1,\n     VLOOKUP(\"FY\"&RIGHT($EA317,2),'1-Award Info'!$F$28:$G$32,2,0)),1)","v":1},"",null,""]
[null,null,null,null,null,null,null,null,null,null,null,null,null,null,null,null,null,null,null,null,null,null,null,null,null,null,null,null,null,null,null,null,null,null,null,null,null,null,null,null,null,null,null,null,null,null,null,null,null,null,null,null,null,null,null,null,null,null,null,null,null,null,null,null,null,null,null,null,null,null,null,null,null,null,null,null,null,null,null,null,null,null,null,null,null,null,null,null,null,null,null,null,null,null,null,null,null,null,null,null,null,null,null,null,null,null,null,null,null,null,null,null,null,null,null,null,null,null,null,null,null,null,null,null,null,302,{"$f":"\"00\"&'1-Award Info'!$G$6","v":"00"},"","",1,"",{"$f":"IFERROR(\nIF(VLOOKUP(\"FY\"&RIGHT($EA318,2),'1-Award Info'!$F$28:$G$32,2,0)=0,\n     1,\n     VLOOKUP(\"FY\"&RIGHT($EA318,2),'1-Award Info'!$F$28:$G$32,2,0)),1)","v":1},"",null,""]
[null,null,null,null,null,null,null,null,null,null,null,null,null,null,null,null,null,null,null,null,null,null,null,null,null,null,null,null,null,null,null,null,null,null,null,null,null,null,null,null,null,null,null,null,null,null,null,null,null,null,null,null,null,null,null,null,null,null,null,null,null,null,null,null,null,null,null,null,null,null,null,null,null,null,null,null,null,null,null,null,null,null,null,null,null,null,null,null,null,null,null,null,null,null,null,null,null,null,null,null,null,null,null,null,null,null,null,null,null,null,null,null,null,null,null,null,null,null,null,null,null,null,null,null,null,303,{"$f":"\"00\"&'1-Award Info'!$G$6","v":"00"},"","",1,"",{"$f":"IFERROR(\nIF(VLOOKUP(\"FY\"&RIGHT($EA319,2),'1-Award Info'!$F$28:$G$32,2,0)=0,\n     1,\n     VLOOKUP(\"FY\"&RIGHT($EA319,2),'1-Award Info'!$F$28:$G$32,2,0)),1)","v":1},"",null,""]
[null,null,null,null,null,null,null,null,null,null,null,null,null,null,null,null,null,null,null,null,null,null,null,null,null,null,null,null,null,null,null,null,null,null,null,null,null,null,null,null,null,null,null,null,null,null,null,null,null,null,null,null,null,null,null,null,null,null,null,null,null,null,null,null,null,null,null,null,null,null,null,null,null,null,null,null,null,null,null,null,null,null,null,null,null,null,null,null,null,null,null,null,null,null,null,null,null,null,null,null,null,null,null,null,null,null,null,null,null,null,null,null,null,null,null,null,null,null,null,null,null,null,null,null,null,304,{"$f":"\"00\"&'1-Award Info'!$G$6","v":"00"},"","",1,"",{"$f":"IFERROR(\nIF(VLOOKUP(\"FY\"&RIGHT($EA320,2),'1-Award Info'!$F$28:$G$32,2,0)=0,\n     1,\n     VLOOKUP(\"FY\"&RIGHT($EA320,2),'1-Award Info'!$F$28:$G$32,2,0)),1)","v":1},"",null,""]
[null,null,null,null,null,null,null,null,null,null,null,null,null,null,null,null,null,null,null,null,null,null,null,null,null,null,null,null,null,null,null,null,null,null,null,null,null,null,null,null,null,null,null,null,null,null,null,null,null,null,null,null,null,null,null,null,null,null,null,null,null,null,null,null,null,null,null,null,null,null,null,null,null,null,null,null,null,null,null,null,null,null,null,null,null,null,null,null,null,null,null,null,null,null,null,null,null,null,null,null,null,null,null,null,null,null,null,null,null,null,null,null,null,null,null,null,null,null,null,null,null,null,null,null,null,305,{"$f":"\"00\"&'1-Award Info'!$G$6","v":"00"},"","",1,"",{"$f":"IFERROR(\nIF(VLOOKUP(\"FY\"&RIGHT($EA321,2),'1-Award Info'!$F$28:$G$32,2,0)=0,\n     1,\n     VLOOKUP(\"FY\"&RIGHT($EA321,2),'1-Award Info'!$F$28:$G$32,2,0)),1)","v":1},"",null,""]
[null,null,null,null,null,null,null,null,null,null,null,null,null,null,null,null,null,null,null,null,null,null,null,null,null,null,null,null,null,null,null,null,null,null,null,null,null,null,null,null,null,null,null,null,null,null,null,null,null,null,null,null,null,null,null,null,null,null,null,null,null,null,null,null,null,null,null,null,null,null,null,null,null,null,null,null,null,null,null,null,null,null,null,null,null,null,null,null,null,null,null,null,null,null,null,null,null,null,null,null,null,null,null,null,null,null,null,null,null,null,null,null,null,null,null,null,null,null,null,null,null,null,null,null,null,306,{"$f":"\"00\"&'1-Award Info'!$G$6","v":"00"},"","",1,"",{"$f":"IFERROR(\nIF(VLOOKUP(\"FY\"&RIGHT($EA322,2),'1-Award Info'!$F$28:$G$32,2,0)=0,\n     1,\n     VLOOKUP(\"FY\"&RIGHT($EA322,2),'1-Award Info'!$F$28:$G$32,2,0)),1)","v":1},"",null,""]
[null,null,null,null,null,null,null,null,null,null,null,null,null,null,null,null,null,null,null,null,null,null,null,null,null,null,null,null,null,null,null,null,null,null,null,null,null,null,null,null,null,null,null,null,null,null,null,null,null,null,null,null,null,null,null,null,null,null,null,null,null,null,null,null,null,null,null,null,null,null,null,null,null,null,null,null,null,null,null,null,null,null,null,null,null,null,null,null,null,null,null,null,null,null,null,null,null,null,null,null,null,null,null,null,null,null,null,null,null,null,null,null,null,null,null,null,null,null,null,null,null,null,null,null,null,307,{"$f":"\"00\"&'1-Award Info'!$G$6","v":"00"},"","",1,"",{"$f":"IFERROR(\nIF(VLOOKUP(\"FY\"&RIGHT($EA323,2),'1-Award Info'!$F$28:$G$32,2,0)=0,\n     1,\n     VLOOKUP(\"FY\"&RIGHT($EA323,2),'1-Award Info'!$F$28:$G$32,2,0)),1)","v":1},"",null,""]
[null,null,null,null,null,null,null,null,null,null,null,null,null,null,null,null,null,null,null,null,null,null,null,null,null,null,null,null,null,null,null,null,null,null,null,null,null,null,null,null,null,null,null,null,null,null,null,null,null,null,null,null,null,null,null,null,null,null,null,null,null,null,null,null,null,null,null,null,null,null,null,null,null,null,null,null,null,null,null,null,null,null,null,null,null,null,null,null,null,null,null,null,null,null,null,null,null,null,null,null,null,null,null,null,null,null,null,null,null,null,null,null,null,null,null,null,null,null,null,null,null,null,null,null,null,308,{"$f":"\"00\"&'1-Award Info'!$G$6","v":"00"},"","",1,"",{"$f":"IFERROR(\nIF(VLOOKUP(\"FY\"&RIGHT($EA324,2),'1-Award Info'!$F$28:$G$32,2,0)=0,\n     1,\n     VLOOKUP(\"FY\"&RIGHT($EA324,2),'1-Award Info'!$F$28:$G$32,2,0)),1)","v":1},"",null,""]
[null,null,null,null,null,null,null,null,null,null,null,null,null,null,null,null,null,null,null,null,null,null,null,null,null,null,null,null,null,null,null,null,null,null,null,null,null,null,null,null,null,null,null,null,null,null,null,null,null,null,null,null,null,null,null,null,null,null,null,null,null,null,null,null,null,null,null,null,null,null,null,null,null,null,null,null,null,null,null,null,null,null,null,null,null,null,null,null,null,null,null,null,null,null,null,null,null,null,null,null,null,null,null,null,null,null,null,null,null,null,null,null,null,null,null,null,null,null,null,null,null,null,null,null,null,309,{"$f":"\"00\"&'1-Award Info'!$G$6","v":"00"},"","",1,"",{"$f":"IFERROR(\nIF(VLOOKUP(\"FY\"&RIGHT($EA325,2),'1-Award Info'!$F$28:$G$32,2,0)=0,\n     1,\n     VLOOKUP(\"FY\"&RIGHT($EA325,2),'1-Award Info'!$F$28:$G$32,2,0)),1)","v":1},"",null,""]
[null,null,null,null,null,null,null,null,null,null,null,null,null,null,null,null,null,null,null,null,null,null,null,null,null,null,null,null,null,null,null,null,null,null,null,null,null,null,null,null,null,null,null,null,null,null,null,null,null,null,null,null,null,null,null,null,null,null,null,null,null,null,null,null,null,null,null,null,null,null,null,null,null,null,null,null,null,null,null,null,null,null,null,null,null,null,null,null,null,null,null,null,null,null,null,null,null,null,null,null,null,null,null,null,null,null,null,null,null,null,null,null,null,null,null,null,null,null,null,null,null,null,null,null,null,310,{"$f":"\"00\"&'1-Award Info'!$G$6","v":"00"},"","",1,"",{"$f":"IFERROR(\nIF(VLOOKUP(\"FY\"&RIGHT($EA326,2),'1-Award Info'!$F$28:$G$32,2,0)=0,\n     1,\n     VLOOKUP(\"FY\"&RIGHT($EA326,2),'1-Award Info'!$F$28:$G$32,2,0)),1)","v":1},"",null,""]
[null,null,null,null,null,null,null,null,null,null,null,null,null,null,null,null,null,null,null,null,null,null,null,null,null,null,null,null,null,null,null,null,null,null,null,null,null,null,null,null,null,null,null,null,null,null,null,null,null,null,null,null,null,null,null,null,null,null,null,null,null,null,null,null,null,null,null,null,null,null,null,null,null,null,null,null,null,null,null,null,null,null,null,null,null,null,null,null,null,null,null,null,null,null,null,null,null,null,null,null,null,null,null,null,null,null,null,null,null,null,null,null,null,null,null,null,null,null,null,null,null,null,null,null,null,311,{"$f":"\"00\"&'1-Award Info'!$G$6","v":"00"},"","",1,"",{"$f":"IFERROR(\nIF(VLOOKUP(\"FY\"&RIGHT($EA327,2),'1-Award Info'!$F$28:$G$32,2,0)=0,\n     1,\n     VLOOKUP(\"FY\"&RIGHT($EA327,2),'1-Award Info'!$F$28:$G$32,2,0)),1)","v":1},"",null,""]
[null,null,null,null,null,null,null,null,null,null,null,null,null,null,null,null,null,null,null,null,null,null,null,null,null,null,null,null,null,null,null,null,null,null,null,null,null,null,null,null,null,null,null,null,null,null,null,null,null,null,null,null,null,null,null,null,null,null,null,null,null,null,null,null,null,null,null,null,null,null,null,null,null,null,null,null,null,null,null,null,null,null,null,null,null,null,null,null,null,null,null,null,null,null,null,null,null,null,null,null,null,null,null,null,null,null,null,null,null,null,null,null,null,null,null,null,null,null,null,null,null,null,null,null,null,312,{"$f":"\"00\"&'1-Award Info'!$G$6","v":"00"},{"$f":"IFERROR(IFERROR(IFERROR(IFERROR(IFERROR(LEFT(VLOOKUP($DV328,$AT:$AW,4,0),15),LEFT(VLOOKUP($DV328,$BL:$BO,4,0),15)),LEFT(VLOOKUP($DV328,$CD:$CG,4,0),15)),LEFT(VLOOKUP($DV328,CV:CY,4,0),15)),LEFT(VLOOKUP($DV328,DN:DQ,4,0),15)),\"\")","v":""},{"$f":"IFERROR(IFERROR(IFERROR(IFERROR(IFERROR(RIGHT(VLOOKUP($DV328,$AT:$AW,4,0),5),RIGHT(VLOOKUP($DV328,$BL:$BO,4,0),5)),RIGHT(VLOOKUP($DV328,$CD:$CG,4,0),5)),RIGHT(VLOOKUP($DV328,CV:CY,4,0),5)),RIGHT(VLOOKUP($DV328,DN:DR,4,0),5)),\"\")","v":""},1,{"$f":"IFERROR(IFERROR(IFERROR(IFERROR(IFERROR(VLOOKUP($DV328,$AT:$AZ,7,0),VLOOKUP($DV328,$BL:$BR,7,0)),VLOOKUP($DV328,$CD:$CJ,7,0)),VLOOKUP($DV328,CV:DB,7,0)),VLOOKUP($DV328,DN:DT,7,0)),\"\")","v":""},{"$f":"IFERROR(\nIF(VLOOKUP(\"FY\"&RIGHT($EA328,2),'1-Award Info'!$F$28:$G$32,2,0)=0,\n     1,\n     VLOOKUP(\"FY\"&RIGHT($EA328,2),'1-Award Info'!$F$28:$G$32,2,0)),1)","v":1},{"$f":"IFERROR(IFERROR(IFERROR(IFERROR(IFERROR(VLOOKUP($DV328,$AT:$AZ,5,0),VLOOKUP($DV328,$BL:$BR,5,0)),VLOOKUP($DV328,$CD:$CJ,5,0)),VLOOKUP($DV328,CV:CZ,5,0)),VLOOKUP($DV328,DN:DR,5,0)),\"\")","v":""},null,{"$f":"IFERROR(IFERROR(IFERROR(IFERROR(IFERROR(VLOOKUP($DV328,$AT:$AZ,6,0),VLOOKUP($DV328,$BL:$BR,6,0)),VLOOKUP($DV328,$CD:$CJ,6,0)),VLOOKUP($DV328,CV:DA,6,0)),VLOOKUP($DV328,DN:DS,6,0)),\"\")","v":""}]
[null,null,null,null,null,null,null,null,null,null,null,null,null,null,null,null,null,null,null,null,null,null,null,null,null,null,null,null,null,null,null,null,null,null,null,null,null,null,null,null,null,null,null,null,null,null,null,null,null,null,null,null,null,null,null,null,null,null,null,null,null,null,null,null,null,null,null,null,null,null,null,null,null,null,null,null,null,null,null,null,null,null,null,null,null,null,null,null,null,null,null,null,null,null,null,null,null,null,null,null,null,null,null,null,null,null,null,null,null,null,null,null,null,null,null,null,null,null,null,null,null,null,null,null,null,313,{"$f":"\"00\"&'1-Award Info'!$G$6","v":"00"},"","",1,"",{"$f":"IFERROR(\nIF(VLOOKUP(\"FY\"&RIGHT($EA329,2),'1-Award Info'!$F$28:$G$32,2,0)=0,\n     1,\n     VLOOKUP(\"FY\"&RIGHT($EA329,2),'1-Award Info'!$F$28:$G$32,2,0)),1)","v":1},"",null,""]
[null,null,null,null,null,null,null,null,null,null,null,null,null,null,null,null,null,null,null,null,null,null,null,null,null,null,null,null,null,null,null,null,null,null,null,null,null,null,null,null,null,null,null,null,null,null,null,null,null,null,null,null,null,null,null,null,null,null,null,null,null,null,null,null,null,null,null,null,null,null,null,null,null,null,null,null,null,null,null,null,null,null,null,null,null,null,null,null,null,null,null,null,null,null,null,null,null,null,null,null,null,null,null,null,null,null,null,null,null,null,null,null,null,null,null,null,null,null,null,null,null,null,null,null,null,314,{"$f":"\"00\"&'1-Award Info'!$G$6","v":"00"},"","",1,"",{"$f":"IFERROR(\nIF(VLOOKUP(\"FY\"&RIGHT($EA330,2),'1-Award Info'!$F$28:$G$32,2,0)=0,\n     1,\n     VLOOKUP(\"FY\"&RIGHT($EA330,2),'1-Award Info'!$F$28:$G$32,2,0)),1)","v":1},"",null,""]
[null,null,null,null,null,null,null,null,null,null,null,null,null,null,null,null,null,null,null,null,null,null,null,null,null,null,null,null,null,null,null,null,null,null,null,null,null,null,null,null,null,null,null,null,null,null,null,null,null,null,null,null,null,null,null,null,null,null,null,null,null,null,null,null,null,null,null,null,null,null,null,null,null,null,null,null,null,null,null,null,null,null,null,null,null,null,null,null,null,null,null,null,null,null,null,null,null,null,null,null,null,null,null,null,null,null,null,null,null,null,null,null,null,null,null,null,null,null,null,null,null,null,null,null,null,315,{"$f":"\"00\"&'1-Award Info'!$G$6","v":"00"},"","",1,"",{"$f":"IFERROR(\nIF(VLOOKUP(\"FY\"&RIGHT($EA331,2),'1-Award Info'!$F$28:$G$32,2,0)=0,\n     1,\n     VLOOKUP(\"FY\"&RIGHT($EA331,2),'1-Award Info'!$F$28:$G$32,2,0)),1)","v":1},"",null,""]
[null,null,null,null,null,null,null,null,null,null,null,null,null,null,null,null,null,null,null,null,null,null,null,null,null,null,null,null,null,null,null,null,null,null,null,null,null,null,null,null,null,null,null,null,null,null,null,null,null,null,null,null,null,null,null,null,null,null,null,null,null,null,null,null,null,null,null,null,null,null,null,null,null,null,null,null,null,null,null,null,null,null,null,null,null,null,null,null,null,null,null,null,null,null,null,null,null,null,null,null,null,null,null,null,null,null,null,null,null,null,null,null,null,null,null,null,null,null,null,null,null,null,null,null,null,316,{"$f":"\"00\"&'1-Award Info'!$G$6","v":"00"},"","",1,"",{"$f":"IFERROR(\nIF(VLOOKUP(\"FY\"&RIGHT($EA332,2),'1-Award Info'!$F$28:$G$32,2,0)=0,\n     1,\n     VLOOKUP(\"FY\"&RIGHT($EA332,2),'1-Award Info'!$F$28:$G$32,2,0)),1)","v":1},"",null,""]
[null,null,null,null,null,null,null,null,null,null,null,null,null,null,null,null,null,null,null,null,null,null,null,null,null,null,null,null,null,null,null,null,null,null,null,null,null,null,null,null,null,null,null,null,null,null,null,null,null,null,null,null,null,null,null,null,null,null,null,null,null,null,null,null,null,null,null,null,null,null,null,null,null,null,null,null,null,null,null,null,null,null,null,null,null,null,null,null,null,null,null,null,null,null,null,null,null,null,null,null,null,null,null,null,null,null,null,null,null,null,null,null,null,null,null,null,null,null,null,null,null,null,null,null,null,317,{"$f":"\"00\"&'1-Award Info'!$G$6","v":"00"},"","",1,"",{"$f":"IFERROR(\nIF(VLOOKUP(\"FY\"&RIGHT($EA333,2),'1-Award Info'!$F$28:$G$32,2,0)=0,\n     1,\n     VLOOKUP(\"FY\"&RIGHT($EA333,2),'1-Award Info'!$F$28:$G$32,2,0)),1)","v":1},"",null,""]
[null,null,null,null,null,null,null,null,null,null,null,null,null,null,null,null,null,null,null,null,null,null,null,null,null,null,null,null,null,null,null,null,null,null,null,null,null,null,null,null,null,null,null,null,null,null,null,null,null,null,null,null,null,null,null,null,null,null,null,null,null,null,null,null,null,null,null,null,null,null,null,null,null,null,null,null,null,null,null,null,null,null,null,null,null,null,null,null,null,null,null,null,null,null,null,null,null,null,null,null,null,null,null,null,null,null,null,null,null,null,null,null,null,null,null,null,null,null,null,null,null,null,null,null,null,318,{"$f":"\"00\"&'1-Award Info'!$G$6","v":"00"},"","",1,"",{"$f":"IFERROR(\nIF(VLOOKUP(\"FY\"&RIGHT($EA334,2),'1-Award Info'!$F$28:$G$32,2,0)=0,\n     1,\n     VLOOKUP(\"FY\"&RIGHT($EA334,2),'1-Award Info'!$F$28:$G$32,2,0)),1)","v":1},"",null,""]
[null,null,null,null,null,null,null,null,null,null,null,null,null,null,null,null,null,null,null,null,null,null,null,null,null,null,null,null,null,null,null,null,null,null,null,null,null,null,null,null,null,null,null,null,null,null,null,null,null,null,null,null,null,null,null,null,null,null,null,null,null,null,null,null,null,null,null,null,null,null,null,null,null,null,null,null,null,null,null,null,null,null,null,null,null,null,null,null,null,null,null,null,null,null,null,null,null,null,null,null,null,null,null,null,null,null,null,null,null,null,null,null,null,null,null,null,null,null,null,null,null,null,null,null,null,319,{"$f":"\"00\"&'1-Award Info'!$G$6","v":"00"},"","",1,"",{"$f":"IFERROR(\nIF(VLOOKUP(\"FY\"&RIGHT($EA335,2),'1-Award Info'!$F$28:$G$32,2,0)=0,\n     1,\n     VLOOKUP(\"FY\"&RIGHT($EA335,2),'1-Award Info'!$F$28:$G$32,2,0)),1)","v":1},"",null,""]
[null,null,null,null,null,null,null,null,null,null,null,null,null,null,null,null,null,null,null,null,null,null,null,null,null,null,null,null,null,null,null,null,null,null,null,null,null,null,null,null,null,null,null,null,null,null,null,null,null,null,null,null,null,null,null,null,null,null,null,null,null,null,null,null,null,null,null,null,null,null,null,null,null,null,null,null,null,null,null,null,null,null,null,null,null,null,null,null,null,null,null,null,null,null,null,null,null,null,null,null,null,null,null,null,null,null,null,null,null,null,null,null,null,null,null,null,null,null,null,null,null,null,null,null,null,320,{"$f":"\"00\"&'1-Award Info'!$G$6","v":"00"},"","",1,"",{"$f":"IFERROR(\nIF(VLOOKUP(\"FY\"&RIGHT($EA336,2),'1-Award Info'!$F$28:$G$32,2,0)=0,\n     1,\n     VLOOKUP(\"FY\"&RIGHT($EA336,2),'1-Award Info'!$F$28:$G$32,2,0)),1)","v":1},"",null,""]
[null,null,null,null,null,null,null,null,null,null,null,null,null,null,null,null,null,null,null,null,null,null,null,null,null,null,null,null,null,null,null,null,null,null,null,null,null,null,null,null,null,null,null,null,null,null,null,null,null,null,null,null,null,null,null,null,null,null,null,null,null,null,null,null,null,null,null,null,null,null,null,null,null,null,null,null,null,null,null,null,null,null,null,null,null,null,null,null,null,null,null,null,null,null,null,null,null,null,null,null,null,null,null,null,null,null,null,null,null,null,null,null,null,null,null,null,null,null,null,null,null,null,null,null,null,321,{"$f":"\"00\"&'1-Award Info'!$G$6","v":"00"},"","",1,"",{"$f":"IFERROR(\nIF(VLOOKUP(\"FY\"&RIGHT($EA337,2),'1-Award Info'!$F$28:$G$32,2,0)=0,\n     1,\n     VLOOKUP(\"FY\"&RIGHT($EA337,2),'1-Award Info'!$F$28:$G$32,2,0)),1)","v":1},"",null,""]
[null,null,null,null,null,null,null,null,null,null,null,null,null,null,null,null,null,null,null,null,null,null,null,null,null,null,null,null,null,null,null,null,null,null,null,null,null,null,null,null,null,null,null,null,null,null,null,null,null,null,null,null,null,null,null,null,null,null,null,null,null,null,null,null,null,null,null,null,null,null,null,null,null,null,null,null,null,null,null,null,null,null,null,null,null,null,null,null,null,null,null,null,null,null,null,null,null,null,null,null,null,null,null,null,null,null,null,null,null,null,null,null,null,null,null,null,null,null,null,null,null,null,null,null,null,322,{"$f":"\"00\"&'1-Award Info'!$G$6","v":"00"},"","",1,"",{"$f":"IFERROR(\nIF(VLOOKUP(\"FY\"&RIGHT($EA338,2),'1-Award Info'!$F$28:$G$32,2,0)=0,\n     1,\n     VLOOKUP(\"FY\"&RIGHT($EA338,2),'1-Award Info'!$F$28:$G$32,2,0)),1)","v":1},"",null,""]
[null,null,null,null,null,null,null,null,null,null,null,null,null,null,null,null,null,null,null,null,null,null,null,null,null,null,null,null,null,null,null,null,null,null,null,null,null,null,null,null,null,null,null,null,null,null,null,null,null,null,null,null,null,null,null,null,null,null,null,null,null,null,null,null,null,null,null,null,null,null,null,null,null,null,null,null,null,null,null,null,null,null,null,null,null,null,null,null,null,null,null,null,null,null,null,null,null,null,null,null,null,null,null,null,null,null,null,null,null,null,null,null,null,null,null,null,null,null,null,null,null,null,null,null,null,{"$f":"DV338+1","v":323},{"$f":"\"00\"&'1-Award Info'!$G$6","v":"00"},"","",1,"",{"$f":"IFERROR(\nIF(VLOOKUP(\"FY\"&RIGHT($EA339,2),'1-Award Info'!$F$28:$G$32,2,0)=0,\n     1,\n     VLOOKUP(\"FY\"&RIGHT($EA339,2),'1-Award Info'!$F$28:$G$32,2,0)),1)","v":1},"",null,""]
[null,null,null,null,null,null,null,null,null,null,null,null,null,null,null,null,null,null,null,null,null,null,null,null,null,null,null,null,null,null,null,null,null,null,null,null,null,null,null,null,null,null,null,null,null,null,null,null,null,null,null,null,null,null,null,null,null,null,null,null,null,null,null,null,null,null,null,null,null,null,null,null,null,null,null,null,null,null,null,null,null,null,null,null,null,null,null,null,null,null,null,null,null,null,null,null,null,null,null,null,null,null,null,null,null,null,null,null,null,null,null,null,null,null,null,null,null,null,null,null,null,null,null,null,null,324,{"$f":"\"00\"&'1-Award Info'!$G$6","v":"00"},"","",1,"",{"$f":"IFERROR(\nIF(VLOOKUP(\"FY\"&RIGHT($EA340,2),'1-Award Info'!$F$28:$G$32,2,0)=0,\n     1,\n     VLOOKUP(\"FY\"&RIGHT($EA340,2),'1-Award Info'!$F$28:$G$32,2,0)),1)","v":1},"",null,""]
[null,null,null,null,null,null,null,null,null,null,null,null,null,null,null,null,null,null,null,null,null,null,null,null,null,null,null,null,null,null,null,null,null,null,null,null,null,null,null,null,null,null,null,null,null,null,null,null,null,null,null,null,null,null,null,null,null,null,null,null,null,null,null,null,null,null,null,null,null,null,null,null,null,null,null,null,null,null,null,null,null,null,null,null,null,null,null,null,null,null,null,null,null,null,null,null,null,null,null,null,null,null,null,null,null,null,null,null,null,null,null,null,null,null,null,null,null,null,null,null,null,null,null,null,null,325,{"$f":"\"00\"&'1-Award Info'!$G$6","v":"00"},"","",1,"",{"$f":"IFERROR(\nIF(VLOOKUP(\"FY\"&RIGHT($EA341,2),'1-Award Info'!$F$28:$G$32,2,0)=0,\n     1,\n     VLOOKUP(\"FY\"&RIGHT($EA341,2),'1-Award Info'!$F$28:$G$32,2,0)),1)","v":1},"",null,""]
[null,null,null,null,null,null,null,null,null,null,null,null,null,null,null,null,null,null,null,null,null,null,null,null,null,null,null,null,null,null,null,null,null,null,null,null,null,null,null,null,null,null,null,null,null,null,null,null,null,null,null,null,null,null,null,null,null,null,null,null,null,null,null,null,null,null,null,null,null,null,null,null,null,null,null,null,null,null,null,null,null,null,null,null,null,null,null,null,null,null,null,null,null,null,null,null,null,null,null,null,null,null,null,null,null,null,null,null,null,null,null,null,null,null,null,null,null,null,null,null,null,null,null,null,null,326,{"$f":"\"00\"&'1-Award Info'!$G$6","v":"00"},"","",1,"",{"$f":"IFERROR(\nIF(VLOOKUP(\"FY\"&RIGHT($EA342,2),'1-Award Info'!$F$28:$G$32,2,0)=0,\n     1,\n     VLOOKUP(\"FY\"&RIGHT($EA342,2),'1-Award Info'!$F$28:$G$32,2,0)),1)","v":1},"",null,""]
[null,null,null,null,null,null,null,null,null,null,null,null,null,null,null,null,null,null,null,null,null,null,null,null,null,null,null,null,null,null,null,null,null,null,null,null,null,null,null,null,null,null,null,null,null,null,null,null,null,null,null,null,null,null,null,null,null,null,null,null,null,null,null,null,null,null,null,null,null,null,null,null,null,null,null,null,null,null,null,null,null,null,null,null,null,null,null,null,null,null,null,null,null,null,null,null,null,null,null,null,null,null,null,null,null,null,null,null,null,null,null,null,null,null,null,null,null,null,null,null,null,null,null,null,null,327,{"$f":"\"00\"&'1-Award Info'!$G$6","v":"00"},"","",1,"",{"$f":"IFERROR(\nIF(VLOOKUP(\"FY\"&RIGHT($EA343,2),'1-Award Info'!$F$28:$G$32,2,0)=0,\n     1,\n     VLOOKUP(\"FY\"&RIGHT($EA343,2),'1-Award Info'!$F$28:$G$32,2,0)),1)","v":1},"",null,""]
[null,null,null,null,null,null,null,null,null,null,null,null,null,null,null,null,null,null,null,null,null,null,null,null,null,null,null,null,null,null,null,null,null,null,null,null,null,null,null,null,null,null,null,null,null,null,null,null,null,null,null,null,null,null,null,null,null,null,null,null,null,null,null,null,null,null,null,null,null,null,null,null,null,null,null,null,null,null,null,null,null,null,null,null,null,null,null,null,null,null,null,null,null,null,null,null,null,null,null,null,null,null,null,null,null,null,null,null,null,null,null,null,null,null,null,null,null,null,null,null,null,null,null,null,null,328,{"$f":"\"00\"&'1-Award Info'!$G$6","v":"00"},"","",1,"",{"$f":"IFERROR(\nIF(VLOOKUP(\"FY\"&RIGHT($EA344,2),'1-Award Info'!$F$28:$G$32,2,0)=0,\n     1,\n     VLOOKUP(\"FY\"&RIGHT($EA344,2),'1-Award Info'!$F$28:$G$32,2,0)),1)","v":1},"",null,""]
[null,null,null,null,null,null,null,null,null,null,null,null,null,null,null,null,null,null,null,null,null,null,null,null,null,null,null,null,null,null,null,null,null,null,null,null,null,null,null,null,null,null,null,null,null,null,null,null,null,null,null,null,null,null,null,null,null,null,null,null,null,null,null,null,null,null,null,null,null,null,null,null,null,null,null,null,null,null,null,null,null,null,null,null,null,null,null,null,null,null,null,null,null,null,null,null,null,null,null,null,null,null,null,null,null,null,null,null,null,null,null,null,null,null,null,null,null,null,null,null,null,null,null,null,null,329,{"$f":"\"00\"&'1-Award Info'!$G$6","v":"00"},"","",1,"",{"$f":"IFERROR(\nIF(VLOOKUP(\"FY\"&RIGHT($EA345,2),'1-Award Info'!$F$28:$G$32,2,0)=0,\n     1,\n     VLOOKUP(\"FY\"&RIGHT($EA345,2),'1-Award Info'!$F$28:$G$32,2,0)),1)","v":1},"",null,""]
[null,null,null,null,null,null,null,null,null,null,null,null,null,null,null,null,null,null,null,null,null,null,null,null,null,null,null,null,null,null,null,null,null,null,null,null,null,null,null,null,null,null,null,null,null,null,null,null,null,null,null,null,null,null,null,null,null,null,null,null,null,null,null,null,null,null,null,null,null,null,null,null,null,null,null,null,null,null,null,null,null,null,null,null,null,null,null,null,null,null,null,null,null,null,null,null,null,null,null,null,null,null,null,null,null,null,null,null,null,null,null,null,null,null,null,null,null,null,null,null,null,null,null,null,null,330,{"$f":"\"00\"&'1-Award Info'!$G$6","v":"00"},"","",1,"",{"$f":"IFERROR(\nIF(VLOOKUP(\"FY\"&RIGHT($EA346,2),'1-Award Info'!$F$28:$G$32,2,0)=0,\n     1,\n     VLOOKUP(\"FY\"&RIGHT($EA346,2),'1-Award Info'!$F$28:$G$32,2,0)),1)","v":1},"",null,""]
[null,null,null,null,null,null,null,null,null,null,null,null,null,null,null,null,null,null,null,null,null,null,null,null,null,null,null,null,null,null,null,null,null,null,null,null,null,null,null,null,null,null,null,null,null,null,null,null,null,null,null,null,null,null,null,null,null,null,null,null,null,null,null,null,null,null,null,null,null,null,null,null,null,null,null,null,null,null,null,null,null,null,null,null,null,null,null,null,null,null,null,null,null,null,null,null,null,null,null,null,null,null,null,null,null,null,null,null,null,null,null,null,null,null,null,null,null,null,null,null,null,null,null,null,null,331,{"$f":"\"00\"&'1-Award Info'!$G$6","v":"00"},"","",1,"",{"$f":"IFERROR(\nIF(VLOOKUP(\"FY\"&RIGHT($EA347,2),'1-Award Info'!$F$28:$G$32,2,0)=0,\n     1,\n     VLOOKUP(\"FY\"&RIGHT($EA347,2),'1-Award Info'!$F$28:$G$32,2,0)),1)","v":1},"",null,""]
[null,null,null,null,null,null,null,null,null,null,null,null,null,null,null,null,null,null,null,null,null,null,null,null,null,null,null,null,null,null,null,null,null,null,null,null,null,null,null,null,null,null,null,null,null,null,null,null,null,null,null,null,null,null,null,null,null,null,null,null,null,null,null,null,null,null,null,null,null,null,null,null,null,null,null,null,null,null,null,null,null,null,null,null,null,null,null,null,null,null,null,null,null,null,null,null,null,null,null,null,null,null,null,null,null,null,null,null,null,null,null,null,null,null,null,null,null,null,null,null,null,null,null,null,null,332,{"$f":"\"00\"&'1-Award Info'!$G$6","v":"00"},"","",1,"",{"$f":"IFERROR(\nIF(VLOOKUP(\"FY\"&RIGHT($EA348,2),'1-Award Info'!$F$28:$G$32,2,0)=0,\n     1,\n     VLOOKUP(\"FY\"&RIGHT($EA348,2),'1-Award Info'!$F$28:$G$32,2,0)),1)","v":1},"",null,""]
[null,null,null,null,null,null,null,null,null,null,null,null,null,null,null,null,null,null,null,null,null,null,null,null,null,null,null,null,null,null,null,null,null,null,null,null,null,null,null,null,null,null,null,null,null,null,null,null,null,null,null,null,null,null,null,null,null,null,null,null,null,null,null,null,null,null,null,null,null,null,null,null,null,null,null,null,null,null,null,null,null,null,null,null,null,null,null,null,null,null,null,null,null,null,null,null,null,null,null,null,null,null,null,null,null,null,null,null,null,null,null,null,null,null,null,null,null,null,null,null,null,null,null,null,null,333,{"$f":"\"00\"&'1-Award Info'!$G$6","v":"00"},"","",1,"",{"$f":"IFERROR(\nIF(VLOOKUP(\"FY\"&RIGHT($EA349,2),'1-Award Info'!$F$28:$G$32,2,0)=0,\n     1,\n     VLOOKUP(\"FY\"&RIGHT($EA349,2),'1-Award Info'!$F$28:$G$32,2,0)),1)","v":1},"",null,""]
[null,null,null,null,null,null,null,null,null,null,null,null,null,null,null,null,null,null,null,null,null,null,null,null,null,null,null,null,null,null,null,null,null,null,null,null,null,null,null,null,null,null,null,null,null,null,null,null,null,null,null,null,null,null,null,null,null,null,null,null,null,null,null,null,null,null,null,null,null,null,null,null,null,null,null,null,null,null,null,null,null,null,null,null,null,null,null,null,null,null,null,null,null,null,null,null,null,null,null,null,null,null,null,null,null,null,null,null,null,null,null,null,null,null,null,null,null,null,null,null,null,null,null,null,null,334,{"$f":"\"00\"&'1-Award Info'!$G$6","v":"00"},"","",1,"",{"$f":"IFERROR(\nIF(VLOOKUP(\"FY\"&RIGHT($EA350,2),'1-Award Info'!$F$28:$G$32,2,0)=0,\n     1,\n     VLOOKUP(\"FY\"&RIGHT($EA350,2),'1-Award Info'!$F$28:$G$32,2,0)),1)","v":1},"",null,""]
[null,null,null,null,null,null,null,null,null,null,null,null,null,null,null,null,null,null,null,null,null,null,null,null,null,null,null,null,null,null,null,null,null,null,null,null,null,null,null,null,null,null,null,null,null,null,null,null,null,null,null,null,null,null,null,null,null,null,null,null,null,null,null,null,null,null,null,null,null,null,null,null,null,null,null,null,null,null,null,null,null,null,null,null,null,null,null,null,null,null,null,null,null,null,null,null,null,null,null,null,null,null,null,null,null,null,null,null,null,null,null,null,null,null,null,null,null,null,null,null,null,null,null,null,null,335,{"$f":"\"00\"&'1-Award Info'!$G$6","v":"00"},"","",1,"",{"$f":"IFERROR(\nIF(VLOOKUP(\"FY\"&RIGHT($EA351,2),'1-Award Info'!$F$28:$G$32,2,0)=0,\n     1,\n     VLOOKUP(\"FY\"&RIGHT($EA351,2),'1-Award Info'!$F$28:$G$32,2,0)),1)","v":1},"",null,""]
[null,null,null,null,null,null,null,null,null,null,null,null,null,null,null,null,null,null,null,null,null,null,null,null,null,null,null,null,null,null,null,null,null,null,null,null,null,null,null,null,null,null,null,null,null,null,null,null,null,null,null,null,null,null,null,null,null,null,null,null,null,null,null,null,null,null,null,null,null,null,null,null,null,null,null,null,null,null,null,null,null,null,null,null,null,null,null,null,null,null,null,null,null,null,null,null,null,null,null,null,null,null,null,null,null,null,null,null,null,null,null,null,null,null,null,null,null,null,null,null,null,null,null,null,null,336,{"$f":"\"00\"&'1-Award Info'!$G$6","v":"00"},"","",1,"",{"$f":"IFERROR(\nIF(VLOOKUP(\"FY\"&RIGHT($EA352,2),'1-Award Info'!$F$28:$G$32,2,0)=0,\n     1,\n     VLOOKUP(\"FY\"&RIGHT($EA352,2),'1-Award Info'!$F$28:$G$32,2,0)),1)","v":1},"",null,""]
[null,null,null,null,null,null,null,null,null,null,null,null,null,null,null,null,null,null,null,null,null,null,null,null,null,null,null,null,null,null,null,null,null,null,null,null,null,null,null,null,null,null,null,null,null,null,null,null,null,null,null,null,null,null,null,null,null,null,null,null,null,null,null,null,null,null,null,null,null,null,null,null,null,null,null,null,null,null,null,null,null,null,null,null,null,null,null,null,null,null,null,null,null,null,null,null,null,null,null,null,null,null,null,null,null,null,null,null,null,null,null,null,null,null,null,null,null,null,null,null,null,null,null,null,null,337,{"$f":"\"00\"&'1-Award Info'!$G$6","v":"00"},"","",1,"",{"$f":"IFERROR(\nIF(VLOOKUP(\"FY\"&RIGHT($EA353,2),'1-Award Info'!$F$28:$G$32,2,0)=0,\n     1,\n     VLOOKUP(\"FY\"&RIGHT($EA353,2),'1-Award Info'!$F$28:$G$32,2,0)),1)","v":1},"",null,""]
[null,null,null,null,null,null,null,null,null,null,null,null,null,null,null,null,null,null,null,null,null,null,null,null,null,null,null,null,null,null,null,null,null,null,null,null,null,null,null,null,null,null,null,null,null,null,null,null,null,null,null,null,null,null,null,null,null,null,null,null,null,null,null,null,null,null,null,null,null,null,null,null,null,null,null,null,null,null,null,null,null,null,null,null,null,null,null,null,null,null,null,null,null,null,null,null,null,null,null,null,null,null,null,null,null,null,null,null,null,null,null,null,null,null,null,null,null,null,null,null,null,null,null,null,null,338,{"$f":"\"00\"&'1-Award Info'!$G$6","v":"00"},"","",1,"",{"$f":"IFERROR(\nIF(VLOOKUP(\"FY\"&RIGHT($EA354,2),'1-Award Info'!$F$28:$G$32,2,0)=0,\n     1,\n     VLOOKUP(\"FY\"&RIGHT($EA354,2),'1-Award Info'!$F$28:$G$32,2,0)),1)","v":1},"",null,""]
[null,null,null,null,null,null,null,null,null,null,null,null,null,null,null,null,null,null,null,null,null,null,null,null,null,null,null,null,null,null,null,null,null,null,null,null,null,null,null,null,null,null,null,null,null,null,null,null,null,null,null,null,null,null,null,null,null,null,null,null,null,null,null,null,null,null,null,null,null,null,null,null,null,null,null,null,null,null,null,null,null,null,null,null,null,null,null,null,null,null,null,null,null,null,null,null,null,null,null,null,null,null,null,null,null,null,null,null,null,null,null,null,null,null,null,null,null,null,null,null,null,null,null,null,null,339,{"$f":"\"00\"&'1-Award Info'!$G$6","v":"00"},"","",1,"",{"$f":"IFERROR(\nIF(VLOOKUP(\"FY\"&RIGHT($EA355,2),'1-Award Info'!$F$28:$G$32,2,0)=0,\n     1,\n     VLOOKUP(\"FY\"&RIGHT($EA355,2),'1-Award Info'!$F$28:$G$32,2,0)),1)","v":1},"",null,""]
[null,null,null,null,null,null,null,null,null,null,null,null,null,null,null,null,null,null,null,null,null,null,null,null,null,null,null,null,null,null,null,null,null,null,null,null,null,null,null,null,null,null,null,null,null,null,null,null,null,null,null,null,null,null,null,null,null,null,null,null,null,null,null,null,null,null,null,null,null,null,null,null,null,null,null,null,null,null,null,null,null,null,null,null,null,null,null,null,null,null,null,null,null,null,null,null,null,null,null,null,null,null,null,null,null,null,null,null,null,null,null,null,null,null,null,null,null,null,null,null,null,null,null,null,null,340,{"$f":"\"00\"&'1-Award Info'!$G$6","v":"00"},"","",1,"",{"$f":"IFERROR(\nIF(VLOOKUP(\"FY\"&RIGHT($EA356,2),'1-Award Info'!$F$28:$G$32,2,0)=0,\n     1,\n     VLOOKUP(\"FY\"&RIGHT($EA356,2),'1-Award Info'!$F$28:$G$32,2,0)),1)","v":1},"",null,""]
[null,null,null,null,null,null,null,null,null,null,null,null,null,null,null,null,null,null,null,null,null,null,null,null,null,null,null,null,null,null,null,null,null,null,null,null,null,null,null,null,null,null,null,null,null,null,null,null,null,null,null,null,null,null,null,null,null,null,null,null,null,null,null,null,null,null,null,null,null,null,null,null,null,null,null,null,null,null,null,null,null,null,null,null,null,null,null,null,null,null,null,null,null,null,null,null,null,null,null,null,null,null,null,null,null,null,null,null,null,null,null,null,null,null,null,null,null,null,null,null,null,null,null,null,null,341,{"$f":"\"00\"&'1-Award Info'!$G$6","v":"00"},"","",1,"",{"$f":"IFERROR(\nIF(VLOOKUP(\"FY\"&RIGHT($EA357,2),'1-Award Info'!$F$28:$G$32,2,0)=0,\n     1,\n     VLOOKUP(\"FY\"&RIGHT($EA357,2),'1-Award Info'!$F$28:$G$32,2,0)),1)","v":1},"",null,""]
[null,null,null,null,null,null,null,null,null,null,null,null,null,null,null,null,null,null,null,null,null,null,null,null,null,null,null,null,null,null,null,null,null,null,null,null,null,null,null,null,null,null,null,null,null,null,null,null,null,null,null,null,null,null,null,null,null,null,null,null,null,null,null,null,null,null,null,null,null,null,null,null,null,null,null,null,null,null,null,null,null,null,null,null,null,null,null,null,null,null,null,null,null,null,null,null,null,null,null,null,null,null,null,null,null,null,null,null,null,null,null,null,null,null,null,null,null,null,null,null,null,null,null,null,null,342,{"$f":"\"00\"&'1-Award Info'!$G$6","v":"00"},"","",1,"",{"$f":"IFERROR(\nIF(VLOOKUP(\"FY\"&RIGHT($EA358,2),'1-Award Info'!$F$28:$G$32,2,0)=0,\n     1,\n     VLOOKUP(\"FY\"&RIGHT($EA358,2),'1-Award Info'!$F$28:$G$32,2,0)),1)","v":1},"",null,""]
[null,null,null,null,null,null,null,null,null,null,null,null,null,null,null,null,null,null,null,null,null,null,null,null,null,null,null,null,null,null,null,null,null,null,null,null,null,null,null,null,null,null,null,null,null,null,null,null,null,null,null,null,null,null,null,null,null,null,null,null,null,null,null,null,null,null,null,null,null,null,null,null,null,null,null,null,null,null,null,null,null,null,null,null,null,null,null,null,null,null,null,null,null,null,null,null,null,null,null,null,null,null,null,null,null,null,null,null,null,null,null,null,null,null,null,null,null,null,null,null,null,null,null,null,null,343,{"$f":"\"00\"&'1-Award Info'!$G$6","v":"00"},"","",1,"",{"$f":"IFERROR(\nIF(VLOOKUP(\"FY\"&RIGHT($EA359,2),'1-Award Info'!$F$28:$G$32,2,0)=0,\n     1,\n     VLOOKUP(\"FY\"&RIGHT($EA359,2),'1-Award Info'!$F$28:$G$32,2,0)),1)","v":1},"",null,""]
[null,null,null,null,null,null,null,null,null,null,null,null,null,null,null,null,null,null,null,null,null,null,null,null,null,null,null,null,null,null,null,null,null,null,null,null,null,null,null,null,null,null,null,null,null,null,null,null,null,null,null,null,null,null,null,null,null,null,null,null,null,null,null,null,null,null,null,null,null,null,null,null,null,null,null,null,null,null,null,null,null,null,null,null,null,null,null,null,null,null,null,null,null,null,null,null,null,null,null,null,null,null,null,null,null,null,null,null,null,null,null,null,null,null,null,null,null,null,null,null,null,null,null,null,null,344,{"$f":"\"00\"&'1-Award Info'!$G$6","v":"00"},"","",1,"",{"$f":"IFERROR(\nIF(VLOOKUP(\"FY\"&RIGHT($EA360,2),'1-Award Info'!$F$28:$G$32,2,0)=0,\n     1,\n     VLOOKUP(\"FY\"&RIGHT($EA360,2),'1-Award Info'!$F$28:$G$32,2,0)),1)","v":1},"",null,""]
[null,null,null,null,null,null,null,null,null,null,null,null,null,null,null,null,null,null,null,null,null,null,null,null,null,null,null,null,null,null,null,null,null,null,null,null,null,null,null,null,null,null,null,null,null,null,null,null,null,null,null,null,null,null,null,null,null,null,null,null,null,null,null,null,null,null,null,null,null,null,null,null,null,null,null,null,null,null,null,null,null,null,null,null,null,null,null,null,null,null,null,null,null,null,null,null,null,null,null,null,null,null,null,null,null,null,null,null,null,null,null,null,null,null,null,null,null,null,null,null,null,null,null,null,null,345,{"$f":"\"00\"&'1-Award Info'!$G$6","v":"00"},"","",1,"",{"$f":"IFERROR(\nIF(VLOOKUP(\"FY\"&RIGHT($EA361,2),'1-Award Info'!$F$28:$G$32,2,0)=0,\n     1,\n     VLOOKUP(\"FY\"&RIGHT($EA361,2),'1-Award Info'!$F$28:$G$32,2,0)),1)","v":1},"",null,""]
[null,null,null,null,null,null,null,null,null,null,null,null,null,null,null,null,null,null,null,null,null,null,null,null,null,null,null,null,null,null,null,null,null,null,null,null,null,null,null,null,null,null,null,null,null,null,null,null,null,null,null,null,null,null,null,null,null,null,null,null,null,null,null,null,null,null,null,null,null,null,null,null,null,null,null,null,null,null,null,null,null,null,null,null,null,null,null,null,null,null,null,null,null,null,null,null,null,null,null,null,null,null,null,null,null,null,null,null,null,null,null,null,null,null,null,null,null,null,null,null,null,null,null,null,null,346,{"$f":"\"00\"&'1-Award Info'!$G$6","v":"00"},"","",1,"",{"$f":"IFERROR(\nIF(VLOOKUP(\"FY\"&RIGHT($EA362,2),'1-Award Info'!$F$28:$G$32,2,0)=0,\n     1,\n     VLOOKUP(\"FY\"&RIGHT($EA362,2),'1-Award Info'!$F$28:$G$32,2,0)),1)","v":1},"",null,""]
[null,null,null,null,null,null,null,null,null,null,null,null,null,null,null,null,null,null,null,null,null,null,null,null,null,null,null,null,null,null,null,null,null,null,null,null,null,null,null,null,null,null,null,null,null,null,null,null,null,null,null,null,null,null,null,null,null,null,null,null,null,null,null,null,null,null,null,null,null,null,null,null,null,null,null,null,null,null,null,null,null,null,null,null,null,null,null,null,null,null,null,null,null,null,null,null,null,null,null,null,null,null,null,null,null,null,null,null,null,null,null,null,null,null,null,null,null,null,null,null,null,null,null,null,null,347,{"$f":"\"00\"&'1-Award Info'!$G$6","v":"00"},"","",1,"",{"$f":"IFERROR(\nIF(VLOOKUP(\"FY\"&RIGHT($EA363,2),'1-Award Info'!$F$28:$G$32,2,0)=0,\n     1,\n     VLOOKUP(\"FY\"&RIGHT($EA363,2),'1-Award Info'!$F$28:$G$32,2,0)),1)","v":1},"",null,""]
[null,null,null,null,null,null,null,null,null,null,null,null,null,null,null,null,null,null,null,null,null,null,null,null,null,null,null,null,null,null,null,null,null,null,null,null,null,null,null,null,null,null,null,null,null,null,null,null,null,null,null,null,null,null,null,null,null,null,null,null,null,null,null,null,null,null,null,null,null,null,null,null,null,null,null,null,null,null,null,null,null,null,null,null,null,null,null,null,null,null,null,null,null,null,null,null,null,null,null,null,null,null,null,null,null,null,null,null,null,null,null,null,null,null,null,null,null,null,null,null,null,null,null,null,null,348,{"$f":"\"00\"&'1-Award Info'!$G$6","v":"00"},"","",1,"",{"$f":"IFERROR(\nIF(VLOOKUP(\"FY\"&RIGHT($EA364,2),'1-Award Info'!$F$28:$G$32,2,0)=0,\n     1,\n     VLOOKUP(\"FY\"&RIGHT($EA364,2),'1-Award Info'!$F$28:$G$32,2,0)),1)","v":1},"",null,""]
[null,null,null,null,null,null,null,null,null,null,null,null,null,null,null,null,null,null,null,null,null,null,null,null,null,null,null,null,null,null,null,null,null,null,null,null,null,null,null,null,null,null,null,null,null,null,null,null,null,null,null,null,null,null,null,null,null,null,null,null,null,null,null,null,null,null,null,null,null,null,null,null,null,null,null,null,null,null,null,null,null,null,null,null,null,null,null,null,null,null,null,null,null,null,null,null,null,null,null,null,null,null,null,null,null,null,null,null,null,null,null,null,null,null,null,null,null,null,null,null,null,null,null,null,null,349,{"$f":"\"00\"&'1-Award Info'!$G$6","v":"00"},"","",1,"",{"$f":"IFERROR(\nIF(VLOOKUP(\"FY\"&RIGHT($EA365,2),'1-Award Info'!$F$28:$G$32,2,0)=0,\n     1,\n     VLOOKUP(\"FY\"&RIGHT($EA365,2),'1-Award Info'!$F$28:$G$32,2,0)),1)","v":1},"",null,""]
[null,null,null,null,null,null,null,null,null,null,null,null,null,null,null,null,null,null,null,null,null,null,null,null,null,null,null,null,null,null,null,null,null,null,null,null,null,null,null,null,null,null,null,null,null,null,null,null,null,null,null,null,null,null,null,null,null,null,null,null,null,null,null,null,null,null,null,null,null,null,null,null,null,null,null,null,null,null,null,null,null,null,null,null,null,null,null,null,null,null,null,null,null,null,null,null,null,null,null,null,null,null,null,null,null,null,null,null,null,null,null,null,null,null,null,null,null,null,null,null,null,null,null,null,null,350,{"$f":"\"00\"&'1-Award Info'!$G$6","v":"00"},"","",1,"",{"$f":"IFERROR(\nIF(VLOOKUP(\"FY\"&RIGHT($EA366,2),'1-Award Info'!$F$28:$G$32,2,0)=0,\n     1,\n     VLOOKUP(\"FY\"&RIGHT($EA366,2),'1-Award Info'!$F$28:$G$32,2,0)),1)","v":1},"",null,""]
[null,null,null,null,null,null,null,null,null,null,null,null,null,null,null,null,null,null,null,null,null,null,null,null,null,null,null,null,null,null,null,null,null,null,null,null,null,null,null,null,null,null,null,null,null,null,null,null,null,null,null,null,null,null,null,null,null,null,null,null,null,null,null,null,null,null,null,null,null,null,null,null,null,null,null,null,null,null,null,null,null,null,null,null,null,null,null,null,null,null,null,null,null,null,null,null,null,null,null,null,null,null,null,null,null,null,null,null,null,null,null,null,null,null,null,null,null,null,null,null,null,null,null,null,null,351,{"$f":"\"00\"&'1-Award Info'!$G$6","v":"00"},"","",1,"",{"$f":"IFERROR(\nIF(VLOOKUP(\"FY\"&RIGHT($EA367,2),'1-Award Info'!$F$28:$G$32,2,0)=0,\n     1,\n     VLOOKUP(\"FY\"&RIGHT($EA367,2),'1-Award Info'!$F$28:$G$32,2,0)),1)","v":1},"",null,""]
[null,null,null,null,null,null,null,null,null,null,null,null,null,null,null,null,null,null,null,null,null,null,null,null,null,null,null,null,null,null,null,null,null,null,null,null,null,null,null,null,null,null,null,null,null,null,null,null,null,null,null,null,null,null,null,null,null,null,null,null,null,null,null,null,null,null,null,null,null,null,null,null,null,null,null,null,null,null,null,null,null,null,null,null,null,null,null,null,null,null,null,null,null,null,null,null,null,null,null,null,null,null,null,null,null,null,null,null,null,null,null,null,null,null,null,null,null,null,null,null,null,null,null,null,null,352,{"$f":"\"00\"&'1-Award Info'!$G$6","v":"00"},"","",1,"",{"$f":"IFERROR(\nIF(VLOOKUP(\"FY\"&RIGHT($EA368,2),'1-Award Info'!$F$28:$G$32,2,0)=0,\n     1,\n     VLOOKUP(\"FY\"&RIGHT($EA368,2),'1-Award Info'!$F$28:$G$32,2,0)),1)","v":1},"",null,""]
[null,null,null,null,null,null,null,null,null,null,null,null,null,null,null,null,null,null,null,null,null,null,null,null,null,null,null,null,null,null,null,null,null,null,null,null,null,null,null,null,null,null,null,null,null,null,null,null,null,null,null,null,null,null,null,null,null,null,null,null,null,null,null,null,null,null,null,null,null,null,null,null,null,null,null,null,null,null,null,null,null,null,null,null,null,null,null,null,null,null,null,null,null,null,null,null,null,null,null,null,null,null,null,null,null,null,null,null,null,null,null,null,null,null,null,null,null,null,null,null,null,null,null,null,null,353,{"$f":"\"00\"&'1-Award Info'!$G$6","v":"00"},"","",1,"",{"$f":"IFERROR(\nIF(VLOOKUP(\"FY\"&RIGHT($EA369,2),'1-Award Info'!$F$28:$G$32,2,0)=0,\n     1,\n     VLOOKUP(\"FY\"&RIGHT($EA369,2),'1-Award Info'!$F$28:$G$32,2,0)),1)","v":1},"",null,""]
[null,null,null,null,null,null,null,null,null,null,null,null,null,null,null,null,null,null,null,null,null,null,null,null,null,null,null,null,null,null,null,null,null,null,null,null,null,null,null,null,null,null,null,null,null,null,null,null,null,null,null,null,null,null,null,null,null,null,null,null,null,null,null,null,null,null,null,null,null,null,null,null,null,null,null,null,null,null,null,null,null,null,null,null,null,null,null,null,null,null,null,null,null,null,null,null,null,null,null,null,null,null,null,null,null,null,null,null,null,null,null,null,null,null,null,null,null,null,null,null,null,null,null,null,null,354,{"$f":"\"00\"&'1-Award Info'!$G$6","v":"00"},"","",1,"",{"$f":"IFERROR(\nIF(VLOOKUP(\"FY\"&RIGHT($EA370,2),'1-Award Info'!$F$28:$G$32,2,0)=0,\n     1,\n     VLOOKUP(\"FY\"&RIGHT($EA370,2),'1-Award Info'!$F$28:$G$32,2,0)),1)","v":1},"",null,""]
[null,null,null,null,null,null,null,null,null,null,null,null,null,null,null,null,null,null,null,null,null,null,null,null,null,null,null,null,null,null,null,null,null,null,null,null,null,null,null,null,null,null,null,null,null,null,null,null,null,null,null,null,null,null,null,null,null,null,null,null,null,null,null,null,null,null,null,null,null,null,null,null,null,null,null,null,null,null,null,null,null,null,null,null,null,null,null,null,null,null,null,null,null,null,null,null,null,null,null,null,null,null,null,null,null,null,null,null,null,null,null,null,null,null,null,null,null,null,null,null,null,null,null,null,null,355,{"$f":"\"00\"&'1-Award Info'!$G$6","v":"00"},"","",1,"",{"$f":"IFERROR(\nIF(VLOOKUP(\"FY\"&RIGHT($EA371,2),'1-Award Info'!$F$28:$G$32,2,0)=0,\n     1,\n     VLOOKUP(\"FY\"&RIGHT($EA371,2),'1-Award Info'!$F$28:$G$32,2,0)),1)","v":1},"",null,""]
[null,null,null,null,null,null,null,null,null,null,null,null,null,null,null,null,null,null,null,null,null,null,null,null,null,null,null,null,null,null,null,null,null,null,null,null,null,null,null,null,null,null,null,null,null,null,null,null,null,null,null,null,null,null,null,null,null,null,null,null,null,null,null,null,null,null,null,null,null,null,null,null,null,null,null,null,null,null,null,null,null,null,null,null,null,null,null,null,null,null,null,null,null,null,null,null,null,null,null,null,null,null,null,null,null,null,null,null,null,null,null,null,null,null,null,null,null,null,null,null,null,null,null,null,null,356,{"$f":"\"00\"&'1-Award Info'!$G$6","v":"00"},"","",1,"",{"$f":"IFERROR(\nIF(VLOOKUP(\"FY\"&RIGHT($EA372,2),'1-Award Info'!$F$28:$G$32,2,0)=0,\n     1,\n     VLOOKUP(\"FY\"&RIGHT($EA372,2),'1-Award Info'!$F$28:$G$32,2,0)),1)","v":1},"",null,""]
[null,null,null,null,null,null,null,null,null,null,null,null,null,null,null,null,null,null,null,null,null,null,null,null,null,null,null,null,null,null,null,null,null,null,null,null,null,null,null,null,null,null,null,null,null,null,null,null,null,null,null,null,null,null,null,null,null,null,null,null,null,null,null,null,null,null,null,null,null,null,null,null,null,null,null,null,null,null,null,null,null,null,null,null,null,null,null,null,null,null,null,null,null,null,null,null,null,null,null,null,null,null,null,null,null,null,null,null,null,null,null,null,null,null,null,null,null,null,null,null,null,null,null,null,null,357,{"$f":"\"00\"&'1-Award Info'!$G$6","v":"00"},"","",1,"",{"$f":"IFERROR(\nIF(VLOOKUP(\"FY\"&RIGHT($EA373,2),'1-Award Info'!$F$28:$G$32,2,0)=0,\n     1,\n     VLOOKUP(\"FY\"&RIGHT($EA373,2),'1-Award Info'!$F$28:$G$32,2,0)),1)","v":1},"",null,""]
[null,null,null,null,null,null,null,null,null,null,null,null,null,null,null,null,null,null,null,null,null,null,null,null,null,null,null,null,null,null,null,null,null,null,null,null,null,null,null,null,null,null,null,null,null,null,null,null,null,null,null,null,null,null,null,null,null,null,null,null,null,null,null,null,null,null,null,null,null,null,null,null,null,null,null,null,null,null,null,null,null,null,null,null,null,null,null,null,null,null,null,null,null,null,null,null,null,null,null,null,null,null,null,null,null,null,null,null,null,null,null,null,null,null,null,null,null,null,null,null,null,null,null,null,null,358,{"$f":"\"00\"&'1-Award Info'!$G$6","v":"00"},"","",1,"",{"$f":"IFERROR(\nIF(VLOOKUP(\"FY\"&RIGHT($EA374,2),'1-Award Info'!$F$28:$G$32,2,0)=0,\n     1,\n     VLOOKUP(\"FY\"&RIGHT($EA374,2),'1-Award Info'!$F$28:$G$32,2,0)),1)","v":1},"",null,""]
[null,null,null,null,null,null,null,null,null,null,null,null,null,null,null,null,null,null,null,null,null,null,null,null,null,null,null,null,null,null,null,null,null,null,null,null,null,null,null,null,null,null,null,null,null,null,null,null,null,null,null,null,null,null,null,null,null,null,null,null,null,null,null,null,null,null,null,null,null,null,null,null,null,null,null,null,null,null,null,null,null,null,null,null,null,null,null,null,null,null,null,null,null,null,null,null,null,null,null,null,null,null,null,null,null,null,null,null,null,null,null,null,null,null,null,null,null,null,null,null,null,null,null,null,null,359,{"$f":"\"00\"&'1-Award Info'!$G$6","v":"00"},"","",1,"",{"$f":"IFERROR(\nIF(VLOOKUP(\"FY\"&RIGHT($EA375,2),'1-Award Info'!$F$28:$G$32,2,0)=0,\n     1,\n     VLOOKUP(\"FY\"&RIGHT($EA375,2),'1-Award Info'!$F$28:$G$32,2,0)),1)","v":1},"",null,""]
[null,null,null,null,null,null,null,null,null,null,null,null,null,null,null,null,null,null,null,null,null,null,null,null,null,null,null,null,null,null,null,null,null,null,null,null,null,null,null,null,null,null,null,null,null,null,null,null,null,null,null,null,null,null,null,null,null,null,null,null,null,null,null,null,null,null,null,null,null,null,null,null,null,null,null,null,null,null,null,null,null,null,null,null,null,null,null,null,null,null,null,null,null,null,null,null,null,null,null,null,null,null,null,null,null,null,null,null,null,null,null,null,null,null,null,null,null,null,null,null,null,null,null,null,null,360,{"$f":"\"00\"&'1-Award Info'!$G$6","v":"00"},"","",1,"",{"$f":"IFERROR(\nIF(VLOOKUP(\"FY\"&RIGHT($EA376,2),'1-Award Info'!$F$28:$G$32,2,0)=0,\n     1,\n     VLOOKUP(\"FY\"&RIGHT($EA376,2),'1-Award Info'!$F$28:$G$32,2,0)),1)","v":1},"",null,""]
[null,null,null,null,null,null,null,null,null,null,null,null,null,null,null,null,null,null,null,null,null,null,null,null,null,null,null,null,null,null,null,null,null,null,null,null,null,null,null,null,null,null,null,null,null,null,null,null,null,null,null,null,null,null,null,null,null,null,null,null,null,null,null,null,null,null,null,null,null,null,null,null,null,null,null,null,null,null,null,null,null,null,null,null,null,null,null,null,null,null,null,null,null,null,null,null,null,null,null,null,null,null,null,null,null,null,null,null,null,null,null,null,null,null,null,null,null,null,null,null,null,null,null,null,null,361,{"$f":"\"00\"&'1-Award Info'!$G$6","v":"00"},"","",1,"",{"$f":"IFERROR(\nIF(VLOOKUP(\"FY\"&RIGHT($EA377,2),'1-Award Info'!$F$28:$G$32,2,0)=0,\n     1,\n     VLOOKUP(\"FY\"&RIGHT($EA377,2),'1-Award Info'!$F$28:$G$32,2,0)),1)","v":1},"",null,""]
[null,null,null,null,null,null,null,null,null,null,null,null,null,null,null,null,null,null,null,null,null,null,null,null,null,null,null,null,null,null,null,null,null,null,null,null,null,null,null,null,null,null,null,null,null,null,null,null,null,null,null,null,null,null,null,null,null,null,null,null,null,null,null,null,null,null,null,null,null,null,null,null,null,null,null,null,null,null,null,null,null,null,null,null,null,null,null,null,null,null,null,null,null,null,null,null,null,null,null,null,null,null,null,null,null,null,null,null,null,null,null,null,null,null,null,null,null,null,null,null,null,null,null,null,null,362,{"$f":"\"00\"&'1-Award Info'!$G$6","v":"00"},"","",1,"",{"$f":"IFERROR(\nIF(VLOOKUP(\"FY\"&RIGHT($EA378,2),'1-Award Info'!$F$28:$G$32,2,0)=0,\n     1,\n     VLOOKUP(\"FY\"&RIGHT($EA378,2),'1-Award Info'!$F$28:$G$32,2,0)),1)","v":1},"",null,""]
[null,null,null,null,null,null,null,null,null,null,null,null,null,null,null,null,null,null,null,null,null,null,null,null,null,null,null,null,null,null,null,null,null,null,null,null,null,null,null,null,null,null,null,null,null,null,null,null,null,null,null,null,null,null,null,null,null,null,null,null,null,null,null,null,null,null,null,null,null,null,null,null,null,null,null,null,null,null,null,null,null,null,null,null,null,null,null,null,null,null,null,null,null,null,null,null,null,null,null,null,null,null,null,null,null,null,null,null,null,null,null,null,null,null,null,null,null,null,null,null,null,null,null,null,null,363,{"$f":"\"00\"&'1-Award Info'!$G$6","v":"00"},"","",1,"",{"$f":"IFERROR(\nIF(VLOOKUP(\"FY\"&RIGHT($EA379,2),'1-Award Info'!$F$28:$G$32,2,0)=0,\n     1,\n     VLOOKUP(\"FY\"&RIGHT($EA379,2),'1-Award Info'!$F$28:$G$32,2,0)),1)","v":1},"",null,""]
[null,null,null,null,null,null,null,null,null,null,null,null,null,null,null,null,null,null,null,null,null,null,null,null,null,null,null,null,null,null,null,null,null,null,null,null,null,null,null,null,null,null,null,null,null,null,null,null,null,null,null,null,null,null,null,null,null,null,null,null,null,null,null,null,null,null,null,null,null,null,null,null,null,null,null,null,null,null,null,null,null,null,null,null,null,null,null,null,null,null,null,null,null,null,null,null,null,null,null,null,null,null,null,null,null,null,null,null,null,null,null,null,null,null,null,null,null,null,null,null,null,null,null,null,null,364,{"$f":"\"00\"&'1-Award Info'!$G$6","v":"00"},"","",1,"",{"$f":"IFERROR(\nIF(VLOOKUP(\"FY\"&RIGHT($EA380,2),'1-Award Info'!$F$28:$G$32,2,0)=0,\n     1,\n     VLOOKUP(\"FY\"&RIGHT($EA380,2),'1-Award Info'!$F$28:$G$32,2,0)),1)","v":1},"",null,""]
[null,null,null,null,null,null,null,null,null,null,null,null,null,null,null,null,null,null,null,null,null,null,null,null,null,null,null,null,null,null,null,null,null,null,null,null,null,null,null,null,null,null,null,null,null,null,null,null,null,null,null,null,null,null,null,null,null,null,null,null,null,null,null,null,null,null,null,null,null,null,null,null,null,null,null,null,null,null,null,null,null,null,null,null,null,null,null,null,null,null,null,null,null,null,null,null,null,null,null,null,null,null,null,null,null,null,null,null,null,null,null,null,null,null,null,null,null,null,null,null,null,null,null,null,null,365,{"$f":"\"00\"&'1-Award Info'!$G$6","v":"00"},"","",1,"",{"$f":"IFERROR(\nIF(VLOOKUP(\"FY\"&RIGHT($EA381,2),'1-Award Info'!$F$28:$G$32,2,0)=0,\n     1,\n     VLOOKUP(\"FY\"&RIGHT($EA381,2),'1-Award Info'!$F$28:$G$32,2,0)),1)","v":1},"",null,""]
[null,null,null,null,null,null,null,null,null,null,null,null,null,null,null,null,null,null,null,null,null,null,null,null,null,null,null,null,null,null,null,null,null,null,null,null,null,null,null,null,null,null,null,null,null,null,null,null,null,null,null,null,null,null,null,null,null,null,null,null,null,null,null,null,null,null,null,null,null,null,null,null,null,null,null,null,null,null,null,null,null,null,null,null,null,null,null,null,null,null,null,null,null,null,null,null,null,null,null,null,null,null,null,null,null,null,null,null,null,null,null,null,null,null,null,null,null,null,null,null,null,null,null,null,null,366,{"$f":"\"00\"&'1-Award Info'!$G$6","v":"00"},"","",1,"",{"$f":"IFERROR(\nIF(VLOOKUP(\"FY\"&RIGHT($EA382,2),'1-Award Info'!$F$28:$G$32,2,0)=0,\n     1,\n     VLOOKUP(\"FY\"&RIGHT($EA382,2),'1-Award Info'!$F$28:$G$32,2,0)),1)","v":1},"",null,""]
[null,null,null,null,null,null,null,null,null,null,null,null,null,null,null,null,null,null,null,null,null,null,null,null,null,null,null,null,null,null,null,null,null,null,null,null,null,null,null,null,null,null,null,null,null,null,null,null,null,null,null,null,null,null,null,null,null,null,null,null,null,null,null,null,null,null,null,null,null,null,null,null,null,null,null,null,null,null,null,null,null,null,null,null,null,null,null,null,null,null,null,null,null,null,null,null,null,null,null,null,null,null,null,null,null,null,null,null,null,null,null,null,null,null,null,null,null,null,null,null,null,null,null,null,null,367,{"$f":"\"00\"&'1-Award Info'!$G$6","v":"00"},"","",1,"",{"$f":"IFERROR(\nIF(VLOOKUP(\"FY\"&RIGHT($EA383,2),'1-Award Info'!$F$28:$G$32,2,0)=0,\n     1,\n     VLOOKUP(\"FY\"&RIGHT($EA383,2),'1-Award Info'!$F$28:$G$32,2,0)),1)","v":1},"",null,""]
[null,null,null,null,null,null,null,null,null,null,null,null,null,null,null,null,null,null,null,null,null,null,null,null,null,null,null,null,null,null,null,null,null,null,null,null,null,null,null,null,null,null,null,null,null,null,null,null,null,null,null,null,null,null,null,null,null,null,null,null,null,null,null,null,null,null,null,null,null,null,null,null,null,null,null,null,null,null,null,null,null,null,null,null,null,null,null,null,null,null,null,null,null,null,null,null,null,null,null,null,null,null,null,null,null,null,null,null,null,null,null,null,null,null,null,null,null,null,null,null,null,null,null,null,null,368,{"$f":"\"00\"&'1-Award Info'!$G$6","v":"00"},"","",1,"",{"$f":"IFERROR(\nIF(VLOOKUP(\"FY\"&RIGHT($EA384,2),'1-Award Info'!$F$28:$G$32,2,0)=0,\n     1,\n     VLOOKUP(\"FY\"&RIGHT($EA384,2),'1-Award Info'!$F$28:$G$32,2,0)),1)","v":1},"",null,""]
[null,null,null,null,null,null,null,null,null,null,null,null,null,null,null,null,null,null,null,null,null,null,null,null,null,null,null,null,null,null,null,null,null,null,null,null,null,null,null,null,null,null,null,null,null,null,null,null,null,null,null,null,null,null,null,null,null,null,null,null,null,null,null,null,null,null,null,null,null,null,null,null,null,null,null,null,null,null,null,null,null,null,null,null,null,null,null,null,null,null,null,null,null,null,null,null,null,null,null,null,null,null,null,null,null,null,null,null,null,null,null,null,null,null,null,null,null,null,null,null,null,null,null,null,null,369,{"$f":"\"00\"&'1-Award Info'!$G$6","v":"00"},"","",1,"",{"$f":"IFERROR(\nIF(VLOOKUP(\"FY\"&RIGHT($EA385,2),'1-Award Info'!$F$28:$G$32,2,0)=0,\n     1,\n     VLOOKUP(\"FY\"&RIGHT($EA385,2),'1-Award Info'!$F$28:$G$32,2,0)),1)","v":1},"",null,""]
[null,null,null,null,null,null,null,null,null,null,null,null,null,null,null,null,null,null,null,null,null,null,null,null,null,null,null,null,null,null,null,null,null,null,null,null,null,null,null,null,null,null,null,null,null,null,null,null,null,null,null,null,null,null,null,null,null,null,null,null,null,null,null,null,null,null,null,null,null,null,null,null,null,null,null,null,null,null,null,null,null,null,null,null,null,null,null,null,null,null,null,null,null,null,null,null,null,null,null,null,null,null,null,null,null,null,null,null,null,null,null,null,null,null,null,null,null,null,null,null,null,null,null,null,null,370,{"$f":"\"00\"&'1-Award Info'!$G$6","v":"00"},"","",1,"",{"$f":"IFERROR(\nIF(VLOOKUP(\"FY\"&RIGHT($EA386,2),'1-Award Info'!$F$28:$G$32,2,0)=0,\n     1,\n     VLOOKUP(\"FY\"&RIGHT($EA386,2),'1-Award Info'!$F$28:$G$32,2,0)),1)","v":1},"",null,""]
[null,null,null,null,null,null,null,null,null,null,null,null,null,null,null,null,null,null,null,null,null,null,null,null,null,null,null,null,null,null,null,null,null,null,null,null,null,null,null,null,null,null,null,null,null,null,null,null,null,null,null,null,null,null,null,null,null,null,null,null,null,null,null,null,null,null,null,null,null,null,null,null,null,null,null,null,null,null,null,null,null,null,null,null,null,null,null,null,null,null,null,null,null,null,null,null,null,null,null,null,null,null,null,null,null,null,null,null,null,null,null,null,null,null,null,null,null,null,null,null,null,null,null,null,null,371,{"$f":"\"00\"&'1-Award Info'!$G$6","v":"00"},"","",1,"",{"$f":"IFERROR(\nIF(VLOOKUP(\"FY\"&RIGHT($EA387,2),'1-Award Info'!$F$28:$G$32,2,0)=0,\n     1,\n     VLOOKUP(\"FY\"&RIGHT($EA387,2),'1-Award Info'!$F$28:$G$32,2,0)),1)","v":1},"",null,""]
[null,null,null,null,null,null,null,null,null,null,null,null,null,null,null,null,null,null,null,null,null,null,null,null,null,null,null,null,null,null,null,null,null,null,null,null,null,null,null,null,null,null,null,null,null,null,null,null,null,null,null,null,null,null,null,null,null,null,null,null,null,null,null,null,null,null,null,null,null,null,null,null,null,null,null,null,null,null,null,null,null,null,null,null,null,null,null,null,null,null,null,null,null,null,null,null,null,null,null,null,null,null,null,null,null,null,null,null,null,null,null,null,null,null,null,null,null,null,null,null,null,null,null,null,null,372,{"$f":"\"00\"&'1-Award Info'!$G$6","v":"00"},"","",1,"",{"$f":"IFERROR(\nIF(VLOOKUP(\"FY\"&RIGHT($EA388,2),'1-Award Info'!$F$28:$G$32,2,0)=0,\n     1,\n     VLOOKUP(\"FY\"&RIGHT($EA388,2),'1-Award Info'!$F$28:$G$32,2,0)),1)","v":1},"",null,""]
[null,null,null,null,null,null,null,null,null,null,null,null,null,null,null,null,null,null,null,null,null,null,null,null,null,null,null,null,null,null,null,null,null,null,null,null,null,null,null,null,null,null,null,null,null,null,null,null,null,null,null,null,null,null,null,null,null,null,null,null,null,null,null,null,null,null,null,null,null,null,null,null,null,null,null,null,null,null,null,null,null,null,null,null,null,null,null,null,null,null,null,null,null,null,null,null,null,null,null,null,null,null,null,null,null,null,null,null,null,null,null,null,null,null,null,null,null,null,null,null,null,null,null,null,null,373,{"$f":"\"00\"&'1-Award Info'!$G$6","v":"00"},"","",1,"",{"$f":"IFERROR(\nIF(VLOOKUP(\"FY\"&RIGHT($EA389,2),'1-Award Info'!$F$28:$G$32,2,0)=0,\n     1,\n     VLOOKUP(\"FY\"&RIGHT($EA389,2),'1-Award Info'!$F$28:$G$32,2,0)),1)","v":1},"",null,""]
[null,null,null,null,null,null,null,null,null,null,null,null,null,null,null,null,null,null,null,null,null,null,null,null,null,null,null,null,null,null,null,null,null,null,null,null,null,null,null,null,null,null,null,null,null,null,null,null,null,null,null,null,null,null,null,null,null,null,null,null,null,null,null,null,null,null,null,null,null,null,null,null,null,null,null,null,null,null,null,null,null,null,null,null,null,null,null,null,null,null,null,null,null,null,null,null,null,null,null,null,null,null,null,null,null,null,null,null,null,null,null,null,null,null,null,null,null,null,null,null,null,null,null,null,null,374,{"$f":"\"00\"&'1-Award Info'!$G$6","v":"00"},"","",1,"",{"$f":"IFERROR(\nIF(VLOOKUP(\"FY\"&RIGHT($EA390,2),'1-Award Info'!$F$28:$G$32,2,0)=0,\n     1,\n     VLOOKUP(\"FY\"&RIGHT($EA390,2),'1-Award Info'!$F$28:$G$32,2,0)),1)","v":1},"",null,""]
[null,null,null,null,null,null,null,null,null,null,null,null,null,null,null,null,null,null,null,null,null,null,null,null,null,null,null,null,null,null,null,null,null,null,null,null,null,null,null,null,null,null,null,null,null,null,null,null,null,null,null,null,null,null,null,null,null,null,null,null,null,null,null,null,null,null,null,null,null,null,null,null,null,null,null,null,null,null,null,null,null,null,null,null,null,null,null,null,null,null,null,null,null,null,null,null,null,null,null,null,null,null,null,null,null,null,null,null,null,null,null,null,null,null,null,null,null,null,null,null,null,null,null,null,null,375,{"$f":"\"00\"&'1-Award Info'!$G$6","v":"00"},"","",1,"",{"$f":"IFERROR(\nIF(VLOOKUP(\"FY\"&RIGHT($EA391,2),'1-Award Info'!$F$28:$G$32,2,0)=0,\n     1,\n     VLOOKUP(\"FY\"&RIGHT($EA391,2),'1-Award Info'!$F$28:$G$32,2,0)),1)","v":1},"",null,""]
[null,null,null,null,null,null,null,null,null,null,null,null,null,null,null,null,null,null,null,null,null,null,null,null,null,null,null,null,null,null,null,null,null,null,null,null,null,null,null,null,null,null,null,null,null,null,null,null,null,null,null,null,null,null,null,null,null,null,null,null,null,null,null,null,null,null,null,null,null,null,null,null,null,null,null,null,null,null,null,null,null,null,null,null,null,null,null,null,null,null,null,null,null,null,null,null,null,null,null,null,null,null,null,null,null,null,null,null,null,null,null,null,null,null,null,null,null,null,null,null,null,null,null,null,null,376,{"$f":"\"00\"&'1-Award Info'!$G$6","v":"00"},{"$f":"IFERROR(IFERROR(IFERROR(IFERROR(IFERROR(LEFT(VLOOKUP($DV392,$AT:$AW,4,0),15),LEFT(VLOOKUP($DV392,$BL:$BO,4,0),15)),LEFT(VLOOKUP($DV392,$CD:$CG,4,0),15)),LEFT(VLOOKUP($DV392,CV:CY,4,0),15)),LEFT(VLOOKUP($DV392,DN:DQ,4,0),15)),\"\")","v":""},{"$f":"IFERROR(IFERROR(IFERROR(IFERROR(IFERROR(RIGHT(VLOOKUP($DV392,$AT:$AW,4,0),5),RIGHT(VLOOKUP($DV392,$BL:$BO,4,0),5)),RIGHT(VLOOKUP($DV392,$CD:$CG,4,0),5)),RIGHT(VLOOKUP($DV392,CV:CY,4,0),5)),RIGHT(VLOOKUP($DV392,DN:DR,4,0),5)),\"\")","v":""},1,{"$f":"IFERROR(IFERROR(IFERROR(IFERROR(IFERROR(VLOOKUP($DV392,$AT:$AZ,7,0),VLOOKUP($DV392,$BL:$BR,7,0)),VLOOKUP($DV392,$CD:$CJ,7,0)),VLOOKUP($DV392,CV:DB,7,0)),VLOOKUP($DV392,DN:DT,7,0)),\"\")","v":""},{"$f":"IFERROR(\nIF(VLOOKUP(\"FY\"&RIGHT($EA392,2),'1-Award Info'!$F$28:$G$32,2,0)=0,\n     1,\n     VLOOKUP(\"FY\"&RIGHT($EA392,2),'1-Award Info'!$F$28:$G$32,2,0)),1)","v":1},{"$f":"IFERROR(IFERROR(IFERROR(IFERROR(IFERROR(VLOOKUP($DV392,$AT:$AZ,5,0),VLOOKUP($DV392,$BL:$BR,5,0)),VLOOKUP($DV392,$CD:$CJ,5,0)),VLOOKUP($DV392,CV:CZ,5,0)),VLOOKUP($DV392,DN:DR,5,0)),\"\")","v":""},null,{"$f":"IFERROR(IFERROR(IFERROR(IFERROR(IFERROR(VLOOKUP($DV392,$AT:$AZ,6,0),VLOOKUP($DV392,$BL:$BR,6,0)),VLOOKUP($DV392,$CD:$CJ,6,0)),VLOOKUP($DV392,CV:DA,6,0)),VLOOKUP($DV392,DN:DS,6,0)),\"\")","v":""}]
[null,null,null,null,null,null,null,null,null,null,null,null,null,null,null,null,null,null,null,null,null,null,null,null,null,null,null,null,null,null,null,null,null,null,null,null,null,null,null,null,null,null,null,null,null,null,null,null,null,null,null,null,null,null,null,null,null,null,null,null,null,null,null,null,null,null,null,null,null,null,null,null,null,null,null,null,null,null,null,null,null,null,null,null,null,null,null,null,null,null,null,null,null,null,null,null,null,null,null,null,null,null,null,null,null,null,null,null,null,null,null,null,null,null,null,null,null,null,null,null,null,null,null,null,null,377,{"$f":"\"00\"&'1-Award Info'!$G$6","v":"00"},"","",1,"",{"$f":"IFERROR(\nIF(VLOOKUP(\"FY\"&RIGHT($EA393,2),'1-Award Info'!$F$28:$G$32,2,0)=0,\n     1,\n     VLOOKUP(\"FY\"&RIGHT($EA393,2),'1-Award Info'!$F$28:$G$32,2,0)),1)","v":1},"",null,""]
[null,null,null,null,null,null,null,null,null,null,null,null,null,null,null,null,null,null,null,null,null,null,null,null,null,null,null,null,null,null,null,null,null,null,null,null,null,null,null,null,null,null,null,null,null,null,null,null,null,null,null,null,null,null,null,null,null,null,null,null,null,null,null,null,null,null,null,null,null,null,null,null,null,null,null,null,null,null,null,null,null,null,null,null,null,null,null,null,null,null,null,null,null,null,null,null,null,null,null,null,null,null,null,null,null,null,null,null,null,null,null,null,null,null,null,null,null,null,null,null,null,null,null,null,null,378,{"$f":"\"00\"&'1-Award Info'!$G$6","v":"00"},"","",1,"",{"$f":"IFERROR(\nIF(VLOOKUP(\"FY\"&RIGHT($EA394,2),'1-Award Info'!$F$28:$G$32,2,0)=0,\n     1,\n     VLOOKUP(\"FY\"&RIGHT($EA394,2),'1-Award Info'!$F$28:$G$32,2,0)),1)","v":1},"",null,""]
[null,null,null,null,null,null,null,null,null,null,null,null,null,null,null,null,null,null,null,null,null,null,null,null,null,null,null,null,null,null,null,null,null,null,null,null,null,null,null,null,null,null,null,null,null,null,null,null,null,null,null,null,null,null,null,null,null,null,null,null,null,null,null,null,null,null,null,null,null,null,null,null,null,null,null,null,null,null,null,null,null,null,null,null,null,null,null,null,null,null,null,null,null,null,null,null,null,null,null,null,null,null,null,null,null,null,null,null,null,null,null,null,null,null,null,null,null,null,null,null,null,null,null,null,null,379,{"$f":"\"00\"&'1-Award Info'!$G$6","v":"00"},"","",1,"",{"$f":"IFERROR(\nIF(VLOOKUP(\"FY\"&RIGHT($EA395,2),'1-Award Info'!$F$28:$G$32,2,0)=0,\n     1,\n     VLOOKUP(\"FY\"&RIGHT($EA395,2),'1-Award Info'!$F$28:$G$32,2,0)),1)","v":1},"",null,""]
[null,null,null,null,null,null,null,null,null,null,null,null,null,null,null,null,null,null,null,null,null,null,null,null,null,null,null,null,null,null,null,null,null,null,null,null,null,null,null,null,null,null,null,null,null,null,null,null,null,null,null,null,null,null,null,null,null,null,null,null,null,null,null,null,null,null,null,null,null,null,null,null,null,null,null,null,null,null,null,null,null,null,null,null,null,null,null,null,null,null,null,null,null,null,null,null,null,null,null,null,null,null,null,null,null,null,null,null,null,null,null,null,null,null,null,null,null,null,null,null,null,null,null,null,null,380,{"$f":"\"00\"&'1-Award Info'!$G$6","v":"00"},"","",1,"",{"$f":"IFERROR(\nIF(VLOOKUP(\"FY\"&RIGHT($EA396,2),'1-Award Info'!$F$28:$G$32,2,0)=0,\n     1,\n     VLOOKUP(\"FY\"&RIGHT($EA396,2),'1-Award Info'!$F$28:$G$32,2,0)),1)","v":1},"",null,""]
[null,null,null,null,null,null,null,null,null,null,null,null,null,null,null,null,null,null,null,null,null,null,null,null,null,null,null,null,null,null,null,null,null,null,null,null,null,null,null,null,null,null,null,null,null,null,null,null,null,null,null,null,null,null,null,null,null,null,null,null,null,null,null,null,null,null,null,null,null,null,null,null,null,null,null,null,null,null,null,null,null,null,null,null,null,null,null,null,null,null,null,null,null,null,null,null,null,null,null,null,null,null,null,null,null,null,null,null,null,null,null,null,null,null,null,null,null,null,null,null,null,null,null,null,null,381,{"$f":"\"00\"&'1-Award Info'!$G$6","v":"00"},"","",1,"",{"$f":"IFERROR(\nIF(VLOOKUP(\"FY\"&RIGHT($EA397,2),'1-Award Info'!$F$28:$G$32,2,0)=0,\n     1,\n     VLOOKUP(\"FY\"&RIGHT($EA397,2),'1-Award Info'!$F$28:$G$32,2,0)),1)","v":1},"",null,""]
[null,null,null,null,null,null,null,null,null,null,null,null,null,null,null,null,null,null,null,null,null,null,null,null,null,null,null,null,null,null,null,null,null,null,null,null,null,null,null,null,null,null,null,null,null,null,null,null,null,null,null,null,null,null,null,null,null,null,null,null,null,null,null,null,null,null,null,null,null,null,null,null,null,null,null,null,null,null,null,null,null,null,null,null,null,null,null,null,null,null,null,null,null,null,null,null,null,null,null,null,null,null,null,null,null,null,null,null,null,null,null,null,null,null,null,null,null,null,null,null,null,null,null,null,null,382,{"$f":"\"00\"&'1-Award Info'!$G$6","v":"00"},"","",1,"",{"$f":"IFERROR(\nIF(VLOOKUP(\"FY\"&RIGHT($EA398,2),'1-Award Info'!$F$28:$G$32,2,0)=0,\n     1,\n     VLOOKUP(\"FY\"&RIGHT($EA398,2),'1-Award Info'!$F$28:$G$32,2,0)),1)","v":1},"",null,""]
[null,null,null,null,null,null,null,null,null,null,null,null,null,null,null,null,null,null,null,null,null,null,null,null,null,null,null,null,null,null,null,null,null,null,null,null,null,null,null,null,null,null,null,null,null,null,null,null,null,null,null,null,null,null,null,null,null,null,null,null,null,null,null,null,null,null,null,null,null,null,null,null,null,null,null,null,null,null,null,null,null,null,null,null,null,null,null,null,null,null,null,null,null,null,null,null,null,null,null,null,null,null,null,null,null,null,null,null,null,null,null,null,null,null,null,null,null,null,null,null,null,null,null,null,null,383,{"$f":"\"00\"&'1-Award Info'!$G$6","v":"00"},"","",1,"",{"$f":"IFERROR(\nIF(VLOOKUP(\"FY\"&RIGHT($EA399,2),'1-Award Info'!$F$28:$G$32,2,0)=0,\n     1,\n     VLOOKUP(\"FY\"&RIGHT($EA399,2),'1-Award Info'!$F$28:$G$32,2,0)),1)","v":1},"",null,""]
[null,null,null,null,null,null,null,null,null,null,null,null,null,null,null,null,null,null,null,null,null,null,null,null,null,null,null,null,null,null,null,null,null,null,null,null,null,null,null,null,null,null,null,null,null,null,null,null,null,null,null,null,null,null,null,null,null,null,null,null,null,null,null,null,null,null,null,null,null,null,null,null,null,null,null,null,null,null,null,null,null,null,null,null,null,null,null,null,null,null,null,null,null,null,null,null,null,null,null,null,null,null,null,null,null,null,null,null,null,null,null,null,null,null,null,null,null,null,null,null,null,null,null,null,null,384,{"$f":"\"00\"&'1-Award Info'!$G$6","v":"00"},"","",1,"",{"$f":"IFERROR(\nIF(VLOOKUP(\"FY\"&RIGHT($EA400,2),'1-Award Info'!$F$28:$G$32,2,0)=0,\n     1,\n     VLOOKUP(\"FY\"&RIGHT($EA400,2),'1-Award Info'!$F$28:$G$32,2,0)),1)","v":1},"",null,""]
[null,null,null,null,null,null,null,null,null,null,null,null,null,null,null,null,null,null,null,null,null,null,null,null,null,null,null,null,null,null,null,null,null,null,null,null,null,null,null,null,null,null,null,null,null,null,null,null,null,null,null,null,null,null,null,null,null,null,null,null,null,null,null,null,null,null,null,null,null,null,null,null,null,null,null,null,null,null,null,null,null,null,null,null,null,null,null,null,null,null,null,null,null,null,null,null,null,null,null,null,null,null,null,null,null,null,null,null,null,null,null,null,null,null,null,null,null,null,null,null,null,null,null,null,null,385,{"$f":"\"00\"&'1-Award Info'!$G$6","v":"00"},"","",1,"",{"$f":"IFERROR(\nIF(VLOOKUP(\"FY\"&RIGHT($EA401,2),'1-Award Info'!$F$28:$G$32,2,0)=0,\n     1,\n     VLOOKUP(\"FY\"&RIGHT($EA401,2),'1-Award Info'!$F$28:$G$32,2,0)),1)","v":1},"",null,""]
[null,null,null,null,null,null,null,null,null,null,null,null,null,null,null,null,null,null,null,null,null,null,null,null,null,null,null,null,null,null,null,null,null,null,null,null,null,null,null,null,null,null,null,null,null,null,null,null,null,null,null,null,null,null,null,null,null,null,null,null,null,null,null,null,null,null,null,null,null,null,null,null,null,null,null,null,null,null,null,null,null,null,null,null,null,null,null,null,null,null,null,null,null,null,null,null,null,null,null,null,null,null,null,null,null,null,null,null,null,null,null,null,null,null,null,null,null,null,null,null,null,null,null,null,null,386,{"$f":"\"00\"&'1-Award Info'!$G$6","v":"00"},"","",1,"",{"$f":"IFERROR(\nIF(VLOOKUP(\"FY\"&RIGHT($EA402,2),'1-Award Info'!$F$28:$G$32,2,0)=0,\n     1,\n     VLOOKUP(\"FY\"&RIGHT($EA402,2),'1-Award Info'!$F$28:$G$32,2,0)),1)","v":1},"",null,""]
[null,null,null,null,null,null,null,null,null,null,null,null,null,null,null,null,null,null,null,null,null,null,null,null,null,null,null,null,null,null,null,null,null,null,null,null,null,null,null,null,null,null,null,null,null,null,null,null,null,null,null,null,null,null,null,null,null,null,null,null,null,null,null,null,null,null,null,null,null,null,null,null,null,null,null,null,null,null,null,null,null,null,null,null,null,null,null,null,null,null,null,null,null,null,null,null,null,null,null,null,null,null,null,null,null,null,null,null,null,null,null,null,null,null,null,null,null,null,null,null,null,null,null,null,null,{"$f":"DV402+1","v":387},{"$f":"\"00\"&'1-Award Info'!$G$6","v":"00"},"","",1,"",{"$f":"IFERROR(\nIF(VLOOKUP(\"FY\"&RIGHT($EA403,2),'1-Award Info'!$F$28:$G$32,2,0)=0,\n     1,\n     VLOOKUP(\"FY\"&RIGHT($EA403,2),'1-Award Info'!$F$28:$G$32,2,0)),1)","v":1},"",null,""]
[null,null,null,null,null,null,null,null,null,null,null,null,null,null,null,null,null,null,null,null,null,null,null,null,null,null,null,null,null,null,null,null,null,null,null,null,null,null,null,null,null,null,null,null,null,null,null,null,null,null,null,null,null,null,null,null,null,null,null,null,null,null,null,null,null,null,null,null,null,null,null,null,null,null,null,null,null,null,null,null,null,null,null,null,null,null,null,null,null,null,null,null,null,null,null,null,null,null,null,null,null,null,null,null,null,null,null,null,null,null,null,null,null,null,null,null,null,null,null,null,null,null,null,null,null,388,{"$f":"\"00\"&'1-Award Info'!$G$6","v":"00"},"","",1,"",{"$f":"IFERROR(\nIF(VLOOKUP(\"FY\"&RIGHT($EA404,2),'1-Award Info'!$F$28:$G$32,2,0)=0,\n     1,\n     VLOOKUP(\"FY\"&RIGHT($EA404,2),'1-Award Info'!$F$28:$G$32,2,0)),1)","v":1},"",null,""]
[null,null,null,null,null,null,null,null,null,null,null,null,null,null,null,null,null,null,null,null,null,null,null,null,null,null,null,null,null,null,null,null,null,null,null,null,null,null,null,null,null,null,null,null,null,null,null,null,null,null,null,null,null,null,null,null,null,null,null,null,null,null,null,null,null,null,null,null,null,null,null,null,null,null,null,null,null,null,null,null,null,null,null,null,null,null,null,null,null,null,null,null,null,null,null,null,null,null,null,null,null,null,null,null,null,null,null,null,null,null,null,null,null,null,null,null,null,null,null,null,null,null,null,null,null,389,{"$f":"\"00\"&'1-Award Info'!$G$6","v":"00"},"","",1,"",{"$f":"IFERROR(\nIF(VLOOKUP(\"FY\"&RIGHT($EA405,2),'1-Award Info'!$F$28:$G$32,2,0)=0,\n     1,\n     VLOOKUP(\"FY\"&RIGHT($EA405,2),'1-Award Info'!$F$28:$G$32,2,0)),1)","v":1},"",null,""]
[null,null,null,null,null,null,null,null,null,null,null,null,null,null,null,null,null,null,null,null,null,null,null,null,null,null,null,null,null,null,null,null,null,null,null,null,null,null,null,null,null,null,null,null,null,null,null,null,null,null,null,null,null,null,null,null,null,null,null,null,null,null,null,null,null,null,null,null,null,null,null,null,null,null,null,null,null,null,null,null,null,null,null,null,null,null,null,null,null,null,null,null,null,null,null,null,null,null,null,null,null,null,null,null,null,null,null,null,null,null,null,null,null,null,null,null,null,null,null,null,null,null,null,null,null,390,{"$f":"\"00\"&'1-Award Info'!$G$6","v":"00"},"","",1,"",{"$f":"IFERROR(\nIF(VLOOKUP(\"FY\"&RIGHT($EA406,2),'1-Award Info'!$F$28:$G$32,2,0)=0,\n     1,\n     VLOOKUP(\"FY\"&RIGHT($EA406,2),'1-Award Info'!$F$28:$G$32,2,0)),1)","v":1},"",null,""]
[null,null,null,null,null,null,null,null,null,null,null,null,null,null,null,null,null,null,null,null,null,null,null,null,null,null,null,null,null,null,null,null,null,null,null,null,null,null,null,null,null,null,null,null,null,null,null,null,null,null,null,null,null,null,null,null,null,null,null,null,null,null,null,null,null,null,null,null,null,null,null,null,null,null,null,null,null,null,null,null,null,null,null,null,null,null,null,null,null,null,null,null,null,null,null,null,null,null,null,null,null,null,null,null,null,null,null,null,null,null,null,null,null,null,null,null,null,null,null,null,null,null,null,null,null,391,{"$f":"\"00\"&'1-Award Info'!$G$6","v":"00"},"","",1,"",{"$f":"IFERROR(\nIF(VLOOKUP(\"FY\"&RIGHT($EA407,2),'1-Award Info'!$F$28:$G$32,2,0)=0,\n     1,\n     VLOOKUP(\"FY\"&RIGHT($EA407,2),'1-Award Info'!$F$28:$G$32,2,0)),1)","v":1},"",null,""]
[null,null,null,null,null,null,null,null,null,null,null,null,null,null,null,null,null,null,null,null,null,null,null,null,null,null,null,null,null,null,null,null,null,null,null,null,null,null,null,null,null,null,null,null,null,null,null,null,null,null,null,null,null,null,null,null,null,null,null,null,null,null,null,null,null,null,null,null,null,null,null,null,null,null,null,null,null,null,null,null,null,null,null,null,null,null,null,null,null,null,null,null,null,null,null,null,null,null,null,null,null,null,null,null,null,null,null,null,null,null,null,null,null,null,null,null,null,null,null,null,null,null,null,null,null,392,{"$f":"\"00\"&'1-Award Info'!$G$6","v":"00"},"","",1,"",{"$f":"IFERROR(\nIF(VLOOKUP(\"FY\"&RIGHT($EA408,2),'1-Award Info'!$F$28:$G$32,2,0)=0,\n     1,\n     VLOOKUP(\"FY\"&RIGHT($EA408,2),'1-Award Info'!$F$28:$G$32,2,0)),1)","v":1},"",null,""]
[null,null,null,null,null,null,null,null,null,null,null,null,null,null,null,null,null,null,null,null,null,null,null,null,null,null,null,null,null,null,null,null,null,null,null,null,null,null,null,null,null,null,null,null,null,null,null,null,null,null,null,null,null,null,null,null,null,null,null,null,null,null,null,null,null,null,null,null,null,null,null,null,null,null,null,null,null,null,null,null,null,null,null,null,null,null,null,null,null,null,null,null,null,null,null,null,null,null,null,null,null,null,null,null,null,null,null,null,null,null,null,null,null,null,null,null,null,null,null,null,null,null,null,null,null,393,{"$f":"\"00\"&'1-Award Info'!$G$6","v":"00"},"","",1,"",{"$f":"IFERROR(\nIF(VLOOKUP(\"FY\"&RIGHT($EA409,2),'1-Award Info'!$F$28:$G$32,2,0)=0,\n     1,\n     VLOOKUP(\"FY\"&RIGHT($EA409,2),'1-Award Info'!$F$28:$G$32,2,0)),1)","v":1},"",null,""]
[null,null,null,null,null,null,null,null,null,null,null,null,null,null,null,null,null,null,null,null,null,null,null,null,null,null,null,null,null,null,null,null,null,null,null,null,null,null,null,null,null,null,null,null,null,null,null,null,null,null,null,null,null,null,null,null,null,null,null,null,null,null,null,null,null,null,null,null,null,null,null,null,null,null,null,null,null,null,null,null,null,null,null,null,null,null,null,null,null,null,null,null,null,null,null,null,null,null,null,null,null,null,null,null,null,null,null,null,null,null,null,null,null,null,null,null,null,null,null,null,null,null,null,null,null,394,{"$f":"\"00\"&'1-Award Info'!$G$6","v":"00"},"","",1,"",{"$f":"IFERROR(\nIF(VLOOKUP(\"FY\"&RIGHT($EA410,2),'1-Award Info'!$F$28:$G$32,2,0)=0,\n     1,\n     VLOOKUP(\"FY\"&RIGHT($EA410,2),'1-Award Info'!$F$28:$G$32,2,0)),1)","v":1},"",null,""]
[null,null,null,null,null,null,null,null,null,null,null,null,null,null,null,null,null,null,null,null,null,null,null,null,null,null,null,null,null,null,null,null,null,null,null,null,null,null,null,null,null,null,null,null,null,null,null,null,null,null,null,null,null,null,null,null,null,null,null,null,null,null,null,null,null,null,null,null,null,null,null,null,null,null,null,null,null,null,null,null,null,null,null,null,null,null,null,null,null,null,null,null,null,null,null,null,null,null,null,null,null,null,null,null,null,null,null,null,null,null,null,null,null,null,null,null,null,null,null,null,null,null,null,null,null,395,{"$f":"\"00\"&'1-Award Info'!$G$6","v":"00"},"","",1,"",{"$f":"IFERROR(\nIF(VLOOKUP(\"FY\"&RIGHT($EA411,2),'1-Award Info'!$F$28:$G$32,2,0)=0,\n     1,\n     VLOOKUP(\"FY\"&RIGHT($EA411,2),'1-Award Info'!$F$28:$G$32,2,0)),1)","v":1},"",null,""]
[null,null,null,null,null,null,null,null,null,null,null,null,null,null,null,null,null,null,null,null,null,null,null,null,null,null,null,null,null,null,null,null,null,null,null,null,null,null,null,null,null,null,null,null,null,null,null,null,null,null,null,null,null,null,null,null,null,null,null,null,null,null,null,null,null,null,null,null,null,null,null,null,null,null,null,null,null,null,null,null,null,null,null,null,null,null,null,null,null,null,null,null,null,null,null,null,null,null,null,null,null,null,null,null,null,null,null,null,null,null,null,null,null,null,null,null,null,null,null,null,null,null,null,null,null,396,{"$f":"\"00\"&'1-Award Info'!$G$6","v":"00"},"","",1,"",{"$f":"IFERROR(\nIF(VLOOKUP(\"FY\"&RIGHT($EA412,2),'1-Award Info'!$F$28:$G$32,2,0)=0,\n     1,\n     VLOOKUP(\"FY\"&RIGHT($EA412,2),'1-Award Info'!$F$28:$G$32,2,0)),1)","v":1},"",null,""]
[null,null,null,null,null,null,null,null,null,null,null,null,null,null,null,null,null,null,null,null,null,null,null,null,null,null,null,null,null,null,null,null,null,null,null,null,null,null,null,null,null,null,null,null,null,null,null,null,null,null,null,null,null,null,null,null,null,null,null,null,null,null,null,null,null,null,null,null,null,null,null,null,null,null,null,null,null,null,null,null,null,null,null,null,null,null,null,null,null,null,null,null,null,null,null,null,null,null,null,null,null,null,null,null,null,null,null,null,null,null,null,null,null,null,null,null,null,null,null,null,null,null,null,null,null,397,{"$f":"\"00\"&'1-Award Info'!$G$6","v":"00"},"","",1,"",{"$f":"IFERROR(\nIF(VLOOKUP(\"FY\"&RIGHT($EA413,2),'1-Award Info'!$F$28:$G$32,2,0)=0,\n     1,\n     VLOOKUP(\"FY\"&RIGHT($EA413,2),'1-Award Info'!$F$28:$G$32,2,0)),1)","v":1},"",null,""]
[null,null,null,null,null,null,null,null,null,null,null,null,null,null,null,null,null,null,null,null,null,null,null,null,null,null,null,null,null,null,null,null,null,null,null,null,null,null,null,null,null,null,null,null,null,null,null,null,null,null,null,null,null,null,null,null,null,null,null,null,null,null,null,null,null,null,null,null,null,null,null,null,null,null,null,null,null,null,null,null,null,null,null,null,null,null,null,null,null,null,null,null,null,null,null,null,null,null,null,null,null,null,null,null,null,null,null,null,null,null,null,null,null,null,null,null,null,null,null,null,null,null,null,null,null,398,{"$f":"\"00\"&'1-Award Info'!$G$6","v":"00"},"","",1,"",{"$f":"IFERROR(\nIF(VLOOKUP(\"FY\"&RIGHT($EA414,2),'1-Award Info'!$F$28:$G$32,2,0)=0,\n     1,\n     VLOOKUP(\"FY\"&RIGHT($EA414,2),'1-Award Info'!$F$28:$G$32,2,0)),1)","v":1},"",null,""]
[null,null,null,null,null,null,null,null,null,null,null,null,null,null,null,null,null,null,null,null,null,null,null,null,null,null,null,null,null,null,null,null,null,null,null,null,null,null,null,null,null,null,null,null,null,null,null,null,null,null,null,null,null,null,null,null,null,null,null,null,null,null,null,null,null,null,null,null,null,null,null,null,null,null,null,null,null,null,null,null,null,null,null,null,null,null,null,null,null,null,null,null,null,null,null,null,null,null,null,null,null,null,null,null,null,null,null,null,null,null,null,null,null,null,null,null,null,null,null,null,null,null,null,null,null,399,{"$f":"\"00\"&'1-Award Info'!$G$6","v":"00"},"","",1,"",{"$f":"IFERROR(\nIF(VLOOKUP(\"FY\"&RIGHT($EA415,2),'1-Award Info'!$F$28:$G$32,2,0)=0,\n     1,\n     VLOOKUP(\"FY\"&RIGHT($EA415,2),'1-Award Info'!$F$28:$G$32,2,0)),1)","v":1},"",null,""]
[null,null,null,null,null,null,null,null,null,null,null,null,null,null,null,null,null,null,null,null,null,null,null,null,null,null,null,null,null,null,null,null,null,null,null,null,null,null,null,null,null,null,null,null,null,null,null,null,null,null,null,null,null,null,null,null,null,null,null,null,null,null,null,null,null,null,null,null,null,null,null,null,null,null,null,null,null,null,null,null,null,null,null,null,null,null,null,null,null,null,null,null,null,null,null,null,null,null,null,null,null,null,null,null,null,null,null,null,null,null,null,null,null,null,null,null,null,null,null,null,null,null,null,null,null,400,{"$f":"\"00\"&'1-Award Info'!$G$6","v":"00"},"","",1,"",{"$f":"IFERROR(\nIF(VLOOKUP(\"FY\"&RIGHT($EA416,2),'1-Award Info'!$F$28:$G$32,2,0)=0,\n     1,\n     VLOOKUP(\"FY\"&RIGHT($EA416,2),'1-Award Info'!$F$28:$G$32,2,0)),1)","v":1},"",null,""]
[null,null,null,null,null,null,null,null,null,null,null,null,null,null,null,null,null,null,null,null,null,null,null,null,null,null,null,null,null,null,null,null,null,null,null,null,null,null,null,null,null,null,null,null,null,null,null,null,null,null,null,null,null,null,null,null,null,null,null,null,null,null,null,null,null,null,null,null,null,null,null,null,null,null,null,null,null,null,null,null,null,null,null,null,null,null,null,null,null,null,null,null,null,null,null,null,null,null,null,null,null,null,null,null,null,null,null,null,null,null,null,null,null,null,null,null,null,null,null,null,null,null,null,null,null,401,{"$f":"\"00\"&'1-Award Info'!$G$6","v":"00"},"","",1,"",{"$f":"IFERROR(\nIF(VLOOKUP(\"FY\"&RIGHT($EA417,2),'1-Award Info'!$F$28:$G$32,2,0)=0,\n     1,\n     VLOOKUP(\"FY\"&RIGHT($EA417,2),'1-Award Info'!$F$28:$G$32,2,0)),1)","v":1},"",null,""]
[null,null,null,null,null,null,null,null,null,null,null,null,null,null,null,null,null,null,null,null,null,null,null,null,null,null,null,null,null,null,null,null,null,null,null,null,null,null,null,null,null,null,null,null,null,null,null,null,null,null,null,null,null,null,null,null,null,null,null,null,null,null,null,null,null,null,null,null,null,null,null,null,null,null,null,null,null,null,null,null,null,null,null,null,null,null,null,null,null,null,null,null,null,null,null,null,null,null,null,null,null,null,null,null,null,null,null,null,null,null,null,null,null,null,null,null,null,null,null,null,null,null,null,null,null,402,{"$f":"\"00\"&'1-Award Info'!$G$6","v":"00"},"","",1,"",{"$f":"IFERROR(\nIF(VLOOKUP(\"FY\"&RIGHT($EA418,2),'1-Award Info'!$F$28:$G$32,2,0)=0,\n     1,\n     VLOOKUP(\"FY\"&RIGHT($EA418,2),'1-Award Info'!$F$28:$G$32,2,0)),1)","v":1},"",null,""]
[null,null,null,null,null,null,null,null,null,null,null,null,null,null,null,null,null,null,null,null,null,null,null,null,null,null,null,null,null,null,null,null,null,null,null,null,null,null,null,null,null,null,null,null,null,null,null,null,null,null,null,null,null,null,null,null,null,null,null,null,null,null,null,null,null,null,null,null,null,null,null,null,null,null,null,null,null,null,null,null,null,null,null,null,null,null,null,null,null,null,null,null,null,null,null,null,null,null,null,null,null,null,null,null,null,null,null,null,null,null,null,null,null,null,null,null,null,null,null,null,null,null,null,null,null,403,{"$f":"\"00\"&'1-Award Info'!$G$6","v":"00"},"","",1,"",{"$f":"IFERROR(\nIF(VLOOKUP(\"FY\"&RIGHT($EA419,2),'1-Award Info'!$F$28:$G$32,2,0)=0,\n     1,\n     VLOOKUP(\"FY\"&RIGHT($EA419,2),'1-Award Info'!$F$28:$G$32,2,0)),1)","v":1},"",null,""]
[null,null,null,null,null,null,null,null,null,null,null,null,null,null,null,null,null,null,null,null,null,null,null,null,null,null,null,null,null,null,null,null,null,null,null,null,null,null,null,null,null,null,null,null,null,null,null,null,null,null,null,null,null,null,null,null,null,null,null,null,null,null,null,null,null,null,null,null,null,null,null,null,null,null,null,null,null,null,null,null,null,null,null,null,null,null,null,null,null,null,null,null,null,null,null,null,null,null,null,null,null,null,null,null,null,null,null,null,null,null,null,null,null,null,null,null,null,null,null,null,null,null,null,null,null,404,{"$f":"\"00\"&'1-Award Info'!$G$6","v":"00"},"","",1,"",{"$f":"IFERROR(\nIF(VLOOKUP(\"FY\"&RIGHT($EA420,2),'1-Award Info'!$F$28:$G$32,2,0)=0,\n     1,\n     VLOOKUP(\"FY\"&RIGHT($EA420,2),'1-Award Info'!$F$28:$G$32,2,0)),1)","v":1},"",null,""]
[null,null,null,null,null,null,null,null,null,null,null,null,null,null,null,null,null,null,null,null,null,null,null,null,null,null,null,null,null,null,null,null,null,null,null,null,null,null,null,null,null,null,null,null,null,null,null,null,null,null,null,null,null,null,null,null,null,null,null,null,null,null,null,null,null,null,null,null,null,null,null,null,null,null,null,null,null,null,null,null,null,null,null,null,null,null,null,null,null,null,null,null,null,null,null,null,null,null,null,null,null,null,null,null,null,null,null,null,null,null,null,null,null,null,null,null,null,null,null,null,null,null,null,null,null,405,{"$f":"\"00\"&'1-Award Info'!$G$6","v":"00"},"","",1,"",{"$f":"IFERROR(\nIF(VLOOKUP(\"FY\"&RIGHT($EA421,2),'1-Award Info'!$F$28:$G$32,2,0)=0,\n     1,\n     VLOOKUP(\"FY\"&RIGHT($EA421,2),'1-Award Info'!$F$28:$G$32,2,0)),1)","v":1},"",null,""]
[null,null,null,null,null,null,null,null,null,null,null,null,null,null,null,null,null,null,null,null,null,null,null,null,null,null,null,null,null,null,null,null,null,null,null,null,null,null,null,null,null,null,null,null,null,null,null,null,null,null,null,null,null,null,null,null,null,null,null,null,null,null,null,null,null,null,null,null,null,null,null,null,null,null,null,null,null,null,null,null,null,null,null,null,null,null,null,null,null,null,null,null,null,null,null,null,null,null,null,null,null,null,null,null,null,null,null,null,null,null,null,null,null,null,null,null,null,null,null,null,null,null,null,null,null,406,{"$f":"\"00\"&'1-Award Info'!$G$6","v":"00"},"","",1,"",{"$f":"IFERROR(\nIF(VLOOKUP(\"FY\"&RIGHT($EA422,2),'1-Award Info'!$F$28:$G$32,2,0)=0,\n     1,\n     VLOOKUP(\"FY\"&RIGHT($EA422,2),'1-Award Info'!$F$28:$G$32,2,0)),1)","v":1},"",null,""]
[null,null,null,null,null,null,null,null,null,null,null,null,null,null,null,null,null,null,null,null,null,null,null,null,null,null,null,null,null,null,null,null,null,null,null,null,null,null,null,null,null,null,null,null,null,null,null,null,null,null,null,null,null,null,null,null,null,null,null,null,null,null,null,null,null,null,null,null,null,null,null,null,null,null,null,null,null,null,null,null,null,null,null,null,null,null,null,null,null,null,null,null,null,null,null,null,null,null,null,null,null,null,null,null,null,null,null,null,null,null,null,null,null,null,null,null,null,null,null,null,null,null,null,null,null,407,{"$f":"\"00\"&'1-Award Info'!$G$6","v":"00"},"","",1,"",{"$f":"IFERROR(\nIF(VLOOKUP(\"FY\"&RIGHT($EA423,2),'1-Award Info'!$F$28:$G$32,2,0)=0,\n     1,\n     VLOOKUP(\"FY\"&RIGHT($EA423,2),'1-Award Info'!$F$28:$G$32,2,0)),1)","v":1},"",null,""]
[null,null,null,null,null,null,null,null,null,null,null,null,null,null,null,null,null,null,null,null,null,null,null,null,null,null,null,null,null,null,null,null,null,null,null,null,null,null,null,null,null,null,null,null,null,null,null,null,null,null,null,null,null,null,null,null,null,null,null,null,null,null,null,null,null,null,null,null,null,null,null,null,null,null,null,null,null,null,null,null,null,null,null,null,null,null,null,null,null,null,null,null,null,null,null,null,null,null,null,null,null,null,null,null,null,null,null,null,null,null,null,null,null,null,null,null,null,null,null,null,null,null,null,null,null,408,{"$f":"\"00\"&'1-Award Info'!$G$6","v":"00"},"","",1,"",{"$f":"IFERROR(\nIF(VLOOKUP(\"FY\"&RIGHT($EA424,2),'1-Award Info'!$F$28:$G$32,2,0)=0,\n     1,\n     VLOOKUP(\"FY\"&RIGHT($EA424,2),'1-Award Info'!$F$28:$G$32,2,0)),1)","v":1},"",null,""]
[null,null,null,null,null,null,null,null,null,null,null,null,null,null,null,null,null,null,null,null,null,null,null,null,null,null,null,null,null,null,null,null,null,null,null,null,null,null,null,null,null,null,null,null,null,null,null,null,null,null,null,null,null,null,null,null,null,null,null,null,null,null,null,null,null,null,null,null,null,null,null,null,null,null,null,null,null,null,null,null,null,null,null,null,null,null,null,null,null,null,null,null,null,null,null,null,null,null,null,null,null,null,null,null,null,null,null,null,null,null,null,null,null,null,null,null,null,null,null,null,null,null,null,null,null,409,{"$f":"\"00\"&'1-Award Info'!$G$6","v":"00"},"","",1,"",{"$f":"IFERROR(\nIF(VLOOKUP(\"FY\"&RIGHT($EA425,2),'1-Award Info'!$F$28:$G$32,2,0)=0,\n     1,\n     VLOOKUP(\"FY\"&RIGHT($EA425,2),'1-Award Info'!$F$28:$G$32,2,0)),1)","v":1},"",null,""]
[null,null,null,null,null,null,null,null,null,null,null,null,null,null,null,null,null,null,null,null,null,null,null,null,null,null,null,null,null,null,null,null,null,null,null,null,null,null,null,null,null,null,null,null,null,null,null,null,null,null,null,null,null,null,null,null,null,null,null,null,null,null,null,null,null,null,null,null,null,null,null,null,null,null,null,null,null,null,null,null,null,null,null,null,null,null,null,null,null,null,null,null,null,null,null,null,null,null,null,null,null,null,null,null,null,null,null,null,null,null,null,null,null,null,null,null,null,null,null,null,null,null,null,null,null,410,{"$f":"\"00\"&'1-Award Info'!$G$6","v":"00"},"","",1,"",{"$f":"IFERROR(\nIF(VLOOKUP(\"FY\"&RIGHT($EA426,2),'1-Award Info'!$F$28:$G$32,2,0)=0,\n     1,\n     VLOOKUP(\"FY\"&RIGHT($EA426,2),'1-Award Info'!$F$28:$G$32,2,0)),1)","v":1},"",null,""]
[null,null,null,null,null,null,null,null,null,null,null,null,null,null,null,null,null,null,null,null,null,null,null,null,null,null,null,null,null,null,null,null,null,null,null,null,null,null,null,null,null,null,null,null,null,null,null,null,null,null,null,null,null,null,null,null,null,null,null,null,null,null,null,null,null,null,null,null,null,null,null,null,null,null,null,null,null,null,null,null,null,null,null,null,null,null,null,null,null,null,null,null,null,null,null,null,null,null,null,null,null,null,null,null,null,null,null,null,null,null,null,null,null,null,null,null,null,null,null,null,null,null,null,null,null,411,{"$f":"\"00\"&'1-Award Info'!$G$6","v":"00"},"","",1,"",{"$f":"IFERROR(\nIF(VLOOKUP(\"FY\"&RIGHT($EA427,2),'1-Award Info'!$F$28:$G$32,2,0)=0,\n     1,\n     VLOOKUP(\"FY\"&RIGHT($EA427,2),'1-Award Info'!$F$28:$G$32,2,0)),1)","v":1},"",null,""]
[null,null,null,null,null,null,null,null,null,null,null,null,null,null,null,null,null,null,null,null,null,null,null,null,null,null,null,null,null,null,null,null,null,null,null,null,null,null,null,null,null,null,null,null,null,null,null,null,null,null,null,null,null,null,null,null,null,null,null,null,null,null,null,null,null,null,null,null,null,null,null,null,null,null,null,null,null,null,null,null,null,null,null,null,null,null,null,null,null,null,null,null,null,null,null,null,null,null,null,null,null,null,null,null,null,null,null,null,null,null,null,null,null,null,null,null,null,null,null,null,null,null,null,null,null,412,{"$f":"\"00\"&'1-Award Info'!$G$6","v":"00"},"","",1,"",{"$f":"IFERROR(\nIF(VLOOKUP(\"FY\"&RIGHT($EA428,2),'1-Award Info'!$F$28:$G$32,2,0)=0,\n     1,\n     VLOOKUP(\"FY\"&RIGHT($EA428,2),'1-Award Info'!$F$28:$G$32,2,0)),1)","v":1},"",null,""]
[null,null,null,null,null,null,null,null,null,null,null,null,null,null,null,null,null,null,null,null,null,null,null,null,null,null,null,null,null,null,null,null,null,null,null,null,null,null,null,null,null,null,null,null,null,null,null,null,null,null,null,null,null,null,null,null,null,null,null,null,null,null,null,null,null,null,null,null,null,null,null,null,null,null,null,null,null,null,null,null,null,null,null,null,null,null,null,null,null,null,null,null,null,null,null,null,null,null,null,null,null,null,null,null,null,null,null,null,null,null,null,null,null,null,null,null,null,null,null,null,null,null,null,null,null,413,{"$f":"\"00\"&'1-Award Info'!$G$6","v":"00"},"","",1,"",{"$f":"IFERROR(\nIF(VLOOKUP(\"FY\"&RIGHT($EA429,2),'1-Award Info'!$F$28:$G$32,2,0)=0,\n     1,\n     VLOOKUP(\"FY\"&RIGHT($EA429,2),'1-Award Info'!$F$28:$G$32,2,0)),1)","v":1},"",null,""]
[null,null,null,null,null,null,null,null,null,null,null,null,null,null,null,null,null,null,null,null,null,null,null,null,null,null,null,null,null,null,null,null,null,null,null,null,null,null,null,null,null,null,null,null,null,null,null,null,null,null,null,null,null,null,null,null,null,null,null,null,null,null,null,null,null,null,null,null,null,null,null,null,null,null,null,null,null,null,null,null,null,null,null,null,null,null,null,null,null,null,null,null,null,null,null,null,null,null,null,null,null,null,null,null,null,null,null,null,null,null,null,null,null,null,null,null,null,null,null,null,null,null,null,null,null,414,{"$f":"\"00\"&'1-Award Info'!$G$6","v":"00"},"","",1,"",{"$f":"IFERROR(\nIF(VLOOKUP(\"FY\"&RIGHT($EA430,2),'1-Award Info'!$F$28:$G$32,2,0)=0,\n     1,\n     VLOOKUP(\"FY\"&RIGHT($EA430,2),'1-Award Info'!$F$28:$G$32,2,0)),1)","v":1},"",null,""]
[null,null,null,null,null,null,null,null,null,null,null,null,null,null,null,null,null,null,null,null,null,null,null,null,null,null,null,null,null,null,null,null,null,null,null,null,null,null,null,null,null,null,null,null,null,null,null,null,null,null,null,null,null,null,null,null,null,null,null,null,null,null,null,null,null,null,null,null,null,null,null,null,null,null,null,null,null,null,null,null,null,null,null,null,null,null,null,null,null,null,null,null,null,null,null,null,null,null,null,null,null,null,null,null,null,null,null,null,null,null,null,null,null,null,null,null,null,null,null,null,null,null,null,null,null,415,{"$f":"\"00\"&'1-Award Info'!$G$6","v":"00"},"","",1,"",{"$f":"IFERROR(\nIF(VLOOKUP(\"FY\"&RIGHT($EA431,2),'1-Award Info'!$F$28:$G$32,2,0)=0,\n     1,\n     VLOOKUP(\"FY\"&RIGHT($EA431,2),'1-Award Info'!$F$28:$G$32,2,0)),1)","v":1},"",null,""]
[null,null,null,null,null,null,null,null,null,null,null,null,null,null,null,null,null,null,null,null,null,null,null,null,null,null,null,null,null,null,null,null,null,null,null,null,null,null,null,null,null,null,null,null,null,null,null,null,null,null,null,null,null,null,null,null,null,null,null,null,null,null,null,null,null,null,null,null,null,null,null,null,null,null,null,null,null,null,null,null,null,null,null,null,null,null,null,null,null,null,null,null,null,null,null,null,null,null,null,null,null,null,null,null,null,null,null,null,null,null,null,null,null,null,null,null,null,null,null,null,null,null,null,null,null,416,{"$f":"\"00\"&'1-Award Info'!$G$6","v":"00"},"","",1,"",{"$f":"IFERROR(\nIF(VLOOKUP(\"FY\"&RIGHT($EA432,2),'1-Award Info'!$F$28:$G$32,2,0)=0,\n     1,\n     VLOOKUP(\"FY\"&RIGHT($EA432,2),'1-Award Info'!$F$28:$G$32,2,0)),1)","v":1},"",null,""]
[null,null,null,null,null,null,null,null,null,null,null,null,null,null,null,null,null,null,null,null,null,null,null,null,null,null,null,null,null,null,null,null,null,null,null,null,null,null,null,null,null,null,null,null,null,null,null,null,null,null,null,null,null,null,null,null,null,null,null,null,null,null,null,null,null,null,null,null,null,null,null,null,null,null,null,null,null,null,null,null,null,null,null,null,null,null,null,null,null,null,null,null,null,null,null,null,null,null,null,null,null,null,null,null,null,null,null,null,null,null,null,null,null,null,null,null,null,null,null,null,null,null,null,null,null,417,{"$f":"\"00\"&'1-Award Info'!$G$6","v":"00"},"","",1,"",{"$f":"IFERROR(\nIF(VLOOKUP(\"FY\"&RIGHT($EA433,2),'1-Award Info'!$F$28:$G$32,2,0)=0,\n     1,\n     VLOOKUP(\"FY\"&RIGHT($EA433,2),'1-Award Info'!$F$28:$G$32,2,0)),1)","v":1},"",null,""]
[null,null,null,null,null,null,null,null,null,null,null,null,null,null,null,null,null,null,null,null,null,null,null,null,null,null,null,null,null,null,null,null,null,null,null,null,null,null,null,null,null,null,null,null,null,null,null,null,null,null,null,null,null,null,null,null,null,null,null,null,null,null,null,null,null,null,null,null,null,null,null,null,null,null,null,null,null,null,null,null,null,null,null,null,null,null,null,null,null,null,null,null,null,null,null,null,null,null,null,null,null,null,null,null,null,null,null,null,null,null,null,null,null,null,null,null,null,null,null,null,null,null,null,null,null,418,{"$f":"\"00\"&'1-Award Info'!$G$6","v":"00"},"","",1,"",{"$f":"IFERROR(\nIF(VLOOKUP(\"FY\"&RIGHT($EA434,2),'1-Award Info'!$F$28:$G$32,2,0)=0,\n     1,\n     VLOOKUP(\"FY\"&RIGHT($EA434,2),'1-Award Info'!$F$28:$G$32,2,0)),1)","v":1},"",null,""]
[null,null,null,null,null,null,null,null,null,null,null,null,null,null,null,null,null,null,null,null,null,null,null,null,null,null,null,null,null,null,null,null,null,null,null,null,null,null,null,null,null,null,null,null,null,null,null,null,null,null,null,null,null,null,null,null,null,null,null,null,null,null,null,null,null,null,null,null,null,null,null,null,null,null,null,null,null,null,null,null,null,null,null,null,null,null,null,null,null,null,null,null,null,null,null,null,null,null,null,null,null,null,null,null,null,null,null,null,null,null,null,null,null,null,null,null,null,null,null,null,null,null,null,null,null,419,{"$f":"\"00\"&'1-Award Info'!$G$6","v":"00"},"","",1,"",{"$f":"IFERROR(\nIF(VLOOKUP(\"FY\"&RIGHT($EA435,2),'1-Award Info'!$F$28:$G$32,2,0)=0,\n     1,\n     VLOOKUP(\"FY\"&RIGHT($EA435,2),'1-Award Info'!$F$28:$G$32,2,0)),1)","v":1},"",null,""]
[null,null,null,null,null,null,null,null,null,null,null,null,null,null,null,null,null,null,null,null,null,null,null,null,null,null,null,null,null,null,null,null,null,null,null,null,null,null,null,null,null,null,null,null,null,null,null,null,null,null,null,null,null,null,null,null,null,null,null,null,null,null,null,null,null,null,null,null,null,null,null,null,null,null,null,null,null,null,null,null,null,null,null,null,null,null,null,null,null,null,null,null,null,null,null,null,null,null,null,null,null,null,null,null,null,null,null,null,null,null,null,null,null,null,null,null,null,null,null,null,null,null,null,null,null,420,{"$f":"\"00\"&'1-Award Info'!$G$6","v":"00"},"","",1,"",{"$f":"IFERROR(\nIF(VLOOKUP(\"FY\"&RIGHT($EA436,2),'1-Award Info'!$F$28:$G$32,2,0)=0,\n     1,\n     VLOOKUP(\"FY\"&RIGHT($EA436,2),'1-Award Info'!$F$28:$G$32,2,0)),1)","v":1},"",null,""]
[null,null,null,null,null,null,null,null,null,null,null,null,null,null,null,null,null,null,null,null,null,null,null,null,null,null,null,null,null,null,null,null,null,null,null,null,null,null,null,null,null,null,null,null,null,null,null,null,null,null,null,null,null,null,null,null,null,null,null,null,null,null,null,null,null,null,null,null,null,null,null,null,null,null,null,null,null,null,null,null,null,null,null,null,null,null,null,null,null,null,null,null,null,null,null,null,null,null,null,null,null,null,null,null,null,null,null,null,null,null,null,null,null,null,null,null,null,null,null,null,null,null,null,null,null,421,{"$f":"\"00\"&'1-Award Info'!$G$6","v":"00"},"","",1,"",{"$f":"IFERROR(\nIF(VLOOKUP(\"FY\"&RIGHT($EA437,2),'1-Award Info'!$F$28:$G$32,2,0)=0,\n     1,\n     VLOOKUP(\"FY\"&RIGHT($EA437,2),'1-Award Info'!$F$28:$G$32,2,0)),1)","v":1},"",null,""]
[null,null,null,null,null,null,null,null,null,null,null,null,null,null,null,null,null,null,null,null,null,null,null,null,null,null,null,null,null,null,null,null,null,null,null,null,null,null,null,null,null,null,null,null,null,null,null,null,null,null,null,null,null,null,null,null,null,null,null,null,null,null,null,null,null,null,null,null,null,null,null,null,null,null,null,null,null,null,null,null,null,null,null,null,null,null,null,null,null,null,null,null,null,null,null,null,null,null,null,null,null,null,null,null,null,null,null,null,null,null,null,null,null,null,null,null,null,null,null,null,null,null,null,null,null,422,{"$f":"\"00\"&'1-Award Info'!$G$6","v":"00"},"","",1,"",{"$f":"IFERROR(\nIF(VLOOKUP(\"FY\"&RIGHT($EA438,2),'1-Award Info'!$F$28:$G$32,2,0)=0,\n     1,\n     VLOOKUP(\"FY\"&RIGHT($EA438,2),'1-Award Info'!$F$28:$G$32,2,0)),1)","v":1},"",null,""]
[null,null,null,null,null,null,null,null,null,null,null,null,null,null,null,null,null,null,null,null,null,null,null,null,null,null,null,null,null,null,null,null,null,null,null,null,null,null,null,null,null,null,null,null,null,null,null,null,null,null,null,null,null,null,null,null,null,null,null,null,null,null,null,null,null,null,null,null,null,null,null,null,null,null,null,null,null,null,null,null,null,null,null,null,null,null,null,null,null,null,null,null,null,null,null,null,null,null,null,null,null,null,null,null,null,null,null,null,null,null,null,null,null,null,null,null,null,null,null,null,null,null,null,null,null,423,{"$f":"\"00\"&'1-Award Info'!$G$6","v":"00"},"","",1,"",{"$f":"IFERROR(\nIF(VLOOKUP(\"FY\"&RIGHT($EA439,2),'1-Award Info'!$F$28:$G$32,2,0)=0,\n     1,\n     VLOOKUP(\"FY\"&RIGHT($EA439,2),'1-Award Info'!$F$28:$G$32,2,0)),1)","v":1},"",null,""]
[null,null,null,null,null,null,null,null,null,null,null,null,null,null,null,null,null,null,null,null,null,null,null,null,null,null,null,null,null,null,null,null,null,null,null,null,null,null,null,null,null,null,null,null,null,null,null,null,null,null,null,null,null,null,null,null,null,null,null,null,null,null,null,null,null,null,null,null,null,null,null,null,null,null,null,null,null,null,null,null,null,null,null,null,null,null,null,null,null,null,null,null,null,null,null,null,null,null,null,null,null,null,null,null,null,null,null,null,null,null,null,null,null,null,null,null,null,null,null,null,null,null,null,null,null,424,{"$f":"\"00\"&'1-Award Info'!$G$6","v":"00"},"","",1,"",{"$f":"IFERROR(\nIF(VLOOKUP(\"FY\"&RIGHT($EA440,2),'1-Award Info'!$F$28:$G$32,2,0)=0,\n     1,\n     VLOOKUP(\"FY\"&RIGHT($EA440,2),'1-Award Info'!$F$28:$G$32,2,0)),1)","v":1},"",null,""]
[null,null,null,null,null,null,null,null,null,null,null,null,null,null,null,null,null,null,null,null,null,null,null,null,null,null,null,null,null,null,null,null,null,null,null,null,null,null,null,null,null,null,null,null,null,null,null,null,null,null,null,null,null,null,null,null,null,null,null,null,null,null,null,null,null,null,null,null,null,null,null,null,null,null,null,null,null,null,null,null,null,null,null,null,null,null,null,null,null,null,null,null,null,null,null,null,null,null,null,null,null,null,null,null,null,null,null,null,null,null,null,null,null,null,null,null,null,null,null,null,null,null,null,null,null,425,{"$f":"\"00\"&'1-Award Info'!$G$6","v":"00"},"","",1,"",{"$f":"IFERROR(\nIF(VLOOKUP(\"FY\"&RIGHT($EA441,2),'1-Award Info'!$F$28:$G$32,2,0)=0,\n     1,\n     VLOOKUP(\"FY\"&RIGHT($EA441,2),'1-Award Info'!$F$28:$G$32,2,0)),1)","v":1},"",null,""]
[null,null,null,null,null,null,null,null,null,null,null,null,null,null,null,null,null,null,null,null,null,null,null,null,null,null,null,null,null,null,null,null,null,null,null,null,null,null,null,null,null,null,null,null,null,null,null,null,null,null,null,null,null,null,null,null,null,null,null,null,null,null,null,null,null,null,null,null,null,null,null,null,null,null,null,null,null,null,null,null,null,null,null,null,null,null,null,null,null,null,null,null,null,null,null,null,null,null,null,null,null,null,null,null,null,null,null,null,null,null,null,null,null,null,null,null,null,null,null,null,null,null,null,null,null,426,{"$f":"\"00\"&'1-Award Info'!$G$6","v":"00"},"","",1,"",{"$f":"IFERROR(\nIF(VLOOKUP(\"FY\"&RIGHT($EA442,2),'1-Award Info'!$F$28:$G$32,2,0)=0,\n     1,\n     VLOOKUP(\"FY\"&RIGHT($EA442,2),'1-Award Info'!$F$28:$G$32,2,0)),1)","v":1},"",null,""]
[null,null,null,null,null,null,null,null,null,null,null,null,null,null,null,null,null,null,null,null,null,null,null,null,null,null,null,null,null,null,null,null,null,null,null,null,null,null,null,null,null,null,null,null,null,null,null,null,null,null,null,null,null,null,null,null,null,null,null,null,null,null,null,null,null,null,null,null,null,null,null,null,null,null,null,null,null,null,null,null,null,null,null,null,null,null,null,null,null,null,null,null,null,null,null,null,null,null,null,null,null,null,null,null,null,null,null,null,null,null,null,null,null,null,null,null,null,null,null,null,null,null,null,null,null,427,{"$f":"\"00\"&'1-Award Info'!$G$6","v":"00"},{"$f":"IFERROR(IFERROR(IFERROR(IFERROR(IFERROR(LEFT(VLOOKUP($DV443,$AT:$AW,4,0),15),LEFT(VLOOKUP($DV443,$BL:$BO,4,0),15)),LEFT(VLOOKUP($DV443,$CD:$CG,4,0),15)),LEFT(VLOOKUP($DV443,CV:CY,4,0),15)),LEFT(VLOOKUP($DV443,DN:DQ,4,0),15)),\"\")","v":""},{"$f":"IFERROR(IFERROR(IFERROR(IFERROR(IFERROR(RIGHT(VLOOKUP($DV443,$AT:$AW,4,0),5),RIGHT(VLOOKUP($DV443,$BL:$BO,4,0),5)),RIGHT(VLOOKUP($DV443,$CD:$CG,4,0),5)),RIGHT(VLOOKUP($DV443,CV:CY,4,0),5)),RIGHT(VLOOKUP($DV443,DN:DR,4,0),5)),\"\")","v":""},1,{"$f":"IFERROR(IFERROR(IFERROR(IFERROR(IFERROR(VLOOKUP($DV443,$AT:$AZ,7,0),VLOOKUP($DV443,$BL:$BR,7,0)),VLOOKUP($DV443,$CD:$CJ,7,0)),VLOOKUP($DV443,CV:DB,7,0)),VLOOKUP($DV443,DN:DT,7,0)),\"\")","v":""},{"$f":"IFERROR(\nIF(VLOOKUP(\"FY\"&RIGHT($EA443,2),'1-Award Info'!$F$28:$G$32,2,0)=0,\n     1,\n     VLOOKUP(\"FY\"&RIGHT($EA443,2),'1-Award Info'!$F$28:$G$32,2,0)),1)","v":1},{"$f":"IFERROR(IFERROR(IFERROR(IFERROR(IFERROR(VLOOKUP($DV443,$AT:$AZ,5,0),VLOOKUP($DV443,$BL:$BR,5,0)),VLOOKUP($DV443,$CD:$CJ,5,0)),VLOOKUP($DV443,CV:CZ,5,0)),VLOOKUP($DV443,DN:DR,5,0)),\"\")","v":""},null,{"$f":"IFERROR(IFERROR(IFERROR(IFERROR(IFERROR(VLOOKUP($DV443,$AT:$AZ,6,0),VLOOKUP($DV443,$BL:$BR,6,0)),VLOOKUP($DV443,$CD:$CJ,6,0)),VLOOKUP($DV443,CV:DA,6,0)),VLOOKUP($DV443,DN:DS,6,0)),\"\")","v":""}]
[null,null,null,null,null,null,null,null,null,null,null,null,null,null,null,null,null,null,null,null,null,null,null,null,null,null,null,null,null,null,null,null,null,null,null,null,null,null,null,null,null,null,null,null,null,null,null,null,null,null,null,null,null,null,null,null,null,null,null,null,null,null,null,null,null,null,null,null,null,null,null,null,null,null,null,null,null,null,null,null,null,null,null,null,null,null,null,null,null,null,null,null,null,null,null,null,null,null,null,null,null,null,null,null,null,null,null,null,null,null,null,null,null,null,null,null,null,null,null,null,null,null,null,null,null,428,{"$f":"\"00\"&'1-Award Info'!$G$6","v":"00"},"","",1,"",{"$f":"IFERROR(\nIF(VLOOKUP(\"FY\"&RIGHT($EA444,2),'1-Award Info'!$F$28:$G$32,2,0)=0,\n     1,\n     VLOOKUP(\"FY\"&RIGHT($EA444,2),'1-Award Info'!$F$28:$G$32,2,0)),1)","v":1},"",null,""]
[null,null,null,null,null,null,null,null,null,null,null,null,null,null,null,null,null,null,null,null,null,null,null,null,null,null,null,null,null,null,null,null,null,null,null,null,null,null,null,null,null,null,null,null,null,null,null,null,null,null,null,null,null,null,null,null,null,null,null,null,null,null,null,null,null,null,null,null,null,null,null,null,null,null,null,null,null,null,null,null,null,null,null,null,null,null,null,null,null,null,null,null,null,null,null,null,null,null,null,null,null,null,null,null,null,null,null,null,null,null,null,null,null,null,null,null,null,null,null,null,null,null,null,null,null,429,{"$f":"\"00\"&'1-Award Info'!$G$6","v":"00"},"","",1,"",{"$f":"IFERROR(\nIF(VLOOKUP(\"FY\"&RIGHT($EA445,2),'1-Award Info'!$F$28:$G$32,2,0)=0,\n     1,\n     VLOOKUP(\"FY\"&RIGHT($EA445,2),'1-Award Info'!$F$28:$G$32,2,0)),1)","v":1},"",null,""]
[null,null,null,null,null,null,null,null,null,null,null,null,null,null,null,null,null,null,null,null,null,null,null,null,null,null,null,null,null,null,null,null,null,null,null,null,null,null,null,null,null,null,null,null,null,null,null,null,null,null,null,null,null,null,null,null,null,null,null,null,null,null,null,null,null,null,null,null,null,null,null,null,null,null,null,null,null,null,null,null,null,null,null,null,null,null,null,null,null,null,null,null,null,null,null,null,null,null,null,null,null,null,null,null,null,null,null,null,null,null,null,null,null,null,null,null,null,null,null,null,null,null,null,null,null,430,{"$f":"\"00\"&'1-Award Info'!$G$6","v":"00"},"","",1,"",{"$f":"IFERROR(\nIF(VLOOKUP(\"FY\"&RIGHT($EA446,2),'1-Award Info'!$F$28:$G$32,2,0)=0,\n     1,\n     VLOOKUP(\"FY\"&RIGHT($EA446,2),'1-Award Info'!$F$28:$G$32,2,0)),1)","v":1},"",null,""]
[null,null,null,null,null,null,null,null,null,null,null,null,null,null,null,null,null,null,null,null,null,null,null,null,null,null,null,null,null,null,null,null,null,null,null,null,null,null,null,null,null,null,null,null,null,null,null,null,null,null,null,null,null,null,null,null,null,null,null,null,null,null,null,null,null,null,null,null,null,null,null,null,null,null,null,null,null,null,null,null,null,null,null,null,null,null,null,null,null,null,null,null,null,null,null,null,null,null,null,null,null,null,null,null,null,null,null,null,null,null,null,null,null,null,null,null,null,null,null,null,null,null,null,null,null,431,{"$f":"\"00\"&'1-Award Info'!$G$6","v":"00"},"","",1,"",{"$f":"IFERROR(\nIF(VLOOKUP(\"FY\"&RIGHT($EA447,2),'1-Award Info'!$F$28:$G$32,2,0)=0,\n     1,\n     VLOOKUP(\"FY\"&RIGHT($EA447,2),'1-Award Info'!$F$28:$G$32,2,0)),1)","v":1},"",null,""]
[null,null,null,null,null,null,null,null,null,null,null,null,null,null,null,null,null,null,null,null,null,null,null,null,null,null,null,null,null,null,null,null,null,null,null,null,null,null,null,null,null,null,null,null,null,null,null,null,null,null,null,null,null,null,null,null,null,null,null,null,null,null,null,null,null,null,null,null,null,null,null,null,null,null,null,null,null,null,null,null,null,null,null,null,null,null,null,null,null,null,null,null,null,null,null,null,null,null,null,null,null,null,null,null,null,null,null,null,null,null,null,null,null,null,null,null,null,null,null,null,null,null,null,null,null,432,{"$f":"\"00\"&'1-Award Info'!$G$6","v":"00"},"","",1,"",{"$f":"IFERROR(\nIF(VLOOKUP(\"FY\"&RIGHT($EA448,2),'1-Award Info'!$F$28:$G$32,2,0)=0,\n     1,\n     VLOOKUP(\"FY\"&RIGHT($EA448,2),'1-Award Info'!$F$28:$G$32,2,0)),1)","v":1},"",null,""]
[null,null,null,null,null,null,null,null,null,null,null,null,null,null,null,null,null,null,null,null,null,null,null,null,null,null,null,null,null,null,null,null,null,null,null,null,null,null,null,null,null,null,null,null,null,null,null,null,null,null,null,null,null,null,null,null,null,null,null,null,null,null,null,null,null,null,null,null,null,null,null,null,null,null,null,null,null,null,null,null,null,null,null,null,null,null,null,null,null,null,null,null,null,null,null,null,null,null,null,null,null,null,null,null,null,null,null,null,null,null,null,null,null,null,null,null,null,null,null,null,null,null,null,null,null,433,{"$f":"\"00\"&'1-Award Info'!$G$6","v":"00"},"","",1,"",{"$f":"IFERROR(\nIF(VLOOKUP(\"FY\"&RIGHT($EA449,2),'1-Award Info'!$F$28:$G$32,2,0)=0,\n     1,\n     VLOOKUP(\"FY\"&RIGHT($EA449,2),'1-Award Info'!$F$28:$G$32,2,0)),1)","v":1},"",null,""]
[null,null,null,null,null,null,null,null,null,null,null,null,null,null,null,null,null,null,null,null,null,null,null,null,null,null,null,null,null,null,null,null,null,null,null,null,null,null,null,null,null,null,null,null,null,null,null,null,null,null,null,null,null,null,null,null,null,null,null,null,null,null,null,null,null,null,null,null,null,null,null,null,null,null,null,null,null,null,null,null,null,null,null,null,null,null,null,null,null,null,null,null,null,null,null,null,null,null,null,null,null,null,null,null,null,null,null,null,null,null,null,null,null,null,null,null,null,null,null,null,null,null,null,null,null,434,{"$f":"\"00\"&'1-Award Info'!$G$6","v":"00"},"","",1,"",{"$f":"IFERROR(\nIF(VLOOKUP(\"FY\"&RIGHT($EA450,2),'1-Award Info'!$F$28:$G$32,2,0)=0,\n     1,\n     VLOOKUP(\"FY\"&RIGHT($EA450,2),'1-Award Info'!$F$28:$G$32,2,0)),1)","v":1},"",null,""]
[null,null,null,null,null,null,null,null,null,null,null,null,null,null,null,null,null,null,null,null,null,null,null,null,null,null,null,null,null,null,null,null,null,null,null,null,null,null,null,null,null,null,null,null,null,null,null,null,null,null,null,null,null,null,null,null,null,null,null,null,null,null,null,null,null,null,null,null,null,null,null,null,null,null,null,null,null,null,null,null,null,null,null,null,null,null,null,null,null,null,null,null,null,null,null,null,null,null,null,null,null,null,null,null,null,null,null,null,null,null,null,null,null,null,null,null,null,null,null,null,null,null,null,null,null,435,{"$f":"\"00\"&'1-Award Info'!$G$6","v":"00"},"","",1,"",{"$f":"IFERROR(\nIF(VLOOKUP(\"FY\"&RIGHT($EA451,2),'1-Award Info'!$F$28:$G$32,2,0)=0,\n     1,\n     VLOOKUP(\"FY\"&RIGHT($EA451,2),'1-Award Info'!$F$28:$G$32,2,0)),1)","v":1},"",null,""]
[null,null,null,null,null,null,null,null,null,null,null,null,null,null,null,null,null,null,null,null,null,null,null,null,null,null,null,null,null,null,null,null,null,null,null,null,null,null,null,null,null,null,null,null,null,null,null,null,null,null,null,null,null,null,null,null,null,null,null,null,null,null,null,null,null,null,null,null,null,null,null,null,null,null,null,null,null,null,null,null,null,null,null,null,null,null,null,null,null,null,null,null,null,null,null,null,null,null,null,null,null,null,null,null,null,null,null,null,null,null,null,null,null,null,null,null,null,null,null,null,null,null,null,null,null,436,{"$f":"\"00\"&'1-Award Info'!$G$6","v":"00"},"","",1,"",{"$f":"IFERROR(\nIF(VLOOKUP(\"FY\"&RIGHT($EA452,2),'1-Award Info'!$F$28:$G$32,2,0)=0,\n     1,\n     VLOOKUP(\"FY\"&RIGHT($EA452,2),'1-Award Info'!$F$28:$G$32,2,0)),1)","v":1},"",null,""]
[null,null,null,null,null,null,null,null,null,null,null,null,null,null,null,null,null,null,null,null,null,null,null,null,null,null,null,null,null,null,null,null,null,null,null,null,null,null,null,null,null,null,null,null,null,null,null,null,null,null,null,null,null,null,null,null,null,null,null,null,null,null,null,null,null,null,null,null,null,null,null,null,null,null,null,null,null,null,null,null,null,null,null,null,null,null,null,null,null,null,null,null,null,null,null,null,null,null,null,null,null,null,null,null,null,null,null,null,null,null,null,null,null,null,null,null,null,null,null,null,null,null,null,null,null,437,{"$f":"\"00\"&'1-Award Info'!$G$6","v":"00"},"","",1,"",{"$f":"IFERROR(\nIF(VLOOKUP(\"FY\"&RIGHT($EA453,2),'1-Award Info'!$F$28:$G$32,2,0)=0,\n     1,\n     VLOOKUP(\"FY\"&RIGHT($EA453,2),'1-Award Info'!$F$28:$G$32,2,0)),1)","v":1},"",null,""]
[null,null,null,null,null,null,null,null,null,null,null,null,null,null,null,null,null,null,null,null,null,null,null,null,null,null,null,null,null,null,null,null,null,null,null,null,null,null,null,null,null,null,null,null,null,null,null,null,null,null,null,null,null,null,null,null,null,null,null,null,null,null,null,null,null,null,null,null,null,null,null,null,null,null,null,null,null,null,null,null,null,null,null,null,null,null,null,null,null,null,null,null,null,null,null,null,null,null,null,null,null,null,null,null,null,null,null,null,null,null,null,null,null,null,null,null,null,null,null,null,null,null,null,null,null,438,{"$f":"\"00\"&'1-Award Info'!$G$6","v":"00"},"","",1,"",{"$f":"IFERROR(\nIF(VLOOKUP(\"FY\"&RIGHT($EA454,2),'1-Award Info'!$F$28:$G$32,2,0)=0,\n     1,\n     VLOOKUP(\"FY\"&RIGHT($EA454,2),'1-Award Info'!$F$28:$G$32,2,0)),1)","v":1},"",null,""]
[null,null,null,null,null,null,null,null,null,null,null,null,null,null,null,null,null,null,null,null,null,null,null,null,null,null,null,null,null,null,null,null,null,null,null,null,null,null,null,null,null,null,null,null,null,null,null,null,null,null,null,null,null,null,null,null,null,null,null,null,null,null,null,null,null,null,null,null,null,null,null,null,null,null,null,null,null,null,null,null,null,null,null,null,null,null,null,null,null,null,null,null,null,null,null,null,null,null,null,null,null,null,null,null,null,null,null,null,null,null,null,null,null,null,null,null,null,null,null,null,null,null,null,null,null,439,{"$f":"\"00\"&'1-Award Info'!$G$6","v":"00"},"","",1,"",{"$f":"IFERROR(\nIF(VLOOKUP(\"FY\"&RIGHT($EA455,2),'1-Award Info'!$F$28:$G$32,2,0)=0,\n     1,\n     VLOOKUP(\"FY\"&RIGHT($EA455,2),'1-Award Info'!$F$28:$G$32,2,0)),1)","v":1},"",null,""]
[null,null,null,null,null,null,null,null,null,null,null,null,null,null,null,null,null,null,null,null,null,null,null,null,null,null,null,null,null,null,null,null,null,null,null,null,null,null,null,null,null,null,null,null,null,null,null,null,null,null,null,null,null,null,null,null,null,null,null,null,null,null,null,null,null,null,null,null,null,null,null,null,null,null,null,null,null,null,null,null,null,null,null,null,null,null,null,null,null,null,null,null,null,null,null,null,null,null,null,null,null,null,null,null,null,null,null,null,null,null,null,null,null,null,null,null,null,null,null,null,null,null,null,null,null,440,{"$f":"\"00\"&'1-Award Info'!$G$6","v":"00"},"","",1,"",{"$f":"IFERROR(\nIF(VLOOKUP(\"FY\"&RIGHT($EA456,2),'1-Award Info'!$F$28:$G$32,2,0)=0,\n     1,\n     VLOOKUP(\"FY\"&RIGHT($EA456,2),'1-Award Info'!$F$28:$G$32,2,0)),1)","v":1},"",null,""]
[null,null,null,null,null,null,null,null,null,null,null,null,null,null,null,null,null,null,null,null,null,null,null,null,null,null,null,null,null,null,null,null,null,null,null,null,null,null,null,null,null,null,null,null,null,null,null,null,null,null,null,null,null,null,null,null,null,null,null,null,null,null,null,null,null,null,null,null,null,null,null,null,null,null,null,null,null,null,null,null,null,null,null,null,null,null,null,null,null,null,null,null,null,null,null,null,null,null,null,null,null,null,null,null,null,null,null,null,null,null,null,null,null,null,null,null,null,null,null,null,null,null,null,null,null,441,{"$f":"\"00\"&'1-Award Info'!$G$6","v":"00"},"","",1,"",{"$f":"IFERROR(\nIF(VLOOKUP(\"FY\"&RIGHT($EA457,2),'1-Award Info'!$F$28:$G$32,2,0)=0,\n     1,\n     VLOOKUP(\"FY\"&RIGHT($EA457,2),'1-Award Info'!$F$28:$G$32,2,0)),1)","v":1},"",null,""]
[null,null,null,null,null,null,null,null,null,null,null,null,null,null,null,null,null,null,null,null,null,null,null,null,null,null,null,null,null,null,null,null,null,null,null,null,null,null,null,null,null,null,null,null,null,null,null,null,null,null,null,null,null,null,null,null,null,null,null,null,null,null,null,null,null,null,null,null,null,null,null,null,null,null,null,null,null,null,null,null,null,null,null,null,null,null,null,null,null,null,null,null,null,null,null,null,null,null,null,null,null,null,null,null,null,null,null,null,null,null,null,null,null,null,null,null,null,null,null,null,null,null,null,null,null,442,{"$f":"\"00\"&'1-Award Info'!$G$6","v":"00"},"","",1,"",{"$f":"IFERROR(\nIF(VLOOKUP(\"FY\"&RIGHT($EA458,2),'1-Award Info'!$F$28:$G$32,2,0)=0,\n     1,\n     VLOOKUP(\"FY\"&RIGHT($EA458,2),'1-Award Info'!$F$28:$G$32,2,0)),1)","v":1},"",null,""]
[null,null,null,null,null,null,null,null,null,null,null,null,null,null,null,null,null,null,null,null,null,null,null,null,null,null,null,null,null,null,null,null,null,null,null,null,null,null,null,null,null,null,null,null,null,null,null,null,null,null,null,null,null,null,null,null,null,null,null,null,null,null,null,null,null,null,null,null,null,null,null,null,null,null,null,null,null,null,null,null,null,null,null,null,null,null,null,null,null,null,null,null,null,null,null,null,null,null,null,null,null,null,null,null,null,null,null,null,null,null,null,null,null,null,null,null,null,null,null,null,null,null,null,null,null,443,{"$f":"\"00\"&'1-Award Info'!$G$6","v":"00"},"","",1,"",{"$f":"IFERROR(\nIF(VLOOKUP(\"FY\"&RIGHT($EA459,2),'1-Award Info'!$F$28:$G$32,2,0)=0,\n     1,\n     VLOOKUP(\"FY\"&RIGHT($EA459,2),'1-Award Info'!$F$28:$G$32,2,0)),1)","v":1},"",null,""]
[null,null,null,null,null,null,null,null,null,null,null,null,null,null,null,null,null,null,null,null,null,null,null,null,null,null,null,null,null,null,null,null,null,null,null,null,null,null,null,null,null,null,null,null,null,null,null,null,null,null,null,null,null,null,null,null,null,null,null,null,null,null,null,null,null,null,null,null,null,null,null,null,null,null,null,null,null,null,null,null,null,null,null,null,null,null,null,null,null,null,null,null,null,null,null,null,null,null,null,null,null,null,null,null,null,null,null,null,null,null,null,null,null,null,null,null,null,null,null,null,null,null,null,null,null,444,{"$f":"\"00\"&'1-Award Info'!$G$6","v":"00"},"","",1,"",{"$f":"IFERROR(\nIF(VLOOKUP(\"FY\"&RIGHT($EA460,2),'1-Award Info'!$F$28:$G$32,2,0)=0,\n     1,\n     VLOOKUP(\"FY\"&RIGHT($EA460,2),'1-Award Info'!$F$28:$G$32,2,0)),1)","v":1},"",null,""]
[null,null,null,null,null,null,null,null,null,null,null,null,null,null,null,null,null,null,null,null,null,null,null,null,null,null,null,null,null,null,null,null,null,null,null,null,null,null,null,null,null,null,null,null,null,null,null,null,null,null,null,null,null,null,null,null,null,null,null,null,null,null,null,null,null,null,null,null,null,null,null,null,null,null,null,null,null,null,null,null,null,null,null,null,null,null,null,null,null,null,null,null,null,null,null,null,null,null,null,null,null,null,null,null,null,null,null,null,null,null,null,null,null,null,null,null,null,null,null,null,null,null,null,null,null,445,{"$f":"\"00\"&'1-Award Info'!$G$6","v":"00"},"","",1,"",{"$f":"IFERROR(\nIF(VLOOKUP(\"FY\"&RIGHT($EA461,2),'1-Award Info'!$F$28:$G$32,2,0)=0,\n     1,\n     VLOOKUP(\"FY\"&RIGHT($EA461,2),'1-Award Info'!$F$28:$G$32,2,0)),1)","v":1},"",null,""]
[null,null,null,null,null,null,null,null,null,null,null,null,null,null,null,null,null,null,null,null,null,null,null,null,null,null,null,null,null,null,null,null,null,null,null,null,null,null,null,null,null,null,null,null,null,null,null,null,null,null,null,null,null,null,null,null,null,null,null,null,null,null,null,null,null,null,null,null,null,null,null,null,null,null,null,null,null,null,null,null,null,null,null,null,null,null,null,null,null,null,null,null,null,null,null,null,null,null,null,null,null,null,null,null,null,null,null,null,null,null,null,null,null,null,null,null,null,null,null,null,null,null,null,null,null,446,{"$f":"\"00\"&'1-Award Info'!$G$6","v":"00"},"","",1,"",{"$f":"IFERROR(\nIF(VLOOKUP(\"FY\"&RIGHT($EA462,2),'1-Award Info'!$F$28:$G$32,2,0)=0,\n     1,\n     VLOOKUP(\"FY\"&RIGHT($EA462,2),'1-Award Info'!$F$28:$G$32,2,0)),1)","v":1},"",null,""]
[null,null,null,null,null,null,null,null,null,null,null,null,null,null,null,null,null,null,null,null,null,null,null,null,null,null,null,null,null,null,null,null,null,null,null,null,null,null,null,null,null,null,null,null,null,null,null,null,null,null,null,null,null,null,null,null,null,null,null,null,null,null,null,null,null,null,null,null,null,null,null,null,null,null,null,null,null,null,null,null,null,null,null,null,null,null,null,null,null,null,null,null,null,null,null,null,null,null,null,null,null,null,null,null,null,null,null,null,null,null,null,null,null,null,null,null,null,null,null,null,null,null,null,null,null,447,{"$f":"\"00\"&'1-Award Info'!$G$6","v":"00"},"","",1,"",{"$f":"IFERROR(\nIF(VLOOKUP(\"FY\"&RIGHT($EA463,2),'1-Award Info'!$F$28:$G$32,2,0)=0,\n     1,\n     VLOOKUP(\"FY\"&RIGHT($EA463,2),'1-Award Info'!$F$28:$G$32,2,0)),1)","v":1},"",null,""]
[null,null,null,null,null,null,null,null,null,null,null,null,null,null,null,null,null,null,null,null,null,null,null,null,null,null,null,null,null,null,null,null,null,null,null,null,null,null,null,null,null,null,null,null,null,null,null,null,null,null,null,null,null,null,null,null,null,null,null,null,null,null,null,null,null,null,null,null,null,null,null,null,null,null,null,null,null,null,null,null,null,null,null,null,null,null,null,null,null,null,null,null,null,null,null,null,null,null,null,null,null,null,null,null,null,null,null,null,null,null,null,null,null,null,null,null,null,null,null,null,null,null,null,null,null,448,{"$f":"\"00\"&'1-Award Info'!$G$6","v":"00"},"","",1,"",{"$f":"IFERROR(\nIF(VLOOKUP(\"FY\"&RIGHT($EA464,2),'1-Award Info'!$F$28:$G$32,2,0)=0,\n     1,\n     VLOOKUP(\"FY\"&RIGHT($EA464,2),'1-Award Info'!$F$28:$G$32,2,0)),1)","v":1},"",null,""]
[null,null,null,null,null,null,null,null,null,null,null,null,null,null,null,null,null,null,null,null,null,null,null,null,null,null,null,null,null,null,null,null,null,null,null,null,null,null,null,null,null,null,null,null,null,null,null,null,null,null,null,null,null,null,null,null,null,null,null,null,null,null,null,null,null,null,null,null,null,null,null,null,null,null,null,null,null,null,null,null,null,null,null,null,null,null,null,null,null,null,null,null,null,null,null,null,null,null,null,null,null,null,null,null,null,null,null,null,null,null,null,null,null,null,null,null,null,null,null,null,null,null,null,null,null,449,{"$f":"\"00\"&'1-Award Info'!$G$6","v":"00"},"","",1,"",{"$f":"IFERROR(\nIF(VLOOKUP(\"FY\"&RIGHT($EA465,2),'1-Award Info'!$F$28:$G$32,2,0)=0,\n     1,\n     VLOOKUP(\"FY\"&RIGHT($EA465,2),'1-Award Info'!$F$28:$G$32,2,0)),1)","v":1},"",null,""]
[null,null,null,null,null,null,null,null,null,null,null,null,null,null,null,null,null,null,null,null,null,null,null,null,null,null,null,null,null,null,null,null,null,null,null,null,null,null,null,null,null,null,null,null,null,null,null,null,null,null,null,null,null,null,null,null,null,null,null,null,null,null,null,null,null,null,null,null,null,null,null,null,null,null,null,null,null,null,null,null,null,null,null,null,null,null,null,null,null,null,null,null,null,null,null,null,null,null,null,null,null,null,null,null,null,null,null,null,null,null,null,null,null,null,null,null,null,null,null,null,null,null,null,null,null,450,{"$f":"\"00\"&'1-Award Info'!$G$6","v":"00"},"","",1,"",{"$f":"IFERROR(\nIF(VLOOKUP(\"FY\"&RIGHT($EA466,2),'1-Award Info'!$F$28:$G$32,2,0)=0,\n     1,\n     VLOOKUP(\"FY\"&RIGHT($EA466,2),'1-Award Info'!$F$28:$G$32,2,0)),1)","v":1},"",null,""]
[null,null,null,null,null,null,null,null,null,null,null,null,null,null,null,null,null,null,null,null,null,null,null,null,null,null,null,null,null,null,null,null,null,null,null,null,null,null,null,null,null,null,null,null,null,null,null,null,null,null,null,null,null,null,null,null,null,null,null,null,null,null,null,null,null,null,null,null,null,null,null,null,null,null,null,null,null,null,null,null,null,null,null,null,null,null,null,null,null,null,null,null,null,null,null,null,null,null,null,null,null,null,null,null,null,null,null,null,null,null,null,null,null,null,null,null,null,null,null,null,null,null,null,null,null,{"$f":"DV466+1","v":451},{"$f":"\"00\"&'1-Award Info'!$G$6","v":"00"},"","",1,"",{"$f":"IFERROR(\nIF(VLOOKUP(\"FY\"&RIGHT($EA467,2),'1-Award Info'!$F$28:$G$32,2,0)=0,\n     1,\n     VLOOKUP(\"FY\"&RIGHT($EA467,2),'1-Award Info'!$F$28:$G$32,2,0)),1)","v":1},"",null,""]
[null,null,null,null,null,null,null,null,null,null,null,null,null,null,null,null,null,null,null,null,null,null,null,null,null,null,null,null,null,null,null,null,null,null,null,null,null,null,null,null,null,null,null,null,null,null,null,null,null,null,null,null,null,null,null,null,null,null,null,null,null,null,null,null,null,null,null,null,null,null,null,null,null,null,null,null,null,null,null,null,null,null,null,null,null,null,null,null,null,null,null,null,null,null,null,null,null,null,null,null,null,null,null,null,null,null,null,null,null,null,null,null,null,null,null,null,null,null,null,null,null,null,null,null,null,452,{"$f":"\"00\"&'1-Award Info'!$G$6","v":"00"},"","",1,"",{"$f":"IFERROR(\nIF(VLOOKUP(\"FY\"&RIGHT($EA468,2),'1-Award Info'!$F$28:$G$32,2,0)=0,\n     1,\n     VLOOKUP(\"FY\"&RIGHT($EA468,2),'1-Award Info'!$F$28:$G$32,2,0)),1)","v":1},"",null,""]
[null,null,null,null,null,null,null,null,null,null,null,null,null,null,null,null,null,null,null,null,null,null,null,null,null,null,null,null,null,null,null,null,null,null,null,null,null,null,null,null,null,null,null,null,null,null,null,null,null,null,null,null,null,null,null,null,null,null,null,null,null,null,null,null,null,null,null,null,null,null,null,null,null,null,null,null,null,null,null,null,null,null,null,null,null,null,null,null,null,null,null,null,null,null,null,null,null,null,null,null,null,null,null,null,null,null,null,null,null,null,null,null,null,null,null,null,null,null,null,null,null,null,null,null,null,453,{"$f":"\"00\"&'1-Award Info'!$G$6","v":"00"},"","",1,"",{"$f":"IFERROR(\nIF(VLOOKUP(\"FY\"&RIGHT($EA469,2),'1-Award Info'!$F$28:$G$32,2,0)=0,\n     1,\n     VLOOKUP(\"FY\"&RIGHT($EA469,2),'1-Award Info'!$F$28:$G$32,2,0)),1)","v":1},"",null,""]
[null,null,null,null,null,null,null,null,null,null,null,null,null,null,null,null,null,null,null,null,null,null,null,null,null,null,null,null,null,null,null,null,null,null,null,null,null,null,null,null,null,null,null,null,null,null,null,null,null,null,null,null,null,null,null,null,null,null,null,null,null,null,null,null,null,null,null,null,null,null,null,null,null,null,null,null,null,null,null,null,null,null,null,null,null,null,null,null,null,null,null,null,null,null,null,null,null,null,null,null,null,null,null,null,null,null,null,null,null,null,null,null,null,null,null,null,null,null,null,null,null,null,null,null,null,454,{"$f":"\"00\"&'1-Award Info'!$G$6","v":"00"},"","",1,"",{"$f":"IFERROR(\nIF(VLOOKUP(\"FY\"&RIGHT($EA470,2),'1-Award Info'!$F$28:$G$32,2,0)=0,\n     1,\n     VLOOKUP(\"FY\"&RIGHT($EA470,2),'1-Award Info'!$F$28:$G$32,2,0)),1)","v":1},"",null,""]
[null,null,null,null,null,null,null,null,null,null,null,null,null,null,null,null,null,null,null,null,null,null,null,null,null,null,null,null,null,null,null,null,null,null,null,null,null,null,null,null,null,null,null,null,null,null,null,null,null,null,null,null,null,null,null,null,null,null,null,null,null,null,null,null,null,null,null,null,null,null,null,null,null,null,null,null,null,null,null,null,null,null,null,null,null,null,null,null,null,null,null,null,null,null,null,null,null,null,null,null,null,null,null,null,null,null,null,null,null,null,null,null,null,null,null,null,null,null,null,null,null,null,null,null,null,455,{"$f":"\"00\"&'1-Award Info'!$G$6","v":"00"},"","",1,"",{"$f":"IFERROR(\nIF(VLOOKUP(\"FY\"&RIGHT($EA471,2),'1-Award Info'!$F$28:$G$32,2,0)=0,\n     1,\n     VLOOKUP(\"FY\"&RIGHT($EA471,2),'1-Award Info'!$F$28:$G$32,2,0)),1)","v":1},"",null,""]
[null,null,null,null,null,null,null,null,null,null,null,null,null,null,null,null,null,null,null,null,null,null,null,null,null,null,null,null,null,null,null,null,null,null,null,null,null,null,null,null,null,null,null,null,null,null,null,null,null,null,null,null,null,null,null,null,null,null,null,null,null,null,null,null,null,null,null,null,null,null,null,null,null,null,null,null,null,null,null,null,null,null,null,null,null,null,null,null,null,null,null,null,null,null,null,null,null,null,null,null,null,null,null,null,null,null,null,null,null,null,null,null,null,null,null,null,null,null,null,null,null,null,null,null,null,456,{"$f":"\"00\"&'1-Award Info'!$G$6","v":"00"},"","",1,"",{"$f":"IFERROR(\nIF(VLOOKUP(\"FY\"&RIGHT($EA472,2),'1-Award Info'!$F$28:$G$32,2,0)=0,\n     1,\n     VLOOKUP(\"FY\"&RIGHT($EA472,2),'1-Award Info'!$F$28:$G$32,2,0)),1)","v":1},"",null,""]
[null,null,null,null,null,null,null,null,null,null,null,null,null,null,null,null,null,null,null,null,null,null,null,null,null,null,null,null,null,null,null,null,null,null,null,null,null,null,null,null,null,null,null,null,null,null,null,null,null,null,null,null,null,null,null,null,null,null,null,null,null,null,null,null,null,null,null,null,null,null,null,null,null,null,null,null,null,null,null,null,null,null,null,null,null,null,null,null,null,null,null,null,null,null,null,null,null,null,null,null,null,null,null,null,null,null,null,null,null,null,null,null,null,null,null,null,null,null,null,null,null,null,null,null,null,457,{"$f":"\"00\"&'1-Award Info'!$G$6","v":"00"},"","",1,"",{"$f":"IFERROR(\nIF(VLOOKUP(\"FY\"&RIGHT($EA473,2),'1-Award Info'!$F$28:$G$32,2,0)=0,\n     1,\n     VLOOKUP(\"FY\"&RIGHT($EA473,2),'1-Award Info'!$F$28:$G$32,2,0)),1)","v":1},"",null,""]
[null,null,null,null,null,null,null,null,null,null,null,null,null,null,null,null,null,null,null,null,null,null,null,null,null,null,null,null,null,null,null,null,null,null,null,null,null,null,null,null,null,null,null,null,null,null,null,null,null,null,null,null,null,null,null,null,null,null,null,null,null,null,null,null,null,null,null,null,null,null,null,null,null,null,null,null,null,null,null,null,null,null,null,null,null,null,null,null,null,null,null,null,null,null,null,null,null,null,null,null,null,null,null,null,null,null,null,null,null,null,null,null,null,null,null,null,null,null,null,null,null,null,null,null,null,458,{"$f":"\"00\"&'1-Award Info'!$G$6","v":"00"},"","",1,"",{"$f":"IFERROR(\nIF(VLOOKUP(\"FY\"&RIGHT($EA474,2),'1-Award Info'!$F$28:$G$32,2,0)=0,\n     1,\n     VLOOKUP(\"FY\"&RIGHT($EA474,2),'1-Award Info'!$F$28:$G$32,2,0)),1)","v":1},"",null,""]
[null,null,null,null,null,null,null,null,null,null,null,null,null,null,null,null,null,null,null,null,null,null,null,null,null,null,null,null,null,null,null,null,null,null,null,null,null,null,null,null,null,null,null,null,null,null,null,null,null,null,null,null,null,null,null,null,null,null,null,null,null,null,null,null,null,null,null,null,null,null,null,null,null,null,null,null,null,null,null,null,null,null,null,null,null,null,null,null,null,null,null,null,null,null,null,null,null,null,null,null,null,null,null,null,null,null,null,null,null,null,null,null,null,null,null,null,null,null,null,null,null,null,null,null,null,459,{"$f":"\"00\"&'1-Award Info'!$G$6","v":"00"},"","",1,"",{"$f":"IFERROR(\nIF(VLOOKUP(\"FY\"&RIGHT($EA475,2),'1-Award Info'!$F$28:$G$32,2,0)=0,\n     1,\n     VLOOKUP(\"FY\"&RIGHT($EA475,2),'1-Award Info'!$F$28:$G$32,2,0)),1)","v":1},"",null,""]
[null,null,null,null,null,null,null,null,null,null,null,null,null,null,null,null,null,null,null,null,null,null,null,null,null,null,null,null,null,null,null,null,null,null,null,null,null,null,null,null,null,null,null,null,null,null,null,null,null,null,null,null,null,null,null,null,null,null,null,null,null,null,null,null,null,null,null,null,null,null,null,null,null,null,null,null,null,null,null,null,null,null,null,null,null,null,null,null,null,null,null,null,null,null,null,null,null,null,null,null,null,null,null,null,null,null,null,null,null,null,null,null,null,null,null,null,null,null,null,null,null,null,null,null,null,460,{"$f":"\"00\"&'1-Award Info'!$G$6","v":"00"},"","",1,"",{"$f":"IFERROR(\nIF(VLOOKUP(\"FY\"&RIGHT($EA476,2),'1-Award Info'!$F$28:$G$32,2,0)=0,\n     1,\n     VLOOKUP(\"FY\"&RIGHT($EA476,2),'1-Award Info'!$F$28:$G$32,2,0)),1)","v":1},"",null,""]
[null,null,null,null,null,null,null,null,null,null,null,null,null,null,null,null,null,null,null,null,null,null,null,null,null,null,null,null,null,null,null,null,null,null,null,null,null,null,null,null,null,null,null,null,null,null,null,null,null,null,null,null,null,null,null,null,null,null,null,null,null,null,null,null,null,null,null,null,null,null,null,null,null,null,null,null,null,null,null,null,null,null,null,null,null,null,null,null,null,null,null,null,null,null,null,null,null,null,null,null,null,null,null,null,null,null,null,null,null,null,null,null,null,null,null,null,null,null,null,null,null,null,null,null,null,461,{"$f":"\"00\"&'1-Award Info'!$G$6","v":"00"},"","",1,"",{"$f":"IFERROR(\nIF(VLOOKUP(\"FY\"&RIGHT($EA477,2),'1-Award Info'!$F$28:$G$32,2,0)=0,\n     1,\n     VLOOKUP(\"FY\"&RIGHT($EA477,2),'1-Award Info'!$F$28:$G$32,2,0)),1)","v":1},"",null,""]
[null,null,null,null,null,null,null,null,null,null,null,null,null,null,null,null,null,null,null,null,null,null,null,null,null,null,null,null,null,null,null,null,null,null,null,null,null,null,null,null,null,null,null,null,null,null,null,null,null,null,null,null,null,null,null,null,null,null,null,null,null,null,null,null,null,null,null,null,null,null,null,null,null,null,null,null,null,null,null,null,null,null,null,null,null,null,null,null,null,null,null,null,null,null,null,null,null,null,null,null,null,null,null,null,null,null,null,null,null,null,null,null,null,null,null,null,null,null,null,null,null,null,null,null,null,462,{"$f":"\"00\"&'1-Award Info'!$G$6","v":"00"},"","",1,"",{"$f":"IFERROR(\nIF(VLOOKUP(\"FY\"&RIGHT($EA478,2),'1-Award Info'!$F$28:$G$32,2,0)=0,\n     1,\n     VLOOKUP(\"FY\"&RIGHT($EA478,2),'1-Award Info'!$F$28:$G$32,2,0)),1)","v":1},"",null,""]
[null,null,null,null,null,null,null,null,null,null,null,null,null,null,null,null,null,null,null,null,null,null,null,null,null,null,null,null,null,null,null,null,null,null,null,null,null,null,null,null,null,null,null,null,null,null,null,null,null,null,null,null,null,null,null,null,null,null,null,null,null,null,null,null,null,null,null,null,null,null,null,null,null,null,null,null,null,null,null,null,null,null,null,null,null,null,null,null,null,null,null,null,null,null,null,null,null,null,null,null,null,null,null,null,null,null,null,null,null,null,null,null,null,null,null,null,null,null,null,null,null,null,null,null,null,463,{"$f":"\"00\"&'1-Award Info'!$G$6","v":"00"},"","",1,"",{"$f":"IFERROR(\nIF(VLOOKUP(\"FY\"&RIGHT($EA479,2),'1-Award Info'!$F$28:$G$32,2,0)=0,\n     1,\n     VLOOKUP(\"FY\"&RIGHT($EA479,2),'1-Award Info'!$F$28:$G$32,2,0)),1)","v":1},"",null,""]
[null,null,null,null,null,null,null,null,null,null,null,null,null,null,null,null,null,null,null,null,null,null,null,null,null,null,null,null,null,null,null,null,null,null,null,null,null,null,null,null,null,null,null,null,null,null,null,null,null,null,null,null,null,null,null,null,null,null,null,null,null,null,null,null,null,null,null,null,null,null,null,null,null,null,null,null,null,null,null,null,null,null,null,null,null,null,null,null,null,null,null,null,null,null,null,null,null,null,null,null,null,null,null,null,null,null,null,null,null,null,null,null,null,null,null,null,null,null,null,null,null,null,null,null,null,464,{"$f":"\"00\"&'1-Award Info'!$G$6","v":"00"},"","",1,"",{"$f":"IFERROR(\nIF(VLOOKUP(\"FY\"&RIGHT($EA480,2),'1-Award Info'!$F$28:$G$32,2,0)=0,\n     1,\n     VLOOKUP(\"FY\"&RIGHT($EA480,2),'1-Award Info'!$F$28:$G$32,2,0)),1)","v":1},"",null,""]
[null,null,null,null,null,null,null,null,null,null,null,null,null,null,null,null,null,null,null,null,null,null,null,null,null,null,null,null,null,null,null,null,null,null,null,null,null,null,null,null,null,null,null,null,null,null,null,null,null,null,null,null,null,null,null,null,null,null,null,null,null,null,null,null,null,null,null,null,null,null,null,null,null,null,null,null,null,null,null,null,null,null,null,null,null,null,null,null,null,null,null,null,null,null,null,null,null,null,null,null,null,null,null,null,null,null,null,null,null,null,null,null,null,null,null,null,null,null,null,null,null,null,null,null,null,465,{"$f":"\"00\"&'1-Award Info'!$G$6","v":"00"},"","",1,"",{"$f":"IFERROR(\nIF(VLOOKUP(\"FY\"&RIGHT($EA481,2),'1-Award Info'!$F$28:$G$32,2,0)=0,\n     1,\n     VLOOKUP(\"FY\"&RIGHT($EA481,2),'1-Award Info'!$F$28:$G$32,2,0)),1)","v":1},"",null,""]
[null,null,null,null,null,null,null,null,null,null,null,null,null,null,null,null,null,null,null,null,null,null,null,null,null,null,null,null,null,null,null,null,null,null,null,null,null,null,null,null,null,null,null,null,null,null,null,null,null,null,null,null,null,null,null,null,null,null,null,null,null,null,null,null,null,null,null,null,null,null,null,null,null,null,null,null,null,null,null,null,null,null,null,null,null,null,null,null,null,null,null,null,null,null,null,null,null,null,null,null,null,null,null,null,null,null,null,null,null,null,null,null,null,null,null,null,null,null,null,null,null,null,null,null,null,466,{"$f":"\"00\"&'1-Award Info'!$G$6","v":"00"},"","",1,"",{"$f":"IFERROR(\nIF(VLOOKUP(\"FY\"&RIGHT($EA482,2),'1-Award Info'!$F$28:$G$32,2,0)=0,\n     1,\n     VLOOKUP(\"FY\"&RIGHT($EA482,2),'1-Award Info'!$F$28:$G$32,2,0)),1)","v":1},"",null,""]
[null,null,null,null,null,null,null,null,null,null,null,null,null,null,null,null,null,null,null,null,null,null,null,null,null,null,null,null,null,null,null,null,null,null,null,null,null,null,null,null,null,null,null,null,null,null,null,null,null,null,null,null,null,null,null,null,null,null,null,null,null,null,null,null,null,null,null,null,null,null,null,null,null,null,null,null,null,null,null,null,null,null,null,null,null,null,null,null,null,null,null,null,null,null,null,null,null,null,null,null,null,null,null,null,null,null,null,null,null,null,null,null,null,null,null,null,null,null,null,null,null,null,null,null,null,467,{"$f":"\"00\"&'1-Award Info'!$G$6","v":"00"},"","",1,"",{"$f":"IFERROR(\nIF(VLOOKUP(\"FY\"&RIGHT($EA483,2),'1-Award Info'!$F$28:$G$32,2,0)=0,\n     1,\n     VLOOKUP(\"FY\"&RIGHT($EA483,2),'1-Award Info'!$F$28:$G$32,2,0)),1)","v":1},"",null,""]
[null,null,null,null,null,null,null,null,null,null,null,null,null,null,null,null,null,null,null,null,null,null,null,null,null,null,null,null,null,null,null,null,null,null,null,null,null,null,null,null,null,null,null,null,null,null,null,null,null,null,null,null,null,null,null,null,null,null,null,null,null,null,null,null,null,null,null,null,null,null,null,null,null,null,null,null,null,null,null,null,null,null,null,null,null,null,null,null,null,null,null,null,null,null,null,null,null,null,null,null,null,null,null,null,null,null,null,null,null,null,null,null,null,null,null,null,null,null,null,null,null,null,null,null,null,468,{"$f":"\"00\"&'1-Award Info'!$G$6","v":"00"},"","",1,"",{"$f":"IFERROR(\nIF(VLOOKUP(\"FY\"&RIGHT($EA484,2),'1-Award Info'!$F$28:$G$32,2,0)=0,\n     1,\n     VLOOKUP(\"FY\"&RIGHT($EA484,2),'1-Award Info'!$F$28:$G$32,2,0)),1)","v":1},"",null,""]
[null,null,null,null,null,null,null,null,null,null,null,null,null,null,null,null,null,null,null,null,null,null,null,null,null,null,null,null,null,null,null,null,null,null,null,null,null,null,null,null,null,null,null,null,null,null,null,null,null,null,null,null,null,null,null,null,null,null,null,null,null,null,null,null,null,null,null,null,null,null,null,null,null,null,null,null,null,null,null,null,null,null,null,null,null,null,null,null,null,null,null,null,null,null,null,null,null,null,null,null,null,null,null,null,null,null,null,null,null,null,null,null,null,null,null,null,null,null,null,null,null,null,null,null,null,469,{"$f":"\"00\"&'1-Award Info'!$G$6","v":"00"},"","",1,"",{"$f":"IFERROR(\nIF(VLOOKUP(\"FY\"&RIGHT($EA485,2),'1-Award Info'!$F$28:$G$32,2,0)=0,\n     1,\n     VLOOKUP(\"FY\"&RIGHT($EA485,2),'1-Award Info'!$F$28:$G$32,2,0)),1)","v":1},"",null,""]
[null,null,null,null,null,null,null,null,null,null,null,null,null,null,null,null,null,null,null,null,null,null,null,null,null,null,null,null,null,null,null,null,null,null,null,null,null,null,null,null,null,null,null,null,null,null,null,null,null,null,null,null,null,null,null,null,null,null,null,null,null,null,null,null,null,null,null,null,null,null,null,null,null,null,null,null,null,null,null,null,null,null,null,null,null,null,null,null,null,null,null,null,null,null,null,null,null,null,null,null,null,null,null,null,null,null,null,null,null,null,null,null,null,null,null,null,null,null,null,null,null,null,null,null,null,470,{"$f":"\"00\"&'1-Award Info'!$G$6","v":"00"},"","",1,"",{"$f":"IFERROR(\nIF(VLOOKUP(\"FY\"&RIGHT($EA486,2),'1-Award Info'!$F$28:$G$32,2,0)=0,\n     1,\n     VLOOKUP(\"FY\"&RIGHT($EA486,2),'1-Award Info'!$F$28:$G$32,2,0)),1)","v":1},"",null,""]
[null,null,null,null,null,null,null,null,null,null,null,null,null,null,null,null,null,null,null,null,null,null,null,null,null,null,null,null,null,null,null,null,null,null,null,null,null,null,null,null,null,null,null,null,null,null,null,null,null,null,null,null,null,null,null,null,null,null,null,null,null,null,null,null,null,null,null,null,null,null,null,null,null,null,null,null,null,null,null,null,null,null,null,null,null,null,null,null,null,null,null,null,null,null,null,null,null,null,null,null,null,null,null,null,null,null,null,null,null,null,null,null,null,null,null,null,null,null,null,null,null,null,null,null,null,471,{"$f":"\"00\"&'1-Award Info'!$G$6","v":"00"},"","",1,"",{"$f":"IFERROR(\nIF(VLOOKUP(\"FY\"&RIGHT($EA487,2),'1-Award Info'!$F$28:$G$32,2,0)=0,\n     1,\n     VLOOKUP(\"FY\"&RIGHT($EA487,2),'1-Award Info'!$F$28:$G$32,2,0)),1)","v":1},"",null,""]
[null,null,null,null,null,null,null,null,null,null,null,null,null,null,null,null,null,null,null,null,null,null,null,null,null,null,null,null,null,null,null,null,null,null,null,null,null,null,null,null,null,null,null,null,null,null,null,null,null,null,null,null,null,null,null,null,null,null,null,null,null,null,null,null,null,null,null,null,null,null,null,null,null,null,null,null,null,null,null,null,null,null,null,null,null,null,null,null,null,null,null,null,null,null,null,null,null,null,null,null,null,null,null,null,null,null,null,null,null,null,null,null,null,null,null,null,null,null,null,null,null,null,null,null,null,472,{"$f":"\"00\"&'1-Award Info'!$G$6","v":"00"},"","",1,"",{"$f":"IFERROR(\nIF(VLOOKUP(\"FY\"&RIGHT($EA488,2),'1-Award Info'!$F$28:$G$32,2,0)=0,\n     1,\n     VLOOKUP(\"FY\"&RIGHT($EA488,2),'1-Award Info'!$F$28:$G$32,2,0)),1)","v":1},"",null,""]
[null,null,null,null,null,null,null,null,null,null,null,null,null,null,null,null,null,null,null,null,null,null,null,null,null,null,null,null,null,null,null,null,null,null,null,null,null,null,null,null,null,null,null,null,null,null,null,null,null,null,null,null,null,null,null,null,null,null,null,null,null,null,null,null,null,null,null,null,null,null,null,null,null,null,null,null,null,null,null,null,null,null,null,null,null,null,null,null,null,null,null,null,null,null,null,null,null,null,null,null,null,null,null,null,null,null,null,null,null,null,null,null,null,null,null,null,null,null,null,null,null,null,null,null,null,473,{"$f":"\"00\"&'1-Award Info'!$G$6","v":"00"},"","",1,"",{"$f":"IFERROR(\nIF(VLOOKUP(\"FY\"&RIGHT($EA489,2),'1-Award Info'!$F$28:$G$32,2,0)=0,\n     1,\n     VLOOKUP(\"FY\"&RIGHT($EA489,2),'1-Award Info'!$F$28:$G$32,2,0)),1)","v":1},"",null,""]
[null,null,null,null,null,null,null,null,null,null,null,null,null,null,null,null,null,null,null,null,null,null,null,null,null,null,null,null,null,null,null,null,null,null,null,null,null,null,null,null,null,null,null,null,null,null,null,null,null,null,null,null,null,null,null,null,null,null,null,null,null,null,null,null,null,null,null,null,null,null,null,null,null,null,null,null,null,null,null,null,null,null,null,null,null,null,null,null,null,null,null,null,null,null,null,null,null,null,null,null,null,null,null,null,null,null,null,null,null,null,null,null,null,null,null,null,null,null,null,null,null,null,null,null,null,474,{"$f":"\"00\"&'1-Award Info'!$G$6","v":"00"},"","",1,"",{"$f":"IFERROR(\nIF(VLOOKUP(\"FY\"&RIGHT($EA490,2),'1-Award Info'!$F$28:$G$32,2,0)=0,\n     1,\n     VLOOKUP(\"FY\"&RIGHT($EA490,2),'1-Award Info'!$F$28:$G$32,2,0)),1)","v":1},"",null,""]
[null,null,null,null,null,null,null,null,null,null,null,null,null,null,null,null,null,null,null,null,null,null,null,null,null,null,null,null,null,null,null,null,null,null,null,null,null,null,null,null,null,null,null,null,null,null,null,null,null,null,null,null,null,null,null,null,null,null,null,null,null,null,null,null,null,null,null,null,null,null,null,null,null,null,null,null,null,null,null,null,null,null,null,null,null,null,null,null,null,null,null,null,null,null,null,null,null,null,null,null,null,null,null,null,null,null,null,null,null,null,null,null,null,null,null,null,null,null,null,null,null,null,null,null,null,475,{"$f":"\"00\"&'1-Award Info'!$G$6","v":"00"},"","",1,"",{"$f":"IFERROR(\nIF(VLOOKUP(\"FY\"&RIGHT($EA491,2),'1-Award Info'!$F$28:$G$32,2,0)=0,\n     1,\n     VLOOKUP(\"FY\"&RIGHT($EA491,2),'1-Award Info'!$F$28:$G$32,2,0)),1)","v":1},"",null,""]
[null,null,null,null,null,null,null,null,null,null,null,null,null,null,null,null,null,null,null,null,null,null,null,null,null,null,null,null,null,null,null,null,null,null,null,null,null,null,null,null,null,null,null,null,null,null,null,null,null,null,null,null,null,null,null,null,null,null,null,null,null,null,null,null,null,null,null,null,null,null,null,null,null,null,null,null,null,null,null,null,null,null,null,null,null,null,null,null,null,null,null,null,null,null,null,null,null,null,null,null,null,null,null,null,null,null,null,null,null,null,null,null,null,null,null,null,null,null,null,null,null,null,null,null,null,476,{"$f":"\"00\"&'1-Award Info'!$G$6","v":"00"},"","",1,"",{"$f":"IFERROR(\nIF(VLOOKUP(\"FY\"&RIGHT($EA492,2),'1-Award Info'!$F$28:$G$32,2,0)=0,\n     1,\n     VLOOKUP(\"FY\"&RIGHT($EA492,2),'1-Award Info'!$F$28:$G$32,2,0)),1)","v":1},"",null,""]
[null,null,null,null,null,null,null,null,null,null,null,null,null,null,null,null,null,null,null,null,null,null,null,null,null,null,null,null,null,null,null,null,null,null,null,null,null,null,null,null,null,null,null,null,null,null,null,null,null,null,null,null,null,null,null,null,null,null,null,null,null,null,null,null,null,null,null,null,null,null,null,null,null,null,null,null,null,null,null,null,null,null,null,null,null,null,null,null,null,null,null,null,null,null,null,null,null,null,null,null,null,null,null,null,null,null,null,null,null,null,null,null,null,null,null,null,null,null,null,null,null,null,null,null,null,477,{"$f":"\"00\"&'1-Award Info'!$G$6","v":"00"},"","",1,"",{"$f":"IFERROR(\nIF(VLOOKUP(\"FY\"&RIGHT($EA493,2),'1-Award Info'!$F$28:$G$32,2,0)=0,\n     1,\n     VLOOKUP(\"FY\"&RIGHT($EA493,2),'1-Award Info'!$F$28:$G$32,2,0)),1)","v":1},"",null,""]
[null,null,null,null,null,null,null,null,null,null,null,null,null,null,null,null,null,null,null,null,null,null,null,null,null,null,null,null,null,null,null,null,null,null,null,null,null,null,null,null,null,null,null,null,null,null,null,null,null,null,null,null,null,null,null,null,null,null,null,null,null,null,null,null,null,null,null,null,null,null,null,null,null,null,null,null,null,null,null,null,null,null,null,null,null,null,null,null,null,null,null,null,null,null,null,null,null,null,null,null,null,null,null,null,null,null,null,null,null,null,null,null,null,null,null,null,null,null,null,null,null,null,null,null,null,478,{"$f":"\"00\"&'1-Award Info'!$G$6","v":"00"},"","",1,"",{"$f":"IFERROR(\nIF(VLOOKUP(\"FY\"&RIGHT($EA494,2),'1-Award Info'!$F$28:$G$32,2,0)=0,\n     1,\n     VLOOKUP(\"FY\"&RIGHT($EA494,2),'1-Award Info'!$F$28:$G$32,2,0)),1)","v":1},"",null,""]
[null,null,null,null,null,null,null,null,null,null,null,null,null,null,null,null,null,null,null,null,null,null,null,null,null,null,null,null,null,null,null,null,null,null,null,null,null,null,null,null,null,null,null,null,null,null,null,null,null,null,null,null,null,null,null,null,null,null,null,null,null,null,null,null,null,null,null,null,null,null,null,null,null,null,null,null,null,null,null,null,null,null,null,null,null,null,null,null,null,null,null,null,null,null,null,null,null,null,null,null,null,null,null,null,null,null,null,null,null,null,null,null,null,null,null,null,null,null,null,null,null,null,null,null,null,479,{"$f":"\"00\"&'1-Award Info'!$G$6","v":"00"},"","",1,"",{"$f":"IFERROR(\nIF(VLOOKUP(\"FY\"&RIGHT($EA495,2),'1-Award Info'!$F$28:$G$32,2,0)=0,\n     1,\n     VLOOKUP(\"FY\"&RIGHT($EA495,2),'1-Award Info'!$F$28:$G$32,2,0)),1)","v":1},"",null,""]
[null,null,null,null,null,null,null,null,null,null,null,null,null,null,null,null,null,null,null,null,null,null,null,null,null,null,null,null,null,null,null,null,null,null,null,null,null,null,null,null,null,null,null,null,null,null,null,null,null,null,null,null,null,null,null,null,null,null,null,null,null,null,null,null,null,null,null,null,null,null,null,null,null,null,null,null,null,null,null,null,null,null,null,null,null,null,null,null,null,null,null,null,null,null,null,null,null,null,null,null,null,null,null,null,null,null,null,null,null,null,null,null,null,null,null,null,null,null,null,null,null,null,null,null,null,480,{"$f":"\"00\"&'1-Award Info'!$G$6","v":"00"},"","",1,"",{"$f":"IFERROR(\nIF(VLOOKUP(\"FY\"&RIGHT($EA496,2),'1-Award Info'!$F$28:$G$32,2,0)=0,\n     1,\n     VLOOKUP(\"FY\"&RIGHT($EA496,2),'1-Award Info'!$F$28:$G$32,2,0)),1)","v":1},"",null,""]
[null,null,null,null,null,null,null,null,null,null,null,null,null,null,null,null,null,null,null,null,null,null,null,null,null,null,null,null,null,null,null,null,null,null,null,null,null,null,null,null,null,null,null,null,null,null,null,null,null,null,null,null,null,null,null,null,null,null,null,null,null,null,null,null,null,null,null,null,null,null,null,null,null,null,null,null,null,null,null,null,null,null,null,null,null,null,null,null,null,null,null,null,null,null,null,null,null,null,null,null,null,null,null,null,null,null,null,null,null,null,null,null,null,null,null,null,null,null,null,null,null,null,null,null,null,481,{"$f":"\"00\"&'1-Award Info'!$G$6","v":"00"},"","",1,"",{"$f":"IFERROR(\nIF(VLOOKUP(\"FY\"&RIGHT($EA497,2),'1-Award Info'!$F$28:$G$32,2,0)=0,\n     1,\n     VLOOKUP(\"FY\"&RIGHT($EA497,2),'1-Award Info'!$F$28:$G$32,2,0)),1)","v":1},"",null,""]
[null,null,null,null,null,null,null,null,null,null,null,null,null,null,null,null,null,null,null,null,null,null,null,null,null,null,null,null,null,null,null,null,null,null,null,null,null,null,null,null,null,null,null,null,null,null,null,null,null,null,null,null,null,null,null,null,null,null,null,null,null,null,null,null,null,null,null,null,null,null,null,null,null,null,null,null,null,null,null,null,null,null,null,null,null,null,null,null,null,null,null,null,null,null,null,null,null,null,null,null,null,null,null,null,null,null,null,null,null,null,null,null,null,null,null,null,null,null,null,null,null,null,null,null,null,482,{"$f":"\"00\"&'1-Award Info'!$G$6","v":"00"},"","",1,"",{"$f":"IFERROR(\nIF(VLOOKUP(\"FY\"&RIGHT($EA498,2),'1-Award Info'!$F$28:$G$32,2,0)=0,\n     1,\n     VLOOKUP(\"FY\"&RIGHT($EA498,2),'1-Award Info'!$F$28:$G$32,2,0)),1)","v":1},"",null,""]
[null,null,null,null,null,null,null,null,null,null,null,null,null,null,null,null,null,null,null,null,null,null,null,null,null,null,null,null,null,null,null,null,null,null,null,null,null,null,null,null,null,null,null,null,null,null,null,null,null,null,null,null,null,null,null,null,null,null,null,null,null,null,null,null,null,null,null,null,null,null,null,null,null,null,null,null,null,null,null,null,null,null,null,null,null,null,null,null,null,null,null,null,null,null,null,null,null,null,null,null,null,null,null,null,null,null,null,null,null,null,null,null,null,null,null,null,null,null,null,null,null,null,null,null,null,483,{"$f":"\"00\"&'1-Award Info'!$G$6","v":"00"},"","",1,"",{"$f":"IFERROR(\nIF(VLOOKUP(\"FY\"&RIGHT($EA499,2),'1-Award Info'!$F$28:$G$32,2,0)=0,\n     1,\n     VLOOKUP(\"FY\"&RIGHT($EA499,2),'1-Award Info'!$F$28:$G$32,2,0)),1)","v":1},"",null,""]
[null,null,null,null,null,null,null,null,null,null,null,null,null,null,null,null,null,null,null,null,null,null,null,null,null,null,null,null,null,null,null,null,null,null,null,null,null,null,null,null,null,null,null,null,null,null,null,null,null,null,null,null,null,null,null,null,null,null,null,null,null,null,null,null,null,null,null,null,null,null,null,null,null,null,null,null,null,null,null,null,null,null,null,null,null,null,null,null,null,null,null,null,null,null,null,null,null,null,null,null,null,null,null,null,null,null,null,null,null,null,null,null,null,null,null,null,null,null,null,null,null,null,null,null,null,484,{"$f":"\"00\"&'1-Award Info'!$G$6","v":"00"},"","",1,"",{"$f":"IFERROR(\nIF(VLOOKUP(\"FY\"&RIGHT($EA500,2),'1-Award Info'!$F$28:$G$32,2,0)=0,\n     1,\n     VLOOKUP(\"FY\"&RIGHT($EA500,2),'1-Award Info'!$F$28:$G$32,2,0)),1)","v":1},"",null,""]
[null,null,null,null,null,null,null,null,null,null,null,null,null,null,null,null,null,null,null,null,null,null,null,null,null,null,null,null,null,null,null,null,null,null,null,null,null,null,null,null,null,null,null,null,null,null,null,null,null,null,null,null,null,null,null,null,null,null,null,null,null,null,null,null,null,null,null,null,null,null,null,null,null,null,null,null,null,null,null,null,null,null,null,null,null,null,null,null,null,null,null,null,null,null,null,null,null,null,null,null,null,null,null,null,null,null,null,null,null,null,null,null,null,null,null,null,null,null,null,null,null,null,null,null,null,485,{"$f":"\"00\"&'1-Award Info'!$G$6","v":"00"},"","",1,"",{"$f":"IFERROR(\nIF(VLOOKUP(\"FY\"&RIGHT($EA501,2),'1-Award Info'!$F$28:$G$32,2,0)=0,\n     1,\n     VLOOKUP(\"FY\"&RIGHT($EA501,2),'1-Award Info'!$F$28:$G$32,2,0)),1)","v":1},"",null,""]
[null,null,null,null,null,null,null,null,null,null,null,null,null,null,null,null,null,null,null,null,null,null,null,null,null,null,null,null,null,null,null,null,null,null,null,null,null,null,null,null,null,null,null,null,null,null,null,null,null,null,null,null,null,null,null,null,null,null,null,null,null,null,null,null,null,null,null,null,null,null,null,null,null,null,null,null,null,null,null,null,null,null,null,null,null,null,null,null,null,null,null,null,null,null,null,null,null,null,null,null,null,null,null,null,null,null,null,null,null,null,null,null,null,null,null,null,null,null,null,null,null,null,null,null,null,486,{"$f":"\"00\"&'1-Award Info'!$G$6","v":"00"},"","",1,"",{"$f":"IFERROR(\nIF(VLOOKUP(\"FY\"&RIGHT($EA502,2),'1-Award Info'!$F$28:$G$32,2,0)=0,\n     1,\n     VLOOKUP(\"FY\"&RIGHT($EA502,2),'1-Award Info'!$F$28:$G$32,2,0)),1)","v":1},"",null,""]
[null,null,null,null,null,null,null,null,null,null,null,null,null,null,null,null,null,null,null,null,null,null,null,null,null,null,null,null,null,null,null,null,null,null,null,null,null,null,null,null,null,null,null,null,null,null,null,null,null,null,null,null,null,null,null,null,null,null,null,null,null,null,null,null,null,null,null,null,null,null,null,null,null,null,null,null,null,null,null,null,null,null,null,null,null,null,null,null,null,null,null,null,null,null,null,null,null,null,null,null,null,null,null,null,null,null,null,null,null,null,null,null,null,null,null,null,null,null,null,null,null,null,null,null,null,487,{"$f":"\"00\"&'1-Award Info'!$G$6","v":"00"},"","",1,"",{"$f":"IFERROR(\nIF(VLOOKUP(\"FY\"&RIGHT($EA503,2),'1-Award Info'!$F$28:$G$32,2,0)=0,\n     1,\n     VLOOKUP(\"FY\"&RIGHT($EA503,2),'1-Award Info'!$F$28:$G$32,2,0)),1)","v":1},"",null,""]
[null,null,null,null,null,null,null,null,null,null,null,null,null,null,null,null,null,null,null,null,null,null,null,null,null,null,null,null,null,null,null,null,null,null,null,null,null,null,null,null,null,null,null,null,null,null,null,null,null,null,null,null,null,null,null,null,null,null,null,null,null,null,null,null,null,null,null,null,null,null,null,null,null,null,null,null,null,null,null,null,null,null,null,null,null,null,null,null,null,null,null,null,null,null,null,null,null,null,null,null,null,null,null,null,null,null,null,null,null,null,null,null,null,null,null,null,null,null,null,null,null,null,null,null,null,488,{"$f":"\"00\"&'1-Award Info'!$G$6","v":"00"},"","",1,"",{"$f":"IFERROR(\nIF(VLOOKUP(\"FY\"&RIGHT($EA504,2),'1-Award Info'!$F$28:$G$32,2,0)=0,\n     1,\n     VLOOKUP(\"FY\"&RIGHT($EA504,2),'1-Award Info'!$F$28:$G$32,2,0)),1)","v":1},"",null,""]
[null,null,null,null,null,null,null,null,null,null,null,null,null,null,null,null,null,null,null,null,null,null,null,null,null,null,null,null,null,null,null,null,null,null,null,null,null,null,null,null,null,null,null,null,null,null,null,null,null,null,null,null,null,null,null,null,null,null,null,null,null,null,null,null,null,null,null,null,null,null,null,null,null,null,null,null,null,null,null,null,null,null,null,null,null,null,null,null,null,null,null,null,null,null,null,null,null,null,null,null,null,null,null,null,null,null,null,null,null,null,null,null,null,null,null,null,null,null,null,null,null,null,null,null,null,489,{"$f":"\"00\"&'1-Award Info'!$G$6","v":"00"},"","",1,"",{"$f":"IFERROR(\nIF(VLOOKUP(\"FY\"&RIGHT($EA505,2),'1-Award Info'!$F$28:$G$32,2,0)=0,\n     1,\n     VLOOKUP(\"FY\"&RIGHT($EA505,2),'1-Award Info'!$F$28:$G$32,2,0)),1)","v":1},"",null,""]
[null,null,null,null,null,null,null,null,null,null,null,null,null,null,null,null,null,null,null,null,null,null,null,null,null,null,null,null,null,null,null,null,null,null,null,null,null,null,null,null,null,null,null,null,null,null,null,null,null,null,null,null,null,null,null,null,null,null,null,null,null,null,null,null,null,null,null,null,null,null,null,null,null,null,null,null,null,null,null,null,null,null,null,null,null,null,null,null,null,null,null,null,null,null,null,null,null,null,null,null,null,null,null,null,null,null,null,null,null,null,null,null,null,null,null,null,null,null,null,null,null,null,null,null,null,490,{"$f":"\"00\"&'1-Award Info'!$G$6","v":"00"},"","",1,"",{"$f":"IFERROR(\nIF(VLOOKUP(\"FY\"&RIGHT($EA506,2),'1-Award Info'!$F$28:$G$32,2,0)=0,\n     1,\n     VLOOKUP(\"FY\"&RIGHT($EA506,2),'1-Award Info'!$F$28:$G$32,2,0)),1)","v":1},"",null,""]
[null,null,null,null,null,null,null,null,null,null,null,null,null,null,null,null,null,null,null,null,null,null,null,null,null,null,null,null,null,null,null,null,null,null,null,null,null,null,null,null,null,null,null,null,null,null,null,null,null,null,null,null,null,null,null,null,null,null,null,null,null,null,null,null,null,null,null,null,null,null,null,null,null,null,null,null,null,null,null,null,null,null,null,null,null,null,null,null,null,null,null,null,null,null,null,null,null,null,null,null,null,null,null,null,null,null,null,null,null,null,null,null,null,null,null,null,null,null,null,null,null,null,null,null,null,491,{"$f":"\"00\"&'1-Award Info'!$G$6","v":"00"},{"$f":"IFERROR(IFERROR(IFERROR(IFERROR(IFERROR(LEFT(VLOOKUP($DV507,$AT:$AW,4,0),15),LEFT(VLOOKUP($DV507,$BL:$BO,4,0),15)),LEFT(VLOOKUP($DV507,$CD:$CG,4,0),15)),LEFT(VLOOKUP($DV507,CV:CY,4,0),15)),LEFT(VLOOKUP($DV507,DN:DQ,4,0),15)),\"\")","v":""},{"$f":"IFERROR(IFERROR(IFERROR(IFERROR(IFERROR(RIGHT(VLOOKUP($DV507,$AT:$AW,4,0),5),RIGHT(VLOOKUP($DV507,$BL:$BO,4,0),5)),RIGHT(VLOOKUP($DV507,$CD:$CG,4,0),5)),RIGHT(VLOOKUP($DV507,CV:CY,4,0),5)),RIGHT(VLOOKUP($DV507,DN:DR,4,0),5)),\"\")","v":""},1,{"$f":"IFERROR(IFERROR(IFERROR(IFERROR(IFERROR(VLOOKUP($DV507,$AT:$AZ,7,0),VLOOKUP($DV507,$BL:$BR,7,0)),VLOOKUP($DV507,$CD:$CJ,7,0)),VLOOKUP($DV507,CV:DB,7,0)),VLOOKUP($DV507,DN:DT,7,0)),\"\")","v":""},{"$f":"IFERROR(\nIF(VLOOKUP(\"FY\"&RIGHT($EA507,2),'1-Award Info'!$F$28:$G$32,2,0)=0,\n     1,\n     VLOOKUP(\"FY\"&RIGHT($EA507,2),'1-Award Info'!$F$28:$G$32,2,0)),1)","v":1},{"$f":"IFERROR(IFERROR(IFERROR(IFERROR(IFERROR(VLOOKUP($DV507,$AT:$AZ,5,0),VLOOKUP($DV507,$BL:$BR,5,0)),VLOOKUP($DV507,$CD:$CJ,5,0)),VLOOKUP($DV507,CV:CZ,5,0)),VLOOKUP($DV507,DN:DR,5,0)),\"\")","v":""},null,{"$f":"IFERROR(IFERROR(IFERROR(IFERROR(IFERROR(VLOOKUP($DV507,$AT:$AZ,6,0),VLOOKUP($DV507,$BL:$BR,6,0)),VLOOKUP($DV507,$CD:$CJ,6,0)),VLOOKUP($DV507,CV:DA,6,0)),VLOOKUP($DV507,DN:DS,6,0)),\"\")","v":""}]
[null,null,null,null,null,null,null,null,null,null,null,null,null,null,null,null,null,null,null,null,null,null,null,null,null,null,null,null,null,null,null,null,null,null,null,null,null,null,null,null,null,null,null,null,null,null,null,null,null,null,null,null,null,null,null,null,null,null,null,null,null,null,null,null,null,null,null,null,null,null,null,null,null,null,null,null,null,null,null,null,null,null,null,null,null,null,null,null,null,null,null,null,null,null,null,null,null,null,null,null,null,null,null,null,null,null,null,null,null,null,null,null,null,null,null,null,null,null,null,null,null,null,null,null,null,492,{"$f":"\"00\"&'1-Award Info'!$G$6","v":"00"},"","",1,"",{"$f":"IFERROR(\nIF(VLOOKUP(\"FY\"&RIGHT($EA508,2),'1-Award Info'!$F$28:$G$32,2,0)=0,\n     1,\n     VLOOKUP(\"FY\"&RIGHT($EA508,2),'1-Award Info'!$F$28:$G$32,2,0)),1)","v":1},"",null,""]
[null,null,null,null,null,null,null,null,null,null,null,null,null,null,null,null,null,null,null,null,null,null,null,null,null,null,null,null,null,null,null,null,null,null,null,null,null,null,null,null,null,null,null,null,null,null,null,null,null,null,null,null,null,null,null,null,null,null,null,null,null,null,null,null,null,null,null,null,null,null,null,null,null,null,null,null,null,null,null,null,null,null,null,null,null,null,null,null,null,null,null,null,null,null,null,null,null,null,null,null,null,null,null,null,null,null,null,null,null,null,null,null,null,null,null,null,null,null,null,null,null,null,null,null,null,493,{"$f":"\"00\"&'1-Award Info'!$G$6","v":"00"},"","",1,"",{"$f":"IFERROR(\nIF(VLOOKUP(\"FY\"&RIGHT($EA509,2),'1-Award Info'!$F$28:$G$32,2,0)=0,\n     1,\n     VLOOKUP(\"FY\"&RIGHT($EA509,2),'1-Award Info'!$F$28:$G$32,2,0)),1)","v":1},"",null,""]
[null,null,null,null,null,null,null,null,null,null,null,null,null,null,null,null,null,null,null,null,null,null,null,null,null,null,null,null,null,null,null,null,null,null,null,null,null,null,null,null,null,null,null,null,null,null,null,null,null,null,null,null,null,null,null,null,null,null,null,null,null,null,null,null,null,null,null,null,null,null,null,null,null,null,null,null,null,null,null,null,null,null,null,null,null,null,null,null,null,null,null,null,null,null,null,null,null,null,null,null,null,null,null,null,null,null,null,null,null,null,null,null,null,null,null,null,null,null,null,null,null,null,null,null,null,494,{"$f":"\"00\"&'1-Award Info'!$G$6","v":"00"},"","",1,"",{"$f":"IFERROR(\nIF(VLOOKUP(\"FY\"&RIGHT($EA510,2),'1-Award Info'!$F$28:$G$32,2,0)=0,\n     1,\n     VLOOKUP(\"FY\"&RIGHT($EA510,2),'1-Award Info'!$F$28:$G$32,2,0)),1)","v":1},"",null,""]
[null,null,null,null,null,null,null,null,null,null,null,null,null,null,null,null,null,null,null,null,null,null,null,null,null,null,null,null,null,null,null,null,null,null,null,null,null,null,null,null,null,null,null,null,null,null,null,null,null,null,null,null,null,null,null,null,null,null,null,null,null,null,null,null,null,null,null,null,null,null,null,null,null,null,null,null,null,null,null,null,null,null,null,null,null,null,null,null,null,null,null,null,null,null,null,null,null,null,null,null,null,null,null,null,null,null,null,null,null,null,null,null,null,null,null,null,null,null,null,null,null,null,null,null,null,495,{"$f":"\"00\"&'1-Award Info'!$G$6","v":"00"},"","",1,"",{"$f":"IFERROR(\nIF(VLOOKUP(\"FY\"&RIGHT($EA511,2),'1-Award Info'!$F$28:$G$32,2,0)=0,\n     1,\n     VLOOKUP(\"FY\"&RIGHT($EA511,2),'1-Award Info'!$F$28:$G$32,2,0)),1)","v":1},"",null,""]
[null,null,null,null,null,null,null,null,null,null,null,null,null,null,null,null,null,null,null,null,null,null,null,null,null,null,null,null,null,null,null,null,null,null,null,null,null,null,null,null,null,null,null,null,null,null,null,null,null,null,null,null,null,null,null,null,null,null,null,null,null,null,null,null,null,null,null,null,null,null,null,null,null,null,null,null,null,null,null,null,null,null,null,null,null,null,null,null,null,null,null,null,null,null,null,null,null,null,null,null,null,null,null,null,null,null,null,null,null,null,null,null,null,null,null,null,null,null,null,null,null,null,null,null,null,496,{"$f":"\"00\"&'1-Award Info'!$G$6","v":"00"},"","",1,"",{"$f":"IFERROR(\nIF(VLOOKUP(\"FY\"&RIGHT($EA512,2),'1-Award Info'!$F$28:$G$32,2,0)=0,\n     1,\n     VLOOKUP(\"FY\"&RIGHT($EA512,2),'1-Award Info'!$F$28:$G$32,2,0)),1)","v":1},"",null,""]
[null,null,null,null,null,null,null,null,null,null,null,null,null,null,null,null,null,null,null,null,null,null,null,null,null,null,null,null,null,null,null,null,null,null,null,null,null,null,null,null,null,null,null,null,null,null,null,null,null,null,null,null,null,null,null,null,null,null,null,null,null,null,null,null,null,null,null,null,null,null,null,null,null,null,null,null,null,null,null,null,null,null,null,null,null,null,null,null,null,null,null,null,null,null,null,null,null,null,null,null,null,null,null,null,null,null,null,null,null,null,null,null,null,null,null,null,null,null,null,null,null,null,null,null,null,497,{"$f":"\"00\"&'1-Award Info'!$G$6","v":"00"},"","",1,"",{"$f":"IFERROR(\nIF(VLOOKUP(\"FY\"&RIGHT($EA513,2),'1-Award Info'!$F$28:$G$32,2,0)=0,\n     1,\n     VLOOKUP(\"FY\"&RIGHT($EA513,2),'1-Award Info'!$F$28:$G$32,2,0)),1)","v":1},"",null,""]
[null,null,null,null,null,null,null,null,null,null,null,null,null,null,null,null,null,null,null,null,null,null,null,null,null,null,null,null,null,null,null,null,null,null,null,null,null,null,null,null,null,null,null,null,null,null,null,null,null,null,null,null,null,null,null,null,null,null,null,null,null,null,null,null,null,null,null,null,null,null,null,null,null,null,null,null,null,null,null,null,null,null,null,null,null,null,null,null,null,null,null,null,null,null,null,null,null,null,null,null,null,null,null,null,null,null,null,null,null,null,null,null,null,null,null,null,null,null,null,null,null,null,null,null,null,498,{"$f":"\"00\"&'1-Award Info'!$G$6","v":"00"},"","",1,"",{"$f":"IFERROR(\nIF(VLOOKUP(\"FY\"&RIGHT($EA514,2),'1-Award Info'!$F$28:$G$32,2,0)=0,\n     1,\n     VLOOKUP(\"FY\"&RIGHT($EA514,2),'1-Award Info'!$F$28:$G$32,2,0)),1)","v":1},"",null,""]
[null,null,null,null,null,null,null,null,null,null,null,null,null,null,null,null,null,null,null,null,null,null,null,null,null,null,null,null,null,null,null,null,null,null,null,null,null,null,null,null,null,null,null,null,null,null,null,null,null,null,null,null,null,null,null,null,null,null,null,null,null,null,null,null,null,null,null,null,null,null,null,null,null,null,null,null,null,null,null,null,null,null,null,null,null,null,null,null,null,null,null,null,null,null,null,null,null,null,null,null,null,null,null,null,null,null,null,null,null,null,null,null,null,null,null,null,null,null,null,null,null,null,null,null,null,499,{"$f":"\"00\"&'1-Award Info'!$G$6","v":"00"},"","",1,"",{"$f":"IFERROR(\nIF(VLOOKUP(\"FY\"&RIGHT($EA515,2),'1-Award Info'!$F$28:$G$32,2,0)=0,\n     1,\n     VLOOKUP(\"FY\"&RIGHT($EA515,2),'1-Award Info'!$F$28:$G$32,2,0)),1)","v":1},"",null,""]
[null,null,null,null,null,null,null,null,null,null,null,null,null,null,null,null,null,null,null,null,null,null,null,null,null,null,null,null,null,null,null,null,null,null,null,null,null,null,null,null,null,null,null,null,null,null,null,null,null,null,null,null,null,null,null,null,null,null,null,null,null,null,null,null,null,null,null,null,null,null,null,null,null,null,null,null,null,null,null,null,null,null,null,null,null,null,null,null,null,null,null,null,null,null,null,null,null,null,null,null,null,null,null,null,null,null,null,null,null,null,null,null,null,null,null,null,null,null,null,null,null,null,null,null,null,500,{"$f":"\"00\"&'1-Award Info'!$G$6","v":"00"},"","",1,"",{"$f":"IFERROR(\nIF(VLOOKUP(\"FY\"&RIGHT($EA516,2),'1-Award Info'!$F$28:$G$32,2,0)=0,\n     1,\n     VLOOKUP(\"FY\"&RIGHT($EA516,2),'1-Award Info'!$F$28:$G$32,2,0)),1)","v":1},"",null,""]
[null,null,null,null,null,null,null,null,null,null,null,null,null,null,null,null,null,null,null,null,null,null,null,null,null,null,null,null,null,null,null,null,null,null,null,null,null,null,null,null,null,null,null,null,null,null,null,null,null,null,null,null,null,null,null,null,null,null,null,null,null,null,null,null,null,null,null,null,null,null,null,null,null,null,null,null,null,null,null,null,null,null,null,null,null,null,null,null,null,null,null,null,null,null,null,null,null,null,null,null,null,null,null,null,null,null,null,null,null,null,null,null,null,null,null,null,null,null,null,null,null,null,null,null,null,501,{"$f":"\"00\"&'1-Award Info'!$G$6","v":"00"},"","",1,"",{"$f":"IFERROR(\nIF(VLOOKUP(\"FY\"&RIGHT($EA517,2),'1-Award Info'!$F$28:$G$32,2,0)=0,\n     1,\n     VLOOKUP(\"FY\"&RIGHT($EA517,2),'1-Award Info'!$F$28:$G$32,2,0)),1)","v":1},"",null,""]
[null,null,null,null,null,null,null,null,null,null,null,null,null,null,null,null,null,null,null,null,null,null,null,null,null,null,null,null,null,null,null,null,null,null,null,null,null,null,null,null,null,null,null,null,null,null,null,null,null,null,null,null,null,null,null,null,null,null,null,null,null,null,null,null,null,null,null,null,null,null,null,null,null,null,null,null,null,null,null,null,null,null,null,null,null,null,null,null,null,null,null,null,null,null,null,null,null,null,null,null,null,null,null,null,null,null,null,null,null,null,null,null,null,null,null,null,null,null,null,null,null,null,null,null,null,502,{"$f":"\"00\"&'1-Award Info'!$G$6","v":"00"},"","",1,"",{"$f":"IFERROR(\nIF(VLOOKUP(\"FY\"&RIGHT($EA518,2),'1-Award Info'!$F$28:$G$32,2,0)=0,\n     1,\n     VLOOKUP(\"FY\"&RIGHT($EA518,2),'1-Award Info'!$F$28:$G$32,2,0)),1)","v":1},"",null,""]
[null,null,null,null,null,null,null,null,null,null,null,null,null,null,null,null,null,null,null,null,null,null,null,null,null,null,null,null,null,null,null,null,null,null,null,null,null,null,null,null,null,null,null,null,null,null,null,null,null,null,null,null,null,null,null,null,null,null,null,null,null,null,null,null,null,null,null,null,null,null,null,null,null,null,null,null,null,null,null,null,null,null,null,null,null,null,null,null,null,null,null,null,null,null,null,null,null,null,null,null,null,null,null,null,null,null,null,null,null,null,null,null,null,null,null,null,null,null,null,null,null,null,null,null,null,503,{"$f":"\"00\"&'1-Award Info'!$G$6","v":"00"},"","",1,"",{"$f":"IFERROR(\nIF(VLOOKUP(\"FY\"&RIGHT($EA519,2),'1-Award Info'!$F$28:$G$32,2,0)=0,\n     1,\n     VLOOKUP(\"FY\"&RIGHT($EA519,2),'1-Award Info'!$F$28:$G$32,2,0)),1)","v":1},"",null,""]
[null,null,null,null,null,null,null,null,null,null,null,null,null,null,null,null,null,null,null,null,null,null,null,null,null,null,null,null,null,null,null,null,null,null,null,null,null,null,null,null,null,null,null,null,null,null,null,null,null,null,null,null,null,null,null,null,null,null,null,null,null,null,null,null,null,null,null,null,null,null,null,null,null,null,null,null,null,null,null,null,null,null,null,null,null,null,null,null,null,null,null,null,null,null,null,null,null,null,null,null,null,null,null,null,null,null,null,null,null,null,null,null,null,null,null,null,null,null,null,null,null,null,null,null,null,504,{"$f":"\"00\"&'1-Award Info'!$G$6","v":"00"},"","",1,"",{"$f":"IFERROR(\nIF(VLOOKUP(\"FY\"&RIGHT($EA520,2),'1-Award Info'!$F$28:$G$32,2,0)=0,\n     1,\n     VLOOKUP(\"FY\"&RIGHT($EA520,2),'1-Award Info'!$F$28:$G$32,2,0)),1)","v":1},"",null,""]
[null,null,null,null,null,null,null,null,null,null,null,null,null,null,null,null,null,null,null,null,null,null,null,null,null,null,null,null,null,null,null,null,null,null,null,null,null,null,null,null,null,null,null,null,null,null,null,null,null,null,null,null,null,null,null,null,null,null,null,null,null,null,null,null,null,null,null,null,null,null,null,null,null,null,null,null,null,null,null,null,null,null,null,null,null,null,null,null,null,null,null,null,null,null,null,null,null,null,null,null,null,null,null,null,null,null,null,null,null,null,null,null,null,null,null,null,null,null,null,null,null,null,null,null,null,505,{"$f":"\"00\"&'1-Award Info'!$G$6","v":"00"},"","",1,"",{"$f":"IFERROR(\nIF(VLOOKUP(\"FY\"&RIGHT($EA521,2),'1-Award Info'!$F$28:$G$32,2,0)=0,\n     1,\n     VLOOKUP(\"FY\"&RIGHT($EA521,2),'1-Award Info'!$F$28:$G$32,2,0)),1)","v":1},"",null,""]
[null,null,null,null,null,null,null,null,null,null,null,null,null,null,null,null,null,null,null,null,null,null,null,null,null,null,null,null,null,null,null,null,null,null,null,null,null,null,null,null,null,null,null,null,null,null,null,null,null,null,null,null,null,null,null,null,null,null,null,null,null,null,null,null,null,null,null,null,null,null,null,null,null,null,null,null,null,null,null,null,null,null,null,null,null,null,null,null,null,null,null,null,null,null,null,null,null,null,null,null,null,null,null,null,null,null,null,null,null,null,null,null,null,null,null,null,null,null,null,null,null,null,null,null,null,506,{"$f":"\"00\"&'1-Award Info'!$G$6","v":"00"},"","",1,"",{"$f":"IFERROR(\nIF(VLOOKUP(\"FY\"&RIGHT($EA522,2),'1-Award Info'!$F$28:$G$32,2,0)=0,\n     1,\n     VLOOKUP(\"FY\"&RIGHT($EA522,2),'1-Award Info'!$F$28:$G$32,2,0)),1)","v":1},"",null,""]
[null,null,null,null,null,null,null,null,null,null,null,null,null,null,null,null,null,null,null,null,null,null,null,null,null,null,null,null,null,null,null,null,null,null,null,null,null,null,null,null,null,null,null,null,null,null,null,null,null,null,null,null,null,null,null,null,null,null,null,null,null,null,null,null,null,null,null,null,null,null,null,null,null,null,null,null,null,null,null,null,null,null,null,null,null,null,null,null,null,null,null,null,null,null,null,null,null,null,null,null,null,null,null,null,null,null,null,null,null,null,null,null,null,null,null,null,null,null,null,null,null,null,null,null,null,507,{"$f":"\"00\"&'1-Award Info'!$G$6","v":"00"},"","",1,"",{"$f":"IFERROR(\nIF(VLOOKUP(\"FY\"&RIGHT($EA523,2),'1-Award Info'!$F$28:$G$32,2,0)=0,\n     1,\n     VLOOKUP(\"FY\"&RIGHT($EA523,2),'1-Award Info'!$F$28:$G$32,2,0)),1)","v":1},"",null,""]
[null,null,null,null,null,null,null,null,null,null,null,null,null,null,null,null,null,null,null,null,null,null,null,null,null,null,null,null,null,null,null,null,null,null,null,null,null,null,null,null,null,null,null,null,null,null,null,null,null,null,null,null,null,null,null,null,null,null,null,null,null,null,null,null,null,null,null,null,null,null,null,null,null,null,null,null,null,null,null,null,null,null,null,null,null,null,null,null,null,null,null,null,null,null,null,null,null,null,null,null,null,null,null,null,null,null,null,null,null,null,null,null,null,null,null,null,null,null,null,null,null,null,null,null,null,508,{"$f":"\"00\"&'1-Award Info'!$G$6","v":"00"},"","",1,"",{"$f":"IFERROR(\nIF(VLOOKUP(\"FY\"&RIGHT($EA524,2),'1-Award Info'!$F$28:$G$32,2,0)=0,\n     1,\n     VLOOKUP(\"FY\"&RIGHT($EA524,2),'1-Award Info'!$F$28:$G$32,2,0)),1)","v":1},"",null,""]
[null,null,null,null,null,null,null,null,null,null,null,null,null,null,null,null,null,null,null,null,null,null,null,null,null,null,null,null,null,null,null,null,null,null,null,null,null,null,null,null,null,null,null,null,null,null,null,null,null,null,null,null,null,null,null,null,null,null,null,null,null,null,null,null,null,null,null,null,null,null,null,null,null,null,null,null,null,null,null,null,null,null,null,null,null,null,null,null,null,null,null,null,null,null,null,null,null,null,null,null,null,null,null,null,null,null,null,null,null,null,null,null,null,null,null,null,null,null,null,null,null,null,null,null,null,509,{"$f":"\"00\"&'1-Award Info'!$G$6","v":"00"},"","",1,"",{"$f":"IFERROR(\nIF(VLOOKUP(\"FY\"&RIGHT($EA525,2),'1-Award Info'!$F$28:$G$32,2,0)=0,\n     1,\n     VLOOKUP(\"FY\"&RIGHT($EA525,2),'1-Award Info'!$F$28:$G$32,2,0)),1)","v":1},"",null,""]
[null,null,null,null,null,null,null,null,null,null,null,null,null,null,null,null,null,null,null,null,null,null,null,null,null,null,null,null,null,null,null,null,null,null,null,null,null,null,null,null,null,null,null,null,null,null,null,null,null,null,null,null,null,null,null,null,null,null,null,null,null,null,null,null,null,null,null,null,null,null,null,null,null,null,null,null,null,null,null,null,null,null,null,null,null,null,null,null,null,null,null,null,null,null,null,null,null,null,null,null,null,null,null,null,null,null,null,null,null,null,null,null,null,null,null,null,null,null,null,null,null,null,null,null,null,510,{"$f":"\"00\"&'1-Award Info'!$G$6","v":"00"},"","",1,"",{"$f":"IFERROR(\nIF(VLOOKUP(\"FY\"&RIGHT($EA526,2),'1-Award Info'!$F$28:$G$32,2,0)=0,\n     1,\n     VLOOKUP(\"FY\"&RIGHT($EA526,2),'1-Award Info'!$F$28:$G$32,2,0)),1)","v":1},"",null,""]
[null,null,null,null,null,null,null,null,null,null,null,null,null,null,null,null,null,null,null,null,null,null,null,null,null,null,null,null,null,null,null,null,null,null,null,null,null,null,null,null,null,null,null,null,null,null,null,null,null,null,null,null,null,null,null,null,null,null,null,null,null,null,null,null,null,null,null,null,null,null,null,null,null,null,null,null,null,null,null,null,null,null,null,null,null,null,null,null,null,null,null,null,null,null,null,null,null,null,null,null,null,null,null,null,null,null,null,null,null,null,null,null,null,null,null,null,null,null,null,null,null,null,null,null,null,511,{"$f":"\"00\"&'1-Award Info'!$G$6","v":"00"},"","",1,"",{"$f":"IFERROR(\nIF(VLOOKUP(\"FY\"&RIGHT($EA527,2),'1-Award Info'!$F$28:$G$32,2,0)=0,\n     1,\n     VLOOKUP(\"FY\"&RIGHT($EA527,2),'1-Award Info'!$F$28:$G$32,2,0)),1)","v":1},"",null,""]
[null,null,null,null,null,null,null,null,null,null,null,null,null,null,null,null,null,null,null,null,null,null,null,null,null,null,null,null,null,null,null,null,null,null,null,null,null,null,null,null,null,null,null,null,null,null,null,null,null,null,null,null,null,null,null,null,null,null,null,null,null,null,null,null,null,null,null,null,null,null,null,null,null,null,null,null,null,null,null,null,null,null,null,null,null,null,null,null,null,null,null,null,null,null,null,null,null,null,null,null,null,null,null,null,null,null,null,null,null,null,null,null,null,null,null,null,null,null,null,null,null,null,null,null,null,512,{"$f":"\"00\"&'1-Award Info'!$G$6","v":"00"},"","",1,"",{"$f":"IFERROR(\nIF(VLOOKUP(\"FY\"&RIGHT($EA528,2),'1-Award Info'!$F$28:$G$32,2,0)=0,\n     1,\n     VLOOKUP(\"FY\"&RIGHT($EA528,2),'1-Award Info'!$F$28:$G$32,2,0)),1)","v":1},"",null,""]
[null,null,null,null,null,null,null,null,null,null,null,null,null,null,null,null,null,null,null,null,null,null,null,null,null,null,null,null,null,null,null,null,null,null,null,null,null,null,null,null,null,null,null,null,null,null,null,null,null,null,null,null,null,null,null,null,null,null,null,null,null,null,null,null,null,null,null,null,null,null,null,null,null,null,null,null,null,null,null,null,null,null,null,null,null,null,null,null,null,null,null,null,null,null,null,null,null,null,null,null,null,null,null,null,null,null,null,null,null,null,null,null,null,null,null,null,null,null,null,null,null,null,null,null,null,513,{"$f":"\"00\"&'1-Award Info'!$G$6","v":"00"},"","",1,"",{"$f":"IFERROR(\nIF(VLOOKUP(\"FY\"&RIGHT($EA529,2),'1-Award Info'!$F$28:$G$32,2,0)=0,\n     1,\n     VLOOKUP(\"FY\"&RIGHT($EA529,2),'1-Award Info'!$F$28:$G$32,2,0)),1)","v":1},"",null,""]
[null,null,null,null,null,null,null,null,null,null,null,null,null,null,null,null,null,null,null,null,null,null,null,null,null,null,null,null,null,null,null,null,null,null,null,null,null,null,null,null,null,null,null,null,null,null,null,null,null,null,null,null,null,null,null,null,null,null,null,null,null,null,null,null,null,null,null,null,null,null,null,null,null,null,null,null,null,null,null,null,null,null,null,null,null,null,null,null,null,null,null,null,null,null,null,null,null,null,null,null,null,null,null,null,null,null,null,null,null,null,null,null,null,null,null,null,null,null,null,null,null,null,null,null,null,514,{"$f":"\"00\"&'1-Award Info'!$G$6","v":"00"},"","",1,"",{"$f":"IFERROR(\nIF(VLOOKUP(\"FY\"&RIGHT($EA530,2),'1-Award Info'!$F$28:$G$32,2,0)=0,\n     1,\n     VLOOKUP(\"FY\"&RIGHT($EA530,2),'1-Award Info'!$F$28:$G$32,2,0)),1)","v":1},"",null,""]
[null,null,null,null,null,null,null,null,null,null,null,null,null,null,null,null,null,null,null,null,null,null,null,null,null,null,null,null,null,null,null,null,null,null,null,null,null,null,null,null,null,null,null,null,null,null,null,null,null,null,null,null,null,null,null,null,null,null,null,null,null,null,null,null,null,null,null,null,null,null,null,null,null,null,null,null,null,null,null,null,null,null,null,null,null,null,null,null,null,null,null,null,null,null,null,null,null,null,null,null,null,null,null,null,null,null,null,null,null,null,null,null,null,null,null,null,null,null,null,null,null,null,null,null,null,{"$f":"DV530+1","v":515},{"$f":"\"00\"&'1-Award Info'!$G$6","v":"00"},"","",1,"",{"$f":"IFERROR(\nIF(VLOOKUP(\"FY\"&RIGHT($EA531,2),'1-Award Info'!$F$28:$G$32,2,0)=0,\n     1,\n     VLOOKUP(\"FY\"&RIGHT($EA531,2),'1-Award Info'!$F$28:$G$32,2,0)),1)","v":1},"",null,""]
[null,null,null,null,null,null,null,null,null,null,null,null,null,null,null,null,null,null,null,null,null,null,null,null,null,null,null,null,null,null,null,null,null,null,null,null,null,null,null,null,null,null,null,null,null,null,null,null,null,null,null,null,null,null,null,null,null,null,null,null,null,null,null,null,null,null,null,null,null,null,null,null,null,null,null,null,null,null,null,null,null,null,null,null,null,null,null,null,null,null,null,null,null,null,null,null,null,null,null,null,null,null,null,null,null,null,null,null,null,null,null,null,null,null,null,null,null,null,null,null,null,null,null,null,null,516,{"$f":"\"00\"&'1-Award Info'!$G$6","v":"00"},"","",1,"",{"$f":"IFERROR(\nIF(VLOOKUP(\"FY\"&RIGHT($EA532,2),'1-Award Info'!$F$28:$G$32,2,0)=0,\n     1,\n     VLOOKUP(\"FY\"&RIGHT($EA532,2),'1-Award Info'!$F$28:$G$32,2,0)),1)","v":1},"",null,""]
[null,null,null,null,null,null,null,null,null,null,null,null,null,null,null,null,null,null,null,null,null,null,null,null,null,null,null,null,null,null,null,null,null,null,null,null,null,null,null,null,null,null,null,null,null,null,null,null,null,null,null,null,null,null,null,null,null,null,null,null,null,null,null,null,null,null,null,null,null,null,null,null,null,null,null,null,null,null,null,null,null,null,null,null,null,null,null,null,null,null,null,null,null,null,null,null,null,null,null,null,null,null,null,null,null,null,null,null,null,null,null,null,null,null,null,null,null,null,null,null,null,null,null,null,null,517,{"$f":"\"00\"&'1-Award Info'!$G$6","v":"00"},"","",1,"",{"$f":"IFERROR(\nIF(VLOOKUP(\"FY\"&RIGHT($EA533,2),'1-Award Info'!$F$28:$G$32,2,0)=0,\n     1,\n     VLOOKUP(\"FY\"&RIGHT($EA533,2),'1-Award Info'!$F$28:$G$32,2,0)),1)","v":1},"",null,""]
[null,null,null,null,null,null,null,null,null,null,null,null,null,null,null,null,null,null,null,null,null,null,null,null,null,null,null,null,null,null,null,null,null,null,null,null,null,null,null,null,null,null,null,null,null,null,null,null,null,null,null,null,null,null,null,null,null,null,null,null,null,null,null,null,null,null,null,null,null,null,null,null,null,null,null,null,null,null,null,null,null,null,null,null,null,null,null,null,null,null,null,null,null,null,null,null,null,null,null,null,null,null,null,null,null,null,null,null,null,null,null,null,null,null,null,null,null,null,null,null,null,null,null,null,null,518,{"$f":"\"00\"&'1-Award Info'!$G$6","v":"00"},"","",1,"",{"$f":"IFERROR(\nIF(VLOOKUP(\"FY\"&RIGHT($EA534,2),'1-Award Info'!$F$28:$G$32,2,0)=0,\n     1,\n     VLOOKUP(\"FY\"&RIGHT($EA534,2),'1-Award Info'!$F$28:$G$32,2,0)),1)","v":1},"",null,""]
[null,null,null,null,null,null,null,null,null,null,null,null,null,null,null,null,null,null,null,null,null,null,null,null,null,null,null,null,null,null,null,null,null,null,null,null,null,null,null,null,null,null,null,null,null,null,null,null,null,null,null,null,null,null,null,null,null,null,null,null,null,null,null,null,null,null,null,null,null,null,null,null,null,null,null,null,null,null,null,null,null,null,null,null,null,null,null,null,null,null,null,null,null,null,null,null,null,null,null,null,null,null,null,null,null,null,null,null,null,null,null,null,null,null,null,null,null,null,null,null,null,null,null,null,null,519,{"$f":"\"00\"&'1-Award Info'!$G$6","v":"00"},"","",1,"",{"$f":"IFERROR(\nIF(VLOOKUP(\"FY\"&RIGHT($EA535,2),'1-Award Info'!$F$28:$G$32,2,0)=0,\n     1,\n     VLOOKUP(\"FY\"&RIGHT($EA535,2),'1-Award Info'!$F$28:$G$32,2,0)),1)","v":1},"",null,""]
[null,null,null,null,null,null,null,null,null,null,null,null,null,null,null,null,null,null,null,null,null,null,null,null,null,null,null,null,null,null,null,null,null,null,null,null,null,null,null,null,null,null,null,null,null,null,null,null,null,null,null,null,null,null,null,null,null,null,null,null,null,null,null,null,null,null,null,null,null,null,null,null,null,null,null,null,null,null,null,null,null,null,null,null,null,null,null,null,null,null,null,null,null,null,null,null,null,null,null,null,null,null,null,null,null,null,null,null,null,null,null,null,null,null,null,null,null,null,null,null,null,null,null,null,null,520,{"$f":"\"00\"&'1-Award Info'!$G$6","v":"00"},"","",1,"",{"$f":"IFERROR(\nIF(VLOOKUP(\"FY\"&RIGHT($EA536,2),'1-Award Info'!$F$28:$G$32,2,0)=0,\n     1,\n     VLOOKUP(\"FY\"&RIGHT($EA536,2),'1-Award Info'!$F$28:$G$32,2,0)),1)","v":1},"",null,""]
[null,null,null,null,null,null,null,null,null,null,null,null,null,null,null,null,null,null,null,null,null,null,null,null,null,null,null,null,null,null,null,null,null,null,null,null,null,null,null,null,null,null,null,null,null,null,null,null,null,null,null,null,null,null,null,null,null,null,null,null,null,null,null,null,null,null,null,null,null,null,null,null,null,null,null,null,null,null,null,null,null,null,null,null,null,null,null,null,null,null,null,null,null,null,null,null,null,null,null,null,null,null,null,null,null,null,null,null,null,null,null,null,null,null,null,null,null,null,null,null,null,null,null,null,null,521,{"$f":"\"00\"&'1-Award Info'!$G$6","v":"00"},"","",1,"",{"$f":"IFERROR(\nIF(VLOOKUP(\"FY\"&RIGHT($EA537,2),'1-Award Info'!$F$28:$G$32,2,0)=0,\n     1,\n     VLOOKUP(\"FY\"&RIGHT($EA537,2),'1-Award Info'!$F$28:$G$32,2,0)),1)","v":1},"",null,""]
[null,null,null,null,null,null,null,null,null,null,null,null,null,null,null,null,null,null,null,null,null,null,null,null,null,null,null,null,null,null,null,null,null,null,null,null,null,null,null,null,null,null,null,null,null,null,null,null,null,null,null,null,null,null,null,null,null,null,null,null,null,null,null,null,null,null,null,null,null,null,null,null,null,null,null,null,null,null,null,null,null,null,null,null,null,null,null,null,null,null,null,null,null,null,null,null,null,null,null,null,null,null,null,null,null,null,null,null,null,null,null,null,null,null,null,null,null,null,null,null,null,null,null,null,null,522,{"$f":"\"00\"&'1-Award Info'!$G$6","v":"00"},"","",1,"",{"$f":"IFERROR(\nIF(VLOOKUP(\"FY\"&RIGHT($EA538,2),'1-Award Info'!$F$28:$G$32,2,0)=0,\n     1,\n     VLOOKUP(\"FY\"&RIGHT($EA538,2),'1-Award Info'!$F$28:$G$32,2,0)),1)","v":1},"",null,""]
[null,null,null,null,null,null,null,null,null,null,null,null,null,null,null,null,null,null,null,null,null,null,null,null,null,null,null,null,null,null,null,null,null,null,null,null,null,null,null,null,null,null,null,null,null,null,null,null,null,null,null,null,null,null,null,null,null,null,null,null,null,null,null,null,null,null,null,null,null,null,null,null,null,null,null,null,null,null,null,null,null,null,null,null,null,null,null,null,null,null,null,null,null,null,null,null,null,null,null,null,null,null,null,null,null,null,null,null,null,null,null,null,null,null,null,null,null,null,null,null,null,null,null,null,null,523,{"$f":"\"00\"&'1-Award Info'!$G$6","v":"00"},"","",1,"",{"$f":"IFERROR(\nIF(VLOOKUP(\"FY\"&RIGHT($EA539,2),'1-Award Info'!$F$28:$G$32,2,0)=0,\n     1,\n     VLOOKUP(\"FY\"&RIGHT($EA539,2),'1-Award Info'!$F$28:$G$32,2,0)),1)","v":1},"",null,""]
[null,null,null,null,null,null,null,null,null,null,null,null,null,null,null,null,null,null,null,null,null,null,null,null,null,null,null,null,null,null,null,null,null,null,null,null,null,null,null,null,null,null,null,null,null,null,null,null,null,null,null,null,null,null,null,null,null,null,null,null,null,null,null,null,null,null,null,null,null,null,null,null,null,null,null,null,null,null,null,null,null,null,null,null,null,null,null,null,null,null,null,null,null,null,null,null,null,null,null,null,null,null,null,null,null,null,null,null,null,null,null,null,null,null,null,null,null,null,null,null,null,null,null,null,null,524,{"$f":"\"00\"&'1-Award Info'!$G$6","v":"00"},"","",1,"",{"$f":"IFERROR(\nIF(VLOOKUP(\"FY\"&RIGHT($EA540,2),'1-Award Info'!$F$28:$G$32,2,0)=0,\n     1,\n     VLOOKUP(\"FY\"&RIGHT($EA540,2),'1-Award Info'!$F$28:$G$32,2,0)),1)","v":1},"",null,""]
[null,null,null,null,null,null,null,null,null,null,null,null,null,null,null,null,null,null,null,null,null,null,null,null,null,null,null,null,null,null,null,null,null,null,null,null,null,null,null,null,null,null,null,null,null,null,null,null,null,null,null,null,null,null,null,null,null,null,null,null,null,null,null,null,null,null,null,null,null,null,null,null,null,null,null,null,null,null,null,null,null,null,null,null,null,null,null,null,null,null,null,null,null,null,null,null,null,null,null,null,null,null,null,null,null,null,null,null,null,null,null,null,null,null,null,null,null,null,null,null,null,null,null,null,null,525,{"$f":"\"00\"&'1-Award Info'!$G$6","v":"00"},"","",1,"",{"$f":"IFERROR(\nIF(VLOOKUP(\"FY\"&RIGHT($EA541,2),'1-Award Info'!$F$28:$G$32,2,0)=0,\n     1,\n     VLOOKUP(\"FY\"&RIGHT($EA541,2),'1-Award Info'!$F$28:$G$32,2,0)),1)","v":1},"",null,""]
[null,null,null,null,null,null,null,null,null,null,null,null,null,null,null,null,null,null,null,null,null,null,null,null,null,null,null,null,null,null,null,null,null,null,null,null,null,null,null,null,null,null,null,null,null,null,null,null,null,null,null,null,null,null,null,null,null,null,null,null,null,null,null,null,null,null,null,null,null,null,null,null,null,null,null,null,null,null,null,null,null,null,null,null,null,null,null,null,null,null,null,null,null,null,null,null,null,null,null,null,null,null,null,null,null,null,null,null,null,null,null,null,null,null,null,null,null,null,null,null,null,null,null,null,null,526,{"$f":"\"00\"&'1-Award Info'!$G$6","v":"00"},"","",1,"",{"$f":"IFERROR(\nIF(VLOOKUP(\"FY\"&RIGHT($EA542,2),'1-Award Info'!$F$28:$G$32,2,0)=0,\n     1,\n     VLOOKUP(\"FY\"&RIGHT($EA542,2),'1-Award Info'!$F$28:$G$32,2,0)),1)","v":1},"",null,""]
[null,null,null,null,null,null,null,null,null,null,null,null,null,null,null,null,null,null,null,null,null,null,null,null,null,null,null,null,null,null,null,null,null,null,null,null,null,null,null,null,null,null,null,null,null,null,null,null,null,null,null,null,null,null,null,null,null,null,null,null,null,null,null,null,null,null,null,null,null,null,null,null,null,null,null,null,null,null,null,null,null,null,null,null,null,null,null,null,null,null,null,null,null,null,null,null,null,null,null,null,null,null,null,null,null,null,null,null,null,null,null,null,null,null,null,null,null,null,null,null,null,null,null,null,null,527,{"$f":"\"00\"&'1-Award Info'!$G$6","v":"00"},"","",1,"",{"$f":"IFERROR(\nIF(VLOOKUP(\"FY\"&RIGHT($EA543,2),'1-Award Info'!$F$28:$G$32,2,0)=0,\n     1,\n     VLOOKUP(\"FY\"&RIGHT($EA543,2),'1-Award Info'!$F$28:$G$32,2,0)),1)","v":1},"",null,""]
[null,null,null,null,null,null,null,null,null,null,null,null,null,null,null,null,null,null,null,null,null,null,null,null,null,null,null,null,null,null,null,null,null,null,null,null,null,null,null,null,null,null,null,null,null,null,null,null,null,null,null,null,null,null,null,null,null,null,null,null,null,null,null,null,null,null,null,null,null,null,null,null,null,null,null,null,null,null,null,null,null,null,null,null,null,null,null,null,null,null,null,null,null,null,null,null,null,null,null,null,null,null,null,null,null,null,null,null,null,null,null,null,null,null,null,null,null,null,null,null,null,null,null,null,null,528,{"$f":"\"00\"&'1-Award Info'!$G$6","v":"00"},"","",1,"",{"$f":"IFERROR(\nIF(VLOOKUP(\"FY\"&RIGHT($EA544,2),'1-Award Info'!$F$28:$G$32,2,0)=0,\n     1,\n     VLOOKUP(\"FY\"&RIGHT($EA544,2),'1-Award Info'!$F$28:$G$32,2,0)),1)","v":1},"",null,""]
[null,null,null,null,null,null,null,null,null,null,null,null,null,null,null,null,null,null,null,null,null,null,null,null,null,null,null,null,null,null,null,null,null,null,null,null,null,null,null,null,null,null,null,null,null,null,null,null,null,null,null,null,null,null,null,null,null,null,null,null,null,null,null,null,null,null,null,null,null,null,null,null,null,null,null,null,null,null,null,null,null,null,null,null,null,null,null,null,null,null,null,null,null,null,null,null,null,null,null,null,null,null,null,null,null,null,null,null,null,null,null,null,null,null,null,null,null,null,null,null,null,null,null,null,null,529,{"$f":"\"00\"&'1-Award Info'!$G$6","v":"00"},"","",1,"",{"$f":"IFERROR(\nIF(VLOOKUP(\"FY\"&RIGHT($EA545,2),'1-Award Info'!$F$28:$G$32,2,0)=0,\n     1,\n     VLOOKUP(\"FY\"&RIGHT($EA545,2),'1-Award Info'!$F$28:$G$32,2,0)),1)","v":1},"",null,""]
[null,null,null,null,null,null,null,null,null,null,null,null,null,null,null,null,null,null,null,null,null,null,null,null,null,null,null,null,null,null,null,null,null,null,null,null,null,null,null,null,null,null,null,null,null,null,null,null,null,null,null,null,null,null,null,null,null,null,null,null,null,null,null,null,null,null,null,null,null,null,null,null,null,null,null,null,null,null,null,null,null,null,null,null,null,null,null,null,null,null,null,null,null,null,null,null,null,null,null,null,null,null,null,null,null,null,null,null,null,null,null,null,null,null,null,null,null,null,null,null,null,null,null,null,null,530,{"$f":"\"00\"&'1-Award Info'!$G$6","v":"00"},"","",1,"",{"$f":"IFERROR(\nIF(VLOOKUP(\"FY\"&RIGHT($EA546,2),'1-Award Info'!$F$28:$G$32,2,0)=0,\n     1,\n     VLOOKUP(\"FY\"&RIGHT($EA546,2),'1-Award Info'!$F$28:$G$32,2,0)),1)","v":1},"",null,""]
[null,null,null,null,null,null,null,null,null,null,null,null,null,null,null,null,null,null,null,null,null,null,null,null,null,null,null,null,null,null,null,null,null,null,null,null,null,null,null,null,null,null,null,null,null,null,null,null,null,null,null,null,null,null,null,null,null,null,null,null,null,null,null,null,null,null,null,null,null,null,null,null,null,null,null,null,null,null,null,null,null,null,null,null,null,null,null,null,null,null,null,null,null,null,null,null,null,null,null,null,null,null,null,null,null,null,null,null,null,null,null,null,null,null,null,null,null,null,null,null,null,null,null,null,null,531,{"$f":"\"00\"&'1-Award Info'!$G$6","v":"00"},"","",1,"",{"$f":"IFERROR(\nIF(VLOOKUP(\"FY\"&RIGHT($EA547,2),'1-Award Info'!$F$28:$G$32,2,0)=0,\n     1,\n     VLOOKUP(\"FY\"&RIGHT($EA547,2),'1-Award Info'!$F$28:$G$32,2,0)),1)","v":1},"",null,""]
[null,null,null,null,null,null,null,null,null,null,null,null,null,null,null,null,null,null,null,null,null,null,null,null,null,null,null,null,null,null,null,null,null,null,null,null,null,null,null,null,null,null,null,null,null,null,null,null,null,null,null,null,null,null,null,null,null,null,null,null,null,null,null,null,null,null,null,null,null,null,null,null,null,null,null,null,null,null,null,null,null,null,null,null,null,null,null,null,null,null,null,null,null,null,null,null,null,null,null,null,null,null,null,null,null,null,null,null,null,null,null,null,null,null,null,null,null,null,null,null,null,null,null,null,null,532,{"$f":"\"00\"&'1-Award Info'!$G$6","v":"00"},"","",1,"",{"$f":"IFERROR(\nIF(VLOOKUP(\"FY\"&RIGHT($EA548,2),'1-Award Info'!$F$28:$G$32,2,0)=0,\n     1,\n     VLOOKUP(\"FY\"&RIGHT($EA548,2),'1-Award Info'!$F$28:$G$32,2,0)),1)","v":1},"",null,""]
[null,null,null,null,null,null,null,null,null,null,null,null,null,null,null,null,null,null,null,null,null,null,null,null,null,null,null,null,null,null,null,null,null,null,null,null,null,null,null,null,null,null,null,null,null,null,null,null,null,null,null,null,null,null,null,null,null,null,null,null,null,null,null,null,null,null,null,null,null,null,null,null,null,null,null,null,null,null,null,null,null,null,null,null,null,null,null,null,null,null,null,null,null,null,null,null,null,null,null,null,null,null,null,null,null,null,null,null,null,null,null,null,null,null,null,null,null,null,null,null,null,null,null,null,null,533,{"$f":"\"00\"&'1-Award Info'!$G$6","v":"00"},"","",1,"",{"$f":"IFERROR(\nIF(VLOOKUP(\"FY\"&RIGHT($EA549,2),'1-Award Info'!$F$28:$G$32,2,0)=0,\n     1,\n     VLOOKUP(\"FY\"&RIGHT($EA549,2),'1-Award Info'!$F$28:$G$32,2,0)),1)","v":1},"",null,""]
[null,null,null,null,null,null,null,null,null,null,null,null,null,null,null,null,null,null,null,null,null,null,null,null,null,null,null,null,null,null,null,null,null,null,null,null,null,null,null,null,null,null,null,null,null,null,null,null,null,null,null,null,null,null,null,null,null,null,null,null,null,null,null,null,null,null,null,null,null,null,null,null,null,null,null,null,null,null,null,null,null,null,null,null,null,null,null,null,null,null,null,null,null,null,null,null,null,null,null,null,null,null,null,null,null,null,null,null,null,null,null,null,null,null,null,null,null,null,null,null,null,null,null,null,null,534,{"$f":"\"00\"&'1-Award Info'!$G$6","v":"00"},"","",1,"",{"$f":"IFERROR(\nIF(VLOOKUP(\"FY\"&RIGHT($EA550,2),'1-Award Info'!$F$28:$G$32,2,0)=0,\n     1,\n     VLOOKUP(\"FY\"&RIGHT($EA550,2),'1-Award Info'!$F$28:$G$32,2,0)),1)","v":1},"",null,""]
[null,null,null,null,null,null,null,null,null,null,null,null,null,null,null,null,null,null,null,null,null,null,null,null,null,null,null,null,null,null,null,null,null,null,null,null,null,null,null,null,null,null,null,null,null,null,null,null,null,null,null,null,null,null,null,null,null,null,null,null,null,null,null,null,null,null,null,null,null,null,null,null,null,null,null,null,null,null,null,null,null,null,null,null,null,null,null,null,null,null,null,null,null,null,null,null,null,null,null,null,null,null,null,null,null,null,null,null,null,null,null,null,null,null,null,null,null,null,null,null,null,null,null,null,null,535,{"$f":"\"00\"&'1-Award Info'!$G$6","v":"00"},"","",1,"",{"$f":"IFERROR(\nIF(VLOOKUP(\"FY\"&RIGHT($EA551,2),'1-Award Info'!$F$28:$G$32,2,0)=0,\n     1,\n     VLOOKUP(\"FY\"&RIGHT($EA551,2),'1-Award Info'!$F$28:$G$32,2,0)),1)","v":1},"",null,""]
[null,null,null,null,null,null,null,null,null,null,null,null,null,null,null,null,null,null,null,null,null,null,null,null,null,null,null,null,null,null,null,null,null,null,null,null,null,null,null,null,null,null,null,null,null,null,null,null,null,null,null,null,null,null,null,null,null,null,null,null,null,null,null,null,null,null,null,null,null,null,null,null,null,null,null,null,null,null,null,null,null,null,null,null,null,null,null,null,null,null,null,null,null,null,null,null,null,null,null,null,null,null,null,null,null,null,null,null,null,null,null,null,null,null,null,null,null,null,null,null,null,null,null,null,null,536,{"$f":"\"00\"&'1-Award Info'!$G$6","v":"00"},"","",1,"",{"$f":"IFERROR(\nIF(VLOOKUP(\"FY\"&RIGHT($EA552,2),'1-Award Info'!$F$28:$G$32,2,0)=0,\n     1,\n     VLOOKUP(\"FY\"&RIGHT($EA552,2),'1-Award Info'!$F$28:$G$32,2,0)),1)","v":1},"",null,""]
[null,null,null,null,null,null,null,null,null,null,null,null,null,null,null,null,null,null,null,null,null,null,null,null,null,null,null,null,null,null,null,null,null,null,null,null,null,null,null,null,null,null,null,null,null,null,null,null,null,null,null,null,null,null,null,null,null,null,null,null,null,null,null,null,null,null,null,null,null,null,null,null,null,null,null,null,null,null,null,null,null,null,null,null,null,null,null,null,null,null,null,null,null,null,null,null,null,null,null,null,null,null,null,null,null,null,null,null,null,null,null,null,null,null,null,null,null,null,null,null,null,null,null,null,null,537,{"$f":"\"00\"&'1-Award Info'!$G$6","v":"00"},"","",1,"",{"$f":"IFERROR(\nIF(VLOOKUP(\"FY\"&RIGHT($EA553,2),'1-Award Info'!$F$28:$G$32,2,0)=0,\n     1,\n     VLOOKUP(\"FY\"&RIGHT($EA553,2),'1-Award Info'!$F$28:$G$32,2,0)),1)","v":1},"",null,""]
[null,null,null,null,null,null,null,null,null,null,null,null,null,null,null,null,null,null,null,null,null,null,null,null,null,null,null,null,null,null,null,null,null,null,null,null,null,null,null,null,null,null,null,null,null,null,null,null,null,null,null,null,null,null,null,null,null,null,null,null,null,null,null,null,null,null,null,null,null,null,null,null,null,null,null,null,null,null,null,null,null,null,null,null,null,null,null,null,null,null,null,null,null,null,null,null,null,null,null,null,null,null,null,null,null,null,null,null,null,null,null,null,null,null,null,null,null,null,null,null,null,null,null,null,null,538,{"$f":"\"00\"&'1-Award Info'!$G$6","v":"00"},"","",1,"",{"$f":"IFERROR(\nIF(VLOOKUP(\"FY\"&RIGHT($EA554,2),'1-Award Info'!$F$28:$G$32,2,0)=0,\n     1,\n     VLOOKUP(\"FY\"&RIGHT($EA554,2),'1-Award Info'!$F$28:$G$32,2,0)),1)","v":1},"",null,""]
[null,null,null,null,null,null,null,null,null,null,null,null,null,null,null,null,null,null,null,null,null,null,null,null,null,null,null,null,null,null,null,null,null,null,null,null,null,null,null,null,null,null,null,null,null,null,null,null,null,null,null,null,null,null,null,null,null,null,null,null,null,null,null,null,null,null,null,null,null,null,null,null,null,null,null,null,null,null,null,null,null,null,null,null,null,null,null,null,null,null,null,null,null,null,null,null,null,null,null,null,null,null,null,null,null,null,null,null,null,null,null,null,null,null,null,null,null,null,null,null,null,null,null,null,null,539,{"$f":"\"00\"&'1-Award Info'!$G$6","v":"00"},"","",1,"",{"$f":"IFERROR(\nIF(VLOOKUP(\"FY\"&RIGHT($EA555,2),'1-Award Info'!$F$28:$G$32,2,0)=0,\n     1,\n     VLOOKUP(\"FY\"&RIGHT($EA555,2),'1-Award Info'!$F$28:$G$32,2,0)),1)","v":1},"",null,""]
[null,null,null,null,null,null,null,null,null,null,null,null,null,null,null,null,null,null,null,null,null,null,null,null,null,null,null,null,null,null,null,null,null,null,null,null,null,null,null,null,null,null,null,null,null,null,null,null,null,null,null,null,null,null,null,null,null,null,null,null,null,null,null,null,null,null,null,null,null,null,null,null,null,null,null,null,null,null,null,null,null,null,null,null,null,null,null,null,null,null,null,null,null,null,null,null,null,null,null,null,null,null,null,null,null,null,null,null,null,null,null,null,null,null,null,null,null,null,null,null,null,null,null,null,null,540,{"$f":"\"00\"&'1-Award Info'!$G$6","v":"00"},"","",1,"",{"$f":"IFERROR(\nIF(VLOOKUP(\"FY\"&RIGHT($EA556,2),'1-Award Info'!$F$28:$G$32,2,0)=0,\n     1,\n     VLOOKUP(\"FY\"&RIGHT($EA556,2),'1-Award Info'!$F$28:$G$32,2,0)),1)","v":1},"",null,""]
[null,null,null,null,null,null,null,null,null,null,null,null,null,null,null,null,null,null,null,null,null,null,null,null,null,null,null,null,null,null,null,null,null,null,null,null,null,null,null,null,null,null,null,null,null,null,null,null,null,null,null,null,null,null,null,null,null,null,null,null,null,null,null,null,null,null,null,null,null,null,null,null,null,null,null,null,null,null,null,null,null,null,null,null,null,null,null,null,null,null,null,null,null,null,null,null,null,null,null,null,null,null,null,null,null,null,null,null,null,null,null,null,null,null,null,null,null,null,null,null,null,null,null,null,null,541,{"$f":"\"00\"&'1-Award Info'!$G$6","v":"00"},"","",1,"",{"$f":"IFERROR(\nIF(VLOOKUP(\"FY\"&RIGHT($EA557,2),'1-Award Info'!$F$28:$G$32,2,0)=0,\n     1,\n     VLOOKUP(\"FY\"&RIGHT($EA557,2),'1-Award Info'!$F$28:$G$32,2,0)),1)","v":1},"",null,""]
[null,null,null,null,null,null,null,null,null,null,null,null,null,null,null,null,null,null,null,null,null,null,null,null,null,null,null,null,null,null,null,null,null,null,null,null,null,null,null,null,null,null,null,null,null,null,null,null,null,null,null,null,null,null,null,null,null,null,null,null,null,null,null,null,null,null,null,null,null,null,null,null,null,null,null,null,null,null,null,null,null,null,null,null,null,null,null,null,null,null,null,null,null,null,null,null,null,null,null,null,null,null,null,null,null,null,null,null,null,null,null,null,null,null,null,null,null,null,null,null,null,null,null,null,null,542,{"$f":"\"00\"&'1-Award Info'!$G$6","v":"00"},"","",1,"",{"$f":"IFERROR(\nIF(VLOOKUP(\"FY\"&RIGHT($EA558,2),'1-Award Info'!$F$28:$G$32,2,0)=0,\n     1,\n     VLOOKUP(\"FY\"&RIGHT($EA558,2),'1-Award Info'!$F$28:$G$32,2,0)),1)","v":1},"",null,""]
[null,null,null,null,null,null,null,null,null,null,null,null,null,null,null,null,null,null,null,null,null,null,null,null,null,null,null,null,null,null,null,null,null,null,null,null,null,null,null,null,null,null,null,null,null,null,null,null,null,null,null,null,null,null,null,null,null,null,null,null,null,null,null,null,null,null,null,null,null,null,null,null,null,null,null,null,null,null,null,null,null,null,null,null,null,null,null,null,null,null,null,null,null,null,null,null,null,null,null,null,null,null,null,null,null,null,null,null,null,null,null,null,null,null,null,null,null,null,null,null,null,null,null,null,null,543,{"$f":"\"00\"&'1-Award Info'!$G$6","v":"00"},"","",1,"",{"$f":"IFERROR(\nIF(VLOOKUP(\"FY\"&RIGHT($EA559,2),'1-Award Info'!$F$28:$G$32,2,0)=0,\n     1,\n     VLOOKUP(\"FY\"&RIGHT($EA559,2),'1-Award Info'!$F$28:$G$32,2,0)),1)","v":1},"",null,""]
[null,null,null,null,null,null,null,null,null,null,null,null,null,null,null,null,null,null,null,null,null,null,null,null,null,null,null,null,null,null,null,null,null,null,null,null,null,null,null,null,null,null,null,null,null,null,null,null,null,null,null,null,null,null,null,null,null,null,null,null,null,null,null,null,null,null,null,null,null,null,null,null,null,null,null,null,null,null,null,null,null,null,null,null,null,null,null,null,null,null,null,null,null,null,null,null,null,null,null,null,null,null,null,null,null,null,null,null,null,null,null,null,null,null,null,null,null,null,null,null,null,null,null,null,null,544,{"$f":"\"00\"&'1-Award Info'!$G$6","v":"00"},"","",1,"",{"$f":"IFERROR(\nIF(VLOOKUP(\"FY\"&RIGHT($EA560,2),'1-Award Info'!$F$28:$G$32,2,0)=0,\n     1,\n     VLOOKUP(\"FY\"&RIGHT($EA560,2),'1-Award Info'!$F$28:$G$32,2,0)),1)","v":1},"",null,""]
[null,null,null,null,null,null,null,null,null,null,null,null,null,null,null,null,null,null,null,null,null,null,null,null,null,null,null,null,null,null,null,null,null,null,null,null,null,null,null,null,null,null,null,null,null,null,null,null,null,null,null,null,null,null,null,null,null,null,null,null,null,null,null,null,null,null,null,null,null,null,null,null,null,null,null,null,null,null,null,null,null,null,null,null,null,null,null,null,null,null,null,null,null,null,null,null,null,null,null,null,null,null,null,null,null,null,null,null,null,null,null,null,null,null,null,null,null,null,null,null,null,null,null,null,null,545,{"$f":"\"00\"&'1-Award Info'!$G$6","v":"00"},"","",1,"",{"$f":"IFERROR(\nIF(VLOOKUP(\"FY\"&RIGHT($EA561,2),'1-Award Info'!$F$28:$G$32,2,0)=0,\n     1,\n     VLOOKUP(\"FY\"&RIGHT($EA561,2),'1-Award Info'!$F$28:$G$32,2,0)),1)","v":1},"",null,""]
[null,null,null,null,null,null,null,null,null,null,null,null,null,null,null,null,null,null,null,null,null,null,null,null,null,null,null,null,null,null,null,null,null,null,null,null,null,null,null,null,null,null,null,null,null,null,null,null,null,null,null,null,null,null,null,null,null,null,null,null,null,null,null,null,null,null,null,null,null,null,null,null,null,null,null,null,null,null,null,null,null,null,null,null,null,null,null,null,null,null,null,null,null,null,null,null,null,null,null,null,null,null,null,null,null,null,null,null,null,null,null,null,null,null,null,null,null,null,null,null,null,null,null,null,null,546,{"$f":"\"00\"&'1-Award Info'!$G$6","v":"00"},"","",1,"",{"$f":"IFERROR(\nIF(VLOOKUP(\"FY\"&RIGHT($EA562,2),'1-Award Info'!$F$28:$G$32,2,0)=0,\n     1,\n     VLOOKUP(\"FY\"&RIGHT($EA562,2),'1-Award Info'!$F$28:$G$32,2,0)),1)","v":1},"",null,""]
[null,null,null,null,null,null,null,null,null,null,null,null,null,null,null,null,null,null,null,null,null,null,null,null,null,null,null,null,null,null,null,null,null,null,null,null,null,null,null,null,null,null,null,null,null,null,null,null,null,null,null,null,null,null,null,null,null,null,null,null,null,null,null,null,null,null,null,null,null,null,null,null,null,null,null,null,null,null,null,null,null,null,null,null,null,null,null,null,null,null,null,null,null,null,null,null,null,null,null,null,null,null,null,null,null,null,null,null,null,null,null,null,null,null,null,null,null,null,null,null,null,null,null,null,null,547,{"$f":"\"00\"&'1-Award Info'!$G$6","v":"00"},"","",1,"",{"$f":"IFERROR(\nIF(VLOOKUP(\"FY\"&RIGHT($EA563,2),'1-Award Info'!$F$28:$G$32,2,0)=0,\n     1,\n     VLOOKUP(\"FY\"&RIGHT($EA563,2),'1-Award Info'!$F$28:$G$32,2,0)),1)","v":1},"",null,""]
[null,null,null,null,null,null,null,null,null,null,null,null,null,null,null,null,null,null,null,null,null,null,null,null,null,null,null,null,null,null,null,null,null,null,null,null,null,null,null,null,null,null,null,null,null,null,null,null,null,null,null,null,null,null,null,null,null,null,null,null,null,null,null,null,null,null,null,null,null,null,null,null,null,null,null,null,null,null,null,null,null,null,null,null,null,null,null,null,null,null,null,null,null,null,null,null,null,null,null,null,null,null,null,null,null,null,null,null,null,null,null,null,null,null,null,null,null,null,null,null,null,null,null,null,null,548,{"$f":"\"00\"&'1-Award Info'!$G$6","v":"00"},"","",1,"",{"$f":"IFERROR(\nIF(VLOOKUP(\"FY\"&RIGHT($EA564,2),'1-Award Info'!$F$28:$G$32,2,0)=0,\n     1,\n     VLOOKUP(\"FY\"&RIGHT($EA564,2),'1-Award Info'!$F$28:$G$32,2,0)),1)","v":1},"",null,""]
[null,null,null,null,null,null,null,null,null,null,null,null,null,null,null,null,null,null,null,null,null,null,null,null,null,null,null,null,null,null,null,null,null,null,null,null,null,null,null,null,null,null,null,null,null,null,null,null,null,null,null,null,null,null,null,null,null,null,null,null,null,null,null,null,null,null,null,null,null,null,null,null,null,null,null,null,null,null,null,null,null,null,null,null,null,null,null,null,null,null,null,null,null,null,null,null,null,null,null,null,null,null,null,null,null,null,null,null,null,null,null,null,null,null,null,null,null,null,null,null,null,null,null,null,null,549,{"$f":"\"00\"&'1-Award Info'!$G$6","v":"00"},"","",1,"",{"$f":"IFERROR(\nIF(VLOOKUP(\"FY\"&RIGHT($EA565,2),'1-Award Info'!$F$28:$G$32,2,0)=0,\n     1,\n     VLOOKUP(\"FY\"&RIGHT($EA565,2),'1-Award Info'!$F$28:$G$32,2,0)),1)","v":1},"",null,""]
[null,null,null,null,null,null,null,null,null,null,null,null,null,null,null,null,null,null,null,null,null,null,null,null,null,null,null,null,null,null,null,null,null,null,null,null,null,null,null,null,null,null,null,null,null,null,null,null,null,null,null,null,null,null,null,null,null,null,null,null,null,null,null,null,null,null,null,null,null,null,null,null,null,null,null,null,null,null,null,null,null,null,null,null,null,null,null,null,null,null,null,null,null,null,null,null,null,null,null,null,null,null,null,null,null,null,null,null,null,null,null,null,null,null,null,null,null,null,null,null,null,null,null,null,null,550,{"$f":"\"00\"&'1-Award Info'!$G$6","v":"00"},"","",1,"",{"$f":"IFERROR(\nIF(VLOOKUP(\"FY\"&RIGHT($EA566,2),'1-Award Info'!$F$28:$G$32,2,0)=0,\n     1,\n     VLOOKUP(\"FY\"&RIGHT($EA566,2),'1-Award Info'!$F$28:$G$32,2,0)),1)","v":1},"",null,""]
[null,null,null,null,null,null,null,null,null,null,null,null,null,null,null,null,null,null,null,null,null,null,null,null,null,null,null,null,null,null,null,null,null,null,null,null,null,null,null,null,null,null,null,null,null,null,null,null,null,null,null,null,null,null,null,null,null,null,null,null,null,null,null,null,null,null,null,null,null,null,null,null,null,null,null,null,null,null,null,null,null,null,null,null,null,null,null,null,null,null,null,null,null,null,null,null,null,null,null,null,null,null,null,null,null,null,null,null,null,null,null,null,null,null,null,null,null,null,null,null,null,null,null,null,null,551,{"$f":"\"00\"&'1-Award Info'!$G$6","v":"00"},"","",1,"",{"$f":"IFERROR(\nIF(VLOOKUP(\"FY\"&RIGHT($EA567,2),'1-Award Info'!$F$28:$G$32,2,0)=0,\n     1,\n     VLOOKUP(\"FY\"&RIGHT($EA567,2),'1-Award Info'!$F$28:$G$32,2,0)),1)","v":1},"",null,""]
[null,null,null,null,null,null,null,null,null,null,null,null,null,null,null,null,null,null,null,null,null,null,null,null,null,null,null,null,null,null,null,null,null,null,null,null,null,null,null,null,null,null,null,null,null,null,null,null,null,null,null,null,null,null,null,null,null,null,null,null,null,null,null,null,null,null,null,null,null,null,null,null,null,null,null,null,null,null,null,null,null,null,null,null,null,null,null,null,null,null,null,null,null,null,null,null,null,null,null,null,null,null,null,null,null,null,null,null,null,null,null,null,null,null,null,null,null,null,null,null,null,null,null,null,null,552,{"$f":"\"00\"&'1-Award Info'!$G$6","v":"00"},"","",1,"",{"$f":"IFERROR(\nIF(VLOOKUP(\"FY\"&RIGHT($EA568,2),'1-Award Info'!$F$28:$G$32,2,0)=0,\n     1,\n     VLOOKUP(\"FY\"&RIGHT($EA568,2),'1-Award Info'!$F$28:$G$32,2,0)),1)","v":1},"",null,""]
[null,null,null,null,null,null,null,null,null,null,null,null,null,null,null,null,null,null,null,null,null,null,null,null,null,null,null,null,null,null,null,null,null,null,null,null,null,null,null,null,null,null,null,null,null,null,null,null,null,null,null,null,null,null,null,null,null,null,null,null,null,null,null,null,null,null,null,null,null,null,null,null,null,null,null,null,null,null,null,null,null,null,null,null,null,null,null,null,null,null,null,null,null,null,null,null,null,null,null,null,null,null,null,null,null,null,null,null,null,null,null,null,null,null,null,null,null,null,null,null,null,null,null,null,null,553,{"$f":"\"00\"&'1-Award Info'!$G$6","v":"00"},"","",1,"",{"$f":"IFERROR(\nIF(VLOOKUP(\"FY\"&RIGHT($EA569,2),'1-Award Info'!$F$28:$G$32,2,0)=0,\n     1,\n     VLOOKUP(\"FY\"&RIGHT($EA569,2),'1-Award Info'!$F$28:$G$32,2,0)),1)","v":1},"",null,""]
[null,null,null,null,null,null,null,null,null,null,null,null,null,null,null,null,null,null,null,null,null,null,null,null,null,null,null,null,null,null,null,null,null,null,null,null,null,null,null,null,null,null,null,null,null,null,null,null,null,null,null,null,null,null,null,null,null,null,null,null,null,null,null,null,null,null,null,null,null,null,null,null,null,null,null,null,null,null,null,null,null,null,null,null,null,null,null,null,null,null,null,null,null,null,null,null,null,null,null,null,null,null,null,null,null,null,null,null,null,null,null,null,null,null,null,null,null,null,null,null,null,null,null,null,null,554,{"$f":"\"00\"&'1-Award Info'!$G$6","v":"00"},"","",1,"",{"$f":"IFERROR(\nIF(VLOOKUP(\"FY\"&RIGHT($EA570,2),'1-Award Info'!$F$28:$G$32,2,0)=0,\n     1,\n     VLOOKUP(\"FY\"&RIGHT($EA570,2),'1-Award Info'!$F$28:$G$32,2,0)),1)","v":1},"",null,""]
[null,null,null,null,null,null,null,null,null,null,null,null,null,null,null,null,null,null,null,null,null,null,null,null,null,null,null,null,null,null,null,null,null,null,null,null,null,null,null,null,null,null,null,null,null,null,null,null,null,null,null,null,null,null,null,null,null,null,null,null,null,null,null,null,null,null,null,null,null,null,null,null,null,null,null,null,null,null,null,null,null,null,null,null,null,null,null,null,null,null,null,null,null,null,null,null,null,null,null,null,null,null,null,null,null,null,null,null,null,null,null,null,null,null,null,null,null,null,null,null,null,null,null,null,null,555,{"$f":"\"00\"&'1-Award Info'!$G$6","v":"00"},{"$f":"IFERROR(IFERROR(IFERROR(IFERROR(IFERROR(LEFT(VLOOKUP($DV571,$AT:$AW,4,0),15),LEFT(VLOOKUP($DV571,$BL:$BO,4,0),15)),LEFT(VLOOKUP($DV571,$CD:$CG,4,0),15)),LEFT(VLOOKUP($DV571,CV:CY,4,0),15)),LEFT(VLOOKUP($DV571,DN:DQ,4,0),15)),\"\")","v":""},{"$f":"IFERROR(IFERROR(IFERROR(IFERROR(IFERROR(RIGHT(VLOOKUP($DV571,$AT:$AW,4,0),5),RIGHT(VLOOKUP($DV571,$BL:$BO,4,0),5)),RIGHT(VLOOKUP($DV571,$CD:$CG,4,0),5)),RIGHT(VLOOKUP($DV571,CV:CY,4,0),5)),RIGHT(VLOOKUP($DV571,DN:DR,4,0),5)),\"\")","v":""},1,{"$f":"IFERROR(IFERROR(IFERROR(IFERROR(IFERROR(VLOOKUP($DV571,$AT:$AZ,7,0),VLOOKUP($DV571,$BL:$BR,7,0)),VLOOKUP($DV571,$CD:$CJ,7,0)),VLOOKUP($DV571,CV:DB,7,0)),VLOOKUP($DV571,DN:DT,7,0)),\"\")","v":""},{"$f":"IFERROR(\nIF(VLOOKUP(\"FY\"&RIGHT($EA571,2),'1-Award Info'!$F$28:$G$32,2,0)=0,\n     1,\n     VLOOKUP(\"FY\"&RIGHT($EA571,2),'1-Award Info'!$F$28:$G$32,2,0)),1)","v":1},{"$f":"IFERROR(IFERROR(IFERROR(IFERROR(IFERROR(VLOOKUP($DV571,$AT:$AZ,5,0),VLOOKUP($DV571,$BL:$BR,5,0)),VLOOKUP($DV571,$CD:$CJ,5,0)),VLOOKUP($DV571,CV:CZ,5,0)),VLOOKUP($DV571,DN:DR,5,0)),\"\")","v":""},null,{"$f":"IFERROR(IFERROR(IFERROR(IFERROR(IFERROR(VLOOKUP($DV571,$AT:$AZ,6,0),VLOOKUP($DV571,$BL:$BR,6,0)),VLOOKUP($DV571,$CD:$CJ,6,0)),VLOOKUP($DV571,CV:DA,6,0)),VLOOKUP($DV571,DN:DS,6,0)),\"\")","v":""}]
[null,null,null,null,null,null,null,null,null,null,null,null,null,null,null,null,null,null,null,null,null,null,null,null,null,null,null,null,null,null,null,null,null,null,null,null,null,null,null,null,null,null,null,null,null,null,null,null,null,null,null,null,null,null,null,null,null,null,null,null,null,null,null,null,null,null,null,null,null,null,null,null,null,null,null,null,null,null,null,null,null,null,null,null,null,null,null,null,null,null,null,null,null,null,null,null,null,null,null,null,null,null,null,null,null,null,null,null,null,null,null,null,null,null,null,null,null,null,null,null,null,null,null,null,null,556,{"$f":"\"00\"&'1-Award Info'!$G$6","v":"00"},"","",1,"",{"$f":"IFERROR(\nIF(VLOOKUP(\"FY\"&RIGHT($EA572,2),'1-Award Info'!$F$28:$G$32,2,0)=0,\n     1,\n     VLOOKUP(\"FY\"&RIGHT($EA572,2),'1-Award Info'!$F$28:$G$32,2,0)),1)","v":1},"",null,""]
[null,null,null,null,null,null,null,null,null,null,null,null,null,null,null,null,null,null,null,null,null,null,null,null,null,null,null,null,null,null,null,null,null,null,null,null,null,null,null,null,null,null,null,null,null,null,null,null,null,null,null,null,null,null,null,null,null,null,null,null,null,null,null,null,null,null,null,null,null,null,null,null,null,null,null,null,null,null,null,null,null,null,null,null,null,null,null,null,null,null,null,null,null,null,null,null,null,null,null,null,null,null,null,null,null,null,null,null,null,null,null,null,null,null,null,null,null,null,null,null,null,null,null,null,null,557,{"$f":"\"00\"&'1-Award Info'!$G$6","v":"00"},"","",1,"",{"$f":"IFERROR(\nIF(VLOOKUP(\"FY\"&RIGHT($EA573,2),'1-Award Info'!$F$28:$G$32,2,0)=0,\n     1,\n     VLOOKUP(\"FY\"&RIGHT($EA573,2),'1-Award Info'!$F$28:$G$32,2,0)),1)","v":1},"",null,""]
[null,null,null,null,null,null,null,null,null,null,null,null,null,null,null,null,null,null,null,null,null,null,null,null,null,null,null,null,null,null,null,null,null,null,null,null,null,null,null,null,null,null,null,null,null,null,null,null,null,null,null,null,null,null,null,null,null,null,null,null,null,null,null,null,null,null,null,null,null,null,null,null,null,null,null,null,null,null,null,null,null,null,null,null,null,null,null,null,null,null,null,null,null,null,null,null,null,null,null,null,null,null,null,null,null,null,null,null,null,null,null,null,null,null,null,null,null,null,null,null,null,null,null,null,null,558,{"$f":"\"00\"&'1-Award Info'!$G$6","v":"00"},"","",1,"",{"$f":"IFERROR(\nIF(VLOOKUP(\"FY\"&RIGHT($EA574,2),'1-Award Info'!$F$28:$G$32,2,0)=0,\n     1,\n     VLOOKUP(\"FY\"&RIGHT($EA574,2),'1-Award Info'!$F$28:$G$32,2,0)),1)","v":1},"",null,""]
[null,null,null,null,null,null,null,null,null,null,null,null,null,null,null,null,null,null,null,null,null,null,null,null,null,null,null,null,null,null,null,null,null,null,null,null,null,null,null,null,null,null,null,null,null,null,null,null,null,null,null,null,null,null,null,null,null,null,null,null,null,null,null,null,null,null,null,null,null,null,null,null,null,null,null,null,null,null,null,null,null,null,null,null,null,null,null,null,null,null,null,null,null,null,null,null,null,null,null,null,null,null,null,null,null,null,null,null,null,null,null,null,null,null,null,null,null,null,null,null,null,null,null,null,null,559,{"$f":"\"00\"&'1-Award Info'!$G$6","v":"00"},"","",1,"",{"$f":"IFERROR(\nIF(VLOOKUP(\"FY\"&RIGHT($EA575,2),'1-Award Info'!$F$28:$G$32,2,0)=0,\n     1,\n     VLOOKUP(\"FY\"&RIGHT($EA575,2),'1-Award Info'!$F$28:$G$32,2,0)),1)","v":1},"",null,""]
[null,null,null,null,null,null,null,null,null,null,null,null,null,null,null,null,null,null,null,null,null,null,null,null,null,null,null,null,null,null,null,null,null,null,null,null,null,null,null,null,null,null,null,null,null,null,null,null,null,null,null,null,null,null,null,null,null,null,null,null,null,null,null,null,null,null,null,null,null,null,null,null,null,null,null,null,null,null,null,null,null,null,null,null,null,null,null,null,null,null,null,null,null,null,null,null,null,null,null,null,null,null,null,null,null,null,null,null,null,null,null,null,null,null,null,null,null,null,null,null,null,null,null,null,null,560,{"$f":"\"00\"&'1-Award Info'!$G$6","v":"00"},"","",1,"",{"$f":"IFERROR(\nIF(VLOOKUP(\"FY\"&RIGHT($EA576,2),'1-Award Info'!$F$28:$G$32,2,0)=0,\n     1,\n     VLOOKUP(\"FY\"&RIGHT($EA576,2),'1-Award Info'!$F$28:$G$32,2,0)),1)","v":1},"",null,""]
[null,null,null,null,null,null,null,null,null,null,null,null,null,null,null,null,null,null,null,null,null,null,null,null,null,null,null,null,null,null,null,null,null,null,null,null,null,null,null,null,null,null,null,null,null,null,null,null,null,null,null,null,null,null,null,null,null,null,null,null,null,null,null,null,null,null,null,null,null,null,null,null,null,null,null,null,null,null,null,null,null,null,null,null,null,null,null,null,null,null,null,null,null,null,null,null,null,null,null,null,null,null,null,null,null,null,null,null,null,null,null,null,null,null,null,null,null,null,null,null,null,null,null,null,null,561,{"$f":"\"00\"&'1-Award Info'!$G$6","v":"00"},"","",1,"",{"$f":"IFERROR(\nIF(VLOOKUP(\"FY\"&RIGHT($EA577,2),'1-Award Info'!$F$28:$G$32,2,0)=0,\n     1,\n     VLOOKUP(\"FY\"&RIGHT($EA577,2),'1-Award Info'!$F$28:$G$32,2,0)),1)","v":1},"",null,""]
[null,null,null,null,null,null,null,null,null,null,null,null,null,null,null,null,null,null,null,null,null,null,null,null,null,null,null,null,null,null,null,null,null,null,null,null,null,null,null,null,null,null,null,null,null,null,null,null,null,null,null,null,null,null,null,null,null,null,null,null,null,null,null,null,null,null,null,null,null,null,null,null,null,null,null,null,null,null,null,null,null,null,null,null,null,null,null,null,null,null,null,null,null,null,null,null,null,null,null,null,null,null,null,null,null,null,null,null,null,null,null,null,null,null,null,null,null,null,null,null,null,null,null,null,null,562,{"$f":"\"00\"&'1-Award Info'!$G$6","v":"00"},"","",1,"",{"$f":"IFERROR(\nIF(VLOOKUP(\"FY\"&RIGHT($EA578,2),'1-Award Info'!$F$28:$G$32,2,0)=0,\n     1,\n     VLOOKUP(\"FY\"&RIGHT($EA578,2),'1-Award Info'!$F$28:$G$32,2,0)),1)","v":1},"",null,""]
[null,null,null,null,null,null,null,null,null,null,null,null,null,null,null,null,null,null,null,null,null,null,null,null,null,null,null,null,null,null,null,null,null,null,null,null,null,null,null,null,null,null,null,null,null,null,null,null,null,null,null,null,null,null,null,null,null,null,null,null,null,null,null,null,null,null,null,null,null,null,null,null,null,null,null,null,null,null,null,null,null,null,null,null,null,null,null,null,null,null,null,null,null,null,null,null,null,null,null,null,null,null,null,null,null,null,null,null,null,null,null,null,null,null,null,null,null,null,null,null,null,null,null,null,null,563,{"$f":"\"00\"&'1-Award Info'!$G$6","v":"00"},"","",1,"",{"$f":"IFERROR(\nIF(VLOOKUP(\"FY\"&RIGHT($EA579,2),'1-Award Info'!$F$28:$G$32,2,0)=0,\n     1,\n     VLOOKUP(\"FY\"&RIGHT($EA579,2),'1-Award Info'!$F$28:$G$32,2,0)),1)","v":1},"",null,""]
[null,null,null,null,null,null,null,null,null,null,null,null,null,null,null,null,null,null,null,null,null,null,null,null,null,null,null,null,null,null,null,null,null,null,null,null,null,null,null,null,null,null,null,null,null,null,null,null,null,null,null,null,null,null,null,null,null,null,null,null,null,null,null,null,null,null,null,null,null,null,null,null,null,null,null,null,null,null,null,null,null,null,null,null,null,null,null,null,null,null,null,null,null,null,null,null,null,null,null,null,null,null,null,null,null,null,null,null,null,null,null,null,null,null,null,null,null,null,null,null,null,null,null,null,null,564,{"$f":"\"00\"&'1-Award Info'!$G$6","v":"00"},"","",1,"",{"$f":"IFERROR(\nIF(VLOOKUP(\"FY\"&RIGHT($EA580,2),'1-Award Info'!$F$28:$G$32,2,0)=0,\n     1,\n     VLOOKUP(\"FY\"&RIGHT($EA580,2),'1-Award Info'!$F$28:$G$32,2,0)),1)","v":1},"",null,""]
[null,null,null,null,null,null,null,null,null,null,null,null,null,null,null,null,null,null,null,null,null,null,null,null,null,null,null,null,null,null,null,null,null,null,null,null,null,null,null,null,null,null,null,null,null,null,null,null,null,null,null,null,null,null,null,null,null,null,null,null,null,null,null,null,null,null,null,null,null,null,null,null,null,null,null,null,null,null,null,null,null,null,null,null,null,null,null,null,null,null,null,null,null,null,null,null,null,null,null,null,null,null,null,null,null,null,null,null,null,null,null,null,null,null,null,null,null,null,null,null,null,null,null,null,null,565,{"$f":"\"00\"&'1-Award Info'!$G$6","v":"00"},"","",1,"",{"$f":"IFERROR(\nIF(VLOOKUP(\"FY\"&RIGHT($EA581,2),'1-Award Info'!$F$28:$G$32,2,0)=0,\n     1,\n     VLOOKUP(\"FY\"&RIGHT($EA581,2),'1-Award Info'!$F$28:$G$32,2,0)),1)","v":1},"",null,""]
[null,null,null,null,null,null,null,null,null,null,null,null,null,null,null,null,null,null,null,null,null,null,null,null,null,null,null,null,null,null,null,null,null,null,null,null,null,null,null,null,null,null,null,null,null,null,null,null,null,null,null,null,null,null,null,null,null,null,null,null,null,null,null,null,null,null,null,null,null,null,null,null,null,null,null,null,null,null,null,null,null,null,null,null,null,null,null,null,null,null,null,null,null,null,null,null,null,null,null,null,null,null,null,null,null,null,null,null,null,null,null,null,null,null,null,null,null,null,null,null,null,null,null,null,null,566,{"$f":"\"00\"&'1-Award Info'!$G$6","v":"00"},"","",1,"",{"$f":"IFERROR(\nIF(VLOOKUP(\"FY\"&RIGHT($EA582,2),'1-Award Info'!$F$28:$G$32,2,0)=0,\n     1,\n     VLOOKUP(\"FY\"&RIGHT($EA582,2),'1-Award Info'!$F$28:$G$32,2,0)),1)","v":1},"",null,""]
[null,null,null,null,null,null,null,null,null,null,null,null,null,null,null,null,null,null,null,null,null,null,null,null,null,null,null,null,null,null,null,null,null,null,null,null,null,null,null,null,null,null,null,null,null,null,null,null,null,null,null,null,null,null,null,null,null,null,null,null,null,null,null,null,null,null,null,null,null,null,null,null,null,null,null,null,null,null,null,null,null,null,null,null,null,null,null,null,null,null,null,null,null,null,null,null,null,null,null,null,null,null,null,null,null,null,null,null,null,null,null,null,null,null,null,null,null,null,null,null,null,null,null,null,null,567,{"$f":"\"00\"&'1-Award Info'!$G$6","v":"00"},"","",1,"",{"$f":"IFERROR(\nIF(VLOOKUP(\"FY\"&RIGHT($EA583,2),'1-Award Info'!$F$28:$G$32,2,0)=0,\n     1,\n     VLOOKUP(\"FY\"&RIGHT($EA583,2),'1-Award Info'!$F$28:$G$32,2,0)),1)","v":1},"",null,""]
[null,null,null,null,null,null,null,null,null,null,null,null,null,null,null,null,null,null,null,null,null,null,null,null,null,null,null,null,null,null,null,null,null,null,null,null,null,null,null,null,null,null,null,null,null,null,null,null,null,null,null,null,null,null,null,null,null,null,null,null,null,null,null,null,null,null,null,null,null,null,null,null,null,null,null,null,null,null,null,null,null,null,null,null,null,null,null,null,null,null,null,null,null,null,null,null,null,null,null,null,null,null,null,null,null,null,null,null,null,null,null,null,null,null,null,null,null,null,null,null,null,null,null,null,null,568,{"$f":"\"00\"&'1-Award Info'!$G$6","v":"00"},"","",1,"",{"$f":"IFERROR(\nIF(VLOOKUP(\"FY\"&RIGHT($EA584,2),'1-Award Info'!$F$28:$G$32,2,0)=0,\n     1,\n     VLOOKUP(\"FY\"&RIGHT($EA584,2),'1-Award Info'!$F$28:$G$32,2,0)),1)","v":1},"",null,""]
[null,null,null,null,null,null,null,null,null,null,null,null,null,null,null,null,null,null,null,null,null,null,null,null,null,null,null,null,null,null,null,null,null,null,null,null,null,null,null,null,null,null,null,null,null,null,null,null,null,null,null,null,null,null,null,null,null,null,null,null,null,null,null,null,null,null,null,null,null,null,null,null,null,null,null,null,null,null,null,null,null,null,null,null,null,null,null,null,null,null,null,null,null,null,null,null,null,null,null,null,null,null,null,null,null,null,null,null,null,null,null,null,null,null,null,null,null,null,null,null,null,null,null,null,null,569,{"$f":"\"00\"&'1-Award Info'!$G$6","v":"00"},"","",1,"",{"$f":"IFERROR(\nIF(VLOOKUP(\"FY\"&RIGHT($EA585,2),'1-Award Info'!$F$28:$G$32,2,0)=0,\n     1,\n     VLOOKUP(\"FY\"&RIGHT($EA585,2),'1-Award Info'!$F$28:$G$32,2,0)),1)","v":1},"",null,""]
[null,null,null,null,null,null,null,null,null,null,null,null,null,null,null,null,null,null,null,null,null,null,null,null,null,null,null,null,null,null,null,null,null,null,null,null,null,null,null,null,null,null,null,null,null,null,null,null,null,null,null,null,null,null,null,null,null,null,null,null,null,null,null,null,null,null,null,null,null,null,null,null,null,null,null,null,null,null,null,null,null,null,null,null,null,null,null,null,null,null,null,null,null,null,null,null,null,null,null,null,null,null,null,null,null,null,null,null,null,null,null,null,null,null,null,null,null,null,null,null,null,null,null,null,null,570,{"$f":"\"00\"&'1-Award Info'!$G$6","v":"00"},"","",1,"",{"$f":"IFERROR(\nIF(VLOOKUP(\"FY\"&RIGHT($EA586,2),'1-Award Info'!$F$28:$G$32,2,0)=0,\n     1,\n     VLOOKUP(\"FY\"&RIGHT($EA586,2),'1-Award Info'!$F$28:$G$32,2,0)),1)","v":1},"",null,""]
[null,null,null,null,null,null,null,null,null,null,null,null,null,null,null,null,null,null,null,null,null,null,null,null,null,null,null,null,null,null,null,null,null,null,null,null,null,null,null,null,null,null,null,null,null,null,null,null,null,null,null,null,null,null,null,null,null,null,null,null,null,null,null,null,null,null,null,null,null,null,null,null,null,null,null,null,null,null,null,null,null,null,null,null,null,null,null,null,null,null,null,null,null,null,null,null,null,null,null,null,null,null,null,null,null,null,null,null,null,null,null,null,null,null,null,null,null,null,null,null,null,null,null,null,null,571,{"$f":"\"00\"&'1-Award Info'!$G$6","v":"00"},"","",1,"",{"$f":"IFERROR(\nIF(VLOOKUP(\"FY\"&RIGHT($EA587,2),'1-Award Info'!$F$28:$G$32,2,0)=0,\n     1,\n     VLOOKUP(\"FY\"&RIGHT($EA587,2),'1-Award Info'!$F$28:$G$32,2,0)),1)","v":1},"",null,""]
[null,null,null,null,null,null,null,null,null,null,null,null,null,null,null,null,null,null,null,null,null,null,null,null,null,null,null,null,null,null,null,null,null,null,null,null,null,null,null,null,null,null,null,null,null,null,null,null,null,null,null,null,null,null,null,null,null,null,null,null,null,null,null,null,null,null,null,null,null,null,null,null,null,null,null,null,null,null,null,null,null,null,null,null,null,null,null,null,null,null,null,null,null,null,null,null,null,null,null,null,null,null,null,null,null,null,null,null,null,null,null,null,null,null,null,null,null,null,null,null,null,null,null,null,null,572,{"$f":"\"00\"&'1-Award Info'!$G$6","v":"00"},"","",1,"",{"$f":"IFERROR(\nIF(VLOOKUP(\"FY\"&RIGHT($EA588,2),'1-Award Info'!$F$28:$G$32,2,0)=0,\n     1,\n     VLOOKUP(\"FY\"&RIGHT($EA588,2),'1-Award Info'!$F$28:$G$32,2,0)),1)","v":1},"",null,""]
[null,null,null,null,null,null,null,null,null,null,null,null,null,null,null,null,null,null,null,null,null,null,null,null,null,null,null,null,null,null,null,null,null,null,null,null,null,null,null,null,null,null,null,null,null,null,null,null,null,null,null,null,null,null,null,null,null,null,null,null,null,null,null,null,null,null,null,null,null,null,null,null,null,null,null,null,null,null,null,null,null,null,null,null,null,null,null,null,null,null,null,null,null,null,null,null,null,null,null,null,null,null,null,null,null,null,null,null,null,null,null,null,null,null,null,null,null,null,null,null,null,null,null,null,null,573,{"$f":"\"00\"&'1-Award Info'!$G$6","v":"00"},"","",1,"",{"$f":"IFERROR(\nIF(VLOOKUP(\"FY\"&RIGHT($EA589,2),'1-Award Info'!$F$28:$G$32,2,0)=0,\n     1,\n     VLOOKUP(\"FY\"&RIGHT($EA589,2),'1-Award Info'!$F$28:$G$32,2,0)),1)","v":1},"",null,""]
[null,null,null,null,null,null,null,null,null,null,null,null,null,null,null,null,null,null,null,null,null,null,null,null,null,null,null,null,null,null,null,null,null,null,null,null,null,null,null,null,null,null,null,null,null,null,null,null,null,null,null,null,null,null,null,null,null,null,null,null,null,null,null,null,null,null,null,null,null,null,null,null,null,null,null,null,null,null,null,null,null,null,null,null,null,null,null,null,null,null,null,null,null,null,null,null,null,null,null,null,null,null,null,null,null,null,null,null,null,null,null,null,null,null,null,null,null,null,null,null,null,null,null,null,null,574,{"$f":"\"00\"&'1-Award Info'!$G$6","v":"00"},"","",1,"",{"$f":"IFERROR(\nIF(VLOOKUP(\"FY\"&RIGHT($EA590,2),'1-Award Info'!$F$28:$G$32,2,0)=0,\n     1,\n     VLOOKUP(\"FY\"&RIGHT($EA590,2),'1-Award Info'!$F$28:$G$32,2,0)),1)","v":1},"",null,""]
[null,null,null,null,null,null,null,null,null,null,null,null,null,null,null,null,null,null,null,null,null,null,null,null,null,null,null,null,null,null,null,null,null,null,null,null,null,null,null,null,null,null,null,null,null,null,null,null,null,null,null,null,null,null,null,null,null,null,null,null,null,null,null,null,null,null,null,null,null,null,null,null,null,null,null,null,null,null,null,null,null,null,null,null,null,null,null,null,null,null,null,null,null,null,null,null,null,null,null,null,null,null,null,null,null,null,null,null,null,null,null,null,null,null,null,null,null,null,null,null,null,null,null,null,null,575,{"$f":"\"00\"&'1-Award Info'!$G$6","v":"00"},"","",1,"",{"$f":"IFERROR(\nIF(VLOOKUP(\"FY\"&RIGHT($EA591,2),'1-Award Info'!$F$28:$G$32,2,0)=0,\n     1,\n     VLOOKUP(\"FY\"&RIGHT($EA591,2),'1-Award Info'!$F$28:$G$32,2,0)),1)","v":1},"",null,""]
[null,null,null,null,null,null,null,null,null,null,null,null,null,null,null,null,null,null,null,null,null,null,null,null,null,null,null,null,null,null,null,null,null,null,null,null,null,null,null,null,null,null,null,null,null,null,null,null,null,null,null,null,null,null,null,null,null,null,null,null,null,null,null,null,null,null,null,null,null,null,null,null,null,null,null,null,null,null,null,null,null,null,null,null,null,null,null,null,null,null,null,null,null,null,null,null,null,null,null,null,null,null,null,null,null,null,null,null,null,null,null,null,null,null,null,null,null,null,null,null,null,null,null,null,null,576,{"$f":"\"00\"&'1-Award Info'!$G$6","v":"00"},"","",1,"",{"$f":"IFERROR(\nIF(VLOOKUP(\"FY\"&RIGHT($EA592,2),'1-Award Info'!$F$28:$G$32,2,0)=0,\n     1,\n     VLOOKUP(\"FY\"&RIGHT($EA592,2),'1-Award Info'!$F$28:$G$32,2,0)),1)","v":1},"",null,""]
[null,null,null,null,null,null,null,null,null,null,null,null,null,null,null,null,null,null,null,null,null,null,null,null,null,null,null,null,null,null,null,null,null,null,null,null,null,null,null,null,null,null,null,null,null,null,null,null,null,null,null,null,null,null,null,null,null,null,null,null,null,null,null,null,null,null,null,null,null,null,null,null,null,null,null,null,null,null,null,null,null,null,null,null,null,null,null,null,null,null,null,null,null,null,null,null,null,null,null,null,null,null,null,null,null,null,null,null,null,null,null,null,null,null,null,null,null,null,null,null,null,null,null,null,null,577,{"$f":"\"00\"&'1-Award Info'!$G$6","v":"00"},"","",1,"",{"$f":"IFERROR(\nIF(VLOOKUP(\"FY\"&RIGHT($EA593,2),'1-Award Info'!$F$28:$G$32,2,0)=0,\n     1,\n     VLOOKUP(\"FY\"&RIGHT($EA593,2),'1-Award Info'!$F$28:$G$32,2,0)),1)","v":1},"",null,""]
[null,null,null,null,null,null,null,null,null,null,null,null,null,null,null,null,null,null,null,null,null,null,null,null,null,null,null,null,null,null,null,null,null,null,null,null,null,null,null,null,null,null,null,null,null,null,null,null,null,null,null,null,null,null,null,null,null,null,null,null,null,null,null,null,null,null,null,null,null,null,null,null,null,null,null,null,null,null,null,null,null,null,null,null,null,null,null,null,null,null,null,null,null,null,null,null,null,null,null,null,null,null,null,null,null,null,null,null,null,null,null,null,null,null,null,null,null,null,null,null,null,null,null,null,null,578,{"$f":"\"00\"&'1-Award Info'!$G$6","v":"00"},"","",1,"",{"$f":"IFERROR(\nIF(VLOOKUP(\"FY\"&RIGHT($EA594,2),'1-Award Info'!$F$28:$G$32,2,0)=0,\n     1,\n     VLOOKUP(\"FY\"&RIGHT($EA594,2),'1-Award Info'!$F$28:$G$32,2,0)),1)","v":1},"",null,""]
[null,null,null,null,null,null,null,null,null,null,null,null,null,null,null,null,null,null,null,null,null,null,null,null,null,null,null,null,null,null,null,null,null,null,null,null,null,null,null,null,null,null,null,null,null,null,null,null,null,null,null,null,null,null,null,null,null,null,null,null,null,null,null,null,null,null,null,null,null,null,null,null,null,null,null,null,null,null,null,null,null,null,null,null,null,null,null,null,null,null,null,null,null,null,null,null,null,null,null,null,null,null,null,null,null,null,null,null,null,null,null,null,null,null,null,null,null,null,null,null,null,null,null,null,null,{"$f":"DV594+1","v":579},{"$f":"\"00\"&'1-Award Info'!$G$6","v":"00"},"","",1,"",{"$f":"IFERROR(\nIF(VLOOKUP(\"FY\"&RIGHT($EA595,2),'1-Award Info'!$F$28:$G$32,2,0)=0,\n     1,\n     VLOOKUP(\"FY\"&RIGHT($EA595,2),'1-Award Info'!$F$28:$G$32,2,0)),1)","v":1},"",null,""]
[null,null,null,null,null,null,null,null,null,null,null,null,null,null,null,null,null,null,null,null,null,null,null,null,null,null,null,null,null,null,null,null,null,null,null,null,null,null,null,null,null,null,null,null,null,null,null,null,null,null,null,null,null,null,null,null,null,null,null,null,null,null,null,null,null,null,null,null,null,null,null,null,null,null,null,null,null,null,null,null,null,null,null,null,null,null,null,null,null,null,null,null,null,null,null,null,null,null,null,null,null,null,null,null,null,null,null,null,null,null,null,null,null,null,null,null,null,null,null,null,null,null,null,null,null,580,{"$f":"\"00\"&'1-Award Info'!$G$6","v":"00"},"","",1,"",{"$f":"IFERROR(\nIF(VLOOKUP(\"FY\"&RIGHT($EA596,2),'1-Award Info'!$F$28:$G$32,2,0)=0,\n     1,\n     VLOOKUP(\"FY\"&RIGHT($EA596,2),'1-Award Info'!$F$28:$G$32,2,0)),1)","v":1},"",null,""]
[null,null,null,null,null,null,null,null,null,null,null,null,null,null,null,null,null,null,null,null,null,null,null,null,null,null,null,null,null,null,null,null,null,null,null,null,null,null,null,null,null,null,null,null,null,null,null,null,null,null,null,null,null,null,null,null,null,null,null,null,null,null,null,null,null,null,null,null,null,null,null,null,null,null,null,null,null,null,null,null,null,null,null,null,null,null,null,null,null,null,null,null,null,null,null,null,null,null,null,null,null,null,null,null,null,null,null,null,null,null,null,null,null,null,null,null,null,null,null,null,null,null,null,null,null,581,{"$f":"\"00\"&'1-Award Info'!$G$6","v":"00"},"","",1,"",{"$f":"IFERROR(\nIF(VLOOKUP(\"FY\"&RIGHT($EA597,2),'1-Award Info'!$F$28:$G$32,2,0)=0,\n     1,\n     VLOOKUP(\"FY\"&RIGHT($EA597,2),'1-Award Info'!$F$28:$G$32,2,0)),1)","v":1},"",null,""]
[null,null,null,null,null,null,null,null,null,null,null,null,null,null,null,null,null,null,null,null,null,null,null,null,null,null,null,null,null,null,null,null,null,null,null,null,null,null,null,null,null,null,null,null,null,null,null,null,null,null,null,null,null,null,null,null,null,null,null,null,null,null,null,null,null,null,null,null,null,null,null,null,null,null,null,null,null,null,null,null,null,null,null,null,null,null,null,null,null,null,null,null,null,null,null,null,null,null,null,null,null,null,null,null,null,null,null,null,null,null,null,null,null,null,null,null,null,null,null,null,null,null,null,null,null,582,{"$f":"\"00\"&'1-Award Info'!$G$6","v":"00"},"","",1,"",{"$f":"IFERROR(\nIF(VLOOKUP(\"FY\"&RIGHT($EA598,2),'1-Award Info'!$F$28:$G$32,2,0)=0,\n     1,\n     VLOOKUP(\"FY\"&RIGHT($EA598,2),'1-Award Info'!$F$28:$G$32,2,0)),1)","v":1},"",null,""]
[null,null,null,null,null,null,null,null,null,null,null,null,null,null,null,null,null,null,null,null,null,null,null,null,null,null,null,null,null,null,null,null,null,null,null,null,null,null,null,null,null,null,null,null,null,null,null,null,null,null,null,null,null,null,null,null,null,null,null,null,null,null,null,null,null,null,null,null,null,null,null,null,null,null,null,null,null,null,null,null,null,null,null,null,null,null,null,null,null,null,null,null,null,null,null,null,null,null,null,null,null,null,null,null,null,null,null,null,null,null,null,null,null,null,null,null,null,null,null,null,null,null,null,null,null,583,{"$f":"\"00\"&'1-Award Info'!$G$6","v":"00"},"","",1,"",{"$f":"IFERROR(\nIF(VLOOKUP(\"FY\"&RIGHT($EA599,2),'1-Award Info'!$F$28:$G$32,2,0)=0,\n     1,\n     VLOOKUP(\"FY\"&RIGHT($EA599,2),'1-Award Info'!$F$28:$G$32,2,0)),1)","v":1},"",null,""]
[null,null,null,null,null,null,null,null,null,null,null,null,null,null,null,null,null,null,null,null,null,null,null,null,null,null,null,null,null,null,null,null,null,null,null,null,null,null,null,null,null,null,null,null,null,null,null,null,null,null,null,null,null,null,null,null,null,null,null,null,null,null,null,null,null,null,null,null,null,null,null,null,null,null,null,null,null,null,null,null,null,null,null,null,null,null,null,null,null,null,null,null,null,null,null,null,null,null,null,null,null,null,null,null,null,null,null,null,null,null,null,null,null,null,null,null,null,null,null,null,null,null,null,null,null,584,{"$f":"\"00\"&'1-Award Info'!$G$6","v":"00"},"","",1,"",{"$f":"IFERROR(\nIF(VLOOKUP(\"FY\"&RIGHT($EA600,2),'1-Award Info'!$F$28:$G$32,2,0)=0,\n     1,\n     VLOOKUP(\"FY\"&RIGHT($EA600,2),'1-Award Info'!$F$28:$G$32,2,0)),1)","v":1},"",null,""]
[null,null,null,null,null,null,null,null,null,null,null,null,null,null,null,null,null,null,null,null,null,null,null,null,null,null,null,null,null,null,null,null,null,null,null,null,null,null,null,null,null,null,null,null,null,null,null,null,null,null,null,null,null,null,null,null,null,null,null,null,null,null,null,null,null,null,null,null,null,null,null,null,null,null,null,null,null,null,null,null,null,null,null,null,null,null,null,null,null,null,null,null,null,null,null,null,null,null,null,null,null,null,null,null,null,null,null,null,null,null,null,null,null,null,null,null,null,null,null,null,null,null,null,null,null,585,{"$f":"\"00\"&'1-Award Info'!$G$6","v":"00"},"","",1,"",{"$f":"IFERROR(\nIF(VLOOKUP(\"FY\"&RIGHT($EA601,2),'1-Award Info'!$F$28:$G$32,2,0)=0,\n     1,\n     VLOOKUP(\"FY\"&RIGHT($EA601,2),'1-Award Info'!$F$28:$G$32,2,0)),1)","v":1},"",null,""]

{"sheet":"New Award Email","index":2,"n_rows":623,"n_cols":12,"rows_kept":623,"cut":false,"hidden":true,"merged":[[18,1,18,10],[19,1,19,10],[20,1,20,10],[21,1,21,10],[16,1,16,10],[17,1,17,10],[8,2,8,6],[9,2,9,6],[13,1,13,10],[14,1,14,10],[15,1,15,10],[11,1,11,2],[3,2,3,6],[4,2,4,6],[5,2,5,6],[6,2,6,6],[7,2,7,6],[33,1,33,10],[34,1,34,10],[36,10,36,11],[22,1,22,10],[23,1,23,10],[24,1,24,10],[25,1,25,10],[26,1,26,10],[30,1,30,10],[31,1,31,10],[32,1,32,10],[27,1,27,10],[28,1,28,10],[29,1,29,10]]}
[]
[null,"Congratulations on receiving this new funding.  Below is important information for managing the funds."]
[]
[null,"Name",{"$f":"'1-Award Info'!C19","v":0}]
[null,"Funding Source",{"$f":"'1-Award Info'!C23","v":0}]
[null,"Amount",{"$f":"'1-Award Info'!C20","v":0}]
[null,"Contract Number",{"$f":"'1-Award Info'!G4","v":0}]
[null,"Funding Period",{"$f":"TEXT('1-Award Info'!C21,\"MM/DD/YY\")&\" to \"&TEXT('1-Award Info'!C22,\"MM/DD/YY\")","v":"01/00/00 to 01/00/00"}]
[null,"Billing Required",{"$f":"IF('1-Award Info'!G11=\"GM15\",\"Yes - Work with FP to bill based on the Grants Admin Monthly Billing Report\",\"No\")","v":"No"}]
[null,null,"         Please mark important reporting dates on your calendar, if applicable"]
[]
[null,"Roles and Responsibilities"]
[]
[null,{"$f":"IF('1-Award Info'!C30=\"\",\"Grant Manager: NONE ASSIGNED\",\"Grant Manager: \"&'1-Award Info'!C30)","v":"Grant Manager: NONE ASSIGNED"}]
[null,"        • Monitor expenditures for allowability, reasonableness and compliance"]
[null,"        • Prepare & submit all program performance reporting, if required"]
[null,"        • Ensure no overspending"]
[]
[null,{"$f":"IF('1-Award Info'!C32=\"\",\"Bookkeeper: NONE ASSIGNED\",\"Bookkeeper: \"&'1-Award Info'!C32)","v":"Bookkeeper: NONE ASSIGNED"}]
[null,"       • Properly code all expenditures with accurate accounts"]
[null,"       • Correct all budget variances in timely manner and in compliance with the funder's requirements"]
[null,"       • Monitor grant budgets on a monthly basis"]
[]
[null,{"$f":"IF('1-Award Info'!C33=\"\",\"Financial Partner: NONE ASSIGNED\",\"Financial Partner: \"&'1-Award Info'!C33)","v":"Financial Partner: NONE ASSIGNED"}]
[null,"        • Provide financial and management support"]
[null,"        • Prepare & submit requests for funds as required"]
[null,"        • Provide Grant Manager with budget performance reports and expense information"]
[null,"        • Compile & analyze financial information"]
[]
[null,"Additional information about roles and associated responsibilities along with other important resources can be found"]
[null,"on The Commons, http://thecommons.dpsk12.org/Page/156. "]
[null,"• Grant Guidance Manual"]
[null,"• Grant Guidelines & Job Aids"]
[null,"• Grant Forms"]
[null,"• Grant/Funding Opportunities"]
[]
[null,"Active account codes with budget:",null,null,null,null,null,null,null,null,"Budget"]
[null,"Company","Account Unit","Account","Sub Account","Activity","Account Category",null,"Fiscal Year",null,"$","FTE"]
[null,{"$f":"IF('2-Grant Budget'!EC17=\"\",\"\",RIGHT('2-Grant Budget'!DW17,2))","v":""},{"$f":"IF(G39=\"\",\"\",IF(RIGHT(F39,4)=\"8000\",VLOOKUP('1-Award Info'!$G$19,Tables!Q:R,2,0)&\"08008000\",VLOOKUP('1-Award Info'!$G$19,Tables!Q:R,2,0)&RIGHT(F39,8)))","v":""},{"$f":"IF(G39=\"\",\"\",IF(LEFT(G39)<>\"9\",LEFT(G39,4),9&RIGHT(G39,3)))","v":""},{"$f":"IF(G39=\"\",\"\",IF(LEFT(G39,1)<>\"9\",0,MID(G39,2,1)))","v":""},{"$f":"IF('2-Grant Budget'!$EC17=\"\",\"\",'2-Grant Budget'!DX17)","v":""},{"$f":"IF('2-Grant Budget'!$EC17=\"\",\"\",'2-Grant Budget'!DY17)","v":""},null,{"$f":"IF('2-Grant Budget'!$EC17=\"\",\"\",\"FY\"&RIGHT('2-Grant Budget'!EA17,2))","v":""},null,{"$f":"IF('2-Grant Budget'!EC17=\"\",\"\",'2-Grant Budget'!EC17)","v":""},{"$f":"IF('2-Grant Budget'!EE17=\"\",\"\",'2-Grant Budget'!EE17)","v":""}]
[null,{"$f":"IF('2-Grant Budget'!EC18=\"\",\"\",RIGHT('2-Grant Budget'!DW18,2))","v":""},{"$f":"IF(G40=\"\",\"\",IF(RIGHT(F40,4)=\"8000\",VLOOKUP('1-Award Info'!$G$19,Tables!Q:R,2,0)&\"08008000\",VLOOKUP('1-Award Info'!$G$19,Tables!Q:R,2,0)&RIGHT(F40,8)))","v":""},{"$f":"IF(G40=\"\",\"\",IF(LEFT(G40)<>\"9\",LEFT(G40,4),9&RIGHT(G40,3)))","v":""},{"$f":"IF(G40=\"\",\"\",IF(LEFT(G40,1)<>\"9\",0,MID(G40,2,1)))","v":""},{"$f":"IF('2-Grant Budget'!$EC18=\"\",\"\",'2-Grant Budget'!DX18)","v":""},{"$f":"IF('2-Grant Budget'!$EC18=\"\",\"\",'2-Grant Budget'!DY18)","v":""},null,{"$f":"IF('2-Grant Budget'!$EC18=\"\",\"\",\"FY\"&RIGHT('2-Grant Budget'!EA18,2))","v":""},null,{"$f":"IF('2-Grant Budget'!EC18=\"\",\"\",'2-Grant Budget'!EC18)","v":""},{"$f":"IF('2-Grant Budget'!EE18=\"\",\"\",'2-Grant Budget'!EE18)","v":""}]
[null,{"$f":"IF('2-Grant Budget'!EC19=\"\",\"\",RIGHT('2-Grant Budget'!DW19,2))","v":""},{"$f":"IF(G41=\"\",\"\",IF(RIGHT(F41,4)=\"8000\",VLOOKUP('1-Award Info'!$G$19,Tables!Q:R,2,0)&\"08008000\",VLOOKUP('1-Award Info'!$G$19,Tables!Q:R,2,0)&RIGHT(F41,8)))","v":""},"","",{"$f":"IF('2-Grant Budget'!$EC19=\"\",\"\",'2-Grant Budget'!DX19)","v":""},{"$f":"IF('2-Grant Budget'!$EC19=\"\",\"\",'2-Grant Budget'!DY19)","v":""},null,{"$f":"IF('2-Grant Budget'!$EC19=\"\",\"\",\"FY\"&RIGHT('2-Grant Budget'!EA19,2))","v":""},null,{"$f":"IF('2-Grant Budget'!EC19=\"\",\"\",'2-Grant Budget'!EC19)","v":""},{"$f":"IF('2-Grant Budget'!EE19=\"\",\"\",'2-Grant Budget'!EE19)","v":""}]
[null,{"$f":"IF('2-Grant Budget'!EC20=\"\",\"\",RIGHT('2-Grant Budget'!DW20,2))","v":""},{"$f":"IF(G42=\"\",\"\",IF(RIGHT(F42,4)=\"8000\",VLOOKUP('1-Award Info'!$G$19,Tables!Q:R,2,0)&\"08008000\",VLOOKUP('1-Award Info'!$G$19,Tables!Q:R,2,0)&RIGHT(F42,8)))","v":""},"","",{"$f":"IF('2-Grant Budget'!$EC20=\"\",\"\",'2-Grant Budget'!DX20)","v":""},{"$f":"IF('2-Grant Budget'!$EC20=\"\",\"\",'2-Grant Budget'!DY20)","v":""},null,{"$f":"IF('2-Grant Budget'!$EC20=\"\",\"\",\"FY\"&RIGHT('2-Grant Budget'!EA20,2))","v":""},null,{"$f":"IF('2-Grant Budget'!EC20=\"\",\"\",'2-Grant Budget'!EC20)","v":""},{"$f":"IF('2-Grant Budget'!EE20=\"\",\"\",'2-Grant Budget'!EE20)","v":""}]
[null,{"$f":"IF('2-Grant Budget'!EC21=\"\",\"\",RIGHT('2-Grant Budget'!DW21,2))","v":""},{"$f":"IF(G43=\"\",\"\",IF(RIGHT(F43,4)=\"8000\",VLOOKUP('1-Award Info'!$G$19,Tables!Q:R,2,0)&\"08008000\",VLOOKUP('1-Award Info'!$G$19,Tables!Q:R,2,0)&RIGHT(F43,8)))","v":""},"","",{"$f":"IF('2-Grant Budget'!$EC21=\"\",\"\",'2-Grant Budget'!DX21)","v":""},{"$f":"IF('2-Grant Budget'!$EC21=\"\",\"\",'2-Grant Budget'!DY21)","v":""},null,{"$f":"IF('2-Grant Budget'!$EC21=\"\",\"\",\"FY\"&RIGHT('2-Grant Budget'!EA21,2))","v":""},null,{"$f":"IF('2-Grant Budget'!EC21=\"\",\"\",'2-Grant Budget'!EC21)","v":""},{"$f":"IF('2-Grant Budget'!EE21=\"\",\"\",'2-Grant Budget'!EE21)","v":""}]
[null,{"$f":"IF('2-Grant Budget'!EC22=\"\",\"\",RIGHT('2-Grant Budget'!DW22,2))","v":""},{"$f":"IF(G44=\"\",\"\",IF(RIGHT(F44,4)=\"8000\",VLOOKUP('1-Award Info'!$G$19,Tables!Q:R,2,0)&\"08008000\",VLOOKUP('1-Award Info'!$G$19,Tables!Q:R,2,0)&RIGHT(F44,8)))","v":""},"","",{"$f":"IF('2-Grant Budget'!$EC22=\"\",\"\",'2-Grant Budget'!DX22)","v":""},{"$f":"IF('2-Grant Budget'!$EC22=\"\",\"\",'2-Grant Budget'!DY22)","v":""},null,{"$f":"IF('2-Grant Budget'!$EC22=\"\",\"\",\"FY\"&RIGHT('2-Grant Budget'!EA22,2))","v":""},null,{"$f":"IF('2-Grant Budget'!EC22=\"\",\"\",'2-Grant Budget'!EC22)","v":""},{"$f":"IF('2-Grant Budget'!EE22=\"\",\"\",'2-Grant Budget'!EE22)","v":""}]
[null,{"$f":"IF('2-Grant Budget'!EC23=\"\",\"\",RIGHT('2-Grant Budget'!DW23,2))","v":""},{"$f":"IF(G45=\"\",\"\",IF(RIGHT(F45,4)=\"8000\",VLOOKUP('1-Award Info'!$G$19,Tables!Q:R,2,0)&\"08008000\",VLOOKUP('1-Award Info'!$G$19,Tables!Q:R,2,0)&RIGHT(F45,8)))","v":""},"","",{"$f":"IF('2-Grant Budget'!$EC23=\"\",\"\",'2-Grant Budget'!DX23)","v":""},{"$f":"IF('2-Grant Budget'!$EC23=\"\",\"\",'2-Grant Budget'!DY23)","v":""},null,{"$f":"IF('2-Grant Budget'!$EC23=\"\",\"\",\"FY\"&RIGHT('2-Grant Budget'!EA23,2))","v":""},null,{"$f":"IF('2-Grant Budget'!EC23=\"\",\"\",'2-Grant Budget'!EC23)","v":""},{"$f":"IF('2-Grant Budget'!EE23=\"\",\"\",'2-Grant Budget'!EE23)","v":""}]
[null,{"$f":"IF('2-Grant Budget'!EC24=\"\",\"\",RIGHT('2-Grant Budget'!DW24,2))","v":""},{"$f":"IF(G46=\"\",\"\",IF(RIGHT(F46,4)=\"8000\",VLOOKUP('1-Award Info'!$G$19,Tables!Q:R,2,0)&\"08008000\",VLOOKUP('1-Award Info'!$G$19,Tables!Q:R,2,0)&RIGHT(F46,8)))","v":""},"","",{"$f":"IF('2-Grant Budget'!$EC24=\"\",\"\",'2-Grant Budget'!DX24)","v":""},{"$f":"IF('2-Grant Budget'!$EC24=\"\",\"\",'2-Grant Budget'!DY24)","v":""},null,{"$f":"IF('2-Grant Budget'!$EC24=\"\",\"\",\"FY\"&RIGHT('2-Grant Budget'!EA24,2))","v":""},null,{"$f":"IF('2-Grant Budget'!EC24=\"\",\"\",'2-Grant Budget'!EC24)","v":""},{"$f":"IF('2-Grant Budget'!EE24=\"\",\"\",'2-Grant Budget'!EE24)","v":""}]
[null,{"$f":"IF('2-Grant Budget'!EC25=\"\",\"\",RIGHT('2-Grant Budget'!DW25,2))","v":""},{"$f":"IF(G47=\"\",\"\",IF(RIGHT(F47,4)=\"8000\",VLOOKUP('1-Award Info'!$G$19,Tables!Q:R,2,0)&\"08008000\",VLOOKUP('1-Award Info'!$G$19,Tables!Q:R,2,0)&RIGHT(F47,8)))","v":""},"","",{"$f":"IF('2-Grant Budget'!$EC25=\"\",\"\",'2-Grant Budget'!DX25)","v":""},{"$f":"IF('2-Grant Budget'!$EC25=\"\",\"\",'2-Grant Budget'!DY25)","v":""},null,{"$f":"IF('2-Grant Budget'!$EC25=\"\",\"\",\"FY\"&RIGHT('2-Grant Budget'!EA25,2))","v":""},null,{"$f":"IF('2-Grant Budget'!EC25=\"\",\"\",'2-Grant Budget'!EC25)","v":""},{"$f":"IF('2-Grant Budget'!EE25=\"\",\"\",'2-Grant Budget'!EE25)","v":""}]
[null,{"$f":"IF('2-Grant Budget'!EC26=\"\",\"\",RIGHT('2-Grant Budget'!DW26,2))","v":""},{"$f":"IF(G48=\"\",\"\",IF(RIGHT(F48,4)=\"8000\",VLOOKUP('1-Award Info'!$G$19,Tables!Q:R,2,0)&\"08008000\",VLOOKUP('1-Award Info'!$G$19,Tables!Q:R,2,0)&RIGHT(F48,8)))","v":""},"","",{"$f":"IF('2-Grant Budget'!$EC26=\"\",\"\",'2-Grant Budget'!DX26)","v":""},{"$f":"IF('2-Grant Budget'!$EC26=\"\",\"\",'2-Grant Budget'!DY26)","v":""},null,{"$f":"IF('2-Grant Budget'!$EC26=\"\",\"\",\"FY\"&RIGHT('2-Grant Budget'!EA26,2))","v":""},null,{"$f":"IF('2-Grant Budget'!EC26=\"\",\"\",'2-Grant Budget'!EC26)","v":""},{"$f":"IF('2-Grant Budget'!EE26=\"\",\"\",'2-Grant Budget'!EE26)","v":""}]
[null,{"$f":"IF('2-Grant Budget'!EC27=\"\",\"\",RIGHT('2-Grant Budget'!DW27,2))","v":""},{"$f":"IF(G49=\"\",\"\",IF(RIGHT(F49,4)=\"8000\",VLOOKUP('1-Award Info'!$G$19,Tables!Q:R,2,0)&\"08008000\",VLOOKUP('1-Award Info'!$G$19,Tables!Q:R,2,0)&RIGHT(F49,8)))","v":""},"","",{"$f":"IF('2-Grant Budget'!$EC27=\"\",\"\",'2-Grant Budget'!DX27)","v":""},{"$f":"IF('2-Grant Budget'!$EC27=\"\",\"\",'2-Grant Budget'!DY27)","v":""},null,{"$f":"IF('2-Grant Budget'!$EC27=\"\",\"\",\"FY\"&RIGHT('2-Grant Budget'!EA27,2))","v":""},null,{"$f":"IF('2-Grant Budget'!EC27=\"\",\"\",'2-Grant Budget'!EC27)","v":""},{"$f":"IF('2-Grant Budget'!EE27=\"\",\"\",'2-Grant Budget'!EE27)","v":""}]
[null,{"$f":"IF('2-Grant Budget'!EC28=\"\",\"\",RIGHT('2-Grant Budget'!DW28,2))","v":""},{"$f":"IF(G50=\"\",\"\",IF(RIGHT(F50,4)=\"8000\",VLOOKUP('1-Award Info'!$G$19,Tables!Q:R,2,0)&\"08008000\",VLOOKUP('1-Award Info'!$G$19,Tables!Q:R,2,0)&RIGHT(F50,8)))","v":""},"","",{"$f":"IF('2-Grant Budget'!$EC28=\"\",\"\",'2-Grant Budget'!DX28)","v":""},{"$f":"IF('2-Grant Budget'!$EC28=\"\",\"\",'2-Grant Budget'!DY28)","v":""},null,{"$f":"IF('2-Grant Budget'!$EC28=\"\",\"\",\"FY\"&RIGHT('2-Grant Budget'!EA28,2))","v":""},null,{"$f":"IF('2-Grant Budget'!EC28=\"\",\"\",'2-Grant Budget'!EC28)","v":""},{"$f":"IF('2-Grant Budget'!EE28=\"\",\"\",'2-Grant Budget'!EE28)","v":""}]
[null,{"$f":"IF('2-Grant Budget'!EC29=\"\",\"\",RIGHT('2-Grant Budget'!DW29,2))","v":""},{"$f":"IF(G51=\"\",\"\",IF(RIGHT(F51,4)=\"8000\",VLOOKUP('1-Award Info'!$G$19,Tables!Q:R,2,0)&\"08008000\",VLOOKUP('1-Award Info'!$G$19,Tables!Q:R,2,0)&RIGHT(F51,8)))","v":""},"","",{"$f":"IF('2-Grant Budget'!$EC29=\"\",\"\",'2-Grant Budget'!DX29)","v":""},{"$f":"IF('2-Grant Budget'!$EC29=\"\",\"\",'2-Grant Budget'!DY29)","v":""},null,{"$f":"IF('2-Grant Budget'!$EC29=\"\",\"\",\"FY\"&RIGHT('2-Grant Budget'!EA29,2))","v":""},null,{"$f":"IF('2-Grant Budget'!EC29=\"\",\"\",'2-Grant Budget'!EC29)","v":""},{"$f":"IF('2-Grant Budget'!EE29=\"\",\"\",'2-Grant Budget'!EE29)","v":""}]
[null,{"$f":"IF('2-Grant Budget'!EC30=\"\",\"\",RIGHT('2-Grant Budget'!DW30,2))","v":""},{"$f":"IF(G52=\"\",\"\",IF(RIGHT(F52,4)=\"8000\",VLOOKUP('1-Award Info'!$G$19,Tables!Q:R,2,0)&\"08008000\",VLOOKUP('1-Award Info'!$G$19,Tables!Q:R,2,0)&RIGHT(F52,8)))","v":""},"","",{"$f":"IF('2-Grant Budget'!$EC30=\"\",\"\",'2-Grant Budget'!DX30)","v":""},{"$f":"IF('2-Grant Budget'!$EC30=\"\",\"\",'2-Grant Budget'!DY30)","v":""},null,{"$f":"IF('2-Grant Budget'!$EC30=\"\",\"\",\"FY\"&RIGHT('2-Grant Budget'!EA30,2))","v":""},null,{"$f":"IF('2-Grant Budget'!EC30=\"\",\"\",'2-Grant Budget'!EC30)","v":""},{"$f":"IF('2-Grant Budget'!EE30=\"\",\"\",'2-Grant Budget'!EE30)","v":""}]
[null,{"$f":"IF('2-Grant Budget'!EC31=\"\",\"\",RIGHT('2-Grant Budget'!DW31,2))","v":""},{"$f":"IF(G53=\"\",\"\",IF(RIGHT(F53,4)=\"8000\",VLOOKUP('1-Award Info'!$G$19,Tables!Q:R,2,0)&\"08008000\",VLOOKUP('1-Award Info'!$G$19,Tables!Q:R,2,0)&RIGHT(F53,8)))","v":""},"","",{"$f":"IF('2-Grant Budget'!$EC31=\"\",\"\",'2-Grant Budget'!DX31)","v":""},{"$f":"IF('2-Grant Budget'!$EC31=\"\",\"\",'2-Grant Budget'!DY31)","v":""},null,{"$f":"IF('2-Grant Budget'!$EC31=\"\",\"\",\"FY\"&RIGHT('2-Grant Budget'!EA31,2))","v":""},null,{"$f":"IF('2-Grant Budget'!EC31=\"\",\"\",'2-Grant Budget'!EC31)","v":""},{"$f":"IF('2-Grant Budget'!EE31=\"\",\"\",'2-Grant Budget'!EE31)","v":""}]
[null,{"$f":"IF('2-Grant Budget'!EC32=\"\",\"\",RIGHT('2-Grant Budget'!DW32,2))","v":""},{"$f":"IF(G54=\"\",\"\",IF(RIGHT(F54,4)=\"8000\",VLOOKUP('1-Award Info'!$G$19,Tables!Q:R,2,0)&\"08008000\",VLOOKUP('1-Award Info'!$G$19,Tables!Q:R,2,0)&RIGHT(F54,8)))","v":""},"","",{"$f":"IF('2-Grant Budget'!$EC32=\"\",\"\",'2-Grant Budget'!DX32)","v":""},{"$f":"IF('2-Grant Budget'!$EC32=\"\",\"\",'2-Grant Budget'!DY32)","v":""},null,{"$f":"IF('2-Grant Budget'!$EC32=\"\",\"\",\"FY\"&RIGHT('2-Grant Budget'!EA32,2))","v":""},null,{"$f":"IF('2-Grant Budget'!EC32=\"\",\"\",'2-Grant Budget'!EC32)","v":""},{"$f":"IF('2-Grant Budget'!EE32=\"\",\"\",'2-Grant Budget'!EE32)","v":""}]
[null,{"$f":"IF('2-Grant Budget'!EC33=\"\",\"\",RIGHT('2-Grant Budget'!DW33,2))","v":""},{"$f":"IF(G55=\"\",\"\",IF(RIGHT(F55,4)=\"8000\",VLOOKUP('1-Award Info'!$G$19,Tables!Q:R,2,0)&\"08008000\",VLOOKUP('1-Award Info'!$G$19,Tables!Q:R,2,0)&RIGHT(F55,8)))","v":""},"","",{"$f":"IF('2-Grant Budget'!$EC33=\"\",\"\",'2-Grant Budget'!DX33)","v":""},{"$f":"IF('2-Grant Budget'!$EC33=\"\",\"\",'2-Grant Budget'!DY33)","v":""},null,{"$f":"IF('2-Grant Budget'!$EC33=\"\",\"\",\"FY\"&RIGHT('2-Grant Budget'!EA33,2))","v":""},null,{"$f":"IF('2-Grant Budget'!EC33=\"\",\"\",'2-Grant Budget'!EC33)","v":""},{"$f":"IF('2-Grant Budget'!EE33=\"\",\"\",'2-Grant Budget'!EE33)","v":""}]
[null,{"$f":"IF('2-Grant Budget'!EC34=\"\",\"\",RIGHT('2-Grant Budget'!DW34,2))","v":""},{"$f":"IF(G56=\"\",\"\",IF(RIGHT(F56,4)=\"8000\",VLOOKUP('1-Award Info'!$G$19,Tables!Q:R,2,0)&\"08008000\",VLOOKUP('1-Award Info'!$G$19,Tables!Q:R,2,0)&RIGHT(F56,8)))","v":""},"","",{"$f":"IF('2-Grant Budget'!$EC34=\"\",\"\",'2-Grant Budget'!DX34)","v":""},{"$f":"IF('2-Grant Budget'!$EC34=\"\",\"\",'2-Grant Budget'!DY34)","v":""},null,{"$f":"IF('2-Grant Budget'!$EC34=\"\",\"\",\"FY\"&RIGHT('2-Grant Budget'!EA34,2))","v":""},null,{"$f":"IF('2-Grant Budget'!EC34=\"\",\"\",'2-Grant Budget'!EC34)","v":""},{"$f":"IF('2-Grant Budget'!EE34=\"\",\"\",'2-Grant Budget'!EE34)","v":""}]
[null,{"$f":"IF('2-Grant Budget'!EC35=\"\",\"\",RIGHT('2-Grant Budget'!DW35,2))","v":""},{"$f":"IF(G57=\"\",\"\",IF(RIGHT(F57,4)=\"8000\",VLOOKUP('1-Award Info'!$G$19,Tables!Q:R,2,0)&\"08008000\",VLOOKUP('1-Award Info'!$G$19,Tables!Q:R,2,0)&RIGHT(F57,8)))","v":""},"","",{"$f":"IF('2-Grant Budget'!$EC35=\"\",\"\",'2-Grant Budget'!DX35)","v":""},{"$f":"IF('2-Grant Budget'!$EC35=\"\",\"\",'2-Grant Budget'!DY35)","v":""},null,{"$f":"IF('2-Grant Budget'!$EC35=\"\",\"\",\"FY\"&RIGHT('2-Grant Budget'!EA35,2))","v":""},null,{"$f":"IF('2-Grant Budget'!EC35=\"\",\"\",'2-Grant Budget'!EC35)","v":""},{"$f":"IF('2-Grant Budget'!EE35=\"\",\"\",'2-Grant Budget'!EE35)","v":""}]
[null,{"$f":"IF('2-Grant Budget'!EC36=\"\",\"\",RIGHT('2-Grant Budget'!DW36,2))","v":""},{"$f":"IF(G58=\"\",\"\",IF(RIGHT(F58,4)=\"8000\",VLOOKUP('1-Award Info'!$G$19,Tables!Q:R,2,0)&\"08008000\",VLOOKUP('1-Award Info'!$G$19,Tables!Q:R,2,0)&RIGHT(F58,8)))","v":""},"","",{"$f":"IF('2-Grant Budget'!$EC36=\"\",\"\",'2-Grant Budget'!DX36)","v":""},{"$f":"IF('2-Grant Budget'!$EC36=\"\",\"\",'2-Grant Budget'!DY36)","v":""},null,{"$f":"IF('2-Grant Budget'!$EC36=\"\",\"\",\"FY\"&RIGHT('2-Grant Budget'!EA36,2))","v":""},null,{"$f":"IF('2-Grant Budget'!EC36=\"\",\"\",'2-Grant Budget'!EC36)","v":""},{"$f":"IF('2-Grant Budget'!EE36=\"\",\"\",'2-Grant Budget'!EE36)","v":""}]
[null,{"$f":"IF('2-Grant Budget'!EC37=\"\",\"\",RIGHT('2-Grant Budget'!DW37,2))","v":""},{"$f":"IF(G59=\"\",\"\",IF(RIGHT(F59,4)=\"8000\",VLOOKUP('1-Award Info'!$G$19,Tables!Q:R,2,0)&\"08008000\",VLOOKUP('1-Award Info'!$G$19,Tables!Q:R,2,0)&RIGHT(F59,8)))","v":""},"","",{"$f":"IF('2-Grant Budget'!$EC37=\"\",\"\",'2-Grant Budget'!DX37)","v":""},{"$f":"IF('2-Grant Budget'!$EC37=\"\",\"\",'2-Grant Budget'!DY37)","v":""},null,{"$f":"IF('2-Grant Budget'!$EC37=\"\",\"\",\"FY\"&RIGHT('2-Grant Budget'!EA37,2))","v":""},null,{"$f":"IF('2-Grant Budget'!EC37=\"\",\"\",'2-Grant Budget'!EC37)","v":""},{"$f":"IF('2-Grant Budget'!EE37=\"\",\"\",'2-Grant Budget'!EE37)","v":""}]
[null,{"$f":"IF('2-Grant Budget'!EC38=\"\",\"\",RIGHT('2-Grant Budget'!DW38,2))","v":""},{"$f":"IF(G60=\"\",\"\",IF(RIGHT(F60,4)=\"8000\",VLOOKUP('1-Award Info'!$G$19,Tables!Q:R,2,0)&\"08008000\",VLOOKUP('1-Award Info'!$G$19,Tables!Q:R,2,0)&RIGHT(F60,8)))","v":""},"","",{"$f":"IF('2-Grant Budget'!$EC38=\"\",\"\",'2-Grant Budget'!DX38)","v":""},{"$f":"IF('2-Grant Budget'!$EC38=\"\",\"\",'2-Grant Budget'!DY38)","v":""},null,{"$f":"IF('2-Grant Budget'!$EC38=\"\",\"\",\"FY\"&RIGHT('2-Grant Budget'!EA38,2))","v":""},null,{"$f":"IF('2-Grant Budget'!EC38=\"\",\"\",'2-Grant Budget'!EC38)","v":""},{"$f":"IF('2-Grant Budget'!EE38=\"\",\"\",'2-Grant Budget'!EE38)","v":""}]
[null,{"$f":"IF('2-Grant Budget'!EC39=\"\",\"\",RIGHT('2-Grant Budget'!DW39,2))","v":""},{"$f":"IF(G61=\"\",\"\",IF(RIGHT(F61,4)=\"8000\",VLOOKUP('1-Award Info'!$G$19,Tables!Q:R,2,0)&\"08008000\",VLOOKUP('1-Award Info'!$G$19,Tables!Q:R,2,0)&RIGHT(F61,8)))","v":""},"","",{"$f":"IF('2-Grant Budget'!$EC39=\"\",\"\",'2-Grant Budget'!DX39)","v":""},{"$f":"IF('2-Grant Budget'!$EC39=\"\",\"\",'2-Grant Budget'!DY39)","v":""},null,{"$f":"IF('2-Grant Budget'!$EC39=\"\",\"\",\"FY\"&RIGHT('2-Grant Budget'!EA39,2))","v":""},null,{"$f":"IF('2-Grant Budget'!EC39=\"\",\"\",'2-Grant Budget'!EC39)","v":""},{"$f":"IF('2-Grant Budget'!EE39=\"\",\"\",'2-Grant Budget'!EE39)","v":""}]
[null,{"$f":"IF('2-Grant Budget'!EC40=\"\",\"\",RIGHT('2-Grant Budget'!DW40,2))","v":""},{"$f":"IF(G62=\"\",\"\",IF(RIGHT(F62,4)=\"8000\",VLOOKUP('1-Award Info'!$G$19,Tables!Q:R,2,0)&\"08008000\",VLOOKUP('1-Award Info'!$G$19,Tables!Q:R,2,0)&RIGHT(F62,8)))","v":""},"","",{"$f":"IF('2-Grant Budget'!$EC40=\"\",\"\",'2-Grant Budget'!DX40)","v":""},{"$f":"IF('2-Grant Budget'!$EC40=\"\",\"\",'2-Grant Budget'!DY40)","v":""},null,{"$f":"IF('2-Grant Budget'!$EC40=\"\",\"\",\"FY\"&RIGHT('2-Grant Budget'!EA40,2))","v":""},null,{"$f":"IF('2-Grant Budget'!EC40=\"\",\"\",'2-Grant Budget'!EC40)","v":""},{"$f":"IF('2-Grant Budget'!EE40=\"\",\"\",'2-Grant Budget'!EE40)","v":""}]
[null,{"$f":"IF('2-Grant Budget'!EC41=\"\",\"\",RIGHT('2-Grant Budget'!DW41,2))","v":""},{"$f":"IF(G63=\"\",\"\",IF(RIGHT(F63,4)=\"8000\",VLOOKUP('1-Award Info'!$G$19,Tables!Q:R,2,0)&\"08008000\",VLOOKUP('1-Award Info'!$G$19,Tables!Q:R,2,0)&RIGHT(F63,8)))","v":""},"","",{"$f":"IF('2-Grant Budget'!$EC41=\"\",\"\",'2-Grant Budget'!DX41)","v":""},{"$f":"IF('2-Grant Budget'!$EC41=\"\",\"\",'2-Grant Budget'!DY41)","v":""},null,{"$f":"IF('2-Grant Budget'!$EC41=\"\",\"\",\"FY\"&RIGHT('2-Grant Budget'!EA41,2))","v":""},null,{"$f":"IF('2-Grant Budget'!EC41=\"\",\"\",'2-Grant Budget'!EC41)","v":""},{"$f":"IF('2-Grant Budget'!EE41=\"\",\"\",'2-Grant Budget'!EE41)","v":""}]
[null,{"$f":"IF('2-Grant Budget'!EC42=\"\",\"\",RIGHT('2-Grant Budget'!DW42,2))","v":""},{"$f":"IF(G64=\"\",\"\",IF(RIGHT(F64,4)=\"8000\",VLOOKUP('1-Award Info'!$G$19,Tables!Q:R,2,0)&\"08008000\",VLOOKUP('1-Award Info'!$G$19,Tables!Q:R,2,0)&RIGHT(F64,8)))","v":""},"","",{"$f":"IF('2-Grant Budget'!$EC42=\"\",\"\",'2-Grant Budget'!DX42)","v":""},{"$f":"IF('2-Grant Budget'!$EC42=\"\",\"\",'2-Grant Budget'!DY42)","v":""},null,{"$f":"IF('2-Grant Budget'!$EC42=\"\",\"\",\"FY\"&RIGHT('2-Grant Budget'!EA42,2))","v":""},null,{"$f":"IF('2-Grant Budget'!EC42=\"\",\"\",'2-Grant Budget'!EC42)","v":""},{"$f":"IF('2-Grant Budget'!EE42=\"\",\"\",'2-Grant Budget'!EE42)","v":""}]
[null,{"$f":"IF('2-Grant Budget'!EC43=\"\",\"\",RIGHT('2-Grant Budget'!DW43,2))","v":""},{"$f":"IF(G65=\"\",\"\",IF(RIGHT(F65,4)=\"8000\",VLOOKUP('1-Award Info'!$G$19,Tables!Q:R,2,0)&\"08008000\",VLOOKUP('1-Award Info'!$G$19,Tables!Q:R,2,0)&RIGHT(F65,8)))","v":""},"","",{"$f":"IF('2-Grant Budget'!$EC43=\"\",\"\",'2-Grant Budget'!DX43)","v":""},{"$f":"IF('2-Grant Budget'!$EC43=\"\",\"\",'2-Grant Budget'!DY43)","v":""},null,{"$f":"IF('2-Grant Budget'!$EC43=\"\",\"\",\"FY\"&RIGHT('2-Grant Budget'!EA43,2))","v":""},null,{"$f":"IF('2-Grant Budget'!EC43=\"\",\"\",'2-Grant Budget'!EC43)","v":""},{"$f":"IF('2-Grant Budget'!EE43=\"\",\"\",'2-Grant Budget'!EE43)","v":""}]
[null,{"$f":"IF('2-Grant Budget'!EC44=\"\",\"\",RIGHT('2-Grant Budget'!DW44,2))","v":""},{"$f":"IF(G66=\"\",\"\",IF(RIGHT(F66,4)=\"8000\",VLOOKUP('1-Award Info'!$G$19,Tables!Q:R,2,0)&\"08008000\",VLOOKUP('1-Award Info'!$G$19,Tables!Q:R,2,0)&RIGHT(F66,8)))","v":""},"","",{"$f":"IF('2-Grant Budget'!$EC44=\"\",\"\",'2-Grant Budget'!DX44)","v":""},{"$f":"IF('2-Grant Budget'!$EC44=\"\",\"\",'2-Grant Budget'!DY44)","v":""},null,{"$f":"IF('2-Grant Budget'!$EC44=\"\",\"\",\"FY\"&RIGHT('2-Grant Budget'!EA44,2))","v":""},null,{"$f":"IF('2-Grant Budget'!EC44=\"\",\"\",'2-Grant Budget'!EC44)","v":""},{"$f":"IF('2-Grant Budget'!EE44=\"\",\"\",'2-Grant Budget'!EE44)","v":""}]
[null,{"$f":"IF('2-Grant Budget'!EC45=\"\",\"\",RIGHT('2-Grant Budget'!DW45,2))","v":""},{"$f":"IF(G67=\"\",\"\",IF(RIGHT(F67,4)=\"8000\",VLOOKUP('1-Award Info'!$G$19,Tables!Q:R,2,0)&\"08008000\",VLOOKUP('1-Award Info'!$G$19,Tables!Q:R,2,0)&RIGHT(F67,8)))","v":""},"","",{"$f":"IF('2-Grant Budget'!$EC45=\"\",\"\",'2-Grant Budget'!DX45)","v":""},{"$f":"IF('2-Grant Budget'!$EC45=\"\",\"\",'2-Grant Budget'!DY45)","v":""},null,{"$f":"IF('2-Grant Budget'!$EC45=\"\",\"\",\"FY\"&RIGHT('2-Grant Budget'!EA45,2))","v":""},null,{"$f":"IF('2-Grant Budget'!EC45=\"\",\"\",'2-Grant Budget'!EC45)","v":""},{"$f":"IF('2-Grant Budget'!EE45=\"\",\"\",'2-Grant Budget'!EE45)","v":""}]
[null,{"$f":"IF('2-Grant Budget'!EC46=\"\",\"\",RIGHT('2-Grant Budget'!DW46,2))","v":""},{"$f":"IF(G68=\"\",\"\",IF(RIGHT(F68,4)=\"8000\",VLOOKUP('1-Award Info'!$G$19,Tables!Q:R,2,0)&\"08008000\",VLOOKUP('1-Award Info'!$G$19,Tables!Q:R,2,0)&RIGHT(F68,8)))","v":""},"","",{"$f":"IF('2-Grant Budget'!$EC46=\"\",\"\",'2-Grant Budget'!DX46)","v":""},{"$f":"IF('2-Grant Budget'!$EC46=\"\",\"\",'2-Grant Budget'!DY46)","v":""},null,{"$f":"IF('2-Grant Budget'!$EC46=\"\",\"\",\"FY\"&RIGHT('2-Grant Budget'!EA46,2))","v":""},null,{"$f":"IF('2-Grant Budget'!EC46=\"\",\"\",'2-Grant Budget'!EC46)","v":""},{"$f":"IF('2-Grant Budget'!EE46=\"\",\"\",'2-Grant Budget'!EE46)","v":""}]
[null,{"$f":"IF('2-Grant Budget'!EC47=\"\",\"\",RIGHT('2-Grant Budget'!DW47,2))","v":""},{"$f":"IF(G69=\"\",\"\",IF(RIGHT(F69,4)=\"8000\",VLOOKUP('1-Award Info'!$G$19,Tables!Q:R,2,0)&\"08008000\",VLOOKUP('1-Award Info'!$G$19,Tables!Q:R,2,0)&RIGHT(F69,8)))","v":""},"","",{"$f":"IF('2-Grant Budget'!$EC47=\"\",\"\",'2-Grant Budget'!DX47)","v":""},{"$f":"IF('2-Grant Budget'!$EC47=\"\",\"\",'2-Grant Budget'!DY47)","v":""},null,{"$f":"IF('2-Grant Budget'!$EC47=\"\",\"\",\"FY\"&RIGHT('2-Grant Budget'!EA47,2))","v":""},null,{"$f":"IF('2-Grant Budget'!EC47=\"\",\"\",'2-Grant Budget'!EC47)","v":""},{"$f":"IF('2-Grant Budget'!EE47=\"\",\"\",'2-Grant Budget'!EE47)","v":""}]
[null,{"$f":"IF('2-Grant Budget'!EC48=\"\",\"\",RIGHT('2-Grant Budget'!DW48,2))","v":""},{"$f":"IF(G70=\"\",\"\",IF(RIGHT(F70,4)=\"8000\",VLOOKUP('1-Award Info'!$G$19,Tables!Q:R,2,0)&\"08008000\",VLOOKUP('1-Award Info'!$G$19,Tables!Q:R,2,0)&RIGHT(F70,8)))","v":""},"","",{"$f":"IF('2-Grant Budget'!$EC48=\"\",\"\",'2-Grant Budget'!DX48)","v":""},{"$f":"IF('2-Grant Budget'!$EC48=\"\",\"\",'2-Grant Budget'!DY48)","v":""},null,{"$f":"IF('2-Grant Budget'!$EC48=\"\",\"\",\"FY\"&RIGHT('2-Grant Budget'!EA48,2))","v":""},null,{"$f":"IF('2-Grant Budget'!EC48=\"\",\"\",'2-Grant Budget'!EC48)","v":""},{"$f":"IF('2-Grant Budget'!EE48=\"\",\"\",'2-Grant Budget'!EE48)","v":""}]
[null,{"$f":"IF('2-Grant Budget'!EC49=\"\",\"\",RIGHT('2-Grant Budget'!DW49,2))","v":""},{"$f":"IF(G71=\"\",\"\",IF(RIGHT(F71,4)=\"8000\",VLOOKUP('1-Award Info'!$G$19,Tables!Q:R,2,0)&\"08008000\",VLOOKUP('1-Award Info'!$G$19,Tables!Q:R,2,0)&RIGHT(F71,8)))","v":""},"","",{"$f":"IF('2-Grant Budget'!$EC49=\"\",\"\",'2-Grant Budget'!DX49)","v":""},{"$f":"IF('2-Grant Budget'!$EC49=\"\",\"\",'2-Grant Budget'!DY49)","v":""},null,{"$f":"IF('2-Grant Budget'!$EC49=\"\",\"\",\"FY\"&RIGHT('2-Grant Budget'!EA49,2))","v":""},null,{"$f":"IF('2-Grant Budget'!EC49=\"\",\"\",'2-Grant Budget'!EC49)","v":""},{"$f":"IF('2-Grant Budget'!EE49=\"\",\"\",'2-Grant Budget'!EE49)","v":""}]
[null,{"$f":"IF('2-Grant Budget'!EC50=\"\",\"\",RIGHT('2-Grant Budget'!DW50,2))","v":""},{"$f":"IF(G72=\"\",\"\",IF(RIGHT(F72,4)=\"8000\",VLOOKUP('1-Award Info'!$G$19,Tables!Q:R,2,0)&\"08008000\",VLOOKUP('1-Award Info'!$G$19,Tables!Q:R,2,0)&RIGHT(F72,8)))","v":""},"","",{"$f":"IF('2-Grant Budget'!$EC50=\"\",\"\",'2-Grant Budget'!DX50)","v":""},{"$f":"IF('2-Grant Budget'!$EC50=\"\",\"\",'2-Grant Budget'!DY50)","v":""},null,{"$f":"IF('2-Grant Budget'!$EC50=\"\",\"\",\"FY\"&RIGHT('2-Grant Budget'!EA50,2))","v":""},null,{"$f":"IF('2-Grant Budget'!EC50=\"\",\"\",'2-Grant Budget'!EC50)","v":""},{"$f":"IF('2-Grant Budget'!EE50=\"\",\"\",'2-Grant Budget'!EE50)","v":""}]
[null,{"$f":"IF('2-Grant Budget'!EC51=\"\",\"\",RIGHT('2-Grant Budget'!DW51,2))","v":""},{"$f":"IF(G73=\"\",\"\",IF(RIGHT(F73,4)=\"8000\",VLOOKUP('1-Award Info'!$G$19,Tables!Q:R,2,0)&\"08008000\",VLOOKUP('1-Award Info'!$G$19,Tables!Q:R,2,0)&RIGHT(F73,8)))","v":""},"","",{"$f":"IF('2-Grant Budget'!$EC51=\"\",\"\",'2-Grant Budget'!DX51)","v":""},{"$f":"IF('2-Grant Budget'!$EC51=\"\",\"\",'2-Grant Budget'!DY51)","v":""},null,{"$f":"IF('2-Grant Budget'!$EC51=\"\",\"\",\"FY\"&RIGHT('2-Grant Budget'!EA51,2))","v":""},null,{"$f":"IF('2-Grant Budget'!EC51=\"\",\"\",'2-Grant Budget'!EC51)","v":""},{"$f":"IF('2-Grant Budget'!EE51=\"\",\"\",'2-Grant Budget'!EE51)","v":""}]
[null,{"$f":"IF('2-Grant Budget'!EC52=\"\",\"\",RIGHT('2-Grant Budget'!DW52,2))","v":""},{"$f":"IF(G74=\"\",\"\",IF(RIGHT(F74,4)=\"8000\",VLOOKUP('1-Award Info'!$G$19,Tables!Q:R,2,0)&\"08008000\",VLOOKUP('1-Award Info'!$G$19,Tables!Q:R,2,0)&RIGHT(F74,8)))","v":""},"","",{"$f":"IF('2-Grant Budget'!$EC52=\"\",\"\",'2-Grant Budget'!DX52)","v":""},{"$f":"IF('2-Grant Budget'!$EC52=\"\",\"\",'2-Grant Budget'!DY52)","v":""},null,{"$f":"IF('2-Grant Budget'!$EC52=\"\",\"\",\"FY\"&RIGHT('2-Grant Budget'!EA52,2))","v":""},null,{"$f":"IF('2-Grant Budget'!EC52=\"\",\"\",'2-Grant Budget'!EC52)","v":""},{"$f":"IF('2-Grant Budget'!EE52=\"\",\"\",'2-Grant Budget'!EE52)","v":""}]
[null,{"$f":"IF('2-Grant Budget'!EC53=\"\",\"\",RIGHT('2-Grant Budget'!DW53,2))","v":""},{"$f":"IF(G75=\"\",\"\",IF(RIGHT(F75,4)=\"8000\",VLOOKUP('1-Award Info'!$G$19,Tables!Q:R,2,0)&\"08008000\",VLOOKUP('1-Award Info'!$G$19,Tables!Q:R,2,0)&RIGHT(F75,8)))","v":""},"","",{"$f":"IF('2-Grant Budget'!$EC53=\"\",\"\",'2-Grant Budget'!DX53)","v":""},{"$f":"IF('2-Grant Budget'!$EC53=\"\",\"\",'2-Grant Budget'!DY53)","v":""},null,{"$f":"IF('2-Grant Budget'!$EC53=\"\",\"\",\"FY\"&RIGHT('2-Grant Budget'!EA53,2))","v":""},null,{"$f":"IF('2-Grant Budget'!EC53=\"\",\"\",'2-Grant Budget'!EC53)","v":""},{"$f":"IF('2-Grant Budget'!EE53=\"\",\"\",'2-Grant Budget'!EE53)","v":""}]
[null,{"$f":"IF('2-Grant Budget'!EC54=\"\",\"\",RIGHT('2-Grant Budget'!DW54,2))","v":""},{"$f":"IF(G76=\"\",\"\",IF(RIGHT(F76,4)=\"8000\",VLOOKUP('1-Award Info'!$G$19,Tables!Q:R,2,0)&\"08008000\",VLOOKUP('1-Award Info'!$G$19,Tables!Q:R,2,0)&RIGHT(F76,8)))","v":""},"","",{"$f":"IF('2-Grant Budget'!$EC54=\"\",\"\",'2-Grant Budget'!DX54)","v":""},{"$f":"IF('2-Grant Budget'!$EC54=\"\",\"\",'2-Grant Budget'!DY54)","v":""},null,{"$f":"IF('2-Grant Budget'!$EC54=\"\",\"\",\"FY\"&RIGHT('2-Grant Budget'!EA54,2))","v":""},null,{"$f":"IF('2-Grant Budget'!EC54=\"\",\"\",'2-Grant Budget'!EC54)","v":""},{"$f":"IF('2-Grant Budget'!EE54=\"\",\"\",'2-Grant Budget'!EE54)","v":""}]
[null,{"$f":"IF('2-Grant Budget'!EC55=\"\",\"\",RIGHT('2-Grant Budget'!DW55,2))","v":""},{"$f":"IF(G77=\"\",\"\",IF(RIGHT(F77,4)=\"8000\",VLOOKUP('1-Award Info'!$G$19,Tables!Q:R,2,0)&\"08008000\",VLOOKUP('1-Award Info'!$G$19,Tables!Q:R,2,0)&RIGHT(F77,8)))","v":""},"","",{"$f":"IF('2-Grant Budget'!$EC55=\"\",\"\",'2-Grant Budget'!DX55)","v":""},{"$f":"IF('2-Grant Budget'!$EC55=\"\",\"\",'2-Grant Budget'!DY55)","v":""},null,{"$f":"IF('2-Grant Budget'!$EC55=\"\",\"\",\"FY\"&RIGHT('2-Grant Budget'!EA55,2))","v":""},null,{"$f":"IF('2-Grant Budget'!EC55=\"\",\"\",'2-Grant Budget'!EC55)","v":""},{"$f":"IF('2-Grant Budget'!EE55=\"\",\"\",'2-Grant Budget'!EE55)","v":""}]
[null,{"$f":"IF('2-Grant Budget'!EC56=\"\",\"\",RIGHT('2-Grant Budget'!DW56,2))","v":""},{"$f":"IF(G78=\"\",\"\",IF(RIGHT(F78,4)=\"8000\",VLOOKUP('1-Award Info'!$G$19,Tables!Q:R,2,0)&\"08008000\",VLOOKUP('1-Award Info'!$G$19,Tables!Q:R,2,0)&RIGHT(F78,8)))","v":""},"","",{"$f":"IF('2-Grant Budget'!$EC56=\"\",\"\",'2-Grant Budget'!DX56)","v":""},{"$f":"IF('2-Grant Budget'!$EC56=\"\",\"\",'2-Grant Budget'!DY56)","v":""},null,{"$f":"IF('2-Grant Budget'!$EC56=\"\",\"\",\"FY\"&RIGHT('2-Grant Budget'!EA56,2))","v":""},null,{"$f":"IF('2-Grant Budget'!EC56=\"\",\"\",'2-Grant Budget'!EC56)","v":""},{"$f":"IF('2-Grant Budget'!EE56=\"\",\"\",'2-Grant Budget'!EE56)","v":""}]
[null,{"$f":"IF('2-Grant Budget'!EC57=\"\",\"\",RIGHT('2-Grant Budget'!DW57,2))","v":""},{"$f":"IF(G79=\"\",\"\",IF(RIGHT(F79,4)=\"8000\",VLOOKUP('1-Award Info'!$G$19,Tables!Q:R,2,0)&\"08008000\",VLOOKUP('1-Award Info'!$G$19,Tables!Q:R,2,0)&RIGHT(F79,8)))","v":""},"","",{"$f":"IF('2-Grant Budget'!$EC57=\"\",\"\",'2-Grant Budget'!DX57)","v":""},{"$f":"IF('2-Grant Budget'!$EC57=\"\",\"\",'2-Grant Budget'!DY57)","v":""},null,{"$f":"IF('2-Grant Budget'!$EC57=\"\",\"\",\"FY\"&RIGHT('2-Grant Budget'!EA57,2))","v":""},null,{"$f":"IF('2-Grant Budget'!EC57=\"\",\"\",'2-Grant Budget'!EC57)","v":""},{"$f":"IF('2-Grant Budget'!EE57=\"\",\"\",'2-Grant Budget'!EE57)","v":""}]
[null,{"$f":"IF('2-Grant Budget'!EC58=\"\",\"\",RIGHT('2-Grant Budget'!DW58,2))","v":""},{"$f":"IF(G80=\"\",\"\",IF(RIGHT(F80,4)=\"8000\",VLOOKUP('1-Award Info'!$G$19,Tables!Q:R,2,0)&\"08008000\",VLOOKUP('1-Award Info'!$G$19,Tables!Q:R,2,0)&RIGHT(F80,8)))","v":""},"","",{"$f":"IF('2-Grant Budget'!$EC58=\"\",\"\",'2-Grant Budget'!DX58)","v":""},{"$f":"IF('2-Grant Budget'!$EC58=\"\",\"\",'2-Grant Budget'!DY58)","v":""},null,{"$f":"IF('2-Grant Budget'!$EC58=\"\",\"\",\"FY\"&RIGHT('2-Grant Budget'!EA58,2))","v":""},null,{"$f":"IF('2-Grant Budget'!EC58=\"\",\"\",'2-Grant Budget'!EC58)","v":""},{"$f":"IF('2-Grant Budget'!EE58=\"\",\"\",'2-Grant Budget'!EE58)","v":""}]
[null,{"$f":"IF('2-Grant Budget'!EC59=\"\",\"\",RIGHT('2-Grant Budget'!DW59,2))","v":""},{"$f":"IF(G81=\"\",\"\",IF(RIGHT(F81,4)=\"8000\",VLOOKUP('1-Award Info'!$G$19,Tables!Q:R,2,0)&\"08008000\",VLOOKUP('1-Award Info'!$G$19,Tables!Q:R,2,0)&RIGHT(F81,8)))","v":""},"","",{"$f":"IF('2-Grant Budget'!$EC59=\"\",\"\",'2-Grant Budget'!DX59)","v":""},{"$f":"IF('2-Grant Budget'!$EC59=\"\",\"\",'2-Grant Budget'!DY59)","v":""},null,{"$f":"IF('2-Grant Budget'!$EC59=\"\",\"\",\"FY\"&RIGHT('2-Grant Budget'!EA59,2))","v":""},null,{"$f":"IF('2-Grant Budget'!EC59=\"\",\"\",'2-Grant Budget'!EC59)","v":""},{"$f":"IF('2-Grant Budget'!EE59=\"\",\"\",'2-Grant Budget'!EE59)","v":""}]
[null,{"$f":"IF('2-Grant Budget'!EC60=\"\",\"\",RIGHT('2-Grant Budget'!DW60,2))","v":""},{"$f":"IF(G82=\"\",\"\",IF(RIGHT(F82,4)=\"8000\",VLOOKUP('1-Award Info'!$G$19,Tables!Q:R,2,0)&\"08008000\",VLOOKUP('1-Award Info'!$G$19,Tables!Q:R,2,0)&RIGHT(F82,8)))","v":""},"","",{"$f":"IF('2-Grant Budget'!$EC60=\"\",\"\",'2-Grant Budget'!DX60)","v":""},{"$f":"IF('2-Grant Budget'!$EC60=\"\",\"\",'2-Grant Budget'!DY60)","v":""},null,{"$f":"IF('2-Grant Budget'!$EC60=\"\",\"\",\"FY\"&RIGHT('2-Grant Budget'!EA60,2))","v":""},null,{"$f":"IF('2-Grant Budget'!EC60=\"\",\"\",'2-Grant Budget'!EC60)","v":""},{"$f":"IF('2-Grant Budget'!EE60=\"\",\"\",'2-Grant Budget'!EE60)","v":""}]
[null,{"$f":"IF('2-Grant Budget'!EC61=\"\",\"\",RIGHT('2-Grant Budget'!DW61,2))","v":""},{"$f":"IF(G83=\"\",\"\",IF(RIGHT(F83,4)=\"8000\",VLOOKUP('1-Award Info'!$G$19,Tables!Q:R,2,0)&\"08008000\",VLOOKUP('1-Award Info'!$G$19,Tables!Q:R,2,0)&RIGHT(F83,8)))","v":""},"","",{"$f":"IF('2-Grant Budget'!$EC61=\"\",\"\",'2-Grant Budget'!DX61)","v":""},{"$f":"IF('2-Grant Budget'!$EC61=\"\",\"\",'2-Grant Budget'!DY61)","v":""},null,{"$f":"IF('2-Grant Budget'!$EC61=\"\",\"\",\"FY\"&RIGHT('2-Grant Budget'!EA61,2))","v":""},null,{"$f":"IF('2-Grant Budget'!EC61=\"\",\"\",'2-Grant Budget'!EC61)","v":""},{"$f":"IF('2-Grant Budget'!EE61=\"\",\"\",'2-Grant Budget'!EE61)","v":""}]
[null,{"$f":"IF('2-Grant Budget'!EC62=\"\",\"\",RIGHT('2-Grant Budget'!DW62,2))","v":""},{"$f":"IF(G84=\"\",\"\",IF(RIGHT(F84,4)=\"8000\",VLOOKUP('1-Award Info'!$G$19,Tables!Q:R,2,0)&\"08008000\",VLOOKUP('1-Award Info'!$G$19,Tables!Q:R,2,0)&RIGHT(F84,8)))","v":""},"","",{"$f":"IF('2-Grant Budget'!$EC62=\"\",\"\",'2-Grant Budget'!DX62)","v":""},{"$f":"IF('2-Grant Budget'!$EC62=\"\",\"\",'2-Grant Budget'!DY62)","v":""},null,{"$f":"IF('2-Grant Budget'!$EC62=\"\",\"\",\"FY\"&RIGHT('2-Grant Budget'!EA62,2))","v":""},null,{"$f":"IF('2-Grant Budget'!EC62=\"\",\"\",'2-Grant Budget'!EC62)","v":""},{"$f":"IF('2-Grant Budget'!EE62=\"\",\"\",'2-Grant Budget'!EE62)","v":""}]
[null,{"$f":"IF('2-Grant Budget'!EC63=\"\",\"\",RIGHT('2-Grant Budget'!DW63,2))","v":""},{"$f":"IF(G85=\"\",\"\",IF(RIGHT(F85,4)=\"8000\",VLOOKUP('1-Award Info'!$G$19,Tables!Q:R,2,0)&\"08008000\",VLOOKUP('1-Award Info'!$G$19,Tables!Q:R,2,0)&RIGHT(F85,8)))","v":""},"","",{"$f":"IF('2-Grant Budget'!$EC63=\"\",\"\",'2-Grant Budget'!DX63)","v":""},{"$f":"IF('2-Grant Budget'!$EC63=\"\",\"\",'2-Grant Budget'!DY63)","v":""},null,{"$f":"IF('2-Grant Budget'!$EC63=\"\",\"\",\"FY\"&RIGHT('2-Grant Budget'!EA63,2))","v":""},null,{"$f":"IF('2-Grant Budget'!EC63=\"\",\"\",'2-Grant Budget'!EC63)","v":""},{"$f":"IF('2-Grant Budget'!EE63=\"\",\"\",'2-Grant Budget'!EE63)","v":""}]
[null,{"$f":"IF('2-Grant Budget'!EC64=\"\",\"\",RIGHT('2-Grant Budget'!DW64,2))","v":""},{"$f":"IF(G86=\"\",\"\",IF(RIGHT(F86,4)=\"8000\",VLOOKUP('1-Award Info'!$G$19,Tables!Q:R,2,0)&\"08008000\",VLOOKUP('1-Award Info'!$G$19,Tables!Q:R,2,0)&RIGHT(F86,8)))","v":""},"","",{"$f":"IF('2-Grant Budget'!$EC64=\"\",\"\",'2-Grant Budget'!DX64)","v":""},{"$f":"IF('2-Grant Budget'!$EC64=\"\",\"\",'2-Grant Budget'!DY64)","v":""},null,{"$f":"IF('2-Grant Budget'!$EC64=\"\",\"\",\"FY\"&RIGHT('2-Grant Budget'!EA64,2))","v":""},null,{"$f":"IF('2-Grant Budget'!EC64=\"\",\"\",'2-Grant Budget'!EC64)","v":""},{"$f":"IF('2-Grant Budget'!EE64=\"\",\"\",'2-Grant Budget'!EE64)","v":""}]
[null,{"$f":"IF('2-Grant Budget'!EC65=\"\",\"\",RIGHT('2-Grant Budget'!DW65,2))","v":""},{"$f":"IF(G87=\"\",\"\",IF(RIGHT(F87,4)=\"8000\",VLOOKUP('1-Award Info'!$G$19,Tables!Q:R,2,0)&\"08008000\",VLOOKUP('1-Award Info'!$G$19,Tables!Q:R,2,0)&RIGHT(F87,8)))","v":""},"","",{"$f":"IF('2-Grant Budget'!$EC65=\"\",\"\",'2-Grant Budget'!DX65)","v":""},{"$f":"IF('2-Grant Budget'!$EC65=\"\",\"\",'2-Grant Budget'!DY65)","v":""},null,{"$f":"IF('2-Grant Budget'!$EC65=\"\",\"\",\"FY\"&RIGHT('2-Grant Budget'!EA65,2))","v":""},null,{"$f":"IF('2-Grant Budget'!EC65=\"\",\"\",'2-Grant Budget'!EC65)","v":""},{"$f":"IF('2-Grant Budget'!EE65=\"\",\"\",'2-Grant Budget'!EE65)","v":""}]
[null,{"$f":"IF('2-Grant Budget'!EC66=\"\",\"\",RIGHT('2-Grant Budget'!DW66,2))","v":""},{"$f":"IF(G88=\"\",\"\",IF(RIGHT(F88,4)=\"8000\",VLOOKUP('1-Award Info'!$G$19,Tables!Q:R,2,0)&\"08008000\",VLOOKUP('1-Award Info'!$G$19,Tables!Q:R,2,0)&RIGHT(F88,8)))","v":""},"","",{"$f":"IF('2-Grant Budget'!$EC66=\"\",\"\",'2-Grant Budget'!DX66)","v":""},{"$f":"IF('2-Grant Budget'!$EC66=\"\",\"\",'2-Grant Budget'!DY66)","v":""},null,{"$f":"IF('2-Grant Budget'!$EC66=\"\",\"\",\"FY\"&RIGHT('2-Grant Budget'!EA66,2))","v":""},null,{"$f":"IF('2-Grant Budget'!EC66=\"\",\"\",'2-Grant Budget'!EC66)","v":""},{"$f":"IF('2-Grant Budget'!EE66=\"\",\"\",'2-Grant Budget'!EE66)","v":""}]
[null,{"$f":"IF('2-Grant Budget'!EC67=\"\",\"\",RIGHT('2-Grant Budget'!DW67,2))","v":""},{"$f":"IF(G89=\"\",\"\",IF(RIGHT(F89,4)=\"8000\",VLOOKUP('1-Award Info'!$G$19,Tables!Q:R,2,0)&\"08008000\",VLOOKUP('1-Award Info'!$G$19,Tables!Q:R,2,0)&RIGHT(F89,8)))","v":""},"","",{"$f":"IF('2-Grant Budget'!$EC67=\"\",\"\",'2-Grant Budget'!DX67)","v":""},{"$f":"IF('2-Grant Budget'!$EC67=\"\",\"\",'2-Grant Budget'!DY67)","v":""},null,{"$f":"IF('2-Grant Budget'!$EC67=\"\",\"\",\"FY\"&RIGHT('2-Grant Budget'!EA67,2))","v":""},null,{"$f":"IF('2-Grant Budget'!EC67=\"\",\"\",'2-Grant Budget'!EC67)","v":""},{"$f":"IF('2-Grant Budget'!EE67=\"\",\"\",'2-Grant Budget'!EE67)","v":""}]
[null,{"$f":"IF('2-Grant Budget'!EC68=\"\",\"\",RIGHT('2-Grant Budget'!DW68,2))","v":""},{"$f":"IF(G90=\"\",\"\",IF(RIGHT(F90,4)=\"8000\",VLOOKUP('1-Award Info'!$G$19,Tables!Q:R,2,0)&\"08008000\",VLOOKUP('1-Award Info'!$G$19,Tables!Q:R,2,0)&RIGHT(F90,8)))","v":""},"","",{"$f":"IF('2-Grant Budget'!$EC68=\"\",\"\",'2-Grant Budget'!DX68)","v":""},{"$f":"IF('2-Grant Budget'!$EC68=\"\",\"\",'2-Grant Budget'!DY68)","v":""},null,{"$f":"IF('2-Grant Budget'!$EC68=\"\",\"\",\"FY\"&RIGHT('2-Grant Budget'!EA68,2))","v":""},null,{"$f":"IF('2-Grant Budget'!EC68=\"\",\"\",'2-Grant Budget'!EC68)","v":""},{"$f":"IF('2-Grant Budget'!EE68=\"\",\"\",'2-Grant Budget'!EE68)","v":""}]
[null,{"$f":"IF('2-Grant Budget'!EC69=\"\",\"\",RIGHT('2-Grant Budget'!DW69,2))","v":""},{"$f":"IF(G91=\"\",\"\",IF(RIGHT(F91,4)=\"8000\",VLOOKUP('1-Award Info'!$G$19,Tables!Q:R,2,0)&\"08008000\",VLOOKUP('1-Award Info'!$G$19,Tables!Q:R,2,0)&RIGHT(F91,8)))","v":""},"","",{"$f":"IF('2-Grant Budget'!$EC69=\"\",\"\",'2-Grant Budget'!DX69)","v":""},{"$f":"IF('2-Grant Budget'!$EC69=\"\",\"\",'2-Grant Budget'!DY69)","v":""},null,{"$f":"IF('2-Grant Budget'!$EC69=\"\",\"\",\"FY\"&RIGHT('2-Grant Budget'!EA69,2))","v":""},null,{"$f":"IF('2-Grant Budget'!EC69=\"\",\"\",'2-Grant Budget'!EC69)","v":""},{"$f":"IF('2-Grant Budget'!EE69=\"\",\"\",'2-Grant Budget'!EE69)","v":""}]
[null,{"$f":"IF('2-Grant Budget'!EC70=\"\",\"\",RIGHT('2-Grant Budget'!DW70,2))","v":""},{"$f":"IF(G92=\"\",\"\",IF(RIGHT(F92,4)=\"8000\",VLOOKUP('1-Award Info'!$G$19,Tables!Q:R,2,0)&\"08008000\",VLOOKUP('1-Award Info'!$G$19,Tables!Q:R,2,0)&RIGHT(F92,8)))","v":""},"","",{"$f":"IF('2-Grant Budget'!$EC70=\"\",\"\",'2-Grant Budget'!DX70)","v":""},{"$f":"IF('2-Grant Budget'!$EC70=\"\",\"\",'2-Grant Budget'!DY70)","v":""},null,{"$f":"IF('2-Grant Budget'!$EC70=\"\",\"\",\"FY\"&RIGHT('2-Grant Budget'!EA70,2))","v":""},null,{"$f":"IF('2-Grant Budget'!EC70=\"\",\"\",'2-Grant Budget'!EC70)","v":""},{"$f":"IF('2-Grant Budget'!EE70=\"\",\"\",'2-Grant Budget'!EE70)","v":""}]
[null,{"$f":"IF('2-Grant Budget'!EC71=\"\",\"\",RIGHT('2-Grant Budget'!DW71,2))","v":""},{"$f":"IF(G93=\"\",\"\",IF(RIGHT(F93,4)=\"8000\",VLOOKUP('1-Award Info'!$G$19,Tables!Q:R,2,0)&\"08008000\",VLOOKUP('1-Award Info'!$G$19,Tables!Q:R,2,0)&RIGHT(F93,8)))","v":""},"","",{"$f":"IF('2-Grant Budget'!$EC71=\"\",\"\",'2-Grant Budget'!DX71)","v":""},{"$f":"IF('2-Grant Budget'!$EC71=\"\",\"\",'2-Grant Budget'!DY71)","v":""},null,{"$f":"IF('2-Grant Budget'!$EC71=\"\",\"\",\"FY\"&RIGHT('2-Grant Budget'!EA71,2))","v":""},null,{"$f":"IF('2-Grant Budget'!EC71=\"\",\"\",'2-Grant Budget'!EC71)","v":""},{"$f":"IF('2-Grant Budget'!EE71=\"\",\"\",'2-Grant Budget'!EE71)","v":""}]
[null,{"$f":"IF('2-Grant Budget'!EC72=\"\",\"\",RIGHT('2-Grant Budget'!DW72,2))","v":""},{"$f":"IF(G94=\"\",\"\",IF(RIGHT(F94,4)=\"8000\",VLOOKUP('1-Award Info'!$G$19,Tables!Q:R,2,0)&\"08008000\",VLOOKUP('1-Award Info'!$G$19,Tables!Q:R,2,0)&RIGHT(F94,8)))","v":""},"","",{"$f":"IF('2-Grant Budget'!$EC72=\"\",\"\",'2-Grant Budget'!DX72)","v":""},{"$f":"IF('2-Grant Budget'!$EC72=\"\",\"\",'2-Grant Budget'!DY72)","v":""},null,{"$f":"IF('2-Grant Budget'!$EC72=\"\",\"\",\"FY\"&RIGHT('2-Grant Budget'!EA72,2))","v":""},null,{"$f":"IF('2-Grant Budget'!EC72=\"\",\"\",'2-Grant Budget'!EC72)","v":""},{"$f":"IF('2-Grant Budget'!EE72=\"\",\"\",'2-Grant Budget'!EE72)","v":""}]
[null,{"$f":"IF('2-Grant Budget'!EC73=\"\",\"\",RIGHT('2-Grant Budget'!DW73,2))","v":""},{"$f":"IF(G95=\"\",\"\",IF(RIGHT(F95,4)=\"8000\",VLOOKUP('1-Award Info'!$G$19,Tables!Q:R,2,0)&\"08008000\",VLOOKUP('1-Award Info'!$G$19,Tables!Q:R,2,0)&RIGHT(F95,8)))","v":""},"","",{"$f":"IF('2-Grant Budget'!$EC73=\"\",\"\",'2-Grant Budget'!DX73)","v":""},{"$f":"IF('2-Grant Budget'!$EC73=\"\",\"\",'2-Grant Budget'!DY73)","v":""},null,{"$f":"IF('2-Grant Budget'!$EC73=\"\",\"\",\"FY\"&RIGHT('2-Grant Budget'!EA73,2))","v":""},null,{"$f":"IF('2-Grant Budget'!EC73=\"\",\"\",'2-Grant Budget'!EC73)","v":""},{"$f":"IF('2-Grant Budget'!EE73=\"\",\"\",'2-Grant Budget'!EE73)","v":""}]
[null,{"$f":"IF('2-Grant Budget'!EC74=\"\",\"\",RIGHT('2-Grant Budget'!DW74,2))","v":""},{"$f":"IF(G96=\"\",\"\",IF(RIGHT(F96,4)=\"8000\",VLOOKUP('1-Award Info'!$G$19,Tables!Q:R,2,0)&\"08008000\",VLOOKUP('1-Award Info'!$G$19,Tables!Q:R,2,0)&RIGHT(F96,8)))","v":""},"","",{"$f":"IF('2-Grant Budget'!$EC74=\"\",\"\",'2-Grant Budget'!DX74)","v":""},{"$f":"IF('2-Grant Budget'!$EC74=\"\",\"\",'2-Grant Budget'!DY74)","v":""},null,{"$f":"IF('2-Grant Budget'!$EC74=\"\",\"\",\"FY\"&RIGHT('2-Grant Budget'!EA74,2))","v":""},null,{"$f":"IF('2-Grant Budget'!EC74=\"\",\"\",'2-Grant Budget'!EC74)","v":""},{"$f":"IF('2-Grant Budget'!EE74=\"\",\"\",'2-Grant Budget'!EE74)","v":""}]
[null,{"$f":"IF('2-Grant Budget'!EC75=\"\",\"\",RIGHT('2-Grant Budget'!DW75,2))","v":""},{"$f":"IF(G97=\"\",\"\",IF(RIGHT(F97,4)=\"8000\",VLOOKUP('1-Award Info'!$G$19,Tables!Q:R,2,0)&\"08008000\",VLOOKUP('1-Award Info'!$G$19,Tables!Q:R,2,0)&RIGHT(F97,8)))","v":""},"","",{"$f":"IF('2-Grant Budget'!$EC75=\"\",\"\",'2-Grant Budget'!DX75)","v":""},{"$f":"IF('2-Grant Budget'!$EC75=\"\",\"\",'2-Grant Budget'!DY75)","v":""},null,{"$f":"IF('2-Grant Budget'!$EC75=\"\",\"\",\"FY\"&RIGHT('2-Grant Budget'!EA75,2))","v":""},null,{"$f":"IF('2-Grant Budget'!EC75=\"\",\"\",'2-Grant Budget'!EC75)","v":""},{"$f":"IF('2-Grant Budget'!EE75=\"\",\"\",'2-Grant Budget'!EE75)","v":""}]
[null,{"$f":"IF('2-Grant Budget'!EC76=\"\",\"\",RIGHT('2-Grant Budget'!DW76,2))","v":""},{"$f":"IF(G98=\"\",\"\",IF(RIGHT(F98,4)=\"8000\",VLOOKUP('1-Award Info'!$G$19,Tables!Q:R,2,0)&\"08008000\",VLOOKUP('1-Award Info'!$G$19,Tables!Q:R,2,0)&RIGHT(F98,8)))","v":""},"","",{"$f":"IF('2-Grant Budget'!$EC76=\"\",\"\",'2-Grant Budget'!DX76)","v":""},{"$f":"IF('2-Grant Budget'!$EC76=\"\",\"\",'2-Grant Budget'!DY76)","v":""},null,{"$f":"IF('2-Grant Budget'!$EC76=\"\",\"\",\"FY\"&RIGHT('2-Grant Budget'!EA76,2))","v":""},null,{"$f":"IF('2-Grant Budget'!EC76=\"\",\"\",'2-Grant Budget'!EC76)","v":""},{"$f":"IF('2-Grant Budget'!EE76=\"\",\"\",'2-Grant Budget'!EE76)","v":""}]
[null,{"$f":"IF('2-Grant Budget'!EC77=\"\",\"\",RIGHT('2-Grant Budget'!DW77,2))","v":""},{"$f":"IF(G99=\"\",\"\",IF(RIGHT(F99,4)=\"8000\",VLOOKUP('1-Award Info'!$G$19,Tables!Q:R,2,0)&\"08008000\",VLOOKUP('1-Award Info'!$G$19,Tables!Q:R,2,0)&RIGHT(F99,8)))","v":""},"","",{"$f":"IF('2-Grant Budget'!$EC77=\"\",\"\",'2-Grant Budget'!DX77)","v":""},{"$f":"IF('2-Grant Budget'!$EC77=\"\",\"\",'2-Grant Budget'!DY77)","v":""},null,{"$f":"IF('2-Grant Budget'!$EC77=\"\",\"\",\"FY\"&RIGHT('2-Grant Budget'!EA77,2))","v":""},null,{"$f":"IF('2-Grant Budget'!EC77=\"\",\"\",'2-Grant Budget'!EC77)","v":""},{"$f":"IF('2-Grant Budget'!EE77=\"\",\"\",'2-Grant Budget'!EE77)","v":""}]
[null,{"$f":"IF('2-Grant Budget'!EC78=\"\",\"\",RIGHT('2-Grant Budget'!DW78,2))","v":""},{"$f":"IF(G100=\"\",\"\",IF(RIGHT(F100,4)=\"8000\",VLOOKUP('1-Award Info'!$G$19,Tables!Q:R,2,0)&\"08008000\",VLOOKUP('1-Award Info'!$G$19,Tables!Q:R,2,0)&RIGHT(F100,8)))","v":""},"","",{"$f":"IF('2-Grant Budget'!$EC78=\"\",\"\",'2-Grant Budget'!DX78)","v":""},{"$f":"IF('2-Grant Budget'!$EC78=\"\",\"\",'2-Grant Budget'!DY78)","v":""},null,{"$f":"IF('2-Grant Budget'!$EC78=\"\",\"\",\"FY\"&RIGHT('2-Grant Budget'!EA78,2))","v":""},null,{"$f":"IF('2-Grant Budget'!EC78=\"\",\"\",'2-Grant Budget'!EC78)","v":""},{"$f":"IF('2-Grant Budget'!EE78=\"\",\"\",'2-Grant Budget'!EE78)","v":""}]
[null,{"$f":"IF('2-Grant Budget'!EC79=\"\",\"\",RIGHT('2-Grant Budget'!DW79,2))","v":""},{"$f":"IF(G101=\"\",\"\",IF(RIGHT(F101,4)=\"8000\",VLOOKUP('1-Award Info'!$G$19,Tables!Q:R,2,0)&\"08008000\",VLOOKUP('1-Award Info'!$G$19,Tables!Q:R,2,0)&RIGHT(F101,8)))","v":""},"","",{"$f":"IF('2-Grant Budget'!$EC79=\"\",\"\",'2-Grant Budget'!DX79)","v":""},{"$f":"IF('2-Grant Budget'!$EC79=\"\",\"\",'2-Grant Budget'!DY79)","v":""},null,{"$f":"IF('2-Grant Budget'!$EC79=\"\",\"\",\"FY\"&RIGHT('2-Grant Budget'!EA79,2))","v":""},null,{"$f":"IF('2-Grant Budget'!EC79=\"\",\"\",'2-Grant Budget'!EC79)","v":""},{"$f":"IF('2-Grant Budget'!EE79=\"\",\"\",'2-Grant Budget'!EE79)","v":""}]
[null,{"$f":"IF('2-Grant Budget'!EC80=\"\",\"\",RIGHT('2-Grant Budget'!DW80,2))","v":""},{"$f":"IF(G102=\"\",\"\",IF(RIGHT(F102,4)=\"8000\",VLOOKUP('1-Award Info'!$G$19,Tables!Q:R,2,0)&\"08008000\",VLOOKUP('1-Award Info'!$G$19,Tables!Q:R,2,0)&RIGHT(F102,8)))","v":""},"","",{"$f":"IF('2-Grant Budget'!$EC80=\"\",\"\",'2-Grant Budget'!DX80)","v":""},{"$f":"IF('2-Grant Budget'!$EC80=\"\",\"\",'2-Grant Budget'!DY80)","v":""},null,{"$f":"IF('2-Grant Budget'!$EC80=\"\",\"\",\"FY\"&RIGHT('2-Grant Budget'!EA80,2))","v":""},null,{"$f":"IF('2-Grant Budget'!EC80=\"\",\"\",'2-Grant Budget'!EC80)","v":""},{"$f":"IF('2-Grant Budget'!EE80=\"\",\"\",'2-Grant Budget'!EE80)","v":""}]
[null,{"$f":"IF('2-Grant Budget'!EC81=\"\",\"\",RIGHT('2-Grant Budget'!DW81,2))","v":""},{"$f":"IF(G103=\"\",\"\",IF(RIGHT(F103,4)=\"8000\",VLOOKUP('1-Award Info'!$G$19,Tables!Q:R,2,0)&\"08008000\",VLOOKUP('1-Award Info'!$G$19,Tables!Q:R,2,0)&RIGHT(F103,8)))","v":""},"","",{"$f":"IF('2-Grant Budget'!$EC81=\"\",\"\",'2-Grant Budget'!DX81)","v":""},{"$f":"IF('2-Grant Budget'!$EC81=\"\",\"\",'2-Grant Budget'!DY81)","v":""},null,{"$f":"IF('2-Grant Budget'!$EC81=\"\",\"\",\"FY\"&RIGHT('2-Grant Budget'!EA81,2))","v":""},null,{"$f":"IF('2-Grant Budget'!EC81=\"\",\"\",'2-Grant Budget'!EC81)","v":""},{"$f":"IF('2-Grant Budget'!EE81=\"\",\"\",'2-Grant Budget'!EE81)","v":""}]
[null,{"$f":"IF('2-Grant Budget'!EC82=\"\",\"\",RIGHT('2-Grant Budget'!DW82,2))","v":""},{"$f":"IF(G104=\"\",\"\",IF(RIGHT(F104,4)=\"8000\",VLOOKUP('1-Award Info'!$G$19,Tables!Q:R,2,0)&\"08008000\",VLOOKUP('1-Award Info'!$G$19,Tables!Q:R,2,0)&RIGHT(F104,8)))","v":""},{"$f":"IF(G104=\"\",\"\",IF(LEFT(G104)<>\"9\",LEFT(G104,4),9&RIGHT(G104,3)))","v":""},{"$f":"IF(G104=\"\",\"\",IF(LEFT(G104,1)<>\"9\",0,MID(G104,2,1)))","v":""},{"$f":"IF('2-Grant Budget'!$EC82=\"\",\"\",'2-Grant Budget'!DX82)","v":""},{"$f":"IF('2-Grant Budget'!$EC82=\"\",\"\",'2-Grant Budget'!DY82)","v":""},null,{"$f":"IF('2-Grant Budget'!$EC82=\"\",\"\",\"FY\"&RIGHT('2-Grant Budget'!EA82,2))","v":""},null,{"$f":"IF('2-Grant Budget'!EC82=\"\",\"\",'2-Grant Budget'!EC82)","v":""},{"$f":"IF('2-Grant Budget'!EE82=\"\",\"\",'2-Grant Budget'!EE82)","v":""}]
[null,{"$f":"IF('2-Grant Budget'!EC83=\"\",\"\",RIGHT('2-Grant Budget'!DW83,2))","v":""},{"$f":"IF(G105=\"\",\"\",IF(RIGHT(F105,4)=\"8000\",VLOOKUP('1-Award Info'!$G$19,Tables!Q:R,2,0)&\"08008000\",VLOOKUP('1-Award Info'!$G$19,Tables!Q:R,2,0)&RIGHT(F105,8)))","v":""},"","",{"$f":"IF('2-Grant Budget'!$EC83=\"\",\"\",'2-Grant Budget'!DX83)","v":""},{"$f":"IF('2-Grant Budget'!$EC83=\"\",\"\",'2-Grant Budget'!DY83)","v":""},null,{"$f":"IF('2-Grant Budget'!$EC83=\"\",\"\",\"FY\"&RIGHT('2-Grant Budget'!EA83,2))","v":""},null,{"$f":"IF('2-Grant Budget'!EC83=\"\",\"\",'2-Grant Budget'!EC83)","v":""},{"$f":"IF('2-Grant Budget'!EE83=\"\",\"\",'2-Grant Budget'!EE83)","v":""}]
[null,{"$f":"IF('2-Grant Budget'!EC84=\"\",\"\",RIGHT('2-Grant Budget'!DW84,2))","v":""},{"$f":"IF(G106=\"\",\"\",IF(RIGHT(F106,4)=\"8000\",VLOOKUP('1-Award Info'!$G$19,Tables!Q:R,2,0)&\"08008000\",VLOOKUP('1-Award Info'!$G$19,Tables!Q:R,2,0)&RIGHT(F106,8)))","v":""},"","",{"$f":"IF('2-Grant Budget'!$EC84=\"\",\"\",'2-Grant Budget'!DX84)","v":""},{"$f":"IF('2-Grant Budget'!$EC84=\"\",\"\",'2-Grant Budget'!DY84)","v":""},null,{"$f":"IF('2-Grant Budget'!$EC84=\"\",\"\",\"FY\"&RIGHT('2-Grant Budget'!EA84,2))","v":""},null,{"$f":"IF('2-Grant Budget'!EC84=\"\",\"\",'2-Grant Budget'!EC84)","v":""},{"$f":"IF('2-Grant Budget'!EE84=\"\",\"\",'2-Grant Budget'!EE84)","v":""}]
[null,{"$f":"IF('2-Grant Budget'!EC85=\"\",\"\",RIGHT('2-Grant Budget'!DW85,2))","v":""},{"$f":"IF(G107=\"\",\"\",IF(RIGHT(F107,4)=\"8000\",VLOOKUP('1-Award Info'!$G$19,Tables!Q:R,2,0)&\"08008000\",VLOOKUP('1-Award Info'!$G$19,Tables!Q:R,2,0)&RIGHT(F107,8)))","v":""},"","",{"$f":"IF('2-Grant Budget'!$EC85=\"\",\"\",'2-Grant Budget'!DX85)","v":""},{"$f":"IF('2-Grant Budget'!$EC85=\"\",\"\",'2-Grant Budget'!DY85)","v":""},null,{"$f":"IF('2-Grant Budget'!$EC85=\"\",\"\",\"FY\"&RIGHT('2-Grant Budget'!EA85,2))","v":""},null,{"$f":"IF('2-Grant Budget'!EC85=\"\",\"\",'2-Grant Budget'!EC85)","v":""},{"$f":"IF('2-Grant Budget'!EE85=\"\",\"\",'2-Grant Budget'!EE85)","v":""}]
[null,{"$f":"IF('2-Grant Budget'!EC86=\"\",\"\",RIGHT('2-Grant Budget'!DW86,2))","v":""},{"$f":"IF(G108=\"\",\"\",IF(RIGHT(F108,4)=\"8000\",VLOOKUP('1-Award Info'!$G$19,Tables!Q:R,2,0)&\"08008000\",VLOOKUP('1-Award Info'!$G$19,Tables!Q:R,2,0)&RIGHT(F108,8)))","v":""},"","",{"$f":"IF('2-Grant Budget'!$EC86=\"\",\"\",'2-Grant Budget'!DX86)","v":""},{"$f":"IF('2-Grant Budget'!$EC86=\"\",\"\",'2-Grant Budget'!DY86)","v":""},null,{"$f":"IF('2-Grant Budget'!$EC86=\"\",\"\",\"FY\"&RIGHT('2-Grant Budget'!EA86,2))","v":""},null,{"$f":"IF('2-Grant Budget'!EC86=\"\",\"\",'2-Grant Budget'!EC86)","v":""},{"$f":"IF('2-Grant Budget'!EE86=\"\",\"\",'2-Grant Budget'!EE86)","v":""}]
[null,{"$f":"IF('2-Grant Budget'!EC87=\"\",\"\",RIGHT('2-Grant Budget'!DW87,2))","v":""},{"$f":"IF(G109=\"\",\"\",IF(RIGHT(F109,4)=\"8000\",VLOOKUP('1-Award Info'!$G$19,Tables!Q:R,2,0)&\"08008000\",VLOOKUP('1-Award Info'!$G$19,Tables!Q:R,2,0)&RIGHT(F109,8)))","v":""},"","",{"$f":"IF('2-Grant Budget'!$EC87=\"\",\"\",'2-Grant Budget'!DX87)","v":""},{"$f":"IF('2-Grant Budget'!$EC87=\"\",\"\",'2-Grant Budget'!DY87)","v":""},null,{"$f":"IF('2-Grant Budget'!$EC87=\"\",\"\",\"FY\"&RIGHT('2-Grant Budget'!EA87,2))","v":""},null,{"$f":"IF('2-Grant Budget'!EC87=\"\",\"\",'2-Grant Budget'!EC87)","v":""},{"$f":"IF('2-Grant Budget'!EE87=\"\",\"\",'2-Grant Budget'!EE87)","v":""}]
[null,{"$f":"IF('2-Grant Budget'!EC88=\"\",\"\",RIGHT('2-Grant Budget'!DW88,2))","v":""},{"$f":"IF(G110=\"\",\"\",IF(RIGHT(F110,4)=\"8000\",VLOOKUP('1-Award Info'!$G$19,Tables!Q:R,2,0)&\"08008000\",VLOOKUP('1-Award Info'!$G$19,Tables!Q:R,2,0)&RIGHT(F110,8)))","v":""},"","",{"$f":"IF('2-Grant Budget'!$EC88=\"\",\"\",'2-Grant Budget'!DX88)","v":""},{"$f":"IF('2-Grant Budget'!$EC88=\"\",\"\",'2-Grant Budget'!DY88)","v":""},null,{"$f":"IF('2-Grant Budget'!$EC88=\"\",\"\",\"FY\"&RIGHT('2-Grant Budget'!EA88,2))","v":""},null,{"$f":"IF('2-Grant Budget'!EC88=\"\",\"\",'2-Grant Budget'!EC88)","v":""},{"$f":"IF('2-Grant Budget'!EE88=\"\",\"\",'2-Grant Budget'!EE88)","v":""}]
[null,{"$f":"IF('2-Grant Budget'!EC89=\"\",\"\",RIGHT('2-Grant Budget'!DW89,2))","v":""},{"$f":"IF(G111=\"\",\"\",IF(RIGHT(F111,4)=\"8000\",VLOOKUP('1-Award Info'!$G$19,Tables!Q:R,2,0)&\"08008000\",VLOOKUP('1-Award Info'!$G$19,Tables!Q:R,2,0)&RIGHT(F111,8)))","v":""},"","",{"$f":"IF('2-Grant Budget'!$EC89=\"\",\"\",'2-Grant Budget'!DX89)","v":""},{"$f":"IF('2-Grant Budget'!$EC89=\"\",\"\",'2-Grant Budget'!DY89)","v":""},null,{"$f":"IF('2-Grant Budget'!$EC89=\"\",\"\",\"FY\"&RIGHT('2-Grant Budget'!EA89,2))","v":""},null,{"$f":"IF('2-Grant Budget'!EC89=\"\",\"\",'2-Grant Budget'!EC89)","v":""},{"$f":"IF('2-Grant Budget'!EE89=\"\",\"\",'2-Grant Budget'!EE89)","v":""}]
[null,{"$f":"IF('2-Grant Budget'!EC90=\"\",\"\",RIGHT('2-Grant Budget'!DW90,2))","v":""},{"$f":"IF(G112=\"\",\"\",IF(RIGHT(F112,4)=\"8000\",VLOOKUP('1-Award Info'!$G$19,Tables!Q:R,2,0)&\"08008000\",VLOOKUP('1-Award Info'!$G$19,Tables!Q:R,2,0)&RIGHT(F112,8)))","v":""},"","",{"$f":"IF('2-Grant Budget'!$EC90=\"\",\"\",'2-Grant Budget'!DX90)","v":""},{"$f":"IF('2-Grant Budget'!$EC90=\"\",\"\",'2-Grant Budget'!DY90)","v":""},null,{"$f":"IF('2-Grant Budget'!$EC90=\"\",\"\",\"FY\"&RIGHT('2-Grant Budget'!EA90,2))","v":""},null,{"$f":"IF('2-Grant Budget'!EC90=\"\",\"\",'2-Grant Budget'!EC90)","v":""},{"$f":"IF('2-Grant Budget'!EE90=\"\",\"\",'2-Grant Budget'!EE90)","v":""}]
[null,{"$f":"IF('2-Grant Budget'!EC91=\"\",\"\",RIGHT('2-Grant Budget'!DW91,2))","v":""},{"$f":"IF(G113=\"\",\"\",IF(RIGHT(F113,4)=\"8000\",VLOOKUP('1-Award Info'!$G$19,Tables!Q:R,2,0)&\"08008000\",VLOOKUP('1-Award Info'!$G$19,Tables!Q:R,2,0)&RIGHT(F113,8)))","v":""},"","",{"$f":"IF('2-Grant Budget'!$EC91=\"\",\"\",'2-Grant Budget'!DX91)","v":""},{"$f":"IF('2-Grant Budget'!$EC91=\"\",\"\",'2-Grant Budget'!DY91)","v":""},null,{"$f":"IF('2-Grant Budget'!$EC91=\"\",\"\",\"FY\"&RIGHT('2-Grant Budget'!EA91,2))","v":""},null,{"$f":"IF('2-Grant Budget'!EC91=\"\",\"\",'2-Grant Budget'!EC91)","v":""},{"$f":"IF('2-Grant Budget'!EE91=\"\",\"\",'2-Grant Budget'!EE91)","v":""}]
[null,{"$f":"IF('2-Grant Budget'!EC92=\"\",\"\",RIGHT('2-Grant Budget'!DW92,2))","v":""},{"$f":"IF(G114=\"\",\"\",IF(RIGHT(F114,4)=\"8000\",VLOOKUP('1-Award Info'!$G$19,Tables!Q:R,2,0)&\"08008000\",VLOOKUP('1-Award Info'!$G$19,Tables!Q:R,2,0)&RIGHT(F114,8)))","v":""},"","",{"$f":"IF('2-Grant Budget'!$EC92=\"\",\"\",'2-Grant Budget'!DX92)","v":""},{"$f":"IF('2-Grant Budget'!$EC92=\"\",\"\",'2-Grant Budget'!DY92)","v":""},null,{"$f":"IF('2-Grant Budget'!$EC92=\"\",\"\",\"FY\"&RIGHT('2-Grant Budget'!EA92,2))","v":""},null,{"$f":"IF('2-Grant Budget'!EC92=\"\",\"\",'2-Grant Budget'!EC92)","v":""},{"$f":"IF('2-Grant Budget'!EE92=\"\",\"\",'2-Grant Budget'!EE92)","v":""}]
[null,{"$f":"IF('2-Grant Budget'!EC93=\"\",\"\",RIGHT('2-Grant Budget'!DW93,2))","v":""},{"$f":"IF(G115=\"\",\"\",IF(RIGHT(F115,4)=\"8000\",VLOOKUP('1-Award Info'!$G$19,Tables!Q:R,2,0)&\"08008000\",VLOOKUP('1-Award Info'!$G$19,Tables!Q:R,2,0)&RIGHT(F115,8)))","v":""},"","",{"$f":"IF('2-Grant Budget'!$EC93=\"\",\"\",'2-Grant Budget'!DX93)","v":""},{"$f":"IF('2-Grant Budget'!$EC93=\"\",\"\",'2-Grant Budget'!DY93)","v":""},null,{"$f":"IF('2-Grant Budget'!$EC93=\"\",\"\",\"FY\"&RIGHT('2-Grant Budget'!EA93,2))","v":""},null,{"$f":"IF('2-Grant Budget'!EC93=\"\",\"\",'2-Grant Budget'!EC93)","v":""},{"$f":"IF('2-Grant Budget'!EE93=\"\",\"\",'2-Grant Budget'!EE93)","v":""}]
[null,{"$f":"IF('2-Grant Budget'!EC94=\"\",\"\",RIGHT('2-Grant Budget'!DW94,2))","v":""},{"$f":"IF(G116=\"\",\"\",IF(RIGHT(F116,4)=\"8000\",VLOOKUP('1-Award Info'!$G$19,Tables!Q:R,2,0)&\"08008000\",VLOOKUP('1-Award Info'!$G$19,Tables!Q:R,2,0)&RIGHT(F116,8)))","v":""},"","",{"$f":"IF('2-Grant Budget'!$EC94=\"\",\"\",'2-Grant Budget'!DX94)","v":""},{"$f":"IF('2-Grant Budget'!$EC94=\"\",\"\",'2-Grant Budget'!DY94)","v":""},null,{"$f":"IF('2-Grant Budget'!$EC94=\"\",\"\",\"FY\"&RIGHT('2-Grant Budget'!EA94,2))","v":""},null,{"$f":"IF('2-Grant Budget'!EC94=\"\",\"\",'2-Grant Budget'!EC94)","v":""},{"$f":"IF('2-Grant Budget'!EE94=\"\",\"\",'2-Grant Budget'!EE94)","v":""}]
[null,{"$f":"IF('2-Grant Budget'!EC95=\"\",\"\",RIGHT('2-Grant Budget'!DW95,2))","v":""},{"$f":"IF(G117=\"\",\"\",IF(RIGHT(F117,4)=\"8000\",VLOOKUP('1-Award Info'!$G$19,Tables!Q:R,2,0)&\"08008000\",VLOOKUP('1-Award Info'!$G$19,Tables!Q:R,2,0)&RIGHT(F117,8)))","v":""},"","",{"$f":"IF('2-Grant Budget'!$EC95=\"\",\"\",'2-Grant Budget'!DX95)","v":""},{"$f":"IF('2-Grant Budget'!$EC95=\"\",\"\",'2-Grant Budget'!DY95)","v":""},null,{"$f":"IF('2-Grant Budget'!$EC95=\"\",\"\",\"FY\"&RIGHT('2-Grant Budget'!EA95,2))","v":""},null,{"$f":"IF('2-Grant Budget'!EC95=\"\",\"\",'2-Grant Budget'!EC95)","v":""},{"$f":"IF('2-Grant Budget'!EE95=\"\",\"\",'2-Grant Budget'!EE95)","v":""}]
[null,{"$f":"IF('2-Grant Budget'!EC96=\"\",\"\",RIGHT('2-Grant Budget'!DW96,2))","v":""},{"$f":"IF(G118=\"\",\"\",IF(RIGHT(F118,4)=\"8000\",VLOOKUP('1-Award Info'!$G$19,Tables!Q:R,2,0)&\"08008000\",VLOOKUP('1-Award Info'!$G$19,Tables!Q:R,2,0)&RIGHT(F118,8)))","v":""},"","",{"$f":"IF('2-Grant Budget'!$EC96=\"\",\"\",'2-Grant Budget'!DX96)","v":""},{"$f":"IF('2-Grant Budget'!$EC96=\"\",\"\",'2-Grant Budget'!DY96)","v":""},null,{"$f":"IF('2-Grant Budget'!$EC96=\"\",\"\",\"FY\"&RIGHT('2-Grant Budget'!EA96,2))","v":""},null,{"$f":"IF('2-Grant Budget'!EC96=\"\",\"\",'2-Grant Budget'!EC96)","v":""},{"$f":"IF('2-Grant Budget'!EE96=\"\",\"\",'2-Grant Budget'!EE96)","v":""}]
[null,{"$f":"IF('2-Grant Budget'!EC97=\"\",\"\",RIGHT('2-Grant Budget'!DW97,2))","v":""},{"$f":"IF(G119=\"\",\"\",IF(RIGHT(F119,4)=\"8000\",VLOOKUP('1-Award Info'!$G$19,Tables!Q:R,2,0)&\"08008000\",VLOOKUP('1-Award Info'!$G$19,Tables!Q:R,2,0)&RIGHT(F119,8)))","v":""},"","",{"$f":"IF('2-Grant Budget'!$EC97=\"\",\"\",'2-Grant Budget'!DX97)","v":""},{"$f":"IF('2-Grant Budget'!$EC97=\"\",\"\",'2-Grant Budget'!DY97)","v":""},null,{"$f":"IF('2-Grant Budget'!$EC97=\"\",\"\",\"FY\"&RIGHT('2-Grant Budget'!EA97,2))","v":""},null,{"$f":"IF('2-Grant Budget'!EC97=\"\",\"\",'2-Grant Budget'!EC97)","v":""},{"$f":"IF('2-Grant Budget'!EE97=\"\",\"\",'2-Grant Budget'!EE97)","v":""}]
[null,{"$f":"IF('2-Grant Budget'!EC98=\"\",\"\",RIGHT('2-Grant Budget'!DW98,2))","v":""},{"$f":"IF(G120=\"\",\"\",IF(RIGHT(F120,4)=\"8000\",VLOOKUP('1-Award Info'!$G$19,Tables!Q:R,2,0)&\"08008000\",VLOOKUP('1-Award Info'!$G$19,Tables!Q:R,2,0)&RIGHT(F120,8)))","v":""},"","",{"$f":"IF('2-Grant Budget'!$EC98=\"\",\"\",'2-Grant Budget'!DX98)","v":""},{"$f":"IF('2-Grant Budget'!$EC98=\"\",\"\",'2-Grant Budget'!DY98)","v":""},null,{"$f":"IF('2-Grant Budget'!$EC98=\"\",\"\",\"FY\"&RIGHT('2-Grant Budget'!EA98,2))","v":""},null,{"$f":"IF('2-Grant Budget'!EC98=\"\",\"\",'2-Grant Budget'!EC98)","v":""},{"$f":"IF('2-Grant Budget'!EE98=\"\",\"\",'2-Grant Budget'!EE98)","v":""}]
[null,{"$f":"IF('2-Grant Budget'!EC99=\"\",\"\",RIGHT('2-Grant Budget'!DW99,2))","v":""},{"$f":"IF(G121=\"\",\"\",IF(RIGHT(F121,4)=\"8000\",VLOOKUP('1-Award Info'!$G$19,Tables!Q:R,2,0)&\"08008000\",VLOOKUP('1-Award Info'!$G$19,Tables!Q:R,2,0)&RIGHT(F121,8)))","v":""},"","",{"$f":"IF('2-Grant Budget'!$EC99=\"\",\"\",'2-Grant Budget'!DX99)","v":""},{"$f":"IF('2-Grant Budget'!$EC99=\"\",\"\",'2-Grant Budget'!DY99)","v":""},null,{"$f":"IF('2-Grant Budget'!$EC99=\"\",\"\",\"FY\"&RIGHT('2-Grant Budget'!EA99,2))","v":""},null,{"$f":"IF('2-Grant Budget'!EC99=\"\",\"\",'2-Grant Budget'!EC99)","v":""},{"$f":"IF('2-Grant Budget'!EE99=\"\",\"\",'2-Grant Budget'!EE99)","v":""}]
[null,{"$f":"IF('2-Grant Budget'!EC100=\"\",\"\",RIGHT('2-Grant Budget'!DW100,2))","v":""},{"$f":"IF(G122=\"\",\"\",IF(RIGHT(F122,4)=\"8000\",VLOOKUP('1-Award Info'!$G$19,Tables!Q:R,2,0)&\"08008000\",VLOOKUP('1-Award Info'!$G$19,Tables!Q:R,2,0)&RIGHT(F122,8)))","v":""},"","",{"$f":"IF('2-Grant Budget'!$EC100=\"\",\"\",'2-Grant Budget'!DX100)","v":""},{"$f":"IF('2-Grant Budget'!$EC100=\"\",\"\",'2-Grant Budget'!DY100)","v":""},null,{"$f":"IF('2-Grant Budget'!$EC100=\"\",\"\",\"FY\"&RIGHT('2-Grant Budget'!EA100,2))","v":""},null,{"$f":"IF('2-Grant Budget'!EC100=\"\",\"\",'2-Grant Budget'!EC100)","v":""},{"$f":"IF('2-Grant Budget'!EE100=\"\",\"\",'2-Grant Budget'!EE100)","v":""}]
[null,{"$f":"IF('2-Grant Budget'!EC101=\"\",\"\",RIGHT('2-Grant Budget'!DW101,2))","v":""},{"$f":"IF(G123=\"\",\"\",IF(RIGHT(F123,4)=\"8000\",VLOOKUP('1-Award Info'!$G$19,Tables!Q:R,2,0)&\"08008000\",VLOOKUP('1-Award Info'!$G$19,Tables!Q:R,2,0)&RIGHT(F123,8)))","v":""},"","",{"$f":"IF('2-Grant Budget'!$EC101=\"\",\"\",'2-Grant Budget'!DX101)","v":""},{"$f":"IF('2-Grant Budget'!$EC101=\"\",\"\",'2-Grant Budget'!DY101)","v":""},null,{"$f":"IF('2-Grant Budget'!$EC101=\"\",\"\",\"FY\"&RIGHT('2-Grant Budget'!EA101,2))","v":""},null,{"$f":"IF('2-Grant Budget'!EC101=\"\",\"\",'2-Grant Budget'!EC101)","v":""},{"$f":"IF('2-Grant Budget'!EE101=\"\",\"\",'2-Grant Budget'!EE101)","v":""}]
[null,{"$f":"IF('2-Grant Budget'!EC102=\"\",\"\",RIGHT('2-Grant Budget'!DW102,2))","v":""},{"$f":"IF(G124=\"\",\"\",IF(RIGHT(F124,4)=\"8000\",VLOOKUP('1-Award Info'!$G$19,Tables!Q:R,2,0)&\"08008000\",VLOOKUP('1-Award Info'!$G$19,Tables!Q:R,2,0)&RIGHT(F124,8)))","v":""},"","",{"$f":"IF('2-Grant Budget'!$EC102=\"\",\"\",'2-Grant Budget'!DX102)","v":""},{"$f":"IF('2-Grant Budget'!$EC102=\"\",\"\",'2-Grant Budget'!DY102)","v":""},null,{"$f":"IF('2-Grant Budget'!$EC102=\"\",\"\",\"FY\"&RIGHT('2-Grant Budget'!EA102,2))","v":""},null,{"$f":"IF('2-Grant Budget'!EC102=\"\",\"\",'2-Grant Budget'!EC102)","v":""},{"$f":"IF('2-Grant Budget'!EE102=\"\",\"\",'2-Grant Budget'!EE102)","v":""}]
[null,{"$f":"IF('2-Grant Budget'!EC103=\"\",\"\",RIGHT('2-Grant Budget'!DW103,2))","v":""},{"$f":"IF(G125=\"\",\"\",IF(RIGHT(F125,4)=\"8000\",VLOOKUP('1-Award Info'!$G$19,Tables!Q:R,2,0)&\"08008000\",VLOOKUP('1-Award Info'!$G$19,Tables!Q:R,2,0)&RIGHT(F125,8)))","v":""},"","",{"$f":"IF('2-Grant Budget'!$EC103=\"\",\"\",'2-Grant Budget'!DX103)","v":""},{"$f":"IF('2-Grant Budget'!$EC103=\"\",\"\",'2-Grant Budget'!DY103)","v":""},null,{"$f":"IF('2-Grant Budget'!$EC103=\"\",\"\",\"FY\"&RIGHT('2-Grant Budget'!EA103,2))","v":""},null,{"$f":"IF('2-Grant Budget'!EC103=\"\",\"\",'2-Grant Budget'!EC103)","v":""},{"$f":"IF('2-Grant Budget'!EE103=\"\",\"\",'2-Grant Budget'!EE103)","v":""}]
[null,{"$f":"IF('2-Grant Budget'!EC104=\"\",\"\",RIGHT('2-Grant Budget'!DW104,2))","v":""},{"$f":"IF(G126=\"\",\"\",IF(RIGHT(F126,4)=\"8000\",VLOOKUP('1-Award Info'!$G$19,Tables!Q:R,2,0)&\"08008000\",VLOOKUP('1-Award Info'!$G$19,Tables!Q:R,2,0)&RIGHT(F126,8)))","v":""},"","",{"$f":"IF('2-Grant Budget'!$EC104=\"\",\"\",'2-Grant Budget'!DX104)","v":""},{"$f":"IF('2-Grant Budget'!$EC104=\"\",\"\",'2-Grant Budget'!DY104)","v":""},null,{"$f":"IF('2-Grant Budget'!$EC104=\"\",\"\",\"FY\"&RIGHT('2-Grant Budget'!EA104,2))","v":""},null,{"$f":"IF('2-Grant Budget'!EC104=\"\",\"\",'2-Grant Budget'!EC104)","v":""},{"$f":"IF('2-Grant Budget'!EE104=\"\",\"\",'2-Grant Budget'!EE104)","v":""}]
[null,{"$f":"IF('2-Grant Budget'!EC105=\"\",\"\",RIGHT('2-Grant Budget'!DW105,2))","v":""},{"$f":"IF(G127=\"\",\"\",IF(RIGHT(F127,4)=\"8000\",VLOOKUP('1-Award Info'!$G$19,Tables!Q:R,2,0)&\"08008000\",VLOOKUP('1-Award Info'!$G$19,Tables!Q:R,2,0)&RIGHT(F127,8)))","v":""},"","",{"$f":"IF('2-Grant Budget'!$EC105=\"\",\"\",'2-Grant Budget'!DX105)","v":""},{"$f":"IF('2-Grant Budget'!$EC105=\"\",\"\",'2-Grant Budget'!DY105)","v":""},null,{"$f":"IF('2-Grant Budget'!$EC105=\"\",\"\",\"FY\"&RIGHT('2-Grant Budget'!EA105,2))","v":""},null,{"$f":"IF('2-Grant Budget'!EC105=\"\",\"\",'2-Grant Budget'!EC105)","v":""},{"$f":"IF('2-Grant Budget'!EE105=\"\",\"\",'2-Grant Budget'!EE105)","v":""}]
[null,{"$f":"IF('2-Grant Budget'!EC106=\"\",\"\",RIGHT('2-Grant Budget'!DW106,2))","v":""},{"$f":"IF(G128=\"\",\"\",IF(RIGHT(F128,4)=\"8000\",VLOOKUP('1-Award Info'!$G$19,Tables!Q:R,2,0)&\"08008000\",VLOOKUP('1-Award Info'!$G$19,Tables!Q:R,2,0)&RIGHT(F128,8)))","v":""},"","",{"$f":"IF('2-Grant Budget'!$EC106=\"\",\"\",'2-Grant Budget'!DX106)","v":""},{"$f":"IF('2-Grant Budget'!$EC106=\"\",\"\",'2-Grant Budget'!DY106)","v":""},null,{"$f":"IF('2-Grant Budget'!$EC106=\"\",\"\",\"FY\"&RIGHT('2-Grant Budget'!EA106,2))","v":""},null,{"$f":"IF('2-Grant Budget'!EC106=\"\",\"\",'2-Grant Budget'!EC106)","v":""},{"$f":"IF('2-Grant Budget'!EE106=\"\",\"\",'2-Grant Budget'!EE106)","v":""}]
[null,{"$f":"IF('2-Grant Budget'!EC107=\"\",\"\",RIGHT('2-Grant Budget'!DW107,2))","v":""},{"$f":"IF(G129=\"\",\"\",IF(RIGHT(F129,4)=\"8000\",VLOOKUP('1-Award Info'!$G$19,Tables!Q:R,2,0)&\"08008000\",VLOOKUP('1-Award Info'!$G$19,Tables!Q:R,2,0)&RIGHT(F129,8)))","v":""},"","",{"$f":"IF('2-Grant Budget'!$EC107=\"\",\"\",'2-Grant Budget'!DX107)","v":""},{"$f":"IF('2-Grant Budget'!$EC107=\"\",\"\",'2-Grant Budget'!DY107)","v":""},null,{"$f":"IF('2-Grant Budget'!$EC107=\"\",\"\",\"FY\"&RIGHT('2-Grant Budget'!EA107,2))","v":""},null,{"$f":"IF('2-Grant Budget'!EC107=\"\",\"\",'2-Grant Budget'!EC107)","v":""},{"$f":"IF('2-Grant Budget'!EE107=\"\",\"\",'2-Grant Budget'!EE107)","v":""}]
[null,{"$f":"IF('2-Grant Budget'!EC108=\"\",\"\",RIGHT('2-Grant Budget'!DW108,2))","v":""},{"$f":"IF(G130=\"\",\"\",IF(RIGHT(F130,4)=\"8000\",VLOOKUP('1-Award Info'!$G$19,Tables!Q:R,2,0)&\"08008000\",VLOOKUP('1-Award Info'!$G$19,Tables!Q:R,2,0)&RIGHT(F130,8)))","v":""},"","",{"$f":"IF('2-Grant Budget'!$EC108=\"\",\"\",'2-Grant Budget'!DX108)","v":""},{"$f":"IF('2-Grant Budget'!$EC108=\"\",\"\",'2-Grant Budget'!DY108)","v":""},null,{"$f":"IF('2-Grant Budget'!$EC108=\"\",\"\",\"FY\"&RIGHT('2-Grant Budget'!EA108,2))","v":""},null,{"$f":"IF('2-Grant Budget'!EC108=\"\",\"\",'2-Grant Budget'!EC108)","v":""},{"$f":"IF('2-Grant Budget'!EE108=\"\",\"\",'2-Grant Budget'!EE108)","v":""}]
[null,{"$f":"IF('2-Grant Budget'!EC109=\"\",\"\",RIGHT('2-Grant Budget'!DW109,2))","v":""},{"$f":"IF(G131=\"\",\"\",IF(RIGHT(F131,4)=\"8000\",VLOOKUP('1-Award Info'!$G$19,Tables!Q:R,2,0)&\"08008000\",VLOOKUP('1-Award Info'!$G$19,Tables!Q:R,2,0)&RIGHT(F131,8)))","v":""},"","",{"$f":"IF('2-Grant Budget'!$EC109=\"\",\"\",'2-Grant Budget'!DX109)","v":""},{"$f":"IF('2-Grant Budget'!$EC109=\"\",\"\",'2-Grant Budget'!DY109)","v":""},null,{"$f":"IF('2-Grant Budget'!$EC109=\"\",\"\",\"FY\"&RIGHT('2-Grant Budget'!EA109,2))","v":""},null,{"$f":"IF('2-Grant Budget'!EC109=\"\",\"\",'2-Grant Budget'!EC109)","v":""},{"$f":"IF('2-Grant Budget'!EE109=\"\",\"\",'2-Grant Budget'!EE109)","v":""}]
[null,{"$f":"IF('2-Grant Budget'!EC110=\"\",\"\",RIGHT('2-Grant Budget'!DW110,2))","v":""},{"$f":"IF(G132=\"\",\"\",IF(RIGHT(F132,4)=\"8000\",VLOOKUP('1-Award Info'!$G$19,Tables!Q:R,2,0)&\"08008000\",VLOOKUP('1-Award Info'!$G$19,Tables!Q:R,2,0)&RIGHT(F132,8)))","v":""},"","",{"$f":"IF('2-Grant Budget'!$EC110=\"\",\"\",'2-Grant Budget'!DX110)","v":""},{"$f":"IF('2-Grant Budget'!$EC110=\"\",\"\",'2-Grant Budget'!DY110)","v":""},null,{"$f":"IF('2-Grant Budget'!$EC110=\"\",\"\",\"FY\"&RIGHT('2-Grant Budget'!EA110,2))","v":""},null,{"$f":"IF('2-Grant Budget'!EC110=\"\",\"\",'2-Grant Budget'!EC110)","v":""},{"$f":"IF('2-Grant Budget'!EE110=\"\",\"\",'2-Grant Budget'!EE110)","v":""}]
[null,{"$f":"IF('2-Grant Budget'!EC111=\"\",\"\",RIGHT('2-Grant Budget'!DW111,2))","v":""},{"$f":"IF(G133=\"\",\"\",IF(RIGHT(F133,4)=\"8000\",VLOOKUP('1-Award Info'!$G$19,Tables!Q:R,2,0)&\"08008000\",VLOOKUP('1-Award Info'!$G$19,Tables!Q:R,2,0)&RIGHT(F133,8)))","v":""},"","",{"$f":"IF('2-Grant Budget'!$EC111=\"\",\"\",'2-Grant Budget'!DX111)","v":""},{"$f":"IF('2-Grant Budget'!$EC111=\"\",\"\",'2-Grant Budget'!DY111)","v":""},null,{"$f":"IF('2-Grant Budget'!$EC111=\"\",\"\",\"FY\"&RIGHT('2-Grant Budget'!EA111,2))","v":""},null,{"$f":"IF('2-Grant Budget'!EC111=\"\",\"\",'2-Grant Budget'!EC111)","v":""},{"$f":"IF('2-Grant Budget'!EE111=\"\",\"\",'2-Grant Budget'!EE111)","v":""}]
[null,{"$f":"IF('2-Grant Budget'!EC112=\"\",\"\",RIGHT('2-Grant Budget'!DW112,2))","v":""},{"$f":"IF(G134=\"\",\"\",IF(RIGHT(F134,4)=\"8000\",VLOOKUP('1-Award Info'!$G$19,Tables!Q:R,2,0)&\"08008000\",VLOOKUP('1-Award Info'!$G$19,Tables!Q:R,2,0)&RIGHT(F134,8)))","v":""},"","",{"$f":"IF('2-Grant Budget'!$EC112=\"\",\"\",'2-Grant Budget'!DX112)","v":""},{"$f":"IF('2-Grant Budget'!$EC112=\"\",\"\",'2-Grant Budget'!DY112)","v":""},null,{"$f":"IF('2-Grant Budget'!$EC112=\"\",\"\",\"FY\"&RIGHT('2-Grant Budget'!EA112,2))","v":""},null,{"$f":"IF('2-Grant Budget'!EC112=\"\",\"\",'2-Grant Budget'!EC112)","v":""},{"$f":"IF('2-Grant Budget'!EE112=\"\",\"\",'2-Grant Budget'!EE112)","v":""}]
[null,{"$f":"IF('2-Grant Budget'!EC113=\"\",\"\",RIGHT('2-Grant Budget'!DW113,2))","v":""},{"$f":"IF(G135=\"\",\"\",IF(RIGHT(F135,4)=\"8000\",VLOOKUP('1-Award Info'!$G$19,Tables!Q:R,2,0)&\"08008000\",VLOOKUP('1-Award Info'!$G$19,Tables!Q:R,2,0)&RIGHT(F135,8)))","v":""},"","",{"$f":"IF('2-Grant Budget'!$EC113=\"\",\"\",'2-Grant Budget'!DX113)","v":""},{"$f":"IF('2-Grant Budget'!$EC113=\"\",\"\",'2-Grant Budget'!DY113)","v":""},null,{"$f":"IF('2-Grant Budget'!$EC113=\"\",\"\",\"FY\"&RIGHT('2-Grant Budget'!EA113,2))","v":""},null,{"$f":"IF('2-Grant Budget'!EC113=\"\",\"\",'2-Grant Budget'!EC113)","v":""},{"$f":"IF('2-Grant Budget'!EE113=\"\",\"\",'2-Grant Budget'!EE113)","v":""}]
[null,{"$f":"IF('2-Grant Budget'!EC114=\"\",\"\",RIGHT('2-Grant Budget'!DW114,2))","v":""},{"$f":"IF(G136=\"\",\"\",IF(RIGHT(F136,4)=\"8000\",VLOOKUP('1-Award Info'!$G$19,Tables!Q:R,2,0)&\"08008000\",VLOOKUP('1-Award Info'!$G$19,Tables!Q:R,2,0)&RIGHT(F136,8)))","v":""},"","",{"$f":"IF('2-Grant Budget'!$EC114=\"\",\"\",'2-Grant Budget'!DX114)","v":""},{"$f":"IF('2-Grant Budget'!$EC114=\"\",\"\",'2-Grant Budget'!DY114)","v":""},null,{"$f":"IF('2-Grant Budget'!$EC114=\"\",\"\",\"FY\"&RIGHT('2-Grant Budget'!EA114,2))","v":""},null,{"$f":"IF('2-Grant Budget'!EC114=\"\",\"\",'2-Grant Budget'!EC114)","v":""},{"$f":"IF('2-Grant Budget'!EE114=\"\",\"\",'2-Grant Budget'!EE114)","v":""}]
[null,{"$f":"IF('2-Grant Budget'!EC115=\"\",\"\",RIGHT('2-Grant Budget'!DW115,2))","v":""},{"$f":"IF(G137=\"\",\"\",IF(RIGHT(F137,4)=\"8000\",VLOOKUP('1-Award Info'!$G$19,Tables!Q:R,2,0)&\"08008000\",VLOOKUP('1-Award Info'!$G$19,Tables!Q:R,2,0)&RIGHT(F137,8)))","v":""},"","",{"$f":"IF('2-Grant Budget'!$EC115=\"\",\"\",'2-Grant Budget'!DX115)","v":""},{"$f":"IF('2-Grant Budget'!$EC115=\"\",\"\",'2-Grant Budget'!DY115)","v":""},null,{"$f":"IF('2-Grant Budget'!$EC115=\"\",\"\",\"FY\"&RIGHT('2-Grant Budget'!EA115,2))","v":""},null,{"$f":"IF('2-Grant Budget'!EC115=\"\",\"\",'2-Grant Budget'!EC115)","v":""},{"$f":"IF('2-Grant Budget'!EE115=\"\",\"\",'2-Grant Budget'!EE115)","v":""}]
[null,{"$f":"IF('2-Grant Budget'!EC116=\"\",\"\",RIGHT('2-Grant Budget'!DW116,2))","v":""},{"$f":"IF(G138=\"\",\"\",IF(RIGHT(F138,4)=\"8000\",VLOOKUP('1-Award Info'!$G$19,Tables!Q:R,2,0)&\"08008000\",VLOOKUP('1-Award Info'!$G$19,Tables!Q:R,2,0)&RIGHT(F138,8)))","v":""},"","",{"$f":"IF('2-Grant Budget'!$EC116=\"\",\"\",'2-Grant Budget'!DX116)","v":""},{"$f":"IF('2-Grant Budget'!$EC116=\"\",\"\",'2-Grant Budget'!DY116)","v":""},null,{"$f":"IF('2-Grant Budget'!$EC116=\"\",\"\",\"FY\"&RIGHT('2-Grant Budget'!EA116,2))","v":""},null,{"$f":"IF('2-Grant Budget'!EC116=\"\",\"\",'2-Grant Budget'!EC116)","v":""},{"$f":"IF('2-Grant Budget'!EE116=\"\",\"\",'2-Grant Budget'!EE116)","v":""}]
[null,{"$f":"IF('2-Grant Budget'!EC117=\"\",\"\",RIGHT('2-Grant Budget'!DW117,2))","v":""},{"$f":"IF(G139=\"\",\"\",IF(RIGHT(F139,4)=\"8000\",VLOOKUP('1-Award Info'!$G$19,Tables!Q:R,2,0)&\"08008000\",VLOOKUP('1-Award Info'!$G$19,Tables!Q:R,2,0)&RIGHT(F139,8)))","v":""},"","",{"$f":"IF('2-Grant Budget'!$EC117=\"\",\"\",'2-Grant Budget'!DX117)","v":""},{"$f":"IF('2-Grant Budget'!$EC117=\"\",\"\",'2-Grant Budget'!DY117)","v":""},null,{"$f":"IF('2-Grant Budget'!$EC117=\"\",\"\",\"FY\"&RIGHT('2-Grant Budget'!EA117,2))","v":""},null,{"$f":"IF('2-Grant Budget'!EC117=\"\",\"\",'2-Grant Budget'!EC117)","v":""},{"$f":"IF('2-Grant Budget'!EE117=\"\",\"\",'2-Grant Budget'!EE117)","v":""}]
[null,{"$f":"IF('2-Grant Budget'!EC118=\"\",\"\",RIGHT('2-Grant Budget'!DW118,2))","v":""},{"$f":"IF(G140=\"\",\"\",IF(RIGHT(F140,4)=\"8000\",VLOOKUP('1-Award Info'!$G$19,Tables!Q:R,2,0)&\"08008000\",VLOOKUP('1-Award Info'!$G$19,Tables!Q:R,2,0)&RIGHT(F140,8)))","v":""},"","",{"$f":"IF('2-Grant Budget'!$EC118=\"\",\"\",'2-Grant Budget'!DX118)","v":""},{"$f":"IF('2-Grant Budget'!$EC118=\"\",\"\",'2-Grant Budget'!DY118)","v":""},null,{"$f":"IF('2-Grant Budget'!$EC118=\"\",\"\",\"FY\"&RIGHT('2-Grant Budget'!EA118,2))","v":""},null,{"$f":"IF('2-Grant Budget'!EC118=\"\",\"\",'2-Grant Budget'!EC118)","v":""},{"$f":"IF('2-Grant Budget'!EE118=\"\",\"\",'2-Grant Budget'!EE118)","v":""}]
[null,{"$f":"IF('2-Grant Budget'!EC119=\"\",\"\",RIGHT('2-Grant Budget'!DW119,2))","v":""},{"$f":"IF(G141=\"\",\"\",IF(RIGHT(F141,4)=\"8000\",VLOOKUP('1-Award Info'!$G$19,Tables!Q:R,2,0)&\"08008000\",VLOOKUP('1-Award Info'!$G$19,Tables!Q:R,2,0)&RIGHT(F141,8)))","v":""},"","",{"$f":"IF('2-Grant Budget'!$EC119=\"\",\"\",'2-Grant Budget'!DX119)","v":""},{"$f":"IF('2-Grant Budget'!$EC119=\"\",\"\",'2-Grant Budget'!DY119)","v":""},null,{"$f":"IF('2-Grant Budget'!$EC119=\"\",\"\",\"FY\"&RIGHT('2-Grant Budget'!EA119,2))","v":""},null,{"$f":"IF('2-Grant Budget'!EC119=\"\",\"\",'2-Grant Budget'!EC119)","v":""},{"$f":"IF('2-Grant Budget'!EE119=\"\",\"\",'2-Grant Budget'!EE119)","v":""}]
[null,{"$f":"IF('2-Grant Budget'!EC120=\"\",\"\",RIGHT('2-Grant Budget'!DW120,2))","v":""},{"$f":"IF(G142=\"\",\"\",IF(RIGHT(F142,4)=\"8000\",VLOOKUP('1-Award Info'!$G$19,Tables!Q:R,2,0)&\"08008000\",VLOOKUP('1-Award Info'!$G$19,Tables!Q:R,2,0)&RIGHT(F142,8)))","v":""},"","",{"$f":"IF('2-Grant Budget'!$EC120=\"\",\"\",'2-Grant Budget'!DX120)","v":""},{"$f":"IF('2-Grant Budget'!$EC120=\"\",\"\",'2-Grant Budget'!DY120)","v":""},null,{"$f":"IF('2-Grant Budget'!$EC120=\"\",\"\",\"FY\"&RIGHT('2-Grant Budget'!EA120,2))","v":""},null,{"$f":"IF('2-Grant Budget'!EC120=\"\",\"\",'2-Grant Budget'!EC120)","v":""},{"$f":"IF('2-Grant Budget'!EE120=\"\",\"\",'2-Grant Budget'!EE120)","v":""}]
[null,{"$f":"IF('2-Grant Budget'!EC121=\"\",\"\",RIGHT('2-Grant Budget'!DW121,2))","v":""},{"$f":"IF(G143=\"\",\"\",IF(RIGHT(F143,4)=\"8000\",VLOOKUP('1-Award Info'!$G$19,Tables!Q:R,2,0)&\"08008000\",VLOOKUP('1-Award Info'!$G$19,Tables!Q:R,2,0)&RIGHT(F143,8)))","v":""},"","",{"$f":"IF('2-Grant Budget'!$EC121=\"\",\"\",'2-Grant Budget'!DX121)","v":""},{"$f":"IF('2-Grant Budget'!$EC121=\"\",\"\",'2-Grant Budget'!DY121)","v":""},null,{"$f":"IF('2-Grant Budget'!$EC121=\"\",\"\",\"FY\"&RIGHT('2-Grant Budget'!EA121,2))","v":""},null,{"$f":"IF('2-Grant Budget'!EC121=\"\",\"\",'2-Grant Budget'!EC121)","v":""},{"$f":"IF('2-Grant Budget'!EE121=\"\",\"\",'2-Grant Budget'!EE121)","v":""}]
[null,{"$f":"IF('2-Grant Budget'!EC122=\"\",\"\",RIGHT('2-Grant Budget'!DW122,2))","v":""},{"$f":"IF(G144=\"\",\"\",IF(RIGHT(F144,4)=\"8000\",VLOOKUP('1-Award Info'!$G$19,Tables!Q:R,2,0)&\"08008000\",VLOOKUP('1-Award Info'!$G$19,Tables!Q:R,2,0)&RIGHT(F144,8)))","v":""},"","",{"$f":"IF('2-Grant Budget'!$EC122=\"\",\"\",'2-Grant Budget'!DX122)","v":""},{"$f":"IF('2-Grant Budget'!$EC122=\"\",\"\",'2-Grant Budget'!DY122)","v":""},null,{"$f":"IF('2-Grant Budget'!$EC122=\"\",\"\",\"FY\"&RIGHT('2-Grant Budget'!EA122,2))","v":""},null,{"$f":"IF('2-Grant Budget'!EC122=\"\",\"\",'2-Grant Budget'!EC122)","v":""},{"$f":"IF('2-Grant Budget'!EE122=\"\",\"\",'2-Grant Budget'!EE122)","v":""}]
[null,{"$f":"IF('2-Grant Budget'!EC123=\"\",\"\",RIGHT('2-Grant Budget'!DW123,2))","v":""},{"$f":"IF(G145=\"\",\"\",IF(RIGHT(F145,4)=\"8000\",VLOOKUP('1-Award Info'!$G$19,Tables!Q:R,2,0)&\"08008000\",VLOOKUP('1-Award Info'!$G$19,Tables!Q:R,2,0)&RIGHT(F145,8)))","v":""},"","",{"$f":"IF('2-Grant Budget'!$EC123=\"\",\"\",'2-Grant Budget'!DX123)","v":""},{"$f":"IF('2-Grant Budget'!$EC123=\"\",\"\",'2-Grant Budget'!DY123)","v":""},null,{"$f":"IF('2-Grant Budget'!$EC123=\"\",\"\",\"FY\"&RIGHT('2-Grant Budget'!EA123,2))","v":""},null,{"$f":"IF('2-Grant Budget'!EC123=\"\",\"\",'2-Grant Budget'!EC123)","v":""},{"$f":"IF('2-Grant Budget'!EE123=\"\",\"\",'2-Grant Budget'!EE123)","v":""}]
[null,{"$f":"IF('2-Grant Budget'!EC124=\"\",\"\",RIGHT('2-Grant Budget'!DW124,2))","v":""},{"$f":"IF(G146=\"\",\"\",IF(RIGHT(F146,4)=\"8000\",VLOOKUP('1-Award Info'!$G$19,Tables!Q:R,2,0)&\"08008000\",VLOOKUP('1-Award Info'!$G$19,Tables!Q:R,2,0)&RIGHT(F146,8)))","v":""},"","",{"$f":"IF('2-Grant Budget'!$EC124=\"\",\"\",'2-Grant Budget'!DX124)","v":""},{"$f":"IF('2-Grant Budget'!$EC124=\"\",\"\",'2-Grant Budget'!DY124)","v":""},null,{"$f":"IF('2-Grant Budget'!$EC124=\"\",\"\",\"FY\"&RIGHT('2-Grant Budget'!EA124,2))","v":""},null,{"$f":"IF('2-Grant Budget'!EC124=\"\",\"\",'2-Grant Budget'!EC124)","v":""},{"$f":"IF('2-Grant Budget'!EE124=\"\",\"\",'2-Grant Budget'!EE124)","v":""}]
[null,{"$f":"IF('2-Grant Budget'!EC125=\"\",\"\",RIGHT('2-Grant Budget'!DW125,2))","v":""},{"$f":"IF(G147=\"\",\"\",IF(RIGHT(F147,4)=\"8000\",VLOOKUP('1-Award Info'!$G$19,Tables!Q:R,2,0)&\"08008000\",VLOOKUP('1-Award Info'!$G$19,Tables!Q:R,2,0)&RIGHT(F147,8)))","v":""},"","",{"$f":"IF('2-Grant Budget'!$EC125=\"\",\"\",'2-Grant Budget'!DX125)","v":""},{"$f":"IF('2-Grant Budget'!$EC125=\"\",\"\",'2-Grant Budget'!DY125)","v":""},null,{"$f":"IF('2-Grant Budget'!$EC125=\"\",\"\",\"FY\"&RIGHT('2-Grant Budget'!EA125,2))","v":""},null,{"$f":"IF('2-Grant Budget'!EC125=\"\",\"\",'2-Grant Budget'!EC125)","v":""},{"$f":"IF('2-Grant Budget'!EE125=\"\",\"\",'2-Grant Budget'!EE125)","v":""}]
[null,{"$f":"IF('2-Grant Budget'!EC126=\"\",\"\",RIGHT('2-Grant Budget'!DW126,2))","v":""},{"$f":"IF(G148=\"\",\"\",IF(RIGHT(F148,4)=\"8000\",VLOOKUP('1-Award Info'!$G$19,Tables!Q:R,2,0)&\"08008000\",VLOOKUP('1-Award Info'!$G$19,Tables!Q:R,2,0)&RIGHT(F148,8)))","v":""},"","",{"$f":"IF('2-Grant Budget'!$EC126=\"\",\"\",'2-Grant Budget'!DX126)","v":""},{"$f":"IF('2-Grant Budget'!$EC126=\"\",\"\",'2-Grant Budget'!DY126)","v":""},null,{"$f":"IF('2-Grant Budget'!$EC126=\"\",\"\",\"FY\"&RIGHT('2-Grant Budget'!EA126,2))","v":""},null,{"$f":"IF('2-Grant Budget'!EC126=\"\",\"\",'2-Grant Budget'!EC126)","v":""},{"$f":"IF('2-Grant Budget'!EE126=\"\",\"\",'2-Grant Budget'!EE126)","v":""}]
[null,{"$f":"IF('2-Grant Budget'!EC127=\"\",\"\",RIGHT('2-Grant Budget'!DW127,2))","v":""},{"$f":"IF(G149=\"\",\"\",IF(RIGHT(F149,4)=\"8000\",VLOOKUP('1-Award Info'!$G$19,Tables!Q:R,2,0)&\"08008000\",VLOOKUP('1-Award Info'!$G$19,Tables!Q:R,2,0)&RIGHT(F149,8)))","v":""},"","",{"$f":"IF('2-Grant Budget'!$EC127=\"\",\"\",'2-Grant Budget'!DX127)","v":""},{"$f":"IF('2-Grant Budget'!$EC127=\"\",\"\",'2-Grant Budget'!DY127)","v":""},null,{"$f":"IF('2-Grant Budget'!$EC127=\"\",\"\",\"FY\"&RIGHT('2-Grant Budget'!EA127,2))","v":""},null,{"$f":"IF('2-Grant Budget'!EC127=\"\",\"\",'2-Grant Budget'!EC127)","v":""},{"$f":"IF('2-Grant Budget'!EE127=\"\",\"\",'2-Grant Budget'!EE127)","v":""}]
[null,{"$f":"IF('2-Grant Budget'!EC128=\"\",\"\",RIGHT('2-Grant Budget'!DW128,2))","v":""},{"$f":"IF(G150=\"\",\"\",IF(RIGHT(F150,4)=\"8000\",VLOOKUP('1-Award Info'!$G$19,Tables!Q:R,2,0)&\"08008000\",VLOOKUP('1-Award Info'!$G$19,Tables!Q:R,2,0)&RIGHT(F150,8)))","v":""},"","",{"$f":"IF('2-Grant Budget'!$EC128=\"\",\"\",'2-Grant Budget'!DX128)","v":""},{"$f":"IF('2-Grant Budget'!$EC128=\"\",\"\",'2-Grant Budget'!DY128)","v":""},null,{"$f":"IF('2-Grant Budget'!$EC128=\"\",\"\",\"FY\"&RIGHT('2-Grant Budget'!EA128,2))","v":""},null,{"$f":"IF('2-Grant Budget'!EC128=\"\",\"\",'2-Grant Budget'!EC128)","v":""},{"$f":"IF('2-Grant Budget'!EE128=\"\",\"\",'2-Grant Budget'!EE128)","v":""}]
[null,{"$f":"IF('2-Grant Budget'!EC129=\"\",\"\",RIGHT('2-Grant Budget'!DW129,2))","v":""},{"$f":"IF(G151=\"\",\"\",IF(RIGHT(F151,4)=\"8000\",VLOOKUP('1-Award Info'!$G$19,Tables!Q:R,2,0)&\"08008000\",VLOOKUP('1-Award Info'!$G$19,Tables!Q:R,2,0)&RIGHT(F151,8)))","v":""},"","",{"$f":"IF('2-Grant Budget'!$EC129=\"\",\"\",'2-Grant Budget'!DX129)","v":""},{"$f":"IF('2-Grant Budget'!$EC129=\"\",\"\",'2-Grant Budget'!DY129)","v":""},null,{"$f":"IF('2-Grant Budget'!$EC129=\"\",\"\",\"FY\"&RIGHT('2-Grant Budget'!EA129,2))","v":""},null,{"$f":"IF('2-Grant Budget'!EC129=\"\",\"\",'2-Grant Budget'!EC129)","v":""},{"$f":"IF('2-Grant Budget'!EE129=\"\",\"\",'2-Grant Budget'!EE129)","v":""}]
[null,{"$f":"IF('2-Grant Budget'!EC130=\"\",\"\",RIGHT('2-Grant Budget'!DW130,2))","v":""},{"$f":"IF(G152=\"\",\"\",IF(RIGHT(F152,4)=\"8000\",VLOOKUP('1-Award Info'!$G$19,Tables!Q:R,2,0)&\"08008000\",VLOOKUP('1-Award Info'!$G$19,Tables!Q:R,2,0)&RIGHT(F152,8)))","v":""},"","",{"$f":"IF('2-Grant Budget'!$EC130=\"\",\"\",'2-Grant Budget'!DX130)","v":""},{"$f":"IF('2-Grant Budget'!$EC130=\"\",\"\",'2-Grant Budget'!DY130)","v":""},null,{"$f":"IF('2-Grant Budget'!$EC130=\"\",\"\",\"FY\"&RIGHT('2-Grant Budget'!EA130,2))","v":""},null,{"$f":"IF('2-Grant Budget'!EC130=\"\",\"\",'2-Grant Budget'!EC130)","v":""},{"$f":"IF('2-Grant Budget'!EE130=\"\",\"\",'2-Grant Budget'!EE130)","v":""}]
[null,{"$f":"IF('2-Grant Budget'!EC131=\"\",\"\",RIGHT('2-Grant Budget'!DW131,2))","v":""},{"$f":"IF(G153=\"\",\"\",IF(RIGHT(F153,4)=\"8000\",VLOOKUP('1-Award Info'!$G$19,Tables!Q:R,2,0)&\"08008000\",VLOOKUP('1-Award Info'!$G$19,Tables!Q:R,2,0)&RIGHT(F153,8)))","v":""},"","",{"$f":"IF('2-Grant Budget'!$EC131=\"\",\"\",'2-Grant Budget'!DX131)","v":""},{"$f":"IF('2-Grant Budget'!$EC131=\"\",\"\",'2-Grant Budget'!DY131)","v":""},null,{"$f":"IF('2-Grant Budget'!$EC131=\"\",\"\",\"FY\"&RIGHT('2-Grant Budget'!EA131,2))","v":""},null,{"$f":"IF('2-Grant Budget'!EC131=\"\",\"\",'2-Grant Budget'!EC131)","v":""},{"$f":"IF('2-Grant Budget'!EE131=\"\",\"\",'2-Grant Budget'!EE131)","v":""}]
[null,{"$f":"IF('2-Grant Budget'!EC132=\"\",\"\",RIGHT('2-Grant Budget'!DW132,2))","v":""},{"$f":"IF(G154=\"\",\"\",IF(RIGHT(F154,4)=\"8000\",VLOOKUP('1-Award Info'!$G$19,Tables!Q:R,2,0)&\"08008000\",VLOOKUP('1-Award Info'!$G$19,Tables!Q:R,2,0)&RIGHT(F154,8)))","v":""},"","",{"$f":"IF('2-Grant Budget'!$EC132=\"\",\"\",'2-Grant Budget'!DX132)","v":""},{"$f":"IF('2-Grant Budget'!$EC132=\"\",\"\",'2-Grant Budget'!DY132)","v":""},null,{"$f":"IF('2-Grant Budget'!$EC132=\"\",\"\",\"FY\"&RIGHT('2-Grant Budget'!EA132,2))","v":""},null,{"$f":"IF('2-Grant Budget'!EC132=\"\",\"\",'2-Grant Budget'!EC132)","v":""},{"$f":"IF('2-Grant Budget'!EE132=\"\",\"\",'2-Grant Budget'!EE132)","v":""}]
[null,{"$f":"IF('2-Grant Budget'!EC133=\"\",\"\",RIGHT('2-Grant Budget'!DW133,2))","v":""},{"$f":"IF(G155=\"\",\"\",IF(RIGHT(F155,4)=\"8000\",VLOOKUP('1-Award Info'!$G$19,Tables!Q:R,2,0)&\"08008000\",VLOOKUP('1-Award Info'!$G$19,Tables!Q:R,2,0)&RIGHT(F155,8)))","v":""},"","",{"$f":"IF('2-Grant Budget'!$EC133=\"\",\"\",'2-Grant Budget'!DX133)","v":""},{"$f":"IF('2-Grant Budget'!$EC133=\"\",\"\",'2-Grant Budget'!DY133)","v":""},null,{"$f":"IF('2-Grant Budget'!$EC133=\"\",\"\",\"FY\"&RIGHT('2-Grant Budget'!EA133,2))","v":""},null,{"$f":"IF('2-Grant Budget'!EC133=\"\",\"\",'2-Grant Budget'!EC133)","v":""},{"$f":"IF('2-Grant Budget'!EE133=\"\",\"\",'2-Grant Budget'!EE133)","v":""}]
[null,{"$f":"IF('2-Grant Budget'!EC134=\"\",\"\",RIGHT('2-Grant Budget'!DW134,2))","v":""},{"$f":"IF(G156=\"\",\"\",IF(RIGHT(F156,4)=\"8000\",VLOOKUP('1-Award Info'!$G$19,Tables!Q:R,2,0)&\"08008000\",VLOOKUP('1-Award Info'!$G$19,Tables!Q:R,2,0)&RIGHT(F156,8)))","v":""},"","",{"$f":"IF('2-Grant Budget'!$EC134=\"\",\"\",'2-Grant Budget'!DX134)","v":""},{"$f":"IF('2-Grant Budget'!$EC134=\"\",\"\",'2-Grant Budget'!DY134)","v":""},null,{"$f":"IF('2-Grant Budget'!$EC134=\"\",\"\",\"FY\"&RIGHT('2-Grant Budget'!EA134,2))","v":""},null,{"$f":"IF('2-Grant Budget'!EC134=\"\",\"\",'2-Grant Budget'!EC134)","v":""},{"$f":"IF('2-Grant Budget'!EE134=\"\",\"\",'2-Grant Budget'!EE134)","v":""}]
[null,{"$f":"IF('2-Grant Budget'!EC135=\"\",\"\",RIGHT('2-Grant Budget'!DW135,2))","v":""},{"$f":"IF(G157=\"\",\"\",IF(RIGHT(F157,4)=\"8000\",VLOOKUP('1-Award Info'!$G$19,Tables!Q:R,2,0)&\"08008000\",VLOOKUP('1-Award Info'!$G$19,Tables!Q:R,2,0)&RIGHT(F157,8)))","v":""},"","",{"$f":"IF('2-Grant Budget'!$EC135=\"\",\"\",'2-Grant Budget'!DX135)","v":""},{"$f":"IF('2-Grant Budget'!$EC135=\"\",\"\",'2-Grant Budget'!DY135)","v":""},null,{"$f":"IF('2-Grant Budget'!$EC135=\"\",\"\",\"FY\"&RIGHT('2-Grant Budget'!EA135,2))","v":""},null,{"$f":"IF('2-Grant Budget'!EC135=\"\",\"\",'2-Grant Budget'!EC135)","v":""},{"$f":"IF('2-Grant Budget'!EE135=\"\",\"\",'2-Grant Budget'!EE135)","v":""}]
[null,{"$f":"IF('2-Grant Budget'!EC136=\"\",\"\",RIGHT('2-Grant Budget'!DW136,2))","v":""},{"$f":"IF(G158=\"\",\"\",IF(RIGHT(F158,4)=\"8000\",VLOOKUP('1-Award Info'!$G$19,Tables!Q:R,2,0)&\"08008000\",VLOOKUP('1-Award Info'!$G$19,Tables!Q:R,2,0)&RIGHT(F158,8)))","v":""},"","",{"$f":"IF('2-Grant Budget'!$EC136=\"\",\"\",'2-Grant Budget'!DX136)","v":""},{"$f":"IF('2-Grant Budget'!$EC136=\"\",\"\",'2-Grant Budget'!DY136)","v":""},null,{"$f":"IF('2-Grant Budget'!$EC136=\"\",\"\",\"FY\"&RIGHT('2-Grant Budget'!EA136,2))","v":""},null,{"$f":"IF('2-Grant Budget'!EC136=\"\",\"\",'2-Grant Budget'!EC136)","v":""},{"$f":"IF('2-Grant Budget'!EE136=\"\",\"\",'2-Grant Budget'!EE136)","v":""}]
[null,{"$f":"IF('2-Grant Budget'!EC137=\"\",\"\",RIGHT('2-Grant Budget'!DW137,2))","v":""},{"$f":"IF(G159=\"\",\"\",IF(RIGHT(F159,4)=\"8000\",VLOOKUP('1-Award Info'!$G$19,Tables!Q:R,2,0)&\"08008000\",VLOOKUP('1-Award Info'!$G$19,Tables!Q:R,2,0)&RIGHT(F159,8)))","v":""},"","",{"$f":"IF('2-Grant Budget'!$EC137=\"\",\"\",'2-Grant Budget'!DX137)","v":""},{"$f":"IF('2-Grant Budget'!$EC137=\"\",\"\",'2-Grant Budget'!DY137)","v":""},null,{"$f":"IF('2-Grant Budget'!$EC137=\"\",\"\",\"FY\"&RIGHT('2-Grant Budget'!EA137,2))","v":""},null,{"$f":"IF('2-Grant Budget'!EC137=\"\",\"\",'2-Grant Budget'!EC137)","v":""},{"$f":"IF('2-Grant Budget'!EE137=\"\",\"\",'2-Grant Budget'!EE137)","v":""}]
[null,{"$f":"IF('2-Grant Budget'!EC138=\"\",\"\",RIGHT('2-Grant Budget'!DW138,2))","v":""},{"$f":"IF(G160=\"\",\"\",IF(RIGHT(F160,4)=\"8000\",VLOOKUP('1-Award Info'!$G$19,Tables!Q:R,2,0)&\"08008000\",VLOOKUP('1-Award Info'!$G$19,Tables!Q:R,2,0)&RIGHT(F160,8)))","v":""},"","",{"$f":"IF('2-Grant Budget'!$EC138=\"\",\"\",'2-Grant Budget'!DX138)","v":""},{"$f":"IF('2-Grant Budget'!$EC138=\"\",\"\",'2-Grant Budget'!DY138)","v":""},null,{"$f":"IF('2-Grant Budget'!$EC138=\"\",\"\",\"FY\"&RIGHT('2-Grant Budget'!EA138,2))","v":""},null,{"$f":"IF('2-Grant Budget'!EC138=\"\",\"\",'2-Grant Budget'!EC138)","v":""},{"$f":"IF('2-Grant Budget'!EE138=\"\",\"\",'2-Grant Budget'!EE138)","v":""}]
[null,{"$f":"IF('2-Grant Budget'!EC139=\"\",\"\",RIGHT('2-Grant Budget'!DW139,2))","v":""},{"$f":"IF(G161=\"\",\"\",IF(RIGHT(F161,4)=\"8000\",VLOOKUP('1-Award Info'!$G$19,Tables!Q:R,2,0)&\"08008000\",VLOOKUP('1-Award Info'!$G$19,Tables!Q:R,2,0)&RIGHT(F161,8)))","v":""},"","",{"$f":"IF('2-Grant Budget'!$EC139=\"\",\"\",'2-Grant Budget'!DX139)","v":""},{"$f":"IF('2-Grant Budget'!$EC139=\"\",\"\",'2-Grant Budget'!DY139)","v":""},null,{"$f":"IF('2-Grant Budget'!$EC139=\"\",\"\",\"FY\"&RIGHT('2-Grant Budget'!EA139,2))","v":""},null,{"$f":"IF('2-Grant Budget'!EC139=\"\",\"\",'2-Grant Budget'!EC139)","v":""},{"$f":"IF('2-Grant Budget'!EE139=\"\",\"\",'2-Grant Budget'!EE139)","v":""}]
[null,{"$f":"IF('2-Grant Budget'!EC140=\"\",\"\",RIGHT('2-Grant Budget'!DW140,2))","v":""},{"$f":"IF(G162=\"\",\"\",IF(RIGHT(F162,4)=\"8000\",VLOOKUP('1-Award Info'!$G$19,Tables!Q:R,2,0)&\"08008000\",VLOOKUP('1-Award Info'!$G$19,Tables!Q:R,2,0)&RIGHT(F162,8)))","v":""},"","",{"$f":"IF('2-Grant Budget'!$EC140=\"\",\"\",'2-Grant Budget'!DX140)","v":""},{"$f":"IF('2-Grant Budget'!$EC140=\"\",\"\",'2-Grant Budget'!DY140)","v":""},null,{"$f":"IF('2-Grant Budget'!$EC140=\"\",\"\",\"FY\"&RIGHT('2-Grant Budget'!EA140,2))","v":""},null,{"$f":"IF('2-Grant Budget'!EC140=\"\",\"\",'2-Grant Budget'!EC140)","v":""},{"$f":"IF('2-Grant Budget'!EE140=\"\",\"\",'2-Grant Budget'!EE140)","v":""}]
[null,{"$f":"IF('2-Grant Budget'!EC141=\"\",\"\",RIGHT('2-Grant Budget'!DW141,2))","v":""},{"$f":"IF(G163=\"\",\"\",IF(RIGHT(F163,4)=\"8000\",VLOOKUP('1-Award Info'!$G$19,Tables!Q:R,2,0)&\"08008000\",VLOOKUP('1-Award Info'!$G$19,Tables!Q:R,2,0)&RIGHT(F163,8)))","v":""},"","",{"$f":"IF('2-Grant Budget'!$EC141=\"\",\"\",'2-Grant Budget'!DX141)","v":""},{"$f":"IF('2-Grant Budget'!$EC141=\"\",\"\",'2-Grant Budget'!DY141)","v":""},null,{"$f":"IF('2-Grant Budget'!$EC141=\"\",\"\",\"FY\"&RIGHT('2-Grant Budget'!EA141,2))","v":""},null,{"$f":"IF('2-Grant Budget'!EC141=\"\",\"\",'2-Grant Budget'!EC141)","v":""},{"$f":"IF('2-Grant Budget'!EE141=\"\",\"\",'2-Grant Budget'!EE141)","v":""}]
[null,{"$f":"IF('2-Grant Budget'!EC142=\"\",\"\",RIGHT('2-Grant Budget'!DW142,2))","v":""},{"$f":"IF(G164=\"\",\"\",IF(RIGHT(F164,4)=\"8000\",VLOOKUP('1-Award Info'!$G$19,Tables!Q:R,2,0)&\"08008000\",VLOOKUP('1-Award Info'!$G$19,Tables!Q:R,2,0)&RIGHT(F164,8)))","v":""},"","",{"$f":"IF('2-Grant Budget'!$EC142=\"\",\"\",'2-Grant Budget'!DX142)","v":""},{"$f":"IF('2-Grant Budget'!$EC142=\"\",\"\",'2-Grant Budget'!DY142)","v":""},null,{"$f":"IF('2-Grant Budget'!$EC142=\"\",\"\",\"FY\"&RIGHT('2-Grant Budget'!EA142,2))","v":""},null,{"$f":"IF('2-Grant Budget'!EC142=\"\",\"\",'2-Grant Budget'!EC142)","v":""},{"$f":"IF('2-Grant Budget'!EE142=\"\",\"\",'2-Grant Budget'!EE142)","v":""}]
[null,{"$f":"IF('2-Grant Budget'!EC143=\"\",\"\",RIGHT('2-Grant Budget'!DW143,2))","v":""},{"$f":"IF(G165=\"\",\"\",IF(RIGHT(F165,4)=\"8000\",VLOOKUP('1-Award Info'!$G$19,Tables!Q:R,2,0)&\"08008000\",VLOOKUP('1-Award Info'!$G$19,Tables!Q:R,2,0)&RIGHT(F165,8)))","v":""},"","",{"$f":"IF('2-Grant Budget'!$EC143=\"\",\"\",'2-Grant Budget'!DX143)","v":""},{"$f":"IF('2-Grant Budget'!$EC143=\"\",\"\",'2-Grant Budget'!DY143)","v":""},null,{"$f":"IF('2-Grant Budget'!$EC143=\"\",\"\",\"FY\"&RIGHT('2-Grant Budget'!EA143,2))","v":""},null,{"$f":"IF('2-Grant Budget'!EC143=\"\",\"\",'2-Grant Budget'!EC143)","v":""},{"$f":"IF('2-Grant Budget'!EE143=\"\",\"\",'2-Grant Budget'!EE143)","v":""}]
[null,{"$f":"IF('2-Grant Budget'!EC144=\"\",\"\",RIGHT('2-Grant Budget'!DW144,2))","v":""},{"$f":"IF(G166=\"\",\"\",IF(RIGHT(F166,4)=\"8000\",VLOOKUP('1-Award Info'!$G$19,Tables!Q:R,2,0)&\"08008000\",VLOOKUP('1-Award Info'!$G$19,Tables!Q:R,2,0)&RIGHT(F166,8)))","v":""},"","",{"$f":"IF('2-Grant Budget'!$EC144=\"\",\"\",'2-Grant Budget'!DX144)","v":""},{"$f":"IF('2-Grant Budget'!$EC144=\"\",\"\",'2-Grant Budget'!DY144)","v":""},null,{"$f":"IF('2-Grant Budget'!$EC144=\"\",\"\",\"FY\"&RIGHT('2-Grant Budget'!EA144,2))","v":""},null,{"$f":"IF('2-Grant Budget'!EC144=\"\",\"\",'2-Grant Budget'!EC144)","v":""},{"$f":"IF('2-Grant Budget'!EE144=\"\",\"\",'2-Grant Budget'!EE144)","v":""}]
[null,{"$f":"IF('2-Grant Budget'!EC145=\"\",\"\",RIGHT('2-Grant Budget'!DW145,2))","v":""},{"$f":"IF(G167=\"\",\"\",IF(RIGHT(F167,4)=\"8000\",VLOOKUP('1-Award Info'!$G$19,Tables!Q:R,2,0)&\"08008000\",VLOOKUP('1-Award Info'!$G$19,Tables!Q:R,2,0)&RIGHT(F167,8)))","v":""},"","",{"$f":"IF('2-Grant Budget'!$EC145=\"\",\"\",'2-Grant Budget'!DX145)","v":""},{"$f":"IF('2-Grant Budget'!$EC145=\"\",\"\",'2-Grant Budget'!DY145)","v":""},null,{"$f":"IF('2-Grant Budget'!$EC145=\"\",\"\",\"FY\"&RIGHT('2-Grant Budget'!EA145,2))","v":""},null,{"$f":"IF('2-Grant Budget'!EC145=\"\",\"\",'2-Grant Budget'!EC145)","v":""},{"$f":"IF('2-Grant Budget'!EE145=\"\",\"\",'2-Grant Budget'!EE145)","v":""}]
[null,{"$f":"IF('2-Grant Budget'!EC146=\"\",\"\",RIGHT('2-Grant Budget'!DW146,2))","v":""},{"$f":"IF(G168=\"\",\"\",IF(RIGHT(F168,4)=\"8000\",VLOOKUP('1-Award Info'!$G$19,Tables!Q:R,2,0)&\"08008000\",VLOOKUP('1-Award Info'!$G$19,Tables!Q:R,2,0)&RIGHT(F168,8)))","v":""},{"$f":"IF(G168=\"\",\"\",IF(LEFT(G168)<>\"9\",LEFT(G168,4),9&RIGHT(G168,3)))","v":""},{"$f":"IF(G168=\"\",\"\",IF(LEFT(G168,1)<>\"9\",0,MID(G168,2,1)))","v":""},{"$f":"IF('2-Grant Budget'!$EC146=\"\",\"\",'2-Grant Budget'!DX146)","v":""},{"$f":"IF('2-Grant Budget'!$EC146=\"\",\"\",'2-Grant Budget'!DY146)","v":""},null,{"$f":"IF('2-Grant Budget'!$EC146=\"\",\"\",\"FY\"&RIGHT('2-Grant Budget'!EA146,2))","v":""},null,{"$f":"IF('2-Grant Budget'!EC146=\"\",\"\",'2-Grant Budget'!EC146)","v":""},{"$f":"IF('2-Grant Budget'!EE146=\"\",\"\",'2-Grant Budget'!EE146)","v":""}]
[null,{"$f":"IF('2-Grant Budget'!EC147=\"\",\"\",RIGHT('2-Grant Budget'!DW147,2))","v":""},{"$f":"IF(G169=\"\",\"\",IF(RIGHT(F169,4)=\"8000\",VLOOKUP('1-Award Info'!$G$19,Tables!Q:R,2,0)&\"08008000\",VLOOKUP('1-Award Info'!$G$19,Tables!Q:R,2,0)&RIGHT(F169,8)))","v":""},"","",{"$f":"IF('2-Grant Budget'!$EC147=\"\",\"\",'2-Grant Budget'!DX147)","v":""},{"$f":"IF('2-Grant Budget'!$EC147=\"\",\"\",'2-Grant Budget'!DY147)","v":""},null,{"$f":"IF('2-Grant Budget'!$EC147=\"\",\"\",\"FY\"&RIGHT('2-Grant Budget'!EA147,2))","v":""},null,{"$f":"IF('2-Grant Budget'!EC147=\"\",\"\",'2-Grant Budget'!EC147)","v":""},{"$f":"IF('2-Grant Budget'!EE147=\"\",\"\",'2-Grant Budget'!EE147)","v":""}]
[null,{"$f":"IF('2-Grant Budget'!EC148=\"\",\"\",RIGHT('2-Grant Budget'!DW148,2))","v":""},{"$f":"IF(G170=\"\",\"\",IF(RIGHT(F170,4)=\"8000\",VLOOKUP('1-Award Info'!$G$19,Tables!Q:R,2,0)&\"08008000\",VLOOKUP('1-Award Info'!$G$19,Tables!Q:R,2,0)&RIGHT(F170,8)))","v":""},"","",{"$f":"IF('2-Grant Budget'!$EC148=\"\",\"\",'2-Grant Budget'!DX148)","v":""},{"$f":"IF('2-Grant Budget'!$EC148=\"\",\"\",'2-Grant Budget'!DY148)","v":""},null,{"$f":"IF('2-Grant Budget'!$EC148=\"\",\"\",\"FY\"&RIGHT('2-Grant Budget'!EA148,2))","v":""},null,{"$f":"IF('2-Grant Budget'!EC148=\"\",\"\",'2-Grant Budget'!EC148)","v":""},{"$f":"IF('2-Grant Budget'!EE148=\"\",\"\",'2-Grant Budget'!EE148)","v":""}]
[null,{"$f":"IF('2-Grant Budget'!EC149=\"\",\"\",RIGHT('2-Grant Budget'!DW149,2))","v":""},{"$f":"IF(G171=\"\",\"\",IF(RIGHT(F171,4)=\"8000\",VLOOKUP('1-Award Info'!$G$19,Tables!Q:R,2,0)&\"08008000\",VLOOKUP('1-Award Info'!$G$19,Tables!Q:R,2,0)&RIGHT(F171,8)))","v":""},"","",{"$f":"IF('2-Grant Budget'!$EC149=\"\",\"\",'2-Grant Budget'!DX149)","v":""},{"$f":"IF('2-Grant Budget'!$EC149=\"\",\"\",'2-Grant Budget'!DY149)","v":""},null,{"$f":"IF('2-Grant Budget'!$EC149=\"\",\"\",\"FY\"&RIGHT('2-Grant Budget'!EA149,2))","v":""},null,{"$f":"IF('2-Grant Budget'!EC149=\"\",\"\",'2-Grant Budget'!EC149)","v":""},{"$f":"IF('2-Grant Budget'!EE149=\"\",\"\",'2-Grant Budget'!EE149)","v":""}]
[null,{"$f":"IF('2-Grant Budget'!EC150=\"\",\"\",RIGHT('2-Grant Budget'!DW150,2))","v":""},{"$f":"IF(G172=\"\",\"\",IF(RIGHT(F172,4)=\"8000\",VLOOKUP('1-Award Info'!$G$19,Tables!Q:R,2,0)&\"08008000\",VLOOKUP('1-Award Info'!$G$19,Tables!Q:R,2,0)&RIGHT(F172,8)))","v":""},"","",{"$f":"IF('2-Grant Budget'!$EC150=\"\",\"\",'2-Grant Budget'!DX150)","v":""},{"$f":"IF('2-Grant Budget'!$EC150=\"\",\"\",'2-Grant Budget'!DY150)","v":""},null,{"$f":"IF('2-Grant Budget'!$EC150=\"\",\"\",\"FY\"&RIGHT('2-Grant Budget'!EA150,2))","v":""},null,{"$f":"IF('2-Grant Budget'!EC150=\"\",\"\",'2-Grant Budget'!EC150)","v":""},{"$f":"IF('2-Grant Budget'!EE150=\"\",\"\",'2-Grant Budget'!EE150)","v":""}]
[null,{"$f":"IF('2-Grant Budget'!EC151=\"\",\"\",RIGHT('2-Grant Budget'!DW151,2))","v":""},{"$f":"IF(G173=\"\",\"\",IF(RIGHT(F173,4)=\"8000\",VLOOKUP('1-Award Info'!$G$19,Tables!Q:R,2,0)&\"08008000\",VLOOKUP('1-Award Info'!$G$19,Tables!Q:R,2,0)&RIGHT(F173,8)))","v":""},"","",{"$f":"IF('2-Grant Budget'!$EC151=\"\",\"\",'2-Grant Budget'!DX151)","v":""},{"$f":"IF('2-Grant Budget'!$EC151=\"\",\"\",'2-Grant Budget'!DY151)","v":""},null,{"$f":"IF('2-Grant Budget'!$EC151=\"\",\"\",\"FY\"&RIGHT('2-Grant Budget'!EA151,2))","v":""},null,{"$f":"IF('2-Grant Budget'!EC151=\"\",\"\",'2-Grant Budget'!EC151)","v":""},{"$f":"IF('2-Grant Budget'!EE151=\"\",\"\",'2-Grant Budget'!EE151)","v":""}]
[null,{"$f":"IF('2-Grant Budget'!EC152=\"\",\"\",RIGHT('2-Grant Budget'!DW152,2))","v":""},{"$f":"IF(G174=\"\",\"\",IF(RIGHT(F174,4)=\"8000\",VLOOKUP('1-Award Info'!$G$19,Tables!Q:R,2,0)&\"08008000\",VLOOKUP('1-Award Info'!$G$19,Tables!Q:R,2,0)&RIGHT(F174,8)))","v":""},"","",{"$f":"IF('2-Grant Budget'!$EC152=\"\",\"\",'2-Grant Budget'!DX152)","v":""},{"$f":"IF('2-Grant Budget'!$EC152=\"\",\"\",'2-Grant Budget'!DY152)","v":""},null,{"$f":"IF('2-Grant Budget'!$EC152=\"\",\"\",\"FY\"&RIGHT('2-Grant Budget'!EA152,2))","v":""},null,{"$f":"IF('2-Grant Budget'!EC152=\"\",\"\",'2-Grant Budget'!EC152)","v":""},{"$f":"IF('2-Grant Budget'!EE152=\"\",\"\",'2-Grant Budget'!EE152)","v":""}]
[null,{"$f":"IF('2-Grant Budget'!EC153=\"\",\"\",RIGHT('2-Grant Budget'!DW153,2))","v":""},{"$f":"IF(G175=\"\",\"\",IF(RIGHT(F175,4)=\"8000\",VLOOKUP('1-Award Info'!$G$19,Tables!Q:R,2,0)&\"08008000\",VLOOKUP('1-Award Info'!$G$19,Tables!Q:R,2,0)&RIGHT(F175,8)))","v":""},"","",{"$f":"IF('2-Grant Budget'!$EC153=\"\",\"\",'2-Grant Budget'!DX153)","v":""},{"$f":"IF('2-Grant Budget'!$EC153=\"\",\"\",'2-Grant Budget'!DY153)","v":""},null,{"$f":"IF('2-Grant Budget'!$EC153=\"\",\"\",\"FY\"&RIGHT('2-Grant Budget'!EA153,2))","v":""},null,{"$f":"IF('2-Grant Budget'!EC153=\"\",\"\",'2-Grant Budget'!EC153)","v":""},{"$f":"IF('2-Grant Budget'!EE153=\"\",\"\",'2-Grant Budget'!EE153)","v":""}]
[null,{"$f":"IF('2-Grant Budget'!EC154=\"\",\"\",RIGHT('2-Grant Budget'!DW154,2))","v":""},{"$f":"IF(G176=\"\",\"\",IF(RIGHT(F176,4)=\"8000\",VLOOKUP('1-Award Info'!$G$19,Tables!Q:R,2,0)&\"08008000\",VLOOKUP('1-Award Info'!$G$19,Tables!Q:R,2,0)&RIGHT(F176,8)))","v":""},"","",{"$f":"IF('2-Grant Budget'!$EC154=\"\",\"\",'2-Grant Budget'!DX154)","v":""},{"$f":"IF('2-Grant Budget'!$EC154=\"\",\"\",'2-Grant Budget'!DY154)","v":""},null,{"$f":"IF('2-Grant Budget'!$EC154=\"\",\"\",\"FY\"&RIGHT('2-Grant Budget'!EA154,2))","v":""},null,{"$f":"IF('2-Grant Budget'!EC154=\"\",\"\",'2-Grant Budget'!EC154)","v":""},{"$f":"IF('2-Grant Budget'!EE154=\"\",\"\",'2-Grant Budget'!EE154)","v":""}]
[null,{"$f":"IF('2-Grant Budget'!EC155=\"\",\"\",RIGHT('2-Grant Budget'!DW155,2))","v":""},{"$f":"IF(G177=\"\",\"\",IF(RIGHT(F177,4)=\"8000\",VLOOKUP('1-Award Info'!$G$19,Tables!Q:R,2,0)&\"08008000\",VLOOKUP('1-Award Info'!$G$19,Tables!Q:R,2,0)&RIGHT(F177,8)))","v":""},"","",{"$f":"IF('2-Grant Budget'!$EC155=\"\",\"\",'2-Grant Budget'!DX155)","v":""},{"$f":"IF('2-Grant Budget'!$EC155=\"\",\"\",'2-Grant Budget'!DY155)","v":""},null,{"$f":"IF('2-Grant Budget'!$EC155=\"\",\"\",\"FY\"&RIGHT('2-Grant Budget'!EA155,2))","v":""},null,{"$f":"IF('2-Grant Budget'!EC155=\"\",\"\",'2-Grant Budget'!EC155)","v":""},{"$f":"IF('2-Grant Budget'!EE155=\"\",\"\",'2-Grant Budget'!EE155)","v":""}]
[null,{"$f":"IF('2-Grant Budget'!EC156=\"\",\"\",RIGHT('2-Grant Budget'!DW156,2))","v":""},{"$f":"IF(G178=\"\",\"\",IF(RIGHT(F178,4)=\"8000\",VLOOKUP('1-Award Info'!$G$19,Tables!Q:R,2,0)&\"08008000\",VLOOKUP('1-Award Info'!$G$19,Tables!Q:R,2,0)&RIGHT(F178,8)))","v":""},"","",{"$f":"IF('2-Grant Budget'!$EC156=\"\",\"\",'2-Grant Budget'!DX156)","v":""},{"$f":"IF('2-Grant Budget'!$EC156=\"\",\"\",'2-Grant Budget'!DY156)","v":""},null,{"$f":"IF('2-Grant Budget'!$EC156=\"\",\"\",\"FY\"&RIGHT('2-Grant Budget'!EA156,2))","v":""},null,{"$f":"IF('2-Grant Budget'!EC156=\"\",\"\",'2-Grant Budget'!EC156)","v":""},{"$f":"IF('2-Grant Budget'!EE156=\"\",\"\",'2-Grant Budget'!EE156)","v":""}]
[null,{"$f":"IF('2-Grant Budget'!EC157=\"\",\"\",RIGHT('2-Grant Budget'!DW157,2))","v":""},{"$f":"IF(G179=\"\",\"\",IF(RIGHT(F179,4)=\"8000\",VLOOKUP('1-Award Info'!$G$19,Tables!Q:R,2,0)&\"08008000\",VLOOKUP('1-Award Info'!$G$19,Tables!Q:R,2,0)&RIGHT(F179,8)))","v":""},"","",{"$f":"IF('2-Grant Budget'!$EC157=\"\",\"\",'2-Grant Budget'!DX157)","v":""},{"$f":"IF('2-Grant Budget'!$EC157=\"\",\"\",'2-Grant Budget'!DY157)","v":""},null,{"$f":"IF('2-Grant Budget'!$EC157=\"\",\"\",\"FY\"&RIGHT('2-Grant Budget'!EA157,2))","v":""},null,{"$f":"IF('2-Grant Budget'!EC157=\"\",\"\",'2-Grant Budget'!EC157)","v":""},{"$f":"IF('2-Grant Budget'!EE157=\"\",\"\",'2-Grant Budget'!EE157)","v":""}]
[null,{"$f":"IF('2-Grant Budget'!EC158=\"\",\"\",RIGHT('2-Grant Budget'!DW158,2))","v":""},{"$f":"IF(G180=\"\",\"\",IF(RIGHT(F180,4)=\"8000\",VLOOKUP('1-Award Info'!$G$19,Tables!Q:R,2,0)&\"08008000\",VLOOKUP('1-Award Info'!$G$19,Tables!Q:R,2,0)&RIGHT(F180,8)))","v":""},"","",{"$f":"IF('2-Grant Budget'!$EC158=\"\",\"\",'2-Grant Budget'!DX158)","v":""},{"$f":"IF('2-Grant Budget'!$EC158=\"\",\"\",'2-Grant Budget'!DY158)","v":""},null,{"$f":"IF('2-Grant Budget'!$EC158=\"\",\"\",\"FY\"&RIGHT('2-Grant Budget'!EA158,2))","v":""},null,{"$f":"IF('2-Grant Budget'!EC158=\"\",\"\",'2-Grant Budget'!EC158)","v":""},{"$f":"IF('2-Grant Budget'!EE158=\"\",\"\",'2-Grant Budget'!EE158)","v":""}]
[null,{"$f":"IF('2-Grant Budget'!EC159=\"\",\"\",RIGHT('2-Grant Budget'!DW159,2))","v":""},{"$f":"IF(G181=\"\",\"\",IF(RIGHT(F181,4)=\"8000\",VLOOKUP('1-Award Info'!$G$19,Tables!Q:R,2,0)&\"08008000\",VLOOKUP('1-Award Info'!$G$19,Tables!Q:R,2,0)&RIGHT(F181,8)))","v":""},"","",{"$f":"IF('2-Grant Budget'!$EC159=\"\",\"\",'2-Grant Budget'!DX159)","v":""},{"$f":"IF('2-Grant Budget'!$EC159=\"\",\"\",'2-Grant Budget'!DY159)","v":""},null,{"$f":"IF('2-Grant Budget'!$EC159=\"\",\"\",\"FY\"&RIGHT('2-Grant Budget'!EA159,2))","v":""},null,{"$f":"IF('2-Grant Budget'!EC159=\"\",\"\",'2-Grant Budget'!EC159)","v":""},{"$f":"IF('2-Grant Budget'!EE159=\"\",\"\",'2-Grant Budget'!EE159)","v":""}]
[null,{"$f":"IF('2-Grant Budget'!EC160=\"\",\"\",RIGHT('2-Grant Budget'!DW160,2))","v":""},{"$f":"IF(G182=\"\",\"\",IF(RIGHT(F182,4)=\"8000\",VLOOKUP('1-Award Info'!$G$19,Tables!Q:R,2,0)&\"08008000\",VLOOKUP('1-Award Info'!$G$19,Tables!Q:R,2,0)&RIGHT(F182,8)))","v":""},"","",{"$f":"IF('2-Grant Budget'!$EC160=\"\",\"\",'2-Grant Budget'!DX160)","v":""},{"$f":"IF('2-Grant Budget'!$EC160=\"\",\"\",'2-Grant Budget'!DY160)","v":""},null,{"$f":"IF('2-Grant Budget'!$EC160=\"\",\"\",\"FY\"&RIGHT('2-Grant Budget'!EA160,2))","v":""},null,{"$f":"IF('2-Grant Budget'!EC160=\"\",\"\",'2-Grant Budget'!EC160)","v":""},{"$f":"IF('2-Grant Budget'!EE160=\"\",\"\",'2-Grant Budget'!EE160)","v":""}]
[null,{"$f":"IF('2-Grant Budget'!EC161=\"\",\"\",RIGHT('2-Grant Budget'!DW161,2))","v":""},{"$f":"IF(G183=\"\",\"\",IF(RIGHT(F183,4)=\"8000\",VLOOKUP('1-Award Info'!$G$19,Tables!Q:R,2,0)&\"08008000\",VLOOKUP('1-Award Info'!$G$19,Tables!Q:R,2,0)&RIGHT(F183,8)))","v":""},"","",{"$f":"IF('2-Grant Budget'!$EC161=\"\",\"\",'2-Grant Budget'!DX161)","v":""},{"$f":"IF('2-Grant Budget'!$EC161=\"\",\"\",'2-Grant Budget'!DY161)","v":""},null,{"$f":"IF('2-Grant Budget'!$EC161=\"\",\"\",\"FY\"&RIGHT('2-Grant Budget'!EA161,2))","v":""},null,{"$f":"IF('2-Grant Budget'!EC161=\"\",\"\",'2-Grant Budget'!EC161)","v":""},{"$f":"IF('2-Grant Budget'!EE161=\"\",\"\",'2-Grant Budget'!EE161)","v":""}]
[null,{"$f":"IF('2-Grant Budget'!EC162=\"\",\"\",RIGHT('2-Grant Budget'!DW162,2))","v":""},{"$f":"IF(G184=\"\",\"\",IF(RIGHT(F184,4)=\"8000\",VLOOKUP('1-Award Info'!$G$19,Tables!Q:R,2,0)&\"08008000\",VLOOKUP('1-Award Info'!$G$19,Tables!Q:R,2,0)&RIGHT(F184,8)))","v":""},"","",{"$f":"IF('2-Grant Budget'!$EC162=\"\",\"\",'2-Grant Budget'!DX162)","v":""},{"$f":"IF('2-Grant Budget'!$EC162=\"\",\"\",'2-Grant Budget'!DY162)","v":""},null,{"$f":"IF('2-Grant Budget'!$EC162=\"\",\"\",\"FY\"&RIGHT('2-Grant Budget'!EA162,2))","v":""},null,{"$f":"IF('2-Grant Budget'!EC162=\"\",\"\",'2-Grant Budget'!EC162)","v":""},{"$f":"IF('2-Grant Budget'!EE162=\"\",\"\",'2-Grant Budget'!EE162)","v":""}]
[null,{"$f":"IF('2-Grant Budget'!EC163=\"\",\"\",RIGHT('2-Grant Budget'!DW163,2))","v":""},{"$f":"IF(G185=\"\",\"\",IF(RIGHT(F185,4)=\"8000\",VLOOKUP('1-Award Info'!$G$19,Tables!Q:R,2,0)&\"08008000\",VLOOKUP('1-Award Info'!$G$19,Tables!Q:R,2,0)&RIGHT(F185,8)))","v":""},"","",{"$f":"IF('2-Grant Budget'!$EC163=\"\",\"\",'2-Grant Budget'!DX163)","v":""},{"$f":"IF('2-Grant Budget'!$EC163=\"\",\"\",'2-Grant Budget'!DY163)","v":""},null,{"$f":"IF('2-Grant Budget'!$EC163=\"\",\"\",\"FY\"&RIGHT('2-Grant Budget'!EA163,2))","v":""},null,{"$f":"IF('2-Grant Budget'!EC163=\"\",\"\",'2-Grant Budget'!EC163)","v":""},{"$f":"IF('2-Grant Budget'!EE163=\"\",\"\",'2-Grant Budget'!EE163)","v":""}]
[null,{"$f":"IF('2-Grant Budget'!EC164=\"\",\"\",RIGHT('2-Grant Budget'!DW164,2))","v":""},{"$f":"IF(G186=\"\",\"\",IF(RIGHT(F186,4)=\"8000\",VLOOKUP('1-Award Info'!$G$19,Tables!Q:R,2,0)&\"08008000\",VLOOKUP('1-Award Info'!$G$19,Tables!Q:R,2,0)&RIGHT(F186,8)))","v":""},"","",{"$f":"IF('2-Grant Budget'!$EC164=\"\",\"\",'2-Grant Budget'!DX164)","v":""},{"$f":"IF('2-Grant Budget'!$EC164=\"\",\"\",'2-Grant Budget'!DY164)","v":""},null,{"$f":"IF('2-Grant Budget'!$EC164=\"\",\"\",\"FY\"&RIGHT('2-Grant Budget'!EA164,2))","v":""},null,{"$f":"IF('2-Grant Budget'!EC164=\"\",\"\",'2-Grant Budget'!EC164)","v":""},{"$f":"IF('2-Grant Budget'!EE164=\"\",\"\",'2-Grant Budget'!EE164)","v":""}]
[null,{"$f":"IF('2-Grant Budget'!EC165=\"\",\"\",RIGHT('2-Grant Budget'!DW165,2))","v":""},{"$f":"IF(G187=\"\",\"\",IF(RIGHT(F187,4)=\"8000\",VLOOKUP('1-Award Info'!$G$19,Tables!Q:R,2,0)&\"08008000\",VLOOKUP('1-Award Info'!$G$19,Tables!Q:R,2,0)&RIGHT(F187,8)))","v":""},"","",{"$f":"IF('2-Grant Budget'!$EC165=\"\",\"\",'2-Grant Budget'!DX165)","v":""},{"$f":"IF('2-Grant Budget'!$EC165=\"\",\"\",'2-Grant Budget'!DY165)","v":""},null,{"$f":"IF('2-Grant Budget'!$EC165=\"\",\"\",\"FY\"&RIGHT('2-Grant Budget'!EA165,2))","v":""},null,{"$f":"IF('2-Grant Budget'!EC165=\"\",\"\",'2-Grant Budget'!EC165)","v":""},{"$f":"IF('2-Grant Budget'!EE165=\"\",\"\",'2-Grant Budget'!EE165)","v":""}]
[null,{"$f":"IF('2-Grant Budget'!EC166=\"\",\"\",RIGHT('2-Grant Budget'!DW166,2))","v":""},{"$f":"IF(G188=\"\",\"\",IF(RIGHT(F188,4)=\"8000\",VLOOKUP('1-Award Info'!$G$19,Tables!Q:R,2,0)&\"08008000\",VLOOKUP('1-Award Info'!$G$19,Tables!Q:R,2,0)&RIGHT(F188,8)))","v":""},"","",{"$f":"IF('2-Grant Budget'!$EC166=\"\",\"\",'2-Grant Budget'!DX166)","v":""},{"$f":"IF('2-Grant Budget'!$EC166=\"\",\"\",'2-Grant Budget'!DY166)","v":""},null,{"$f":"IF('2-Grant Budget'!$EC166=\"\",\"\",\"FY\"&RIGHT('2-Grant Budget'!EA166,2))","v":""},null,{"$f":"IF('2-Grant Budget'!EC166=\"\",\"\",'2-Grant Budget'!EC166)","v":""},{"$f":"IF('2-Grant Budget'!EE166=\"\",\"\",'2-Grant Budget'!EE166)","v":""}]
[null,{"$f":"IF('2-Grant Budget'!EC167=\"\",\"\",RIGHT('2-Grant Budget'!DW167,2))","v":""},{"$f":"IF(G189=\"\",\"\",IF(RIGHT(F189,4)=\"8000\",VLOOKUP('1-Award Info'!$G$19,Tables!Q:R,2,0)&\"08008000\",VLOOKUP('1-Award Info'!$G$19,Tables!Q:R,2,0)&RIGHT(F189,8)))","v":""},"","",{"$f":"IF('2-Grant Budget'!$EC167=\"\",\"\",'2-Grant Budget'!DX167)","v":""},{"$f":"IF('2-Grant Budget'!$EC167=\"\",\"\",'2-Grant Budget'!DY167)","v":""},null,{"$f":"IF('2-Grant Budget'!$EC167=\"\",\"\",\"FY\"&RIGHT('2-Grant Budget'!EA167,2))","v":""},null,{"$f":"IF('2-Grant Budget'!EC167=\"\",\"\",'2-Grant Budget'!EC167)","v":""},{"$f":"IF('2-Grant Budget'!EE167=\"\",\"\",'2-Grant Budget'!EE167)","v":""}]
[null,{"$f":"IF('2-Grant Budget'!EC168=\"\",\"\",RIGHT('2-Grant Budget'!DW168,2))","v":""},{"$f":"IF(G190=\"\",\"\",IF(RIGHT(F190,4)=\"8000\",VLOOKUP('1-Award Info'!$G$19,Tables!Q:R,2,0)&\"08008000\",VLOOKUP('1-Award Info'!$G$19,Tables!Q:R,2,0)&RIGHT(F190,8)))","v":""},"","",{"$f":"IF('2-Grant Budget'!$EC168=\"\",\"\",'2-Grant Budget'!DX168)","v":""},{"$f":"IF('2-Grant Budget'!$EC168=\"\",\"\",'2-Grant Budget'!DY168)","v":""},null,{"$f":"IF('2-Grant Budget'!$EC168=\"\",\"\",\"FY\"&RIGHT('2-Grant Budget'!EA168,2))","v":""},null,{"$f":"IF('2-Grant Budget'!EC168=\"\",\"\",'2-Grant Budget'!EC168)","v":""},{"$f":"IF('2-Grant Budget'!EE168=\"\",\"\",'2-Grant Budget'!EE168)","v":""}]
[null,{"$f":"IF('2-Grant Budget'!EC169=\"\",\"\",RIGHT('2-Grant Budget'!DW169,2))","v":""},{"$f":"IF(G191=\"\",\"\",IF(RIGHT(F191,4)=\"8000\",VLOOKUP('1-Award Info'!$G$19,Tables!Q:R,2,0)&\"08008000\",VLOOKUP('1-Award Info'!$G$19,Tables!Q:R,2,0)&RIGHT(F191,8)))","v":""},"","",{"$f":"IF('2-Grant Budget'!$EC169=\"\",\"\",'2-Grant Budget'!DX169)","v":""},{"$f":"IF('2-Grant Budget'!$EC169=\"\",\"\",'2-Grant Budget'!DY169)","v":""},null,{"$f":"IF('2-Grant Budget'!$EC169=\"\",\"\",\"FY\"&RIGHT('2-Grant Budget'!EA169,2))","v":""},null,{"$f":"IF('2-Grant Budget'!EC169=\"\",\"\",'2-Grant Budget'!EC169)","v":""},{"$f":"IF('2-Grant Budget'!EE169=\"\",\"\",'2-Grant Budget'!EE169)","v":""}]
[null,{"$f":"IF('2-Grant Budget'!EC170=\"\",\"\",RIGHT('2-Grant Budget'!DW170,2))","v":""},{"$f":"IF(G192=\"\",\"\",IF(RIGHT(F192,4)=\"8000\",VLOOKUP('1-Award Info'!$G$19,Tables!Q:R,2,0)&\"08008000\",VLOOKUP('1-Award Info'!$G$19,Tables!Q:R,2,0)&RIGHT(F192,8)))","v":""},"","",{"$f":"IF('2-Grant Budget'!$EC170=\"\",\"\",'2-Grant Budget'!DX170)","v":""},{"$f":"IF('2-Grant Budget'!$EC170=\"\",\"\",'2-Grant Budget'!DY170)","v":""},null,{"$f":"IF('2-Grant Budget'!$EC170=\"\",\"\",\"FY\"&RIGHT('2-Grant Budget'!EA170,2))","v":""},null,{"$f":"IF('2-Grant Budget'!EC170=\"\",\"\",'2-Grant Budget'!EC170)","v":""},{"$f":"IF('2-Grant Budget'!EE170=\"\",\"\",'2-Grant Budget'!EE170)","v":""}]
[null,{"$f":"IF('2-Grant Budget'!EC171=\"\",\"\",RIGHT('2-Grant Budget'!DW171,2))","v":""},{"$f":"IF(G193=\"\",\"\",IF(RIGHT(F193,4)=\"8000\",VLOOKUP('1-Award Info'!$G$19,Tables!Q:R,2,0)&\"08008000\",VLOOKUP('1-Award Info'!$G$19,Tables!Q:R,2,0)&RIGHT(F193,8)))","v":""},"","",{"$f":"IF('2-Grant Budget'!$EC171=\"\",\"\",'2-Grant Budget'!DX171)","v":""},{"$f":"IF('2-Grant Budget'!$EC171=\"\",\"\",'2-Grant Budget'!DY171)","v":""},null,{"$f":"IF('2-Grant Budget'!$EC171=\"\",\"\",\"FY\"&RIGHT('2-Grant Budget'!EA171,2))","v":""},null,{"$f":"IF('2-Grant Budget'!EC171=\"\",\"\",'2-Grant Budget'!EC171)","v":""},{"$f":"IF('2-Grant Budget'!EE171=\"\",\"\",'2-Grant Budget'!EE171)","v":""}]
[null,{"$f":"IF('2-Grant Budget'!EC172=\"\",\"\",RIGHT('2-Grant Budget'!DW172,2))","v":""},{"$f":"IF(G194=\"\",\"\",IF(RIGHT(F194,4)=\"8000\",VLOOKUP('1-Award Info'!$G$19,Tables!Q:R,2,0)&\"08008000\",VLOOKUP('1-Award Info'!$G$19,Tables!Q:R,2,0)&RIGHT(F194,8)))","v":""},"","",{"$f":"IF('2-Grant Budget'!$EC172=\"\",\"\",'2-Grant Budget'!DX172)","v":""},{"$f":"IF('2-Grant Budget'!$EC172=\"\",\"\",'2-Grant Budget'!DY172)","v":""},null,{"$f":"IF('2-Grant Budget'!$EC172=\"\",\"\",\"FY\"&RIGHT('2-Grant Budget'!EA172,2))","v":""},null,{"$f":"IF('2-Grant Budget'!EC172=\"\",\"\",'2-Grant Budget'!EC172)","v":""},{"$f":"IF('2-Grant Budget'!EE172=\"\",\"\",'2-Grant Budget'!EE172)","v":""}]
[null,{"$f":"IF('2-Grant Budget'!EC173=\"\",\"\",RIGHT('2-Grant Budget'!DW173,2))","v":""},{"$f":"IF(G195=\"\",\"\",IF(RIGHT(F195,4)=\"8000\",VLOOKUP('1-Award Info'!$G$19,Tables!Q:R,2,0)&\"08008000\",VLOOKUP('1-Award Info'!$G$19,Tables!Q:R,2,0)&RIGHT(F195,8)))","v":""},"","",{"$f":"IF('2-Grant Budget'!$EC173=\"\",\"\",'2-Grant Budget'!DX173)","v":""},{"$f":"IF('2-Grant Budget'!$EC173=\"\",\"\",'2-Grant Budget'!DY173)","v":""},null,{"$f":"IF('2-Grant Budget'!$EC173=\"\",\"\",\"FY\"&RIGHT('2-Grant Budget'!EA173,2))","v":""},null,{"$f":"IF('2-Grant Budget'!EC173=\"\",\"\",'2-Grant Budget'!EC173)","v":""},{"$f":"IF('2-Grant Budget'!EE173=\"\",\"\",'2-Grant Budget'!EE173)","v":""}]
[null,{"$f":"IF('2-Grant Budget'!EC174=\"\",\"\",RIGHT('2-Grant Budget'!DW174,2))","v":""},{"$f":"IF(G196=\"\",\"\",IF(RIGHT(F196,4)=\"8000\",VLOOKUP('1-Award Info'!$G$19,Tables!Q:R,2,0)&\"08008000\",VLOOKUP('1-Award Info'!$G$19,Tables!Q:R,2,0)&RIGHT(F196,8)))","v":""},"","",{"$f":"IF('2-Grant Budget'!$EC174=\"\",\"\",'2-Grant Budget'!DX174)","v":""},{"$f":"IF('2-Grant Budget'!$EC174=\"\",\"\",'2-Grant Budget'!DY174)","v":""},null,{"$f":"IF('2-Grant Budget'!$EC174=\"\",\"\",\"FY\"&RIGHT('2-Grant Budget'!EA174,2))","v":""},null,{"$f":"IF('2-Grant Budget'!EC174=\"\",\"\",'2-Grant Budget'!EC174)","v":""},{"$f":"IF('2-Grant Budget'!EE174=\"\",\"\",'2-Grant Budget'!EE174)","v":""}]
[null,{"$f":"IF('2-Grant Budget'!EC175=\"\",\"\",RIGHT('2-Grant Budget'!DW175,2))","v":""},{"$f":"IF(G197=\"\",\"\",IF(RIGHT(F197,4)=\"8000\",VLOOKUP('1-Award Info'!$G$19,Tables!Q:R,2,0)&\"08008000\",VLOOKUP('1-Award Info'!$G$19,Tables!Q:R,2,0)&RIGHT(F197,8)))","v":""},"","",{"$f":"IF('2-Grant Budget'!$EC175=\"\",\"\",'2-Grant Budget'!DX175)","v":""},{"$f":"IF('2-Grant Budget'!$EC175=\"\",\"\",'2-Grant Budget'!DY175)","v":""},null,{"$f":"IF('2-Grant Budget'!$EC175=\"\",\"\",\"FY\"&RIGHT('2-Grant Budget'!EA175,2))","v":""},null,{"$f":"IF('2-Grant Budget'!EC175=\"\",\"\",'2-Grant Budget'!EC175)","v":""},{"$f":"IF('2-Grant Budget'!EE175=\"\",\"\",'2-Grant Budget'!EE175)","v":""}]
[null,{"$f":"IF('2-Grant Budget'!EC176=\"\",\"\",RIGHT('2-Grant Budget'!DW176,2))","v":""},{"$f":"IF(G198=\"\",\"\",IF(RIGHT(F198,4)=\"8000\",VLOOKUP('1-Award Info'!$G$19,Tables!Q:R,2,0)&\"08008000\",VLOOKUP('1-Award Info'!$G$19,Tables!Q:R,2,0)&RIGHT(F198,8)))","v":""},"","",{"$f":"IF('2-Grant Budget'!$EC176=\"\",\"\",'2-Grant Budget'!DX176)","v":""},{"$f":"IF('2-Grant Budget'!$EC176=\"\",\"\",'2-Grant Budget'!DY176)","v":""},null,{"$f":"IF('2-Grant Budget'!$EC176=\"\",\"\",\"FY\"&RIGHT('2-Grant Budget'!EA176,2))","v":""},null,{"$f":"IF('2-Grant Budget'!EC176=\"\",\"\",'2-Grant Budget'!EC176)","v":""},{"$f":"IF('2-Grant Budget'!EE176=\"\",\"\",'2-Grant Budget'!EE176)","v":""}]
[null,{"$f":"IF('2-Grant Budget'!EC177=\"\",\"\",RIGHT('2-Grant Budget'!DW177,2))","v":""},{"$f":"IF(G199=\"\",\"\",IF(RIGHT(F199,4)=\"8000\",VLOOKUP('1-Award Info'!$G$19,Tables!Q:R,2,0)&\"08008000\",VLOOKUP('1-Award Info'!$G$19,Tables!Q:R,2,0)&RIGHT(F199,8)))","v":""},"","",{"$f":"IF('2-Grant Budget'!$EC177=\"\",\"\",'2-Grant Budget'!DX177)","v":""},{"$f":"IF('2-Grant Budget'!$EC177=\"\",\"\",'2-Grant Budget'!DY177)","v":""},null,{"$f":"IF('2-Grant Budget'!$EC177=\"\",\"\",\"FY\"&RIGHT('2-Grant Budget'!EA177,2))","v":""},null,{"$f":"IF('2-Grant Budget'!EC177=\"\",\"\",'2-Grant Budget'!EC177)","v":""},{"$f":"IF('2-Grant Budget'!EE177=\"\",\"\",'2-Grant Budget'!EE177)","v":""}]
[null,{"$f":"IF('2-Grant Budget'!EC178=\"\",\"\",RIGHT('2-Grant Budget'!DW178,2))","v":""},{"$f":"IF(G200=\"\",\"\",IF(RIGHT(F200,4)=\"8000\",VLOOKUP('1-Award Info'!$G$19,Tables!Q:R,2,0)&\"08008000\",VLOOKUP('1-Award Info'!$G$19,Tables!Q:R,2,0)&RIGHT(F200,8)))","v":""},"","",{"$f":"IF('2-Grant Budget'!$EC178=\"\",\"\",'2-Grant Budget'!DX178)","v":""},{"$f":"IF('2-Grant Budget'!$EC178=\"\",\"\",'2-Grant Budget'!DY178)","v":""},null,{"$f":"IF('2-Grant Budget'!$EC178=\"\",\"\",\"FY\"&RIGHT('2-Grant Budget'!EA178,2))","v":""},null,{"$f":"IF('2-Grant Budget'!EC178=\"\",\"\",'2-Grant Budget'!EC178)","v":""},{"$f":"IF('2-Grant Budget'!EE178=\"\",\"\",'2-Grant Budget'!EE178)","v":""}]
[null,{"$f":"IF('2-Grant Budget'!EC179=\"\",\"\",RIGHT('2-Grant Budget'!DW179,2))","v":""},{"$f":"IF(G201=\"\",\"\",IF(RIGHT(F201,4)=\"8000\",VLOOKUP('1-Award Info'!$G$19,Tables!Q:R,2,0)&\"08008000\",VLOOKUP('1-Award Info'!$G$19,Tables!Q:R,2,0)&RIGHT(F201,8)))","v":""},"","",{"$f":"IF('2-Grant Budget'!$EC179=\"\",\"\",'2-Grant Budget'!DX179)","v":""},{"$f":"IF('2-Grant Budget'!$EC179=\"\",\"\",'2-Grant Budget'!DY179)","v":""},null,{"$f":"IF('2-Grant Budget'!$EC179=\"\",\"\",\"FY\"&RIGHT('2-Grant Budget'!EA179,2))","v":""},null,{"$f":"IF('2-Grant Budget'!EC179=\"\",\"\",'2-Grant Budget'!EC179)","v":""},{"$f":"IF('2-Grant Budget'!EE179=\"\",\"\",'2-Grant Budget'!EE179)","v":""}]
[null,{"$f":"IF('2-Grant Budget'!EC180=\"\",\"\",RIGHT('2-Grant Budget'!DW180,2))","v":""},{"$f":"IF(G202=\"\",\"\",IF(RIGHT(F202,4)=\"8000\",VLOOKUP('1-Award Info'!$G$19,Tables!Q:R,2,0)&\"08008000\",VLOOKUP('1-Award Info'!$G$19,Tables!Q:R,2,0)&RIGHT(F202,8)))","v":""},"","",{"$f":"IF('2-Grant Budget'!$EC180=\"\",\"\",'2-Grant Budget'!DX180)","v":""},{"$f":"IF('2-Grant Budget'!$EC180=\"\",\"\",'2-Grant Budget'!DY180)","v":""},null,{"$f":"IF('2-Grant Budget'!$EC180=\"\",\"\",\"FY\"&RIGHT('2-Grant Budget'!EA180,2))","v":""},null,{"$f":"IF('2-Grant Budget'!EC180=\"\",\"\",'2-Grant Budget'!EC180)","v":""},{"$f":"IF('2-Grant Budget'!EE180=\"\",\"\",'2-Grant Budget'!EE180)","v":""}]
[null,{"$f":"IF('2-Grant Budget'!EC181=\"\",\"\",RIGHT('2-Grant Budget'!DW181,2))","v":""},{"$f":"IF(G203=\"\",\"\",IF(RIGHT(F203,4)=\"8000\",VLOOKUP('1-Award Info'!$G$19,Tables!Q:R,2,0)&\"08008000\",VLOOKUP('1-Award Info'!$G$19,Tables!Q:R,2,0)&RIGHT(F203,8)))","v":""},"","",{"$f":"IF('2-Grant Budget'!$EC181=\"\",\"\",'2-Grant Budget'!DX181)","v":""},{"$f":"IF('2-Grant Budget'!$EC181=\"\",\"\",'2-Grant Budget'!DY181)","v":""},null,{"$f":"IF('2-Grant Budget'!$EC181=\"\",\"\",\"FY\"&RIGHT('2-Grant Budget'!EA181,2))","v":""},null,{"$f":"IF('2-Grant Budget'!EC181=\"\",\"\",'2-Grant Budget'!EC181)","v":""},{"$f":"IF('2-Grant Budget'!EE181=\"\",\"\",'2-Grant Budget'!EE181)","v":""}]
[null,{"$f":"IF('2-Grant Budget'!EC182=\"\",\"\",RIGHT('2-Grant Budget'!DW182,2))","v":""},{"$f":"IF(G204=\"\",\"\",IF(RIGHT(F204,4)=\"8000\",VLOOKUP('1-Award Info'!$G$19,Tables!Q:R,2,0)&\"08008000\",VLOOKUP('1-Award Info'!$G$19,Tables!Q:R,2,0)&RIGHT(F204,8)))","v":""},"","",{"$f":"IF('2-Grant Budget'!$EC182=\"\",\"\",'2-Grant Budget'!DX182)","v":""},{"$f":"IF('2-Grant Budget'!$EC182=\"\",\"\",'2-Grant Budget'!DY182)","v":""},null,{"$f":"IF('2-Grant Budget'!$EC182=\"\",\"\",\"FY\"&RIGHT('2-Grant Budget'!EA182,2))","v":""},null,{"$f":"IF('2-Grant Budget'!EC182=\"\",\"\",'2-Grant Budget'!EC182)","v":""},{"$f":"IF('2-Grant Budget'!EE182=\"\",\"\",'2-Grant Budget'!EE182)","v":""}]
[null,{"$f":"IF('2-Grant Budget'!EC183=\"\",\"\",RIGHT('2-Grant Budget'!DW183,2))","v":""},{"$f":"IF(G205=\"\",\"\",IF(RIGHT(F205,4)=\"8000\",VLOOKUP('1-Award Info'!$G$19,Tables!Q:R,2,0)&\"08008000\",VLOOKUP('1-Award Info'!$G$19,Tables!Q:R,2,0)&RIGHT(F205,8)))","v":""},"","",{"$f":"IF('2-Grant Budget'!$EC183=\"\",\"\",'2-Grant Budget'!DX183)","v":""},{"$f":"IF('2-Grant Budget'!$EC183=\"\",\"\",'2-Grant Budget'!DY183)","v":""},null,{"$f":"IF('2-Grant Budget'!$EC183=\"\",\"\",\"FY\"&RIGHT('2-Grant Budget'!EA183,2))","v":""},null,{"$f":"IF('2-Grant Budget'!EC183=\"\",\"\",'2-Grant Budget'!EC183)","v":""},{"$f":"IF('2-Grant Budget'!EE183=\"\",\"\",'2-Grant Budget'!EE183)","v":""}]
[null,{"$f":"IF('2-Grant Budget'!EC184=\"\",\"\",RIGHT('2-Grant Budget'!DW184,2))","v":""},{"$f":"IF(G206=\"\",\"\",IF(RIGHT(F206,4)=\"8000\",VLOOKUP('1-Award Info'!$G$19,Tables!Q:R,2,0)&\"08008000\",VLOOKUP('1-Award Info'!$G$19,Tables!Q:R,2,0)&RIGHT(F206,8)))","v":""},"","",{"$f":"IF('2-Grant Budget'!$EC184=\"\",\"\",'2-Grant Budget'!DX184)","v":""},{"$f":"IF('2-Grant Budget'!$EC184=\"\",\"\",'2-Grant Budget'!DY184)","v":""},null,{"$f":"IF('2-Grant Budget'!$EC184=\"\",\"\",\"FY\"&RIGHT('2-Grant Budget'!EA184,2))","v":""},null,{"$f":"IF('2-Grant Budget'!EC184=\"\",\"\",'2-Grant Budget'!EC184)","v":""},{"$f":"IF('2-Grant Budget'!EE184=\"\",\"\",'2-Grant Budget'!EE184)","v":""}]
[null,{"$f":"IF('2-Grant Budget'!EC185=\"\",\"\",RIGHT('2-Grant Budget'!DW185,2))","v":""},{"$f":"IF(G207=\"\",\"\",IF(RIGHT(F207,4)=\"8000\",VLOOKUP('1-Award Info'!$G$19,Tables!Q:R,2,0)&\"08008000\",VLOOKUP('1-Award Info'!$G$19,Tables!Q:R,2,0)&RIGHT(F207,8)))","v":""},"","",{"$f":"IF('2-Grant Budget'!$EC185=\"\",\"\",'2-Grant Budget'!DX185)","v":""},{"$f":"IF('2-Grant Budget'!$EC185=\"\",\"\",'2-Grant Budget'!DY185)","v":""},null,{"$f":"IF('2-Grant Budget'!$EC185=\"\",\"\",\"FY\"&RIGHT('2-Grant Budget'!EA185,2))","v":""},null,{"$f":"IF('2-Grant Budget'!EC185=\"\",\"\",'2-Grant Budget'!EC185)","v":""},{"$f":"IF('2-Grant Budget'!EE185=\"\",\"\",'2-Grant Budget'!EE185)","v":""}]
[null,{"$f":"IF('2-Grant Budget'!EC186=\"\",\"\",RIGHT('2-Grant Budget'!DW186,2))","v":""},{"$f":"IF(G208=\"\",\"\",IF(RIGHT(F208,4)=\"8000\",VLOOKUP('1-Award Info'!$G$19,Tables!Q:R,2,0)&\"08008000\",VLOOKUP('1-Award Info'!$G$19,Tables!Q:R,2,0)&RIGHT(F208,8)))","v":""},"","",{"$f":"IF('2-Grant Budget'!$EC186=\"\",\"\",'2-Grant Budget'!DX186)","v":""},{"$f":"IF('2-Grant Budget'!$EC186=\"\",\"\",'2-Grant Budget'!DY186)","v":""},null,{"$f":"IF('2-Grant Budget'!$EC186=\"\",\"\",\"FY\"&RIGHT('2-Grant Budget'!EA186,2))","v":""},null,{"$f":"IF('2-Grant Budget'!EC186=\"\",\"\",'2-Grant Budget'!EC186)","v":""},{"$f":"IF('2-Grant Budget'!EE186=\"\",\"\",'2-Grant Budget'!EE186)","v":""}]
[null,{"$f":"IF('2-Grant Budget'!EC187=\"\",\"\",RIGHT('2-Grant Budget'!DW187,2))","v":""},{"$f":"IF(G209=\"\",\"\",IF(RIGHT(F209,4)=\"8000\",VLOOKUP('1-Award Info'!$G$19,Tables!Q:R,2,0)&\"08008000\",VLOOKUP('1-Award Info'!$G$19,Tables!Q:R,2,0)&RIGHT(F209,8)))","v":""},"","",{"$f":"IF('2-Grant Budget'!$EC187=\"\",\"\",'2-Grant Budget'!DX187)","v":""},{"$f":"IF('2-Grant Budget'!$EC187=\"\",\"\",'2-Grant Budget'!DY187)","v":""},null,{"$f":"IF('2-Grant Budget'!$EC187=\"\",\"\",\"FY\"&RIGHT('2-Grant Budget'!EA187,2))","v":""},null,{"$f":"IF('2-Grant Budget'!EC187=\"\",\"\",'2-Grant Budget'!EC187)","v":""},{"$f":"IF('2-Grant Budget'!EE187=\"\",\"\",'2-Grant Budget'!EE187)","v":""}]
[null,{"$f":"IF('2-Grant Budget'!EC188=\"\",\"\",RIGHT('2-Grant Budget'!DW188,2))","v":""},{"$f":"IF(G210=\"\",\"\",IF(RIGHT(F210,4)=\"8000\",VLOOKUP('1-Award Info'!$G$19,Tables!Q:R,2,0)&\"08008000\",VLOOKUP('1-Award Info'!$G$19,Tables!Q:R,2,0)&RIGHT(F210,8)))","v":""},"","",{"$f":"IF('2-Grant Budget'!$EC188=\"\",\"\",'2-Grant Budget'!DX188)","v":""},{"$f":"IF('2-Grant Budget'!$EC188=\"\",\"\",'2-Grant Budget'!DY188)","v":""},null,{"$f":"IF('2-Grant Budget'!$EC188=\"\",\"\",\"FY\"&RIGHT('2-Grant Budget'!EA188,2))","v":""},null,{"$f":"IF('2-Grant Budget'!EC188=\"\",\"\",'2-Grant Budget'!EC188)","v":""},{"$f":"IF('2-Grant Budget'!EE188=\"\",\"\",'2-Grant Budget'!EE188)","v":""}]
[null,{"$f":"IF('2-Grant Budget'!EC189=\"\",\"\",RIGHT('2-Grant Budget'!DW189,2))","v":""},{"$f":"IF(G211=\"\",\"\",IF(RIGHT(F211,4)=\"8000\",VLOOKUP('1-Award Info'!$G$19,Tables!Q:R,2,0)&\"08008000\",VLOOKUP('1-Award Info'!$G$19,Tables!Q:R,2,0)&RIGHT(F211,8)))","v":""},"","",{"$f":"IF('2-Grant Budget'!$EC189=\"\",\"\",'2-Grant Budget'!DX189)","v":""},{"$f":"IF('2-Grant Budget'!$EC189=\"\",\"\",'2-Grant Budget'!DY189)","v":""},null,{"$f":"IF('2-Grant Budget'!$EC189=\"\",\"\",\"FY\"&RIGHT('2-Grant Budget'!EA189,2))","v":""},null,{"$f":"IF('2-Grant Budget'!EC189=\"\",\"\",'2-Grant Budget'!EC189)","v":""},{"$f":"IF('2-Grant Budget'!EE189=\"\",\"\",'2-Grant Budget'!EE189)","v":""}]
[null,{"$f":"IF('2-Grant Budget'!EC190=\"\",\"\",RIGHT('2-Grant Budget'!DW190,2))","v":""},{"$f":"IF(G212=\"\",\"\",IF(RIGHT(F212,4)=\"8000\",VLOOKUP('1-Award Info'!$G$19,Tables!Q:R,2,0)&\"08008000\",VLOOKUP('1-Award Info'!$G$19,Tables!Q:R,2,0)&RIGHT(F212,8)))","v":""},"","",{"$f":"IF('2-Grant Budget'!$EC190=\"\",\"\",'2-Grant Budget'!DX190)","v":""},{"$f":"IF('2-Grant Budget'!$EC190=\"\",\"\",'2-Grant Budget'!DY190)","v":""},null,{"$f":"IF('2-Grant Budget'!$EC190=\"\",\"\",\"FY\"&RIGHT('2-Grant Budget'!EA190,2))","v":""},null,{"$f":"IF('2-Grant Budget'!EC190=\"\",\"\",'2-Grant Budget'!EC190)","v":""},{"$f":"IF('2-Grant Budget'!EE190=\"\",\"\",'2-Grant Budget'!EE190)","v":""}]
[null,{"$f":"IF('2-Grant Budget'!EC191=\"\",\"\",RIGHT('2-Grant Budget'!DW191,2))","v":""},{"$f":"IF(G213=\"\",\"\",IF(RIGHT(F213,4)=\"8000\",VLOOKUP('1-Award Info'!$G$19,Tables!Q:R,2,0)&\"08008000\",VLOOKUP('1-Award Info'!$G$19,Tables!Q:R,2,0)&RIGHT(F213,8)))","v":""},"","",{"$f":"IF('2-Grant Budget'!$EC191=\"\",\"\",'2-Grant Budget'!DX191)","v":""},{"$f":"IF('2-Grant Budget'!$EC191=\"\",\"\",'2-Grant Budget'!DY191)","v":""},null,{"$f":"IF('2-Grant Budget'!$EC191=\"\",\"\",\"FY\"&RIGHT('2-Grant Budget'!EA191,2))","v":""},null,{"$f":"IF('2-Grant Budget'!EC191=\"\",\"\",'2-Grant Budget'!EC191)","v":""},{"$f":"IF('2-Grant Budget'!EE191=\"\",\"\",'2-Grant Budget'!EE191)","v":""}]
[null,{"$f":"IF('2-Grant Budget'!EC192=\"\",\"\",RIGHT('2-Grant Budget'!DW192,2))","v":""},{"$f":"IF(G214=\"\",\"\",IF(RIGHT(F214,4)=\"8000\",VLOOKUP('1-Award Info'!$G$19,Tables!Q:R,2,0)&\"08008000\",VLOOKUP('1-Award Info'!$G$19,Tables!Q:R,2,0)&RIGHT(F214,8)))","v":""},"","",{"$f":"IF('2-Grant Budget'!$EC192=\"\",\"\",'2-Grant Budget'!DX192)","v":""},{"$f":"IF('2-Grant Budget'!$EC192=\"\",\"\",'2-Grant Budget'!DY192)","v":""},null,{"$f":"IF('2-Grant Budget'!$EC192=\"\",\"\",\"FY\"&RIGHT('2-Grant Budget'!EA192,2))","v":""},null,{"$f":"IF('2-Grant Budget'!EC192=\"\",\"\",'2-Grant Budget'!EC192)","v":""},{"$f":"IF('2-Grant Budget'!EE192=\"\",\"\",'2-Grant Budget'!EE192)","v":""}]
[null,{"$f":"IF('2-Grant Budget'!EC193=\"\",\"\",RIGHT('2-Grant Budget'!DW193,2))","v":""},{"$f":"IF(G215=\"\",\"\",IF(RIGHT(F215,4)=\"8000\",VLOOKUP('1-Award Info'!$G$19,Tables!Q:R,2,0)&\"08008000\",VLOOKUP('1-Award Info'!$G$19,Tables!Q:R,2,0)&RIGHT(F215,8)))","v":""},"","",{"$f":"IF('2-Grant Budget'!$EC193=\"\",\"\",'2-Grant Budget'!DX193)","v":""},{"$f":"IF('2-Grant Budget'!$EC193=\"\",\"\",'2-Grant Budget'!DY193)","v":""},null,{"$f":"IF('2-Grant Budget'!$EC193=\"\",\"\",\"FY\"&RIGHT('2-Grant Budget'!EA193,2))","v":""},null,{"$f":"IF('2-Grant Budget'!EC193=\"\",\"\",'2-Grant Budget'!EC193)","v":""},{"$f":"IF('2-Grant Budget'!EE193=\"\",\"\",'2-Grant Budget'!EE193)","v":""}]
[null,{"$f":"IF('2-Grant Budget'!EC194=\"\",\"\",RIGHT('2-Grant Budget'!DW194,2))","v":""},{"$f":"IF(G216=\"\",\"\",IF(RIGHT(F216,4)=\"8000\",VLOOKUP('1-Award Info'!$G$19,Tables!Q:R,2,0)&\"08008000\",VLOOKUP('1-Award Info'!$G$19,Tables!Q:R,2,0)&RIGHT(F216,8)))","v":""},"","",{"$f":"IF('2-Grant Budget'!$EC194=\"\",\"\",'2-Grant Budget'!DX194)","v":""},{"$f":"IF('2-Grant Budget'!$EC194=\"\",\"\",'2-Grant Budget'!DY194)","v":""},null,{"$f":"IF('2-Grant Budget'!$EC194=\"\",\"\",\"FY\"&RIGHT('2-Grant Budget'!EA194,2))","v":""},null,{"$f":"IF('2-Grant Budget'!EC194=\"\",\"\",'2-Grant Budget'!EC194)","v":""},{"$f":"IF('2-Grant Budget'!EE194=\"\",\"\",'2-Grant Budget'!EE194)","v":""}]
[null,{"$f":"IF('2-Grant Budget'!EC195=\"\",\"\",RIGHT('2-Grant Budget'!DW195,2))","v":""},{"$f":"IF(G217=\"\",\"\",IF(RIGHT(F217,4)=\"8000\",VLOOKUP('1-Award Info'!$G$19,Tables!Q:R,2,0)&\"08008000\",VLOOKUP('1-Award Info'!$G$19,Tables!Q:R,2,0)&RIGHT(F217,8)))","v":""},"","",{"$f":"IF('2-Grant Budget'!$EC195=\"\",\"\",'2-Grant Budget'!DX195)","v":""},{"$f":"IF('2-Grant Budget'!$EC195=\"\",\"\",'2-Grant Budget'!DY195)","v":""},null,{"$f":"IF('2-Grant Budget'!$EC195=\"\",\"\",\"FY\"&RIGHT('2-Grant Budget'!EA195,2))","v":""},null,{"$f":"IF('2-Grant Budget'!EC195=\"\",\"\",'2-Grant Budget'!EC195)","v":""},{"$f":"IF('2-Grant Budget'!EE195=\"\",\"\",'2-Grant Budget'!EE195)","v":""}]
[null,{"$f":"IF('2-Grant Budget'!EC196=\"\",\"\",RIGHT('2-Grant Budget'!DW196,2))","v":""},{"$f":"IF(G218=\"\",\"\",IF(RIGHT(F218,4)=\"8000\",VLOOKUP('1-Award Info'!$G$19,Tables!Q:R,2,0)&\"08008000\",VLOOKUP('1-Award Info'!$G$19,Tables!Q:R,2,0)&RIGHT(F218,8)))","v":""},"","",{"$f":"IF('2-Grant Budget'!$EC196=\"\",\"\",'2-Grant Budget'!DX196)","v":""},{"$f":"IF('2-Grant Budget'!$EC196=\"\",\"\",'2-Grant Budget'!DY196)","v":""},null,{"$f":"IF('2-Grant Budget'!$EC196=\"\",\"\",\"FY\"&RIGHT('2-Grant Budget'!EA196,2))","v":""},null,{"$f":"IF('2-Grant Budget'!EC196=\"\",\"\",'2-Grant Budget'!EC196)","v":""},{"$f":"IF('2-Grant Budget'!EE196=\"\",\"\",'2-Grant Budget'!EE196)","v":""}]
[null,{"$f":"IF('2-Grant Budget'!EC197=\"\",\"\",RIGHT('2-Grant Budget'!DW197,2))","v":""},{"$f":"IF(G219=\"\",\"\",IF(RIGHT(F219,4)=\"8000\",VLOOKUP('1-Award Info'!$G$19,Tables!Q:R,2,0)&\"08008000\",VLOOKUP('1-Award Info'!$G$19,Tables!Q:R,2,0)&RIGHT(F219,8)))","v":""},"","",{"$f":"IF('2-Grant Budget'!$EC197=\"\",\"\",'2-Grant Budget'!DX197)","v":""},{"$f":"IF('2-Grant Budget'!$EC197=\"\",\"\",'2-Grant Budget'!DY197)","v":""},null,{"$f":"IF('2-Grant Budget'!$EC197=\"\",\"\",\"FY\"&RIGHT('2-Grant Budget'!EA197,2))","v":""},null,{"$f":"IF('2-Grant Budget'!EC197=\"\",\"\",'2-Grant Budget'!EC197)","v":""},{"$f":"IF('2-Grant Budget'!EE197=\"\",\"\",'2-Grant Budget'!EE197)","v":""}]
[null,{"$f":"IF('2-Grant Budget'!EC198=\"\",\"\",RIGHT('2-Grant Budget'!DW198,2))","v":""},{"$f":"IF(G220=\"\",\"\",IF(RIGHT(F220,4)=\"8000\",VLOOKUP('1-Award Info'!$G$19,Tables!Q:R,2,0)&\"08008000\",VLOOKUP('1-Award Info'!$G$19,Tables!Q:R,2,0)&RIGHT(F220,8)))","v":""},"","",{"$f":"IF('2-Grant Budget'!$EC198=\"\",\"\",'2-Grant Budget'!DX198)","v":""},{"$f":"IF('2-Grant Budget'!$EC198=\"\",\"\",'2-Grant Budget'!DY198)","v":""},null,{"$f":"IF('2-Grant Budget'!$EC198=\"\",\"\",\"FY\"&RIGHT('2-Grant Budget'!EA198,2))","v":""},null,{"$f":"IF('2-Grant Budget'!EC198=\"\",\"\",'2-Grant Budget'!EC198)","v":""},{"$f":"IF('2-Grant Budget'!EE198=\"\",\"\",'2-Grant Budget'!EE198)","v":""}]
[null,{"$f":"IF('2-Grant Budget'!EC199=\"\",\"\",RIGHT('2-Grant Budget'!DW199,2))","v":""},{"$f":"IF(G221=\"\",\"\",IF(RIGHT(F221,4)=\"8000\",VLOOKUP('1-Award Info'!$G$19,Tables!Q:R,2,0)&\"08008000\",VLOOKUP('1-Award Info'!$G$19,Tables!Q:R,2,0)&RIGHT(F221,8)))","v":""},"","",{"$f":"IF('2-Grant Budget'!$EC199=\"\",\"\",'2-Grant Budget'!DX199)","v":""},{"$f":"IF('2-Grant Budget'!$EC199=\"\",\"\",'2-Grant Budget'!DY199)","v":""},null,{"$f":"IF('2-Grant Budget'!$EC199=\"\",\"\",\"FY\"&RIGHT('2-Grant Budget'!EA199,2))","v":""},null,{"$f":"IF('2-Grant Budget'!EC199=\"\",\"\",'2-Grant Budget'!EC199)","v":""},{"$f":"IF('2-Grant Budget'!EE199=\"\",\"\",'2-Grant Budget'!EE199)","v":""}]
[null,{"$f":"IF('2-Grant Budget'!EC200=\"\",\"\",RIGHT('2-Grant Budget'!DW200,2))","v":""},{"$f":"IF(G222=\"\",\"\",IF(RIGHT(F222,4)=\"8000\",VLOOKUP('1-Award Info'!$G$19,Tables!Q:R,2,0)&\"08008000\",VLOOKUP('1-Award Info'!$G$19,Tables!Q:R,2,0)&RIGHT(F222,8)))","v":""},"","",{"$f":"IF('2-Grant Budget'!$EC200=\"\",\"\",'2-Grant Budget'!DX200)","v":""},{"$f":"IF('2-Grant Budget'!$EC200=\"\",\"\",'2-Grant Budget'!DY200)","v":""},null,{"$f":"IF('2-Grant Budget'!$EC200=\"\",\"\",\"FY\"&RIGHT('2-Grant Budget'!EA200,2))","v":""},null,{"$f":"IF('2-Grant Budget'!EC200=\"\",\"\",'2-Grant Budget'!EC200)","v":""},{"$f":"IF('2-Grant Budget'!EE200=\"\",\"\",'2-Grant Budget'!EE200)","v":""}]
[null,{"$f":"IF('2-Grant Budget'!EC201=\"\",\"\",RIGHT('2-Grant Budget'!DW201,2))","v":""},{"$f":"IF(G223=\"\",\"\",IF(RIGHT(F223,4)=\"8000\",VLOOKUP('1-Award Info'!$G$19,Tables!Q:R,2,0)&\"08008000\",VLOOKUP('1-Award Info'!$G$19,Tables!Q:R,2,0)&RIGHT(F223,8)))","v":""},"","",{"$f":"IF('2-Grant Budget'!$EC201=\"\",\"\",'2-Grant Budget'!DX201)","v":""},{"$f":"IF('2-Grant Budget'!$EC201=\"\",\"\",'2-Grant Budget'!DY201)","v":""},null,{"$f":"IF('2-Grant Budget'!$EC201=\"\",\"\",\"FY\"&RIGHT('2-Grant Budget'!EA201,2))","v":""},null,{"$f":"IF('2-Grant Budget'!EC201=\"\",\"\",'2-Grant Budget'!EC201)","v":""},{"$f":"IF('2-Grant Budget'!EE201=\"\",\"\",'2-Grant Budget'!EE201)","v":""}]
[null,{"$f":"IF('2-Grant Budget'!EC202=\"\",\"\",RIGHT('2-Grant Budget'!DW202,2))","v":""},{"$f":"IF(G224=\"\",\"\",IF(RIGHT(F224,4)=\"8000\",VLOOKUP('1-Award Info'!$G$19,Tables!Q:R,2,0)&\"08008000\",VLOOKUP('1-Award Info'!$G$19,Tables!Q:R,2,0)&RIGHT(F224,8)))","v":""},"","",{"$f":"IF('2-Grant Budget'!$EC202=\"\",\"\",'2-Grant Budget'!DX202)","v":""},{"$f":"IF('2-Grant Budget'!$EC202=\"\",\"\",'2-Grant Budget'!DY202)","v":""},null,{"$f":"IF('2-Grant Budget'!$EC202=\"\",\"\",\"FY\"&RIGHT('2-Grant Budget'!EA202,2))","v":""},null,{"$f":"IF('2-Grant Budget'!EC202=\"\",\"\",'2-Grant Budget'!EC202)","v":""},{"$f":"IF('2-Grant Budget'!EE202=\"\",\"\",'2-Grant Budget'!EE202)","v":""}]
[null,{"$f":"IF('2-Grant Budget'!EC203=\"\",\"\",RIGHT('2-Grant Budget'!DW203,2))","v":""},{"$f":"IF(G225=\"\",\"\",IF(RIGHT(F225,4)=\"8000\",VLOOKUP('1-Award Info'!$G$19,Tables!Q:R,2,0)&\"08008000\",VLOOKUP('1-Award Info'!$G$19,Tables!Q:R,2,0)&RIGHT(F225,8)))","v":""},"","",{"$f":"IF('2-Grant Budget'!$EC203=\"\",\"\",'2-Grant Budget'!DX203)","v":""},{"$f":"IF('2-Grant Budget'!$EC203=\"\",\"\",'2-Grant Budget'!DY203)","v":""},null,{"$f":"IF('2-Grant Budget'!$EC203=\"\",\"\",\"FY\"&RIGHT('2-Grant Budget'!EA203,2))","v":""},null,{"$f":"IF('2-Grant Budget'!EC203=\"\",\"\",'2-Grant Budget'!EC203)","v":""},{"$f":"IF('2-Grant Budget'!EE203=\"\",\"\",'2-Grant Budget'!EE203)","v":""}]
[null,{"$f":"IF('2-Grant Budget'!EC204=\"\",\"\",RIGHT('2-Grant Budget'!DW204,2))","v":""},{"$f":"IF(G226=\"\",\"\",IF(RIGHT(F226,4)=\"8000\",VLOOKUP('1-Award Info'!$G$19,Tables!Q:R,2,0)&\"08008000\",VLOOKUP('1-Award Info'!$G$19,Tables!Q:R,2,0)&RIGHT(F226,8)))","v":""},"","",{"$f":"IF('2-Grant Budget'!$EC204=\"\",\"\",'2-Grant Budget'!DX204)","v":""},{"$f":"IF('2-Grant Budget'!$EC204=\"\",\"\",'2-Grant Budget'!DY204)","v":""},null,{"$f":"IF('2-Grant Budget'!$EC204=\"\",\"\",\"FY\"&RIGHT('2-Grant Budget'!EA204,2))","v":""},null,{"$f":"IF('2-Grant Budget'!EC204=\"\",\"\",'2-Grant Budget'!EC204)","v":""},{"$f":"IF('2-Grant Budget'!EE204=\"\",\"\",'2-Grant Budget'!EE204)","v":""}]
[null,{"$f":"IF('2-Grant Budget'!EC205=\"\",\"\",RIGHT('2-Grant Budget'!DW205,2))","v":""},{"$f":"IF(G227=\"\",\"\",IF(RIGHT(F227,4)=\"8000\",VLOOKUP('1-Award Info'!$G$19,Tables!Q:R,2,0)&\"08008000\",VLOOKUP('1-Award Info'!$G$19,Tables!Q:R,2,0)&RIGHT(F227,8)))","v":""},"","",{"$f":"IF('2-Grant Budget'!$EC205=\"\",\"\",'2-Grant Budget'!DX205)","v":""},{"$f":"IF('2-Grant Budget'!$EC205=\"\",\"\",'2-Grant Budget'!DY205)","v":""},null,{"$f":"IF('2-Grant Budget'!$EC205=\"\",\"\",\"FY\"&RIGHT('2-Grant Budget'!EA205,2))","v":""},null,{"$f":"IF('2-Grant Budget'!EC205=\"\",\"\",'2-Grant Budget'!EC205)","v":""},{"$f":"IF('2-Grant Budget'!EE205=\"\",\"\",'2-Grant Budget'!EE205)","v":""}]
[null,{"$f":"IF('2-Grant Budget'!EC206=\"\",\"\",RIGHT('2-Grant Budget'!DW206,2))","v":""},{"$f":"IF(G228=\"\",\"\",IF(RIGHT(F228,4)=\"8000\",VLOOKUP('1-Award Info'!$G$19,Tables!Q:R,2,0)&\"08008000\",VLOOKUP('1-Award Info'!$G$19,Tables!Q:R,2,0)&RIGHT(F228,8)))","v":""},"","",{"$f":"IF('2-Grant Budget'!$EC206=\"\",\"\",'2-Grant Budget'!DX206)","v":""},{"$f":"IF('2-Grant Budget'!$EC206=\"\",\"\",'2-Grant Budget'!DY206)","v":""},null,{"$f":"IF('2-Grant Budget'!$EC206=\"\",\"\",\"FY\"&RIGHT('2-Grant Budget'!EA206,2))","v":""},null,{"$f":"IF('2-Grant Budget'!EC206=\"\",\"\",'2-Grant Budget'!EC206)","v":""},{"$f":"IF('2-Grant Budget'!EE206=\"\",\"\",'2-Grant Budget'!EE206)","v":""}]
[null,{"$f":"IF('2-Grant Budget'!EC207=\"\",\"\",RIGHT('2-Grant Budget'!DW207,2))","v":""},{"$f":"IF(G229=\"\",\"\",IF(RIGHT(F229,4)=\"8000\",VLOOKUP('1-Award Info'!$G$19,Tables!Q:R,2,0)&\"08008000\",VLOOKUP('1-Award Info'!$G$19,Tables!Q:R,2,0)&RIGHT(F229,8)))","v":""},"","",{"$f":"IF('2-Grant Budget'!$EC207=\"\",\"\",'2-Grant Budget'!DX207)","v":""},{"$f":"IF('2-Grant Budget'!$EC207=\"\",\"\",'2-Grant Budget'!DY207)","v":""},null,{"$f":"IF('2-Grant Budget'!$EC207=\"\",\"\",\"FY\"&RIGHT('2-Grant Budget'!EA207,2))","v":""},null,{"$f":"IF('2-Grant Budget'!EC207=\"\",\"\",'2-Grant Budget'!EC207)","v":""},{"$f":"IF('2-Grant Budget'!EE207=\"\",\"\",'2-Grant Budget'!EE207)","v":""}]
[null,{"$f":"IF('2-Grant Budget'!EC208=\"\",\"\",RIGHT('2-Grant Budget'!DW208,2))","v":""},{"$f":"IF(G230=\"\",\"\",IF(RIGHT(F230,4)=\"8000\",VLOOKUP('1-Award Info'!$G$19,Tables!Q:R,2,0)&\"08008000\",VLOOKUP('1-Award Info'!$G$19,Tables!Q:R,2,0)&RIGHT(F230,8)))","v":""},"","",{"$f":"IF('2-Grant Budget'!$EC208=\"\",\"\",'2-Grant Budget'!DX208)","v":""},{"$f":"IF('2-Grant Budget'!$EC208=\"\",\"\",'2-Grant Budget'!DY208)","v":""},null,{"$f":"IF('2-Grant Budget'!$EC208=\"\",\"\",\"FY\"&RIGHT('2-Grant Budget'!EA208,2))","v":""},null,{"$f":"IF('2-Grant Budget'!EC208=\"\",\"\",'2-Grant Budget'!EC208)","v":""},{"$f":"IF('2-Grant Budget'!EE208=\"\",\"\",'2-Grant Budget'!EE208)","v":""}]
[null,{"$f":"IF('2-Grant Budget'!EC209=\"\",\"\",RIGHT('2-Grant Budget'!DW209,2))","v":""},{"$f":"IF(G231=\"\",\"\",IF(RIGHT(F231,4)=\"8000\",VLOOKUP('1-Award Info'!$G$19,Tables!Q:R,2,0)&\"08008000\",VLOOKUP('1-Award Info'!$G$19,Tables!Q:R,2,0)&RIGHT(F231,8)))","v":""},"","",{"$f":"IF('2-Grant Budget'!$EC209=\"\",\"\",'2-Grant Budget'!DX209)","v":""},{"$f":"IF('2-Grant Budget'!$EC209=\"\",\"\",'2-Grant Budget'!DY209)","v":""},null,{"$f":"IF('2-Grant Budget'!$EC209=\"\",\"\",\"FY\"&RIGHT('2-Grant Budget'!EA209,2))","v":""},null,{"$f":"IF('2-Grant Budget'!EC209=\"\",\"\",'2-Grant Budget'!EC209)","v":""},{"$f":"IF('2-Grant Budget'!EE209=\"\",\"\",'2-Grant Budget'!EE209)","v":""}]
[null,{"$f":"IF('2-Grant Budget'!EC210=\"\",\"\",RIGHT('2-Grant Budget'!DW210,2))","v":""},{"$f":"IF(G232=\"\",\"\",IF(RIGHT(F232,4)=\"8000\",VLOOKUP('1-Award Info'!$G$19,Tables!Q:R,2,0)&\"08008000\",VLOOKUP('1-Award Info'!$G$19,Tables!Q:R,2,0)&RIGHT(F232,8)))","v":""},{"$f":"IF(G232=\"\",\"\",IF(LEFT(G232)<>\"9\",LEFT(G232,4),9&RIGHT(G232,3)))","v":""},{"$f":"IF(G232=\"\",\"\",IF(LEFT(G232,1)<>\"9\",0,MID(G232,2,1)))","v":""},{"$f":"IF('2-Grant Budget'!$EC210=\"\",\"\",'2-Grant Budget'!DX210)","v":""},{"$f":"IF('2-Grant Budget'!$EC210=\"\",\"\",'2-Grant Budget'!DY210)","v":""},null,{"$f":"IF('2-Grant Budget'!$EC210=\"\",\"\",\"FY\"&RIGHT('2-Grant Budget'!EA210,2))","v":""},null,{"$f":"IF('2-Grant Budget'!EC210=\"\",\"\",'2-Grant Budget'!EC210)","v":""},{"$f":"IF('2-Grant Budget'!EE210=\"\",\"\",'2-Grant Budget'!EE210)","v":""}]
[null,{"$f":"IF('2-Grant Budget'!EC211=\"\",\"\",RIGHT('2-Grant Budget'!DW211,2))","v":""},{"$f":"IF(G233=\"\",\"\",IF(RIGHT(F233,4)=\"8000\",VLOOKUP('1-Award Info'!$G$19,Tables!Q:R,2,0)&\"08008000\",VLOOKUP('1-Award Info'!$G$19,Tables!Q:R,2,0)&RIGHT(F233,8)))","v":""},"","",{"$f":"IF('2-Grant Budget'!$EC211=\"\",\"\",'2-Grant Budget'!DX211)","v":""},{"$f":"IF('2-Grant Budget'!$EC211=\"\",\"\",'2-Grant Budget'!DY211)","v":""},null,{"$f":"IF('2-Grant Budget'!$EC211=\"\",\"\",\"FY\"&RIGHT('2-Grant Budget'!EA211,2))","v":""},null,{"$f":"IF('2-Grant Budget'!EC211=\"\",\"\",'2-Grant Budget'!EC211)","v":""},{"$f":"IF('2-Grant Budget'!EE211=\"\",\"\",'2-Grant Budget'!EE211)","v":""}]
[null,{"$f":"IF('2-Grant Budget'!EC212=\"\",\"\",RIGHT('2-Grant Budget'!DW212,2))","v":""},{"$f":"IF(G234=\"\",\"\",IF(RIGHT(F234,4)=\"8000\",VLOOKUP('1-Award Info'!$G$19,Tables!Q:R,2,0)&\"08008000\",VLOOKUP('1-Award Info'!$G$19,Tables!Q:R,2,0)&RIGHT(F234,8)))","v":""},"","",{"$f":"IF('2-Grant Budget'!$EC212=\"\",\"\",'2-Grant Budget'!DX212)","v":""},{"$f":"IF('2-Grant Budget'!$EC212=\"\",\"\",'2-Grant Budget'!DY212)","v":""},null,{"$f":"IF('2-Grant Budget'!$EC212=\"\",\"\",\"FY\"&RIGHT('2-Grant Budget'!EA212,2))","v":""},null,{"$f":"IF('2-Grant Budget'!EC212=\"\",\"\",'2-Grant Budget'!EC212)","v":""},{"$f":"IF('2-Grant Budget'!EE212=\"\",\"\",'2-Grant Budget'!EE212)","v":""}]
[null,{"$f":"IF('2-Grant Budget'!EC213=\"\",\"\",RIGHT('2-Grant Budget'!DW213,2))","v":""},{"$f":"IF(G235=\"\",\"\",IF(RIGHT(F235,4)=\"8000\",VLOOKUP('1-Award Info'!$G$19,Tables!Q:R,2,0)&\"08008000\",VLOOKUP('1-Award Info'!$G$19,Tables!Q:R,2,0)&RIGHT(F235,8)))","v":""},"","",{"$f":"IF('2-Grant Budget'!$EC213=\"\",\"\",'2-Grant Budget'!DX213)","v":""},{"$f":"IF('2-Grant Budget'!$EC213=\"\",\"\",'2-Grant Budget'!DY213)","v":""},null,{"$f":"IF('2-Grant Budget'!$EC213=\"\",\"\",\"FY\"&RIGHT('2-Grant Budget'!EA213,2))","v":""},null,{"$f":"IF('2-Grant Budget'!EC213=\"\",\"\",'2-Grant Budget'!EC213)","v":""},{"$f":"IF('2-Grant Budget'!EE213=\"\",\"\",'2-Grant Budget'!EE213)","v":""}]
[null,{"$f":"IF('2-Grant Budget'!EC214=\"\",\"\",RIGHT('2-Grant Budget'!DW214,2))","v":""},{"$f":"IF(G236=\"\",\"\",IF(RIGHT(F236,4)=\"8000\",VLOOKUP('1-Award Info'!$G$19,Tables!Q:R,2,0)&\"08008000\",VLOOKUP('1-Award Info'!$G$19,Tables!Q:R,2,0)&RIGHT(F236,8)))","v":""},"","",{"$f":"IF('2-Grant Budget'!$EC214=\"\",\"\",'2-Grant Budget'!DX214)","v":""},{"$f":"IF('2-Grant Budget'!$EC214=\"\",\"\",'2-Grant Budget'!DY214)","v":""},null,{"$f":"IF('2-Grant Budget'!$EC214=\"\",\"\",\"FY\"&RIGHT('2-Grant Budget'!EA214,2))","v":""},null,{"$f":"IF('2-Grant Budget'!EC214=\"\",\"\",'2-Grant Budget'!EC214)","v":""},{"$f":"IF('2-Grant Budget'!EE214=\"\",\"\",'2-Grant Budget'!EE214)","v":""}]
[null,{"$f":"IF('2-Grant Budget'!EC215=\"\",\"\",RIGHT('2-Grant Budget'!DW215,2))","v":""},{"$f":"IF(G237=\"\",\"\",IF(RIGHT(F237,4)=\"8000\",VLOOKUP('1-Award Info'!$G$19,Tables!Q:R,2,0)&\"08008000\",VLOOKUP('1-Award Info'!$G$19,Tables!Q:R,2,0)&RIGHT(F237,8)))","v":""},"","",{"$f":"IF('2-Grant Budget'!$EC215=\"\",\"\",'2-Grant Budget'!DX215)","v":""},{"$f":"IF('2-Grant Budget'!$EC215=\"\",\"\",'2-Grant Budget'!DY215)","v":""},null,{"$f":"IF('2-Grant Budget'!$EC215=\"\",\"\",\"FY\"&RIGHT('2-Grant Budget'!EA215,2))","v":""},null,{"$f":"IF('2-Grant Budget'!EC215=\"\",\"\",'2-Grant Budget'!EC215)","v":""},{"$f":"IF('2-Grant Budget'!EE215=\"\",\"\",'2-Grant Budget'!EE215)","v":""}]
[null,{"$f":"IF('2-Grant Budget'!EC216=\"\",\"\",RIGHT('2-Grant Budget'!DW216,2))","v":""},{"$f":"IF(G238=\"\",\"\",IF(RIGHT(F238,4)=\"8000\",VLOOKUP('1-Award Info'!$G$19,Tables!Q:R,2,0)&\"08008000\",VLOOKUP('1-Award Info'!$G$19,Tables!Q:R,2,0)&RIGHT(F238,8)))","v":""},"","",{"$f":"IF('2-Grant Budget'!$EC216=\"\",\"\",'2-Grant Budget'!DX216)","v":""},{"$f":"IF('2-Grant Budget'!$EC216=\"\",\"\",'2-Grant Budget'!DY216)","v":""},null,{"$f":"IF('2-Grant Budget'!$EC216=\"\",\"\",\"FY\"&RIGHT('2-Grant Budget'!EA216,2))","v":""},null,{"$f":"IF('2-Grant Budget'!EC216=\"\",\"\",'2-Grant Budget'!EC216)","v":""},{"$f":"IF('2-Grant Budget'!EE216=\"\",\"\",'2-Grant Budget'!EE216)","v":""}]
[null,{"$f":"IF('2-Grant Budget'!EC217=\"\",\"\",RIGHT('2-Grant Budget'!DW217,2))","v":""},{"$f":"IF(G239=\"\",\"\",IF(RIGHT(F239,4)=\"8000\",VLOOKUP('1-Award Info'!$G$19,Tables!Q:R,2,0)&\"08008000\",VLOOKUP('1-Award Info'!$G$19,Tables!Q:R,2,0)&RIGHT(F239,8)))","v":""},"","",{"$f":"IF('2-Grant Budget'!$EC217=\"\",\"\",'2-Grant Budget'!DX217)","v":""},{"$f":"IF('2-Grant Budget'!$EC217=\"\",\"\",'2-Grant Budget'!DY217)","v":""},null,{"$f":"IF('2-Grant Budget'!$EC217=\"\",\"\",\"FY\"&RIGHT('2-Grant Budget'!EA217,2))","v":""},null,{"$f":"IF('2-Grant Budget'!EC217=\"\",\"\",'2-Grant Budget'!EC217)","v":""},{"$f":"IF('2-Grant Budget'!EE217=\"\",\"\",'2-Grant Budget'!EE217)","v":""}]
[null,{"$f":"IF('2-Grant Budget'!EC218=\"\",\"\",RIGHT('2-Grant Budget'!DW218,2))","v":""},{"$f":"IF(G240=\"\",\"\",IF(RIGHT(F240,4)=\"8000\",VLOOKUP('1-Award Info'!$G$19,Tables!Q:R,2,0)&\"08008000\",VLOOKUP('1-Award Info'!$G$19,Tables!Q:R,2,0)&RIGHT(F240,8)))","v":""},"","",{"$f":"IF('2-Grant Budget'!$EC218=\"\",\"\",'2-Grant Budget'!DX218)","v":""},{"$f":"IF('2-Grant Budget'!$EC218=\"\",\"\",'2-Grant Budget'!DY218)","v":""},null,{"$f":"IF('2-Grant Budget'!$EC218=\"\",\"\",\"FY\"&RIGHT('2-Grant Budget'!EA218,2))","v":""},null,{"$f":"IF('2-Grant Budget'!EC218=\"\",\"\",'2-Grant Budget'!EC218)","v":""},{"$f":"IF('2-Grant Budget'!EE218=\"\",\"\",'2-Grant Budget'!EE218)","v":""}]
[null,{"$f":"IF('2-Grant Budget'!EC219=\"\",\"\",RIGHT('2-Grant Budget'!DW219,2))","v":""},{"$f":"IF(G241=\"\",\"\",IF(RIGHT(F241,4)=\"8000\",VLOOKUP('1-Award Info'!$G$19,Tables!Q:R,2,0)&\"08008000\",VLOOKUP('1-Award Info'!$G$19,Tables!Q:R,2,0)&RIGHT(F241,8)))","v":""},"","",{"$f":"IF('2-Grant Budget'!$EC219=\"\",\"\",'2-Grant Budget'!DX219)","v":""},{"$f":"IF('2-Grant Budget'!$EC219=\"\",\"\",'2-Grant Budget'!DY219)","v":""},null,{"$f":"IF('2-Grant Budget'!$EC219=\"\",\"\",\"FY\"&RIGHT('2-Grant Budget'!EA219,2))","v":""},null,{"$f":"IF('2-Grant Budget'!EC219=\"\",\"\",'2-Grant Budget'!EC219)","v":""},{"$f":"IF('2-Grant Budget'!EE219=\"\",\"\",'2-Grant Budget'!EE219)","v":""}]
[null,{"$f":"IF('2-Grant Budget'!EC220=\"\",\"\",RIGHT('2-Grant Budget'!DW220,2))","v":""},{"$f":"IF(G242=\"\",\"\",IF(RIGHT(F242,4)=\"8000\",VLOOKUP('1-Award Info'!$G$19,Tables!Q:R,2,0)&\"08008000\",VLOOKUP('1-Award Info'!$G$19,Tables!Q:R,2,0)&RIGHT(F242,8)))","v":""},"","",{"$f":"IF('2-Grant Budget'!$EC220=\"\",\"\",'2-Grant Budget'!DX220)","v":""},{"$f":"IF('2-Grant Budget'!$EC220=\"\",\"\",'2-Grant Budget'!DY220)","v":""},null,{"$f":"IF('2-Grant Budget'!$EC220=\"\",\"\",\"FY\"&RIGHT('2-Grant Budget'!EA220,2))","v":""},null,{"$f":"IF('2-Grant Budget'!EC220=\"\",\"\",'2-Grant Budget'!EC220)","v":""},{"$f":"IF('2-Grant Budget'!EE220=\"\",\"\",'2-Grant Budget'!EE220)","v":""}]
[null,{"$f":"IF('2-Grant Budget'!EC221=\"\",\"\",RIGHT('2-Grant Budget'!DW221,2))","v":""},{"$f":"IF(G243=\"\",\"\",IF(RIGHT(F243,4)=\"8000\",VLOOKUP('1-Award Info'!$G$19,Tables!Q:R,2,0)&\"08008000\",VLOOKUP('1-Award Info'!$G$19,Tables!Q:R,2,0)&RIGHT(F243,8)))","v":""},"","",{"$f":"IF('2-Grant Budget'!$EC221=\"\",\"\",'2-Grant Budget'!DX221)","v":""},{"$f":"IF('2-Grant Budget'!$EC221=\"\",\"\",'2-Grant Budget'!DY221)","v":""},null,{"$f":"IF('2-Grant Budget'!$EC221=\"\",\"\",\"FY\"&RIGHT('2-Grant Budget'!EA221,2))","v":""},null,{"$f":"IF('2-Grant Budget'!EC221=\"\",\"\",'2-Grant Budget'!EC221)","v":""},{"$f":"IF('2-Grant Budget'!EE221=\"\",\"\",'2-Grant Budget'!EE221)","v":""}]
[null,{"$f":"IF('2-Grant Budget'!EC222=\"\",\"\",RIGHT('2-Grant Budget'!DW222,2))","v":""},{"$f":"IF(G244=\"\",\"\",IF(RIGHT(F244,4)=\"8000\",VLOOKUP('1-Award Info'!$G$19,Tables!Q:R,2,0)&\"08008000\",VLOOKUP('1-Award Info'!$G$19,Tables!Q:R,2,0)&RIGHT(F244,8)))","v":""},"","",{"$f":"IF('2-Grant Budget'!$EC222=\"\",\"\",'2-Grant Budget'!DX222)","v":""},{"$f":"IF('2-Grant Budget'!$EC222=\"\",\"\",'2-Grant Budget'!DY222)","v":""},null,{"$f":"IF('2-Grant Budget'!$EC222=\"\",\"\",\"FY\"&RIGHT('2-Grant Budget'!EA222,2))","v":""},null,{"$f":"IF('2-Grant Budget'!EC222=\"\",\"\",'2-Grant Budget'!EC222)","v":""},{"$f":"IF('2-Grant Budget'!EE222=\"\",\"\",'2-Grant Budget'!EE222)","v":""}]
[null,{"$f":"IF('2-Grant Budget'!EC223=\"\",\"\",RIGHT('2-Grant Budget'!DW223,2))","v":""},{"$f":"IF(G245=\"\",\"\",IF(RIGHT(F245,4)=\"8000\",VLOOKUP('1-Award Info'!$G$19,Tables!Q:R,2,0)&\"08008000\",VLOOKUP('1-Award Info'!$G$19,Tables!Q:R,2,0)&RIGHT(F245,8)))","v":""},"","",{"$f":"IF('2-Grant Budget'!$EC223=\"\",\"\",'2-Grant Budget'!DX223)","v":""},{"$f":"IF('2-Grant Budget'!$EC223=\"\",\"\",'2-Grant Budget'!DY223)","v":""},null,{"$f":"IF('2-Grant Budget'!$EC223=\"\",\"\",\"FY\"&RIGHT('2-Grant Budget'!EA223,2))","v":""},null,{"$f":"IF('2-Grant Budget'!EC223=\"\",\"\",'2-Grant Budget'!EC223)","v":""},{"$f":"IF('2-Grant Budget'!EE223=\"\",\"\",'2-Grant Budget'!EE223)","v":""}]
[null,{"$f":"IF('2-Grant Budget'!EC224=\"\",\"\",RIGHT('2-Grant Budget'!DW224,2))","v":""},{"$f":"IF(G246=\"\",\"\",IF(RIGHT(F246,4)=\"8000\",VLOOKUP('1-Award Info'!$G$19,Tables!Q:R,2,0)&\"08008000\",VLOOKUP('1-Award Info'!$G$19,Tables!Q:R,2,0)&RIGHT(F246,8)))","v":""},"","",{"$f":"IF('2-Grant Budget'!$EC224=\"\",\"\",'2-Grant Budget'!DX224)","v":""},{"$f":"IF('2-Grant Budget'!$EC224=\"\",\"\",'2-Grant Budget'!DY224)","v":""},null,{"$f":"IF('2-Grant Budget'!$EC224=\"\",\"\",\"FY\"&RIGHT('2-Grant Budget'!EA224,2))","v":""},null,{"$f":"IF('2-Grant Budget'!EC224=\"\",\"\",'2-Grant Budget'!EC224)","v":""},{"$f":"IF('2-Grant Budget'!EE224=\"\",\"\",'2-Grant Budget'!EE224)","v":""}]
[null,{"$f":"IF('2-Grant Budget'!EC225=\"\",\"\",RIGHT('2-Grant Budget'!DW225,2))","v":""},{"$f":"IF(G247=\"\",\"\",IF(RIGHT(F247,4)=\"8000\",VLOOKUP('1-Award Info'!$G$19,Tables!Q:R,2,0)&\"08008000\",VLOOKUP('1-Award Info'!$G$19,Tables!Q:R,2,0)&RIGHT(F247,8)))","v":""},"","",{"$f":"IF('2-Grant Budget'!$EC225=\"\",\"\",'2-Grant Budget'!DX225)","v":""},{"$f":"IF('2-Grant Budget'!$EC225=\"\",\"\",'2-Grant Budget'!DY225)","v":""},null,{"$f":"IF('2-Grant Budget'!$EC225=\"\",\"\",\"FY\"&RIGHT('2-Grant Budget'!EA225,2))","v":""},null,{"$f":"IF('2-Grant Budget'!EC225=\"\",\"\",'2-Grant Budget'!EC225)","v":""},{"$f":"IF('2-Grant Budget'!EE225=\"\",\"\",'2-Grant Budget'!EE225)","v":""}]
[null,{"$f":"IF('2-Grant Budget'!EC226=\"\",\"\",RIGHT('2-Grant Budget'!DW226,2))","v":""},{"$f":"IF(G248=\"\",\"\",IF(RIGHT(F248,4)=\"8000\",VLOOKUP('1-Award Info'!$G$19,Tables!Q:R,2,0)&\"08008000\",VLOOKUP('1-Award Info'!$G$19,Tables!Q:R,2,0)&RIGHT(F248,8)))","v":""},"","",{"$f":"IF('2-Grant Budget'!$EC226=\"\",\"\",'2-Grant Budget'!DX226)","v":""},{"$f":"IF('2-Grant Budget'!$EC226=\"\",\"\",'2-Grant Budget'!DY226)","v":""},null,{"$f":"IF('2-Grant Budget'!$EC226=\"\",\"\",\"FY\"&RIGHT('2-Grant Budget'!EA226,2))","v":""},null,{"$f":"IF('2-Grant Budget'!EC226=\"\",\"\",'2-Grant Budget'!EC226)","v":""},{"$f":"IF('2-Grant Budget'!EE226=\"\",\"\",'2-Grant Budget'!EE226)","v":""}]
[null,{"$f":"IF('2-Grant Budget'!EC227=\"\",\"\",RIGHT('2-Grant Budget'!DW227,2))","v":""},{"$f":"IF(G249=\"\",\"\",IF(RIGHT(F249,4)=\"8000\",VLOOKUP('1-Award Info'!$G$19,Tables!Q:R,2,0)&\"08008000\",VLOOKUP('1-Award Info'!$G$19,Tables!Q:R,2,0)&RIGHT(F249,8)))","v":""},"","",{"$f":"IF('2-Grant Budget'!$EC227=\"\",\"\",'2-Grant Budget'!DX227)","v":""},{"$f":"IF('2-Grant Budget'!$EC227=\"\",\"\",'2-Grant Budget'!DY227)","v":""},null,{"$f":"IF('2-Grant Budget'!$EC227=\"\",\"\",\"FY\"&RIGHT('2-Grant Budget'!EA227,2))","v":""},null,{"$f":"IF('2-Grant Budget'!EC227=\"\",\"\",'2-Grant Budget'!EC227)","v":""},{"$f":"IF('2-Grant Budget'!EE227=\"\",\"\",'2-Grant Budget'!EE227)","v":""}]
[null,{"$f":"IF('2-Grant Budget'!EC228=\"\",\"\",RIGHT('2-Grant Budget'!DW228,2))","v":""},{"$f":"IF(G250=\"\",\"\",IF(RIGHT(F250,4)=\"8000\",VLOOKUP('1-Award Info'!$G$19,Tables!Q:R,2,0)&\"08008000\",VLOOKUP('1-Award Info'!$G$19,Tables!Q:R,2,0)&RIGHT(F250,8)))","v":""},"","",{"$f":"IF('2-Grant Budget'!$EC228=\"\",\"\",'2-Grant Budget'!DX228)","v":""},{"$f":"IF('2-Grant Budget'!$EC228=\"\",\"\",'2-Grant Budget'!DY228)","v":""},null,{"$f":"IF('2-Grant Budget'!$EC228=\"\",\"\",\"FY\"&RIGHT('2-Grant Budget'!EA228,2))","v":""},null,{"$f":"IF('2-Grant Budget'!EC228=\"\",\"\",'2-Grant Budget'!EC228)","v":""},{"$f":"IF('2-Grant Budget'!EE228=\"\",\"\",'2-Grant Budget'!EE228)","v":""}]
[null,{"$f":"IF('2-Grant Budget'!EC229=\"\",\"\",RIGHT('2-Grant Budget'!DW229,2))","v":""},{"$f":"IF(G251=\"\",\"\",IF(RIGHT(F251,4)=\"8000\",VLOOKUP('1-Award Info'!$G$19,Tables!Q:R,2,0)&\"08008000\",VLOOKUP('1-Award Info'!$G$19,Tables!Q:R,2,0)&RIGHT(F251,8)))","v":""},"","",{"$f":"IF('2-Grant Budget'!$EC229=\"\",\"\",'2-Grant Budget'!DX229)","v":""},{"$f":"IF('2-Grant Budget'!$EC229=\"\",\"\",'2-Grant Budget'!DY229)","v":""},null,{"$f":"IF('2-Grant Budget'!$EC229=\"\",\"\",\"FY\"&RIGHT('2-Grant Budget'!EA229,2))","v":""},null,{"$f":"IF('2-Grant Budget'!EC229=\"\",\"\",'2-Grant Budget'!EC229)","v":""},{"$f":"IF('2-Grant Budget'!EE229=\"\",\"\",'2-Grant Budget'!EE229)","v":""}]
[null,{"$f":"IF('2-Grant Budget'!EC230=\"\",\"\",RIGHT('2-Grant Budget'!DW230,2))","v":""},{"$f":"IF(G252=\"\",\"\",IF(RIGHT(F252,4)=\"8000\",VLOOKUP('1-Award Info'!$G$19,Tables!Q:R,2,0)&\"08008000\",VLOOKUP('1-Award Info'!$G$19,Tables!Q:R,2,0)&RIGHT(F252,8)))","v":""},"","",{"$f":"IF('2-Grant Budget'!$EC230=\"\",\"\",'2-Grant Budget'!DX230)","v":""},{"$f":"IF('2-Grant Budget'!$EC230=\"\",\"\",'2-Grant Budget'!DY230)","v":""},null,{"$f":"IF('2-Grant Budget'!$EC230=\"\",\"\",\"FY\"&RIGHT('2-Grant Budget'!EA230,2))","v":""},null,{"$f":"IF('2-Grant Budget'!EC230=\"\",\"\",'2-Grant Budget'!EC230)","v":""},{"$f":"IF('2-Grant Budget'!EE230=\"\",\"\",'2-Grant Budget'!EE230)","v":""}]
[null,{"$f":"IF('2-Grant Budget'!EC231=\"\",\"\",RIGHT('2-Grant Budget'!DW231,2))","v":""},{"$f":"IF(G253=\"\",\"\",IF(RIGHT(F253,4)=\"8000\",VLOOKUP('1-Award Info'!$G$19,Tables!Q:R,2,0)&\"08008000\",VLOOKUP('1-Award Info'!$G$19,Tables!Q:R,2,0)&RIGHT(F253,8)))","v":""},"","",{"$f":"IF('2-Grant Budget'!$EC231=\"\",\"\",'2-Grant Budget'!DX231)","v":""},{"$f":"IF('2-Grant Budget'!$EC231=\"\",\"\",'2-Grant Budget'!DY231)","v":""},null,{"$f":"IF('2-Grant Budget'!$EC231=\"\",\"\",\"FY\"&RIGHT('2-Grant Budget'!EA231,2))","v":""},null,{"$f":"IF('2-Grant Budget'!EC231=\"\",\"\",'2-Grant Budget'!EC231)","v":""},{"$f":"IF('2-Grant Budget'!EE231=\"\",\"\",'2-Grant Budget'!EE231)","v":""}]
[null,{"$f":"IF('2-Grant Budget'!EC232=\"\",\"\",RIGHT('2-Grant Budget'!DW232,2))","v":""},{"$f":"IF(G254=\"\",\"\",IF(RIGHT(F254,4)=\"8000\",VLOOKUP('1-Award Info'!$G$19,Tables!Q:R,2,0)&\"08008000\",VLOOKUP('1-Award Info'!$G$19,Tables!Q:R,2,0)&RIGHT(F254,8)))","v":""},"","",{"$f":"IF('2-Grant Budget'!$EC232=\"\",\"\",'2-Grant Budget'!DX232)","v":""},{"$f":"IF('2-Grant Budget'!$EC232=\"\",\"\",'2-Grant Budget'!DY232)","v":""},null,{"$f":"IF('2-Grant Budget'!$EC232=\"\",\"\",\"FY\"&RIGHT('2-Grant Budget'!EA232,2))","v":""},null,{"$f":"IF('2-Grant Budget'!EC232=\"\",\"\",'2-Grant Budget'!EC232)","v":""},{"$f":"IF('2-Grant Budget'!EE232=\"\",\"\",'2-Grant Budget'!EE232)","v":""}]
[null,{"$f":"IF('2-Grant Budget'!EC233=\"\",\"\",RIGHT('2-Grant Budget'!DW233,2))","v":""},{"$f":"IF(G255=\"\",\"\",IF(RIGHT(F255,4)=\"8000\",VLOOKUP('1-Award Info'!$G$19,Tables!Q:R,2,0)&\"08008000\",VLOOKUP('1-Award Info'!$G$19,Tables!Q:R,2,0)&RIGHT(F255,8)))","v":""},"","",{"$f":"IF('2-Grant Budget'!$EC233=\"\",\"\",'2-Grant Budget'!DX233)","v":""},{"$f":"IF('2-Grant Budget'!$EC233=\"\",\"\",'2-Grant Budget'!DY233)","v":""},null,{"$f":"IF('2-Grant Budget'!$EC233=\"\",\"\",\"FY\"&RIGHT('2-Grant Budget'!EA233,2))","v":""},null,{"$f":"IF('2-Grant Budget'!EC233=\"\",\"\",'2-Grant Budget'!EC233)","v":""},{"$f":"IF('2-Grant Budget'!EE233=\"\",\"\",'2-Grant Budget'!EE233)","v":""}]
[null,{"$f":"IF('2-Grant Budget'!EC234=\"\",\"\",RIGHT('2-Grant Budget'!DW234,2))","v":""},{"$f":"IF(G256=\"\",\"\",IF(RIGHT(F256,4)=\"8000\",VLOOKUP('1-Award Info'!$G$19,Tables!Q:R,2,0)&\"08008000\",VLOOKUP('1-Award Info'!$G$19,Tables!Q:R,2,0)&RIGHT(F256,8)))","v":""},"","",{"$f":"IF('2-Grant Budget'!$EC234=\"\",\"\",'2-Grant Budget'!DX234)","v":""},{"$f":"IF('2-Grant Budget'!$EC234=\"\",\"\",'2-Grant Budget'!DY234)","v":""},null,{"$f":"IF('2-Grant Budget'!$EC234=\"\",\"\",\"FY\"&RIGHT('2-Grant Budget'!EA234,2))","v":""},null,{"$f":"IF('2-Grant Budget'!EC234=\"\",\"\",'2-Grant Budget'!EC234)","v":""},{"$f":"IF('2-Grant Budget'!EE234=\"\",\"\",'2-Grant Budget'!EE234)","v":""}]
[null,{"$f":"IF('2-Grant Budget'!EC235=\"\",\"\",RIGHT('2-Grant Budget'!DW235,2))","v":""},{"$f":"IF(G257=\"\",\"\",IF(RIGHT(F257,4)=\"8000\",VLOOKUP('1-Award Info'!$G$19,Tables!Q:R,2,0)&\"08008000\",VLOOKUP('1-Award Info'!$G$19,Tables!Q:R,2,0)&RIGHT(F257,8)))","v":""},"","",{"$f":"IF('2-Grant Budget'!$EC235=\"\",\"\",'2-Grant Budget'!DX235)","v":""},{"$f":"IF('2-Grant Budget'!$EC235=\"\",\"\",'2-Grant Budget'!DY235)","v":""},null,{"$f":"IF('2-Grant Budget'!$EC235=\"\",\"\",\"FY\"&RIGHT('2-Grant Budget'!EA235,2))","v":""},null,{"$f":"IF('2-Grant Budget'!EC235=\"\",\"\",'2-Grant Budget'!EC235)","v":""},{"$f":"IF('2-Grant Budget'!EE235=\"\",\"\",'2-Grant Budget'!EE235)","v":""}]
[null,{"$f":"IF('2-Grant Budget'!EC236=\"\",\"\",RIGHT('2-Grant Budget'!DW236,2))","v":""},{"$f":"IF(G258=\"\",\"\",IF(RIGHT(F258,4)=\"8000\",VLOOKUP('1-Award Info'!$G$19,Tables!Q:R,2,0)&\"08008000\",VLOOKUP('1-Award Info'!$G$19,Tables!Q:R,2,0)&RIGHT(F258,8)))","v":""},"","",{"$f":"IF('2-Grant Budget'!$EC236=\"\",\"\",'2-Grant Budget'!DX236)","v":""},{"$f":"IF('2-Grant Budget'!$EC236=\"\",\"\",'2-Grant Budget'!DY236)","v":""},null,{"$f":"IF('2-Grant Budget'!$EC236=\"\",\"\",\"FY\"&RIGHT('2-Grant Budget'!EA236,2))","v":""},null,{"$f":"IF('2-Grant Budget'!EC236=\"\",\"\",'2-Grant Budget'!EC236)","v":""},{"$f":"IF('2-Grant Budget'!EE236=\"\",\"\",'2-Grant Budget'!EE236)","v":""}]
[null,{"$f":"IF('2-Grant Budget'!EC237=\"\",\"\",RIGHT('2-Grant Budget'!DW237,2))","v":""},{"$f":"IF(G259=\"\",\"\",IF(RIGHT(F259,4)=\"8000\",VLOOKUP('1-Award Info'!$G$19,Tables!Q:R,2,0)&\"08008000\",VLOOKUP('1-Award Info'!$G$19,Tables!Q:R,2,0)&RIGHT(F259,8)))","v":""},"","",{"$f":"IF('2-Grant Budget'!$EC237=\"\",\"\",'2-Grant Budget'!DX237)","v":""},{"$f":"IF('2-Grant Budget'!$EC237=\"\",\"\",'2-Grant Budget'!DY237)","v":""},null,{"$f":"IF('2-Grant Budget'!$EC237=\"\",\"\",\"FY\"&RIGHT('2-Grant Budget'!EA237,2))","v":""},null,{"$f":"IF('2-Grant Budget'!EC237=\"\",\"\",'2-Grant Budget'!EC237)","v":""},{"$f":"IF('2-Grant Budget'!EE237=\"\",\"\",'2-Grant Budget'!EE237)","v":""}]
[null,{"$f":"IF('2-Grant Budget'!EC238=\"\",\"\",RIGHT('2-Grant Budget'!DW238,2))","v":""},{"$f":"IF(G260=\"\",\"\",IF(RIGHT(F260,4)=\"8000\",VLOOKUP('1-Award Info'!$G$19,Tables!Q:R,2,0)&\"08008000\",VLOOKUP('1-Award Info'!$G$19,Tables!Q:R,2,0)&RIGHT(F260,8)))","v":""},"","",{"$f":"IF('2-Grant Budget'!$EC238=\"\",\"\",'2-Grant Budget'!DX238)","v":""},{"$f":"IF('2-Grant Budget'!$EC238=\"\",\"\",'2-Grant Budget'!DY238)","v":""},null,{"$f":"IF('2-Grant Budget'!$EC238=\"\",\"\",\"FY\"&RIGHT('2-Grant Budget'!EA238,2))","v":""},null,{"$f":"IF('2-Grant Budget'!EC238=\"\",\"\",'2-Grant Budget'!EC238)","v":""},{"$f":"IF('2-Grant Budget'!EE238=\"\",\"\",'2-Grant Budget'!EE238)","v":""}]
[null,{"$f":"IF('2-Grant Budget'!EC239=\"\",\"\",RIGHT('2-Grant Budget'!DW239,2))","v":""},{"$f":"IF(G261=\"\",\"\",IF(RIGHT(F261,4)=\"8000\",VLOOKUP('1-Award Info'!$G$19,Tables!Q:R,2,0)&\"08008000\",VLOOKUP('1-Award Info'!$G$19,Tables!Q:R,2,0)&RIGHT(F261,8)))","v":""},"","",{"$f":"IF('2-Grant Budget'!$EC239=\"\",\"\",'2-Grant Budget'!DX239)","v":""},{"$f":"IF('2-Grant Budget'!$EC239=\"\",\"\",'2-Grant Budget'!DY239)","v":""},null,{"$f":"IF('2-Grant Budget'!$EC239=\"\",\"\",\"FY\"&RIGHT('2-Grant Budget'!EA239,2))","v":""},null,{"$f":"IF('2-Grant Budget'!EC239=\"\",\"\",'2-Grant Budget'!EC239)","v":""},{"$f":"IF('2-Grant Budget'!EE239=\"\",\"\",'2-Grant Budget'!EE239)","v":""}]
[null,{"$f":"IF('2-Grant Budget'!EC240=\"\",\"\",RIGHT('2-Grant Budget'!DW240,2))","v":""},{"$f":"IF(G262=\"\",\"\",IF(RIGHT(F262,4)=\"8000\",VLOOKUP('1-Award Info'!$G$19,Tables!Q:R,2,0)&\"08008000\",VLOOKUP('1-Award Info'!$G$19,Tables!Q:R,2,0)&RIGHT(F262,8)))","v":""},"","",{"$f":"IF('2-Grant Budget'!$EC240=\"\",\"\",'2-Grant Budget'!DX240)","v":""},{"$f":"IF('2-Grant Budget'!$EC240=\"\",\"\",'2-Grant Budget'!DY240)","v":""},null,{"$f":"IF('2-Grant Budget'!$EC240=\"\",\"\",\"FY\"&RIGHT('2-Grant Budget'!EA240,2))","v":""},null,{"$f":"IF('2-Grant Budget'!EC240=\"\",\"\",'2-Grant Budget'!EC240)","v":""},{"$f":"IF('2-Grant Budget'!EE240=\"\",\"\",'2-Grant Budget'!EE240)","v":""}]
[null,{"$f":"IF('2-Grant Budget'!EC241=\"\",\"\",RIGHT('2-Grant Budget'!DW241,2))","v":""},{"$f":"IF(G263=\"\",\"\",IF(RIGHT(F263,4)=\"8000\",VLOOKUP('1-Award Info'!$G$19,Tables!Q:R,2,0)&\"08008000\",VLOOKUP('1-Award Info'!$G$19,Tables!Q:R,2,0)&RIGHT(F263,8)))","v":""},"","",{"$f":"IF('2-Grant Budget'!$EC241=\"\",\"\",'2-Grant Budget'!DX241)","v":""},{"$f":"IF('2-Grant Budget'!$EC241=\"\",\"\",'2-Grant Budget'!DY241)","v":""},null,{"$f":"IF('2-Grant Budget'!$EC241=\"\",\"\",\"FY\"&RIGHT('2-Grant Budget'!EA241,2))","v":""},null,{"$f":"IF('2-Grant Budget'!EC241=\"\",\"\",'2-Grant Budget'!EC241)","v":""},{"$f":"IF('2-Grant Budget'!EE241=\"\",\"\",'2-Grant Budget'!EE241)","v":""}]
[null,{"$f":"IF('2-Grant Budget'!EC242=\"\",\"\",RIGHT('2-Grant Budget'!DW242,2))","v":""},{"$f":"IF(G264=\"\",\"\",IF(RIGHT(F264,4)=\"8000\",VLOOKUP('1-Award Info'!$G$19,Tables!Q:R,2,0)&\"08008000\",VLOOKUP('1-Award Info'!$G$19,Tables!Q:R,2,0)&RIGHT(F264,8)))","v":""},"","",{"$f":"IF('2-Grant Budget'!$EC242=\"\",\"\",'2-Grant Budget'!DX242)","v":""},{"$f":"IF('2-Grant Budget'!$EC242=\"\",\"\",'2-Grant Budget'!DY242)","v":""},null,{"$f":"IF('2-Grant Budget'!$EC242=\"\",\"\",\"FY\"&RIGHT('2-Grant Budget'!EA242,2))","v":""},null,{"$f":"IF('2-Grant Budget'!EC242=\"\",\"\",'2-Grant Budget'!EC242)","v":""},{"$f":"IF('2-Grant Budget'!EE242=\"\",\"\",'2-Grant Budget'!EE242)","v":""}]
[null,{"$f":"IF('2-Grant Budget'!EC243=\"\",\"\",RIGHT('2-Grant Budget'!DW243,2))","v":""},{"$f":"IF(G265=\"\",\"\",IF(RIGHT(F265,4)=\"8000\",VLOOKUP('1-Award Info'!$G$19,Tables!Q:R,2,0)&\"08008000\",VLOOKUP('1-Award Info'!$G$19,Tables!Q:R,2,0)&RIGHT(F265,8)))","v":""},"","",{"$f":"IF('2-Grant Budget'!$EC243=\"\",\"\",'2-Grant Budget'!DX243)","v":""},{"$f":"IF('2-Grant Budget'!$EC243=\"\",\"\",'2-Grant Budget'!DY243)","v":""},null,{"$f":"IF('2-Grant Budget'!$EC243=\"\",\"\",\"FY\"&RIGHT('2-Grant Budget'!EA243,2))","v":""},null,{"$f":"IF('2-Grant Budget'!EC243=\"\",\"\",'2-Grant Budget'!EC243)","v":""},{"$f":"IF('2-Grant Budget'!EE243=\"\",\"\",'2-Grant Budget'!EE243)","v":""}]
[null,{"$f":"IF('2-Grant Budget'!EC244=\"\",\"\",RIGHT('2-Grant Budget'!DW244,2))","v":""},{"$f":"IF(G266=\"\",\"\",IF(RIGHT(F266,4)=\"8000\",VLOOKUP('1-Award Info'!$G$19,Tables!Q:R,2,0)&\"08008000\",VLOOKUP('1-Award Info'!$G$19,Tables!Q:R,2,0)&RIGHT(F266,8)))","v":""},"","",{"$f":"IF('2-Grant Budget'!$EC244=\"\",\"\",'2-Grant Budget'!DX244)","v":""},{"$f":"IF('2-Grant Budget'!$EC244=\"\",\"\",'2-Grant Budget'!DY244)","v":""},null,{"$f":"IF('2-Grant Budget'!$EC244=\"\",\"\",\"FY\"&RIGHT('2-Grant Budget'!EA244,2))","v":""},null,{"$f":"IF('2-Grant Budget'!EC244=\"\",\"\",'2-Grant Budget'!EC244)","v":""},{"$f":"IF('2-Grant Budget'!EE244=\"\",\"\",'2-Grant Budget'!EE244)","v":""}]
[null,{"$f":"IF('2-Grant Budget'!EC245=\"\",\"\",RIGHT('2-Grant Budget'!DW245,2))","v":""},{"$f":"IF(G267=\"\",\"\",IF(RIGHT(F267,4)=\"8000\",VLOOKUP('1-Award Info'!$G$19,Tables!Q:R,2,0)&\"08008000\",VLOOKUP('1-Award Info'!$G$19,Tables!Q:R,2,0)&RIGHT(F267,8)))","v":""},"","",{"$f":"IF('2-Grant Budget'!$EC245=\"\",\"\",'2-Grant Budget'!DX245)","v":""},{"$f":"IF('2-Grant Budget'!$EC245=\"\",\"\",'2-Grant Budget'!DY245)","v":""},null,{"$f":"IF('2-Grant Budget'!$EC245=\"\",\"\",\"FY\"&RIGHT('2-Grant Budget'!EA245,2))","v":""},null,{"$f":"IF('2-Grant Budget'!EC245=\"\",\"\",'2-Grant Budget'!EC245)","v":""},{"$f":"IF('2-Grant Budget'!EE245=\"\",\"\",'2-Grant Budget'!EE245)","v":""}]
[null,{"$f":"IF('2-Grant Budget'!EC246=\"\",\"\",RIGHT('2-Grant Budget'!DW246,2))","v":""},{"$f":"IF(G268=\"\",\"\",IF(RIGHT(F268,4)=\"8000\",VLOOKUP('1-Award Info'!$G$19,Tables!Q:R,2,0)&\"08008000\",VLOOKUP('1-Award Info'!$G$19,Tables!Q:R,2,0)&RIGHT(F268,8)))","v":""},"","",{"$f":"IF('2-Grant Budget'!$EC246=\"\",\"\",'2-Grant Budget'!DX246)","v":""},{"$f":"IF('2-Grant Budget'!$EC246=\"\",\"\",'2-Grant Budget'!DY246)","v":""},null,{"$f":"IF('2-Grant Budget'!$EC246=\"\",\"\",\"FY\"&RIGHT('2-Grant Budget'!EA246,2))","v":""},null,{"$f":"IF('2-Grant Budget'!EC246=\"\",\"\",'2-Grant Budget'!EC246)","v":""},{"$f":"IF('2-Grant Budget'!EE246=\"\",\"\",'2-Grant Budget'!EE246)","v":""}]
[null,{"$f":"IF('2-Grant Budget'!EC247=\"\",\"\",RIGHT('2-Grant Budget'!DW247,2))","v":""},{"$f":"IF(G269=\"\",\"\",IF(RIGHT(F269,4)=\"8000\",VLOOKUP('1-Award Info'!$G$19,Tables!Q:R,2,0)&\"08008000\",VLOOKUP('1-Award Info'!$G$19,Tables!Q:R,2,0)&RIGHT(F269,8)))","v":""},"","",{"$f":"IF('2-Grant Budget'!$EC247=\"\",\"\",'2-Grant Budget'!DX247)","v":""},{"$f":"IF('2-Grant Budget'!$EC247=\"\",\"\",'2-Grant Budget'!DY247)","v":""},null,{"$f":"IF('2-Grant Budget'!$EC247=\"\",\"\",\"FY\"&RIGHT('2-Grant Budget'!EA247,2))","v":""},null,{"$f":"IF('2-Grant Budget'!EC247=\"\",\"\",'2-Grant Budget'!EC247)","v":""},{"$f":"IF('2-Grant Budget'!EE247=\"\",\"\",'2-Grant Budget'!EE247)","v":""}]
[null,{"$f":"IF('2-Grant Budget'!EC248=\"\",\"\",RIGHT('2-Grant Budget'!DW248,2))","v":""},{"$f":"IF(G270=\"\",\"\",IF(RIGHT(F270,4)=\"8000\",VLOOKUP('1-Award Info'!$G$19,Tables!Q:R,2,0)&\"08008000\",VLOOKUP('1-Award Info'!$G$19,Tables!Q:R,2,0)&RIGHT(F270,8)))","v":""},"","",{"$f":"IF('2-Grant Budget'!$EC248=\"\",\"\",'2-Grant Budget'!DX248)","v":""},{"$f":"IF('2-Grant Budget'!$EC248=\"\",\"\",'2-Grant Budget'!DY248)","v":""},null,{"$f":"IF('2-Grant Budget'!$EC248=\"\",\"\",\"FY\"&RIGHT('2-Grant Budget'!EA248,2))","v":""},null,{"$f":"IF('2-Grant Budget'!EC248=\"\",\"\",'2-Grant Budget'!EC248)","v":""},{"$f":"IF('2-Grant Budget'!EE248=\"\",\"\",'2-Grant Budget'!EE248)","v":""}]
[null,{"$f":"IF('2-Grant Budget'!EC249=\"\",\"\",RIGHT('2-Grant Budget'!DW249,2))","v":""},{"$f":"IF(G271=\"\",\"\",IF(RIGHT(F271,4)=\"8000\",VLOOKUP('1-Award Info'!$G$19,Tables!Q:R,2,0)&\"08008000\",VLOOKUP('1-Award Info'!$G$19,Tables!Q:R,2,0)&RIGHT(F271,8)))","v":""},"","",{"$f":"IF('2-Grant Budget'!$EC249=\"\",\"\",'2-Grant Budget'!DX249)","v":""},{"$f":"IF('2-Grant Budget'!$EC249=\"\",\"\",'2-Grant Budget'!DY249)","v":""},null,{"$f":"IF('2-Grant Budget'!$EC249=\"\",\"\",\"FY\"&RIGHT('2-Grant Budget'!EA249,2))","v":""},null,{"$f":"IF('2-Grant Budget'!EC249=\"\",\"\",'2-Grant Budget'!EC249)","v":""},{"$f":"IF('2-Grant Budget'!EE249=\"\",\"\",'2-Grant Budget'!EE249)","v":""}]
[null,{"$f":"IF('2-Grant Budget'!EC250=\"\",\"\",RIGHT('2-Grant Budget'!DW250,2))","v":""},{"$f":"IF(G272=\"\",\"\",IF(RIGHT(F272,4)=\"8000\",VLOOKUP('1-Award Info'!$G$19,Tables!Q:R,2,0)&\"08008000\",VLOOKUP('1-Award Info'!$G$19,Tables!Q:R,2,0)&RIGHT(F272,8)))","v":""},"","",{"$f":"IF('2-Grant Budget'!$EC250=\"\",\"\",'2-Grant Budget'!DX250)","v":""},{"$f":"IF('2-Grant Budget'!$EC250=\"\",\"\",'2-Grant Budget'!DY250)","v":""},null,{"$f":"IF('2-Grant Budget'!$EC250=\"\",\"\",\"FY\"&RIGHT('2-Grant Budget'!EA250,2))","v":""},null,{"$f":"IF('2-Grant Budget'!EC250=\"\",\"\",'2-Grant Budget'!EC250)","v":""},{"$f":"IF('2-Grant Budget'!EE250=\"\",\"\",'2-Grant Budget'!EE250)","v":""}]
[null,{"$f":"IF('2-Grant Budget'!EC251=\"\",\"\",RIGHT('2-Grant Budget'!DW251,2))","v":""},{"$f":"IF(G273=\"\",\"\",IF(RIGHT(F273,4)=\"8000\",VLOOKUP('1-Award Info'!$G$19,Tables!Q:R,2,0)&\"08008000\",VLOOKUP('1-Award Info'!$G$19,Tables!Q:R,2,0)&RIGHT(F273,8)))","v":""},"","",{"$f":"IF('2-Grant Budget'!$EC251=\"\",\"\",'2-Grant Budget'!DX251)","v":""},{"$f":"IF('2-Grant Budget'!$EC251=\"\",\"\",'2-Grant Budget'!DY251)","v":""},null,{"$f":"IF('2-Grant Budget'!$EC251=\"\",\"\",\"FY\"&RIGHT('2-Grant Budget'!EA251,2))","v":""},null,{"$f":"IF('2-Grant Budget'!EC251=\"\",\"\",'2-Grant Budget'!EC251)","v":""},{"$f":"IF('2-Grant Budget'!EE251=\"\",\"\",'2-Grant Budget'!EE251)","v":""}]
[null,{"$f":"IF('2-Grant Budget'!EC252=\"\",\"\",RIGHT('2-Grant Budget'!DW252,2))","v":""},{"$f":"IF(G274=\"\",\"\",IF(RIGHT(F274,4)=\"8000\",VLOOKUP('1-Award Info'!$G$19,Tables!Q:R,2,0)&\"08008000\",VLOOKUP('1-Award Info'!$G$19,Tables!Q:R,2,0)&RIGHT(F274,8)))","v":""},"","",{"$f":"IF('2-Grant Budget'!$EC252=\"\",\"\",'2-Grant Budget'!DX252)","v":""},{"$f":"IF('2-Grant Budget'!$EC252=\"\",\"\",'2-Grant Budget'!DY252)","v":""},null,{"$f":"IF('2-Grant Budget'!$EC252=\"\",\"\",\"FY\"&RIGHT('2-Grant Budget'!EA252,2))","v":""},null,{"$f":"IF('2-Grant Budget'!EC252=\"\",\"\",'2-Grant Budget'!EC252)","v":""},{"$f":"IF('2-Grant Budget'!EE252=\"\",\"\",'2-Grant Budget'!EE252)","v":""}]
[null,{"$f":"IF('2-Grant Budget'!EC253=\"\",\"\",RIGHT('2-Grant Budget'!DW253,2))","v":""},{"$f":"IF(G275=\"\",\"\",IF(RIGHT(F275,4)=\"8000\",VLOOKUP('1-Award Info'!$G$19,Tables!Q:R,2,0)&\"08008000\",VLOOKUP('1-Award Info'!$G$19,Tables!Q:R,2,0)&RIGHT(F275,8)))","v":""},"","",{"$f":"IF('2-Grant Budget'!$EC253=\"\",\"\",'2-Grant Budget'!DX253)","v":""},{"$f":"IF('2-Grant Budget'!$EC253=\"\",\"\",'2-Grant Budget'!DY253)","v":""},null,{"$f":"IF('2-Grant Budget'!$EC253=\"\",\"\",\"FY\"&RIGHT('2-Grant Budget'!EA253,2))","v":""},null,{"$f":"IF('2-Grant Budget'!EC253=\"\",\"\",'2-Grant Budget'!EC253)","v":""},{"$f":"IF('2-Grant Budget'!EE253=\"\",\"\",'2-Grant Budget'!EE253)","v":""}]
[null,{"$f":"IF('2-Grant Budget'!EC254=\"\",\"\",RIGHT('2-Grant Budget'!DW254,2))","v":""},{"$f":"IF(G276=\"\",\"\",IF(RIGHT(F276,4)=\"8000\",VLOOKUP('1-Award Info'!$G$19,Tables!Q:R,2,0)&\"08008000\",VLOOKUP('1-Award Info'!$G$19,Tables!Q:R,2,0)&RIGHT(F276,8)))","v":""},"","",{"$f":"IF('2-Grant Budget'!$EC254=\"\",\"\",'2-Grant Budget'!DX254)","v":""},{"$f":"IF('2-Grant Budget'!$EC254=\"\",\"\",'2-Grant Budget'!DY254)","v":""},null,{"$f":"IF('2-Grant Budget'!$EC254=\"\",\"\",\"FY\"&RIGHT('2-Grant Budget'!EA254,2))","v":""},null,{"$f":"IF('2-Grant Budget'!EC254=\"\",\"\",'2-Grant Budget'!EC254)","v":""},{"$f":"IF('2-Grant Budget'!EE254=\"\",\"\",'2-Grant Budget'!EE254)","v":""}]
[null,{"$f":"IF('2-Grant Budget'!EC255=\"\",\"\",RIGHT('2-Grant Budget'!DW255,2))","v":""},{"$f":"IF(G277=\"\",\"\",IF(RIGHT(F277,4)=\"8000\",VLOOKUP('1-Award Info'!$G$19,Tables!Q:R,2,0)&\"08008000\",VLOOKUP('1-Award Info'!$G$19,Tables!Q:R,2,0)&RIGHT(F277,8)))","v":""},"","",{"$f":"IF('2-Grant Budget'!$EC255=\"\",\"\",'2-Grant Budget'!DX255)","v":""},{"$f":"IF('2-Grant Budget'!$EC255=\"\",\"\",'2-Grant Budget'!DY255)","v":""},null,{"$f":"IF('2-Grant Budget'!$EC255=\"\",\"\",\"FY\"&RIGHT('2-Grant Budget'!EA255,2))","v":""},null,{"$f":"IF('2-Grant Budget'!EC255=\"\",\"\",'2-Grant Budget'!EC255)","v":""},{"$f":"IF('2-Grant Budget'!EE255=\"\",\"\",'2-Grant Budget'!EE255)","v":""}]
[null,{"$f":"IF('2-Grant Budget'!EC256=\"\",\"\",RIGHT('2-Grant Budget'!DW256,2))","v":""},{"$f":"IF(G278=\"\",\"\",IF(RIGHT(F278,4)=\"8000\",VLOOKUP('1-Award Info'!$G$19,Tables!Q:R,2,0)&\"08008000\",VLOOKUP('1-Award Info'!$G$19,Tables!Q:R,2,0)&RIGHT(F278,8)))","v":""},"","",{"$f":"IF('2-Grant Budget'!$EC256=\"\",\"\",'2-Grant Budget'!DX256)","v":""},{"$f":"IF('2-Grant Budget'!$EC256=\"\",\"\",'2-Grant Budget'!DY256)","v":""},null,{"$f":"IF('2-Grant Budget'!$EC256=\"\",\"\",\"FY\"&RIGHT('2-Grant Budget'!EA256,2))","v":""},null,{"$f":"IF('2-Grant Budget'!EC256=\"\",\"\",'2-Grant Budget'!EC256)","v":""},{"$f":"IF('2-Grant Budget'!EE256=\"\",\"\",'2-Grant Budget'!EE256)","v":""}]
[null,{"$f":"IF('2-Grant Budget'!EC257=\"\",\"\",RIGHT('2-Grant Budget'!DW257,2))","v":""},{"$f":"IF(G279=\"\",\"\",IF(RIGHT(F279,4)=\"8000\",VLOOKUP('1-Award Info'!$G$19,Tables!Q:R,2,0)&\"08008000\",VLOOKUP('1-Award Info'!$G$19,Tables!Q:R,2,0)&RIGHT(F279,8)))","v":""},"","",{"$f":"IF('2-Grant Budget'!$EC257=\"\",\"\",'2-Grant Budget'!DX257)","v":""},{"$f":"IF('2-Grant Budget'!$EC257=\"\",\"\",'2-Grant Budget'!DY257)","v":""},null,{"$f":"IF('2-Grant Budget'!$EC257=\"\",\"\",\"FY\"&RIGHT('2-Grant Budget'!EA257,2))","v":""},null,{"$f":"IF('2-Grant Budget'!EC257=\"\",\"\",'2-Grant Budget'!EC257)","v":""},{"$f":"IF('2-Grant Budget'!EE257=\"\",\"\",'2-Grant Budget'!EE257)","v":""}]
[null,{"$f":"IF('2-Grant Budget'!EC258=\"\",\"\",RIGHT('2-Grant Budget'!DW258,2))","v":""},{"$f":"IF(G280=\"\",\"\",IF(RIGHT(F280,4)=\"8000\",VLOOKUP('1-Award Info'!$G$19,Tables!Q:R,2,0)&\"08008000\",VLOOKUP('1-Award Info'!$G$19,Tables!Q:R,2,0)&RIGHT(F280,8)))","v":""},"","",{"$f":"IF('2-Grant Budget'!$EC258=\"\",\"\",'2-Grant Budget'!DX258)","v":""},{"$f":"IF('2-Grant Budget'!$EC258=\"\",\"\",'2-Grant Budget'!DY258)","v":""},null,{"$f":"IF('2-Grant Budget'!$EC258=\"\",\"\",\"FY\"&RIGHT('2-Grant Budget'!EA258,2))","v":""},null,{"$f":"IF('2-Grant Budget'!EC258=\"\",\"\",'2-Grant Budget'!EC258)","v":""},{"$f":"IF('2-Grant Budget'!EE258=\"\",\"\",'2-Grant Budget'!EE258)","v":""}]
[null,{"$f":"IF('2-Grant Budget'!EC259=\"\",\"\",RIGHT('2-Grant Budget'!DW259,2))","v":""},{"$f":"IF(G281=\"\",\"\",IF(RIGHT(F281,4)=\"8000\",VLOOKUP('1-Award Info'!$G$19,Tables!Q:R,2,0)&\"08008000\",VLOOKUP('1-Award Info'!$G$19,Tables!Q:R,2,0)&RIGHT(F281,8)))","v":""},"","",{"$f":"IF('2-Grant Budget'!$EC259=\"\",\"\",'2-Grant Budget'!DX259)","v":""},{"$f":"IF('2-Grant Budget'!$EC259=\"\",\"\",'2-Grant Budget'!DY259)","v":""},null,{"$f":"IF('2-Grant Budget'!$EC259=\"\",\"\",\"FY\"&RIGHT('2-Grant Budget'!EA259,2))","v":""},null,{"$f":"IF('2-Grant Budget'!EC259=\"\",\"\",'2-Grant Budget'!EC259)","v":""},{"$f":"IF('2-Grant Budget'!EE259=\"\",\"\",'2-Grant Budget'!EE259)","v":""}]
[null,{"$f":"IF('2-Grant Budget'!EC260=\"\",\"\",RIGHT('2-Grant Budget'!DW260,2))","v":""},{"$f":"IF(G282=\"\",\"\",IF(RIGHT(F282,4)=\"8000\",VLOOKUP('1-Award Info'!$G$19,Tables!Q:R,2,0)&\"08008000\",VLOOKUP('1-Award Info'!$G$19,Tables!Q:R,2,0)&RIGHT(F282,8)))","v":""},"","",{"$f":"IF('2-Grant Budget'!$EC260=\"\",\"\",'2-Grant Budget'!DX260)","v":""},{"$f":"IF('2-Grant Budget'!$EC260=\"\",\"\",'2-Grant Budget'!DY260)","v":""},null,{"$f":"IF('2-Grant Budget'!$EC260=\"\",\"\",\"FY\"&RIGHT('2-Grant Budget'!EA260,2))","v":""},null,{"$f":"IF('2-Grant Budget'!EC260=\"\",\"\",'2-Grant Budget'!EC260)","v":""},{"$f":"IF('2-Grant Budget'!EE260=\"\",\"\",'2-Grant Budget'!EE260)","v":""}]
[null,{"$f":"IF('2-Grant Budget'!EC261=\"\",\"\",RIGHT('2-Grant Budget'!DW261,2))","v":""},{"$f":"IF(G283=\"\",\"\",IF(RIGHT(F283,4)=\"8000\",VLOOKUP('1-Award Info'!$G$19,Tables!Q:R,2,0)&\"08008000\",VLOOKUP('1-Award Info'!$G$19,Tables!Q:R,2,0)&RIGHT(F283,8)))","v":""},"","",{"$f":"IF('2-Grant Budget'!$EC261=\"\",\"\",'2-Grant Budget'!DX261)","v":""},{"$f":"IF('2-Grant Budget'!$EC261=\"\",\"\",'2-Grant Budget'!DY261)","v":""},null,{"$f":"IF('2-Grant Budget'!$EC261=\"\",\"\",\"FY\"&RIGHT('2-Grant Budget'!EA261,2))","v":""},null,{"$f":"IF('2-Grant Budget'!EC261=\"\",\"\",'2-Grant Budget'!EC261)","v":""},{"$f":"IF('2-Grant Budget'!EE261=\"\",\"\",'2-Grant Budget'!EE261)","v":""}]
[null,{"$f":"IF('2-Grant Budget'!EC262=\"\",\"\",RIGHT('2-Grant Budget'!DW262,2))","v":""},{"$f":"IF(G284=\"\",\"\",IF(RIGHT(F284,4)=\"8000\",VLOOKUP('1-Award Info'!$G$19,Tables!Q:R,2,0)&\"08008000\",VLOOKUP('1-Award Info'!$G$19,Tables!Q:R,2,0)&RIGHT(F284,8)))","v":""},"","",{"$f":"IF('2-Grant Budget'!$EC262=\"\",\"\",'2-Grant Budget'!DX262)","v":""},{"$f":"IF('2-Grant Budget'!$EC262=\"\",\"\",'2-Grant Budget'!DY262)","v":""},null,{"$f":"IF('2-Grant Budget'!$EC262=\"\",\"\",\"FY\"&RIGHT('2-Grant Budget'!EA262,2))","v":""},null,{"$f":"IF('2-Grant Budget'!EC262=\"\",\"\",'2-Grant Budget'!EC262)","v":""},{"$f":"IF('2-Grant Budget'!EE262=\"\",\"\",'2-Grant Budget'!EE262)","v":""}]
[null,{"$f":"IF('2-Grant Budget'!EC263=\"\",\"\",RIGHT('2-Grant Budget'!DW263,2))","v":""},{"$f":"IF(G285=\"\",\"\",IF(RIGHT(F285,4)=\"8000\",VLOOKUP('1-Award Info'!$G$19,Tables!Q:R,2,0)&\"08008000\",VLOOKUP('1-Award Info'!$G$19,Tables!Q:R,2,0)&RIGHT(F285,8)))","v":""},"","",{"$f":"IF('2-Grant Budget'!$EC263=\"\",\"\",'2-Grant Budget'!DX263)","v":""},{"$f":"IF('2-Grant Budget'!$EC263=\"\",\"\",'2-Grant Budget'!DY263)","v":""},null,{"$f":"IF('2-Grant Budget'!$EC263=\"\",\"\",\"FY\"&RIGHT('2-Grant Budget'!EA263,2))","v":""},null,{"$f":"IF('2-Grant Budget'!EC263=\"\",\"\",'2-Grant Budget'!EC263)","v":""},{"$f":"IF('2-Grant Budget'!EE263=\"\",\"\",'2-Grant Budget'!EE263)","v":""}]
[null,{"$f":"IF('2-Grant Budget'!EC264=\"\",\"\",RIGHT('2-Grant Budget'!DW264,2))","v":""},{"$f":"IF(G286=\"\",\"\",IF(RIGHT(F286,4)=\"8000\",VLOOKUP('1-Award Info'!$G$19,Tables!Q:R,2,0)&\"08008000\",VLOOKUP('1-Award Info'!$G$19,Tables!Q:R,2,0)&RIGHT(F286,8)))","v":""},"","",{"$f":"IF('2-Grant Budget'!$EC264=\"\",\"\",'2-Grant Budget'!DX264)","v":""},{"$f":"IF('2-Grant Budget'!$EC264=\"\",\"\",'2-Grant Budget'!DY264)","v":""},null,{"$f":"IF('2-Grant Budget'!$EC264=\"\",\"\",\"FY\"&RIGHT('2-Grant Budget'!EA264,2))","v":""},null,{"$f":"IF('2-Grant Budget'!EC264=\"\",\"\",'2-Grant Budget'!EC264)","v":""},{"$f":"IF('2-Grant Budget'!EE264=\"\",\"\",'2-Grant Budget'!EE264)","v":""}]
[null,{"$f":"IF('2-Grant Budget'!EC265=\"\",\"\",RIGHT('2-Grant Budget'!DW265,2))","v":""},{"$f":"IF(G287=\"\",\"\",IF(RIGHT(F287,4)=\"8000\",VLOOKUP('1-Award Info'!$G$19,Tables!Q:R,2,0)&\"08008000\",VLOOKUP('1-Award Info'!$G$19,Tables!Q:R,2,0)&RIGHT(F287,8)))","v":""},"","",{"$f":"IF('2-Grant Budget'!$EC265=\"\",\"\",'2-Grant Budget'!DX265)","v":""},{"$f":"IF('2-Grant Budget'!$EC265=\"\",\"\",'2-Grant Budget'!DY265)","v":""},null,{"$f":"IF('2-Grant Budget'!$EC265=\"\",\"\",\"FY\"&RIGHT('2-Grant Budget'!EA265,2))","v":""},null,{"$f":"IF('2-Grant Budget'!EC265=\"\",\"\",'2-Grant Budget'!EC265)","v":""},{"$f":"IF('2-Grant Budget'!EE265=\"\",\"\",'2-Grant Budget'!EE265)","v":""}]
[null,{"$f":"IF('2-Grant Budget'!EC266=\"\",\"\",RIGHT('2-Grant Budget'!DW266,2))","v":""},{"$f":"IF(G288=\"\",\"\",IF(RIGHT(F288,4)=\"8000\",VLOOKUP('1-Award Info'!$G$19,Tables!Q:R,2,0)&\"08008000\",VLOOKUP('1-Award Info'!$G$19,Tables!Q:R,2,0)&RIGHT(F288,8)))","v":""},"","",{"$f":"IF('2-Grant Budget'!$EC266=\"\",\"\",'2-Grant Budget'!DX266)","v":""},{"$f":"IF('2-Grant Budget'!$EC266=\"\",\"\",'2-Grant Budget'!DY266)","v":""},null,{"$f":"IF('2-Grant Budget'!$EC266=\"\",\"\",\"FY\"&RIGHT('2-Grant Budget'!EA266,2))","v":""},null,{"$f":"IF('2-Grant Budget'!EC266=\"\",\"\",'2-Grant Budget'!EC266)","v":""},{"$f":"IF('2-Grant Budget'!EE266=\"\",\"\",'2-Grant Budget'!EE266)","v":""}]
[null,{"$f":"IF('2-Grant Budget'!EC267=\"\",\"\",RIGHT('2-Grant Budget'!DW267,2))","v":""},{"$f":"IF(G289=\"\",\"\",IF(RIGHT(F289,4)=\"8000\",VLOOKUP('1-Award Info'!$G$19,Tables!Q:R,2,0)&\"08008000\",VLOOKUP('1-Award Info'!$G$19,Tables!Q:R,2,0)&RIGHT(F289,8)))","v":""},"","",{"$f":"IF('2-Grant Budget'!$EC267=\"\",\"\",'2-Grant Budget'!DX267)","v":""},{"$f":"IF('2-Grant Budget'!$EC267=\"\",\"\",'2-Grant Budget'!DY267)","v":""},null,{"$f":"IF('2-Grant Budget'!$EC267=\"\",\"\",\"FY\"&RIGHT('2-Grant Budget'!EA267,2))","v":""},null,{"$f":"IF('2-Grant Budget'!EC267=\"\",\"\",'2-Grant Budget'!EC267)","v":""},{"$f":"IF('2-Grant Budget'!EE267=\"\",\"\",'2-Grant Budget'!EE267)","v":""}]
[null,{"$f":"IF('2-Grant Budget'!EC268=\"\",\"\",RIGHT('2-Grant Budget'!DW268,2))","v":""},{"$f":"IF(G290=\"\",\"\",IF(RIGHT(F290,4)=\"8000\",VLOOKUP('1-Award Info'!$G$19,Tables!Q:R,2,0)&\"08008000\",VLOOKUP('1-Award Info'!$G$19,Tables!Q:R,2,0)&RIGHT(F290,8)))","v":""},"","",{"$f":"IF('2-Grant Budget'!$EC268=\"\",\"\",'2-Grant Budget'!DX268)","v":""},{"$f":"IF('2-Grant Budget'!$EC268=\"\",\"\",'2-Grant Budget'!DY268)","v":""},null,{"$f":"IF('2-Grant Budget'!$EC268=\"\",\"\",\"FY\"&RIGHT('2-Grant Budget'!EA268,2))","v":""},null,{"$f":"IF('2-Grant Budget'!EC268=\"\",\"\",'2-Grant Budget'!EC268)","v":""},{"$f":"IF('2-Grant Budget'!EE268=\"\",\"\",'2-Grant Budget'!EE268)","v":""}]
[null,{"$f":"IF('2-Grant Budget'!EC269=\"\",\"\",RIGHT('2-Grant Budget'!DW269,2))","v":""},{"$f":"IF(G291=\"\",\"\",IF(RIGHT(F291,4)=\"8000\",VLOOKUP('1-Award Info'!$G$19,Tables!Q:R,2,0)&\"08008000\",VLOOKUP('1-Award Info'!$G$19,Tables!Q:R,2,0)&RIGHT(F291,8)))","v":""},"","",{"$f":"IF('2-Grant Budget'!$EC269=\"\",\"\",'2-Grant Budget'!DX269)","v":""},{"$f":"IF('2-Grant Budget'!$EC269=\"\",\"\",'2-Grant Budget'!DY269)","v":""},null,{"$f":"IF('2-Grant Budget'!$EC269=\"\",\"\",\"FY\"&RIGHT('2-Grant Budget'!EA269,2))","v":""},null,{"$f":"IF('2-Grant Budget'!EC269=\"\",\"\",'2-Grant Budget'!EC269)","v":""},{"$f":"IF('2-Grant Budget'!EE269=\"\",\"\",'2-Grant Budget'!EE269)","v":""}]
[null,{"$f":"IF('2-Grant Budget'!EC270=\"\",\"\",RIGHT('2-Grant Budget'!DW270,2))","v":""},{"$f":"IF(G292=\"\",\"\",IF(RIGHT(F292,4)=\"8000\",VLOOKUP('1-Award Info'!$G$19,Tables!Q:R,2,0)&\"08008000\",VLOOKUP('1-Award Info'!$G$19,Tables!Q:R,2,0)&RIGHT(F292,8)))","v":""},"","",{"$f":"IF('2-Grant Budget'!$EC270=\"\",\"\",'2-Grant Budget'!DX270)","v":""},{"$f":"IF('2-Grant Budget'!$EC270=\"\",\"\",'2-Grant Budget'!DY270)","v":""},null,{"$f":"IF('2-Grant Budget'!$EC270=\"\",\"\",\"FY\"&RIGHT('2-Grant Budget'!EA270,2))","v":""},null,{"$f":"IF('2-Grant Budget'!EC270=\"\",\"\",'2-Grant Budget'!EC270)","v":""},{"$f":"IF('2-Grant Budget'!EE270=\"\",\"\",'2-Grant Budget'!EE270)","v":""}]
[null,{"$f":"IF('2-Grant Budget'!EC271=\"\",\"\",RIGHT('2-Grant Budget'!DW271,2))","v":""},{"$f":"IF(G293=\"\",\"\",IF(RIGHT(F293,4)=\"8000\",VLOOKUP('1-Award Info'!$G$19,Tables!Q:R,2,0)&\"08008000\",VLOOKUP('1-Award Info'!$G$19,Tables!Q:R,2,0)&RIGHT(F293,8)))","v":""},"","",{"$f":"IF('2-Grant Budget'!$EC271=\"\",\"\",'2-Grant Budget'!DX271)","v":""},{"$f":"IF('2-Grant Budget'!$EC271=\"\",\"\",'2-Grant Budget'!DY271)","v":""},null,{"$f":"IF('2-Grant Budget'!$EC271=\"\",\"\",\"FY\"&RIGHT('2-Grant Budget'!EA271,2))","v":""},null,{"$f":"IF('2-Grant Budget'!EC271=\"\",\"\",'2-Grant Budget'!EC271)","v":""},{"$f":"IF('2-Grant Budget'!EE271=\"\",\"\",'2-Grant Budget'!EE271)","v":""}]
[null,{"$f":"IF('2-Grant Budget'!EC272=\"\",\"\",RIGHT('2-Grant Budget'!DW272,2))","v":""},{"$f":"IF(G294=\"\",\"\",IF(RIGHT(F294,4)=\"8000\",VLOOKUP('1-Award Info'!$G$19,Tables!Q:R,2,0)&\"08008000\",VLOOKUP('1-Award Info'!$G$19,Tables!Q:R,2,0)&RIGHT(F294,8)))","v":""},"","",{"$f":"IF('2-Grant Budget'!$EC272=\"\",\"\",'2-Grant Budget'!DX272)","v":""},{"$f":"IF('2-Grant Budget'!$EC272=\"\",\"\",'2-Grant Budget'!DY272)","v":""},null,{"$f":"IF('2-Grant Budget'!$EC272=\"\",\"\",\"FY\"&RIGHT('2-Grant Budget'!EA272,2))","v":""},null,{"$f":"IF('2-Grant Budget'!EC272=\"\",\"\",'2-Grant Budget'!EC272)","v":""},{"$f":"IF('2-Grant Budget'!EE272=\"\",\"\",'2-Grant Budget'!EE272)","v":""}]
[null,{"$f":"IF('2-Grant Budget'!EC273=\"\",\"\",RIGHT('2-Grant Budget'!DW273,2))","v":""},{"$f":"IF(G295=\"\",\"\",IF(RIGHT(F295,4)=\"8000\",VLOOKUP('1-Award Info'!$G$19,Tables!Q:R,2,0)&\"08008000\",VLOOKUP('1-Award Info'!$G$19,Tables!Q:R,2,0)&RIGHT(F295,8)))","v":""},"","",{"$f":"IF('2-Grant Budget'!$EC273=\"\",\"\",'2-Grant Budget'!DX273)","v":""},{"$f":"IF('2-Grant Budget'!$EC273=\"\",\"\",'2-Grant Budget'!DY273)","v":""},null,{"$f":"IF('2-Grant Budget'!$EC273=\"\",\"\",\"FY\"&RIGHT('2-Grant Budget'!EA273,2))","v":""},null,{"$f":"IF('2-Grant Budget'!EC273=\"\",\"\",'2-Grant Budget'!EC273)","v":""},{"$f":"IF('2-Grant Budget'!EE273=\"\",\"\",'2-Grant Budget'!EE273)","v":""}]
[null,{"$f":"IF('2-Grant Budget'!EC274=\"\",\"\",RIGHT('2-Grant Budget'!DW274,2))","v":""},{"$f":"IF(G296=\"\",\"\",IF(RIGHT(F296,4)=\"8000\",VLOOKUP('1-Award Info'!$G$19,Tables!Q:R,2,0)&\"08008000\",VLOOKUP('1-Award Info'!$G$19,Tables!Q:R,2,0)&RIGHT(F296,8)))","v":""},{"$f":"IF(G296=\"\",\"\",IF(LEFT(G296)<>\"9\",LEFT(G296,4),9&RIGHT(G296,3)))","v":""},{"$f":"IF(G296=\"\",\"\",IF(LEFT(G296,1)<>\"9\",0,MID(G296,2,1)))","v":""},{"$f":"IF('2-Grant Budget'!$EC274=\"\",\"\",'2-Grant Budget'!DX274)","v":""},{"$f":"IF('2-Grant Budget'!$EC274=\"\",\"\",'2-Grant Budget'!DY274)","v":""},null,{"$f":"IF('2-Grant Budget'!$EC274=\"\",\"\",\"FY\"&RIGHT('2-Grant Budget'!EA274,2))","v":""},null,{"$f":"IF('2-Grant Budget'!EC274=\"\",\"\",'2-Grant Budget'!EC274)","v":""},{"$f":"IF('2-Grant Budget'!EE274=\"\",\"\",'2-Grant Budget'!EE274)","v":""}]
[null,{"$f":"IF('2-Grant Budget'!EC275=\"\",\"\",RIGHT('2-Grant Budget'!DW275,2))","v":""},{"$f":"IF(G297=\"\",\"\",IF(RIGHT(F297,4)=\"8000\",VLOOKUP('1-Award Info'!$G$19,Tables!Q:R,2,0)&\"08008000\",VLOOKUP('1-Award Info'!$G$19,Tables!Q:R,2,0)&RIGHT(F297,8)))","v":""},"","",{"$f":"IF('2-Grant Budget'!$EC275=\"\",\"\",'2-Grant Budget'!DX275)","v":""},{"$f":"IF('2-Grant Budget'!$EC275=\"\",\"\",'2-Grant Budget'!DY275)","v":""},null,{"$f":"IF('2-Grant Budget'!$EC275=\"\",\"\",\"FY\"&RIGHT('2-Grant Budget'!EA275,2))","v":""},null,{"$f":"IF('2-Grant Budget'!EC275=\"\",\"\",'2-Grant Budget'!EC275)","v":""},{"$f":"IF('2-Grant Budget'!EE275=\"\",\"\",'2-Grant Budget'!EE275)","v":""}]
[null,{"$f":"IF('2-Grant Budget'!EC276=\"\",\"\",RIGHT('2-Grant Budget'!DW276,2))","v":""},{"$f":"IF(G298=\"\",\"\",IF(RIGHT(F298,4)=\"8000\",VLOOKUP('1-Award Info'!$G$19,Tables!Q:R,2,0)&\"08008000\",VLOOKUP('1-Award Info'!$G$19,Tables!Q:R,2,0)&RIGHT(F298,8)))","v":""},"","",{"$f":"IF('2-Grant Budget'!$EC276=\"\",\"\",'2-Grant Budget'!DX276)","v":""},{"$f":"IF('2-Grant Budget'!$EC276=\"\",\"\",'2-Grant Budget'!DY276)","v":""},null,{"$f":"IF('2-Grant Budget'!$EC276=\"\",\"\",\"FY\"&RIGHT('2-Grant Budget'!EA276,2))","v":""},null,{"$f":"IF('2-Grant Budget'!EC276=\"\",\"\",'2-Grant Budget'!EC276)","v":""},{"$f":"IF('2-Grant Budget'!EE276=\"\",\"\",'2-Grant Budget'!EE276)","v":""}]
[null,{"$f":"IF('2-Grant Budget'!EC277=\"\",\"\",RIGHT('2-Grant Budget'!DW277,2))","v":""},{"$f":"IF(G299=\"\",\"\",IF(RIGHT(F299,4)=\"8000\",VLOOKUP('1-Award Info'!$G$19,Tables!Q:R,2,0)&\"08008000\",VLOOKUP('1-Award Info'!$G$19,Tables!Q:R,2,0)&RIGHT(F299,8)))","v":""},"","",{"$f":"IF('2-Grant Budget'!$EC277=\"\",\"\",'2-Grant Budget'!DX277)","v":""},{"$f":"IF('2-Grant Budget'!$EC277=\"\",\"\",'2-Grant Budget'!DY277)","v":""},null,{"$f":"IF('2-Grant Budget'!$EC277=\"\",\"\",\"FY\"&RIGHT('2-Grant Budget'!EA277,2))","v":""},null,{"$f":"IF('2-Grant Budget'!EC277=\"\",\"\",'2-Grant Budget'!EC277)","v":""},{"$f":"IF('2-Grant Budget'!EE277=\"\",\"\",'2-Grant Budget'!EE277)","v":""}]
[null,{"$f":"IF('2-Grant Budget'!EC278=\"\",\"\",RIGHT('2-Grant Budget'!DW278,2))","v":""},{"$f":"IF(G300=\"\",\"\",IF(RIGHT(F300,4)=\"8000\",VLOOKUP('1-Award Info'!$G$19,Tables!Q:R,2,0)&\"08008000\",VLOOKUP('1-Award Info'!$G$19,Tables!Q:R,2,0)&RIGHT(F300,8)))","v":""},"","",{"$f":"IF('2-Grant Budget'!$EC278=\"\",\"\",'2-Grant Budget'!DX278)","v":""},{"$f":"IF('2-Grant Budget'!$EC278=\"\",\"\",'2-Grant Budget'!DY278)","v":""},null,{"$f":"IF('2-Grant Budget'!$EC278=\"\",\"\",\"FY\"&RIGHT('2-Grant Budget'!EA278,2))","v":""},null,{"$f":"IF('2-Grant Budget'!EC278=\"\",\"\",'2-Grant Budget'!EC278)","v":""},{"$f":"IF('2-Grant Budget'!EE278=\"\",\"\",'2-Grant Budget'!EE278)","v":""}]
[null,{"$f":"IF('2-Grant Budget'!EC279=\"\",\"\",RIGHT('2-Grant Budget'!DW279,2))","v":""},{"$f":"IF(G301=\"\",\"\",IF(RIGHT(F301,4)=\"8000\",VLOOKUP('1-Award Info'!$G$19,Tables!Q:R,2,0)&\"08008000\",VLOOKUP('1-Award Info'!$G$19,Tables!Q:R,2,0)&RIGHT(F301,8)))","v":""},"","",{"$f":"IF('2-Grant Budget'!$EC279=\"\",\"\",'2-Grant Budget'!DX279)","v":""},{"$f":"IF('2-Grant Budget'!$EC279=\"\",\"\",'2-Grant Budget'!DY279)","v":""},null,{"$f":"IF('2-Grant Budget'!$EC279=\"\",\"\",\"FY\"&RIGHT('2-Grant Budget'!EA279,2))","v":""},null,{"$f":"IF('2-Grant Budget'!EC279=\"\",\"\",'2-Grant Budget'!EC279)","v":""},{"$f":"IF('2-Grant Budget'!EE279=\"\",\"\",'2-Grant Budget'!EE279)","v":""}]
[null,{"$f":"IF('2-Grant Budget'!EC280=\"\",\"\",RIGHT('2-Grant Budget'!DW280,2))","v":""},{"$f":"IF(G302=\"\",\"\",IF(RIGHT(F302,4)=\"8000\",VLOOKUP('1-Award Info'!$G$19,Tables!Q:R,2,0)&\"08008000\",VLOOKUP('1-Award Info'!$G$19,Tables!Q:R,2,0)&RIGHT(F302,8)))","v":""},"","",{"$f":"IF('2-Grant Budget'!$EC280=\"\",\"\",'2-Grant Budget'!DX280)","v":""},{"$f":"IF('2-Grant Budget'!$EC280=\"\",\"\",'2-Grant Budget'!DY280)","v":""},null,{"$f":"IF('2-Grant Budget'!$EC280=\"\",\"\",\"FY\"&RIGHT('2-Grant Budget'!EA280,2))","v":""},null,{"$f":"IF('2-Grant Budget'!EC280=\"\",\"\",'2-Grant Budget'!EC280)","v":""},{"$f":"IF('2-Grant Budget'!EE280=\"\",\"\",'2-Grant Budget'!EE280)","v":""}]
[null,{"$f":"IF('2-Grant Budget'!EC281=\"\",\"\",RIGHT('2-Grant Budget'!DW281,2))","v":""},{"$f":"IF(G303=\"\",\"\",IF(RIGHT(F303,4)=\"8000\",VLOOKUP('1-Award Info'!$G$19,Tables!Q:R,2,0)&\"08008000\",VLOOKUP('1-Award Info'!$G$19,Tables!Q:R,2,0)&RIGHT(F303,8)))","v":""},"","",{"$f":"IF('2-Grant Budget'!$EC281=\"\",\"\",'2-Grant Budget'!DX281)","v":""},{"$f":"IF('2-Grant Budget'!$EC281=\"\",\"\",'2-Grant Budget'!DY281)","v":""},null,{"$f":"IF('2-Grant Budget'!$EC281=\"\",\"\",\"FY\"&RIGHT('2-Grant Budget'!EA281,2))","v":""},null,{"$f":"IF('2-Grant Budget'!EC281=\"\",\"\",'2-Grant Budget'!EC281)","v":""},{"$f":"IF('2-Grant Budget'!EE281=\"\",\"\",'2-Grant Budget'!EE281)","v":""}]
[null,{"$f":"IF('2-Grant Budget'!EC282=\"\",\"\",RIGHT('2-Grant Budget'!DW282,2))","v":""},{"$f":"IF(G304=\"\",\"\",IF(RIGHT(F304,4)=\"8000\",VLOOKUP('1-Award Info'!$G$19,Tables!Q:R,2,0)&\"08008000\",VLOOKUP('1-Award Info'!$G$19,Tables!Q:R,2,0)&RIGHT(F304,8)))","v":""},"","",{"$f":"IF('2-Grant Budget'!$EC282=\"\",\"\",'2-Grant Budget'!DX282)","v":""},{"$f":"IF('2-Grant Budget'!$EC282=\"\",\"\",'2-Grant Budget'!DY282)","v":""},null,{"$f":"IF('2-Grant Budget'!$EC282=\"\",\"\",\"FY\"&RIGHT('2-Grant Budget'!EA282,2))","v":""},null,{"$f":"IF('2-Grant Budget'!EC282=\"\",\"\",'2-Grant Budget'!EC282)","v":""},{"$f":"IF('2-Grant Budget'!EE282=\"\",\"\",'2-Grant Budget'!EE282)","v":""}]
[null,{"$f":"IF('2-Grant Budget'!EC283=\"\",\"\",RIGHT('2-Grant Budget'!DW283,2))","v":""},{"$f":"IF(G305=\"\",\"\",IF(RIGHT(F305,4)=\"8000\",VLOOKUP('1-Award Info'!$G$19,Tables!Q:R,2,0)&\"08008000\",VLOOKUP('1-Award Info'!$G$19,Tables!Q:R,2,0)&RIGHT(F305,8)))","v":""},"","",{"$f":"IF('2-Grant Budget'!$EC283=\"\",\"\",'2-Grant Budget'!DX283)","v":""},{"$f":"IF('2-Grant Budget'!$EC283=\"\",\"\",'2-Grant Budget'!DY283)","v":""},null,{"$f":"IF('2-Grant Budget'!$EC283=\"\",\"\",\"FY\"&RIGHT('2-Grant Budget'!EA283,2))","v":""},null,{"$f":"IF('2-Grant Budget'!EC283=\"\",\"\",'2-Grant Budget'!EC283)","v":""},{"$f":"IF('2-Grant Budget'!EE283=\"\",\"\",'2-Grant Budget'!EE283)","v":""}]
[null,{"$f":"IF('2-Grant Budget'!EC284=\"\",\"\",RIGHT('2-Grant Budget'!DW284,2))","v":""},{"$f":"IF(G306=\"\",\"\",IF(RIGHT(F306,4)=\"8000\",VLOOKUP('1-Award Info'!$G$19,Tables!Q:R,2,0)&\"08008000\",VLOOKUP('1-Award Info'!$G$19,Tables!Q:R,2,0)&RIGHT(F306,8)))","v":""},"","",{"$f":"IF('2-Grant Budget'!$EC284=\"\",\"\",'2-Grant Budget'!DX284)","v":""},{"$f":"IF('2-Grant Budget'!$EC284=\"\",\"\",'2-Grant Budget'!DY284)","v":""},null,{"$f":"IF('2-Grant Budget'!$EC284=\"\",\"\",\"FY\"&RIGHT('2-Grant Budget'!EA284,2))","v":""},null,{"$f":"IF('2-Grant Budget'!EC284=\"\",\"\",'2-Grant Budget'!EC284)","v":""},{"$f":"IF('2-Grant Budget'!EE284=\"\",\"\",'2-Grant Budget'!EE284)","v":""}]
[null,{"$f":"IF('2-Grant Budget'!EC285=\"\",\"\",RIGHT('2-Grant Budget'!DW285,2))","v":""},{"$f":"IF(G307=\"\",\"\",IF(RIGHT(F307,4)=\"8000\",VLOOKUP('1-Award Info'!$G$19,Tables!Q:R,2,0)&\"08008000\",VLOOKUP('1-Award Info'!$G$19,Tables!Q:R,2,0)&RIGHT(F307,8)))","v":""},"","",{"$f":"IF('2-Grant Budget'!$EC285=\"\",\"\",'2-Grant Budget'!DX285)","v":""},{"$f":"IF('2-Grant Budget'!$EC285=\"\",\"\",'2-Grant Budget'!DY285)","v":""},null,{"$f":"IF('2-Grant Budget'!$EC285=\"\",\"\",\"FY\"&RIGHT('2-Grant Budget'!EA285,2))","v":""},null,{"$f":"IF('2-Grant Budget'!EC285=\"\",\"\",'2-Grant Budget'!EC285)","v":""},{"$f":"IF('2-Grant Budget'!EE285=\"\",\"\",'2-Grant Budget'!EE285)","v":""}]
[null,{"$f":"IF('2-Grant Budget'!EC286=\"\",\"\",RIGHT('2-Grant Budget'!DW286,2))","v":""},{"$f":"IF(G308=\"\",\"\",IF(RIGHT(F308,4)=\"8000\",VLOOKUP('1-Award Info'!$G$19,Tables!Q:R,2,0)&\"08008000\",VLOOKUP('1-Award Info'!$G$19,Tables!Q:R,2,0)&RIGHT(F308,8)))","v":""},"","",{"$f":"IF('2-Grant Budget'!$EC286=\"\",\"\",'2-Grant Budget'!DX286)","v":""},{"$f":"IF('2-Grant Budget'!$EC286=\"\",\"\",'2-Grant Budget'!DY286)","v":""},null,{"$f":"IF('2-Grant Budget'!$EC286=\"\",\"\",\"FY\"&RIGHT('2-Grant Budget'!EA286,2))","v":""},null,{"$f":"IF('2-Grant Budget'!EC286=\"\",\"\",'2-Grant Budget'!EC286)","v":""},{"$f":"IF('2-Grant Budget'!EE286=\"\",\"\",'2-Grant Budget'!EE286)","v":""}]
[null,{"$f":"IF('2-Grant Budget'!EC287=\"\",\"\",RIGHT('2-Grant Budget'!DW287,2))","v":""},{"$f":"IF(G309=\"\",\"\",IF(RIGHT(F309,4)=\"8000\",VLOOKUP('1-Award Info'!$G$19,Tables!Q:R,2,0)&\"08008000\",VLOOKUP('1-Award Info'!$G$19,Tables!Q:R,2,0)&RIGHT(F309,8)))","v":""},"","",{"$f":"IF('2-Grant Budget'!$EC287=\"\",\"\",'2-Grant Budget'!DX287)","v":""},{"$f":"IF('2-Grant Budget'!$EC287=\"\",\"\",'2-Grant Budget'!DY287)","v":""},null,{"$f":"IF('2-Grant Budget'!$EC287=\"\",\"\",\"FY\"&RIGHT('2-Grant Budget'!EA287,2))","v":""},null,{"$f":"IF('2-Grant Budget'!EC287=\"\",\"\",'2-Grant Budget'!EC287)","v":""},{"$f":"IF('2-Grant Budget'!EE287=\"\",\"\",'2-Grant Budget'!EE287)","v":""}]
[null,{"$f":"IF('2-Grant Budget'!EC288=\"\",\"\",RIGHT('2-Grant Budget'!DW288,2))","v":""},{"$f":"IF(G310=\"\",\"\",IF(RIGHT(F310,4)=\"8000\",VLOOKUP('1-Award Info'!$G$19,Tables!Q:R,2,0)&\"08008000\",VLOOKUP('1-Award Info'!$G$19,Tables!Q:R,2,0)&RIGHT(F310,8)))","v":""},"","",{"$f":"IF('2-Grant Budget'!$EC288=\"\",\"\",'2-Grant Budget'!DX288)","v":""},{"$f":"IF('2-Grant Budget'!$EC288=\"\",\"\",'2-Grant Budget'!DY288)","v":""},null,{"$f":"IF('2-Grant Budget'!$EC288=\"\",\"\",\"FY\"&RIGHT('2-Grant Budget'!EA288,2))","v":""},null,{"$f":"IF('2-Grant Budget'!EC288=\"\",\"\",'2-Grant Budget'!EC288)","v":""},{"$f":"IF('2-Grant Budget'!EE288=\"\",\"\",'2-Grant Budget'!EE288)","v":""}]
[null,{"$f":"IF('2-Grant Budget'!EC289=\"\",\"\",RIGHT('2-Grant Budget'!DW289,2))","v":""},{"$f":"IF(G311=\"\",\"\",IF(RIGHT(F311,4)=\"8000\",VLOOKUP('1-Award Info'!$G$19,Tables!Q:R,2,0)&\"08008000\",VLOOKUP('1-Award Info'!$G$19,Tables!Q:R,2,0)&RIGHT(F311,8)))","v":""},"","",{"$f":"IF('2-Grant Budget'!$EC289=\"\",\"\",'2-Grant Budget'!DX289)","v":""},{"$f":"IF('2-Grant Budget'!$EC289=\"\",\"\",'2-Grant Budget'!DY289)","v":""},null,{"$f":"IF('2-Grant Budget'!$EC289=\"\",\"\",\"FY\"&RIGHT('2-Grant Budget'!EA289,2))","v":""},null,{"$f":"IF('2-Grant Budget'!EC289=\"\",\"\",'2-Grant Budget'!EC289)","v":""},{"$f":"IF('2-Grant Budget'!EE289=\"\",\"\",'2-Grant Budget'!EE289)","v":""}]
[null,{"$f":"IF('2-Grant Budget'!EC290=\"\",\"\",RIGHT('2-Grant Budget'!DW290,2))","v":""},{"$f":"IF(G312=\"\",\"\",IF(RIGHT(F312,4)=\"8000\",VLOOKUP('1-Award Info'!$G$19,Tables!Q:R,2,0)&\"08008000\",VLOOKUP('1-Award Info'!$G$19,Tables!Q:R,2,0)&RIGHT(F312,8)))","v":""},"","",{"$f":"IF('2-Grant Budget'!$EC290=\"\",\"\",'2-Grant Budget'!DX290)","v":""},{"$f":"IF('2-Grant Budget'!$EC290=\"\",\"\",'2-Grant Budget'!DY290)","v":""},null,{"$f":"IF('2-Grant Budget'!$EC290=\"\",\"\",\"FY\"&RIGHT('2-Grant Budget'!EA290,2))","v":""},null,{"$f":"IF('2-Grant Budget'!EC290=\"\",\"\",'2-Grant Budget'!EC290)","v":""},{"$f":"IF('2-Grant Budget'!EE290=\"\",\"\",'2-Grant Budget'!EE290)","v":""}]
[null,{"$f":"IF('2-Grant Budget'!EC291=\"\",\"\",RIGHT('2-Grant Budget'!DW291,2))","v":""},{"$f":"IF(G313=\"\",\"\",IF(RIGHT(F313,4)=\"8000\",VLOOKUP('1-Award Info'!$G$19,Tables!Q:R,2,0)&\"08008000\",VLOOKUP('1-Award Info'!$G$19,Tables!Q:R,2,0)&RIGHT(F313,8)))","v":""},"","",{"$f":"IF('2-Grant Budget'!$EC291=\"\",\"\",'2-Grant Budget'!DX291)","v":""},{"$f":"IF('2-Grant Budget'!$EC291=\"\",\"\",'2-Grant Budget'!DY291)","v":""},null,{"$f":"IF('2-Grant Budget'!$EC291=\"\",\"\",\"FY\"&RIGHT('2-Grant Budget'!EA291,2))","v":""},null,{"$f":"IF('2-Grant Budget'!EC291=\"\",\"\",'2-Grant Budget'!EC291)","v":""},{"$f":"IF('2-Grant Budget'!EE291=\"\",\"\",'2-Grant Budget'!EE291)","v":""}]
[null,{"$f":"IF('2-Grant Budget'!EC292=\"\",\"\",RIGHT('2-Grant Budget'!DW292,2))","v":""},{"$f":"IF(G314=\"\",\"\",IF(RIGHT(F314,4)=\"8000\",VLOOKUP('1-Award Info'!$G$19,Tables!Q:R,2,0)&\"08008000\",VLOOKUP('1-Award Info'!$G$19,Tables!Q:R,2,0)&RIGHT(F314,8)))","v":""},"","",{"$f":"IF('2-Grant Budget'!$EC292=\"\",\"\",'2-Grant Budget'!DX292)","v":""},{"$f":"IF('2-Grant Budget'!$EC292=\"\",\"\",'2-Grant Budget'!DY292)","v":""},null,{"$f":"IF('2-Grant Budget'!$EC292=\"\",\"\",\"FY\"&RIGHT('2-Grant Budget'!EA292,2))","v":""},null,{"$f":"IF('2-Grant Budget'!EC292=\"\",\"\",'2-Grant Budget'!EC292)","v":""},{"$f":"IF('2-Grant Budget'!EE292=\"\",\"\",'2-Grant Budget'!EE292)","v":""}]
[null,{"$f":"IF('2-Grant Budget'!EC293=\"\",\"\",RIGHT('2-Grant Budget'!DW293,2))","v":""},{"$f":"IF(G315=\"\",\"\",IF(RIGHT(F315,4)=\"8000\",VLOOKUP('1-Award Info'!$G$19,Tables!Q:R,2,0)&\"08008000\",VLOOKUP('1-Award Info'!$G$19,Tables!Q:R,2,0)&RIGHT(F315,8)))","v":""},"","",{"$f":"IF('2-Grant Budget'!$EC293=\"\",\"\",'2-Grant Budget'!DX293)","v":""},{"$f":"IF('2-Grant Budget'!$EC293=\"\",\"\",'2-Grant Budget'!DY293)","v":""},null,{"$f":"IF('2-Grant Budget'!$EC293=\"\",\"\",\"FY\"&RIGHT('2-Grant Budget'!EA293,2))","v":""},null,{"$f":"IF('2-Grant Budget'!EC293=\"\",\"\",'2-Grant Budget'!EC293)","v":""},{"$f":"IF('2-Grant Budget'!EE293=\"\",\"\",'2-Grant Budget'!EE293)","v":""}]
[null,{"$f":"IF('2-Grant Budget'!EC294=\"\",\"\",RIGHT('2-Grant Budget'!DW294,2))","v":""},{"$f":"IF(G316=\"\",\"\",IF(RIGHT(F316,4)=\"8000\",VLOOKUP('1-Award Info'!$G$19,Tables!Q:R,2,0)&\"08008000\",VLOOKUP('1-Award Info'!$G$19,Tables!Q:R,2,0)&RIGHT(F316,8)))","v":""},"","",{"$f":"IF('2-Grant Budget'!$EC294=\"\",\"\",'2-Grant Budget'!DX294)","v":""},{"$f":"IF('2-Grant Budget'!$EC294=\"\",\"\",'2-Grant Budget'!DY294)","v":""},null,{"$f":"IF('2-Grant Budget'!$EC294=\"\",\"\",\"FY\"&RIGHT('2-Grant Budget'!EA294,2))","v":""},null,{"$f":"IF('2-Grant Budget'!EC294=\"\",\"\",'2-Grant Budget'!EC294)","v":""},{"$f":"IF('2-Grant Budget'!EE294=\"\",\"\",'2-Grant Budget'!EE294)","v":""}]
[null,{"$f":"IF('2-Grant Budget'!EC295=\"\",\"\",RIGHT('2-Grant Budget'!DW295,2))","v":""},{"$f":"IF(G317=\"\",\"\",IF(RIGHT(F317,4)=\"8000\",VLOOKUP('1-Award Info'!$G$19,Tables!Q:R,2,0)&\"08008000\",VLOOKUP('1-Award Info'!$G$19,Tables!Q:R,2,0)&RIGHT(F317,8)))","v":""},"","",{"$f":"IF('2-Grant Budget'!$EC295=\"\",\"\",'2-Grant Budget'!DX295)","v":""},{"$f":"IF('2-Grant Budget'!$EC295=\"\",\"\",'2-Grant Budget'!DY295)","v":""},null,{"$f":"IF('2-Grant Budget'!$EC295=\"\",\"\",\"FY\"&RIGHT('2-Grant Budget'!EA295,2))","v":""},null,{"$f":"IF('2-Grant Budget'!EC295=\"\",\"\",'2-Grant Budget'!EC295)","v":""},{"$f":"IF('2-Grant Budget'!EE295=\"\",\"\",'2-Grant Budget'!EE295)","v":""}]
[null,{"$f":"IF('2-Grant Budget'!EC296=\"\",\"\",RIGHT('2-Grant Budget'!DW296,2))","v":""},{"$f":"IF(G318=\"\",\"\",IF(RIGHT(F318,4)=\"8000\",VLOOKUP('1-Award Info'!$G$19,Tables!Q:R,2,0)&\"08008000\",VLOOKUP('1-Award Info'!$G$19,Tables!Q:R,2,0)&RIGHT(F318,8)))","v":""},"","",{"$f":"IF('2-Grant Budget'!$EC296=\"\",\"\",'2-Grant Budget'!DX296)","v":""},{"$f":"IF('2-Grant Budget'!$EC296=\"\",\"\",'2-Grant Budget'!DY296)","v":""},null,{"$f":"IF('2-Grant Budget'!$EC296=\"\",\"\",\"FY\"&RIGHT('2-Grant Budget'!EA296,2))","v":""},null,{"$f":"IF('2-Grant Budget'!EC296=\"\",\"\",'2-Grant Budget'!EC296)","v":""},{"$f":"IF('2-Grant Budget'!EE296=\"\",\"\",'2-Grant Budget'!EE296)","v":""}]
[null,{"$f":"IF('2-Grant Budget'!EC297=\"\",\"\",RIGHT('2-Grant Budget'!DW297,2))","v":""},{"$f":"IF(G319=\"\",\"\",IF(RIGHT(F319,4)=\"8000\",VLOOKUP('1-Award Info'!$G$19,Tables!Q:R,2,0)&\"08008000\",VLOOKUP('1-Award Info'!$G$19,Tables!Q:R,2,0)&RIGHT(F319,8)))","v":""},"","",{"$f":"IF('2-Grant Budget'!$EC297=\"\",\"\",'2-Grant Budget'!DX297)","v":""},{"$f":"IF('2-Grant Budget'!$EC297=\"\",\"\",'2-Grant Budget'!DY297)","v":""},null,{"$f":"IF('2-Grant Budget'!$EC297=\"\",\"\",\"FY\"&RIGHT('2-Grant Budget'!EA297,2))","v":""},null,{"$f":"IF('2-Grant Budget'!EC297=\"\",\"\",'2-Grant Budget'!EC297)","v":""},{"$f":"IF('2-Grant Budget'!EE297=\"\",\"\",'2-Grant Budget'!EE297)","v":""}]
[null,{"$f":"IF('2-Grant Budget'!EC298=\"\",\"\",RIGHT('2-Grant Budget'!DW298,2))","v":""},{"$f":"IF(G320=\"\",\"\",IF(RIGHT(F320,4)=\"8000\",VLOOKUP('1-Award Info'!$G$19,Tables!Q:R,2,0)&\"08008000\",VLOOKUP('1-Award Info'!$G$19,Tables!Q:R,2,0)&RIGHT(F320,8)))","v":""},"","",{"$f":"IF('2-Grant Budget'!$EC298=\"\",\"\",'2-Grant Budget'!DX298)","v":""},{"$f":"IF('2-Grant Budget'!$EC298=\"\",\"\",'2-Grant Budget'!DY298)","v":""},null,{"$f":"IF('2-Grant Budget'!$EC298=\"\",\"\",\"FY\"&RIGHT('2-Grant Budget'!EA298,2))","v":""},null,{"$f":"IF('2-Grant Budget'!EC298=\"\",\"\",'2-Grant Budget'!EC298)","v":""},{"$f":"IF('2-Grant Budget'!EE298=\"\",\"\",'2-Grant Budget'!EE298)","v":""}]
[null,{"$f":"IF('2-Grant Budget'!EC299=\"\",\"\",RIGHT('2-Grant Budget'!DW299,2))","v":""},{"$f":"IF(G321=\"\",\"\",IF(RIGHT(F321,4)=\"8000\",VLOOKUP('1-Award Info'!$G$19,Tables!Q:R,2,0)&\"08008000\",VLOOKUP('1-Award Info'!$G$19,Tables!Q:R,2,0)&RIGHT(F321,8)))","v":""},"","",{"$f":"IF('2-Grant Budget'!$EC299=\"\",\"\",'2-Grant Budget'!DX299)","v":""},{"$f":"IF('2-Grant Budget'!$EC299=\"\",\"\",'2-Grant Budget'!DY299)","v":""},null,{"$f":"IF('2-Grant Budget'!$EC299=\"\",\"\",\"FY\"&RIGHT('2-Grant Budget'!EA299,2))","v":""},null,{"$f":"IF('2-Grant Budget'!EC299=\"\",\"\",'2-Grant Budget'!EC299)","v":""},{"$f":"IF('2-Grant Budget'!EE299=\"\",\"\",'2-Grant Budget'!EE299)","v":""}]
[null,{"$f":"IF('2-Grant Budget'!EC300=\"\",\"\",RIGHT('2-Grant Budget'!DW300,2))","v":""},{"$f":"IF(G322=\"\",\"\",IF(RIGHT(F322,4)=\"8000\",VLOOKUP('1-Award Info'!$G$19,Tables!Q:R,2,0)&\"08008000\",VLOOKUP('1-Award Info'!$G$19,Tables!Q:R,2,0)&RIGHT(F322,8)))","v":""},"","",{"$f":"IF('2-Grant Budget'!$EC300=\"\",\"\",'2-Grant Budget'!DX300)","v":""},{"$f":"IF('2-Grant Budget'!$EC300=\"\",\"\",'2-Grant Budget'!DY300)","v":""},null,{"$f":"IF('2-Grant Budget'!$EC300=\"\",\"\",\"FY\"&RIGHT('2-Grant Budget'!EA300,2))","v":""},null,{"$f":"IF('2-Grant Budget'!EC300=\"\",\"\",'2-Grant Budget'!EC300)","v":""},{"$f":"IF('2-Grant Budget'!EE300=\"\",\"\",'2-Grant Budget'!EE300)","v":""}]
[null,{"$f":"IF('2-Grant Budget'!EC301=\"\",\"\",RIGHT('2-Grant Budget'!DW301,2))","v":""},{"$f":"IF(G323=\"\",\"\",IF(RIGHT(F323,4)=\"8000\",VLOOKUP('1-Award Info'!$G$19,Tables!Q:R,2,0)&\"08008000\",VLOOKUP('1-Award Info'!$G$19,Tables!Q:R,2,0)&RIGHT(F323,8)))","v":""},"","",{"$f":"IF('2-Grant Budget'!$EC301=\"\",\"\",'2-Grant Budget'!DX301)","v":""},{"$f":"IF('2-Grant Budget'!$EC301=\"\",\"\",'2-Grant Budget'!DY301)","v":""},null,{"$f":"IF('2-Grant Budget'!$EC301=\"\",\"\",\"FY\"&RIGHT('2-Grant Budget'!EA301,2))","v":""},null,{"$f":"IF('2-Grant Budget'!EC301=\"\",\"\",'2-Grant Budget'!EC301)","v":""},{"$f":"IF('2-Grant Budget'!EE301=\"\",\"\",'2-Grant Budget'!EE301)","v":""}]
[null,{"$f":"IF('2-Grant Budget'!EC302=\"\",\"\",RIGHT('2-Grant Budget'!DW302,2))","v":""},{"$f":"IF(G324=\"\",\"\",IF(RIGHT(F324,4)=\"8000\",VLOOKUP('1-Award Info'!$G$19,Tables!Q:R,2,0)&\"08008000\",VLOOKUP('1-Award Info'!$G$19,Tables!Q:R,2,0)&RIGHT(F324,8)))","v":""},"","",{"$f":"IF('2-Grant Budget'!$EC302=\"\",\"\",'2-Grant Budget'!DX302)","v":""},{"$f":"IF('2-Grant Budget'!$EC302=\"\",\"\",'2-Grant Budget'!DY302)","v":""},null,{"$f":"IF('2-Grant Budget'!$EC302=\"\",\"\",\"FY\"&RIGHT('2-Grant Budget'!EA302,2))","v":""},null,{"$f":"IF('2-Grant Budget'!EC302=\"\",\"\",'2-Grant Budget'!EC302)","v":""},{"$f":"IF('2-Grant Budget'!EE302=\"\",\"\",'2-Grant Budget'!EE302)","v":""}]
[null,{"$f":"IF('2-Grant Budget'!EC303=\"\",\"\",RIGHT('2-Grant Budget'!DW303,2))","v":""},{"$f":"IF(G325=\"\",\"\",IF(RIGHT(F325,4)=\"8000\",VLOOKUP('1-Award Info'!$G$19,Tables!Q:R,2,0)&\"08008000\",VLOOKUP('1-Award Info'!$G$19,Tables!Q:R,2,0)&RIGHT(F325,8)))","v":""},"","",{"$f":"IF('2-Grant Budget'!$EC303=\"\",\"\",'2-Grant Budget'!DX303)","v":""},{"$f":"IF('2-Grant Budget'!$EC303=\"\",\"\",'2-Grant Budget'!DY303)","v":""},null,{"$f":"IF('2-Grant Budget'!$EC303=\"\",\"\",\"FY\"&RIGHT('2-Grant Budget'!EA303,2))","v":""},null,{"$f":"IF('2-Grant Budget'!EC303=\"\",\"\",'2-Grant Budget'!EC303)","v":""},{"$f":"IF('2-Grant Budget'!EE303=\"\",\"\",'2-Grant Budget'!EE303)","v":""}]
[null,{"$f":"IF('2-Grant Budget'!EC304=\"\",\"\",RIGHT('2-Grant Budget'!DW304,2))","v":""},{"$f":"IF(G326=\"\",\"\",IF(RIGHT(F326,4)=\"8000\",VLOOKUP('1-Award Info'!$G$19,Tables!Q:R,2,0)&\"08008000\",VLOOKUP('1-Award Info'!$G$19,Tables!Q:R,2,0)&RIGHT(F326,8)))","v":""},"","",{"$f":"IF('2-Grant Budget'!$EC304=\"\",\"\",'2-Grant Budget'!DX304)","v":""},{"$f":"IF('2-Grant Budget'!$EC304=\"\",\"\",'2-Grant Budget'!DY304)","v":""},null,{"$f":"IF('2-Grant Budget'!$EC304=\"\",\"\",\"FY\"&RIGHT('2-Grant Budget'!EA304,2))","v":""},null,{"$f":"IF('2-Grant Budget'!EC304=\"\",\"\",'2-Grant Budget'!EC304)","v":""},{"$f":"IF('2-Grant Budget'!EE304=\"\",\"\",'2-Grant Budget'!EE304)","v":""}]
[null,{"$f":"IF('2-Grant Budget'!EC305=\"\",\"\",RIGHT('2-Grant Budget'!DW305,2))","v":""},{"$f":"IF(G327=\"\",\"\",IF(RIGHT(F327,4)=\"8000\",VLOOKUP('1-Award Info'!$G$19,Tables!Q:R,2,0)&\"08008000\",VLOOKUP('1-Award Info'!$G$19,Tables!Q:R,2,0)&RIGHT(F327,8)))","v":""},"","",{"$f":"IF('2-Grant Budget'!$EC305=\"\",\"\",'2-Grant Budget'!DX305)","v":""},{"$f":"IF('2-Grant Budget'!$EC305=\"\",\"\",'2-Grant Budget'!DY305)","v":""},null,{"$f":"IF('2-Grant Budget'!$EC305=\"\",\"\",\"FY\"&RIGHT('2-Grant Budget'!EA305,2))","v":""},null,{"$f":"IF('2-Grant Budget'!EC305=\"\",\"\",'2-Grant Budget'!EC305)","v":""},{"$f":"IF('2-Grant Budget'!EE305=\"\",\"\",'2-Grant Budget'!EE305)","v":""}]
[null,{"$f":"IF('2-Grant Budget'!EC306=\"\",\"\",RIGHT('2-Grant Budget'!DW306,2))","v":""},{"$f":"IF(G328=\"\",\"\",IF(RIGHT(F328,4)=\"8000\",VLOOKUP('1-Award Info'!$G$19,Tables!Q:R,2,0)&\"08008000\",VLOOKUP('1-Award Info'!$G$19,Tables!Q:R,2,0)&RIGHT(F328,8)))","v":""},"","",{"$f":"IF('2-Grant Budget'!$EC306=\"\",\"\",'2-Grant Budget'!DX306)","v":""},{"$f":"IF('2-Grant Budget'!$EC306=\"\",\"\",'2-Grant Budget'!DY306)","v":""},null,{"$f":"IF('2-Grant Budget'!$EC306=\"\",\"\",\"FY\"&RIGHT('2-Grant Budget'!EA306,2))","v":""},null,{"$f":"IF('2-Grant Budget'!EC306=\"\",\"\",'2-Grant Budget'!EC306)","v":""},{"$f":"IF('2-Grant Budget'!EE306=\"\",\"\",'2-Grant Budget'!EE306)","v":""}]
[null,{"$f":"IF('2-Grant Budget'!EC307=\"\",\"\",RIGHT('2-Grant Budget'!DW307,2))","v":""},{"$f":"IF(G329=\"\",\"\",IF(RIGHT(F329,4)=\"8000\",VLOOKUP('1-Award Info'!$G$19,Tables!Q:R,2,0)&\"08008000\",VLOOKUP('1-Award Info'!$G$19,Tables!Q:R,2,0)&RIGHT(F329,8)))","v":""},"","",{"$f":"IF('2-Grant Budget'!$EC307=\"\",\"\",'2-Grant Budget'!DX307)","v":""},{"$f":"IF('2-Grant Budget'!$EC307=\"\",\"\",'2-Grant Budget'!DY307)","v":""},null,{"$f":"IF('2-Grant Budget'!$EC307=\"\",\"\",\"FY\"&RIGHT('2-Grant Budget'!EA307,2))","v":""},null,{"$f":"IF('2-Grant Budget'!EC307=\"\",\"\",'2-Grant Budget'!EC307)","v":""},{"$f":"IF('2-Grant Budget'!EE307=\"\",\"\",'2-Grant Budget'!EE307)","v":""}]
[null,{"$f":"IF('2-Grant Budget'!EC308=\"\",\"\",RIGHT('2-Grant Budget'!DW308,2))","v":""},{"$f":"IF(G330=\"\",\"\",IF(RIGHT(F330,4)=\"8000\",VLOOKUP('1-Award Info'!$G$19,Tables!Q:R,2,0)&\"08008000\",VLOOKUP('1-Award Info'!$G$19,Tables!Q:R,2,0)&RIGHT(F330,8)))","v":""},"","",{"$f":"IF('2-Grant Budget'!$EC308=\"\",\"\",'2-Grant Budget'!DX308)","v":""},{"$f":"IF('2-Grant Budget'!$EC308=\"\",\"\",'2-Grant Budget'!DY308)","v":""},null,{"$f":"IF('2-Grant Budget'!$EC308=\"\",\"\",\"FY\"&RIGHT('2-Grant Budget'!EA308,2))","v":""},null,{"$f":"IF('2-Grant Budget'!EC308=\"\",\"\",'2-Grant Budget'!EC308)","v":""},{"$f":"IF('2-Grant Budget'!EE308=\"\",\"\",'2-Grant Budget'!EE308)","v":""}]
[null,{"$f":"IF('2-Grant Budget'!EC309=\"\",\"\",RIGHT('2-Grant Budget'!DW309,2))","v":""},{"$f":"IF(G331=\"\",\"\",IF(RIGHT(F331,4)=\"8000\",VLOOKUP('1-Award Info'!$G$19,Tables!Q:R,2,0)&\"08008000\",VLOOKUP('1-Award Info'!$G$19,Tables!Q:R,2,0)&RIGHT(F331,8)))","v":""},"","",{"$f":"IF('2-Grant Budget'!$EC309=\"\",\"\",'2-Grant Budget'!DX309)","v":""},{"$f":"IF('2-Grant Budget'!$EC309=\"\",\"\",'2-Grant Budget'!DY309)","v":""},null,{"$f":"IF('2-Grant Budget'!$EC309=\"\",\"\",\"FY\"&RIGHT('2-Grant Budget'!EA309,2))","v":""},null,{"$f":"IF('2-Grant Budget'!EC309=\"\",\"\",'2-Grant Budget'!EC309)","v":""},{"$f":"IF('2-Grant Budget'!EE309=\"\",\"\",'2-Grant Budget'!EE309)","v":""}]
[null,{"$f":"IF('2-Grant Budget'!EC310=\"\",\"\",RIGHT('2-Grant Budget'!DW310,2))","v":""},{"$f":"IF(G332=\"\",\"\",IF(RIGHT(F332,4)=\"8000\",VLOOKUP('1-Award Info'!$G$19,Tables!Q:R,2,0)&\"08008000\",VLOOKUP('1-Award Info'!$G$19,Tables!Q:R,2,0)&RIGHT(F332,8)))","v":""},"","",{"$f":"IF('2-Grant Budget'!$EC310=\"\",\"\",'2-Grant Budget'!DX310)","v":""},{"$f":"IF('2-Grant Budget'!$EC310=\"\",\"\",'2-Grant Budget'!DY310)","v":""},null,{"$f":"IF('2-Grant Budget'!$EC310=\"\",\"\",\"FY\"&RIGHT('2-Grant Budget'!EA310,2))","v":""},null,{"$f":"IF('2-Grant Budget'!EC310=\"\",\"\",'2-Grant Budget'!EC310)","v":""},{"$f":"IF('2-Grant Budget'!EE310=\"\",\"\",'2-Grant Budget'!EE310)","v":""}]
[null,{"$f":"IF('2-Grant Budget'!EC311=\"\",\"\",RIGHT('2-Grant Budget'!DW311,2))","v":""},{"$f":"IF(G333=\"\",\"\",IF(RIGHT(F333,4)=\"8000\",VLOOKUP('1-Award Info'!$G$19,Tables!Q:R,2,0)&\"08008000\",VLOOKUP('1-Award Info'!$G$19,Tables!Q:R,2,0)&RIGHT(F333,8)))","v":""},"","",{"$f":"IF('2-Grant Budget'!$EC311=\"\",\"\",'2-Grant Budget'!DX311)","v":""},{"$f":"IF('2-Grant Budget'!$EC311=\"\",\"\",'2-Grant Budget'!DY311)","v":""},null,{"$f":"IF('2-Grant Budget'!$EC311=\"\",\"\",\"FY\"&RIGHT('2-Grant Budget'!EA311,2))","v":""},null,{"$f":"IF('2-Grant Budget'!EC311=\"\",\"\",'2-Grant Budget'!EC311)","v":""},{"$f":"IF('2-Grant Budget'!EE311=\"\",\"\",'2-Grant Budget'!EE311)","v":""}]
[null,{"$f":"IF('2-Grant Budget'!EC312=\"\",\"\",RIGHT('2-Grant Budget'!DW312,2))","v":""},{"$f":"IF(G334=\"\",\"\",IF(RIGHT(F334,4)=\"8000\",VLOOKUP('1-Award Info'!$G$19,Tables!Q:R,2,0)&\"08008000\",VLOOKUP('1-Award Info'!$G$19,Tables!Q:R,2,0)&RIGHT(F334,8)))","v":""},"","",{"$f":"IF('2-Grant Budget'!$EC312=\"\",\"\",'2-Grant Budget'!DX312)","v":""},{"$f":"IF('2-Grant Budget'!$EC312=\"\",\"\",'2-Grant Budget'!DY312)","v":""},null,{"$f":"IF('2-Grant Budget'!$EC312=\"\",\"\",\"FY\"&RIGHT('2-Grant Budget'!EA312,2))","v":""},null,{"$f":"IF('2-Grant Budget'!EC312=\"\",\"\",'2-Grant Budget'!EC312)","v":""},{"$f":"IF('2-Grant Budget'!EE312=\"\",\"\",'2-Grant Budget'!EE312)","v":""}]
[null,{"$f":"IF('2-Grant Budget'!EC313=\"\",\"\",RIGHT('2-Grant Budget'!DW313,2))","v":""},{"$f":"IF(G335=\"\",\"\",IF(RIGHT(F335,4)=\"8000\",VLOOKUP('1-Award Info'!$G$19,Tables!Q:R,2,0)&\"08008000\",VLOOKUP('1-Award Info'!$G$19,Tables!Q:R,2,0)&RIGHT(F335,8)))","v":""},"","",{"$f":"IF('2-Grant Budget'!$EC313=\"\",\"\",'2-Grant Budget'!DX313)","v":""},{"$f":"IF('2-Grant Budget'!$EC313=\"\",\"\",'2-Grant Budget'!DY313)","v":""},null,{"$f":"IF('2-Grant Budget'!$EC313=\"\",\"\",\"FY\"&RIGHT('2-Grant Budget'!EA313,2))","v":""},null,{"$f":"IF('2-Grant Budget'!EC313=\"\",\"\",'2-Grant Budget'!EC313)","v":""},{"$f":"IF('2-Grant Budget'!EE313=\"\",\"\",'2-Grant Budget'!EE313)","v":""}]
[null,{"$f":"IF('2-Grant Budget'!EC314=\"\",\"\",RIGHT('2-Grant Budget'!DW314,2))","v":""},{"$f":"IF(G336=\"\",\"\",IF(RIGHT(F336,4)=\"8000\",VLOOKUP('1-Award Info'!$G$19,Tables!Q:R,2,0)&\"08008000\",VLOOKUP('1-Award Info'!$G$19,Tables!Q:R,2,0)&RIGHT(F336,8)))","v":""},"","",{"$f":"IF('2-Grant Budget'!$EC314=\"\",\"\",'2-Grant Budget'!DX314)","v":""},{"$f":"IF('2-Grant Budget'!$EC314=\"\",\"\",'2-Grant Budget'!DY314)","v":""},null,{"$f":"IF('2-Grant Budget'!$EC314=\"\",\"\",\"FY\"&RIGHT('2-Grant Budget'!EA314,2))","v":""},null,{"$f":"IF('2-Grant Budget'!EC314=\"\",\"\",'2-Grant Budget'!EC314)","v":""},{"$f":"IF('2-Grant Budget'!EE314=\"\",\"\",'2-Grant Budget'!EE314)","v":""}]
[null,{"$f":"IF('2-Grant Budget'!EC315=\"\",\"\",RIGHT('2-Grant Budget'!DW315,2))","v":""},{"$f":"IF(G337=\"\",\"\",IF(RIGHT(F337,4)=\"8000\",VLOOKUP('1-Award Info'!$G$19,Tables!Q:R,2,0)&\"08008000\",VLOOKUP('1-Award Info'!$G$19,Tables!Q:R,2,0)&RIGHT(F337,8)))","v":""},"","",{"$f":"IF('2-Grant Budget'!$EC315=\"\",\"\",'2-Grant Budget'!DX315)","v":""},{"$f":"IF('2-Grant Budget'!$EC315=\"\",\"\",'2-Grant Budget'!DY315)","v":""},null,{"$f":"IF('2-Grant Budget'!$EC315=\"\",\"\",\"FY\"&RIGHT('2-Grant Budget'!EA315,2))","v":""},null,{"$f":"IF('2-Grant Budget'!EC315=\"\",\"\",'2-Grant Budget'!EC315)","v":""},{"$f":"IF('2-Grant Budget'!EE315=\"\",\"\",'2-Grant Budget'!EE315)","v":""}]
[null,{"$f":"IF('2-Grant Budget'!EC316=\"\",\"\",RIGHT('2-Grant Budget'!DW316,2))","v":""},{"$f":"IF(G338=\"\",\"\",IF(RIGHT(F338,4)=\"8000\",VLOOKUP('1-Award Info'!$G$19,Tables!Q:R,2,0)&\"08008000\",VLOOKUP('1-Award Info'!$G$19,Tables!Q:R,2,0)&RIGHT(F338,8)))","v":""},"","",{"$f":"IF('2-Grant Budget'!$EC316=\"\",\"\",'2-Grant Budget'!DX316)","v":""},{"$f":"IF('2-Grant Budget'!$EC316=\"\",\"\",'2-Grant Budget'!DY316)","v":""},null,{"$f":"IF('2-Grant Budget'!$EC316=\"\",\"\",\"FY\"&RIGHT('2-Grant Budget'!EA316,2))","v":""},null,{"$f":"IF('2-Grant Budget'!EC316=\"\",\"\",'2-Grant Budget'!EC316)","v":""},{"$f":"IF('2-Grant Budget'!EE316=\"\",\"\",'2-Grant Budget'!EE316)","v":""}]
[null,{"$f":"IF('2-Grant Budget'!EC317=\"\",\"\",RIGHT('2-Grant Budget'!DW317,2))","v":""},{"$f":"IF(G339=\"\",\"\",IF(RIGHT(F339,4)=\"8000\",VLOOKUP('1-Award Info'!$G$19,Tables!Q:R,2,0)&\"08008000\",VLOOKUP('1-Award Info'!$G$19,Tables!Q:R,2,0)&RIGHT(F339,8)))","v":""},"","",{"$f":"IF('2-Grant Budget'!$EC317=\"\",\"\",'2-Grant Budget'!DX317)","v":""},{"$f":"IF('2-Grant Budget'!$EC317=\"\",\"\",'2-Grant Budget'!DY317)","v":""},null,{"$f":"IF('2-Grant Budget'!$EC317=\"\",\"\",\"FY\"&RIGHT('2-Grant Budget'!EA317,2))","v":""},null,{"$f":"IF('2-Grant Budget'!EC317=\"\",\"\",'2-Grant Budget'!EC317)","v":""},{"$f":"IF('2-Grant Budget'!EE317=\"\",\"\",'2-Grant Budget'!EE317)","v":""}]
[null,{"$f":"IF('2-Grant Budget'!EC318=\"\",\"\",RIGHT('2-Grant Budget'!DW318,2))","v":""},{"$f":"IF(G340=\"\",\"\",IF(RIGHT(F340,4)=\"8000\",VLOOKUP('1-Award Info'!$G$19,Tables!Q:R,2,0)&\"08008000\",VLOOKUP('1-Award Info'!$G$19,Tables!Q:R,2,0)&RIGHT(F340,8)))","v":""},"","",{"$f":"IF('2-Grant Budget'!$EC318=\"\",\"\",'2-Grant Budget'!DX318)","v":""},{"$f":"IF('2-Grant Budget'!$EC318=\"\",\"\",'2-Grant Budget'!DY318)","v":""},null,{"$f":"IF('2-Grant Budget'!$EC318=\"\",\"\",\"FY\"&RIGHT('2-Grant Budget'!EA318,2))","v":""},null,{"$f":"IF('2-Grant Budget'!EC318=\"\",\"\",'2-Grant Budget'!EC318)","v":""},{"$f":"IF('2-Grant Budget'!EE318=\"\",\"\",'2-Grant Budget'!EE318)","v":""}]
[null,{"$f":"IF('2-Grant Budget'!EC319=\"\",\"\",RIGHT('2-Grant Budget'!DW319,2))","v":""},{"$f":"IF(G341=\"\",\"\",IF(RIGHT(F341,4)=\"8000\",VLOOKUP('1-Award Info'!$G$19,Tables!Q:R,2,0)&\"08008000\",VLOOKUP('1-Award Info'!$G$19,Tables!Q:R,2,0)&RIGHT(F341,8)))","v":""},"","",{"$f":"IF('2-Grant Budget'!$EC319=\"\",\"\",'2-Grant Budget'!DX319)","v":""},{"$f":"IF('2-Grant Budget'!$EC319=\"\",\"\",'2-Grant Budget'!DY319)","v":""},null,{"$f":"IF('2-Grant Budget'!$EC319=\"\",\"\",\"FY\"&RIGHT('2-Grant Budget'!EA319,2))","v":""},null,{"$f":"IF('2-Grant Budget'!EC319=\"\",\"\",'2-Grant Budget'!EC319)","v":""},{"$f":"IF('2-Grant Budget'!EE319=\"\",\"\",'2-Grant Budget'!EE319)","v":""}]
[null,{"$f":"IF('2-Grant Budget'!EC320=\"\",\"\",RIGHT('2-Grant Budget'!DW320,2))","v":""},{"$f":"IF(G342=\"\",\"\",IF(RIGHT(F342,4)=\"8000\",VLOOKUP('1-Award Info'!$G$19,Tables!Q:R,2,0)&\"08008000\",VLOOKUP('1-Award Info'!$G$19,Tables!Q:R,2,0)&RIGHT(F342,8)))","v":""},"","",{"$f":"IF('2-Grant Budget'!$EC320=\"\",\"\",'2-Grant Budget'!DX320)","v":""},{"$f":"IF('2-Grant Budget'!$EC320=\"\",\"\",'2-Grant Budget'!DY320)","v":""},null,{"$f":"IF('2-Grant Budget'!$EC320=\"\",\"\",\"FY\"&RIGHT('2-Grant Budget'!EA320,2))","v":""},null,{"$f":"IF('2-Grant Budget'!EC320=\"\",\"\",'2-Grant Budget'!EC320)","v":""},{"$f":"IF('2-Grant Budget'!EE320=\"\",\"\",'2-Grant Budget'!EE320)","v":""}]
[null,{"$f":"IF('2-Grant Budget'!EC321=\"\",\"\",RIGHT('2-Grant Budget'!DW321,2))","v":""},{"$f":"IF(G343=\"\",\"\",IF(RIGHT(F343,4)=\"8000\",VLOOKUP('1-Award Info'!$G$19,Tables!Q:R,2,0)&\"08008000\",VLOOKUP('1-Award Info'!$G$19,Tables!Q:R,2,0)&RIGHT(F343,8)))","v":""},"","",{"$f":"IF('2-Grant Budget'!$EC321=\"\",\"\",'2-Grant Budget'!DX321)","v":""},{"$f":"IF('2-Grant Budget'!$EC321=\"\",\"\",'2-Grant Budget'!DY321)","v":""},null,{"$f":"IF('2-Grant Budget'!$EC321=\"\",\"\",\"FY\"&RIGHT('2-Grant Budget'!EA321,2))","v":""},null,{"$f":"IF('2-Grant Budget'!EC321=\"\",\"\",'2-Grant Budget'!EC321)","v":""},{"$f":"IF('2-Grant Budget'!EE321=\"\",\"\",'2-Grant Budget'!EE321)","v":""}]
[null,{"$f":"IF('2-Grant Budget'!EC322=\"\",\"\",RIGHT('2-Grant Budget'!DW322,2))","v":""},{"$f":"IF(G344=\"\",\"\",IF(RIGHT(F344,4)=\"8000\",VLOOKUP('1-Award Info'!$G$19,Tables!Q:R,2,0)&\"08008000\",VLOOKUP('1-Award Info'!$G$19,Tables!Q:R,2,0)&RIGHT(F344,8)))","v":""},"","",{"$f":"IF('2-Grant Budget'!$EC322=\"\",\"\",'2-Grant Budget'!DX322)","v":""},{"$f":"IF('2-Grant Budget'!$EC322=\"\",\"\",'2-Grant Budget'!DY322)","v":""},null,{"$f":"IF('2-Grant Budget'!$EC322=\"\",\"\",\"FY\"&RIGHT('2-Grant Budget'!EA322,2))","v":""},null,{"$f":"IF('2-Grant Budget'!EC322=\"\",\"\",'2-Grant Budget'!EC322)","v":""},{"$f":"IF('2-Grant Budget'!EE322=\"\",\"\",'2-Grant Budget'!EE322)","v":""}]
[null,{"$f":"IF('2-Grant Budget'!EC323=\"\",\"\",RIGHT('2-Grant Budget'!DW323,2))","v":""},{"$f":"IF(G345=\"\",\"\",IF(RIGHT(F345,4)=\"8000\",VLOOKUP('1-Award Info'!$G$19,Tables!Q:R,2,0)&\"08008000\",VLOOKUP('1-Award Info'!$G$19,Tables!Q:R,2,0)&RIGHT(F345,8)))","v":""},"","",{"$f":"IF('2-Grant Budget'!$EC323=\"\",\"\",'2-Grant Budget'!DX323)","v":""},{"$f":"IF('2-Grant Budget'!$EC323=\"\",\"\",'2-Grant Budget'!DY323)","v":""},null,{"$f":"IF('2-Grant Budget'!$EC323=\"\",\"\",\"FY\"&RIGHT('2-Grant Budget'!EA323,2))","v":""},null,{"$f":"IF('2-Grant Budget'!EC323=\"\",\"\",'2-Grant Budget'!EC323)","v":""},{"$f":"IF('2-Grant Budget'!EE323=\"\",\"\",'2-Grant Budget'!EE323)","v":""}]
[null,{"$f":"IF('2-Grant Budget'!EC324=\"\",\"\",RIGHT('2-Grant Budget'!DW324,2))","v":""},{"$f":"IF(G346=\"\",\"\",IF(RIGHT(F346,4)=\"8000\",VLOOKUP('1-Award Info'!$G$19,Tables!Q:R,2,0)&\"08008000\",VLOOKUP('1-Award Info'!$G$19,Tables!Q:R,2,0)&RIGHT(F346,8)))","v":""},"","",{"$f":"IF('2-Grant Budget'!$EC324=\"\",\"\",'2-Grant Budget'!DX324)","v":""},{"$f":"IF('2-Grant Budget'!$EC324=\"\",\"\",'2-Grant Budget'!DY324)","v":""},null,{"$f":"IF('2-Grant Budget'!$EC324=\"\",\"\",\"FY\"&RIGHT('2-Grant Budget'!EA324,2))","v":""},null,{"$f":"IF('2-Grant Budget'!EC324=\"\",\"\",'2-Grant Budget'!EC324)","v":""},{"$f":"IF('2-Grant Budget'!EE324=\"\",\"\",'2-Grant Budget'!EE324)","v":""}]
[null,{"$f":"IF('2-Grant Budget'!EC325=\"\",\"\",RIGHT('2-Grant Budget'!DW325,2))","v":""},{"$f":"IF(G347=\"\",\"\",IF(RIGHT(F347,4)=\"8000\",VLOOKUP('1-Award Info'!$G$19,Tables!Q:R,2,0)&\"08008000\",VLOOKUP('1-Award Info'!$G$19,Tables!Q:R,2,0)&RIGHT(F347,8)))","v":""},"","",{"$f":"IF('2-Grant Budget'!$EC325=\"\",\"\",'2-Grant Budget'!DX325)","v":""},{"$f":"IF('2-Grant Budget'!$EC325=\"\",\"\",'2-Grant Budget'!DY325)","v":""},null,{"$f":"IF('2-Grant Budget'!$EC325=\"\",\"\",\"FY\"&RIGHT('2-Grant Budget'!EA325,2))","v":""},null,{"$f":"IF('2-Grant Budget'!EC325=\"\",\"\",'2-Grant Budget'!EC325)","v":""},{"$f":"IF('2-Grant Budget'!EE325=\"\",\"\",'2-Grant Budget'!EE325)","v":""}]
[null,{"$f":"IF('2-Grant Budget'!EC326=\"\",\"\",RIGHT('2-Grant Budget'!DW326,2))","v":""},{"$f":"IF(G348=\"\",\"\",IF(RIGHT(F348,4)=\"8000\",VLOOKUP('1-Award Info'!$G$19,Tables!Q:R,2,0)&\"08008000\",VLOOKUP('1-Award Info'!$G$19,Tables!Q:R,2,0)&RIGHT(F348,8)))","v":""},"","",{"$f":"IF('2-Grant Budget'!$EC326=\"\",\"\",'2-Grant Budget'!DX326)","v":""},{"$f":"IF('2-Grant Budget'!$EC326=\"\",\"\",'2-Grant Budget'!DY326)","v":""},null,{"$f":"IF('2-Grant Budget'!$EC326=\"\",\"\",\"FY\"&RIGHT('2-Grant Budget'!EA326,2))","v":""},null,{"$f":"IF('2-Grant Budget'!EC326=\"\",\"\",'2-Grant Budget'!EC326)","v":""},{"$f":"IF('2-Grant Budget'!EE326=\"\",\"\",'2-Grant Budget'!EE326)","v":""}]
[null,{"$f":"IF('2-Grant Budget'!EC327=\"\",\"\",RIGHT('2-Grant Budget'!DW327,2))","v":""},{"$f":"IF(G349=\"\",\"\",IF(RIGHT(F349,4)=\"8000\",VLOOKUP('1-Award Info'!$G$19,Tables!Q:R,2,0)&\"08008000\",VLOOKUP('1-Award Info'!$G$19,Tables!Q:R,2,0)&RIGHT(F349,8)))","v":""},"","",{"$f":"IF('2-Grant Budget'!$EC327=\"\",\"\",'2-Grant Budget'!DX327)","v":""},{"$f":"IF('2-Grant Budget'!$EC327=\"\",\"\",'2-Grant Budget'!DY327)","v":""},null,{"$f":"IF('2-Grant Budget'!$EC327=\"\",\"\",\"FY\"&RIGHT('2-Grant Budget'!EA327,2))","v":""},null,{"$f":"IF('2-Grant Budget'!EC327=\"\",\"\",'2-Grant Budget'!EC327)","v":""},{"$f":"IF('2-Grant Budget'!EE327=\"\",\"\",'2-Grant Budget'!EE327)","v":""}]
[null,{"$f":"IF('2-Grant Budget'!EC328=\"\",\"\",RIGHT('2-Grant Budget'!DW328,2))","v":""},{"$f":"IF(G350=\"\",\"\",IF(RIGHT(F350,4)=\"8000\",VLOOKUP('1-Award Info'!$G$19,Tables!Q:R,2,0)&\"08008000\",VLOOKUP('1-Award Info'!$G$19,Tables!Q:R,2,0)&RIGHT(F350,8)))","v":""},"","",{"$f":"IF('2-Grant Budget'!$EC328=\"\",\"\",'2-Grant Budget'!DX328)","v":""},{"$f":"IF('2-Grant Budget'!$EC328=\"\",\"\",'2-Grant Budget'!DY328)","v":""},null,{"$f":"IF('2-Grant Budget'!$EC328=\"\",\"\",\"FY\"&RIGHT('2-Grant Budget'!EA328,2))","v":""},null,{"$f":"IF('2-Grant Budget'!EC328=\"\",\"\",'2-Grant Budget'!EC328)","v":""},{"$f":"IF('2-Grant Budget'!EE328=\"\",\"\",'2-Grant Budget'!EE328)","v":""}]
[null,{"$f":"IF('2-Grant Budget'!EC329=\"\",\"\",RIGHT('2-Grant Budget'!DW329,2))","v":""},{"$f":"IF(G351=\"\",\"\",IF(RIGHT(F351,4)=\"8000\",VLOOKUP('1-Award Info'!$G$19,Tables!Q:R,2,0)&\"08008000\",VLOOKUP('1-Award Info'!$G$19,Tables!Q:R,2,0)&RIGHT(F351,8)))","v":""},"","",{"$f":"IF('2-Grant Budget'!$EC329=\"\",\"\",'2-Grant Budget'!DX329)","v":""},{"$f":"IF('2-Grant Budget'!$EC329=\"\",\"\",'2-Grant Budget'!DY329)","v":""},null,{"$f":"IF('2-Grant Budget'!$EC329=\"\",\"\",\"FY\"&RIGHT('2-Grant Budget'!EA329,2))","v":""},null,{"$f":"IF('2-Grant Budget'!EC329=\"\",\"\",'2-Grant Budget'!EC329)","v":""},{"$f":"IF('2-Grant Budget'!EE329=\"\",\"\",'2-Grant Budget'!EE329)","v":""}]
[null,{"$f":"IF('2-Grant Budget'!EC330=\"\",\"\",RIGHT('2-Grant Budget'!DW330,2))","v":""},{"$f":"IF(G352=\"\",\"\",IF(RIGHT(F352,4)=\"8000\",VLOOKUP('1-Award Info'!$G$19,Tables!Q:R,2,0)&\"08008000\",VLOOKUP('1-Award Info'!$G$19,Tables!Q:R,2,0)&RIGHT(F352,8)))","v":""},"","",{"$f":"IF('2-Grant Budget'!$EC330=\"\",\"\",'2-Grant Budget'!DX330)","v":""},{"$f":"IF('2-Grant Budget'!$EC330=\"\",\"\",'2-Grant Budget'!DY330)","v":""},null,{"$f":"IF('2-Grant Budget'!$EC330=\"\",\"\",\"FY\"&RIGHT('2-Grant Budget'!EA330,2))","v":""},null,{"$f":"IF('2-Grant Budget'!EC330=\"\",\"\",'2-Grant Budget'!EC330)","v":""},{"$f":"IF('2-Grant Budget'!EE330=\"\",\"\",'2-Grant Budget'!EE330)","v":""}]
[null,{"$f":"IF('2-Grant Budget'!EC331=\"\",\"\",RIGHT('2-Grant Budget'!DW331,2))","v":""},{"$f":"IF(G353=\"\",\"\",IF(RIGHT(F353,4)=\"8000\",VLOOKUP('1-Award Info'!$G$19,Tables!Q:R,2,0)&\"08008000\",VLOOKUP('1-Award Info'!$G$19,Tables!Q:R,2,0)&RIGHT(F353,8)))","v":""},"","",{"$f":"IF('2-Grant Budget'!$EC331=\"\",\"\",'2-Grant Budget'!DX331)","v":""},{"$f":"IF('2-Grant Budget'!$EC331=\"\",\"\",'2-Grant Budget'!DY331)","v":""},null,{"$f":"IF('2-Grant Budget'!$EC331=\"\",\"\",\"FY\"&RIGHT('2-Grant Budget'!EA331,2))","v":""},null,{"$f":"IF('2-Grant Budget'!EC331=\"\",\"\",'2-Grant Budget'!EC331)","v":""},{"$f":"IF('2-Grant Budget'!EE331=\"\",\"\",'2-Grant Budget'!EE331)","v":""}]
[null,{"$f":"IF('2-Grant Budget'!EC332=\"\",\"\",RIGHT('2-Grant Budget'!DW332,2))","v":""},{"$f":"IF(G354=\"\",\"\",IF(RIGHT(F354,4)=\"8000\",VLOOKUP('1-Award Info'!$G$19,Tables!Q:R,2,0)&\"08008000\",VLOOKUP('1-Award Info'!$G$19,Tables!Q:R,2,0)&RIGHT(F354,8)))","v":""},"","",{"$f":"IF('2-Grant Budget'!$EC332=\"\",\"\",'2-Grant Budget'!DX332)","v":""},{"$f":"IF('2-Grant Budget'!$EC332=\"\",\"\",'2-Grant Budget'!DY332)","v":""},null,{"$f":"IF('2-Grant Budget'!$EC332=\"\",\"\",\"FY\"&RIGHT('2-Grant Budget'!EA332,2))","v":""},null,{"$f":"IF('2-Grant Budget'!EC332=\"\",\"\",'2-Grant Budget'!EC332)","v":""},{"$f":"IF('2-Grant Budget'!EE332=\"\",\"\",'2-Grant Budget'!EE332)","v":""}]
[null,{"$f":"IF('2-Grant Budget'!EC333=\"\",\"\",RIGHT('2-Grant Budget'!DW333,2))","v":""},{"$f":"IF(G355=\"\",\"\",IF(RIGHT(F355,4)=\"8000\",VLOOKUP('1-Award Info'!$G$19,Tables!Q:R,2,0)&\"08008000\",VLOOKUP('1-Award Info'!$G$19,Tables!Q:R,2,0)&RIGHT(F355,8)))","v":""},"","",{"$f":"IF('2-Grant Budget'!$EC333=\"\",\"\",'2-Grant Budget'!DX333)","v":""},{"$f":"IF('2-Grant Budget'!$EC333=\"\",\"\",'2-Grant Budget'!DY333)","v":""},null,{"$f":"IF('2-Grant Budget'!$EC333=\"\",\"\",\"FY\"&RIGHT('2-Grant Budget'!EA333,2))","v":""},null,{"$f":"IF('2-Grant Budget'!EC333=\"\",\"\",'2-Grant Budget'!EC333)","v":""},{"$f":"IF('2-Grant Budget'!EE333=\"\",\"\",'2-Grant Budget'!EE333)","v":""}]
[null,{"$f":"IF('2-Grant Budget'!EC334=\"\",\"\",RIGHT('2-Grant Budget'!DW334,2))","v":""},{"$f":"IF(G356=\"\",\"\",IF(RIGHT(F356,4)=\"8000\",VLOOKUP('1-Award Info'!$G$19,Tables!Q:R,2,0)&\"08008000\",VLOOKUP('1-Award Info'!$G$19,Tables!Q:R,2,0)&RIGHT(F356,8)))","v":""},"","",{"$f":"IF('2-Grant Budget'!$EC334=\"\",\"\",'2-Grant Budget'!DX334)","v":""},{"$f":"IF('2-Grant Budget'!$EC334=\"\",\"\",'2-Grant Budget'!DY334)","v":""},null,{"$f":"IF('2-Grant Budget'!$EC334=\"\",\"\",\"FY\"&RIGHT('2-Grant Budget'!EA334,2))","v":""},null,{"$f":"IF('2-Grant Budget'!EC334=\"\",\"\",'2-Grant Budget'!EC334)","v":""},{"$f":"IF('2-Grant Budget'!EE334=\"\",\"\",'2-Grant Budget'!EE334)","v":""}]
[null,{"$f":"IF('2-Grant Budget'!EC335=\"\",\"\",RIGHT('2-Grant Budget'!DW335,2))","v":""},{"$f":"IF(G357=\"\",\"\",IF(RIGHT(F357,4)=\"8000\",VLOOKUP('1-Award Info'!$G$19,Tables!Q:R,2,0)&\"08008000\",VLOOKUP('1-Award Info'!$G$19,Tables!Q:R,2,0)&RIGHT(F357,8)))","v":""},"","",{"$f":"IF('2-Grant Budget'!$EC335=\"\",\"\",'2-Grant Budget'!DX335)","v":""},{"$f":"IF('2-Grant Budget'!$EC335=\"\",\"\",'2-Grant Budget'!DY335)","v":""},null,{"$f":"IF('2-Grant Budget'!$EC335=\"\",\"\",\"FY\"&RIGHT('2-Grant Budget'!EA335,2))","v":""},null,{"$f":"IF('2-Grant Budget'!EC335=\"\",\"\",'2-Grant Budget'!EC335)","v":""},{"$f":"IF('2-Grant Budget'!EE335=\"\",\"\",'2-Grant Budget'!EE335)","v":""}]
[null,{"$f":"IF('2-Grant Budget'!EC336=\"\",\"\",RIGHT('2-Grant Budget'!DW336,2))","v":""},{"$f":"IF(G358=\"\",\"\",IF(RIGHT(F358,4)=\"8000\",VLOOKUP('1-Award Info'!$G$19,Tables!Q:R,2,0)&\"08008000\",VLOOKUP('1-Award Info'!$G$19,Tables!Q:R,2,0)&RIGHT(F358,8)))","v":""},"","",{"$f":"IF('2-Grant Budget'!$EC336=\"\",\"\",'2-Grant Budget'!DX336)","v":""},{"$f":"IF('2-Grant Budget'!$EC336=\"\",\"\",'2-Grant Budget'!DY336)","v":""},null,{"$f":"IF('2-Grant Budget'!$EC336=\"\",\"\",\"FY\"&RIGHT('2-Grant Budget'!EA336,2))","v":""},null,{"$f":"IF('2-Grant Budget'!EC336=\"\",\"\",'2-Grant Budget'!EC336)","v":""},{"$f":"IF('2-Grant Budget'!EE336=\"\",\"\",'2-Grant Budget'!EE336)","v":""}]
[null,{"$f":"IF('2-Grant Budget'!EC337=\"\",\"\",RIGHT('2-Grant Budget'!DW337,2))","v":""},{"$f":"IF(G359=\"\",\"\",IF(RIGHT(F359,4)=\"8000\",VLOOKUP('1-Award Info'!$G$19,Tables!Q:R,2,0)&\"08008000\",VLOOKUP('1-Award Info'!$G$19,Tables!Q:R,2,0)&RIGHT(F359,8)))","v":""},"","",{"$f":"IF('2-Grant Budget'!$EC337=\"\",\"\",'2-Grant Budget'!DX337)","v":""},{"$f":"IF('2-Grant Budget'!$EC337=\"\",\"\",'2-Grant Budget'!DY337)","v":""},null,{"$f":"IF('2-Grant Budget'!$EC337=\"\",\"\",\"FY\"&RIGHT('2-Grant Budget'!EA337,2))","v":""},null,{"$f":"IF('2-Grant Budget'!EC337=\"\",\"\",'2-Grant Budget'!EC337)","v":""},{"$f":"IF('2-Grant Budget'!EE337=\"\",\"\",'2-Grant Budget'!EE337)","v":""}]
[null,{"$f":"IF('2-Grant Budget'!EC338=\"\",\"\",RIGHT('2-Grant Budget'!DW338,2))","v":""},{"$f":"IF(G360=\"\",\"\",IF(RIGHT(F360,4)=\"8000\",VLOOKUP('1-Award Info'!$G$19,Tables!Q:R,2,0)&\"08008000\",VLOOKUP('1-Award Info'!$G$19,Tables!Q:R,2,0)&RIGHT(F360,8)))","v":""},{"$f":"IF(G360=\"\",\"\",IF(LEFT(G360)<>\"9\",LEFT(G360,4),9&RIGHT(G360,3)))","v":""},{"$f":"IF(G360=\"\",\"\",IF(LEFT(G360,1)<>\"9\",0,MID(G360,2,1)))","v":""},{"$f":"IF('2-Grant Budget'!$EC338=\"\",\"\",'2-Grant Budget'!DX338)","v":""},{"$f":"IF('2-Grant Budget'!$EC338=\"\",\"\",'2-Grant Budget'!DY338)","v":""},null,{"$f":"IF('2-Grant Budget'!$EC338=\"\",\"\",\"FY\"&RIGHT('2-Grant Budget'!EA338,2))","v":""},null,{"$f":"IF('2-Grant Budget'!EC338=\"\",\"\",'2-Grant Budget'!EC338)","v":""},{"$f":"IF('2-Grant Budget'!EE338=\"\",\"\",'2-Grant Budget'!EE338)","v":""}]
[null,{"$f":"IF('2-Grant Budget'!EC339=\"\",\"\",RIGHT('2-Grant Budget'!DW339,2))","v":""},{"$f":"IF(G361=\"\",\"\",IF(RIGHT(F361,4)=\"8000\",VLOOKUP('1-Award Info'!$G$19,Tables!Q:R,2,0)&\"08008000\",VLOOKUP('1-Award Info'!$G$19,Tables!Q:R,2,0)&RIGHT(F361,8)))","v":""},"","",{"$f":"IF('2-Grant Budget'!$EC339=\"\",\"\",'2-Grant Budget'!DX339)","v":""},{"$f":"IF('2-Grant Budget'!$EC339=\"\",\"\",'2-Grant Budget'!DY339)","v":""},null,{"$f":"IF('2-Grant Budget'!$EC339=\"\",\"\",\"FY\"&RIGHT('2-Grant Budget'!EA339,2))","v":""},null,{"$f":"IF('2-Grant Budget'!EC339=\"\",\"\",'2-Grant Budget'!EC339)","v":""},{"$f":"IF('2-Grant Budget'!EE339=\"\",\"\",'2-Grant Budget'!EE339)","v":""}]
[null,{"$f":"IF('2-Grant Budget'!EC340=\"\",\"\",RIGHT('2-Grant Budget'!DW340,2))","v":""},{"$f":"IF(G362=\"\",\"\",IF(RIGHT(F362,4)=\"8000\",VLOOKUP('1-Award Info'!$G$19,Tables!Q:R,2,0)&\"08008000\",VLOOKUP('1-Award Info'!$G$19,Tables!Q:R,2,0)&RIGHT(F362,8)))","v":""},"","",{"$f":"IF('2-Grant Budget'!$EC340=\"\",\"\",'2-Grant Budget'!DX340)","v":""},{"$f":"IF('2-Grant Budget'!$EC340=\"\",\"\",'2-Grant Budget'!DY340)","v":""},null,{"$f":"IF('2-Grant Budget'!$EC340=\"\",\"\",\"FY\"&RIGHT('2-Grant Budget'!EA340,2))","v":""},null,{"$f":"IF('2-Grant Budget'!EC340=\"\",\"\",'2-Grant Budget'!EC340)","v":""},{"$f":"IF('2-Grant Budget'!EE340=\"\",\"\",'2-Grant Budget'!EE340)","v":""}]
[null,{"$f":"IF('2-Grant Budget'!EC341=\"\",\"\",RIGHT('2-Grant Budget'!DW341,2))","v":""},{"$f":"IF(G363=\"\",\"\",IF(RIGHT(F363,4)=\"8000\",VLOOKUP('1-Award Info'!$G$19,Tables!Q:R,2,0)&\"08008000\",VLOOKUP('1-Award Info'!$G$19,Tables!Q:R,2,0)&RIGHT(F363,8)))","v":""},"","",{"$f":"IF('2-Grant Budget'!$EC341=\"\",\"\",'2-Grant Budget'!DX341)","v":""},{"$f":"IF('2-Grant Budget'!$EC341=\"\",\"\",'2-Grant Budget'!DY341)","v":""},null,{"$f":"IF('2-Grant Budget'!$EC341=\"\",\"\",\"FY\"&RIGHT('2-Grant Budget'!EA341,2))","v":""},null,{"$f":"IF('2-Grant Budget'!EC341=\"\",\"\",'2-Grant Budget'!EC341)","v":""},{"$f":"IF('2-Grant Budget'!EE341=\"\",\"\",'2-Grant Budget'!EE341)","v":""}]
[null,{"$f":"IF('2-Grant Budget'!EC342=\"\",\"\",RIGHT('2-Grant Budget'!DW342,2))","v":""},{"$f":"IF(G364=\"\",\"\",IF(RIGHT(F364,4)=\"8000\",VLOOKUP('1-Award Info'!$G$19,Tables!Q:R,2,0)&\"08008000\",VLOOKUP('1-Award Info'!$G$19,Tables!Q:R,2,0)&RIGHT(F364,8)))","v":""},"","",{"$f":"IF('2-Grant Budget'!$EC342=\"\",\"\",'2-Grant Budget'!DX342)","v":""},{"$f":"IF('2-Grant Budget'!$EC342=\"\",\"\",'2-Grant Budget'!DY342)","v":""},null,{"$f":"IF('2-Grant Budget'!$EC342=\"\",\"\",\"FY\"&RIGHT('2-Grant Budget'!EA342,2))","v":""},null,{"$f":"IF('2-Grant Budget'!EC342=\"\",\"\",'2-Grant Budget'!EC342)","v":""},{"$f":"IF('2-Grant Budget'!EE342=\"\",\"\",'2-Grant Budget'!EE342)","v":""}]
[null,{"$f":"IF('2-Grant Budget'!EC343=\"\",\"\",RIGHT('2-Grant Budget'!DW343,2))","v":""},{"$f":"IF(G365=\"\",\"\",IF(RIGHT(F365,4)=\"8000\",VLOOKUP('1-Award Info'!$G$19,Tables!Q:R,2,0)&\"08008000\",VLOOKUP('1-Award Info'!$G$19,Tables!Q:R,2,0)&RIGHT(F365,8)))","v":""},"","",{"$f":"IF('2-Grant Budget'!$EC343=\"\",\"\",'2-Grant Budget'!DX343)","v":""},{"$f":"IF('2-Grant Budget'!$EC343=\"\",\"\",'2-Grant Budget'!DY343)","v":""},null,{"$f":"IF('2-Grant Budget'!$EC343=\"\",\"\",\"FY\"&RIGHT('2-Grant Budget'!EA343,2))","v":""},null,{"$f":"IF('2-Grant Budget'!EC343=\"\",\"\",'2-Grant Budget'!EC343)","v":""},{"$f":"IF('2-Grant Budget'!EE343=\"\",\"\",'2-Grant Budget'!EE343)","v":""}]
[null,{"$f":"IF('2-Grant Budget'!EC344=\"\",\"\",RIGHT('2-Grant Budget'!DW344,2))","v":""},{"$f":"IF(G366=\"\",\"\",IF(RIGHT(F366,4)=\"8000\",VLOOKUP('1-Award Info'!$G$19,Tables!Q:R,2,0)&\"08008000\",VLOOKUP('1-Award Info'!$G$19,Tables!Q:R,2,0)&RIGHT(F366,8)))","v":""},"","",{"$f":"IF('2-Grant Budget'!$EC344=\"\",\"\",'2-Grant Budget'!DX344)","v":""},{"$f":"IF('2-Grant Budget'!$EC344=\"\",\"\",'2-Grant Budget'!DY344)","v":""},null,{"$f":"IF('2-Grant Budget'!$EC344=\"\",\"\",\"FY\"&RIGHT('2-Grant Budget'!EA344,2))","v":""},null,{"$f":"IF('2-Grant Budget'!EC344=\"\",\"\",'2-Grant Budget'!EC344)","v":""},{"$f":"IF('2-Grant Budget'!EE344=\"\",\"\",'2-Grant Budget'!EE344)","v":""}]
[null,{"$f":"IF('2-Grant Budget'!EC345=\"\",\"\",RIGHT('2-Grant Budget'!DW345,2))","v":""},{"$f":"IF(G367=\"\",\"\",IF(RIGHT(F367,4)=\"8000\",VLOOKUP('1-Award Info'!$G$19,Tables!Q:R,2,0)&\"08008000\",VLOOKUP('1-Award Info'!$G$19,Tables!Q:R,2,0)&RIGHT(F367,8)))","v":""},"","",{"$f":"IF('2-Grant Budget'!$EC345=\"\",\"\",'2-Grant Budget'!DX345)","v":""},{"$f":"IF('2-Grant Budget'!$EC345=\"\",\"\",'2-Grant Budget'!DY345)","v":""},null,{"$f":"IF('2-Grant Budget'!$EC345=\"\",\"\",\"FY\"&RIGHT('2-Grant Budget'!EA345,2))","v":""},null,{"$f":"IF('2-Grant Budget'!EC345=\"\",\"\",'2-Grant Budget'!EC345)","v":""},{"$f":"IF('2-Grant Budget'!EE345=\"\",\"\",'2-Grant Budget'!EE345)","v":""}]
[null,{"$f":"IF('2-Grant Budget'!EC346=\"\",\"\",RIGHT('2-Grant Budget'!DW346,2))","v":""},{"$f":"IF(G368=\"\",\"\",IF(RIGHT(F368,4)=\"8000\",VLOOKUP('1-Award Info'!$G$19,Tables!Q:R,2,0)&\"08008000\",VLOOKUP('1-Award Info'!$G$19,Tables!Q:R,2,0)&RIGHT(F368,8)))","v":""},"","",{"$f":"IF('2-Grant Budget'!$EC346=\"\",\"\",'2-Grant Budget'!DX346)","v":""},{"$f":"IF('2-Grant Budget'!$EC346=\"\",\"\",'2-Grant Budget'!DY346)","v":""},null,{"$f":"IF('2-Grant Budget'!$EC346=\"\",\"\",\"FY\"&RIGHT('2-Grant Budget'!EA346,2))","v":""},null,{"$f":"IF('2-Grant Budget'!EC346=\"\",\"\",'2-Grant Budget'!EC346)","v":""},{"$f":"IF('2-Grant Budget'!EE346=\"\",\"\",'2-Grant Budget'!EE346)","v":""}]
[null,{"$f":"IF('2-Grant Budget'!EC347=\"\",\"\",RIGHT('2-Grant Budget'!DW347,2))","v":""},{"$f":"IF(G369=\"\",\"\",IF(RIGHT(F369,4)=\"8000\",VLOOKUP('1-Award Info'!$G$19,Tables!Q:R,2,0)&\"08008000\",VLOOKUP('1-Award Info'!$G$19,Tables!Q:R,2,0)&RIGHT(F369,8)))","v":""},"","",{"$f":"IF('2-Grant Budget'!$EC347=\"\",\"\",'2-Grant Budget'!DX347)","v":""},{"$f":"IF('2-Grant Budget'!$EC347=\"\",\"\",'2-Grant Budget'!DY347)","v":""},null,{"$f":"IF('2-Grant Budget'!$EC347=\"\",\"\",\"FY\"&RIGHT('2-Grant Budget'!EA347,2))","v":""},null,{"$f":"IF('2-Grant Budget'!EC347=\"\",\"\",'2-Grant Budget'!EC347)","v":""},{"$f":"IF('2-Grant Budget'!EE347=\"\",\"\",'2-Grant Budget'!EE347)","v":""}]
[null,{"$f":"IF('2-Grant Budget'!EC348=\"\",\"\",RIGHT('2-Grant Budget'!DW348,2))","v":""},{"$f":"IF(G370=\"\",\"\",IF(RIGHT(F370,4)=\"8000\",VLOOKUP('1-Award Info'!$G$19,Tables!Q:R,2,0)&\"08008000\",VLOOKUP('1-Award Info'!$G$19,Tables!Q:R,2,0)&RIGHT(F370,8)))","v":""},"","",{"$f":"IF('2-Grant Budget'!$EC348=\"\",\"\",'2-Grant Budget'!DX348)","v":""},{"$f":"IF('2-Grant Budget'!$EC348=\"\",\"\",'2-Grant Budget'!DY348)","v":""},null,{"$f":"IF('2-Grant Budget'!$EC348=\"\",\"\",\"FY\"&RIGHT('2-Grant Budget'!EA348,2))","v":""},null,{"$f":"IF('2-Grant Budget'!EC348=\"\",\"\",'2-Grant Budget'!EC348)","v":""},{"$f":"IF('2-Grant Budget'!EE348=\"\",\"\",'2-Grant Budget'!EE348)","v":""}]
[null,{"$f":"IF('2-Grant Budget'!EC349=\"\",\"\",RIGHT('2-Grant Budget'!DW349,2))","v":""},{"$f":"IF(G371=\"\",\"\",IF(RIGHT(F371,4)=\"8000\",VLOOKUP('1-Award Info'!$G$19,Tables!Q:R,2,0)&\"08008000\",VLOOKUP('1-Award Info'!$G$19,Tables!Q:R,2,0)&RIGHT(F371,8)))","v":""},"","",{"$f":"IF('2-Grant Budget'!$EC349=\"\",\"\",'2-Grant Budget'!DX349)","v":""},{"$f":"IF('2-Grant Budget'!$EC349=\"\",\"\",'2-Grant Budget'!DY349)","v":""},null,{"$f":"IF('2-Grant Budget'!$EC349=\"\",\"\",\"FY\"&RIGHT('2-Grant Budget'!EA349,2))","v":""},null,{"$f":"IF('2-Grant Budget'!EC349=\"\",\"\",'2-Grant Budget'!EC349)","v":""},{"$f":"IF('2-Grant Budget'!EE349=\"\",\"\",'2-Grant Budget'!EE349)","v":""}]
[null,{"$f":"IF('2-Grant Budget'!EC350=\"\",\"\",RIGHT('2-Grant Budget'!DW350,2))","v":""},{"$f":"IF(G372=\"\",\"\",IF(RIGHT(F372,4)=\"8000\",VLOOKUP('1-Award Info'!$G$19,Tables!Q:R,2,0)&\"08008000\",VLOOKUP('1-Award Info'!$G$19,Tables!Q:R,2,0)&RIGHT(F372,8)))","v":""},"","",{"$f":"IF('2-Grant Budget'!$EC350=\"\",\"\",'2-Grant Budget'!DX350)","v":""},{"$f":"IF('2-Grant Budget'!$EC350=\"\",\"\",'2-Grant Budget'!DY350)","v":""},null,{"$f":"IF('2-Grant Budget'!$EC350=\"\",\"\",\"FY\"&RIGHT('2-Grant Budget'!EA350,2))","v":""},null,{"$f":"IF('2-Grant Budget'!EC350=\"\",\"\",'2-Grant Budget'!EC350)","v":""},{"$f":"IF('2-Grant Budget'!EE350=\"\",\"\",'2-Grant Budget'!EE350)","v":""}]
[null,{"$f":"IF('2-Grant Budget'!EC351=\"\",\"\",RIGHT('2-Grant Budget'!DW351,2))","v":""},{"$f":"IF(G373=\"\",\"\",IF(RIGHT(F373,4)=\"8000\",VLOOKUP('1-Award Info'!$G$19,Tables!Q:R,2,0)&\"08008000\",VLOOKUP('1-Award Info'!$G$19,Tables!Q:R,2,0)&RIGHT(F373,8)))","v":""},"","",{"$f":"IF('2-Grant Budget'!$EC351=\"\",\"\",'2-Grant Budget'!DX351)","v":""},{"$f":"IF('2-Grant Budget'!$EC351=\"\",\"\",'2-Grant Budget'!DY351)","v":""},null,{"$f":"IF('2-Grant Budget'!$EC351=\"\",\"\",\"FY\"&RIGHT('2-Grant Budget'!EA351,2))","v":""},null,{"$f":"IF('2-Grant Budget'!EC351=\"\",\"\",'2-Grant Budget'!EC351)","v":""},{"$f":"IF('2-Grant Budget'!EE351=\"\",\"\",'2-Grant Budget'!EE351)","v":""}]
[null,{"$f":"IF('2-Grant Budget'!EC352=\"\",\"\",RIGHT('2-Grant Budget'!DW352,2))","v":""},{"$f":"IF(G374=\"\",\"\",IF(RIGHT(F374,4)=\"8000\",VLOOKUP('1-Award Info'!$G$19,Tables!Q:R,2,0)&\"08008000\",VLOOKUP('1-Award Info'!$G$19,Tables!Q:R,2,0)&RIGHT(F374,8)))","v":""},"","",{"$f":"IF('2-Grant Budget'!$EC352=\"\",\"\",'2-Grant Budget'!DX352)","v":""},{"$f":"IF('2-Grant Budget'!$EC352=\"\",\"\",'2-Grant Budget'!DY352)","v":""},null,{"$f":"IF('2-Grant Budget'!$EC352=\"\",\"\",\"FY\"&RIGHT('2-Grant Budget'!EA352,2))","v":""},null,{"$f":"IF('2-Grant Budget'!EC352=\"\",\"\",'2-Grant Budget'!EC352)","v":""},{"$f":"IF('2-Grant Budget'!EE352=\"\",\"\",'2-Grant Budget'!EE352)","v":""}]
[null,{"$f":"IF('2-Grant Budget'!EC353=\"\",\"\",RIGHT('2-Grant Budget'!DW353,2))","v":""},{"$f":"IF(G375=\"\",\"\",IF(RIGHT(F375,4)=\"8000\",VLOOKUP('1-Award Info'!$G$19,Tables!Q:R,2,0)&\"08008000\",VLOOKUP('1-Award Info'!$G$19,Tables!Q:R,2,0)&RIGHT(F375,8)))","v":""},"","",{"$f":"IF('2-Grant Budget'!$EC353=\"\",\"\",'2-Grant Budget'!DX353)","v":""},{"$f":"IF('2-Grant Budget'!$EC353=\"\",\"\",'2-Grant Budget'!DY353)","v":""},null,{"$f":"IF('2-Grant Budget'!$EC353=\"\",\"\",\"FY\"&RIGHT('2-Grant Budget'!EA353,2))","v":""},null,{"$f":"IF('2-Grant Budget'!EC353=\"\",\"\",'2-Grant Budget'!EC353)","v":""},{"$f":"IF('2-Grant Budget'!EE353=\"\",\"\",'2-Grant Budget'!EE353)","v":""}]
[null,{"$f":"IF('2-Grant Budget'!EC354=\"\",\"\",RIGHT('2-Grant Budget'!DW354,2))","v":""},{"$f":"IF(G376=\"\",\"\",IF(RIGHT(F376,4)=\"8000\",VLOOKUP('1-Award Info'!$G$19,Tables!Q:R,2,0)&\"08008000\",VLOOKUP('1-Award Info'!$G$19,Tables!Q:R,2,0)&RIGHT(F376,8)))","v":""},"","",{"$f":"IF('2-Grant Budget'!$EC354=\"\",\"\",'2-Grant Budget'!DX354)","v":""},{"$f":"IF('2-Grant Budget'!$EC354=\"\",\"\",'2-Grant Budget'!DY354)","v":""},null,{"$f":"IF('2-Grant Budget'!$EC354=\"\",\"\",\"FY\"&RIGHT('2-Grant Budget'!EA354,2))","v":""},null,{"$f":"IF('2-Grant Budget'!EC354=\"\",\"\",'2-Grant Budget'!EC354)","v":""},{"$f":"IF('2-Grant Budget'!EE354=\"\",\"\",'2-Grant Budget'!EE354)","v":""}]
[null,{"$f":"IF('2-Grant Budget'!EC355=\"\",\"\",RIGHT('2-Grant Budget'!DW355,2))","v":""},{"$f":"IF(G377=\"\",\"\",IF(RIGHT(F377,4)=\"8000\",VLOOKUP('1-Award Info'!$G$19,Tables!Q:R,2,0)&\"08008000\",VLOOKUP('1-Award Info'!$G$19,Tables!Q:R,2,0)&RIGHT(F377,8)))","v":""},"","",{"$f":"IF('2-Grant Budget'!$EC355=\"\",\"\",'2-Grant Budget'!DX355)","v":""},{"$f":"IF('2-Grant Budget'!$EC355=\"\",\"\",'2-Grant Budget'!DY355)","v":""},null,{"$f":"IF('2-Grant Budget'!$EC355=\"\",\"\",\"FY\"&RIGHT('2-Grant Budget'!EA355,2))","v":""},null,{"$f":"IF('2-Grant Budget'!EC355=\"\",\"\",'2-Grant Budget'!EC355)","v":""},{"$f":"IF('2-Grant Budget'!EE355=\"\",\"\",'2-Grant Budget'!EE355)","v":""}]
[null,{"$f":"IF('2-Grant Budget'!EC356=\"\",\"\",RIGHT('2-Grant Budget'!DW356,2))","v":""},{"$f":"IF(G378=\"\",\"\",IF(RIGHT(F378,4)=\"8000\",VLOOKUP('1-Award Info'!$G$19,Tables!Q:R,2,0)&\"08008000\",VLOOKUP('1-Award Info'!$G$19,Tables!Q:R,2,0)&RIGHT(F378,8)))","v":""},"","",{"$f":"IF('2-Grant Budget'!$EC356=\"\",\"\",'2-Grant Budget'!DX356)","v":""},{"$f":"IF('2-Grant Budget'!$EC356=\"\",\"\",'2-Grant Budget'!DY356)","v":""},null,{"$f":"IF('2-Grant Budget'!$EC356=\"\",\"\",\"FY\"&RIGHT('2-Grant Budget'!EA356,2))","v":""},null,{"$f":"IF('2-Grant Budget'!EC356=\"\",\"\",'2-Grant Budget'!EC356)","v":""},{"$f":"IF('2-Grant Budget'!EE356=\"\",\"\",'2-Grant Budget'!EE356)","v":""}]
[null,{"$f":"IF('2-Grant Budget'!EC357=\"\",\"\",RIGHT('2-Grant Budget'!DW357,2))","v":""},{"$f":"IF(G379=\"\",\"\",IF(RIGHT(F379,4)=\"8000\",VLOOKUP('1-Award Info'!$G$19,Tables!Q:R,2,0)&\"08008000\",VLOOKUP('1-Award Info'!$G$19,Tables!Q:R,2,0)&RIGHT(F379,8)))","v":""},"","",{"$f":"IF('2-Grant Budget'!$EC357=\"\",\"\",'2-Grant Budget'!DX357)","v":""},{"$f":"IF('2-Grant Budget'!$EC357=\"\",\"\",'2-Grant Budget'!DY357)","v":""},null,{"$f":"IF('2-Grant Budget'!$EC357=\"\",\"\",\"FY\"&RIGHT('2-Grant Budget'!EA357,2))","v":""},null,{"$f":"IF('2-Grant Budget'!EC357=\"\",\"\",'2-Grant Budget'!EC357)","v":""},{"$f":"IF('2-Grant Budget'!EE357=\"\",\"\",'2-Grant Budget'!EE357)","v":""}]
[null,{"$f":"IF('2-Grant Budget'!EC358=\"\",\"\",RIGHT('2-Grant Budget'!DW358,2))","v":""},{"$f":"IF(G380=\"\",\"\",IF(RIGHT(F380,4)=\"8000\",VLOOKUP('1-Award Info'!$G$19,Tables!Q:R,2,0)&\"08008000\",VLOOKUP('1-Award Info'!$G$19,Tables!Q:R,2,0)&RIGHT(F380,8)))","v":""},"","",{"$f":"IF('2-Grant Budget'!$EC358=\"\",\"\",'2-Grant Budget'!DX358)","v":""},{"$f":"IF('2-Grant Budget'!$EC358=\"\",\"\",'2-Grant Budget'!DY358)","v":""},null,{"$f":"IF('2-Grant Budget'!$EC358=\"\",\"\",\"FY\"&RIGHT('2-Grant Budget'!EA358,2))","v":""},null,{"$f":"IF('2-Grant Budget'!EC358=\"\",\"\",'2-Grant Budget'!EC358)","v":""},{"$f":"IF('2-Grant Budget'!EE358=\"\",\"\",'2-Grant Budget'!EE358)","v":""}]
[null,{"$f":"IF('2-Grant Budget'!EC359=\"\",\"\",RIGHT('2-Grant Budget'!DW359,2))","v":""},{"$f":"IF(G381=\"\",\"\",IF(RIGHT(F381,4)=\"8000\",VLOOKUP('1-Award Info'!$G$19,Tables!Q:R,2,0)&\"08008000\",VLOOKUP('1-Award Info'!$G$19,Tables!Q:R,2,0)&RIGHT(F381,8)))","v":""},"","",{"$f":"IF('2-Grant Budget'!$EC359=\"\",\"\",'2-Grant Budget'!DX359)","v":""},{"$f":"IF('2-Grant Budget'!$EC359=\"\",\"\",'2-Grant Budget'!DY359)","v":""},null,{"$f":"IF('2-Grant Budget'!$EC359=\"\",\"\",\"FY\"&RIGHT('2-Grant Budget'!EA359,2))","v":""},null,{"$f":"IF('2-Grant Budget'!EC359=\"\",\"\",'2-Grant Budget'!EC359)","v":""},{"$f":"IF('2-Grant Budget'!EE359=\"\",\"\",'2-Grant Budget'!EE359)","v":""}]
[null,{"$f":"IF('2-Grant Budget'!EC360=\"\",\"\",RIGHT('2-Grant Budget'!DW360,2))","v":""},{"$f":"IF(G382=\"\",\"\",IF(RIGHT(F382,4)=\"8000\",VLOOKUP('1-Award Info'!$G$19,Tables!Q:R,2,0)&\"08008000\",VLOOKUP('1-Award Info'!$G$19,Tables!Q:R,2,0)&RIGHT(F382,8)))","v":""},"","",{"$f":"IF('2-Grant Budget'!$EC360=\"\",\"\",'2-Grant Budget'!DX360)","v":""},{"$f":"IF('2-Grant Budget'!$EC360=\"\",\"\",'2-Grant Budget'!DY360)","v":""},null,{"$f":"IF('2-Grant Budget'!$EC360=\"\",\"\",\"FY\"&RIGHT('2-Grant Budget'!EA360,2))","v":""},null,{"$f":"IF('2-Grant Budget'!EC360=\"\",\"\",'2-Grant Budget'!EC360)","v":""},{"$f":"IF('2-Grant Budget'!EE360=\"\",\"\",'2-Grant Budget'!EE360)","v":""}]
[null,{"$f":"IF('2-Grant Budget'!EC361=\"\",\"\",RIGHT('2-Grant Budget'!DW361,2))","v":""},{"$f":"IF(G383=\"\",\"\",IF(RIGHT(F383,4)=\"8000\",VLOOKUP('1-Award Info'!$G$19,Tables!Q:R,2,0)&\"08008000\",VLOOKUP('1-Award Info'!$G$19,Tables!Q:R,2,0)&RIGHT(F383,8)))","v":""},"","",{"$f":"IF('2-Grant Budget'!$EC361=\"\",\"\",'2-Grant Budget'!DX361)","v":""},{"$f":"IF('2-Grant Budget'!$EC361=\"\",\"\",'2-Grant Budget'!DY361)","v":""},null,{"$f":"IF('2-Grant Budget'!$EC361=\"\",\"\",\"FY\"&RIGHT('2-Grant Budget'!EA361,2))","v":""},null,{"$f":"IF('2-Grant Budget'!EC361=\"\",\"\",'2-Grant Budget'!EC361)","v":""},{"$f":"IF('2-Grant Budget'!EE361=\"\",\"\",'2-Grant Budget'!EE361)","v":""}]
[null,{"$f":"IF('2-Grant Budget'!EC362=\"\",\"\",RIGHT('2-Grant Budget'!DW362,2))","v":""},{"$f":"IF(G384=\"\",\"\",IF(RIGHT(F384,4)=\"8000\",VLOOKUP('1-Award Info'!$G$19,Tables!Q:R,2,0)&\"08008000\",VLOOKUP('1-Award Info'!$G$19,Tables!Q:R,2,0)&RIGHT(F384,8)))","v":""},"","",{"$f":"IF('2-Grant Budget'!$EC362=\"\",\"\",'2-Grant Budget'!DX362)","v":""},{"$f":"IF('2-Grant Budget'!$EC362=\"\",\"\",'2-Grant Budget'!DY362)","v":""},null,{"$f":"IF('2-Grant Budget'!$EC362=\"\",\"\",\"FY\"&RIGHT('2-Grant Budget'!EA362,2))","v":""},null,{"$f":"IF('2-Grant Budget'!EC362=\"\",\"\",'2-Grant Budget'!EC362)","v":""},{"$f":"IF('2-Grant Budget'!EE362=\"\",\"\",'2-Grant Budget'!EE362)","v":""}]
[null,{"$f":"IF('2-Grant Budget'!EC363=\"\",\"\",RIGHT('2-Grant Budget'!DW363,2))","v":""},{"$f":"IF(G385=\"\",\"\",IF(RIGHT(F385,4)=\"8000\",VLOOKUP('1-Award Info'!$G$19,Tables!Q:R,2,0)&\"08008000\",VLOOKUP('1-Award Info'!$G$19,Tables!Q:R,2,0)&RIGHT(F385,8)))","v":""},"","",{"$f":"IF('2-Grant Budget'!$EC363=\"\",\"\",'2-Grant Budget'!DX363)","v":""},{"$f":"IF('2-Grant Budget'!$EC363=\"\",\"\",'2-Grant Budget'!DY363)","v":""},null,{"$f":"IF('2-Grant Budget'!$EC363=\"\",\"\",\"FY\"&RIGHT('2-Grant Budget'!EA363,2))","v":""},null,{"$f":"IF('2-Grant Budget'!EC363=\"\",\"\",'2-Grant Budget'!EC363)","v":""},{"$f":"IF('2-Grant Budget'!EE363=\"\",\"\",'2-Grant Budget'!EE363)","v":""}]
[null,{"$f":"IF('2-Grant Budget'!EC364=\"\",\"\",RIGHT('2-Grant Budget'!DW364,2))","v":""},{"$f":"IF(G386=\"\",\"\",IF(RIGHT(F386,4)=\"8000\",VLOOKUP('1-Award Info'!$G$19,Tables!Q:R,2,0)&\"08008000\",VLOOKUP('1-Award Info'!$G$19,Tables!Q:R,2,0)&RIGHT(F386,8)))","v":""},"","",{"$f":"IF('2-Grant Budget'!$EC364=\"\",\"\",'2-Grant Budget'!DX364)","v":""},{"$f":"IF('2-Grant Budget'!$EC364=\"\",\"\",'2-Grant Budget'!DY364)","v":""},null,{"$f":"IF('2-Grant Budget'!$EC364=\"\",\"\",\"FY\"&RIGHT('2-Grant Budget'!EA364,2))","v":""},null,{"$f":"IF('2-Grant Budget'!EC364=\"\",\"\",'2-Grant Budget'!EC364)","v":""},{"$f":"IF('2-Grant Budget'!EE364=\"\",\"\",'2-Grant Budget'!EE364)","v":""}]
[null,{"$f":"IF('2-Grant Budget'!EC365=\"\",\"\",RIGHT('2-Grant Budget'!DW365,2))","v":""},{"$f":"IF(G387=\"\",\"\",IF(RIGHT(F387,4)=\"8000\",VLOOKUP('1-Award Info'!$G$19,Tables!Q:R,2,0)&\"08008000\",VLOOKUP('1-Award Info'!$G$19,Tables!Q:R,2,0)&RIGHT(F387,8)))","v":""},"","",{"$f":"IF('2-Grant Budget'!$EC365=\"\",\"\",'2-Grant Budget'!DX365)","v":""},{"$f":"IF('2-Grant Budget'!$EC365=\"\",\"\",'2-Grant Budget'!DY365)","v":""},null,{"$f":"IF('2-Grant Budget'!$EC365=\"\",\"\",\"FY\"&RIGHT('2-Grant Budget'!EA365,2))","v":""},null,{"$f":"IF('2-Grant Budget'!EC365=\"\",\"\",'2-Grant Budget'!EC365)","v":""},{"$f":"IF('2-Grant Budget'!EE365=\"\",\"\",'2-Grant Budget'!EE365)","v":""}]
[null,{"$f":"IF('2-Grant Budget'!EC366=\"\",\"\",RIGHT('2-Grant Budget'!DW366,2))","v":""},{"$f":"IF(G388=\"\",\"\",IF(RIGHT(F388,4)=\"8000\",VLOOKUP('1-Award Info'!$G$19,Tables!Q:R,2,0)&\"08008000\",VLOOKUP('1-Award Info'!$G$19,Tables!Q:R,2,0)&RIGHT(F388,8)))","v":""},"","",{"$f":"IF('2-Grant Budget'!$EC366=\"\",\"\",'2-Grant Budget'!DX366)","v":""},{"$f":"IF('2-Grant Budget'!$EC366=\"\",\"\",'2-Grant Budget'!DY366)","v":""},null,{"$f":"IF('2-Grant Budget'!$EC366=\"\",\"\",\"FY\"&RIGHT('2-Grant Budget'!EA366,2))","v":""},null,{"$f":"IF('2-Grant Budget'!EC366=\"\",\"\",'2-Grant Budget'!EC366)","v":""},{"$f":"IF('2-Grant Budget'!EE366=\"\",\"\",'2-Grant Budget'!EE366)","v":""}]
[null,{"$f":"IF('2-Grant Budget'!EC367=\"\",\"\",RIGHT('2-Grant Budget'!DW367,2))","v":""},{"$f":"IF(G389=\"\",\"\",IF(RIGHT(F389,4)=\"8000\",VLOOKUP('1-Award Info'!$G$19,Tables!Q:R,2,0)&\"08008000\",VLOOKUP('1-Award Info'!$G$19,Tables!Q:R,2,0)&RIGHT(F389,8)))","v":""},"","",{"$f":"IF('2-Grant Budget'!$EC367=\"\",\"\",'2-Grant Budget'!DX367)","v":""},{"$f":"IF('2-Grant Budget'!$EC367=\"\",\"\",'2-Grant Budget'!DY367)","v":""},null,{"$f":"IF('2-Grant Budget'!$EC367=\"\",\"\",\"FY\"&RIGHT('2-Grant Budget'!EA367,2))","v":""},null,{"$f":"IF('2-Grant Budget'!EC367=\"\",\"\",'2-Grant Budget'!EC367)","v":""},{"$f":"IF('2-Grant Budget'!EE367=\"\",\"\",'2-Grant Budget'!EE367)","v":""}]
[null,{"$f":"IF('2-Grant Budget'!EC368=\"\",\"\",RIGHT('2-Grant Budget'!DW368,2))","v":""},{"$f":"IF(G390=\"\",\"\",IF(RIGHT(F390,4)=\"8000\",VLOOKUP('1-Award Info'!$G$19,Tables!Q:R,2,0)&\"08008000\",VLOOKUP('1-Award Info'!$G$19,Tables!Q:R,2,0)&RIGHT(F390,8)))","v":""},"","",{"$f":"IF('2-Grant Budget'!$EC368=\"\",\"\",'2-Grant Budget'!DX368)","v":""},{"$f":"IF('2-Grant Budget'!$EC368=\"\",\"\",'2-Grant Budget'!DY368)","v":""},null,{"$f":"IF('2-Grant Budget'!$EC368=\"\",\"\",\"FY\"&RIGHT('2-Grant Budget'!EA368,2))","v":""},null,{"$f":"IF('2-Grant Budget'!EC368=\"\",\"\",'2-Grant Budget'!EC368)","v":""},{"$f":"IF('2-Grant Budget'!EE368=\"\",\"\",'2-Grant Budget'!EE368)","v":""}]
[null,{"$f":"IF('2-Grant Budget'!EC369=\"\",\"\",RIGHT('2-Grant Budget'!DW369,2))","v":""},{"$f":"IF(G391=\"\",\"\",IF(RIGHT(F391,4)=\"8000\",VLOOKUP('1-Award Info'!$G$19,Tables!Q:R,2,0)&\"08008000\",VLOOKUP('1-Award Info'!$G$19,Tables!Q:R,2,0)&RIGHT(F391,8)))","v":""},"","",{"$f":"IF('2-Grant Budget'!$EC369=\"\",\"\",'2-Grant Budget'!DX369)","v":""},{"$f":"IF('2-Grant Budget'!$EC369=\"\",\"\",'2-Grant Budget'!DY369)","v":""},null,{"$f":"IF('2-Grant Budget'!$EC369=\"\",\"\",\"FY\"&RIGHT('2-Grant Budget'!EA369,2))","v":""},null,{"$f":"IF('2-Grant Budget'!EC369=\"\",\"\",'2-Grant Budget'!EC369)","v":""},{"$f":"IF('2-Grant Budget'!EE369=\"\",\"\",'2-Grant Budget'!EE369)","v":""}]
[null,{"$f":"IF('2-Grant Budget'!EC370=\"\",\"\",RIGHT('2-Grant Budget'!DW370,2))","v":""},{"$f":"IF(G392=\"\",\"\",IF(RIGHT(F392,4)=\"8000\",VLOOKUP('1-Award Info'!$G$19,Tables!Q:R,2,0)&\"08008000\",VLOOKUP('1-Award Info'!$G$19,Tables!Q:R,2,0)&RIGHT(F392,8)))","v":""},"","",{"$f":"IF('2-Grant Budget'!$EC370=\"\",\"\",'2-Grant Budget'!DX370)","v":""},{"$f":"IF('2-Grant Budget'!$EC370=\"\",\"\",'2-Grant Budget'!DY370)","v":""},null,{"$f":"IF('2-Grant Budget'!$EC370=\"\",\"\",\"FY\"&RIGHT('2-Grant Budget'!EA370,2))","v":""},null,{"$f":"IF('2-Grant Budget'!EC370=\"\",\"\",'2-Grant Budget'!EC370)","v":""},{"$f":"IF('2-Grant Budget'!EE370=\"\",\"\",'2-Grant Budget'!EE370)","v":""}]
[null,{"$f":"IF('2-Grant Budget'!EC371=\"\",\"\",RIGHT('2-Grant Budget'!DW371,2))","v":""},{"$f":"IF(G393=\"\",\"\",IF(RIGHT(F393,4)=\"8000\",VLOOKUP('1-Award Info'!$G$19,Tables!Q:R,2,0)&\"08008000\",VLOOKUP('1-Award Info'!$G$19,Tables!Q:R,2,0)&RIGHT(F393,8)))","v":""},"","",{"$f":"IF('2-Grant Budget'!$EC371=\"\",\"\",'2-Grant Budget'!DX371)","v":""},{"$f":"IF('2-Grant Budget'!$EC371=\"\",\"\",'2-Grant Budget'!DY371)","v":""},null,{"$f":"IF('2-Grant Budget'!$EC371=\"\",\"\",\"FY\"&RIGHT('2-Grant Budget'!EA371,2))","v":""},null,{"$f":"IF('2-Grant Budget'!EC371=\"\",\"\",'2-Grant Budget'!EC371)","v":""},{"$f":"IF('2-Grant Budget'!EE371=\"\",\"\",'2-Grant Budget'!EE371)","v":""}]
[null,{"$f":"IF('2-Grant Budget'!EC372=\"\",\"\",RIGHT('2-Grant Budget'!DW372,2))","v":""},{"$f":"IF(G394=\"\",\"\",IF(RIGHT(F394,4)=\"8000\",VLOOKUP('1-Award Info'!$G$19,Tables!Q:R,2,0)&\"08008000\",VLOOKUP('1-Award Info'!$G$19,Tables!Q:R,2,0)&RIGHT(F394,8)))","v":""},"","",{"$f":"IF('2-Grant Budget'!$EC372=\"\",\"\",'2-Grant Budget'!DX372)","v":""},{"$f":"IF('2-Grant Budget'!$EC372=\"\",\"\",'2-Grant Budget'!DY372)","v":""},null,{"$f":"IF('2-Grant Budget'!$EC372=\"\",\"\",\"FY\"&RIGHT('2-Grant Budget'!EA372,2))","v":""},null,{"$f":"IF('2-Grant Budget'!EC372=\"\",\"\",'2-Grant Budget'!EC372)","v":""},{"$f":"IF('2-Grant Budget'!EE372=\"\",\"\",'2-Grant Budget'!EE372)","v":""}]
[null,{"$f":"IF('2-Grant Budget'!EC373=\"\",\"\",RIGHT('2-Grant Budget'!DW373,2))","v":""},{"$f":"IF(G395=\"\",\"\",IF(RIGHT(F395,4)=\"8000\",VLOOKUP('1-Award Info'!$G$19,Tables!Q:R,2,0)&\"08008000\",VLOOKUP('1-Award Info'!$G$19,Tables!Q:R,2,0)&RIGHT(F395,8)))","v":""},"","",{"$f":"IF('2-Grant Budget'!$EC373=\"\",\"\",'2-Grant Budget'!DX373)","v":""},{"$f":"IF('2-Grant Budget'!$EC373=\"\",\"\",'2-Grant Budget'!DY373)","v":""},null,{"$f":"IF('2-Grant Budget'!$EC373=\"\",\"\",\"FY\"&RIGHT('2-Grant Budget'!EA373,2))","v":""},null,{"$f":"IF('2-Grant Budget'!EC373=\"\",\"\",'2-Grant Budget'!EC373)","v":""},{"$f":"IF('2-Grant Budget'!EE373=\"\",\"\",'2-Grant Budget'!EE373)","v":""}]
[null,{"$f":"IF('2-Grant Budget'!EC374=\"\",\"\",RIGHT('2-Grant Budget'!DW374,2))","v":""},{"$f":"IF(G396=\"\",\"\",IF(RIGHT(F396,4)=\"8000\",VLOOKUP('1-Award Info'!$G$19,Tables!Q:R,2,0)&\"08008000\",VLOOKUP('1-Award Info'!$G$19,Tables!Q:R,2,0)&RIGHT(F396,8)))","v":""},"","",{"$f":"IF('2-Grant Budget'!$EC374=\"\",\"\",'2-Grant Budget'!DX374)","v":""},{"$f":"IF('2-Grant Budget'!$EC374=\"\",\"\",'2-Grant Budget'!DY374)","v":""},null,{"$f":"IF('2-Grant Budget'!$EC374=\"\",\"\",\"FY\"&RIGHT('2-Grant Budget'!EA374,2))","v":""},null,{"$f":"IF('2-Grant Budget'!EC374=\"\",\"\",'2-Grant Budget'!EC374)","v":""},{"$f":"IF('2-Grant Budget'!EE374=\"\",\"\",'2-Grant Budget'!EE374)","v":""}]
[null,{"$f":"IF('2-Grant Budget'!EC375=\"\",\"\",RIGHT('2-Grant Budget'!DW375,2))","v":""},{"$f":"IF(G397=\"\",\"\",IF(RIGHT(F397,4)=\"8000\",VLOOKUP('1-Award Info'!$G$19,Tables!Q:R,2,0)&\"08008000\",VLOOKUP('1-Award Info'!$G$19,Tables!Q:R,2,0)&RIGHT(F397,8)))","v":""},"","",{"$f":"IF('2-Grant Budget'!$EC375=\"\",\"\",'2-Grant Budget'!DX375)","v":""},{"$f":"IF('2-Grant Budget'!$EC375=\"\",\"\",'2-Grant Budget'!DY375)","v":""},null,{"$f":"IF('2-Grant Budget'!$EC375=\"\",\"\",\"FY\"&RIGHT('2-Grant Budget'!EA375,2))","v":""},null,{"$f":"IF('2-Grant Budget'!EC375=\"\",\"\",'2-Grant Budget'!EC375)","v":""},{"$f":"IF('2-Grant Budget'!EE375=\"\",\"\",'2-Grant Budget'!EE375)","v":""}]
[null,{"$f":"IF('2-Grant Budget'!EC376=\"\",\"\",RIGHT('2-Grant Budget'!DW376,2))","v":""},{"$f":"IF(G398=\"\",\"\",IF(RIGHT(F398,4)=\"8000\",VLOOKUP('1-Award Info'!$G$19,Tables!Q:R,2,0)&\"08008000\",VLOOKUP('1-Award Info'!$G$19,Tables!Q:R,2,0)&RIGHT(F398,8)))","v":""},"","",{"$f":"IF('2-Grant Budget'!$EC376=\"\",\"\",'2-Grant Budget'!DX376)","v":""},{"$f":"IF('2-Grant Budget'!$EC376=\"\",\"\",'2-Grant Budget'!DY376)","v":""},null,{"$f":"IF('2-Grant Budget'!$EC376=\"\",\"\",\"FY\"&RIGHT('2-Grant Budget'!EA376,2))","v":""},null,{"$f":"IF('2-Grant Budget'!EC376=\"\",\"\",'2-Grant Budget'!EC376)","v":""},{"$f":"IF('2-Grant Budget'!EE376=\"\",\"\",'2-Grant Budget'!EE376)","v":""}]
[null,{"$f":"IF('2-Grant Budget'!EC377=\"\",\"\",RIGHT('2-Grant Budget'!DW377,2))","v":""},{"$f":"IF(G399=\"\",\"\",IF(RIGHT(F399,4)=\"8000\",VLOOKUP('1-Award Info'!$G$19,Tables!Q:R,2,0)&\"08008000\",VLOOKUP('1-Award Info'!$G$19,Tables!Q:R,2,0)&RIGHT(F399,8)))","v":""},"","",{"$f":"IF('2-Grant Budget'!$EC377=\"\",\"\",'2-Grant Budget'!DX377)","v":""},{"$f":"IF('2-Grant Budget'!$EC377=\"\",\"\",'2-Grant Budget'!DY377)","v":""},null,{"$f":"IF('2-Grant Budget'!$EC377=\"\",\"\",\"FY\"&RIGHT('2-Grant Budget'!EA377,2))","v":""},null,{"$f":"IF('2-Grant Budget'!EC377=\"\",\"\",'2-Grant Budget'!EC377)","v":""},{"$f":"IF('2-Grant Budget'!EE377=\"\",\"\",'2-Grant Budget'!EE377)","v":""}]
[null,{"$f":"IF('2-Grant Budget'!EC378=\"\",\"\",RIGHT('2-Grant Budget'!DW378,2))","v":""},{"$f":"IF(G400=\"\",\"\",IF(RIGHT(F400,4)=\"8000\",VLOOKUP('1-Award Info'!$G$19,Tables!Q:R,2,0)&\"08008000\",VLOOKUP('1-Award Info'!$G$19,Tables!Q:R,2,0)&RIGHT(F400,8)))","v":""},"","",{"$f":"IF('2-Grant Budget'!$EC378=\"\",\"\",'2-Grant Budget'!DX378)","v":""},{"$f":"IF('2-Grant Budget'!$EC378=\"\",\"\",'2-Grant Budget'!DY378)","v":""},null,{"$f":"IF('2-Grant Budget'!$EC378=\"\",\"\",\"FY\"&RIGHT('2-Grant Budget'!EA378,2))","v":""},null,{"$f":"IF('2-Grant Budget'!EC378=\"\",\"\",'2-Grant Budget'!EC378)","v":""},{"$f":"IF('2-Grant Budget'!EE378=\"\",\"\",'2-Grant Budget'!EE378)","v":""}]
[null,{"$f":"IF('2-Grant Budget'!EC379=\"\",\"\",RIGHT('2-Grant Budget'!DW379,2))","v":""},{"$f":"IF(G401=\"\",\"\",IF(RIGHT(F401,4)=\"8000\",VLOOKUP('1-Award Info'!$G$19,Tables!Q:R,2,0)&\"08008000\",VLOOKUP('1-Award Info'!$G$19,Tables!Q:R,2,0)&RIGHT(F401,8)))","v":""},"","",{"$f":"IF('2-Grant Budget'!$EC379=\"\",\"\",'2-Grant Budget'!DX379)","v":""},{"$f":"IF('2-Grant Budget'!$EC379=\"\",\"\",'2-Grant Budget'!DY379)","v":""},null,{"$f":"IF('2-Grant Budget'!$EC379=\"\",\"\",\"FY\"&RIGHT('2-Grant Budget'!EA379,2))","v":""},null,{"$f":"IF('2-Grant Budget'!EC379=\"\",\"\",'2-Grant Budget'!EC379)","v":""},{"$f":"IF('2-Grant Budget'!EE379=\"\",\"\",'2-Grant Budget'!EE379)","v":""}]
[null,{"$f":"IF('2-Grant Budget'!EC380=\"\",\"\",RIGHT('2-Grant Budget'!DW380,2))","v":""},{"$f":"IF(G402=\"\",\"\",IF(RIGHT(F402,4)=\"8000\",VLOOKUP('1-Award Info'!$G$19,Tables!Q:R,2,0)&\"08008000\",VLOOKUP('1-Award Info'!$G$19,Tables!Q:R,2,0)&RIGHT(F402,8)))","v":""},"","",{"$f":"IF('2-Grant Budget'!$EC380=\"\",\"\",'2-Grant Budget'!DX380)","v":""},{"$f":"IF('2-Grant Budget'!$EC380=\"\",\"\",'2-Grant Budget'!DY380)","v":""},null,{"$f":"IF('2-Grant Budget'!$EC380=\"\",\"\",\"FY\"&RIGHT('2-Grant Budget'!EA380,2))","v":""},null,{"$f":"IF('2-Grant Budget'!EC380=\"\",\"\",'2-Grant Budget'!EC380)","v":""},{"$f":"IF('2-Grant Budget'!EE380=\"\",\"\",'2-Grant Budget'!EE380)","v":""}]
[null,{"$f":"IF('2-Grant Budget'!EC381=\"\",\"\",RIGHT('2-Grant Budget'!DW381,2))","v":""},{"$f":"IF(G403=\"\",\"\",IF(RIGHT(F403,4)=\"8000\",VLOOKUP('1-Award Info'!$G$19,Tables!Q:R,2,0)&\"08008000\",VLOOKUP('1-Award Info'!$G$19,Tables!Q:R,2,0)&RIGHT(F403,8)))","v":""},"","",{"$f":"IF('2-Grant Budget'!$EC381=\"\",\"\",'2-Grant Budget'!DX381)","v":""},{"$f":"IF('2-Grant Budget'!$EC381=\"\",\"\",'2-Grant Budget'!DY381)","v":""},null,{"$f":"IF('2-Grant Budget'!$EC381=\"\",\"\",\"FY\"&RIGHT('2-Grant Budget'!EA381,2))","v":""},null,{"$f":"IF('2-Grant Budget'!EC381=\"\",\"\",'2-Grant Budget'!EC381)","v":""},{"$f":"IF('2-Grant Budget'!EE381=\"\",\"\",'2-Grant Budget'!EE381)","v":""}]
[null,{"$f":"IF('2-Grant Budget'!EC382=\"\",\"\",RIGHT('2-Grant Budget'!DW382,2))","v":""},{"$f":"IF(G404=\"\",\"\",IF(RIGHT(F404,4)=\"8000\",VLOOKUP('1-Award Info'!$G$19,Tables!Q:R,2,0)&\"08008000\",VLOOKUP('1-Award Info'!$G$19,Tables!Q:R,2,0)&RIGHT(F404,8)))","v":""},"","",{"$f":"IF('2-Grant Budget'!$EC382=\"\",\"\",'2-Grant Budget'!DX382)","v":""},{"$f":"IF('2-Grant Budget'!$EC382=\"\",\"\",'2-Grant Budget'!DY382)","v":""},null,{"$f":"IF('2-Grant Budget'!$EC382=\"\",\"\",\"FY\"&RIGHT('2-Grant Budget'!EA382,2))","v":""},null,{"$f":"IF('2-Grant Budget'!EC382=\"\",\"\",'2-Grant Budget'!EC382)","v":""},{"$f":"IF('2-Grant Budget'!EE382=\"\",\"\",'2-Grant Budget'!EE382)","v":""}]
[null,{"$f":"IF('2-Grant Budget'!EC383=\"\",\"\",RIGHT('2-Grant Budget'!DW383,2))","v":""},{"$f":"IF(G405=\"\",\"\",IF(RIGHT(F405,4)=\"8000\",VLOOKUP('1-Award Info'!$G$19,Tables!Q:R,2,0)&\"08008000\",VLOOKUP('1-Award Info'!$G$19,Tables!Q:R,2,0)&RIGHT(F405,8)))","v":""},"","",{"$f":"IF('2-Grant Budget'!$EC383=\"\",\"\",'2-Grant Budget'!DX383)","v":""},{"$f":"IF('2-Grant Budget'!$EC383=\"\",\"\",'2-Grant Budget'!DY383)","v":""},null,{"$f":"IF('2-Grant Budget'!$EC383=\"\",\"\",\"FY\"&RIGHT('2-Grant Budget'!EA383,2))","v":""},null,{"$f":"IF('2-Grant Budget'!EC383=\"\",\"\",'2-Grant Budget'!EC383)","v":""},{"$f":"IF('2-Grant Budget'!EE383=\"\",\"\",'2-Grant Budget'!EE383)","v":""}]
[null,{"$f":"IF('2-Grant Budget'!EC384=\"\",\"\",RIGHT('2-Grant Budget'!DW384,2))","v":""},{"$f":"IF(G406=\"\",\"\",IF(RIGHT(F406,4)=\"8000\",VLOOKUP('1-Award Info'!$G$19,Tables!Q:R,2,0)&\"08008000\",VLOOKUP('1-Award Info'!$G$19,Tables!Q:R,2,0)&RIGHT(F406,8)))","v":""},"","",{"$f":"IF('2-Grant Budget'!$EC384=\"\",\"\",'2-Grant Budget'!DX384)","v":""},{"$f":"IF('2-Grant Budget'!$EC384=\"\",\"\",'2-Grant Budget'!DY384)","v":""},null,{"$f":"IF('2-Grant Budget'!$EC384=\"\",\"\",\"FY\"&RIGHT('2-Grant Budget'!EA384,2))","v":""},null,{"$f":"IF('2-Grant Budget'!EC384=\"\",\"\",'2-Grant Budget'!EC384)","v":""},{"$f":"IF('2-Grant Budget'!EE384=\"\",\"\",'2-Grant Budget'!EE384)","v":""}]
[null,{"$f":"IF('2-Grant Budget'!EC385=\"\",\"\",RIGHT('2-Grant Budget'!DW385,2))","v":""},{"$f":"IF(G407=\"\",\"\",IF(RIGHT(F407,4)=\"8000\",VLOOKUP('1-Award Info'!$G$19,Tables!Q:R,2,0)&\"08008000\",VLOOKUP('1-Award Info'!$G$19,Tables!Q:R,2,0)&RIGHT(F407,8)))","v":""},"","",{"$f":"IF('2-Grant Budget'!$EC385=\"\",\"\",'2-Grant Budget'!DX385)","v":""},{"$f":"IF('2-Grant Budget'!$EC385=\"\",\"\",'2-Grant Budget'!DY385)","v":""},null,{"$f":"IF('2-Grant Budget'!$EC385=\"\",\"\",\"FY\"&RIGHT('2-Grant Budget'!EA385,2))","v":""},null,{"$f":"IF('2-Grant Budget'!EC385=\"\",\"\",'2-Grant Budget'!EC385)","v":""},{"$f":"IF('2-Grant Budget'!EE385=\"\",\"\",'2-Grant Budget'!EE385)","v":""}]
[null,{"$f":"IF('2-Grant Budget'!EC386=\"\",\"\",RIGHT('2-Grant Budget'!DW386,2))","v":""},{"$f":"IF(G408=\"\",\"\",IF(RIGHT(F408,4)=\"8000\",VLOOKUP('1-Award Info'!$G$19,Tables!Q:R,2,0)&\"08008000\",VLOOKUP('1-Award Info'!$G$19,Tables!Q:R,2,0)&RIGHT(F408,8)))","v":""},"","",{"$f":"IF('2-Grant Budget'!$EC386=\"\",\"\",'2-Grant Budget'!DX386)","v":""},{"$f":"IF('2-Grant Budget'!$EC386=\"\",\"\",'2-Grant Budget'!DY386)","v":""},null,{"$f":"IF('2-Grant Budget'!$EC386=\"\",\"\",\"FY\"&RIGHT('2-Grant Budget'!EA386,2))","v":""},null,{"$f":"IF('2-Grant Budget'!EC386=\"\",\"\",'2-Grant Budget'!EC386)","v":""},{"$f":"IF('2-Grant Budget'!EE386=\"\",\"\",'2-Grant Budget'!EE386)","v":""}]
[null,{"$f":"IF('2-Grant Budget'!EC387=\"\",\"\",RIGHT('2-Grant Budget'!DW387,2))","v":""},{"$f":"IF(G409=\"\",\"\",IF(RIGHT(F409,4)=\"8000\",VLOOKUP('1-Award Info'!$G$19,Tables!Q:R,2,0)&\"08008000\",VLOOKUP('1-Award Info'!$G$19,Tables!Q:R,2,0)&RIGHT(F409,8)))","v":""},"","",{"$f":"IF('2-Grant Budget'!$EC387=\"\",\"\",'2-Grant Budget'!DX387)","v":""},{"$f":"IF('2-Grant Budget'!$EC387=\"\",\"\",'2-Grant Budget'!DY387)","v":""},null,{"$f":"IF('2-Grant Budget'!$EC387=\"\",\"\",\"FY\"&RIGHT('2-Grant Budget'!EA387,2))","v":""},null,{"$f":"IF('2-Grant Budget'!EC387=\"\",\"\",'2-Grant Budget'!EC387)","v":""},{"$f":"IF('2-Grant Budget'!EE387=\"\",\"\",'2-Grant Budget'!EE387)","v":""}]
[null,{"$f":"IF('2-Grant Budget'!EC388=\"\",\"\",RIGHT('2-Grant Budget'!DW388,2))","v":""},{"$f":"IF(G410=\"\",\"\",IF(RIGHT(F410,4)=\"8000\",VLOOKUP('1-Award Info'!$G$19,Tables!Q:R,2,0)&\"08008000\",VLOOKUP('1-Award Info'!$G$19,Tables!Q:R,2,0)&RIGHT(F410,8)))","v":""},"","",{"$f":"IF('2-Grant Budget'!$EC388=\"\",\"\",'2-Grant Budget'!DX388)","v":""},{"$f":"IF('2-Grant Budget'!$EC388=\"\",\"\",'2-Grant Budget'!DY388)","v":""},null,{"$f":"IF('2-Grant Budget'!$EC388=\"\",\"\",\"FY\"&RIGHT('2-Grant Budget'!EA388,2))","v":""},null,{"$f":"IF('2-Grant Budget'!EC388=\"\",\"\",'2-Grant Budget'!EC388)","v":""},{"$f":"IF('2-Grant Budget'!EE388=\"\",\"\",'2-Grant Budget'!EE388)","v":""}]
[null,{"$f":"IF('2-Grant Budget'!EC389=\"\",\"\",RIGHT('2-Grant Budget'!DW389,2))","v":""},{"$f":"IF(G411=\"\",\"\",IF(RIGHT(F411,4)=\"8000\",VLOOKUP('1-Award Info'!$G$19,Tables!Q:R,2,0)&\"08008000\",VLOOKUP('1-Award Info'!$G$19,Tables!Q:R,2,0)&RIGHT(F411,8)))","v":""},"","",{"$f":"IF('2-Grant Budget'!$EC389=\"\",\"\",'2-Grant Budget'!DX389)","v":""},{"$f":"IF('2-Grant Budget'!$EC389=\"\",\"\",'2-Grant Budget'!DY389)","v":""},null,{"$f":"IF('2-Grant Budget'!$EC389=\"\",\"\",\"FY\"&RIGHT('2-Grant Budget'!EA389,2))","v":""},null,{"$f":"IF('2-Grant Budget'!EC389=\"\",\"\",'2-Grant Budget'!EC389)","v":""},{"$f":"IF('2-Grant Budget'!EE389=\"\",\"\",'2-Grant Budget'!EE389)","v":""}]
[null,{"$f":"IF('2-Grant Budget'!EC390=\"\",\"\",RIGHT('2-Grant Budget'!DW390,2))","v":""},{"$f":"IF(G412=\"\",\"\",IF(RIGHT(F412,4)=\"8000\",VLOOKUP('1-Award Info'!$G$19,Tables!Q:R,2,0)&\"08008000\",VLOOKUP('1-Award Info'!$G$19,Tables!Q:R,2,0)&RIGHT(F412,8)))","v":""},"","",{"$f":"IF('2-Grant Budget'!$EC390=\"\",\"\",'2-Grant Budget'!DX390)","v":""},{"$f":"IF('2-Grant Budget'!$EC390=\"\",\"\",'2-Grant Budget'!DY390)","v":""},null,{"$f":"IF('2-Grant Budget'!$EC390=\"\",\"\",\"FY\"&RIGHT('2-Grant Budget'!EA390,2))","v":""},null,{"$f":"IF('2-Grant Budget'!EC390=\"\",\"\",'2-Grant Budget'!EC390)","v":""},{"$f":"IF('2-Grant Budget'!EE390=\"\",\"\",'2-Grant Budget'!EE390)","v":""}]
[null,{"$f":"IF('2-Grant Budget'!EC391=\"\",\"\",RIGHT('2-Grant Budget'!DW391,2))","v":""},{"$f":"IF(G413=\"\",\"\",IF(RIGHT(F413,4)=\"8000\",VLOOKUP('1-Award Info'!$G$19,Tables!Q:R,2,0)&\"08008000\",VLOOKUP('1-Award Info'!$G$19,Tables!Q:R,2,0)&RIGHT(F413,8)))","v":""},"","",{"$f":"IF('2-Grant Budget'!$EC391=\"\",\"\",'2-Grant Budget'!DX391)","v":""},{"$f":"IF('2-Grant Budget'!$EC391=\"\",\"\",'2-Grant Budget'!DY391)","v":""},null,{"$f":"IF('2-Grant Budget'!$EC391=\"\",\"\",\"FY\"&RIGHT('2-Grant Budget'!EA391,2))","v":""},null,{"$f":"IF('2-Grant Budget'!EC391=\"\",\"\",'2-Grant Budget'!EC391)","v":""},{"$f":"IF('2-Grant Budget'!EE391=\"\",\"\",'2-Grant Budget'!EE391)","v":""}]
[null,{"$f":"IF('2-Grant Budget'!EC392=\"\",\"\",RIGHT('2-Grant Budget'!DW392,2))","v":""},{"$f":"IF(G414=\"\",\"\",IF(RIGHT(F414,4)=\"8000\",VLOOKUP('1-Award Info'!$G$19,Tables!Q:R,2,0)&\"08008000\",VLOOKUP('1-Award Info'!$G$19,Tables!Q:R,2,0)&RIGHT(F414,8)))","v":""},"","",{"$f":"IF('2-Grant Budget'!$EC392=\"\",\"\",'2-Grant Budget'!DX392)","v":""},{"$f":"IF('2-Grant Budget'!$EC392=\"\",\"\",'2-Grant Budget'!DY392)","v":""},null,{"$f":"IF('2-Grant Budget'!$EC392=\"\",\"\",\"FY\"&RIGHT('2-Grant Budget'!EA392,2))","v":""},null,{"$f":"IF('2-Grant Budget'!EC392=\"\",\"\",'2-Grant Budget'!EC392)","v":""},{"$f":"IF('2-Grant Budget'!EE392=\"\",\"\",'2-Grant Budget'!EE392)","v":""}]
[null,{"$f":"IF('2-Grant Budget'!EC393=\"\",\"\",RIGHT('2-Grant Budget'!DW393,2))","v":""},{"$f":"IF(G415=\"\",\"\",IF(RIGHT(F415,4)=\"8000\",VLOOKUP('1-Award Info'!$G$19,Tables!Q:R,2,0)&\"08008000\",VLOOKUP('1-Award Info'!$G$19,Tables!Q:R,2,0)&RIGHT(F415,8)))","v":""},"","",{"$f":"IF('2-Grant Budget'!$EC393=\"\",\"\",'2-Grant Budget'!DX393)","v":""},{"$f":"IF('2-Grant Budget'!$EC393=\"\",\"\",'2-Grant Budget'!DY393)","v":""},null,{"$f":"IF('2-Grant Budget'!$EC393=\"\",\"\",\"FY\"&RIGHT('2-Grant Budget'!EA393,2))","v":""},null,{"$f":"IF('2-Grant Budget'!EC393=\"\",\"\",'2-Grant Budget'!EC393)","v":""},{"$f":"IF('2-Grant Budget'!EE393=\"\",\"\",'2-Grant Budget'!EE393)","v":""}]
[null,{"$f":"IF('2-Grant Budget'!EC394=\"\",\"\",RIGHT('2-Grant Budget'!DW394,2))","v":""},{"$f":"IF(G416=\"\",\"\",IF(RIGHT(F416,4)=\"8000\",VLOOKUP('1-Award Info'!$G$19,Tables!Q:R,2,0)&\"08008000\",VLOOKUP('1-Award Info'!$G$19,Tables!Q:R,2,0)&RIGHT(F416,8)))","v":""},"","",{"$f":"IF('2-Grant Budget'!$EC394=\"\",\"\",'2-Grant Budget'!DX394)","v":""},{"$f":"IF('2-Grant Budget'!$EC394=\"\",\"\",'2-Grant Budget'!DY394)","v":""},null,{"$f":"IF('2-Grant Budget'!$EC394=\"\",\"\",\"FY\"&RIGHT('2-Grant Budget'!EA394,2))","v":""},null,{"$f":"IF('2-Grant Budget'!EC394=\"\",\"\",'2-Grant Budget'!EC394)","v":""},{"$f":"IF('2-Grant Budget'!EE394=\"\",\"\",'2-Grant Budget'!EE394)","v":""}]
[null,{"$f":"IF('2-Grant Budget'!EC395=\"\",\"\",RIGHT('2-Grant Budget'!DW395,2))","v":""},{"$f":"IF(G417=\"\",\"\",IF(RIGHT(F417,4)=\"8000\",VLOOKUP('1-Award Info'!$G$19,Tables!Q:R,2,0)&\"08008000\",VLOOKUP('1-Award Info'!$G$19,Tables!Q:R,2,0)&RIGHT(F417,8)))","v":""},"","",{"$f":"IF('2-Grant Budget'!$EC395=\"\",\"\",'2-Grant Budget'!DX395)","v":""},{"$f":"IF('2-Grant Budget'!$EC395=\"\",\"\",'2-Grant Budget'!DY395)","v":""},null,{"$f":"IF('2-Grant Budget'!$EC395=\"\",\"\",\"FY\"&RIGHT('2-Grant Budget'!EA395,2))","v":""},null,{"$f":"IF('2-Grant Budget'!EC395=\"\",\"\",'2-Grant Budget'!EC395)","v":""},{"$f":"IF('2-Grant Budget'!EE395=\"\",\"\",'2-Grant Budget'!EE395)","v":""}]
[null,{"$f":"IF('2-Grant Budget'!EC396=\"\",\"\",RIGHT('2-Grant Budget'!DW396,2))","v":""},{"$f":"IF(G418=\"\",\"\",IF(RIGHT(F418,4)=\"8000\",VLOOKUP('1-Award Info'!$G$19,Tables!Q:R,2,0)&\"08008000\",VLOOKUP('1-Award Info'!$G$19,Tables!Q:R,2,0)&RIGHT(F418,8)))","v":""},"","",{"$f":"IF('2-Grant Budget'!$EC396=\"\",\"\",'2-Grant Budget'!DX396)","v":""},{"$f":"IF('2-Grant Budget'!$EC396=\"\",\"\",'2-Grant Budget'!DY396)","v":""},null,{"$f":"IF('2-Grant Budget'!$EC396=\"\",\"\",\"FY\"&RIGHT('2-Grant Budget'!EA396,2))","v":""},null,{"$f":"IF('2-Grant Budget'!EC396=\"\",\"\",'2-Grant Budget'!EC396)","v":""},{"$f":"IF('2-Grant Budget'!EE396=\"\",\"\",'2-Grant Budget'!EE396)","v":""}]
[null,{"$f":"IF('2-Grant Budget'!EC397=\"\",\"\",RIGHT('2-Grant Budget'!DW397,2))","v":""},{"$f":"IF(G419=\"\",\"\",IF(RIGHT(F419,4)=\"8000\",VLOOKUP('1-Award Info'!$G$19,Tables!Q:R,2,0)&\"08008000\",VLOOKUP('1-Award Info'!$G$19,Tables!Q:R,2,0)&RIGHT(F419,8)))","v":""},"","",{"$f":"IF('2-Grant Budget'!$EC397=\"\",\"\",'2-Grant Budget'!DX397)","v":""},{"$f":"IF('2-Grant Budget'!$EC397=\"\",\"\",'2-Grant Budget'!DY397)","v":""},null,{"$f":"IF('2-Grant Budget'!$EC397=\"\",\"\",\"FY\"&RIGHT('2-Grant Budget'!EA397,2))","v":""},null,{"$f":"IF('2-Grant Budget'!EC397=\"\",\"\",'2-Grant Budget'!EC397)","v":""},{"$f":"IF('2-Grant Budget'!EE397=\"\",\"\",'2-Grant Budget'!EE397)","v":""}]
[null,{"$f":"IF('2-Grant Budget'!EC398=\"\",\"\",RIGHT('2-Grant Budget'!DW398,2))","v":""},{"$f":"IF(G420=\"\",\"\",IF(RIGHT(F420,4)=\"8000\",VLOOKUP('1-Award Info'!$G$19,Tables!Q:R,2,0)&\"08008000\",VLOOKUP('1-Award Info'!$G$19,Tables!Q:R,2,0)&RIGHT(F420,8)))","v":""},"","",{"$f":"IF('2-Grant Budget'!$EC398=\"\",\"\",'2-Grant Budget'!DX398)","v":""},{"$f":"IF('2-Grant Budget'!$EC398=\"\",\"\",'2-Grant Budget'!DY398)","v":""},null,{"$f":"IF('2-Grant Budget'!$EC398=\"\",\"\",\"FY\"&RIGHT('2-Grant Budget'!EA398,2))","v":""},null,{"$f":"IF('2-Grant Budget'!EC398=\"\",\"\",'2-Grant Budget'!EC398)","v":""},{"$f":"IF('2-Grant Budget'!EE398=\"\",\"\",'2-Grant Budget'!EE398)","v":""}]
[null,{"$f":"IF('2-Grant Budget'!EC399=\"\",\"\",RIGHT('2-Grant Budget'!DW399,2))","v":""},{"$f":"IF(G421=\"\",\"\",IF(RIGHT(F421,4)=\"8000\",VLOOKUP('1-Award Info'!$G$19,Tables!Q:R,2,0)&\"08008000\",VLOOKUP('1-Award Info'!$G$19,Tables!Q:R,2,0)&RIGHT(F421,8)))","v":""},"","",{"$f":"IF('2-Grant Budget'!$EC399=\"\",\"\",'2-Grant Budget'!DX399)","v":""},{"$f":"IF('2-Grant Budget'!$EC399=\"\",\"\",'2-Grant Budget'!DY399)","v":""},null,{"$f":"IF('2-Grant Budget'!$EC399=\"\",\"\",\"FY\"&RIGHT('2-Grant Budget'!EA399,2))","v":""},null,{"$f":"IF('2-Grant Budget'!EC399=\"\",\"\",'2-Grant Budget'!EC399)","v":""},{"$f":"IF('2-Grant Budget'!EE399=\"\",\"\",'2-Grant Budget'!EE399)","v":""}]
[null,{"$f":"IF('2-Grant Budget'!EC400=\"\",\"\",RIGHT('2-Grant Budget'!DW400,2))","v":""},{"$f":"IF(G422=\"\",\"\",IF(RIGHT(F422,4)=\"8000\",VLOOKUP('1-Award Info'!$G$19,Tables!Q:R,2,0)&\"08008000\",VLOOKUP('1-Award Info'!$G$19,Tables!Q:R,2,0)&RIGHT(F422,8)))","v":""},"","",{"$f":"IF('2-Grant Budget'!$EC400=\"\",\"\",'2-Grant Budget'!DX400)","v":""},{"$f":"IF('2-Grant Budget'!$EC400=\"\",\"\",'2-Grant Budget'!DY400)","v":""},null,{"$f":"IF('2-Grant Budget'!$EC400=\"\",\"\",\"FY\"&RIGHT('2-Grant Budget'!EA400,2))","v":""},null,{"$f":"IF('2-Grant Budget'!EC400=\"\",\"\",'2-Grant Budget'!EC400)","v":""},{"$f":"IF('2-Grant Budget'!EE400=\"\",\"\",'2-Grant Budget'!EE400)","v":""}]
[null,{"$f":"IF('2-Grant Budget'!EC401=\"\",\"\",RIGHT('2-Grant Budget'!DW401,2))","v":""},{"$f":"IF(G423=\"\",\"\",IF(RIGHT(F423,4)=\"8000\",VLOOKUP('1-Award Info'!$G$19,Tables!Q:R,2,0)&\"08008000\",VLOOKUP('1-Award Info'!$G$19,Tables!Q:R,2,0)&RIGHT(F423,8)))","v":""},"","",{"$f":"IF('2-Grant Budget'!$EC401=\"\",\"\",'2-Grant Budget'!DX401)","v":""},{"$f":"IF('2-Grant Budget'!$EC401=\"\",\"\",'2-Grant Budget'!DY401)","v":""},null,{"$f":"IF('2-Grant Budget'!$EC401=\"\",\"\",\"FY\"&RIGHT('2-Grant Budget'!EA401,2))","v":""},null,{"$f":"IF('2-Grant Budget'!EC401=\"\",\"\",'2-Grant Budget'!EC401)","v":""},{"$f":"IF('2-Grant Budget'!EE401=\"\",\"\",'2-Grant Budget'!EE401)","v":""}]
[null,{"$f":"IF('2-Grant Budget'!EC402=\"\",\"\",RIGHT('2-Grant Budget'!DW402,2))","v":""},{"$f":"IF(G424=\"\",\"\",IF(RIGHT(F424,4)=\"8000\",VLOOKUP('1-Award Info'!$G$19,Tables!Q:R,2,0)&\"08008000\",VLOOKUP('1-Award Info'!$G$19,Tables!Q:R,2,0)&RIGHT(F424,8)))","v":""},{"$f":"IF(G424=\"\",\"\",IF(LEFT(G424)<>\"9\",LEFT(G424,4),9&RIGHT(G424,3)))","v":""},{"$f":"IF(G424=\"\",\"\",IF(LEFT(G424,1)<>\"9\",0,MID(G424,2,1)))","v":""},{"$f":"IF('2-Grant Budget'!$EC402=\"\",\"\",'2-Grant Budget'!DX402)","v":""},{"$f":"IF('2-Grant Budget'!$EC402=\"\",\"\",'2-Grant Budget'!DY402)","v":""},null,{"$f":"IF('2-Grant Budget'!$EC402=\"\",\"\",\"FY\"&RIGHT('2-Grant Budget'!EA402,2))","v":""},null,{"$f":"IF('2-Grant Budget'!EC402=\"\",\"\",'2-Grant Budget'!EC402)","v":""},{"$f":"IF('2-Grant Budget'!EE402=\"\",\"\",'2-Grant Budget'!EE402)","v":""}]
[null,{"$f":"IF('2-Grant Budget'!EC403=\"\",\"\",RIGHT('2-Grant Budget'!DW403,2))","v":""},{"$f":"IF(G425=\"\",\"\",IF(RIGHT(F425,4)=\"8000\",VLOOKUP('1-Award Info'!$G$19,Tables!Q:R,2,0)&\"08008000\",VLOOKUP('1-Award Info'!$G$19,Tables!Q:R,2,0)&RIGHT(F425,8)))","v":""},"","",{"$f":"IF('2-Grant Budget'!$EC403=\"\",\"\",'2-Grant Budget'!DX403)","v":""},{"$f":"IF('2-Grant Budget'!$EC403=\"\",\"\",'2-Grant Budget'!DY403)","v":""},null,{"$f":"IF('2-Grant Budget'!$EC403=\"\",\"\",\"FY\"&RIGHT('2-Grant Budget'!EA403,2))","v":""},null,{"$f":"IF('2-Grant Budget'!EC403=\"\",\"\",'2-Grant Budget'!EC403)","v":""},{"$f":"IF('2-Grant Budget'!EE403=\"\",\"\",'2-Grant Budget'!EE403)","v":""}]
[null,{"$f":"IF('2-Grant Budget'!EC404=\"\",\"\",RIGHT('2-Grant Budget'!DW404,2))","v":""},{"$f":"IF(G426=\"\",\"\",IF(RIGHT(F426,4)=\"8000\",VLOOKUP('1-Award Info'!$G$19,Tables!Q:R,2,0)&\"08008000\",VLOOKUP('1-Award Info'!$G$19,Tables!Q:R,2,0)&RIGHT(F426,8)))","v":""},"","",{"$f":"IF('2-Grant Budget'!$EC404=\"\",\"\",'2-Grant Budget'!DX404)","v":""},{"$f":"IF('2-Grant Budget'!$EC404=\"\",\"\",'2-Grant Budget'!DY404)","v":""},null,{"$f":"IF('2-Grant Budget'!$EC404=\"\",\"\",\"FY\"&RIGHT('2-Grant Budget'!EA404,2))","v":""},null,{"$f":"IF('2-Grant Budget'!EC404=\"\",\"\",'2-Grant Budget'!EC404)","v":""},{"$f":"IF('2-Grant Budget'!EE404=\"\",\"\",'2-Grant Budget'!EE404)","v":""}]
[null,{"$f":"IF('2-Grant Budget'!EC405=\"\",\"\",RIGHT('2-Grant Budget'!DW405,2))","v":""},{"$f":"IF(G427=\"\",\"\",IF(RIGHT(F427,4)=\"8000\",VLOOKUP('1-Award Info'!$G$19,Tables!Q:R,2,0)&\"08008000\",VLOOKUP('1-Award Info'!$G$19,Tables!Q:R,2,0)&RIGHT(F427,8)))","v":""},"","",{"$f":"IF('2-Grant Budget'!$EC405=\"\",\"\",'2-Grant Budget'!DX405)","v":""},{"$f":"IF('2-Grant Budget'!$EC405=\"\",\"\",'2-Grant Budget'!DY405)","v":""},null,{"$f":"IF('2-Grant Budget'!$EC405=\"\",\"\",\"FY\"&RIGHT('2-Grant Budget'!EA405,2))","v":""},null,{"$f":"IF('2-Grant Budget'!EC405=\"\",\"\",'2-Grant Budget'!EC405)","v":""},{"$f":"IF('2-Grant Budget'!EE405=\"\",\"\",'2-Grant Budget'!EE405)","v":""}]
[null,{"$f":"IF('2-Grant Budget'!EC406=\"\",\"\",RIGHT('2-Grant Budget'!DW406,2))","v":""},{"$f":"IF(G428=\"\",\"\",IF(RIGHT(F428,4)=\"8000\",VLOOKUP('1-Award Info'!$G$19,Tables!Q:R,2,0)&\"08008000\",VLOOKUP('1-Award Info'!$G$19,Tables!Q:R,2,0)&RIGHT(F428,8)))","v":""},"","",{"$f":"IF('2-Grant Budget'!$EC406=\"\",\"\",'2-Grant Budget'!DX406)","v":""},{"$f":"IF('2-Grant Budget'!$EC406=\"\",\"\",'2-Grant Budget'!DY406)","v":""},null,{"$f":"IF('2-Grant Budget'!$EC406=\"\",\"\",\"FY\"&RIGHT('2-Grant Budget'!EA406,2))","v":""},null,{"$f":"IF('2-Grant Budget'!EC406=\"\",\"\",'2-Grant Budget'!EC406)","v":""},{"$f":"IF('2-Grant Budget'!EE406=\"\",\"\",'2-Grant Budget'!EE406)","v":""}]
[null,{"$f":"IF('2-Grant Budget'!EC407=\"\",\"\",RIGHT('2-Grant Budget'!DW407,2))","v":""},{"$f":"IF(G429=\"\",\"\",IF(RIGHT(F429,4)=\"8000\",VLOOKUP('1-Award Info'!$G$19,Tables!Q:R,2,0)&\"08008000\",VLOOKUP('1-Award Info'!$G$19,Tables!Q:R,2,0)&RIGHT(F429,8)))","v":""},"","",{"$f":"IF('2-Grant Budget'!$EC407=\"\",\"\",'2-Grant Budget'!DX407)","v":""},{"$f":"IF('2-Grant Budget'!$EC407=\"\",\"\",'2-Grant Budget'!DY407)","v":""},null,{"$f":"IF('2-Grant Budget'!$EC407=\"\",\"\",\"FY\"&RIGHT('2-Grant Budget'!EA407,2))","v":""},null,{"$f":"IF('2-Grant Budget'!EC407=\"\",\"\",'2-Grant Budget'!EC407)","v":""},{"$f":"IF('2-Grant Budget'!EE407=\"\",\"\",'2-Grant Budget'!EE407)","v":""}]
[null,{"$f":"IF('2-Grant Budget'!EC408=\"\",\"\",RIGHT('2-Grant Budget'!DW408,2))","v":""},{"$f":"IF(G430=\"\",\"\",IF(RIGHT(F430,4)=\"8000\",VLOOKUP('1-Award Info'!$G$19,Tables!Q:R,2,0)&\"08008000\",VLOOKUP('1-Award Info'!$G$19,Tables!Q:R,2,0)&RIGHT(F430,8)))","v":""},"","",{"$f":"IF('2-Grant Budget'!$EC408=\"\",\"\",'2-Grant Budget'!DX408)","v":""},{"$f":"IF('2-Grant Budget'!$EC408=\"\",\"\",'2-Grant Budget'!DY408)","v":""},null,{"$f":"IF('2-Grant Budget'!$EC408=\"\",\"\",\"FY\"&RIGHT('2-Grant Budget'!EA408,2))","v":""},null,{"$f":"IF('2-Grant Budget'!EC408=\"\",\"\",'2-Grant Budget'!EC408)","v":""},{"$f":"IF('2-Grant Budget'!EE408=\"\",\"\",'2-Grant Budget'!EE408)","v":""}]
[null,{"$f":"IF('2-Grant Budget'!EC409=\"\",\"\",RIGHT('2-Grant Budget'!DW409,2))","v":""},{"$f":"IF(G431=\"\",\"\",IF(RIGHT(F431,4)=\"8000\",VLOOKUP('1-Award Info'!$G$19,Tables!Q:R,2,0)&\"08008000\",VLOOKUP('1-Award Info'!$G$19,Tables!Q:R,2,0)&RIGHT(F431,8)))","v":""},"","",{"$f":"IF('2-Grant Budget'!$EC409=\"\",\"\",'2-Grant Budget'!DX409)","v":""},{"$f":"IF('2-Grant Budget'!$EC409=\"\",\"\",'2-Grant Budget'!DY409)","v":""},null,{"$f":"IF('2-Grant Budget'!$EC409=\"\",\"\",\"FY\"&RIGHT('2-Grant Budget'!EA409,2))","v":""},null,{"$f":"IF('2-Grant Budget'!EC409=\"\",\"\",'2-Grant Budget'!EC409)","v":""},{"$f":"IF('2-Grant Budget'!EE409=\"\",\"\",'2-Grant Budget'!EE409)","v":""}]
[null,{"$f":"IF('2-Grant Budget'!EC410=\"\",\"\",RIGHT('2-Grant Budget'!DW410,2))","v":""},{"$f":"IF(G432=\"\",\"\",IF(RIGHT(F432,4)=\"8000\",VLOOKUP('1-Award Info'!$G$19,Tables!Q:R,2,0)&\"08008000\",VLOOKUP('1-Award Info'!$G$19,Tables!Q:R,2,0)&RIGHT(F432,8)))","v":""},"","",{"$f":"IF('2-Grant Budget'!$EC410=\"\",\"\",'2-Grant Budget'!DX410)","v":""},{"$f":"IF('2-Grant Budget'!$EC410=\"\",\"\",'2-Grant Budget'!DY410)","v":""},null,{"$f":"IF('2-Grant Budget'!$EC410=\"\",\"\",\"FY\"&RIGHT('2-Grant Budget'!EA410,2))","v":""},null,{"$f":"IF('2-Grant Budget'!EC410=\"\",\"\",'2-Grant Budget'!EC410)","v":""},{"$f":"IF('2-Grant Budget'!EE410=\"\",\"\",'2-Grant Budget'!EE410)","v":""}]
[null,{"$f":"IF('2-Grant Budget'!EC411=\"\",\"\",RIGHT('2-Grant Budget'!DW411,2))","v":""},{"$f":"IF(G433=\"\",\"\",IF(RIGHT(F433,4)=\"8000\",VLOOKUP('1-Award Info'!$G$19,Tables!Q:R,2,0)&\"08008000\",VLOOKUP('1-Award Info'!$G$19,Tables!Q:R,2,0)&RIGHT(F433,8)))","v":""},"","",{"$f":"IF('2-Grant Budget'!$EC411=\"\",\"\",'2-Grant Budget'!DX411)","v":""},{"$f":"IF('2-Grant Budget'!$EC411=\"\",\"\",'2-Grant Budget'!DY411)","v":""},null,{"$f":"IF('2-Grant Budget'!$EC411=\"\",\"\",\"FY\"&RIGHT('2-Grant Budget'!EA411,2))","v":""},null,{"$f":"IF('2-Grant Budget'!EC411=\"\",\"\",'2-Grant Budget'!EC411)","v":""},{"$f":"IF('2-Grant Budget'!EE411=\"\",\"\",'2-Grant Budget'!EE411)","v":""}]
[null,{"$f":"IF('2-Grant Budget'!EC412=\"\",\"\",RIGHT('2-Grant Budget'!DW412,2))","v":""},{"$f":"IF(G434=\"\",\"\",IF(RIGHT(F434,4)=\"8000\",VLOOKUP('1-Award Info'!$G$19,Tables!Q:R,2,0)&\"08008000\",VLOOKUP('1-Award Info'!$G$19,Tables!Q:R,2,0)&RIGHT(F434,8)))","v":""},"","",{"$f":"IF('2-Grant Budget'!$EC412=\"\",\"\",'2-Grant Budget'!DX412)","v":""},{"$f":"IF('2-Grant Budget'!$EC412=\"\",\"\",'2-Grant Budget'!DY412)","v":""},null,{"$f":"IF('2-Grant Budget'!$EC412=\"\",\"\",\"FY\"&RIGHT('2-Grant Budget'!EA412,2))","v":""},null,{"$f":"IF('2-Grant Budget'!EC412=\"\",\"\",'2-Grant Budget'!EC412)","v":""},{"$f":"IF('2-Grant Budget'!EE412=\"\",\"\",'2-Grant Budget'!EE412)","v":""}]
[null,{"$f":"IF('2-Grant Budget'!EC413=\"\",\"\",RIGHT('2-Grant Budget'!DW413,2))","v":""},{"$f":"IF(G435=\"\",\"\",IF(RIGHT(F435,4)=\"8000\",VLOOKUP('1-Award Info'!$G$19,Tables!Q:R,2,0)&\"08008000\",VLOOKUP('1-Award Info'!$G$19,Tables!Q:R,2,0)&RIGHT(F435,8)))","v":""},"","",{"$f":"IF('2-Grant Budget'!$EC413=\"\",\"\",'2-Grant Budget'!DX413)","v":""},{"$f":"IF('2-Grant Budget'!$EC413=\"\",\"\",'2-Grant Budget'!DY413)","v":""},null,{"$f":"IF('2-Grant Budget'!$EC413=\"\",\"\",\"FY\"&RIGHT('2-Grant Budget'!EA413,2))","v":""},null,{"$f":"IF('2-Grant Budget'!EC413=\"\",\"\",'2-Grant Budget'!EC413)","v":""},{"$f":"IF('2-Grant Budget'!EE413=\"\",\"\",'2-Grant Budget'!EE413)","v":""}]
[null,{"$f":"IF('2-Grant Budget'!EC414=\"\",\"\",RIGHT('2-Grant Budget'!DW414,2))","v":""},{"$f":"IF(G436=\"\",\"\",IF(RIGHT(F436,4)=\"8000\",VLOOKUP('1-Award Info'!$G$19,Tables!Q:R,2,0)&\"08008000\",VLOOKUP('1-Award Info'!$G$19,Tables!Q:R,2,0)&RIGHT(F436,8)))","v":""},"","",{"$f":"IF('2-Grant Budget'!$EC414=\"\",\"\",'2-Grant Budget'!DX414)","v":""},{"$f":"IF('2-Grant Budget'!$EC414=\"\",\"\",'2-Grant Budget'!DY414)","v":""},null,{"$f":"IF('2-Grant Budget'!$EC414=\"\",\"\",\"FY\"&RIGHT('2-Grant Budget'!EA414,2))","v":""},null,{"$f":"IF('2-Grant Budget'!EC414=\"\",\"\",'2-Grant Budget'!EC414)","v":""},{"$f":"IF('2-Grant Budget'!EE414=\"\",\"\",'2-Grant Budget'!EE414)","v":""}]
[null,{"$f":"IF('2-Grant Budget'!EC415=\"\",\"\",RIGHT('2-Grant Budget'!DW415,2))","v":""},{"$f":"IF(G437=\"\",\"\",IF(RIGHT(F437,4)=\"8000\",VLOOKUP('1-Award Info'!$G$19,Tables!Q:R,2,0)&\"08008000\",VLOOKUP('1-Award Info'!$G$19,Tables!Q:R,2,0)&RIGHT(F437,8)))","v":""},"","",{"$f":"IF('2-Grant Budget'!$EC415=\"\",\"\",'2-Grant Budget'!DX415)","v":""},{"$f":"IF('2-Grant Budget'!$EC415=\"\",\"\",'2-Grant Budget'!DY415)","v":""},null,{"$f":"IF('2-Grant Budget'!$EC415=\"\",\"\",\"FY\"&RIGHT('2-Grant Budget'!EA415,2))","v":""},null,{"$f":"IF('2-Grant Budget'!EC415=\"\",\"\",'2-Grant Budget'!EC415)","v":""},{"$f":"IF('2-Grant Budget'!EE415=\"\",\"\",'2-Grant Budget'!EE415)","v":""}]
[null,{"$f":"IF('2-Grant Budget'!EC416=\"\",\"\",RIGHT('2-Grant Budget'!DW416,2))","v":""},{"$f":"IF(G438=\"\",\"\",IF(RIGHT(F438,4)=\"8000\",VLOOKUP('1-Award Info'!$G$19,Tables!Q:R,2,0)&\"08008000\",VLOOKUP('1-Award Info'!$G$19,Tables!Q:R,2,0)&RIGHT(F438,8)))","v":""},"","",{"$f":"IF('2-Grant Budget'!$EC416=\"\",\"\",'2-Grant Budget'!DX416)","v":""},{"$f":"IF('2-Grant Budget'!$EC416=\"\",\"\",'2-Grant Budget'!DY416)","v":""},null,{"$f":"IF('2-Grant Budget'!$EC416=\"\",\"\",\"FY\"&RIGHT('2-Grant Budget'!EA416,2))","v":""},null,{"$f":"IF('2-Grant Budget'!EC416=\"\",\"\",'2-Grant Budget'!EC416)","v":""},{"$f":"IF('2-Grant Budget'!EE416=\"\",\"\",'2-Grant Budget'!EE416)","v":""}]
[null,{"$f":"IF('2-Grant Budget'!EC417=\"\",\"\",RIGHT('2-Grant Budget'!DW417,2))","v":""},{"$f":"IF(G439=\"\",\"\",IF(RIGHT(F439,4)=\"8000\",VLOOKUP('1-Award Info'!$G$19,Tables!Q:R,2,0)&\"08008000\",VLOOKUP('1-Award Info'!$G$19,Tables!Q:R,2,0)&RIGHT(F439,8)))","v":""},"","",{"$f":"IF('2-Grant Budget'!$EC417=\"\",\"\",'2-Grant Budget'!DX417)","v":""},{"$f":"IF('2-Grant Budget'!$EC417=\"\",\"\",'2-Grant Budget'!DY417)","v":""},null,{"$f":"IF('2-Grant Budget'!$EC417=\"\",\"\",\"FY\"&RIGHT('2-Grant Budget'!EA417,2))","v":""},null,{"$f":"IF('2-Grant Budget'!EC417=\"\",\"\",'2-Grant Budget'!EC417)","v":""},{"$f":"IF('2-Grant Budget'!EE417=\"\",\"\",'2-Grant Budget'!EE417)","v":""}]
[null,{"$f":"IF('2-Grant Budget'!EC418=\"\",\"\",RIGHT('2-Grant Budget'!DW418,2))","v":""},{"$f":"IF(G440=\"\",\"\",IF(RIGHT(F440,4)=\"8000\",VLOOKUP('1-Award Info'!$G$19,Tables!Q:R,2,0)&\"08008000\",VLOOKUP('1-Award Info'!$G$19,Tables!Q:R,2,0)&RIGHT(F440,8)))","v":""},"","",{"$f":"IF('2-Grant Budget'!$EC418=\"\",\"\",'2-Grant Budget'!DX418)","v":""},{"$f":"IF('2-Grant Budget'!$EC418=\"\",\"\",'2-Grant Budget'!DY418)","v":""},null,{"$f":"IF('2-Grant Budget'!$EC418=\"\",\"\",\"FY\"&RIGHT('2-Grant Budget'!EA418,2))","v":""},null,{"$f":"IF('2-Grant Budget'!EC418=\"\",\"\",'2-Grant Budget'!EC418)","v":""},{"$f":"IF('2-Grant Budget'!EE418=\"\",\"\",'2-Grant Budget'!EE418)","v":""}]
[null,{"$f":"IF('2-Grant Budget'!EC419=\"\",\"\",RIGHT('2-Grant Budget'!DW419,2))","v":""},{"$f":"IF(G441=\"\",\"\",IF(RIGHT(F441,4)=\"8000\",VLOOKUP('1-Award Info'!$G$19,Tables!Q:R,2,0)&\"08008000\",VLOOKUP('1-Award Info'!$G$19,Tables!Q:R,2,0)&RIGHT(F441,8)))","v":""},"","",{"$f":"IF('2-Grant Budget'!$EC419=\"\",\"\",'2-Grant Budget'!DX419)","v":""},{"$f":"IF('2-Grant Budget'!$EC419=\"\",\"\",'2-Grant Budget'!DY419)","v":""},null,{"$f":"IF('2-Grant Budget'!$EC419=\"\",\"\",\"FY\"&RIGHT('2-Grant Budget'!EA419,2))","v":""},null,{"$f":"IF('2-Grant Budget'!EC419=\"\",\"\",'2-Grant Budget'!EC419)","v":""},{"$f":"IF('2-Grant Budget'!EE419=\"\",\"\",'2-Grant Budget'!EE419)","v":""}]
[null,{"$f":"IF('2-Grant Budget'!EC420=\"\",\"\",RIGHT('2-Grant Budget'!DW420,2))","v":""},{"$f":"IF(G442=\"\",\"\",IF(RIGHT(F442,4)=\"8000\",VLOOKUP('1-Award Info'!$G$19,Tables!Q:R,2,0)&\"08008000\",VLOOKUP('1-Award Info'!$G$19,Tables!Q:R,2,0)&RIGHT(F442,8)))","v":""},"","",{"$f":"IF('2-Grant Budget'!$EC420=\"\",\"\",'2-Grant Budget'!DX420)","v":""},{"$f":"IF('2-Grant Budget'!$EC420=\"\",\"\",'2-Grant Budget'!DY420)","v":""},null,{"$f":"IF('2-Grant Budget'!$EC420=\"\",\"\",\"FY\"&RIGHT('2-Grant Budget'!EA420,2))","v":""},null,{"$f":"IF('2-Grant Budget'!EC420=\"\",\"\",'2-Grant Budget'!EC420)","v":""},{"$f":"IF('2-Grant Budget'!EE420=\"\",\"\",'2-Grant Budget'!EE420)","v":""}]
[null,{"$f":"IF('2-Grant Budget'!EC421=\"\",\"\",RIGHT('2-Grant Budget'!DW421,2))","v":""},{"$f":"IF(G443=\"\",\"\",IF(RIGHT(F443,4)=\"8000\",VLOOKUP('1-Award Info'!$G$19,Tables!Q:R,2,0)&\"08008000\",VLOOKUP('1-Award Info'!$G$19,Tables!Q:R,2,0)&RIGHT(F443,8)))","v":""},"","",{"$f":"IF('2-Grant Budget'!$EC421=\"\",\"\",'2-Grant Budget'!DX421)","v":""},{"$f":"IF('2-Grant Budget'!$EC421=\"\",\"\",'2-Grant Budget'!DY421)","v":""},null,{"$f":"IF('2-Grant Budget'!$EC421=\"\",\"\",\"FY\"&RIGHT('2-Grant Budget'!EA421,2))","v":""},null,{"$f":"IF('2-Grant Budget'!EC421=\"\",\"\",'2-Grant Budget'!EC421)","v":""},{"$f":"IF('2-Grant Budget'!EE421=\"\",\"\",'2-Grant Budget'!EE421)","v":""}]
[null,{"$f":"IF('2-Grant Budget'!EC422=\"\",\"\",RIGHT('2-Grant Budget'!DW422,2))","v":""},{"$f":"IF(G444=\"\",\"\",IF(RIGHT(F444,4)=\"8000\",VLOOKUP('1-Award Info'!$G$19,Tables!Q:R,2,0)&\"08008000\",VLOOKUP('1-Award Info'!$G$19,Tables!Q:R,2,0)&RIGHT(F444,8)))","v":""},"","",{"$f":"IF('2-Grant Budget'!$EC422=\"\",\"\",'2-Grant Budget'!DX422)","v":""},{"$f":"IF('2-Grant Budget'!$EC422=\"\",\"\",'2-Grant Budget'!DY422)","v":""},null,{"$f":"IF('2-Grant Budget'!$EC422=\"\",\"\",\"FY\"&RIGHT('2-Grant Budget'!EA422,2))","v":""},null,{"$f":"IF('2-Grant Budget'!EC422=\"\",\"\",'2-Grant Budget'!EC422)","v":""},{"$f":"IF('2-Grant Budget'!EE422=\"\",\"\",'2-Grant Budget'!EE422)","v":""}]
[null,{"$f":"IF('2-Grant Budget'!EC423=\"\",\"\",RIGHT('2-Grant Budget'!DW423,2))","v":""},{"$f":"IF(G445=\"\",\"\",IF(RIGHT(F445,4)=\"8000\",VLOOKUP('1-Award Info'!$G$19,Tables!Q:R,2,0)&\"08008000\",VLOOKUP('1-Award Info'!$G$19,Tables!Q:R,2,0)&RIGHT(F445,8)))","v":""},"","",{"$f":"IF('2-Grant Budget'!$EC423=\"\",\"\",'2-Grant Budget'!DX423)","v":""},{"$f":"IF('2-Grant Budget'!$EC423=\"\",\"\",'2-Grant Budget'!DY423)","v":""},null,{"$f":"IF('2-Grant Budget'!$EC423=\"\",\"\",\"FY\"&RIGHT('2-Grant Budget'!EA423,2))","v":""},null,{"$f":"IF('2-Grant Budget'!EC423=\"\",\"\",'2-Grant Budget'!EC423)","v":""},{"$f":"IF('2-Grant Budget'!EE423=\"\",\"\",'2-Grant Budget'!EE423)","v":""}]
[null,{"$f":"IF('2-Grant Budget'!EC424=\"\",\"\",RIGHT('2-Grant Budget'!DW424,2))","v":""},{"$f":"IF(G446=\"\",\"\",IF(RIGHT(F446,4)=\"8000\",VLOOKUP('1-Award Info'!$G$19,Tables!Q:R,2,0)&\"08008000\",VLOOKUP('1-Award Info'!$G$19,Tables!Q:R,2,0)&RIGHT(F446,8)))","v":""},"","",{"$f":"IF('2-Grant Budget'!$EC424=\"\",\"\",'2-Grant Budget'!DX424)","v":""},{"$f":"IF('2-Grant Budget'!$EC424=\"\",\"\",'2-Grant Budget'!DY424)","v":""},null,{"$f":"IF('2-Grant Budget'!$EC424=\"\",\"\",\"FY\"&RIGHT('2-Grant Budget'!EA424,2))","v":""},null,{"$f":"IF('2-Grant Budget'!EC424=\"\",\"\",'2-Grant Budget'!EC424)","v":""},{"$f":"IF('2-Grant Budget'!EE424=\"\",\"\",'2-Grant Budget'!EE424)","v":""}]
[null,{"$f":"IF('2-Grant Budget'!EC425=\"\",\"\",RIGHT('2-Grant Budget'!DW425,2))","v":""},{"$f":"IF(G447=\"\",\"\",IF(RIGHT(F447,4)=\"8000\",VLOOKUP('1-Award Info'!$G$19,Tables!Q:R,2,0)&\"08008000\",VLOOKUP('1-Award Info'!$G$19,Tables!Q:R,2,0)&RIGHT(F447,8)))","v":""},"","",{"$f":"IF('2-Grant Budget'!$EC425=\"\",\"\",'2-Grant Budget'!DX425)","v":""},{"$f":"IF('2-Grant Budget'!$EC425=\"\",\"\",'2-Grant Budget'!DY425)","v":""},null,{"$f":"IF('2-Grant Budget'!$EC425=\"\",\"\",\"FY\"&RIGHT('2-Grant Budget'!EA425,2))","v":""},null,{"$f":"IF('2-Grant Budget'!EC425=\"\",\"\",'2-Grant Budget'!EC425)","v":""},{"$f":"IF('2-Grant Budget'!EE425=\"\",\"\",'2-Grant Budget'!EE425)","v":""}]
[null,{"$f":"IF('2-Grant Budget'!EC426=\"\",\"\",RIGHT('2-Grant Budget'!DW426,2))","v":""},{"$f":"IF(G448=\"\",\"\",IF(RIGHT(F448,4)=\"8000\",VLOOKUP('1-Award Info'!$G$19,Tables!Q:R,2,0)&\"08008000\",VLOOKUP('1-Award Info'!$G$19,Tables!Q:R,2,0)&RIGHT(F448,8)))","v":""},"","",{"$f":"IF('2-Grant Budget'!$EC426=\"\",\"\",'2-Grant Budget'!DX426)","v":""},{"$f":"IF('2-Grant Budget'!$EC426=\"\",\"\",'2-Grant Budget'!DY426)","v":""},null,{"$f":"IF('2-Grant Budget'!$EC426=\"\",\"\",\"FY\"&RIGHT('2-Grant Budget'!EA426,2))","v":""},null,{"$f":"IF('2-Grant Budget'!EC426=\"\",\"\",'2-Grant Budget'!EC426)","v":""},{"$f":"IF('2-Grant Budget'!EE426=\"\",\"\",'2-Grant Budget'!EE426)","v":""}]
[null,{"$f":"IF('2-Grant Budget'!EC427=\"\",\"\",RIGHT('2-Grant Budget'!DW427,2))","v":""},{"$f":"IF(G449=\"\",\"\",IF(RIGHT(F449,4)=\"8000\",VLOOKUP('1-Award Info'!$G$19,Tables!Q:R,2,0)&\"08008000\",VLOOKUP('1-Award Info'!$G$19,Tables!Q:R,2,0)&RIGHT(F449,8)))","v":""},"","",{"$f":"IF('2-Grant Budget'!$EC427=\"\",\"\",'2-Grant Budget'!DX427)","v":""},{"$f":"IF('2-Grant Budget'!$EC427=\"\",\"\",'2-Grant Budget'!DY427)","v":""},null,{"$f":"IF('2-Grant Budget'!$EC427=\"\",\"\",\"FY\"&RIGHT('2-Grant Budget'!EA427,2))","v":""},null,{"$f":"IF('2-Grant Budget'!EC427=\"\",\"\",'2-Grant Budget'!EC427)","v":""},{"$f":"IF('2-Grant Budget'!EE427=\"\",\"\",'2-Grant Budget'!EE427)","v":""}]
[null,{"$f":"IF('2-Grant Budget'!EC428=\"\",\"\",RIGHT('2-Grant Budget'!DW428,2))","v":""},{"$f":"IF(G450=\"\",\"\",IF(RIGHT(F450,4)=\"8000\",VLOOKUP('1-Award Info'!$G$19,Tables!Q:R,2,0)&\"08008000\",VLOOKUP('1-Award Info'!$G$19,Tables!Q:R,2,0)&RIGHT(F450,8)))","v":""},"","",{"$f":"IF('2-Grant Budget'!$EC428=\"\",\"\",'2-Grant Budget'!DX428)","v":""},{"$f":"IF('2-Grant Budget'!$EC428=\"\",\"\",'2-Grant Budget'!DY428)","v":""},null,{"$f":"IF('2-Grant Budget'!$EC428=\"\",\"\",\"FY\"&RIGHT('2-Grant Budget'!EA428,2))","v":""},null,{"$f":"IF('2-Grant Budget'!EC428=\"\",\"\",'2-Grant Budget'!EC428)","v":""},{"$f":"IF('2-Grant Budget'!EE428=\"\",\"\",'2-Grant Budget'!EE428)","v":""}]
[null,{"$f":"IF('2-Grant Budget'!EC429=\"\",\"\",RIGHT('2-Grant Budget'!DW429,2))","v":""},{"$f":"IF(G451=\"\",\"\",IF(RIGHT(F451,4)=\"8000\",VLOOKUP('1-Award Info'!$G$19,Tables!Q:R,2,0)&\"08008000\",VLOOKUP('1-Award Info'!$G$19,Tables!Q:R,2,0)&RIGHT(F451,8)))","v":""},"","",{"$f":"IF('2-Grant Budget'!$EC429=\"\",\"\",'2-Grant Budget'!DX429)","v":""},{"$f":"IF('2-Grant Budget'!$EC429=\"\",\"\",'2-Grant Budget'!DY429)","v":""},null,{"$f":"IF('2-Grant Budget'!$EC429=\"\",\"\",\"FY\"&RIGHT('2-Grant Budget'!EA429,2))","v":""},null,{"$f":"IF('2-Grant Budget'!EC429=\"\",\"\",'2-Grant Budget'!EC429)","v":""},{"$f":"IF('2-Grant Budget'!EE429=\"\",\"\",'2-Grant Budget'!EE429)","v":""}]
[null,{"$f":"IF('2-Grant Budget'!EC430=\"\",\"\",RIGHT('2-Grant Budget'!DW430,2))","v":""},{"$f":"IF(G452=\"\",\"\",IF(RIGHT(F452,4)=\"8000\",VLOOKUP('1-Award Info'!$G$19,Tables!Q:R,2,0)&\"08008000\",VLOOKUP('1-Award Info'!$G$19,Tables!Q:R,2,0)&RIGHT(F452,8)))","v":""},"","",{"$f":"IF('2-Grant Budget'!$EC430=\"\",\"\",'2-Grant Budget'!DX430)","v":""},{"$f":"IF('2-Grant Budget'!$EC430=\"\",\"\",'2-Grant Budget'!DY430)","v":""},null,{"$f":"IF('2-Grant Budget'!$EC430=\"\",\"\",\"FY\"&RIGHT('2-Grant Budget'!EA430,2))","v":""},null,{"$f":"IF('2-Grant Budget'!EC430=\"\",\"\",'2-Grant Budget'!EC430)","v":""},{"$f":"IF('2-Grant Budget'!EE430=\"\",\"\",'2-Grant Budget'!EE430)","v":""}]
[null,{"$f":"IF('2-Grant Budget'!EC431=\"\",\"\",RIGHT('2-Grant Budget'!DW431,2))","v":""},{"$f":"IF(G453=\"\",\"\",IF(RIGHT(F453,4)=\"8000\",VLOOKUP('1-Award Info'!$G$19,Tables!Q:R,2,0)&\"08008000\",VLOOKUP('1-Award Info'!$G$19,Tables!Q:R,2,0)&RIGHT(F453,8)))","v":""},"","",{"$f":"IF('2-Grant Budget'!$EC431=\"\",\"\",'2-Grant Budget'!DX431)","v":""},{"$f":"IF('2-Grant Budget'!$EC431=\"\",\"\",'2-Grant Budget'!DY431)","v":""},null,{"$f":"IF('2-Grant Budget'!$EC431=\"\",\"\",\"FY\"&RIGHT('2-Grant Budget'!EA431,2))","v":""},null,{"$f":"IF('2-Grant Budget'!EC431=\"\",\"\",'2-Grant Budget'!EC431)","v":""},{"$f":"IF('2-Grant Budget'!EE431=\"\",\"\",'2-Grant Budget'!EE431)","v":""}]
[null,{"$f":"IF('2-Grant Budget'!EC432=\"\",\"\",RIGHT('2-Grant Budget'!DW432,2))","v":""},{"$f":"IF(G454=\"\",\"\",IF(RIGHT(F454,4)=\"8000\",VLOOKUP('1-Award Info'!$G$19,Tables!Q:R,2,0)&\"08008000\",VLOOKUP('1-Award Info'!$G$19,Tables!Q:R,2,0)&RIGHT(F454,8)))","v":""},"","",{"$f":"IF('2-Grant Budget'!$EC432=\"\",\"\",'2-Grant Budget'!DX432)","v":""},{"$f":"IF('2-Grant Budget'!$EC432=\"\",\"\",'2-Grant Budget'!DY432)","v":""},null,{"$f":"IF('2-Grant Budget'!$EC432=\"\",\"\",\"FY\"&RIGHT('2-Grant Budget'!EA432,2))","v":""},null,{"$f":"IF('2-Grant Budget'!EC432=\"\",\"\",'2-Grant Budget'!EC432)","v":""},{"$f":"IF('2-Grant Budget'!EE432=\"\",\"\",'2-Grant Budget'!EE432)","v":""}]
[null,{"$f":"IF('2-Grant Budget'!EC433=\"\",\"\",RIGHT('2-Grant Budget'!DW433,2))","v":""},{"$f":"IF(G455=\"\",\"\",IF(RIGHT(F455,4)=\"8000\",VLOOKUP('1-Award Info'!$G$19,Tables!Q:R,2,0)&\"08008000\",VLOOKUP('1-Award Info'!$G$19,Tables!Q:R,2,0)&RIGHT(F455,8)))","v":""},"","",{"$f":"IF('2-Grant Budget'!$EC433=\"\",\"\",'2-Grant Budget'!DX433)","v":""},{"$f":"IF('2-Grant Budget'!$EC433=\"\",\"\",'2-Grant Budget'!DY433)","v":""},null,{"$f":"IF('2-Grant Budget'!$EC433=\"\",\"\",\"FY\"&RIGHT('2-Grant Budget'!EA433,2))","v":""},null,{"$f":"IF('2-Grant Budget'!EC433=\"\",\"\",'2-Grant Budget'!EC433)","v":""},{"$f":"IF('2-Grant Budget'!EE433=\"\",\"\",'2-Grant Budget'!EE433)","v":""}]
[null,{"$f":"IF('2-Grant Budget'!EC434=\"\",\"\",RIGHT('2-Grant Budget'!DW434,2))","v":""},{"$f":"IF(G456=\"\",\"\",IF(RIGHT(F456,4)=\"8000\",VLOOKUP('1-Award Info'!$G$19,Tables!Q:R,2,0)&\"08008000\",VLOOKUP('1-Award Info'!$G$19,Tables!Q:R,2,0)&RIGHT(F456,8)))","v":""},"","",{"$f":"IF('2-Grant Budget'!$EC434=\"\",\"\",'2-Grant Budget'!DX434)","v":""},{"$f":"IF('2-Grant Budget'!$EC434=\"\",\"\",'2-Grant Budget'!DY434)","v":""},null,{"$f":"IF('2-Grant Budget'!$EC434=\"\",\"\",\"FY\"&RIGHT('2-Grant Budget'!EA434,2))","v":""},null,{"$f":"IF('2-Grant Budget'!EC434=\"\",\"\",'2-Grant Budget'!EC434)","v":""},{"$f":"IF('2-Grant Budget'!EE434=\"\",\"\",'2-Grant Budget'!EE434)","v":""}]
[null,{"$f":"IF('2-Grant Budget'!EC435=\"\",\"\",RIGHT('2-Grant Budget'!DW435,2))","v":""},{"$f":"IF(G457=\"\",\"\",IF(RIGHT(F457,4)=\"8000\",VLOOKUP('1-Award Info'!$G$19,Tables!Q:R,2,0)&\"08008000\",VLOOKUP('1-Award Info'!$G$19,Tables!Q:R,2,0)&RIGHT(F457,8)))","v":""},"","",{"$f":"IF('2-Grant Budget'!$EC435=\"\",\"\",'2-Grant Budget'!DX435)","v":""},{"$f":"IF('2-Grant Budget'!$EC435=\"\",\"\",'2-Grant Budget'!DY435)","v":""},null,{"$f":"IF('2-Grant Budget'!$EC435=\"\",\"\",\"FY\"&RIGHT('2-Grant Budget'!EA435,2))","v":""},null,{"$f":"IF('2-Grant Budget'!EC435=\"\",\"\",'2-Grant Budget'!EC435)","v":""},{"$f":"IF('2-Grant Budget'!EE435=\"\",\"\",'2-Grant Budget'!EE435)","v":""}]
[null,{"$f":"IF('2-Grant Budget'!EC436=\"\",\"\",RIGHT('2-Grant Budget'!DW436,2))","v":""},{"$f":"IF(G458=\"\",\"\",IF(RIGHT(F458,4)=\"8000\",VLOOKUP('1-Award Info'!$G$19,Tables!Q:R,2,0)&\"08008000\",VLOOKUP('1-Award Info'!$G$19,Tables!Q:R,2,0)&RIGHT(F458,8)))","v":""},"","",{"$f":"IF('2-Grant Budget'!$EC436=\"\",\"\",'2-Grant Budget'!DX436)","v":""},{"$f":"IF('2-Grant Budget'!$EC436=\"\",\"\",'2-Grant Budget'!DY436)","v":""},null,{"$f":"IF('2-Grant Budget'!$EC436=\"\",\"\",\"FY\"&RIGHT('2-Grant Budget'!EA436,2))","v":""},null,{"$f":"IF('2-Grant Budget'!EC436=\"\",\"\",'2-Grant Budget'!EC436)","v":""},{"$f":"IF('2-Grant Budget'!EE436=\"\",\"\",'2-Grant Budget'!EE436)","v":""}]
[null,{"$f":"IF('2-Grant Budget'!EC437=\"\",\"\",RIGHT('2-Grant Budget'!DW437,2))","v":""},{"$f":"IF(G459=\"\",\"\",IF(RIGHT(F459,4)=\"8000\",VLOOKUP('1-Award Info'!$G$19,Tables!Q:R,2,0)&\"08008000\",VLOOKUP('1-Award Info'!$G$19,Tables!Q:R,2,0)&RIGHT(F459,8)))","v":""},"","",{"$f":"IF('2-Grant Budget'!$EC437=\"\",\"\",'2-Grant Budget'!DX437)","v":""},{"$f":"IF('2-Grant Budget'!$EC437=\"\",\"\",'2-Grant Budget'!DY437)","v":""},null,{"$f":"IF('2-Grant Budget'!$EC437=\"\",\"\",\"FY\"&RIGHT('2-Grant Budget'!EA437,2))","v":""},null,{"$f":"IF('2-Grant Budget'!EC437=\"\",\"\",'2-Grant Budget'!EC437)","v":""},{"$f":"IF('2-Grant Budget'!EE437=\"\",\"\",'2-Grant Budget'!EE437)","v":""}]
[null,{"$f":"IF('2-Grant Budget'!EC438=\"\",\"\",RIGHT('2-Grant Budget'!DW438,2))","v":""},{"$f":"IF(G460=\"\",\"\",IF(RIGHT(F460,4)=\"8000\",VLOOKUP('1-Award Info'!$G$19,Tables!Q:R,2,0)&\"08008000\",VLOOKUP('1-Award Info'!$G$19,Tables!Q:R,2,0)&RIGHT(F460,8)))","v":""},"","",{"$f":"IF('2-Grant Budget'!$EC438=\"\",\"\",'2-Grant Budget'!DX438)","v":""},{"$f":"IF('2-Grant Budget'!$EC438=\"\",\"\",'2-Grant Budget'!DY438)","v":""},null,{"$f":"IF('2-Grant Budget'!$EC438=\"\",\"\",\"FY\"&RIGHT('2-Grant Budget'!EA438,2))","v":""},null,{"$f":"IF('2-Grant Budget'!EC438=\"\",\"\",'2-Grant Budget'!EC438)","v":""},{"$f":"IF('2-Grant Budget'!EE438=\"\",\"\",'2-Grant Budget'!EE438)","v":""}]
[null,{"$f":"IF('2-Grant Budget'!EC439=\"\",\"\",RIGHT('2-Grant Budget'!DW439,2))","v":""},{"$f":"IF(G461=\"\",\"\",IF(RIGHT(F461,4)=\"8000\",VLOOKUP('1-Award Info'!$G$19,Tables!Q:R,2,0)&\"08008000\",VLOOKUP('1-Award Info'!$G$19,Tables!Q:R,2,0)&RIGHT(F461,8)))","v":""},"","",{"$f":"IF('2-Grant Budget'!$EC439=\"\",\"\",'2-Grant Budget'!DX439)","v":""},{"$f":"IF('2-Grant Budget'!$EC439=\"\",\"\",'2-Grant Budget'!DY439)","v":""},null,{"$f":"IF('2-Grant Budget'!$EC439=\"\",\"\",\"FY\"&RIGHT('2-Grant Budget'!EA439,2))","v":""},null,{"$f":"IF('2-Grant Budget'!EC439=\"\",\"\",'2-Grant Budget'!EC439)","v":""},{"$f":"IF('2-Grant Budget'!EE439=\"\",\"\",'2-Grant Budget'!EE439)","v":""}]
[null,{"$f":"IF('2-Grant Budget'!EC440=\"\",\"\",RIGHT('2-Grant Budget'!DW440,2))","v":""},{"$f":"IF(G462=\"\",\"\",IF(RIGHT(F462,4)=\"8000\",VLOOKUP('1-Award Info'!$G$19,Tables!Q:R,2,0)&\"08008000\",VLOOKUP('1-Award Info'!$G$19,Tables!Q:R,2,0)&RIGHT(F462,8)))","v":""},"","",{"$f":"IF('2-Grant Budget'!$EC440=\"\",\"\",'2-Grant Budget'!DX440)","v":""},{"$f":"IF('2-Grant Budget'!$EC440=\"\",\"\",'2-Grant Budget'!DY440)","v":""},null,{"$f":"IF('2-Grant Budget'!$EC440=\"\",\"\",\"FY\"&RIGHT('2-Grant Budget'!EA440,2))","v":""},null,{"$f":"IF('2-Grant Budget'!EC440=\"\",\"\",'2-Grant Budget'!EC440)","v":""},{"$f":"IF('2-Grant Budget'!EE440=\"\",\"\",'2-Grant Budget'!EE440)","v":""}]
[null,{"$f":"IF('2-Grant Budget'!EC441=\"\",\"\",RIGHT('2-Grant Budget'!DW441,2))","v":""},{"$f":"IF(G463=\"\",\"\",IF(RIGHT(F463,4)=\"8000\",VLOOKUP('1-Award Info'!$G$19,Tables!Q:R,2,0)&\"08008000\",VLOOKUP('1-Award Info'!$G$19,Tables!Q:R,2,0)&RIGHT(F463,8)))","v":""},"","",{"$f":"IF('2-Grant Budget'!$EC441=\"\",\"\",'2-Grant Budget'!DX441)","v":""},{"$f":"IF('2-Grant Budget'!$EC441=\"\",\"\",'2-Grant Budget'!DY441)","v":""},null,{"$f":"IF('2-Grant Budget'!$EC441=\"\",\"\",\"FY\"&RIGHT('2-Grant Budget'!EA441,2))","v":""},null,{"$f":"IF('2-Grant Budget'!EC441=\"\",\"\",'2-Grant Budget'!EC441)","v":""},{"$f":"IF('2-Grant Budget'!EE441=\"\",\"\",'2-Grant Budget'!EE441)","v":""}]
[null,{"$f":"IF('2-Grant Budget'!EC442=\"\",\"\",RIGHT('2-Grant Budget'!DW442,2))","v":""},{"$f":"IF(G464=\"\",\"\",IF(RIGHT(F464,4)=\"8000\",VLOOKUP('1-Award Info'!$G$19,Tables!Q:R,2,0)&\"08008000\",VLOOKUP('1-Award Info'!$G$19,Tables!Q:R,2,0)&RIGHT(F464,8)))","v":""},"","",{"$f":"IF('2-Grant Budget'!$EC442=\"\",\"\",'2-Grant Budget'!DX442)","v":""},{"$f":"IF('2-Grant Budget'!$EC442=\"\",\"\",'2-Grant Budget'!DY442)","v":""},null,{"$f":"IF('2-Grant Budget'!$EC442=\"\",\"\",\"FY\"&RIGHT('2-Grant Budget'!EA442,2))","v":""},null,{"$f":"IF('2-Grant Budget'!EC442=\"\",\"\",'2-Grant Budget'!EC442)","v":""},{"$f":"IF('2-Grant Budget'!EE442=\"\",\"\",'2-Grant Budget'!EE442)","v":""}]
[null,{"$f":"IF('2-Grant Budget'!EC443=\"\",\"\",RIGHT('2-Grant Budget'!DW443,2))","v":""},{"$f":"IF(G465=\"\",\"\",IF(RIGHT(F465,4)=\"8000\",VLOOKUP('1-Award Info'!$G$19,Tables!Q:R,2,0)&\"08008000\",VLOOKUP('1-Award Info'!$G$19,Tables!Q:R,2,0)&RIGHT(F465,8)))","v":""},"","",{"$f":"IF('2-Grant Budget'!$EC443=\"\",\"\",'2-Grant Budget'!DX443)","v":""},{"$f":"IF('2-Grant Budget'!$EC443=\"\",\"\",'2-Grant Budget'!DY443)","v":""},null,{"$f":"IF('2-Grant Budget'!$EC443=\"\",\"\",\"FY\"&RIGHT('2-Grant Budget'!EA443,2))","v":""},null,{"$f":"IF('2-Grant Budget'!EC443=\"\",\"\",'2-Grant Budget'!EC443)","v":""},{"$f":"IF('2-Grant Budget'!EE443=\"\",\"\",'2-Grant Budget'!EE443)","v":""}]
[null,{"$f":"IF('2-Grant Budget'!EC444=\"\",\"\",RIGHT('2-Grant Budget'!DW444,2))","v":""},{"$f":"IF(G466=\"\",\"\",IF(RIGHT(F466,4)=\"8000\",VLOOKUP('1-Award Info'!$G$19,Tables!Q:R,2,0)&\"08008000\",VLOOKUP('1-Award Info'!$G$19,Tables!Q:R,2,0)&RIGHT(F466,8)))","v":""},"","",{"$f":"IF('2-Grant Budget'!$EC444=\"\",\"\",'2-Grant Budget'!DX444)","v":""},{"$f":"IF('2-Grant Budget'!$EC444=\"\",\"\",'2-Grant Budget'!DY444)","v":""},null,{"$f":"IF('2-Grant Budget'!$EC444=\"\",\"\",\"FY\"&RIGHT('2-Grant Budget'!EA444,2))","v":""},null,{"$f":"IF('2-Grant Budget'!EC444=\"\",\"\",'2-Grant Budget'!EC444)","v":""},{"$f":"IF('2-Grant Budget'!EE444=\"\",\"\",'2-Grant Budget'!EE444)","v":""}]
[null,{"$f":"IF('2-Grant Budget'!EC445=\"\",\"\",RIGHT('2-Grant Budget'!DW445,2))","v":""},{"$f":"IF(G467=\"\",\"\",IF(RIGHT(F467,4)=\"8000\",VLOOKUP('1-Award Info'!$G$19,Tables!Q:R,2,0)&\"08008000\",VLOOKUP('1-Award Info'!$G$19,Tables!Q:R,2,0)&RIGHT(F467,8)))","v":""},"","",{"$f":"IF('2-Grant Budget'!$EC445=\"\",\"\",'2-Grant Budget'!DX445)","v":""},{"$f":"IF('2-Grant Budget'!$EC445=\"\",\"\",'2-Grant Budget'!DY445)","v":""},null,{"$f":"IF('2-Grant Budget'!$EC445=\"\",\"\",\"FY\"&RIGHT('2-Grant Budget'!EA445,2))","v":""},null,{"$f":"IF('2-Grant Budget'!EC445=\"\",\"\",'2-Grant Budget'!EC445)","v":""},{"$f":"IF('2-Grant Budget'!EE445=\"\",\"\",'2-Grant Budget'!EE445)","v":""}]
[null,{"$f":"IF('2-Grant Budget'!EC446=\"\",\"\",RIGHT('2-Grant Budget'!DW446,2))","v":""},{"$f":"IF(G468=\"\",\"\",IF(RIGHT(F468,4)=\"8000\",VLOOKUP('1-Award Info'!$G$19,Tables!Q:R,2,0)&\"08008000\",VLOOKUP('1-Award Info'!$G$19,Tables!Q:R,2,0)&RIGHT(F468,8)))","v":""},"","",{"$f":"IF('2-Grant Budget'!$EC446=\"\",\"\",'2-Grant Budget'!DX446)","v":""},{"$f":"IF('2-Grant Budget'!$EC446=\"\",\"\",'2-Grant Budget'!DY446)","v":""},null,{"$f":"IF('2-Grant Budget'!$EC446=\"\",\"\",\"FY\"&RIGHT('2-Grant Budget'!EA446,2))","v":""},null,{"$f":"IF('2-Grant Budget'!EC446=\"\",\"\",'2-Grant Budget'!EC446)","v":""},{"$f":"IF('2-Grant Budget'!EE446=\"\",\"\",'2-Grant Budget'!EE446)","v":""}]
[null,{"$f":"IF('2-Grant Budget'!EC447=\"\",\"\",RIGHT('2-Grant Budget'!DW447,2))","v":""},{"$f":"IF(G469=\"\",\"\",IF(RIGHT(F469,4)=\"8000\",VLOOKUP('1-Award Info'!$G$19,Tables!Q:R,2,0)&\"08008000\",VLOOKUP('1-Award Info'!$G$19,Tables!Q:R,2,0)&RIGHT(F469,8)))","v":""},"","",{"$f":"IF('2-Grant Budget'!$EC447=\"\",\"\",'2-Grant Budget'!DX447)","v":""},{"$f":"IF('2-Grant Budget'!$EC447=\"\",\"\",'2-Grant Budget'!DY447)","v":""},null,{"$f":"IF('2-Grant Budget'!$EC447=\"\",\"\",\"FY\"&RIGHT('2-Grant Budget'!EA447,2))","v":""},null,{"$f":"IF('2-Grant Budget'!EC447=\"\",\"\",'2-Grant Budget'!EC447)","v":""},{"$f":"IF('2-Grant Budget'!EE447=\"\",\"\",'2-Grant Budget'!EE447)","v":""}]
[null,{"$f":"IF('2-Grant Budget'!EC448=\"\",\"\",RIGHT('2-Grant Budget'!DW448,2))","v":""},{"$f":"IF(G470=\"\",\"\",IF(RIGHT(F470,4)=\"8000\",VLOOKUP('1-Award Info'!$G$19,Tables!Q:R,2,0)&\"08008000\",VLOOKUP('1-Award Info'!$G$19,Tables!Q:R,2,0)&RIGHT(F470,8)))","v":""},"","",{"$f":"IF('2-Grant Budget'!$EC448=\"\",\"\",'2-Grant Budget'!DX448)","v":""},{"$f":"IF('2-Grant Budget'!$EC448=\"\",\"\",'2-Grant Budget'!DY448)","v":""},null,{"$f":"IF('2-Grant Budget'!$EC448=\"\",\"\",\"FY\"&RIGHT('2-Grant Budget'!EA448,2))","v":""},null,{"$f":"IF('2-Grant Budget'!EC448=\"\",\"\",'2-Grant Budget'!EC448)","v":""},{"$f":"IF('2-Grant Budget'!EE448=\"\",\"\",'2-Grant Budget'!EE448)","v":""}]
[null,{"$f":"IF('2-Grant Budget'!EC449=\"\",\"\",RIGHT('2-Grant Budget'!DW449,2))","v":""},{"$f":"IF(G471=\"\",\"\",IF(RIGHT(F471,4)=\"8000\",VLOOKUP('1-Award Info'!$G$19,Tables!Q:R,2,0)&\"08008000\",VLOOKUP('1-Award Info'!$G$19,Tables!Q:R,2,0)&RIGHT(F471,8)))","v":""},"","",{"$f":"IF('2-Grant Budget'!$EC449=\"\",\"\",'2-Grant Budget'!DX449)","v":""},{"$f":"IF('2-Grant Budget'!$EC449=\"\",\"\",'2-Grant Budget'!DY449)","v":""},null,{"$f":"IF('2-Grant Budget'!$EC449=\"\",\"\",\"FY\"&RIGHT('2-Grant Budget'!EA449,2))","v":""},null,{"$f":"IF('2-Grant Budget'!EC449=\"\",\"\",'2-Grant Budget'!EC449)","v":""},{"$f":"IF('2-Grant Budget'!EE449=\"\",\"\",'2-Grant Budget'!EE449)","v":""}]
[null,{"$f":"IF('2-Grant Budget'!EC450=\"\",\"\",RIGHT('2-Grant Budget'!DW450,2))","v":""},{"$f":"IF(G472=\"\",\"\",IF(RIGHT(F472,4)=\"8000\",VLOOKUP('1-Award Info'!$G$19,Tables!Q:R,2,0)&\"08008000\",VLOOKUP('1-Award Info'!$G$19,Tables!Q:R,2,0)&RIGHT(F472,8)))","v":""},"","",{"$f":"IF('2-Grant Budget'!$EC450=\"\",\"\",'2-Grant Budget'!DX450)","v":""},{"$f":"IF('2-Grant Budget'!$EC450=\"\",\"\",'2-Grant Budget'!DY450)","v":""},null,{"$f":"IF('2-Grant Budget'!$EC450=\"\",\"\",\"FY\"&RIGHT('2-Grant Budget'!EA450,2))","v":""},null,{"$f":"IF('2-Grant Budget'!EC450=\"\",\"\",'2-Grant Budget'!EC450)","v":""},{"$f":"IF('2-Grant Budget'!EE450=\"\",\"\",'2-Grant Budget'!EE450)","v":""}]
[null,{"$f":"IF('2-Grant Budget'!EC451=\"\",\"\",RIGHT('2-Grant Budget'!DW451,2))","v":""},{"$f":"IF(G473=\"\",\"\",IF(RIGHT(F473,4)=\"8000\",VLOOKUP('1-Award Info'!$G$19,Tables!Q:R,2,0)&\"08008000\",VLOOKUP('1-Award Info'!$G$19,Tables!Q:R,2,0)&RIGHT(F473,8)))","v":""},"","",{"$f":"IF('2-Grant Budget'!$EC451=\"\",\"\",'2-Grant Budget'!DX451)","v":""},{"$f":"IF('2-Grant Budget'!$EC451=\"\",\"\",'2-Grant Budget'!DY451)","v":""},null,{"$f":"IF('2-Grant Budget'!$EC451=\"\",\"\",\"FY\"&RIGHT('2-Grant Budget'!EA451,2))","v":""},null,{"$f":"IF('2-Grant Budget'!EC451=\"\",\"\",'2-Grant Budget'!EC451)","v":""},{"$f":"IF('2-Grant Budget'!EE451=\"\",\"\",'2-Grant Budget'!EE451)","v":""}]
[null,{"$f":"IF('2-Grant Budget'!EC452=\"\",\"\",RIGHT('2-Grant Budget'!DW452,2))","v":""},{"$f":"IF(G474=\"\",\"\",IF(RIGHT(F474,4)=\"8000\",VLOOKUP('1-Award Info'!$G$19,Tables!Q:R,2,0)&\"08008000\",VLOOKUP('1-Award Info'!$G$19,Tables!Q:R,2,0)&RIGHT(F474,8)))","v":""},"","",{"$f":"IF('2-Grant Budget'!$EC452=\"\",\"\",'2-Grant Budget'!DX452)","v":""},{"$f":"IF('2-Grant Budget'!$EC452=\"\",\"\",'2-Grant Budget'!DY452)","v":""},null,{"$f":"IF('2-Grant Budget'!$EC452=\"\",\"\",\"FY\"&RIGHT('2-Grant Budget'!EA452,2))","v":""},null,{"$f":"IF('2-Grant Budget'!EC452=\"\",\"\",'2-Grant Budget'!EC452)","v":""},{"$f":"IF('2-Grant Budget'!EE452=\"\",\"\",'2-Grant Budget'!EE452)","v":""}]
[null,{"$f":"IF('2-Grant Budget'!EC453=\"\",\"\",RIGHT('2-Grant Budget'!DW453,2))","v":""},{"$f":"IF(G475=\"\",\"\",IF(RIGHT(F475,4)=\"8000\",VLOOKUP('1-Award Info'!$G$19,Tables!Q:R,2,0)&\"08008000\",VLOOKUP('1-Award Info'!$G$19,Tables!Q:R,2,0)&RIGHT(F475,8)))","v":""},"","",{"$f":"IF('2-Grant Budget'!$EC453=\"\",\"\",'2-Grant Budget'!DX453)","v":""},{"$f":"IF('2-Grant Budget'!$EC453=\"\",\"\",'2-Grant Budget'!DY453)","v":""},null,{"$f":"IF('2-Grant Budget'!$EC453=\"\",\"\",\"FY\"&RIGHT('2-Grant Budget'!EA453,2))","v":""},null,{"$f":"IF('2-Grant Budget'!EC453=\"\",\"\",'2-Grant Budget'!EC453)","v":""},{"$f":"IF('2-Grant Budget'!EE453=\"\",\"\",'2-Grant Budget'!EE453)","v":""}]
[null,{"$f":"IF('2-Grant Budget'!EC454=\"\",\"\",RIGHT('2-Grant Budget'!DW454,2))","v":""},{"$f":"IF(G476=\"\",\"\",IF(RIGHT(F476,4)=\"8000\",VLOOKUP('1-Award Info'!$G$19,Tables!Q:R,2,0)&\"08008000\",VLOOKUP('1-Award Info'!$G$19,Tables!Q:R,2,0)&RIGHT(F476,8)))","v":""},"","",{"$f":"IF('2-Grant Budget'!$EC454=\"\",\"\",'2-Grant Budget'!DX454)","v":""},{"$f":"IF('2-Grant Budget'!$EC454=\"\",\"\",'2-Grant Budget'!DY454)","v":""},null,{"$f":"IF('2-Grant Budget'!$EC454=\"\",\"\",\"FY\"&RIGHT('2-Grant Budget'!EA454,2))","v":""},null,{"$f":"IF('2-Grant Budget'!EC454=\"\",\"\",'2-Grant Budget'!EC454)","v":""},{"$f":"IF('2-Grant Budget'!EE454=\"\",\"\",'2-Grant Budget'!EE454)","v":""}]
[null,{"$f":"IF('2-Grant Budget'!EC455=\"\",\"\",RIGHT('2-Grant Budget'!DW455,2))","v":""},{"$f":"IF(G477=\"\",\"\",IF(RIGHT(F477,4)=\"8000\",VLOOKUP('1-Award Info'!$G$19,Tables!Q:R,2,0)&\"08008000\",VLOOKUP('1-Award Info'!$G$19,Tables!Q:R,2,0)&RIGHT(F477,8)))","v":""},"","",{"$f":"IF('2-Grant Budget'!$EC455=\"\",\"\",'2-Grant Budget'!DX455)","v":""},{"$f":"IF('2-Grant Budget'!$EC455=\"\",\"\",'2-Grant Budget'!DY455)","v":""},null,{"$f":"IF('2-Grant Budget'!$EC455=\"\",\"\",\"FY\"&RIGHT('2-Grant Budget'!EA455,2))","v":""},null,{"$f":"IF('2-Grant Budget'!EC455=\"\",\"\",'2-Grant Budget'!EC455)","v":""},{"$f":"IF('2-Grant Budget'!EE455=\"\",\"\",'2-Grant Budget'!EE455)","v":""}]
[null,{"$f":"IF('2-Grant Budget'!EC456=\"\",\"\",RIGHT('2-Grant Budget'!DW456,2))","v":""},{"$f":"IF(G478=\"\",\"\",IF(RIGHT(F478,4)=\"8000\",VLOOKUP('1-Award Info'!$G$19,Tables!Q:R,2,0)&\"08008000\",VLOOKUP('1-Award Info'!$G$19,Tables!Q:R,2,0)&RIGHT(F478,8)))","v":""},"","",{"$f":"IF('2-Grant Budget'!$EC456=\"\",\"\",'2-Grant Budget'!DX456)","v":""},{"$f":"IF('2-Grant Budget'!$EC456=\"\",\"\",'2-Grant Budget'!DY456)","v":""},null,{"$f":"IF('2-Grant Budget'!$EC456=\"\",\"\",\"FY\"&RIGHT('2-Grant Budget'!EA456,2))","v":""},null,{"$f":"IF('2-Grant Budget'!EC456=\"\",\"\",'2-Grant Budget'!EC456)","v":""},{"$f":"IF('2-Grant Budget'!EE456=\"\",\"\",'2-Grant Budget'!EE456)","v":""}]
[null,{"$f":"IF('2-Grant Budget'!EC457=\"\",\"\",RIGHT('2-Grant Budget'!DW457,2))","v":""},{"$f":"IF(G479=\"\",\"\",IF(RIGHT(F479,4)=\"8000\",VLOOKUP('1-Award Info'!$G$19,Tables!Q:R,2,0)&\"08008000\",VLOOKUP('1-Award Info'!$G$19,Tables!Q:R,2,0)&RIGHT(F479,8)))","v":""},"","",{"$f":"IF('2-Grant Budget'!$EC457=\"\",\"\",'2-Grant Budget'!DX457)","v":""},{"$f":"IF('2-Grant Budget'!$EC457=\"\",\"\",'2-Grant Budget'!DY457)","v":""},null,{"$f":"IF('2-Grant Budget'!$EC457=\"\",\"\",\"FY\"&RIGHT('2-Grant Budget'!EA457,2))","v":""},null,{"$f":"IF('2-Grant Budget'!EC457=\"\",\"\",'2-Grant Budget'!EC457)","v":""},{"$f":"IF('2-Grant Budget'!EE457=\"\",\"\",'2-Grant Budget'!EE457)","v":""}]
[null,{"$f":"IF('2-Grant Budget'!EC458=\"\",\"\",RIGHT('2-Grant Budget'!DW458,2))","v":""},{"$f":"IF(G480=\"\",\"\",IF(RIGHT(F480,4)=\"8000\",VLOOKUP('1-Award Info'!$G$19,Tables!Q:R,2,0)&\"08008000\",VLOOKUP('1-Award Info'!$G$19,Tables!Q:R,2,0)&RIGHT(F480,8)))","v":""},"","",{"$f":"IF('2-Grant Budget'!$EC458=\"\",\"\",'2-Grant Budget'!DX458)","v":""},{"$f":"IF('2-Grant Budget'!$EC458=\"\",\"\",'2-Grant Budget'!DY458)","v":""},null,{"$f":"IF('2-Grant Budget'!$EC458=\"\",\"\",\"FY\"&RIGHT('2-Grant Budget'!EA458,2))","v":""},null,{"$f":"IF('2-Grant Budget'!EC458=\"\",\"\",'2-Grant Budget'!EC458)","v":""},{"$f":"IF('2-Grant Budget'!EE458=\"\",\"\",'2-Grant Budget'!EE458)","v":""}]
[null,{"$f":"IF('2-Grant Budget'!EC459=\"\",\"\",RIGHT('2-Grant Budget'!DW459,2))","v":""},{"$f":"IF(G481=\"\",\"\",IF(RIGHT(F481,4)=\"8000\",VLOOKUP('1-Award Info'!$G$19,Tables!Q:R,2,0)&\"08008000\",VLOOKUP('1-Award Info'!$G$19,Tables!Q:R,2,0)&RIGHT(F481,8)))","v":""},"","",{"$f":"IF('2-Grant Budget'!$EC459=\"\",\"\",'2-Grant Budget'!DX459)","v":""},{"$f":"IF('2-Grant Budget'!$EC459=\"\",\"\",'2-Grant Budget'!DY459)","v":""},null,{"$f":"IF('2-Grant Budget'!$EC459=\"\",\"\",\"FY\"&RIGHT('2-Grant Budget'!EA459,2))","v":""},null,{"$f":"IF('2-Grant Budget'!EC459=\"\",\"\",'2-Grant Budget'!EC459)","v":""},{"$f":"IF('2-Grant Budget'!EE459=\"\",\"\",'2-Grant Budget'!EE459)","v":""}]
[null,{"$f":"IF('2-Grant Budget'!EC460=\"\",\"\",RIGHT('2-Grant Budget'!DW460,2))","v":""},{"$f":"IF(G482=\"\",\"\",IF(RIGHT(F482,4)=\"8000\",VLOOKUP('1-Award Info'!$G$19,Tables!Q:R,2,0)&\"08008000\",VLOOKUP('1-Award Info'!$G$19,Tables!Q:R,2,0)&RIGHT(F482,8)))","v":""},"","",{"$f":"IF('2-Grant Budget'!$EC460=\"\",\"\",'2-Grant Budget'!DX460)","v":""},{"$f":"IF('2-Grant Budget'!$EC460=\"\",\"\",'2-Grant Budget'!DY460)","v":""},null,{"$f":"IF('2-Grant Budget'!$EC460=\"\",\"\",\"FY\"&RIGHT('2-Grant Budget'!EA460,2))","v":""},null,{"$f":"IF('2-Grant Budget'!EC460=\"\",\"\",'2-Grant Budget'!EC460)","v":""},{"$f":"IF('2-Grant Budget'!EE460=\"\",\"\",'2-Grant Budget'!EE460)","v":""}]
[null,{"$f":"IF('2-Grant Budget'!EC461=\"\",\"\",RIGHT('2-Grant Budget'!DW461,2))","v":""},{"$f":"IF(G483=\"\",\"\",IF(RIGHT(F483,4)=\"8000\",VLOOKUP('1-Award Info'!$G$19,Tables!Q:R,2,0)&\"08008000\",VLOOKUP('1-Award Info'!$G$19,Tables!Q:R,2,0)&RIGHT(F483,8)))","v":""},"","",{"$f":"IF('2-Grant Budget'!$EC461=\"\",\"\",'2-Grant Budget'!DX461)","v":""},{"$f":"IF('2-Grant Budget'!$EC461=\"\",\"\",'2-Grant Budget'!DY461)","v":""},null,{"$f":"IF('2-Grant Budget'!$EC461=\"\",\"\",\"FY\"&RIGHT('2-Grant Budget'!EA461,2))","v":""},null,{"$f":"IF('2-Grant Budget'!EC461=\"\",\"\",'2-Grant Budget'!EC461)","v":""},{"$f":"IF('2-Grant Budget'!EE461=\"\",\"\",'2-Grant Budget'!EE461)","v":""}]
[null,{"$f":"IF('2-Grant Budget'!EC462=\"\",\"\",RIGHT('2-Grant Budget'!DW462,2))","v":""},{"$f":"IF(G484=\"\",\"\",IF(RIGHT(F484,4)=\"8000\",VLOOKUP('1-Award Info'!$G$19,Tables!Q:R,2,0)&\"08008000\",VLOOKUP('1-Award Info'!$G$19,Tables!Q:R,2,0)&RIGHT(F484,8)))","v":""},"","",{"$f":"IF('2-Grant Budget'!$EC462=\"\",\"\",'2-Grant Budget'!DX462)","v":""},{"$f":"IF('2-Grant Budget'!$EC462=\"\",\"\",'2-Grant Budget'!DY462)","v":""},null,{"$f":"IF('2-Grant Budget'!$EC462=\"\",\"\",\"FY\"&RIGHT('2-Grant Budget'!EA462,2))","v":""},null,{"$f":"IF('2-Grant Budget'!EC462=\"\",\"\",'2-Grant Budget'!EC462)","v":""},{"$f":"IF('2-Grant Budget'!EE462=\"\",\"\",'2-Grant Budget'!EE462)","v":""}]
[null,{"$f":"IF('2-Grant Budget'!EC463=\"\",\"\",RIGHT('2-Grant Budget'!DW463,2))","v":""},{"$f":"IF(G485=\"\",\"\",IF(RIGHT(F485,4)=\"8000\",VLOOKUP('1-Award Info'!$G$19,Tables!Q:R,2,0)&\"08008000\",VLOOKUP('1-Award Info'!$G$19,Tables!Q:R,2,0)&RIGHT(F485,8)))","v":""},"","",{"$f":"IF('2-Grant Budget'!$EC463=\"\",\"\",'2-Grant Budget'!DX463)","v":""},{"$f":"IF('2-Grant Budget'!$EC463=\"\",\"\",'2-Grant Budget'!DY463)","v":""},null,{"$f":"IF('2-Grant Budget'!$EC463=\"\",\"\",\"FY\"&RIGHT('2-Grant Budget'!EA463,2))","v":""},null,{"$f":"IF('2-Grant Budget'!EC463=\"\",\"\",'2-Grant Budget'!EC463)","v":""},{"$f":"IF('2-Grant Budget'!EE463=\"\",\"\",'2-Grant Budget'!EE463)","v":""}]
[null,{"$f":"IF('2-Grant Budget'!EC464=\"\",\"\",RIGHT('2-Grant Budget'!DW464,2))","v":""},{"$f":"IF(G486=\"\",\"\",IF(RIGHT(F486,4)=\"8000\",VLOOKUP('1-Award Info'!$G$19,Tables!Q:R,2,0)&\"08008000\",VLOOKUP('1-Award Info'!$G$19,Tables!Q:R,2,0)&RIGHT(F486,8)))","v":""},"","",{"$f":"IF('2-Grant Budget'!$EC464=\"\",\"\",'2-Grant Budget'!DX464)","v":""},{"$f":"IF('2-Grant Budget'!$EC464=\"\",\"\",'2-Grant Budget'!DY464)","v":""},null,{"$f":"IF('2-Grant Budget'!$EC464=\"\",\"\",\"FY\"&RIGHT('2-Grant Budget'!EA464,2))","v":""},null,{"$f":"IF('2-Grant Budget'!EC464=\"\",\"\",'2-Grant Budget'!EC464)","v":""},{"$f":"IF('2-Grant Budget'!EE464=\"\",\"\",'2-Grant Budget'!EE464)","v":""}]
[null,{"$f":"IF('2-Grant Budget'!EC465=\"\",\"\",RIGHT('2-Grant Budget'!DW465,2))","v":""},{"$f":"IF(G487=\"\",\"\",IF(RIGHT(F487,4)=\"8000\",VLOOKUP('1-Award Info'!$G$19,Tables!Q:R,2,0)&\"08008000\",VLOOKUP('1-Award Info'!$G$19,Tables!Q:R,2,0)&RIGHT(F487,8)))","v":""},"","",{"$f":"IF('2-Grant Budget'!$EC465=\"\",\"\",'2-Grant Budget'!DX465)","v":""},{"$f":"IF('2-Grant Budget'!$EC465=\"\",\"\",'2-Grant Budget'!DY465)","v":""},null,{"$f":"IF('2-Grant Budget'!$EC465=\"\",\"\",\"FY\"&RIGHT('2-Grant Budget'!EA465,2))","v":""},null,{"$f":"IF('2-Grant Budget'!EC465=\"\",\"\",'2-Grant Budget'!EC465)","v":""},{"$f":"IF('2-Grant Budget'!EE465=\"\",\"\",'2-Grant Budget'!EE465)","v":""}]
[null,{"$f":"IF('2-Grant Budget'!EC466=\"\",\"\",RIGHT('2-Grant Budget'!DW466,2))","v":""},{"$f":"IF(G488=\"\",\"\",IF(RIGHT(F488,4)=\"8000\",VLOOKUP('1-Award Info'!$G$19,Tables!Q:R,2,0)&\"08008000\",VLOOKUP('1-Award Info'!$G$19,Tables!Q:R,2,0)&RIGHT(F488,8)))","v":""},{"$f":"IF(G488=\"\",\"\",IF(LEFT(G488)<>\"9\",LEFT(G488,4),9&RIGHT(G488,3)))","v":""},{"$f":"IF(G488=\"\",\"\",IF(LEFT(G488,1)<>\"9\",0,MID(G488,2,1)))","v":""},{"$f":"IF('2-Grant Budget'!$EC466=\"\",\"\",'2-Grant Budget'!DX466)","v":""},{"$f":"IF('2-Grant Budget'!$EC466=\"\",\"\",'2-Grant Budget'!DY466)","v":""},null,{"$f":"IF('2-Grant Budget'!$EC466=\"\",\"\",\"FY\"&RIGHT('2-Grant Budget'!EA466,2))","v":""},null,{"$f":"IF('2-Grant Budget'!EC466=\"\",\"\",'2-Grant Budget'!EC466)","v":""},{"$f":"IF('2-Grant Budget'!EE466=\"\",\"\",'2-Grant Budget'!EE466)","v":""}]
[null,{"$f":"IF('2-Grant Budget'!EC467=\"\",\"\",RIGHT('2-Grant Budget'!DW467,2))","v":""},{"$f":"IF(G489=\"\",\"\",IF(RIGHT(F489,4)=\"8000\",VLOOKUP('1-Award Info'!$G$19,Tables!Q:R,2,0)&\"08008000\",VLOOKUP('1-Award Info'!$G$19,Tables!Q:R,2,0)&RIGHT(F489,8)))","v":""},"","",{"$f":"IF('2-Grant Budget'!$EC467=\"\",\"\",'2-Grant Budget'!DX467)","v":""},{"$f":"IF('2-Grant Budget'!$EC467=\"\",\"\",'2-Grant Budget'!DY467)","v":""},null,{"$f":"IF('2-Grant Budget'!$EC467=\"\",\"\",\"FY\"&RIGHT('2-Grant Budget'!EA467,2))","v":""},null,{"$f":"IF('2-Grant Budget'!EC467=\"\",\"\",'2-Grant Budget'!EC467)","v":""},{"$f":"IF('2-Grant Budget'!EE467=\"\",\"\",'2-Grant Budget'!EE467)","v":""}]
[null,{"$f":"IF('2-Grant Budget'!EC468=\"\",\"\",RIGHT('2-Grant Budget'!DW468,2))","v":""},{"$f":"IF(G490=\"\",\"\",IF(RIGHT(F490,4)=\"8000\",VLOOKUP('1-Award Info'!$G$19,Tables!Q:R,2,0)&\"08008000\",VLOOKUP('1-Award Info'!$G$19,Tables!Q:R,2,0)&RIGHT(F490,8)))","v":""},"","",{"$f":"IF('2-Grant Budget'!$EC468=\"\",\"\",'2-Grant Budget'!DX468)","v":""},{"$f":"IF('2-Grant Budget'!$EC468=\"\",\"\",'2-Grant Budget'!DY468)","v":""},null,{"$f":"IF('2-Grant Budget'!$EC468=\"\",\"\",\"FY\"&RIGHT('2-Grant Budget'!EA468,2))","v":""},null,{"$f":"IF('2-Grant Budget'!EC468=\"\",\"\",'2-Grant Budget'!EC468)","v":""},{"$f":"IF('2-Grant Budget'!EE468=\"\",\"\",'2-Grant Budget'!EE468)","v":""}]
[null,{"$f":"IF('2-Grant Budget'!EC469=\"\",\"\",RIGHT('2-Grant Budget'!DW469,2))","v":""},{"$f":"IF(G491=\"\",\"\",IF(RIGHT(F491,4)=\"8000\",VLOOKUP('1-Award Info'!$G$19,Tables!Q:R,2,0)&\"08008000\",VLOOKUP('1-Award Info'!$G$19,Tables!Q:R,2,0)&RIGHT(F491,8)))","v":""},"","",{"$f":"IF('2-Grant Budget'!$EC469=\"\",\"\",'2-Grant Budget'!DX469)","v":""},{"$f":"IF('2-Grant Budget'!$EC469=\"\",\"\",'2-Grant Budget'!DY469)","v":""},null,{"$f":"IF('2-Grant Budget'!$EC469=\"\",\"\",\"FY\"&RIGHT('2-Grant Budget'!EA469,2))","v":""},null,{"$f":"IF('2-Grant Budget'!EC469=\"\",\"\",'2-Grant Budget'!EC469)","v":""},{"$f":"IF('2-Grant Budget'!EE469=\"\",\"\",'2-Grant Budget'!EE469)","v":""}]
[null,{"$f":"IF('2-Grant Budget'!EC470=\"\",\"\",RIGHT('2-Grant Budget'!DW470,2))","v":""},{"$f":"IF(G492=\"\",\"\",IF(RIGHT(F492,4)=\"8000\",VLOOKUP('1-Award Info'!$G$19,Tables!Q:R,2,0)&\"08008000\",VLOOKUP('1-Award Info'!$G$19,Tables!Q:R,2,0)&RIGHT(F492,8)))","v":""},"","",{"$f":"IF('2-Grant Budget'!$EC470=\"\",\"\",'2-Grant Budget'!DX470)","v":""},{"$f":"IF('2-Grant Budget'!$EC470=\"\",\"\",'2-Grant Budget'!DY470)","v":""},null,{"$f":"IF('2-Grant Budget'!$EC470=\"\",\"\",\"FY\"&RIGHT('2-Grant Budget'!EA470,2))","v":""},null,{"$f":"IF('2-Grant Budget'!EC470=\"\",\"\",'2-Grant Budget'!EC470)","v":""},{"$f":"IF('2-Grant Budget'!EE470=\"\",\"\",'2-Grant Budget'!EE470)","v":""}]
[null,{"$f":"IF('2-Grant Budget'!EC471=\"\",\"\",RIGHT('2-Grant Budget'!DW471,2))","v":""},{"$f":"IF(G493=\"\",\"\",IF(RIGHT(F493,4)=\"8000\",VLOOKUP('1-Award Info'!$G$19,Tables!Q:R,2,0)&\"08008000\",VLOOKUP('1-Award Info'!$G$19,Tables!Q:R,2,0)&RIGHT(F493,8)))","v":""},"","",{"$f":"IF('2-Grant Budget'!$EC471=\"\",\"\",'2-Grant Budget'!DX471)","v":""},{"$f":"IF('2-Grant Budget'!$EC471=\"\",\"\",'2-Grant Budget'!DY471)","v":""},null,{"$f":"IF('2-Grant Budget'!$EC471=\"\",\"\",\"FY\"&RIGHT('2-Grant Budget'!EA471,2))","v":""},null,{"$f":"IF('2-Grant Budget'!EC471=\"\",\"\",'2-Grant Budget'!EC471)","v":""},{"$f":"IF('2-Grant Budget'!EE471=\"\",\"\",'2-Grant Budget'!EE471)","v":""}]
[null,{"$f":"IF('2-Grant Budget'!EC472=\"\",\"\",RIGHT('2-Grant Budget'!DW472,2))","v":""},{"$f":"IF(G494=\"\",\"\",IF(RIGHT(F494,4)=\"8000\",VLOOKUP('1-Award Info'!$G$19,Tables!Q:R,2,0)&\"08008000\",VLOOKUP('1-Award Info'!$G$19,Tables!Q:R,2,0)&RIGHT(F494,8)))","v":""},"","",{"$f":"IF('2-Grant Budget'!$EC472=\"\",\"\",'2-Grant Budget'!DX472)","v":""},{"$f":"IF('2-Grant Budget'!$EC472=\"\",\"\",'2-Grant Budget'!DY472)","v":""},null,{"$f":"IF('2-Grant Budget'!$EC472=\"\",\"\",\"FY\"&RIGHT('2-Grant Budget'!EA472,2))","v":""},null,{"$f":"IF('2-Grant Budget'!EC472=\"\",\"\",'2-Grant Budget'!EC472)","v":""},{"$f":"IF('2-Grant Budget'!EE472=\"\",\"\",'2-Grant Budget'!EE472)","v":""}]
[null,{"$f":"IF('2-Grant Budget'!EC473=\"\",\"\",RIGHT('2-Grant Budget'!DW473,2))","v":""},{"$f":"IF(G495=\"\",\"\",IF(RIGHT(F495,4)=\"8000\",VLOOKUP('1-Award Info'!$G$19,Tables!Q:R,2,0)&\"08008000\",VLOOKUP('1-Award Info'!$G$19,Tables!Q:R,2,0)&RIGHT(F495,8)))","v":""},"","",{"$f":"IF('2-Grant Budget'!$EC473=\"\",\"\",'2-Grant Budget'!DX473)","v":""},{"$f":"IF('2-Grant Budget'!$EC473=\"\",\"\",'2-Grant Budget'!DY473)","v":""},null,{"$f":"IF('2-Grant Budget'!$EC473=\"\",\"\",\"FY\"&RIGHT('2-Grant Budget'!EA473,2))","v":""},null,{"$f":"IF('2-Grant Budget'!EC473=\"\",\"\",'2-Grant Budget'!EC473)","v":""},{"$f":"IF('2-Grant Budget'!EE473=\"\",\"\",'2-Grant Budget'!EE473)","v":""}]
[null,{"$f":"IF('2-Grant Budget'!EC474=\"\",\"\",RIGHT('2-Grant Budget'!DW474,2))","v":""},{"$f":"IF(G496=\"\",\"\",IF(RIGHT(F496,4)=\"8000\",VLOOKUP('1-Award Info'!$G$19,Tables!Q:R,2,0)&\"08008000\",VLOOKUP('1-Award Info'!$G$19,Tables!Q:R,2,0)&RIGHT(F496,8)))","v":""},"","",{"$f":"IF('2-Grant Budget'!$EC474=\"\",\"\",'2-Grant Budget'!DX474)","v":""},{"$f":"IF('2-Grant Budget'!$EC474=\"\",\"\",'2-Grant Budget'!DY474)","v":""},null,{"$f":"IF('2-Grant Budget'!$EC474=\"\",\"\",\"FY\"&RIGHT('2-Grant Budget'!EA474,2))","v":""},null,{"$f":"IF('2-Grant Budget'!EC474=\"\",\"\",'2-Grant Budget'!EC474)","v":""},{"$f":"IF('2-Grant Budget'!EE474=\"\",\"\",'2-Grant Budget'!EE474)","v":""}]
[null,{"$f":"IF('2-Grant Budget'!EC475=\"\",\"\",RIGHT('2-Grant Budget'!DW475,2))","v":""},{"$f":"IF(G497=\"\",\"\",IF(RIGHT(F497,4)=\"8000\",VLOOKUP('1-Award Info'!$G$19,Tables!Q:R,2,0)&\"08008000\",VLOOKUP('1-Award Info'!$G$19,Tables!Q:R,2,0)&RIGHT(F497,8)))","v":""},"","",{"$f":"IF('2-Grant Budget'!$EC475=\"\",\"\",'2-Grant Budget'!DX475)","v":""},{"$f":"IF('2-Grant Budget'!$EC475=\"\",\"\",'2-Grant Budget'!DY475)","v":""},null,{"$f":"IF('2-Grant Budget'!$EC475=\"\",\"\",\"FY\"&RIGHT('2-Grant Budget'!EA475,2))","v":""},null,{"$f":"IF('2-Grant Budget'!EC475=\"\",\"\",'2-Grant Budget'!EC475)","v":""},{"$f":"IF('2-Grant Budget'!EE475=\"\",\"\",'2-Grant Budget'!EE475)","v":""}]
[null,{"$f":"IF('2-Grant Budget'!EC476=\"\",\"\",RIGHT('2-Grant Budget'!DW476,2))","v":""},{"$f":"IF(G498=\"\",\"\",IF(RIGHT(F498,4)=\"8000\",VLOOKUP('1-Award Info'!$G$19,Tables!Q:R,2,0)&\"08008000\",VLOOKUP('1-Award Info'!$G$19,Tables!Q:R,2,0)&RIGHT(F498,8)))","v":""},"","",{"$f":"IF('2-Grant Budget'!$EC476=\"\",\"\",'2-Grant Budget'!DX476)","v":""},{"$f":"IF('2-Grant Budget'!$EC476=\"\",\"\",'2-Grant Budget'!DY476)","v":""},null,{"$f":"IF('2-Grant Budget'!$EC476=\"\",\"\",\"FY\"&RIGHT('2-Grant Budget'!EA476,2))","v":""},null,{"$f":"IF('2-Grant Budget'!EC476=\"\",\"\",'2-Grant Budget'!EC476)","v":""},{"$f":"IF('2-Grant Budget'!EE476=\"\",\"\",'2-Grant Budget'!EE476)","v":""}]
[null,{"$f":"IF('2-Grant Budget'!EC477=\"\",\"\",RIGHT('2-Grant Budget'!DW477,2))","v":""},{"$f":"IF(G499=\"\",\"\",IF(RIGHT(F499,4)=\"8000\",VLOOKUP('1-Award Info'!$G$19,Tables!Q:R,2,0)&\"08008000\",VLOOKUP('1-Award Info'!$G$19,Tables!Q:R,2,0)&RIGHT(F499,8)))","v":""},"","",{"$f":"IF('2-Grant Budget'!$EC477=\"\",\"\",'2-Grant Budget'!DX477)","v":""},{"$f":"IF('2-Grant Budget'!$EC477=\"\",\"\",'2-Grant Budget'!DY477)","v":""},null,{"$f":"IF('2-Grant Budget'!$EC477=\"\",\"\",\"FY\"&RIGHT('2-Grant Budget'!EA477,2))","v":""},null,{"$f":"IF('2-Grant Budget'!EC477=\"\",\"\",'2-Grant Budget'!EC477)","v":""},{"$f":"IF('2-Grant Budget'!EE477=\"\",\"\",'2-Grant Budget'!EE477)","v":""}]
[null,{"$f":"IF('2-Grant Budget'!EC478=\"\",\"\",RIGHT('2-Grant Budget'!DW478,2))","v":""},{"$f":"IF(G500=\"\",\"\",IF(RIGHT(F500,4)=\"8000\",VLOOKUP('1-Award Info'!$G$19,Tables!Q:R,2,0)&\"08008000\",VLOOKUP('1-Award Info'!$G$19,Tables!Q:R,2,0)&RIGHT(F500,8)))","v":""},"","",{"$f":"IF('2-Grant Budget'!$EC478=\"\",\"\",'2-Grant Budget'!DX478)","v":""},{"$f":"IF('2-Grant Budget'!$EC478=\"\",\"\",'2-Grant Budget'!DY478)","v":""},null,{"$f":"IF('2-Grant Budget'!$EC478=\"\",\"\",\"FY\"&RIGHT('2-Grant Budget'!EA478,2))","v":""},null,{"$f":"IF('2-Grant Budget'!EC478=\"\",\"\",'2-Grant Budget'!EC478)","v":""},{"$f":"IF('2-Grant Budget'!EE478=\"\",\"\",'2-Grant Budget'!EE478)","v":""}]
[null,{"$f":"IF('2-Grant Budget'!EC479=\"\",\"\",RIGHT('2-Grant Budget'!DW479,2))","v":""},{"$f":"IF(G501=\"\",\"\",IF(RIGHT(F501,4)=\"8000\",VLOOKUP('1-Award Info'!$G$19,Tables!Q:R,2,0)&\"08008000\",VLOOKUP('1-Award Info'!$G$19,Tables!Q:R,2,0)&RIGHT(F501,8)))","v":""},"","",{"$f":"IF('2-Grant Budget'!$EC479=\"\",\"\",'2-Grant Budget'!DX479)","v":""},{"$f":"IF('2-Grant Budget'!$EC479=\"\",\"\",'2-Grant Budget'!DY479)","v":""},null,{"$f":"IF('2-Grant Budget'!$EC479=\"\",\"\",\"FY\"&RIGHT('2-Grant Budget'!EA479,2))","v":""},null,{"$f":"IF('2-Grant Budget'!EC479=\"\",\"\",'2-Grant Budget'!EC479)","v":""},{"$f":"IF('2-Grant Budget'!EE479=\"\",\"\",'2-Grant Budget'!EE479)","v":""}]
[null,{"$f":"IF('2-Grant Budget'!EC480=\"\",\"\",RIGHT('2-Grant Budget'!DW480,2))","v":""},{"$f":"IF(G502=\"\",\"\",IF(RIGHT(F502,4)=\"8000\",VLOOKUP('1-Award Info'!$G$19,Tables!Q:R,2,0)&\"08008000\",VLOOKUP('1-Award Info'!$G$19,Tables!Q:R,2,0)&RIGHT(F502,8)))","v":""},"","",{"$f":"IF('2-Grant Budget'!$EC480=\"\",\"\",'2-Grant Budget'!DX480)","v":""},{"$f":"IF('2-Grant Budget'!$EC480=\"\",\"\",'2-Grant Budget'!DY480)","v":""},null,{"$f":"IF('2-Grant Budget'!$EC480=\"\",\"\",\"FY\"&RIGHT('2-Grant Budget'!EA480,2))","v":""},null,{"$f":"IF('2-Grant Budget'!EC480=\"\",\"\",'2-Grant Budget'!EC480)","v":""},{"$f":"IF('2-Grant Budget'!EE480=\"\",\"\",'2-Grant Budget'!EE480)","v":""}]
[null,{"$f":"IF('2-Grant Budget'!EC481=\"\",\"\",RIGHT('2-Grant Budget'!DW481,2))","v":""},{"$f":"IF(G503=\"\",\"\",IF(RIGHT(F503,4)=\"8000\",VLOOKUP('1-Award Info'!$G$19,Tables!Q:R,2,0)&\"08008000\",VLOOKUP('1-Award Info'!$G$19,Tables!Q:R,2,0)&RIGHT(F503,8)))","v":""},"","",{"$f":"IF('2-Grant Budget'!$EC481=\"\",\"\",'2-Grant Budget'!DX481)","v":""},{"$f":"IF('2-Grant Budget'!$EC481=\"\",\"\",'2-Grant Budget'!DY481)","v":""},null,{"$f":"IF('2-Grant Budget'!$EC481=\"\",\"\",\"FY\"&RIGHT('2-Grant Budget'!EA481,2))","v":""},null,{"$f":"IF('2-Grant Budget'!EC481=\"\",\"\",'2-Grant Budget'!EC481)","v":""},{"$f":"IF('2-Grant Budget'!EE481=\"\",\"\",'2-Grant Budget'!EE481)","v":""}]
[null,{"$f":"IF('2-Grant Budget'!EC482=\"\",\"\",RIGHT('2-Grant Budget'!DW482,2))","v":""},{"$f":"IF(G504=\"\",\"\",IF(RIGHT(F504,4)=\"8000\",VLOOKUP('1-Award Info'!$G$19,Tables!Q:R,2,0)&\"08008000\",VLOOKUP('1-Award Info'!$G$19,Tables!Q:R,2,0)&RIGHT(F504,8)))","v":""},"","",{"$f":"IF('2-Grant Budget'!$EC482=\"\",\"\",'2-Grant Budget'!DX482)","v":""},{"$f":"IF('2-Grant Budget'!$EC482=\"\",\"\",'2-Grant Budget'!DY482)","v":""},null,{"$f":"IF('2-Grant Budget'!$EC482=\"\",\"\",\"FY\"&RIGHT('2-Grant Budget'!EA482,2))","v":""},null,{"$f":"IF('2-Grant Budget'!EC482=\"\",\"\",'2-Grant Budget'!EC482)","v":""},{"$f":"IF('2-Grant Budget'!EE482=\"\",\"\",'2-Grant Budget'!EE482)","v":""}]
[null,{"$f":"IF('2-Grant Budget'!EC483=\"\",\"\",RIGHT('2-Grant Budget'!DW483,2))","v":""},{"$f":"IF(G505=\"\",\"\",IF(RIGHT(F505,4)=\"8000\",VLOOKUP('1-Award Info'!$G$19,Tables!Q:R,2,0)&\"08008000\",VLOOKUP('1-Award Info'!$G$19,Tables!Q:R,2,0)&RIGHT(F505,8)))","v":""},"","",{"$f":"IF('2-Grant Budget'!$EC483=\"\",\"\",'2-Grant Budget'!DX483)","v":""},{"$f":"IF('2-Grant Budget'!$EC483=\"\",\"\",'2-Grant Budget'!DY483)","v":""},null,{"$f":"IF('2-Grant Budget'!$EC483=\"\",\"\",\"FY\"&RIGHT('2-Grant Budget'!EA483,2))","v":""},null,{"$f":"IF('2-Grant Budget'!EC483=\"\",\"\",'2-Grant Budget'!EC483)","v":""},{"$f":"IF('2-Grant Budget'!EE483=\"\",\"\",'2-Grant Budget'!EE483)","v":""}]
[null,{"$f":"IF('2-Grant Budget'!EC484=\"\",\"\",RIGHT('2-Grant Budget'!DW484,2))","v":""},{"$f":"IF(G506=\"\",\"\",IF(RIGHT(F506,4)=\"8000\",VLOOKUP('1-Award Info'!$G$19,Tables!Q:R,2,0)&\"08008000\",VLOOKUP('1-Award Info'!$G$19,Tables!Q:R,2,0)&RIGHT(F506,8)))","v":""},"","",{"$f":"IF('2-Grant Budget'!$EC484=\"\",\"\",'2-Grant Budget'!DX484)","v":""},{"$f":"IF('2-Grant Budget'!$EC484=\"\",\"\",'2-Grant Budget'!DY484)","v":""},null,{"$f":"IF('2-Grant Budget'!$EC484=\"\",\"\",\"FY\"&RIGHT('2-Grant Budget'!EA484,2))","v":""},null,{"$f":"IF('2-Grant Budget'!EC484=\"\",\"\",'2-Grant Budget'!EC484)","v":""},{"$f":"IF('2-Grant Budget'!EE484=\"\",\"\",'2-Grant Budget'!EE484)","v":""}]
[null,{"$f":"IF('2-Grant Budget'!EC485=\"\",\"\",RIGHT('2-Grant Budget'!DW485,2))","v":""},{"$f":"IF(G507=\"\",\"\",IF(RIGHT(F507,4)=\"8000\",VLOOKUP('1-Award Info'!$G$19,Tables!Q:R,2,0)&\"08008000\",VLOOKUP('1-Award Info'!$G$19,Tables!Q:R,2,0)&RIGHT(F507,8)))","v":""},"","",{"$f":"IF('2-Grant Budget'!$EC485=\"\",\"\",'2-Grant Budget'!DX485)","v":""},{"$f":"IF('2-Grant Budget'!$EC485=\"\",\"\",'2-Grant Budget'!DY485)","v":""},null,{"$f":"IF('2-Grant Budget'!$EC485=\"\",\"\",\"FY\"&RIGHT('2-Grant Budget'!EA485,2))","v":""},null,{"$f":"IF('2-Grant Budget'!EC485=\"\",\"\",'2-Grant Budget'!EC485)","v":""},{"$f":"IF('2-Grant Budget'!EE485=\"\",\"\",'2-Grant Budget'!EE485)","v":""}]
[null,{"$f":"IF('2-Grant Budget'!EC486=\"\",\"\",RIGHT('2-Grant Budget'!DW486,2))","v":""},{"$f":"IF(G508=\"\",\"\",IF(RIGHT(F508,4)=\"8000\",VLOOKUP('1-Award Info'!$G$19,Tables!Q:R,2,0)&\"08008000\",VLOOKUP('1-Award Info'!$G$19,Tables!Q:R,2,0)&RIGHT(F508,8)))","v":""},"","",{"$f":"IF('2-Grant Budget'!$EC486=\"\",\"\",'2-Grant Budget'!DX486)","v":""},{"$f":"IF('2-Grant Budget'!$EC486=\"\",\"\",'2-Grant Budget'!DY486)","v":""},null,{"$f":"IF('2-Grant Budget'!$EC486=\"\",\"\",\"FY\"&RIGHT('2-Grant Budget'!EA486,2))","v":""},null,{"$f":"IF('2-Grant Budget'!EC486=\"\",\"\",'2-Grant Budget'!EC486)","v":""},{"$f":"IF('2-Grant Budget'!EE486=\"\",\"\",'2-Grant Budget'!EE486)","v":""}]
[null,{"$f":"IF('2-Grant Budget'!EC487=\"\",\"\",RIGHT('2-Grant Budget'!DW487,2))","v":""},{"$f":"IF(G509=\"\",\"\",IF(RIGHT(F509,4)=\"8000\",VLOOKUP('1-Award Info'!$G$19,Tables!Q:R,2,0)&\"08008000\",VLOOKUP('1-Award Info'!$G$19,Tables!Q:R,2,0)&RIGHT(F509,8)))","v":""},"","",{"$f":"IF('2-Grant Budget'!$EC487=\"\",\"\",'2-Grant Budget'!DX487)","v":""},{"$f":"IF('2-Grant Budget'!$EC487=\"\",\"\",'2-Grant Budget'!DY487)","v":""},null,{"$f":"IF('2-Grant Budget'!$EC487=\"\",\"\",\"FY\"&RIGHT('2-Grant Budget'!EA487,2))","v":""},null,{"$f":"IF('2-Grant Budget'!EC487=\"\",\"\",'2-Grant Budget'!EC487)","v":""},{"$f":"IF('2-Grant Budget'!EE487=\"\",\"\",'2-Grant Budget'!EE487)","v":""}]
[null,{"$f":"IF('2-Grant Budget'!EC488=\"\",\"\",RIGHT('2-Grant Budget'!DW488,2))","v":""},{"$f":"IF(G510=\"\",\"\",IF(RIGHT(F510,4)=\"8000\",VLOOKUP('1-Award Info'!$G$19,Tables!Q:R,2,0)&\"08008000\",VLOOKUP('1-Award Info'!$G$19,Tables!Q:R,2,0)&RIGHT(F510,8)))","v":""},"","",{"$f":"IF('2-Grant Budget'!$EC488=\"\",\"\",'2-Grant Budget'!DX488)","v":""},{"$f":"IF('2-Grant Budget'!$EC488=\"\",\"\",'2-Grant Budget'!DY488)","v":""},null,{"$f":"IF('2-Grant Budget'!$EC488=\"\",\"\",\"FY\"&RIGHT('2-Grant Budget'!EA488,2))","v":""},null,{"$f":"IF('2-Grant Budget'!EC488=\"\",\"\",'2-Grant Budget'!EC488)","v":""},{"$f":"IF('2-Grant Budget'!EE488=\"\",\"\",'2-Grant Budget'!EE488)","v":""}]
[null,{"$f":"IF('2-Grant Budget'!EC489=\"\",\"\",RIGHT('2-Grant Budget'!DW489,2))","v":""},{"$f":"IF(G511=\"\",\"\",IF(RIGHT(F511,4)=\"8000\",VLOOKUP('1-Award Info'!$G$19,Tables!Q:R,2,0)&\"08008000\",VLOOKUP('1-Award Info'!$G$19,Tables!Q:R,2,0)&RIGHT(F511,8)))","v":""},"","",{"$f":"IF('2-Grant Budget'!$EC489=\"\",\"\",'2-Grant Budget'!DX489)","v":""},{"$f":"IF('2-Grant Budget'!$EC489=\"\",\"\",'2-Grant Budget'!DY489)","v":""},null,{"$f":"IF('2-Grant Budget'!$EC489=\"\",\"\",\"FY\"&RIGHT('2-Grant Budget'!EA489,2))","v":""},null,{"$f":"IF('2-Grant Budget'!EC489=\"\",\"\",'2-Grant Budget'!EC489)","v":""},{"$f":"IF('2-Grant Budget'!EE489=\"\",\"\",'2-Grant Budget'!EE489)","v":""}]
[null,{"$f":"IF('2-Grant Budget'!EC490=\"\",\"\",RIGHT('2-Grant Budget'!DW490,2))","v":""},{"$f":"IF(G512=\"\",\"\",IF(RIGHT(F512,4)=\"8000\",VLOOKUP('1-Award Info'!$G$19,Tables!Q:R,2,0)&\"08008000\",VLOOKUP('1-Award Info'!$G$19,Tables!Q:R,2,0)&RIGHT(F512,8)))","v":""},"","",{"$f":"IF('2-Grant Budget'!$EC490=\"\",\"\",'2-Grant Budget'!DX490)","v":""},{"$f":"IF('2-Grant Budget'!$EC490=\"\",\"\",'2-Grant Budget'!DY490)","v":""},null,{"$f":"IF('2-Grant Budget'!$EC490=\"\",\"\",\"FY\"&RIGHT('2-Grant Budget'!EA490,2))","v":""},null,{"$f":"IF('2-Grant Budget'!EC490=\"\",\"\",'2-Grant Budget'!EC490)","v":""},{"$f":"IF('2-Grant Budget'!EE490=\"\",\"\",'2-Grant Budget'!EE490)","v":""}]
[null,{"$f":"IF('2-Grant Budget'!EC491=\"\",\"\",RIGHT('2-Grant Budget'!DW491,2))","v":""},{"$f":"IF(G513=\"\",\"\",IF(RIGHT(F513,4)=\"8000\",VLOOKUP('1-Award Info'!$G$19,Tables!Q:R,2,0)&\"08008000\",VLOOKUP('1-Award Info'!$G$19,Tables!Q:R,2,0)&RIGHT(F513,8)))","v":""},"","",{"$f":"IF('2-Grant Budget'!$EC491=\"\",\"\",'2-Grant Budget'!DX491)","v":""},{"$f":"IF('2-Grant Budget'!$EC491=\"\",\"\",'2-Grant Budget'!DY491)","v":""},null,{"$f":"IF('2-Grant Budget'!$EC491=\"\",\"\",\"FY\"&RIGHT('2-Grant Budget'!EA491,2))","v":""},null,{"$f":"IF('2-Grant Budget'!EC491=\"\",\"\",'2-Grant Budget'!EC491)","v":""},{"$f":"IF('2-Grant Budget'!EE491=\"\",\"\",'2-Grant Budget'!EE491)","v":""}]
[null,{"$f":"IF('2-Grant Budget'!EC492=\"\",\"\",RIGHT('2-Grant Budget'!DW492,2))","v":""},{"$f":"IF(G514=\"\",\"\",IF(RIGHT(F514,4)=\"8000\",VLOOKUP('1-Award Info'!$G$19,Tables!Q:R,2,0)&\"08008000\",VLOOKUP('1-Award Info'!$G$19,Tables!Q:R,2,0)&RIGHT(F514,8)))","v":""},"","",{"$f":"IF('2-Grant Budget'!$EC492=\"\",\"\",'2-Grant Budget'!DX492)","v":""},{"$f":"IF('2-Grant Budget'!$EC492=\"\",\"\",'2-Grant Budget'!DY492)","v":""},null,{"$f":"IF('2-Grant Budget'!$EC492=\"\",\"\",\"FY\"&RIGHT('2-Grant Budget'!EA492,2))","v":""},null,{"$f":"IF('2-Grant Budget'!EC492=\"\",\"\",'2-Grant Budget'!EC492)","v":""},{"$f":"IF('2-Grant Budget'!EE492=\"\",\"\",'2-Grant Budget'!EE492)","v":""}]
[null,{"$f":"IF('2-Grant Budget'!EC493=\"\",\"\",RIGHT('2-Grant Budget'!DW493,2))","v":""},{"$f":"IF(G515=\"\",\"\",IF(RIGHT(F515,4)=\"8000\",VLOOKUP('1-Award Info'!$G$19,Tables!Q:R,2,0)&\"08008000\",VLOOKUP('1-Award Info'!$G$19,Tables!Q:R,2,0)&RIGHT(F515,8)))","v":""},"","",{"$f":"IF('2-Grant Budget'!$EC493=\"\",\"\",'2-Grant Budget'!DX493)","v":""},{"$f":"IF('2-Grant Budget'!$EC493=\"\",\"\",'2-Grant Budget'!DY493)","v":""},null,{"$f":"IF('2-Grant Budget'!$EC493=\"\",\"\",\"FY\"&RIGHT('2-Grant Budget'!EA493,2))","v":""},null,{"$f":"IF('2-Grant Budget'!EC493=\"\",\"\",'2-Grant Budget'!EC493)","v":""},{"$f":"IF('2-Grant Budget'!EE493=\"\",\"\",'2-Grant Budget'!EE493)","v":""}]
[null,{"$f":"IF('2-Grant Budget'!EC494=\"\",\"\",RIGHT('2-Grant Budget'!DW494,2))","v":""},{"$f":"IF(G516=\"\",\"\",IF(RIGHT(F516,4)=\"8000\",VLOOKUP('1-Award Info'!$G$19,Tables!Q:R,2,0)&\"08008000\",VLOOKUP('1-Award Info'!$G$19,Tables!Q:R,2,0)&RIGHT(F516,8)))","v":""},"","",{"$f":"IF('2-Grant Budget'!$EC494=\"\",\"\",'2-Grant Budget'!DX494)","v":""},{"$f":"IF('2-Grant Budget'!$EC494=\"\",\"\",'2-Grant Budget'!DY494)","v":""},null,{"$f":"IF('2-Grant Budget'!$EC494=\"\",\"\",\"FY\"&RIGHT('2-Grant Budget'!EA494,2))","v":""},null,{"$f":"IF('2-Grant Budget'!EC494=\"\",\"\",'2-Grant Budget'!EC494)","v":""},{"$f":"IF('2-Grant Budget'!EE494=\"\",\"\",'2-Grant Budget'!EE494)","v":""}]
[null,{"$f":"IF('2-Grant Budget'!EC495=\"\",\"\",RIGHT('2-Grant Budget'!DW495,2))","v":""},{"$f":"IF(G517=\"\",\"\",IF(RIGHT(F517,4)=\"8000\",VLOOKUP('1-Award Info'!$G$19,Tables!Q:R,2,0)&\"08008000\",VLOOKUP('1-Award Info'!$G$19,Tables!Q:R,2,0)&RIGHT(F517,8)))","v":""},"","",{"$f":"IF('2-Grant Budget'!$EC495=\"\",\"\",'2-Grant Budget'!DX495)","v":""},{"$f":"IF('2-Grant Budget'!$EC495=\"\",\"\",'2-Grant Budget'!DY495)","v":""},null,{"$f":"IF('2-Grant Budget'!$EC495=\"\",\"\",\"FY\"&RIGHT('2-Grant Budget'!EA495,2))","v":""},null,{"$f":"IF('2-Grant Budget'!EC495=\"\",\"\",'2-Grant Budget'!EC495)","v":""},{"$f":"IF('2-Grant Budget'!EE495=\"\",\"\",'2-Grant Budget'!EE495)","v":""}]
[null,{"$f":"IF('2-Grant Budget'!EC496=\"\",\"\",RIGHT('2-Grant Budget'!DW496,2))","v":""},{"$f":"IF(G518=\"\",\"\",IF(RIGHT(F518,4)=\"8000\",VLOOKUP('1-Award Info'!$G$19,Tables!Q:R,2,0)&\"08008000\",VLOOKUP('1-Award Info'!$G$19,Tables!Q:R,2,0)&RIGHT(F518,8)))","v":""},"","",{"$f":"IF('2-Grant Budget'!$EC496=\"\",\"\",'2-Grant Budget'!DX496)","v":""},{"$f":"IF('2-Grant Budget'!$EC496=\"\",\"\",'2-Grant Budget'!DY496)","v":""},null,{"$f":"IF('2-Grant Budget'!$EC496=\"\",\"\",\"FY\"&RIGHT('2-Grant Budget'!EA496,2))","v":""},null,{"$f":"IF('2-Grant Budget'!EC496=\"\",\"\",'2-Grant Budget'!EC496)","v":""},{"$f":"IF('2-Grant Budget'!EE496=\"\",\"\",'2-Grant Budget'!EE496)","v":""}]
[null,{"$f":"IF('2-Grant Budget'!EC497=\"\",\"\",RIGHT('2-Grant Budget'!DW497,2))","v":""},{"$f":"IF(G519=\"\",\"\",IF(RIGHT(F519,4)=\"8000\",VLOOKUP('1-Award Info'!$G$19,Tables!Q:R,2,0)&\"08008000\",VLOOKUP('1-Award Info'!$G$19,Tables!Q:R,2,0)&RIGHT(F519,8)))","v":""},"","",{"$f":"IF('2-Grant Budget'!$EC497=\"\",\"\",'2-Grant Budget'!DX497)","v":""},{"$f":"IF('2-Grant Budget'!$EC497=\"\",\"\",'2-Grant Budget'!DY497)","v":""},null,{"$f":"IF('2-Grant Budget'!$EC497=\"\",\"\",\"FY\"&RIGHT('2-Grant Budget'!EA497,2))","v":""},null,{"$f":"IF('2-Grant Budget'!EC497=\"\",\"\",'2-Grant Budget'!EC497)","v":""},{"$f":"IF('2-Grant Budget'!EE497=\"\",\"\",'2-Grant Budget'!EE497)","v":""}]
[null,{"$f":"IF('2-Grant Budget'!EC498=\"\",\"\",RIGHT('2-Grant Budget'!DW498,2))","v":""},{"$f":"IF(G520=\"\",\"\",IF(RIGHT(F520,4)=\"8000\",VLOOKUP('1-Award Info'!$G$19,Tables!Q:R,2,0)&\"08008000\",VLOOKUP('1-Award Info'!$G$19,Tables!Q:R,2,0)&RIGHT(F520,8)))","v":""},"","",{"$f":"IF('2-Grant Budget'!$EC498=\"\",\"\",'2-Grant Budget'!DX498)","v":""},{"$f":"IF('2-Grant Budget'!$EC498=\"\",\"\",'2-Grant Budget'!DY498)","v":""},null,{"$f":"IF('2-Grant Budget'!$EC498=\"\",\"\",\"FY\"&RIGHT('2-Grant Budget'!EA498,2))","v":""},null,{"$f":"IF('2-Grant Budget'!EC498=\"\",\"\",'2-Grant Budget'!EC498)","v":""},{"$f":"IF('2-Grant Budget'!EE498=\"\",\"\",'2-Grant Budget'!EE498)","v":""}]
[null,{"$f":"IF('2-Grant Budget'!EC499=\"\",\"\",RIGHT('2-Grant Budget'!DW499,2))","v":""},{"$f":"IF(G521=\"\",\"\",IF(RIGHT(F521,4)=\"8000\",VLOOKUP('1-Award Info'!$G$19,Tables!Q:R,2,0)&\"08008000\",VLOOKUP('1-Award Info'!$G$19,Tables!Q:R,2,0)&RIGHT(F521,8)))","v":""},"","",{"$f":"IF('2-Grant Budget'!$EC499=\"\",\"\",'2-Grant Budget'!DX499)","v":""},{"$f":"IF('2-Grant Budget'!$EC499=\"\",\"\",'2-Grant Budget'!DY499)","v":""},null,{"$f":"IF('2-Grant Budget'!$EC499=\"\",\"\",\"FY\"&RIGHT('2-Grant Budget'!EA499,2))","v":""},null,{"$f":"IF('2-Grant Budget'!EC499=\"\",\"\",'2-Grant Budget'!EC499)","v":""},{"$f":"IF('2-Grant Budget'!EE499=\"\",\"\",'2-Grant Budget'!EE499)","v":""}]
[null,{"$f":"IF('2-Grant Budget'!EC500=\"\",\"\",RIGHT('2-Grant Budget'!DW500,2))","v":""},{"$f":"IF(G522=\"\",\"\",IF(RIGHT(F522,4)=\"8000\",VLOOKUP('1-Award Info'!$G$19,Tables!Q:R,2,0)&\"08008000\",VLOOKUP('1-Award Info'!$G$19,Tables!Q:R,2,0)&RIGHT(F522,8)))","v":""},"","",{"$f":"IF('2-Grant Budget'!$EC500=\"\",\"\",'2-Grant Budget'!DX500)","v":""},{"$f":"IF('2-Grant Budget'!$EC500=\"\",\"\",'2-Grant Budget'!DY500)","v":""},null,{"$f":"IF('2-Grant Budget'!$EC500=\"\",\"\",\"FY\"&RIGHT('2-Grant Budget'!EA500,2))","v":""},null,{"$f":"IF('2-Grant Budget'!EC500=\"\",\"\",'2-Grant Budget'!EC500)","v":""},{"$f":"IF('2-Grant Budget'!EE500=\"\",\"\",'2-Grant Budget'!EE500)","v":""}]
[null,{"$f":"IF('2-Grant Budget'!EC501=\"\",\"\",RIGHT('2-Grant Budget'!DW501,2))","v":""},{"$f":"IF(G523=\"\",\"\",IF(RIGHT(F523,4)=\"8000\",VLOOKUP('1-Award Info'!$G$19,Tables!Q:R,2,0)&\"08008000\",VLOOKUP('1-Award Info'!$G$19,Tables!Q:R,2,0)&RIGHT(F523,8)))","v":""},"","",{"$f":"IF('2-Grant Budget'!$EC501=\"\",\"\",'2-Grant Budget'!DX501)","v":""},{"$f":"IF('2-Grant Budget'!$EC501=\"\",\"\",'2-Grant Budget'!DY501)","v":""},null,{"$f":"IF('2-Grant Budget'!$EC501=\"\",\"\",\"FY\"&RIGHT('2-Grant Budget'!EA501,2))","v":""},null,{"$f":"IF('2-Grant Budget'!EC501=\"\",\"\",'2-Grant Budget'!EC501)","v":""},{"$f":"IF('2-Grant Budget'!EE501=\"\",\"\",'2-Grant Budget'!EE501)","v":""}]
[null,{"$f":"IF('2-Grant Budget'!EC502=\"\",\"\",RIGHT('2-Grant Budget'!DW502,2))","v":""},{"$f":"IF(G524=\"\",\"\",IF(RIGHT(F524,4)=\"8000\",VLOOKUP('1-Award Info'!$G$19,Tables!Q:R,2,0)&\"08008000\",VLOOKUP('1-Award Info'!$G$19,Tables!Q:R,2,0)&RIGHT(F524,8)))","v":""},"","",{"$f":"IF('2-Grant Budget'!$EC502=\"\",\"\",'2-Grant Budget'!DX502)","v":""},{"$f":"IF('2-Grant Budget'!$EC502=\"\",\"\",'2-Grant Budget'!DY502)","v":""},null,{"$f":"IF('2-Grant Budget'!$EC502=\"\",\"\",\"FY\"&RIGHT('2-Grant Budget'!EA502,2))","v":""},null,{"$f":"IF('2-Grant Budget'!EC502=\"\",\"\",'2-Grant Budget'!EC502)","v":""},{"$f":"IF('2-Grant Budget'!EE502=\"\",\"\",'2-Grant Budget'!EE502)","v":""}]
[null,{"$f":"IF('2-Grant Budget'!EC503=\"\",\"\",RIGHT('2-Grant Budget'!DW503,2))","v":""},{"$f":"IF(G525=\"\",\"\",IF(RIGHT(F525,4)=\"8000\",VLOOKUP('1-Award Info'!$G$19,Tables!Q:R,2,0)&\"08008000\",VLOOKUP('1-Award Info'!$G$19,Tables!Q:R,2,0)&RIGHT(F525,8)))","v":""},"","",{"$f":"IF('2-Grant Budget'!$EC503=\"\",\"\",'2-Grant Budget'!DX503)","v":""},{"$f":"IF('2-Grant Budget'!$EC503=\"\",\"\",'2-Grant Budget'!DY503)","v":""},null,{"$f":"IF('2-Grant Budget'!$EC503=\"\",\"\",\"FY\"&RIGHT('2-Grant Budget'!EA503,2))","v":""},null,{"$f":"IF('2-Grant Budget'!EC503=\"\",\"\",'2-Grant Budget'!EC503)","v":""},{"$f":"IF('2-Grant Budget'!EE503=\"\",\"\",'2-Grant Budget'!EE503)","v":""}]
[null,{"$f":"IF('2-Grant Budget'!EC504=\"\",\"\",RIGHT('2-Grant Budget'!DW504,2))","v":""},{"$f":"IF(G526=\"\",\"\",IF(RIGHT(F526,4)=\"8000\",VLOOKUP('1-Award Info'!$G$19,Tables!Q:R,2,0)&\"08008000\",VLOOKUP('1-Award Info'!$G$19,Tables!Q:R,2,0)&RIGHT(F526,8)))","v":""},"","",{"$f":"IF('2-Grant Budget'!$EC504=\"\",\"\",'2-Grant Budget'!DX504)","v":""},{"$f":"IF('2-Grant Budget'!$EC504=\"\",\"\",'2-Grant Budget'!DY504)","v":""},null,{"$f":"IF('2-Grant Budget'!$EC504=\"\",\"\",\"FY\"&RIGHT('2-Grant Budget'!EA504,2))","v":""},null,{"$f":"IF('2-Grant Budget'!EC504=\"\",\"\",'2-Grant Budget'!EC504)","v":""},{"$f":"IF('2-Grant Budget'!EE504=\"\",\"\",'2-Grant Budget'!EE504)","v":""}]
[null,{"$f":"IF('2-Grant Budget'!EC505=\"\",\"\",RIGHT('2-Grant Budget'!DW505,2))","v":""},{"$f":"IF(G527=\"\",\"\",IF(RIGHT(F527,4)=\"8000\",VLOOKUP('1-Award Info'!$G$19,Tables!Q:R,2,0)&\"08008000\",VLOOKUP('1-Award Info'!$G$19,Tables!Q:R,2,0)&RIGHT(F527,8)))","v":""},"","",{"$f":"IF('2-Grant Budget'!$EC505=\"\",\"\",'2-Grant Budget'!DX505)","v":""},{"$f":"IF('2-Grant Budget'!$EC505=\"\",\"\",'2-Grant Budget'!DY505)","v":""},null,{"$f":"IF('2-Grant Budget'!$EC505=\"\",\"\",\"FY\"&RIGHT('2-Grant Budget'!EA505,2))","v":""},null,{"$f":"IF('2-Grant Budget'!EC505=\"\",\"\",'2-Grant Budget'!EC505)","v":""},{"$f":"IF('2-Grant Budget'!EE505=\"\",\"\",'2-Grant Budget'!EE505)","v":""}]
[null,{"$f":"IF('2-Grant Budget'!EC506=\"\",\"\",RIGHT('2-Grant Budget'!DW506,2))","v":""},{"$f":"IF(G528=\"\",\"\",IF(RIGHT(F528,4)=\"8000\",VLOOKUP('1-Award Info'!$G$19,Tables!Q:R,2,0)&\"08008000\",VLOOKUP('1-Award Info'!$G$19,Tables!Q:R,2,0)&RIGHT(F528,8)))","v":""},"","",{"$f":"IF('2-Grant Budget'!$EC506=\"\",\"\",'2-Grant Budget'!DX506)","v":""},{"$f":"IF('2-Grant Budget'!$EC506=\"\",\"\",'2-Grant Budget'!DY506)","v":""},null,{"$f":"IF('2-Grant Budget'!$EC506=\"\",\"\",\"FY\"&RIGHT('2-Grant Budget'!EA506,2))","v":""},null,{"$f":"IF('2-Grant Budget'!EC506=\"\",\"\",'2-Grant Budget'!EC506)","v":""},{"$f":"IF('2-Grant Budget'!EE506=\"\",\"\",'2-Grant Budget'!EE506)","v":""}]
[null,{"$f":"IF('2-Grant Budget'!EC507=\"\",\"\",RIGHT('2-Grant Budget'!DW507,2))","v":""},{"$f":"IF(G529=\"\",\"\",IF(RIGHT(F529,4)=\"8000\",VLOOKUP('1-Award Info'!$G$19,Tables!Q:R,2,0)&\"08008000\",VLOOKUP('1-Award Info'!$G$19,Tables!Q:R,2,0)&RIGHT(F529,8)))","v":""},"","",{"$f":"IF('2-Grant Budget'!$EC507=\"\",\"\",'2-Grant Budget'!DX507)","v":""},{"$f":"IF('2-Grant Budget'!$EC507=\"\",\"\",'2-Grant Budget'!DY507)","v":""},null,{"$f":"IF('2-Grant Budget'!$EC507=\"\",\"\",\"FY\"&RIGHT('2-Grant Budget'!EA507,2))","v":""},null,{"$f":"IF('2-Grant Budget'!EC507=\"\",\"\",'2-Grant Budget'!EC507)","v":""},{"$f":"IF('2-Grant Budget'!EE507=\"\",\"\",'2-Grant Budget'!EE507)","v":""}]
[null,{"$f":"IF('2-Grant Budget'!EC508=\"\",\"\",RIGHT('2-Grant Budget'!DW508,2))","v":""},{"$f":"IF(G530=\"\",\"\",IF(RIGHT(F530,4)=\"8000\",VLOOKUP('1-Award Info'!$G$19,Tables!Q:R,2,0)&\"08008000\",VLOOKUP('1-Award Info'!$G$19,Tables!Q:R,2,0)&RIGHT(F530,8)))","v":""},"","",{"$f":"IF('2-Grant Budget'!$EC508=\"\",\"\",'2-Grant Budget'!DX508)","v":""},{"$f":"IF('2-Grant Budget'!$EC508=\"\",\"\",'2-Grant Budget'!DY508)","v":""},null,{"$f":"IF('2-Grant Budget'!$EC508=\"\",\"\",\"FY\"&RIGHT('2-Grant Budget'!EA508,2))","v":""},null,{"$f":"IF('2-Grant Budget'!EC508=\"\",\"\",'2-Grant Budget'!EC508)","v":""},{"$f":"IF('2-Grant Budget'!EE508=\"\",\"\",'2-Grant Budget'!EE508)","v":""}]
[null,{"$f":"IF('2-Grant Budget'!EC509=\"\",\"\",RIGHT('2-Grant Budget'!DW509,2))","v":""},{"$f":"IF(G531=\"\",\"\",IF(RIGHT(F531,4)=\"8000\",VLOOKUP('1-Award Info'!$G$19,Tables!Q:R,2,0)&\"08008000\",VLOOKUP('1-Award Info'!$G$19,Tables!Q:R,2,0)&RIGHT(F531,8)))","v":""},"","",{"$f":"IF('2-Grant Budget'!$EC509=\"\",\"\",'2-Grant Budget'!DX509)","v":""},{"$f":"IF('2-Grant Budget'!$EC509=\"\",\"\",'2-Grant Budget'!DY509)","v":""},null,{"$f":"IF('2-Grant Budget'!$EC509=\"\",\"\",\"FY\"&RIGHT('2-Grant Budget'!EA509,2))","v":""},null,{"$f":"IF('2-Grant Budget'!EC509=\"\",\"\",'2-Grant Budget'!EC509)","v":""},{"$f":"IF('2-Grant Budget'!EE509=\"\",\"\",'2-Grant Budget'!EE509)","v":""}]
[null,{"$f":"IF('2-Grant Budget'!EC510=\"\",\"\",RIGHT('2-Grant Budget'!DW510,2))","v":""},{"$f":"IF(G532=\"\",\"\",IF(RIGHT(F532,4)=\"8000\",VLOOKUP('1-Award Info'!$G$19,Tables!Q:R,2,0)&\"08008000\",VLOOKUP('1-Award Info'!$G$19,Tables!Q:R,2,0)&RIGHT(F532,8)))","v":""},"","",{"$f":"IF('2-Grant Budget'!$EC510=\"\",\"\",'2-Grant Budget'!DX510)","v":""},{"$f":"IF('2-Grant Budget'!$EC510=\"\",\"\",'2-Grant Budget'!DY510)","v":""},null,{"$f":"IF('2-Grant Budget'!$EC510=\"\",\"\",\"FY\"&RIGHT('2-Grant Budget'!EA510,2))","v":""},null,{"$f":"IF('2-Grant Budget'!EC510=\"\",\"\",'2-Grant Budget'!EC510)","v":""},{"$f":"IF('2-Grant Budget'!EE510=\"\",\"\",'2-Grant Budget'!EE510)","v":""}]
[null,{"$f":"IF('2-Grant Budget'!EC511=\"\",\"\",RIGHT('2-Grant Budget'!DW511,2))","v":""},{"$f":"IF(G533=\"\",\"\",IF(RIGHT(F533,4)=\"8000\",VLOOKUP('1-Award Info'!$G$19,Tables!Q:R,2,0)&\"08008000\",VLOOKUP('1-Award Info'!$G$19,Tables!Q:R,2,0)&RIGHT(F533,8)))","v":""},"","",{"$f":"IF('2-Grant Budget'!$EC511=\"\",\"\",'2-Grant Budget'!DX511)","v":""},{"$f":"IF('2-Grant Budget'!$EC511=\"\",\"\",'2-Grant Budget'!DY511)","v":""},null,{"$f":"IF('2-Grant Budget'!$EC511=\"\",\"\",\"FY\"&RIGHT('2-Grant Budget'!EA511,2))","v":""},null,{"$f":"IF('2-Grant Budget'!EC511=\"\",\"\",'2-Grant Budget'!EC511)","v":""},{"$f":"IF('2-Grant Budget'!EE511=\"\",\"\",'2-Grant Budget'!EE511)","v":""}]
[null,{"$f":"IF('2-Grant Budget'!EC512=\"\",\"\",RIGHT('2-Grant Budget'!DW512,2))","v":""},{"$f":"IF(G534=\"\",\"\",IF(RIGHT(F534,4)=\"8000\",VLOOKUP('1-Award Info'!$G$19,Tables!Q:R,2,0)&\"08008000\",VLOOKUP('1-Award Info'!$G$19,Tables!Q:R,2,0)&RIGHT(F534,8)))","v":""},"","",{"$f":"IF('2-Grant Budget'!$EC512=\"\",\"\",'2-Grant Budget'!DX512)","v":""},{"$f":"IF('2-Grant Budget'!$EC512=\"\",\"\",'2-Grant Budget'!DY512)","v":""},null,{"$f":"IF('2-Grant Budget'!$EC512=\"\",\"\",\"FY\"&RIGHT('2-Grant Budget'!EA512,2))","v":""},null,{"$f":"IF('2-Grant Budget'!EC512=\"\",\"\",'2-Grant Budget'!EC512)","v":""},{"$f":"IF('2-Grant Budget'!EE512=\"\",\"\",'2-Grant Budget'!EE512)","v":""}]
[null,{"$f":"IF('2-Grant Budget'!EC513=\"\",\"\",RIGHT('2-Grant Budget'!DW513,2))","v":""},{"$f":"IF(G535=\"\",\"\",IF(RIGHT(F535,4)=\"8000\",VLOOKUP('1-Award Info'!$G$19,Tables!Q:R,2,0)&\"08008000\",VLOOKUP('1-Award Info'!$G$19,Tables!Q:R,2,0)&RIGHT(F535,8)))","v":""},"","",{"$f":"IF('2-Grant Budget'!$EC513=\"\",\"\",'2-Grant Budget'!DX513)","v":""},{"$f":"IF('2-Grant Budget'!$EC513=\"\",\"\",'2-Grant Budget'!DY513)","v":""},null,{"$f":"IF('2-Grant Budget'!$EC513=\"\",\"\",\"FY\"&RIGHT('2-Grant Budget'!EA513,2))","v":""},null,{"$f":"IF('2-Grant Budget'!EC513=\"\",\"\",'2-Grant Budget'!EC513)","v":""},{"$f":"IF('2-Grant Budget'!EE513=\"\",\"\",'2-Grant Budget'!EE513)","v":""}]
[null,{"$f":"IF('2-Grant Budget'!EC514=\"\",\"\",RIGHT('2-Grant Budget'!DW514,2))","v":""},{"$f":"IF(G536=\"\",\"\",IF(RIGHT(F536,4)=\"8000\",VLOOKUP('1-Award Info'!$G$19,Tables!Q:R,2,0)&\"08008000\",VLOOKUP('1-Award Info'!$G$19,Tables!Q:R,2,0)&RIGHT(F536,8)))","v":""},"","",{"$f":"IF('2-Grant Budget'!$EC514=\"\",\"\",'2-Grant Budget'!DX514)","v":""},{"$f":"IF('2-Grant Budget'!$EC514=\"\",\"\",'2-Grant Budget'!DY514)","v":""},null,{"$f":"IF('2-Grant Budget'!$EC514=\"\",\"\",\"FY\"&RIGHT('2-Grant Budget'!EA514,2))","v":""},null,{"$f":"IF('2-Grant Budget'!EC514=\"\",\"\",'2-Grant Budget'!EC514)","v":""},{"$f":"IF('2-Grant Budget'!EE514=\"\",\"\",'2-Grant Budget'!EE514)","v":""}]
[null,{"$f":"IF('2-Grant Budget'!EC515=\"\",\"\",RIGHT('2-Grant Budget'!DW515,2))","v":""},{"$f":"IF(G537=\"\",\"\",IF(RIGHT(F537,4)=\"8000\",VLOOKUP('1-Award Info'!$G$19,Tables!Q:R,2,0)&\"08008000\",VLOOKUP('1-Award Info'!$G$19,Tables!Q:R,2,0)&RIGHT(F537,8)))","v":""},"","",{"$f":"IF('2-Grant Budget'!$EC515=\"\",\"\",'2-Grant Budget'!DX515)","v":""},{"$f":"IF('2-Grant Budget'!$EC515=\"\",\"\",'2-Grant Budget'!DY515)","v":""},null,{"$f":"IF('2-Grant Budget'!$EC515=\"\",\"\",\"FY\"&RIGHT('2-Grant Budget'!EA515,2))","v":""},null,{"$f":"IF('2-Grant Budget'!EC515=\"\",\"\",'2-Grant Budget'!EC515)","v":""},{"$f":"IF('2-Grant Budget'!EE515=\"\",\"\",'2-Grant Budget'!EE515)","v":""}]
[null,{"$f":"IF('2-Grant Budget'!EC516=\"\",\"\",RIGHT('2-Grant Budget'!DW516,2))","v":""},{"$f":"IF(G538=\"\",\"\",IF(RIGHT(F538,4)=\"8000\",VLOOKUP('1-Award Info'!$G$19,Tables!Q:R,2,0)&\"08008000\",VLOOKUP('1-Award Info'!$G$19,Tables!Q:R,2,0)&RIGHT(F538,8)))","v":""},"","",{"$f":"IF('2-Grant Budget'!$EC516=\"\",\"\",'2-Grant Budget'!DX516)","v":""},{"$f":"IF('2-Grant Budget'!$EC516=\"\",\"\",'2-Grant Budget'!DY516)","v":""},null,{"$f":"IF('2-Grant Budget'!$EC516=\"\",\"\",\"FY\"&RIGHT('2-Grant Budget'!EA516,2))","v":""},null,{"$f":"IF('2-Grant Budget'!EC516=\"\",\"\",'2-Grant Budget'!EC516)","v":""},{"$f":"IF('2-Grant Budget'!EE516=\"\",\"\",'2-Grant Budget'!EE516)","v":""}]
[null,{"$f":"IF('2-Grant Budget'!EC517=\"\",\"\",RIGHT('2-Grant Budget'!DW517,2))","v":""},{"$f":"IF(G539=\"\",\"\",IF(RIGHT(F539,4)=\"8000\",VLOOKUP('1-Award Info'!$G$19,Tables!Q:R,2,0)&\"08008000\",VLOOKUP('1-Award Info'!$G$19,Tables!Q:R,2,0)&RIGHT(F539,8)))","v":""},"","",{"$f":"IF('2-Grant Budget'!$EC517=\"\",\"\",'2-Grant Budget'!DX517)","v":""},{"$f":"IF('2-Grant Budget'!$EC517=\"\",\"\",'2-Grant Budget'!DY517)","v":""},null,{"$f":"IF('2-Grant Budget'!$EC517=\"\",\"\",\"FY\"&RIGHT('2-Grant Budget'!EA517,2))","v":""},null,{"$f":"IF('2-Grant Budget'!EC517=\"\",\"\",'2-Grant Budget'!EC517)","v":""},{"$f":"IF('2-Grant Budget'!EE517=\"\",\"\",'2-Grant Budget'!EE517)","v":""}]
[null,{"$f":"IF('2-Grant Budget'!EC518=\"\",\"\",RIGHT('2-Grant Budget'!DW518,2))","v":""},{"$f":"IF(G540=\"\",\"\",IF(RIGHT(F540,4)=\"8000\",VLOOKUP('1-Award Info'!$G$19,Tables!Q:R,2,0)&\"08008000\",VLOOKUP('1-Award Info'!$G$19,Tables!Q:R,2,0)&RIGHT(F540,8)))","v":""},"","",{"$f":"IF('2-Grant Budget'!$EC518=\"\",\"\",'2-Grant Budget'!DX518)","v":""},{"$f":"IF('2-Grant Budget'!$EC518=\"\",\"\",'2-Grant Budget'!DY518)","v":""},null,{"$f":"IF('2-Grant Budget'!$EC518=\"\",\"\",\"FY\"&RIGHT('2-Grant Budget'!EA518,2))","v":""},null,{"$f":"IF('2-Grant Budget'!EC518=\"\",\"\",'2-Grant Budget'!EC518)","v":""},{"$f":"IF('2-Grant Budget'!EE518=\"\",\"\",'2-Grant Budget'!EE518)","v":""}]
[null,{"$f":"IF('2-Grant Budget'!EC519=\"\",\"\",RIGHT('2-Grant Budget'!DW519,2))","v":""},{"$f":"IF(G541=\"\",\"\",IF(RIGHT(F541,4)=\"8000\",VLOOKUP('1-Award Info'!$G$19,Tables!Q:R,2,0)&\"08008000\",VLOOKUP('1-Award Info'!$G$19,Tables!Q:R,2,0)&RIGHT(F541,8)))","v":""},"","",{"$f":"IF('2-Grant Budget'!$EC519=\"\",\"\",'2-Grant Budget'!DX519)","v":""},{"$f":"IF('2-Grant Budget'!$EC519=\"\",\"\",'2-Grant Budget'!DY519)","v":""},null,{"$f":"IF('2-Grant Budget'!$EC519=\"\",\"\",\"FY\"&RIGHT('2-Grant Budget'!EA519,2))","v":""},null,{"$f":"IF('2-Grant Budget'!EC519=\"\",\"\",'2-Grant Budget'!EC519)","v":""},{"$f":"IF('2-Grant Budget'!EE519=\"\",\"\",'2-Grant Budget'!EE519)","v":""}]
[null,{"$f":"IF('2-Grant Budget'!EC520=\"\",\"\",RIGHT('2-Grant Budget'!DW520,2))","v":""},{"$f":"IF(G542=\"\",\"\",IF(RIGHT(F542,4)=\"8000\",VLOOKUP('1-Award Info'!$G$19,Tables!Q:R,2,0)&\"08008000\",VLOOKUP('1-Award Info'!$G$19,Tables!Q:R,2,0)&RIGHT(F542,8)))","v":""},"","",{"$f":"IF('2-Grant Budget'!$EC520=\"\",\"\",'2-Grant Budget'!DX520)","v":""},{"$f":"IF('2-Grant Budget'!$EC520=\"\",\"\",'2-Grant Budget'!DY520)","v":""},null,{"$f":"IF('2-Grant Budget'!$EC520=\"\",\"\",\"FY\"&RIGHT('2-Grant Budget'!EA520,2))","v":""},null,{"$f":"IF('2-Grant Budget'!EC520=\"\",\"\",'2-Grant Budget'!EC520)","v":""},{"$f":"IF('2-Grant Budget'!EE520=\"\",\"\",'2-Grant Budget'!EE520)","v":""}]
[null,{"$f":"IF('2-Grant Budget'!EC521=\"\",\"\",RIGHT('2-Grant Budget'!DW521,2))","v":""},{"$f":"IF(G543=\"\",\"\",IF(RIGHT(F543,4)=\"8000\",VLOOKUP('1-Award Info'!$G$19,Tables!Q:R,2,0)&\"08008000\",VLOOKUP('1-Award Info'!$G$19,Tables!Q:R,2,0)&RIGHT(F543,8)))","v":""},"","",{"$f":"IF('2-Grant Budget'!$EC521=\"\",\"\",'2-Grant Budget'!DX521)","v":""},{"$f":"IF('2-Grant Budget'!$EC521=\"\",\"\",'2-Grant Budget'!DY521)","v":""},null,{"$f":"IF('2-Grant Budget'!$EC521=\"\",\"\",\"FY\"&RIGHT('2-Grant Budget'!EA521,2))","v":""},null,{"$f":"IF('2-Grant Budget'!EC521=\"\",\"\",'2-Grant Budget'!EC521)","v":""},{"$f":"IF('2-Grant Budget'!EE521=\"\",\"\",'2-Grant Budget'!EE521)","v":""}]
[null,{"$f":"IF('2-Grant Budget'!EC522=\"\",\"\",RIGHT('2-Grant Budget'!DW522,2))","v":""},{"$f":"IF(G544=\"\",\"\",IF(RIGHT(F544,4)=\"8000\",VLOOKUP('1-Award Info'!$G$19,Tables!Q:R,2,0)&\"08008000\",VLOOKUP('1-Award Info'!$G$19,Tables!Q:R,2,0)&RIGHT(F544,8)))","v":""},"","",{"$f":"IF('2-Grant Budget'!$EC522=\"\",\"\",'2-Grant Budget'!DX522)","v":""},{"$f":"IF('2-Grant Budget'!$EC522=\"\",\"\",'2-Grant Budget'!DY522)","v":""},null,{"$f":"IF('2-Grant Budget'!$EC522=\"\",\"\",\"FY\"&RIGHT('2-Grant Budget'!EA522,2))","v":""},null,{"$f":"IF('2-Grant Budget'!EC522=\"\",\"\",'2-Grant Budget'!EC522)","v":""},{"$f":"IF('2-Grant Budget'!EE522=\"\",\"\",'2-Grant Budget'!EE522)","v":""}]
[null,{"$f":"IF('2-Grant Budget'!EC523=\"\",\"\",RIGHT('2-Grant Budget'!DW523,2))","v":""},{"$f":"IF(G545=\"\",\"\",IF(RIGHT(F545,4)=\"8000\",VLOOKUP('1-Award Info'!$G$19,Tables!Q:R,2,0)&\"08008000\",VLOOKUP('1-Award Info'!$G$19,Tables!Q:R,2,0)&RIGHT(F545,8)))","v":""},"","",{"$f":"IF('2-Grant Budget'!$EC523=\"\",\"\",'2-Grant Budget'!DX523)","v":""},{"$f":"IF('2-Grant Budget'!$EC523=\"\",\"\",'2-Grant Budget'!DY523)","v":""},null,{"$f":"IF('2-Grant Budget'!$EC523=\"\",\"\",\"FY\"&RIGHT('2-Grant Budget'!EA523,2))","v":""},null,{"$f":"IF('2-Grant Budget'!EC523=\"\",\"\",'2-Grant Budget'!EC523)","v":""},{"$f":"IF('2-Grant Budget'!EE523=\"\",\"\",'2-Grant Budget'!EE523)","v":""}]
[null,{"$f":"IF('2-Grant Budget'!EC524=\"\",\"\",RIGHT('2-Grant Budget'!DW524,2))","v":""},{"$f":"IF(G546=\"\",\"\",IF(RIGHT(F546,4)=\"8000\",VLOOKUP('1-Award Info'!$G$19,Tables!Q:R,2,0)&\"08008000\",VLOOKUP('1-Award Info'!$G$19,Tables!Q:R,2,0)&RIGHT(F546,8)))","v":""},"","",{"$f":"IF('2-Grant Budget'!$EC524=\"\",\"\",'2-Grant Budget'!DX524)","v":""},{"$f":"IF('2-Grant Budget'!$EC524=\"\",\"\",'2-Grant Budget'!DY524)","v":""},null,{"$f":"IF('2-Grant Budget'!$EC524=\"\",\"\",\"FY\"&RIGHT('2-Grant Budget'!EA524,2))","v":""},null,{"$f":"IF('2-Grant Budget'!EC524=\"\",\"\",'2-Grant Budget'!EC524)","v":""},{"$f":"IF('2-Grant Budget'!EE524=\"\",\"\",'2-Grant Budget'!EE524)","v":""}]
[null,{"$f":"IF('2-Grant Budget'!EC525=\"\",\"\",RIGHT('2-Grant Budget'!DW525,2))","v":""},{"$f":"IF(G547=\"\",\"\",IF(RIGHT(F547,4)=\"8000\",VLOOKUP('1-Award Info'!$G$19,Tables!Q:R,2,0)&\"08008000\",VLOOKUP('1-Award Info'!$G$19,Tables!Q:R,2,0)&RIGHT(F547,8)))","v":""},"","",{"$f":"IF('2-Grant Budget'!$EC525=\"\",\"\",'2-Grant Budget'!DX525)","v":""},{"$f":"IF('2-Grant Budget'!$EC525=\"\",\"\",'2-Grant Budget'!DY525)","v":""},null,{"$f":"IF('2-Grant Budget'!$EC525=\"\",\"\",\"FY\"&RIGHT('2-Grant Budget'!EA525,2))","v":""},null,{"$f":"IF('2-Grant Budget'!EC525=\"\",\"\",'2-Grant Budget'!EC525)","v":""},{"$f":"IF('2-Grant Budget'!EE525=\"\",\"\",'2-Grant Budget'!EE525)","v":""}]
[null,{"$f":"IF('2-Grant Budget'!EC526=\"\",\"\",RIGHT('2-Grant Budget'!DW526,2))","v":""},{"$f":"IF(G548=\"\",\"\",IF(RIGHT(F548,4)=\"8000\",VLOOKUP('1-Award Info'!$G$19,Tables!Q:R,2,0)&\"08008000\",VLOOKUP('1-Award Info'!$G$19,Tables!Q:R,2,0)&RIGHT(F548,8)))","v":""},"","",{"$f":"IF('2-Grant Budget'!$EC526=\"\",\"\",'2-Grant Budget'!DX526)","v":""},{"$f":"IF('2-Grant Budget'!$EC526=\"\",\"\",'2-Grant Budget'!DY526)","v":""},null,{"$f":"IF('2-Grant Budget'!$EC526=\"\",\"\",\"FY\"&RIGHT('2-Grant Budget'!EA526,2))","v":""},null,{"$f":"IF('2-Grant Budget'!EC526=\"\",\"\",'2-Grant Budget'!EC526)","v":""},{"$f":"IF('2-Grant Budget'!EE526=\"\",\"\",'2-Grant Budget'!EE526)","v":""}]
[null,{"$f":"IF('2-Grant Budget'!EC527=\"\",\"\",RIGHT('2-Grant Budget'!DW527,2))","v":""},{"$f":"IF(G549=\"\",\"\",IF(RIGHT(F549,4)=\"8000\",VLOOKUP('1-Award Info'!$G$19,Tables!Q:R,2,0)&\"08008000\",VLOOKUP('1-Award Info'!$G$19,Tables!Q:R,2,0)&RIGHT(F549,8)))","v":""},"","",{"$f":"IF('2-Grant Budget'!$EC527=\"\",\"\",'2-Grant Budget'!DX527)","v":""},{"$f":"IF('2-Grant Budget'!$EC527=\"\",\"\",'2-Grant Budget'!DY527)","v":""},null,{"$f":"IF('2-Grant Budget'!$EC527=\"\",\"\",\"FY\"&RIGHT('2-Grant Budget'!EA527,2))","v":""},null,{"$f":"IF('2-Grant Budget'!EC527=\"\",\"\",'2-Grant Budget'!EC527)","v":""},{"$f":"IF('2-Grant Budget'!EE527=\"\",\"\",'2-Grant Budget'!EE527)","v":""}]
[null,{"$f":"IF('2-Grant Budget'!EC528=\"\",\"\",RIGHT('2-Grant Budget'!DW528,2))","v":""},{"$f":"IF(G550=\"\",\"\",IF(RIGHT(F550,4)=\"8000\",VLOOKUP('1-Award Info'!$G$19,Tables!Q:R,2,0)&\"08008000\",VLOOKUP('1-Award Info'!$G$19,Tables!Q:R,2,0)&RIGHT(F550,8)))","v":""},"","",{"$f":"IF('2-Grant Budget'!$EC528=\"\",\"\",'2-Grant Budget'!DX528)","v":""},{"$f":"IF('2-Grant Budget'!$EC528=\"\",\"\",'2-Grant Budget'!DY528)","v":""},null,{"$f":"IF('2-Grant Budget'!$EC528=\"\",\"\",\"FY\"&RIGHT('2-Grant Budget'!EA528,2))","v":""},null,{"$f":"IF('2-Grant Budget'!EC528=\"\",\"\",'2-Grant Budget'!EC528)","v":""},{"$f":"IF('2-Grant Budget'!EE528=\"\",\"\",'2-Grant Budget'!EE528)","v":""}]
[null,{"$f":"IF('2-Grant Budget'!EC529=\"\",\"\",RIGHT('2-Grant Budget'!DW529,2))","v":""},{"$f":"IF(G551=\"\",\"\",IF(RIGHT(F551,4)=\"8000\",VLOOKUP('1-Award Info'!$G$19,Tables!Q:R,2,0)&\"08008000\",VLOOKUP('1-Award Info'!$G$19,Tables!Q:R,2,0)&RIGHT(F551,8)))","v":""},"","",{"$f":"IF('2-Grant Budget'!$EC529=\"\",\"\",'2-Grant Budget'!DX529)","v":""},{"$f":"IF('2-Grant Budget'!$EC529=\"\",\"\",'2-Grant Budget'!DY529)","v":""},null,{"$f":"IF('2-Grant Budget'!$EC529=\"\",\"\",\"FY\"&RIGHT('2-Grant Budget'!EA529,2))","v":""},null,{"$f":"IF('2-Grant Budget'!EC529=\"\",\"\",'2-Grant Budget'!EC529)","v":""},{"$f":"IF('2-Grant Budget'!EE529=\"\",\"\",'2-Grant Budget'!EE529)","v":""}]
[null,{"$f":"IF('2-Grant Budget'!EC530=\"\",\"\",RIGHT('2-Grant Budget'!DW530,2))","v":""},{"$f":"IF(G552=\"\",\"\",IF(RIGHT(F552,4)=\"8000\",VLOOKUP('1-Award Info'!$G$19,Tables!Q:R,2,0)&\"08008000\",VLOOKUP('1-Award Info'!$G$19,Tables!Q:R,2,0)&RIGHT(F552,8)))","v":""},{"$f":"IF(G552=\"\",\"\",IF(LEFT(G552)<>\"9\",LEFT(G552,4),9&RIGHT(G552,3)))","v":""},{"$f":"IF(G552=\"\",\"\",IF(LEFT(G552,1)<>\"9\",0,MID(G552,2,1)))","v":""},{"$f":"IF('2-Grant Budget'!$EC530=\"\",\"\",'2-Grant Budget'!DX530)","v":""},{"$f":"IF('2-Grant Budget'!$EC530=\"\",\"\",'2-Grant Budget'!DY530)","v":""},null,{"$f":"IF('2-Grant Budget'!$EC530=\"\",\"\",\"FY\"&RIGHT('2-Grant Budget'!EA530,2))","v":""},null,{"$f":"IF('2-Grant Budget'!EC530=\"\",\"\",'2-Grant Budget'!EC530)","v":""},{"$f":"IF('2-Grant Budget'!EE530=\"\",\"\",'2-Grant Budget'!EE530)","v":""}]
[null,{"$f":"IF('2-Grant Budget'!EC531=\"\",\"\",RIGHT('2-Grant Budget'!DW531,2))","v":""},{"$f":"IF(G553=\"\",\"\",IF(RIGHT(F553,4)=\"8000\",VLOOKUP('1-Award Info'!$G$19,Tables!Q:R,2,0)&\"08008000\",VLOOKUP('1-Award Info'!$G$19,Tables!Q:R,2,0)&RIGHT(F553,8)))","v":""},"","",{"$f":"IF('2-Grant Budget'!$EC531=\"\",\"\",'2-Grant Budget'!DX531)","v":""},{"$f":"IF('2-Grant Budget'!$EC531=\"\",\"\",'2-Grant Budget'!DY531)","v":""},null,{"$f":"IF('2-Grant Budget'!$EC531=\"\",\"\",\"FY\"&RIGHT('2-Grant Budget'!EA531,2))","v":""},null,{"$f":"IF('2-Grant Budget'!EC531=\"\",\"\",'2-Grant Budget'!EC531)","v":""},{"$f":"IF('2-Grant Budget'!EE531=\"\",\"\",'2-Grant Budget'!EE531)","v":""}]
[null,{"$f":"IF('2-Grant Budget'!EC532=\"\",\"\",RIGHT('2-Grant Budget'!DW532,2))","v":""},{"$f":"IF(G554=\"\",\"\",IF(RIGHT(F554,4)=\"8000\",VLOOKUP('1-Award Info'!$G$19,Tables!Q:R,2,0)&\"08008000\",VLOOKUP('1-Award Info'!$G$19,Tables!Q:R,2,0)&RIGHT(F554,8)))","v":""},"","",{"$f":"IF('2-Grant Budget'!$EC532=\"\",\"\",'2-Grant Budget'!DX532)","v":""},{"$f":"IF('2-Grant Budget'!$EC532=\"\",\"\",'2-Grant Budget'!DY532)","v":""},null,{"$f":"IF('2-Grant Budget'!$EC532=\"\",\"\",\"FY\"&RIGHT('2-Grant Budget'!EA532,2))","v":""},null,{"$f":"IF('2-Grant Budget'!EC532=\"\",\"\",'2-Grant Budget'!EC532)","v":""},{"$f":"IF('2-Grant Budget'!EE532=\"\",\"\",'2-Grant Budget'!EE532)","v":""}]
[null,{"$f":"IF('2-Grant Budget'!EC533=\"\",\"\",RIGHT('2-Grant Budget'!DW533,2))","v":""},{"$f":"IF(G555=\"\",\"\",IF(RIGHT(F555,4)=\"8000\",VLOOKUP('1-Award Info'!$G$19,Tables!Q:R,2,0)&\"08008000\",VLOOKUP('1-Award Info'!$G$19,Tables!Q:R,2,0)&RIGHT(F555,8)))","v":""},"","",{"$f":"IF('2-Grant Budget'!$EC533=\"\",\"\",'2-Grant Budget'!DX533)","v":""},{"$f":"IF('2-Grant Budget'!$EC533=\"\",\"\",'2-Grant Budget'!DY533)","v":""},null,{"$f":"IF('2-Grant Budget'!$EC533=\"\",\"\",\"FY\"&RIGHT('2-Grant Budget'!EA533,2))","v":""},null,{"$f":"IF('2-Grant Budget'!EC533=\"\",\"\",'2-Grant Budget'!EC533)","v":""},{"$f":"IF('2-Grant Budget'!EE533=\"\",\"\",'2-Grant Budget'!EE533)","v":""}]
[null,{"$f":"IF('2-Grant Budget'!EC534=\"\",\"\",RIGHT('2-Grant Budget'!DW534,2))","v":""},{"$f":"IF(G556=\"\",\"\",IF(RIGHT(F556,4)=\"8000\",VLOOKUP('1-Award Info'!$G$19,Tables!Q:R,2,0)&\"08008000\",VLOOKUP('1-Award Info'!$G$19,Tables!Q:R,2,0)&RIGHT(F556,8)))","v":""},"","",{"$f":"IF('2-Grant Budget'!$EC534=\"\",\"\",'2-Grant Budget'!DX534)","v":""},{"$f":"IF('2-Grant Budget'!$EC534=\"\",\"\",'2-Grant Budget'!DY534)","v":""},null,{"$f":"IF('2-Grant Budget'!$EC534=\"\",\"\",\"FY\"&RIGHT('2-Grant Budget'!EA534,2))","v":""},null,{"$f":"IF('2-Grant Budget'!EC534=\"\",\"\",'2-Grant Budget'!EC534)","v":""},{"$f":"IF('2-Grant Budget'!EE534=\"\",\"\",'2-Grant Budget'!EE534)","v":""}]
[null,{"$f":"IF('2-Grant Budget'!EC535=\"\",\"\",RIGHT('2-Grant Budget'!DW535,2))","v":""},{"$f":"IF(G557=\"\",\"\",IF(RIGHT(F557,4)=\"8000\",VLOOKUP('1-Award Info'!$G$19,Tables!Q:R,2,0)&\"08008000\",VLOOKUP('1-Award Info'!$G$19,Tables!Q:R,2,0)&RIGHT(F557,8)))","v":""},"","",{"$f":"IF('2-Grant Budget'!$EC535=\"\",\"\",'2-Grant Budget'!DX535)","v":""},{"$f":"IF('2-Grant Budget'!$EC535=\"\",\"\",'2-Grant Budget'!DY535)","v":""},null,{"$f":"IF('2-Grant Budget'!$EC535=\"\",\"\",\"FY\"&RIGHT('2-Grant Budget'!EA535,2))","v":""},null,{"$f":"IF('2-Grant Budget'!EC535=\"\",\"\",'2-Grant Budget'!EC535)","v":""},{"$f":"IF('2-Grant Budget'!EE535=\"\",\"\",'2-Grant Budget'!EE535)","v":""}]
[null,{"$f":"IF('2-Grant Budget'!EC536=\"\",\"\",RIGHT('2-Grant Budget'!DW536,2))","v":""},{"$f":"IF(G558=\"\",\"\",IF(RIGHT(F558,4)=\"8000\",VLOOKUP('1-Award Info'!$G$19,Tables!Q:R,2,0)&\"08008000\",VLOOKUP('1-Award Info'!$G$19,Tables!Q:R,2,0)&RIGHT(F558,8)))","v":""},"","",{"$f":"IF('2-Grant Budget'!$EC536=\"\",\"\",'2-Grant Budget'!DX536)","v":""},{"$f":"IF('2-Grant Budget'!$EC536=\"\",\"\",'2-Grant Budget'!DY536)","v":""},null,{"$f":"IF('2-Grant Budget'!$EC536=\"\",\"\",\"FY\"&RIGHT('2-Grant Budget'!EA536,2))","v":""},null,{"$f":"IF('2-Grant Budget'!EC536=\"\",\"\",'2-Grant Budget'!EC536)","v":""},{"$f":"IF('2-Grant Budget'!EE536=\"\",\"\",'2-Grant Budget'!EE536)","v":""}]
[null,{"$f":"IF('2-Grant Budget'!EC537=\"\",\"\",RIGHT('2-Grant Budget'!DW537,2))","v":""},{"$f":"IF(G559=\"\",\"\",IF(RIGHT(F559,4)=\"8000\",VLOOKUP('1-Award Info'!$G$19,Tables!Q:R,2,0)&\"08008000\",VLOOKUP('1-Award Info'!$G$19,Tables!Q:R,2,0)&RIGHT(F559,8)))","v":""},"","",{"$f":"IF('2-Grant Budget'!$EC537=\"\",\"\",'2-Grant Budget'!DX537)","v":""},{"$f":"IF('2-Grant Budget'!$EC537=\"\",\"\",'2-Grant Budget'!DY537)","v":""},null,{"$f":"IF('2-Grant Budget'!$EC537=\"\",\"\",\"FY\"&RIGHT('2-Grant Budget'!EA537,2))","v":""},null,{"$f":"IF('2-Grant Budget'!EC537=\"\",\"\",'2-Grant Budget'!EC537)","v":""},{"$f":"IF('2-Grant Budget'!EE537=\"\",\"\",'2-Grant Budget'!EE537)","v":""}]
[null,{"$f":"IF('2-Grant Budget'!EC538=\"\",\"\",RIGHT('2-Grant Budget'!DW538,2))","v":""},{"$f":"IF(G560=\"\",\"\",IF(RIGHT(F560,4)=\"8000\",VLOOKUP('1-Award Info'!$G$19,Tables!Q:R,2,0)&\"08008000\",VLOOKUP('1-Award Info'!$G$19,Tables!Q:R,2,0)&RIGHT(F560,8)))","v":""},"","",{"$f":"IF('2-Grant Budget'!$EC538=\"\",\"\",'2-Grant Budget'!DX538)","v":""},{"$f":"IF('2-Grant Budget'!$EC538=\"\",\"\",'2-Grant Budget'!DY538)","v":""},null,{"$f":"IF('2-Grant Budget'!$EC538=\"\",\"\",\"FY\"&RIGHT('2-Grant Budget'!EA538,2))","v":""},null,{"$f":"IF('2-Grant Budget'!EC538=\"\",\"\",'2-Grant Budget'!EC538)","v":""},{"$f":"IF('2-Grant Budget'!EE538=\"\",\"\",'2-Grant Budget'!EE538)","v":""}]
[null,{"$f":"IF('2-Grant Budget'!EC539=\"\",\"\",RIGHT('2-Grant Budget'!DW539,2))","v":""},{"$f":"IF(G561=\"\",\"\",IF(RIGHT(F561,4)=\"8000\",VLOOKUP('1-Award Info'!$G$19,Tables!Q:R,2,0)&\"08008000\",VLOOKUP('1-Award Info'!$G$19,Tables!Q:R,2,0)&RIGHT(F561,8)))","v":""},"","",{"$f":"IF('2-Grant Budget'!$EC539=\"\",\"\",'2-Grant Budget'!DX539)","v":""},{"$f":"IF('2-Grant Budget'!$EC539=\"\",\"\",'2-Grant Budget'!DY539)","v":""},null,{"$f":"IF('2-Grant Budget'!$EC539=\"\",\"\",\"FY\"&RIGHT('2-Grant Budget'!EA539,2))","v":""},null,{"$f":"IF('2-Grant Budget'!EC539=\"\",\"\",'2-Grant Budget'!EC539)","v":""},{"$f":"IF('2-Grant Budget'!EE539=\"\",\"\",'2-Grant Budget'!EE539)","v":""}]
[null,{"$f":"IF('2-Grant Budget'!EC540=\"\",\"\",RIGHT('2-Grant Budget'!DW540,2))","v":""},{"$f":"IF(G562=\"\",\"\",IF(RIGHT(F562,4)=\"8000\",VLOOKUP('1-Award Info'!$G$19,Tables!Q:R,2,0)&\"08008000\",VLOOKUP('1-Award Info'!$G$19,Tables!Q:R,2,0)&RIGHT(F562,8)))","v":""},"","",{"$f":"IF('2-Grant Budget'!$EC540=\"\",\"\",'2-Grant Budget'!DX540)","v":""},{"$f":"IF('2-Grant Budget'!$EC540=\"\",\"\",'2-Grant Budget'!DY540)","v":""},null,{"$f":"IF('2-Grant Budget'!$EC540=\"\",\"\",\"FY\"&RIGHT('2-Grant Budget'!EA540,2))","v":""},null,{"$f":"IF('2-Grant Budget'!EC540=\"\",\"\",'2-Grant Budget'!EC540)","v":""},{"$f":"IF('2-Grant Budget'!EE540=\"\",\"\",'2-Grant Budget'!EE540)","v":""}]
[null,{"$f":"IF('2-Grant Budget'!EC541=\"\",\"\",RIGHT('2-Grant Budget'!DW541,2))","v":""},{"$f":"IF(G563=\"\",\"\",IF(RIGHT(F563,4)=\"8000\",VLOOKUP('1-Award Info'!$G$19,Tables!Q:R,2,0)&\"08008000\",VLOOKUP('1-Award Info'!$G$19,Tables!Q:R,2,0)&RIGHT(F563,8)))","v":""},"","",{"$f":"IF('2-Grant Budget'!$EC541=\"\",\"\",'2-Grant Budget'!DX541)","v":""},{"$f":"IF('2-Grant Budget'!$EC541=\"\",\"\",'2-Grant Budget'!DY541)","v":""},null,{"$f":"IF('2-Grant Budget'!$EC541=\"\",\"\",\"FY\"&RIGHT('2-Grant Budget'!EA541,2))","v":""},null,{"$f":"IF('2-Grant Budget'!EC541=\"\",\"\",'2-Grant Budget'!EC541)","v":""},{"$f":"IF('2-Grant Budget'!EE541=\"\",\"\",'2-Grant Budget'!EE541)","v":""}]
[null,{"$f":"IF('2-Grant Budget'!EC542=\"\",\"\",RIGHT('2-Grant Budget'!DW542,2))","v":""},{"$f":"IF(G564=\"\",\"\",IF(RIGHT(F564,4)=\"8000\",VLOOKUP('1-Award Info'!$G$19,Tables!Q:R,2,0)&\"08008000\",VLOOKUP('1-Award Info'!$G$19,Tables!Q:R,2,0)&RIGHT(F564,8)))","v":""},"","",{"$f":"IF('2-Grant Budget'!$EC542=\"\",\"\",'2-Grant Budget'!DX542)","v":""},{"$f":"IF('2-Grant Budget'!$EC542=\"\",\"\",'2-Grant Budget'!DY542)","v":""},null,{"$f":"IF('2-Grant Budget'!$EC542=\"\",\"\",\"FY\"&RIGHT('2-Grant Budget'!EA542,2))","v":""},null,{"$f":"IF('2-Grant Budget'!EC542=\"\",\"\",'2-Grant Budget'!EC542)","v":""},{"$f":"IF('2-Grant Budget'!EE542=\"\",\"\",'2-Grant Budget'!EE542)","v":""}]
[null,{"$f":"IF('2-Grant Budget'!EC543=\"\",\"\",RIGHT('2-Grant Budget'!DW543,2))","v":""},{"$f":"IF(G565=\"\",\"\",IF(RIGHT(F565,4)=\"8000\",VLOOKUP('1-Award Info'!$G$19,Tables!Q:R,2,0)&\"08008000\",VLOOKUP('1-Award Info'!$G$19,Tables!Q:R,2,0)&RIGHT(F565,8)))","v":""},"","",{"$f":"IF('2-Grant Budget'!$EC543=\"\",\"\",'2-Grant Budget'!DX543)","v":""},{"$f":"IF('2-Grant Budget'!$EC543=\"\",\"\",'2-Grant Budget'!DY543)","v":""},null,{"$f":"IF('2-Grant Budget'!$EC543=\"\",\"\",\"FY\"&RIGHT('2-Grant Budget'!EA543,2))","v":""},null,{"$f":"IF('2-Grant Budget'!EC543=\"\",\"\",'2-Grant Budget'!EC543)","v":""},{"$f":"IF('2-Grant Budget'!EE543=\"\",\"\",'2-Grant Budget'!EE543)","v":""}]
[null,{"$f":"IF('2-Grant Budget'!EC544=\"\",\"\",RIGHT('2-Grant Budget'!DW544,2))","v":""},{"$f":"IF(G566=\"\",\"\",IF(RIGHT(F566,4)=\"8000\",VLOOKUP('1-Award Info'!$G$19,Tables!Q:R,2,0)&\"08008000\",VLOOKUP('1-Award Info'!$G$19,Tables!Q:R,2,0)&RIGHT(F566,8)))","v":""},"","",{"$f":"IF('2-Grant Budget'!$EC544=\"\",\"\",'2-Grant Budget'!DX544)","v":""},{"$f":"IF('2-Grant Budget'!$EC544=\"\",\"\",'2-Grant Budget'!DY544)","v":""},null,{"$f":"IF('2-Grant Budget'!$EC544=\"\",\"\",\"FY\"&RIGHT('2-Grant Budget'!EA544,2))","v":""},null,{"$f":"IF('2-Grant Budget'!EC544=\"\",\"\",'2-Grant Budget'!EC544)","v":""},{"$f":"IF('2-Grant Budget'!EE544=\"\",\"\",'2-Grant Budget'!EE544)","v":""}]
[null,{"$f":"IF('2-Grant Budget'!EC545=\"\",\"\",RIGHT('2-Grant Budget'!DW545,2))","v":""},{"$f":"IF(G567=\"\",\"\",IF(RIGHT(F567,4)=\"8000\",VLOOKUP('1-Award Info'!$G$19,Tables!Q:R,2,0)&\"08008000\",VLOOKUP('1-Award Info'!$G$19,Tables!Q:R,2,0)&RIGHT(F567,8)))","v":""},"","",{"$f":"IF('2-Grant Budget'!$EC545=\"\",\"\",'2-Grant Budget'!DX545)","v":""},{"$f":"IF('2-Grant Budget'!$EC545=\"\",\"\",'2-Grant Budget'!DY545)","v":""},null,{"$f":"IF('2-Grant Budget'!$EC545=\"\",\"\",\"FY\"&RIGHT('2-Grant Budget'!EA545,2))","v":""},null,{"$f":"IF('2-Grant Budget'!EC545=\"\",\"\",'2-Grant Budget'!EC545)","v":""},{"$f":"IF('2-Grant Budget'!EE545=\"\",\"\",'2-Grant Budget'!EE545)","v":""}]
[null,{"$f":"IF('2-Grant Budget'!EC546=\"\",\"\",RIGHT('2-Grant Budget'!DW546,2))","v":""},{"$f":"IF(G568=\"\",\"\",IF(RIGHT(F568,4)=\"8000\",VLOOKUP('1-Award Info'!$G$19,Tables!Q:R,2,0)&\"08008000\",VLOOKUP('1-Award Info'!$G$19,Tables!Q:R,2,0)&RIGHT(F568,8)))","v":""},"","",{"$f":"IF('2-Grant Budget'!$EC546=\"\",\"\",'2-Grant Budget'!DX546)","v":""},{"$f":"IF('2-Grant Budget'!$EC546=\"\",\"\",'2-Grant Budget'!DY546)","v":""},null,{"$f":"IF('2-Grant Budget'!$EC546=\"\",\"\",\"FY\"&RIGHT('2-Grant Budget'!EA546,2))","v":""},null,{"$f":"IF('2-Grant Budget'!EC546=\"\",\"\",'2-Grant Budget'!EC546)","v":""},{"$f":"IF('2-Grant Budget'!EE546=\"\",\"\",'2-Grant Budget'!EE546)","v":""}]
[null,{"$f":"IF('2-Grant Budget'!EC547=\"\",\"\",RIGHT('2-Grant Budget'!DW547,2))","v":""},{"$f":"IF(G569=\"\",\"\",IF(RIGHT(F569,4)=\"8000\",VLOOKUP('1-Award Info'!$G$19,Tables!Q:R,2,0)&\"08008000\",VLOOKUP('1-Award Info'!$G$19,Tables!Q:R,2,0)&RIGHT(F569,8)))","v":""},"","",{"$f":"IF('2-Grant Budget'!$EC547=\"\",\"\",'2-Grant Budget'!DX547)","v":""},{"$f":"IF('2-Grant Budget'!$EC547=\"\",\"\",'2-Grant Budget'!DY547)","v":""},null,{"$f":"IF('2-Grant Budget'!$EC547=\"\",\"\",\"FY\"&RIGHT('2-Grant Budget'!EA547,2))","v":""},null,{"$f":"IF('2-Grant Budget'!EC547=\"\",\"\",'2-Grant Budget'!EC547)","v":""},{"$f":"IF('2-Grant Budget'!EE547=\"\",\"\",'2-Grant Budget'!EE547)","v":""}]
[null,{"$f":"IF('2-Grant Budget'!EC548=\"\",\"\",RIGHT('2-Grant Budget'!DW548,2))","v":""},{"$f":"IF(G570=\"\",\"\",IF(RIGHT(F570,4)=\"8000\",VLOOKUP('1-Award Info'!$G$19,Tables!Q:R,2,0)&\"08008000\",VLOOKUP('1-Award Info'!$G$19,Tables!Q:R,2,0)&RIGHT(F570,8)))","v":""},"","",{"$f":"IF('2-Grant Budget'!$EC548=\"\",\"\",'2-Grant Budget'!DX548)","v":""},{"$f":"IF('2-Grant Budget'!$EC548=\"\",\"\",'2-Grant Budget'!DY548)","v":""},null,{"$f":"IF('2-Grant Budget'!$EC548=\"\",\"\",\"FY\"&RIGHT('2-Grant Budget'!EA548,2))","v":""},null,{"$f":"IF('2-Grant Budget'!EC548=\"\",\"\",'2-Grant Budget'!EC548)","v":""},{"$f":"IF('2-Grant Budget'!EE548=\"\",\"\",'2-Grant Budget'!EE548)","v":""}]
[null,{"$f":"IF('2-Grant Budget'!EC549=\"\",\"\",RIGHT('2-Grant Budget'!DW549,2))","v":""},{"$f":"IF(G571=\"\",\"\",IF(RIGHT(F571,4)=\"8000\",VLOOKUP('1-Award Info'!$G$19,Tables!Q:R,2,0)&\"08008000\",VLOOKUP('1-Award Info'!$G$19,Tables!Q:R,2,0)&RIGHT(F571,8)))","v":""},"","",{"$f":"IF('2-Grant Budget'!$EC549=\"\",\"\",'2-Grant Budget'!DX549)","v":""},{"$f":"IF('2-Grant Budget'!$EC549=\"\",\"\",'2-Grant Budget'!DY549)","v":""},null,{"$f":"IF('2-Grant Budget'!$EC549=\"\",\"\",\"FY\"&RIGHT('2-Grant Budget'!EA549,2))","v":""},null,{"$f":"IF('2-Grant Budget'!EC549=\"\",\"\",'2-Grant Budget'!EC549)","v":""},{"$f":"IF('2-Grant Budget'!EE549=\"\",\"\",'2-Grant Budget'!EE549)","v":""}]
[null,{"$f":"IF('2-Grant Budget'!EC550=\"\",\"\",RIGHT('2-Grant Budget'!DW550,2))","v":""},{"$f":"IF(G572=\"\",\"\",IF(RIGHT(F572,4)=\"8000\",VLOOKUP('1-Award Info'!$G$19,Tables!Q:R,2,0)&\"08008000\",VLOOKUP('1-Award Info'!$G$19,Tables!Q:R,2,0)&RIGHT(F572,8)))","v":""},"","",{"$f":"IF('2-Grant Budget'!$EC550=\"\",\"\",'2-Grant Budget'!DX550)","v":""},{"$f":"IF('2-Grant Budget'!$EC550=\"\",\"\",'2-Grant Budget'!DY550)","v":""},null,{"$f":"IF('2-Grant Budget'!$EC550=\"\",\"\",\"FY\"&RIGHT('2-Grant Budget'!EA550,2))","v":""},null,{"$f":"IF('2-Grant Budget'!EC550=\"\",\"\",'2-Grant Budget'!EC550)","v":""},{"$f":"IF('2-Grant Budget'!EE550=\"\",\"\",'2-Grant Budget'!EE550)","v":""}]
[null,{"$f":"IF('2-Grant Budget'!EC551=\"\",\"\",RIGHT('2-Grant Budget'!DW551,2))","v":""},{"$f":"IF(G573=\"\",\"\",IF(RIGHT(F573,4)=\"8000\",VLOOKUP('1-Award Info'!$G$19,Tables!Q:R,2,0)&\"08008000\",VLOOKUP('1-Award Info'!$G$19,Tables!Q:R,2,0)&RIGHT(F573,8)))","v":""},"","",{"$f":"IF('2-Grant Budget'!$EC551=\"\",\"\",'2-Grant Budget'!DX551)","v":""},{"$f":"IF('2-Grant Budget'!$EC551=\"\",\"\",'2-Grant Budget'!DY551)","v":""},null,{"$f":"IF('2-Grant Budget'!$EC551=\"\",\"\",\"FY\"&RIGHT('2-Grant Budget'!EA551,2))","v":""},null,{"$f":"IF('2-Grant Budget'!EC551=\"\",\"\",'2-Grant Budget'!EC551)","v":""},{"$f":"IF('2-Grant Budget'!EE551=\"\",\"\",'2-Grant Budget'!EE551)","v":""}]
[null,{"$f":"IF('2-Grant Budget'!EC552=\"\",\"\",RIGHT('2-Grant Budget'!DW552,2))","v":""},{"$f":"IF(G574=\"\",\"\",IF(RIGHT(F574,4)=\"8000\",VLOOKUP('1-Award Info'!$G$19,Tables!Q:R,2,0)&\"08008000\",VLOOKUP('1-Award Info'!$G$19,Tables!Q:R,2,0)&RIGHT(F574,8)))","v":""},"","",{"$f":"IF('2-Grant Budget'!$EC552=\"\",\"\",'2-Grant Budget'!DX552)","v":""},{"$f":"IF('2-Grant Budget'!$EC552=\"\",\"\",'2-Grant Budget'!DY552)","v":""},null,{"$f":"IF('2-Grant Budget'!$EC552=\"\",\"\",\"FY\"&RIGHT('2-Grant Budget'!EA552,2))","v":""},null,{"$f":"IF('2-Grant Budget'!EC552=\"\",\"\",'2-Grant Budget'!EC552)","v":""},{"$f":"IF('2-Grant Budget'!EE552=\"\",\"\",'2-Grant Budget'!EE552)","v":""}]
[null,{"$f":"IF('2-Grant Budget'!EC553=\"\",\"\",RIGHT('2-Grant Budget'!DW553,2))","v":""},{"$f":"IF(G575=\"\",\"\",IF(RIGHT(F575,4)=\"8000\",VLOOKUP('1-Award Info'!$G$19,Tables!Q:R,2,0)&\"08008000\",VLOOKUP('1-Award Info'!$G$19,Tables!Q:R,2,0)&RIGHT(F575,8)))","v":""},"","",{"$f":"IF('2-Grant Budget'!$EC553=\"\",\"\",'2-Grant Budget'!DX553)","v":""},{"$f":"IF('2-Grant Budget'!$EC553=\"\",\"\",'2-Grant Budget'!DY553)","v":""},null,{"$f":"IF('2-Grant Budget'!$EC553=\"\",\"\",\"FY\"&RIGHT('2-Grant Budget'!EA553,2))","v":""},null,{"$f":"IF('2-Grant Budget'!EC553=\"\",\"\",'2-Grant Budget'!EC553)","v":""},{"$f":"IF('2-Grant Budget'!EE553=\"\",\"\",'2-Grant Budget'!EE553)","v":""}]
[null,{"$f":"IF('2-Grant Budget'!EC554=\"\",\"\",RIGHT('2-Grant Budget'!DW554,2))","v":""},{"$f":"IF(G576=\"\",\"\",IF(RIGHT(F576,4)=\"8000\",VLOOKUP('1-Award Info'!$G$19,Tables!Q:R,2,0)&\"08008000\",VLOOKUP('1-Award Info'!$G$19,Tables!Q:R,2,0)&RIGHT(F576,8)))","v":""},"","",{"$f":"IF('2-Grant Budget'!$EC554=\"\",\"\",'2-Grant Budget'!DX554)","v":""},{"$f":"IF('2-Grant Budget'!$EC554=\"\",\"\",'2-Grant Budget'!DY554)","v":""},null,{"$f":"IF('2-Grant Budget'!$EC554=\"\",\"\",\"FY\"&RIGHT('2-Grant Budget'!EA554,2))","v":""},null,{"$f":"IF('2-Grant Budget'!EC554=\"\",\"\",'2-Grant Budget'!EC554)","v":""},{"$f":"IF('2-Grant Budget'!EE554=\"\",\"\",'2-Grant Budget'!EE554)","v":""}]
[null,{"$f":"IF('2-Grant Budget'!EC555=\"\",\"\",RIGHT('2-Grant Budget'!DW555,2))","v":""},{"$f":"IF(G577=\"\",\"\",IF(RIGHT(F577,4)=\"8000\",VLOOKUP('1-Award Info'!$G$19,Tables!Q:R,2,0)&\"08008000\",VLOOKUP('1-Award Info'!$G$19,Tables!Q:R,2,0)&RIGHT(F577,8)))","v":""},"","",{"$f":"IF('2-Grant Budget'!$EC555=\"\",\"\",'2-Grant Budget'!DX555)","v":""},{"$f":"IF('2-Grant Budget'!$EC555=\"\",\"\",'2-Grant Budget'!DY555)","v":""},null,{"$f":"IF('2-Grant Budget'!$EC555=\"\",\"\",\"FY\"&RIGHT('2-Grant Budget'!EA555,2))","v":""},null,{"$f":"IF('2-Grant Budget'!EC555=\"\",\"\",'2-Grant Budget'!EC555)","v":""},{"$f":"IF('2-Grant Budget'!EE555=\"\",\"\",'2-Grant Budget'!EE555)","v":""}]
[null,{"$f":"IF('2-Grant Budget'!EC556=\"\",\"\",RIGHT('2-Grant Budget'!DW556,2))","v":""},{"$f":"IF(G578=\"\",\"\",IF(RIGHT(F578,4)=\"8000\",VLOOKUP('1-Award Info'!$G$19,Tables!Q:R,2,0)&\"08008000\",VLOOKUP('1-Award Info'!$G$19,Tables!Q:R,2,0)&RIGHT(F578,8)))","v":""},"","",{"$f":"IF('2-Grant Budget'!$EC556=\"\",\"\",'2-Grant Budget'!DX556)","v":""},{"$f":"IF('2-Grant Budget'!$EC556=\"\",\"\",'2-Grant Budget'!DY556)","v":""},null,{"$f":"IF('2-Grant Budget'!$EC556=\"\",\"\",\"FY\"&RIGHT('2-Grant Budget'!EA556,2))","v":""},null,{"$f":"IF('2-Grant Budget'!EC556=\"\",\"\",'2-Grant Budget'!EC556)","v":""},{"$f":"IF('2-Grant Budget'!EE556=\"\",\"\",'2-Grant Budget'!EE556)","v":""}]
[null,{"$f":"IF('2-Grant Budget'!EC557=\"\",\"\",RIGHT('2-Grant Budget'!DW557,2))","v":""},{"$f":"IF(G579=\"\",\"\",IF(RIGHT(F579,4)=\"8000\",VLOOKUP('1-Award Info'!$G$19,Tables!Q:R,2,0)&\"08008000\",VLOOKUP('1-Award Info'!$G$19,Tables!Q:R,2,0)&RIGHT(F579,8)))","v":""},"","",{"$f":"IF('2-Grant Budget'!$EC557=\"\",\"\",'2-Grant Budget'!DX557)","v":""},{"$f":"IF('2-Grant Budget'!$EC557=\"\",\"\",'2-Grant Budget'!DY557)","v":""},null,{"$f":"IF('2-Grant Budget'!$EC557=\"\",\"\",\"FY\"&RIGHT('2-Grant Budget'!EA557,2))","v":""},null,{"$f":"IF('2-Grant Budget'!EC557=\"\",\"\",'2-Grant Budget'!EC557)","v":""},{"$f":"IF('2-Grant Budget'!EE557=\"\",\"\",'2-Grant Budget'!EE557)","v":""}]
[null,{"$f":"IF('2-Grant Budget'!EC558=\"\",\"\",RIGHT('2-Grant Budget'!DW558,2))","v":""},{"$f":"IF(G580=\"\",\"\",IF(RIGHT(F580,4)=\"8000\",VLOOKUP('1-Award Info'!$G$19,Tables!Q:R,2,0)&\"08008000\",VLOOKUP('1-Award Info'!$G$19,Tables!Q:R,2,0)&RIGHT(F580,8)))","v":""},"","",{"$f":"IF('2-Grant Budget'!$EC558=\"\",\"\",'2-Grant Budget'!DX558)","v":""},{"$f":"IF('2-Grant Budget'!$EC558=\"\",\"\",'2-Grant Budget'!DY558)","v":""},null,{"$f":"IF('2-Grant Budget'!$EC558=\"\",\"\",\"FY\"&RIGHT('2-Grant Budget'!EA558,2))","v":""},null,{"$f":"IF('2-Grant Budget'!EC558=\"\",\"\",'2-Grant Budget'!EC558)","v":""},{"$f":"IF('2-Grant Budget'!EE558=\"\",\"\",'2-Grant Budget'!EE558)","v":""}]
[null,{"$f":"IF('2-Grant Budget'!EC559=\"\",\"\",RIGHT('2-Grant Budget'!DW559,2))","v":""},{"$f":"IF(G581=\"\",\"\",IF(RIGHT(F581,4)=\"8000\",VLOOKUP('1-Award Info'!$G$19,Tables!Q:R,2,0)&\"08008000\",VLOOKUP('1-Award Info'!$G$19,Tables!Q:R,2,0)&RIGHT(F581,8)))","v":""},"","",{"$f":"IF('2-Grant Budget'!$EC559=\"\",\"\",'2-Grant Budget'!DX559)","v":""},{"$f":"IF('2-Grant Budget'!$EC559=\"\",\"\",'2-Grant Budget'!DY559)","v":""},null,{"$f":"IF('2-Grant Budget'!$EC559=\"\",\"\",\"FY\"&RIGHT('2-Grant Budget'!EA559,2))","v":""},null,{"$f":"IF('2-Grant Budget'!EC559=\"\",\"\",'2-Grant Budget'!EC559)","v":""},{"$f":"IF('2-Grant Budget'!EE559=\"\",\"\",'2-Grant Budget'!EE559)","v":""}]
[null,{"$f":"IF('2-Grant Budget'!EC560=\"\",\"\",RIGHT('2-Grant Budget'!DW560,2))","v":""},{"$f":"IF(G582=\"\",\"\",IF(RIGHT(F582,4)=\"8000\",VLOOKUP('1-Award Info'!$G$19,Tables!Q:R,2,0)&\"08008000\",VLOOKUP('1-Award Info'!$G$19,Tables!Q:R,2,0)&RIGHT(F582,8)))","v":""},"","",{"$f":"IF('2-Grant Budget'!$EC560=\"\",\"\",'2-Grant Budget'!DX560)","v":""},{"$f":"IF('2-Grant Budget'!$EC560=\"\",\"\",'2-Grant Budget'!DY560)","v":""},null,{"$f":"IF('2-Grant Budget'!$EC560=\"\",\"\",\"FY\"&RIGHT('2-Grant Budget'!EA560,2))","v":""},null,{"$f":"IF('2-Grant Budget'!EC560=\"\",\"\",'2-Grant Budget'!EC560)","v":""},{"$f":"IF('2-Grant Budget'!EE560=\"\",\"\",'2-Grant Budget'!EE560)","v":""}]
[null,{"$f":"IF('2-Grant Budget'!EC561=\"\",\"\",RIGHT('2-Grant Budget'!DW561,2))","v":""},{"$f":"IF(G583=\"\",\"\",IF(RIGHT(F583,4)=\"8000\",VLOOKUP('1-Award Info'!$G$19,Tables!Q:R,2,0)&\"08008000\",VLOOKUP('1-Award Info'!$G$19,Tables!Q:R,2,0)&RIGHT(F583,8)))","v":""},"","",{"$f":"IF('2-Grant Budget'!$EC561=\"\",\"\",'2-Grant Budget'!DX561)","v":""},{"$f":"IF('2-Grant Budget'!$EC561=\"\",\"\",'2-Grant Budget'!DY561)","v":""},null,{"$f":"IF('2-Grant Budget'!$EC561=\"\",\"\",\"FY\"&RIGHT('2-Grant Budget'!EA561,2))","v":""},null,{"$f":"IF('2-Grant Budget'!EC561=\"\",\"\",'2-Grant Budget'!EC561)","v":""},{"$f":"IF('2-Grant Budget'!EE561=\"\",\"\",'2-Grant Budget'!EE561)","v":""}]
[null,{"$f":"IF('2-Grant Budget'!EC562=\"\",\"\",RIGHT('2-Grant Budget'!DW562,2))","v":""},{"$f":"IF(G584=\"\",\"\",IF(RIGHT(F584,4)=\"8000\",VLOOKUP('1-Award Info'!$G$19,Tables!Q:R,2,0)&\"08008000\",VLOOKUP('1-Award Info'!$G$19,Tables!Q:R,2,0)&RIGHT(F584,8)))","v":""},"","",{"$f":"IF('2-Grant Budget'!$EC562=\"\",\"\",'2-Grant Budget'!DX562)","v":""},{"$f":"IF('2-Grant Budget'!$EC562=\"\",\"\",'2-Grant Budget'!DY562)","v":""},null,{"$f":"IF('2-Grant Budget'!$EC562=\"\",\"\",\"FY\"&RIGHT('2-Grant Budget'!EA562,2))","v":""},null,{"$f":"IF('2-Grant Budget'!EC562=\"\",\"\",'2-Grant Budget'!EC562)","v":""},{"$f":"IF('2-Grant Budget'!EE562=\"\",\"\",'2-Grant Budget'!EE562)","v":""}]
[null,{"$f":"IF('2-Grant Budget'!EC563=\"\",\"\",RIGHT('2-Grant Budget'!DW563,2))","v":""},{"$f":"IF(G585=\"\",\"\",IF(RIGHT(F585,4)=\"8000\",VLOOKUP('1-Award Info'!$G$19,Tables!Q:R,2,0)&\"08008000\",VLOOKUP('1-Award Info'!$G$19,Tables!Q:R,2,0)&RIGHT(F585,8)))","v":""},"","",{"$f":"IF('2-Grant Budget'!$EC563=\"\",\"\",'2-Grant Budget'!DX563)","v":""},{"$f":"IF('2-Grant Budget'!$EC563=\"\",\"\",'2-Grant Budget'!DY563)","v":""},null,{"$f":"IF('2-Grant Budget'!$EC563=\"\",\"\",\"FY\"&RIGHT('2-Grant Budget'!EA563,2))","v":""},null,{"$f":"IF('2-Grant Budget'!EC563=\"\",\"\",'2-Grant Budget'!EC563)","v":""},{"$f":"IF('2-Grant Budget'!EE563=\"\",\"\",'2-Grant Budget'!EE563)","v":""}]
[null,{"$f":"IF('2-Grant Budget'!EC564=\"\",\"\",RIGHT('2-Grant Budget'!DW564,2))","v":""},{"$f":"IF(G586=\"\",\"\",IF(RIGHT(F586,4)=\"8000\",VLOOKUP('1-Award Info'!$G$19,Tables!Q:R,2,0)&\"08008000\",VLOOKUP('1-Award Info'!$G$19,Tables!Q:R,2,0)&RIGHT(F586,8)))","v":""},"","",{"$f":"IF('2-Grant Budget'!$EC564=\"\",\"\",'2-Grant Budget'!DX564)","v":""},{"$f":"IF('2-Grant Budget'!$EC564=\"\",\"\",'2-Grant Budget'!DY564)","v":""},null,{"$f":"IF('2-Grant Budget'!$EC564=\"\",\"\",\"FY\"&RIGHT('2-Grant Budget'!EA564,2))","v":""},null,{"$f":"IF('2-Grant Budget'!EC564=\"\",\"\",'2-Grant Budget'!EC564)","v":""},{"$f":"IF('2-Grant Budget'!EE564=\"\",\"\",'2-Grant Budget'!EE564)","v":""}]
[null,{"$f":"IF('2-Grant Budget'!EC565=\"\",\"\",RIGHT('2-Grant Budget'!DW565,2))","v":""},{"$f":"IF(G587=\"\",\"\",IF(RIGHT(F587,4)=\"8000\",VLOOKUP('1-Award Info'!$G$19,Tables!Q:R,2,0)&\"08008000\",VLOOKUP('1-Award Info'!$G$19,Tables!Q:R,2,0)&RIGHT(F587,8)))","v":""},"","",{"$f":"IF('2-Grant Budget'!$EC565=\"\",\"\",'2-Grant Budget'!DX565)","v":""},{"$f":"IF('2-Grant Budget'!$EC565=\"\",\"\",'2-Grant Budget'!DY565)","v":""},null,{"$f":"IF('2-Grant Budget'!$EC565=\"\",\"\",\"FY\"&RIGHT('2-Grant Budget'!EA565,2))","v":""},null,{"$f":"IF('2-Grant Budget'!EC565=\"\",\"\",'2-Grant Budget'!EC565)","v":""},{"$f":"IF('2-Grant Budget'!EE565=\"\",\"\",'2-Grant Budget'!EE565)","v":""}]
[null,{"$f":"IF('2-Grant Budget'!EC566=\"\",\"\",RIGHT('2-Grant Budget'!DW566,2))","v":""},{"$f":"IF(G588=\"\",\"\",IF(RIGHT(F588,4)=\"8000\",VLOOKUP('1-Award Info'!$G$19,Tables!Q:R,2,0)&\"08008000\",VLOOKUP('1-Award Info'!$G$19,Tables!Q:R,2,0)&RIGHT(F588,8)))","v":""},"","",{"$f":"IF('2-Grant Budget'!$EC566=\"\",\"\",'2-Grant Budget'!DX566)","v":""},{"$f":"IF('2-Grant Budget'!$EC566=\"\",\"\",'2-Grant Budget'!DY566)","v":""},null,{"$f":"IF('2-Grant Budget'!$EC566=\"\",\"\",\"FY\"&RIGHT('2-Grant Budget'!EA566,2))","v":""},null,{"$f":"IF('2-Grant Budget'!EC566=\"\",\"\",'2-Grant Budget'!EC566)","v":""},{"$f":"IF('2-Grant Budget'!EE566=\"\",\"\",'2-Grant Budget'!EE566)","v":""}]
[null,{"$f":"IF('2-Grant Budget'!EC567=\"\",\"\",RIGHT('2-Grant Budget'!DW567,2))","v":""},{"$f":"IF(G589=\"\",\"\",IF(RIGHT(F589,4)=\"8000\",VLOOKUP('1-Award Info'!$G$19,Tables!Q:R,2,0)&\"08008000\",VLOOKUP('1-Award Info'!$G$19,Tables!Q:R,2,0)&RIGHT(F589,8)))","v":""},"","",{"$f":"IF('2-Grant Budget'!$EC567=\"\",\"\",'2-Grant Budget'!DX567)","v":""},{"$f":"IF('2-Grant Budget'!$EC567=\"\",\"\",'2-Grant Budget'!DY567)","v":""},null,{"$f":"IF('2-Grant Budget'!$EC567=\"\",\"\",\"FY\"&RIGHT('2-Grant Budget'!EA567,2))","v":""},null,{"$f":"IF('2-Grant Budget'!EC567=\"\",\"\",'2-Grant Budget'!EC567)","v":""},{"$f":"IF('2-Grant Budget'!EE567=\"\",\"\",'2-Grant Budget'!EE567)","v":""}]
[null,{"$f":"IF('2-Grant Budget'!EC568=\"\",\"\",RIGHT('2-Grant Budget'!DW568,2))","v":""},{"$f":"IF(G590=\"\",\"\",IF(RIGHT(F590,4)=\"8000\",VLOOKUP('1-Award Info'!$G$19,Tables!Q:R,2,0)&\"08008000\",VLOOKUP('1-Award Info'!$G$19,Tables!Q:R,2,0)&RIGHT(F590,8)))","v":""},"","",{"$f":"IF('2-Grant Budget'!$EC568=\"\",\"\",'2-Grant Budget'!DX568)","v":""},{"$f":"IF('2-Grant Budget'!$EC568=\"\",\"\",'2-Grant Budget'!DY568)","v":""},null,{"$f":"IF('2-Grant Budget'!$EC568=\"\",\"\",\"FY\"&RIGHT('2-Grant Budget'!EA568,2))","v":""},null,{"$f":"IF('2-Grant Budget'!EC568=\"\",\"\",'2-Grant Budget'!EC568)","v":""},{"$f":"IF('2-Grant Budget'!EE568=\"\",\"\",'2-Grant Budget'!EE568)","v":""}]
[null,{"$f":"IF('2-Grant Budget'!EC569=\"\",\"\",RIGHT('2-Grant Budget'!DW569,2))","v":""},{"$f":"IF(G591=\"\",\"\",IF(RIGHT(F591,4)=\"8000\",VLOOKUP('1-Award Info'!$G$19,Tables!Q:R,2,0)&\"08008000\",VLOOKUP('1-Award Info'!$G$19,Tables!Q:R,2,0)&RIGHT(F591,8)))","v":""},"","",{"$f":"IF('2-Grant Budget'!$EC569=\"\",\"\",'2-Grant Budget'!DX569)","v":""},{"$f":"IF('2-Grant Budget'!$EC569=\"\",\"\",'2-Grant Budget'!DY569)","v":""},null,{"$f":"IF('2-Grant Budget'!$EC569=\"\",\"\",\"FY\"&RIGHT('2-Grant Budget'!EA569,2))","v":""},null,{"$f":"IF('2-Grant Budget'!EC569=\"\",\"\",'2-Grant Budget'!EC569)","v":""},{"$f":"IF('2-Grant Budget'!EE569=\"\",\"\",'2-Grant Budget'!EE569)","v":""}]
[null,{"$f":"IF('2-Grant Budget'!EC570=\"\",\"\",RIGHT('2-Grant Budget'!DW570,2))","v":""},{"$f":"IF(G592=\"\",\"\",IF(RIGHT(F592,4)=\"8000\",VLOOKUP('1-Award Info'!$G$19,Tables!Q:R,2,0)&\"08008000\",VLOOKUP('1-Award Info'!$G$19,Tables!Q:R,2,0)&RIGHT(F592,8)))","v":""},"","",{"$f":"IF('2-Grant Budget'!$EC570=\"\",\"\",'2-Grant Budget'!DX570)","v":""},{"$f":"IF('2-Grant Budget'!$EC570=\"\",\"\",'2-Grant Budget'!DY570)","v":""},null,{"$f":"IF('2-Grant Budget'!$EC570=\"\",\"\",\"FY\"&RIGHT('2-Grant Budget'!EA570,2))","v":""},null,{"$f":"IF('2-Grant Budget'!EC570=\"\",\"\",'2-Grant Budget'!EC570)","v":""},{"$f":"IF('2-Grant Budget'!EE570=\"\",\"\",'2-Grant Budget'!EE570)","v":""}]
[null,{"$f":"IF('2-Grant Budget'!EC571=\"\",\"\",RIGHT('2-Grant Budget'!DW571,2))","v":""},{"$f":"IF(G593=\"\",\"\",IF(RIGHT(F593,4)=\"8000\",VLOOKUP('1-Award Info'!$G$19,Tables!Q:R,2,0)&\"08008000\",VLOOKUP('1-Award Info'!$G$19,Tables!Q:R,2,0)&RIGHT(F593,8)))","v":""},"","",{"$f":"IF('2-Grant Budget'!$EC571=\"\",\"\",'2-Grant Budget'!DX571)","v":""},{"$f":"IF('2-Grant Budget'!$EC571=\"\",\"\",'2-Grant Budget'!DY571)","v":""},null,{"$f":"IF('2-Grant Budget'!$EC571=\"\",\"\",\"FY\"&RIGHT('2-Grant Budget'!EA571,2))","v":""},null,{"$f":"IF('2-Grant Budget'!EC571=\"\",\"\",'2-Grant Budget'!EC571)","v":""},{"$f":"IF('2-Grant Budget'!EE571=\"\",\"\",'2-Grant Budget'!EE571)","v":""}]
[null,{"$f":"IF('2-Grant Budget'!EC572=\"\",\"\",RIGHT('2-Grant Budget'!DW572,2))","v":""},{"$f":"IF(G594=\"\",\"\",IF(RIGHT(F594,4)=\"8000\",VLOOKUP('1-Award Info'!$G$19,Tables!Q:R,2,0)&\"08008000\",VLOOKUP('1-Award Info'!$G$19,Tables!Q:R,2,0)&RIGHT(F594,8)))","v":""},"","",{"$f":"IF('2-Grant Budget'!$EC572=\"\",\"\",'2-Grant Budget'!DX572)","v":""},{"$f":"IF('2-Grant Budget'!$EC572=\"\",\"\",'2-Grant Budget'!DY572)","v":""},null,{"$f":"IF('2-Grant Budget'!$EC572=\"\",\"\",\"FY\"&RIGHT('2-Grant Budget'!EA572,2))","v":""},null,{"$f":"IF('2-Grant Budget'!EC572=\"\",\"\",'2-Grant Budget'!EC572)","v":""},{"$f":"IF('2-Grant Budget'!EE572=\"\",\"\",'2-Grant Budget'!EE572)","v":""}]
[null,{"$f":"IF('2-Grant Budget'!EC573=\"\",\"\",RIGHT('2-Grant Budget'!DW573,2))","v":""},{"$f":"IF(G595=\"\",\"\",IF(RIGHT(F595,4)=\"8000\",VLOOKUP('1-Award Info'!$G$19,Tables!Q:R,2,0)&\"08008000\",VLOOKUP('1-Award Info'!$G$19,Tables!Q:R,2,0)&RIGHT(F595,8)))","v":""},"","",{"$f":"IF('2-Grant Budget'!$EC573=\"\",\"\",'2-Grant Budget'!DX573)","v":""},{"$f":"IF('2-Grant Budget'!$EC573=\"\",\"\",'2-Grant Budget'!DY573)","v":""},null,{"$f":"IF('2-Grant Budget'!$EC573=\"\",\"\",\"FY\"&RIGHT('2-Grant Budget'!EA573,2))","v":""},null,{"$f":"IF('2-Grant Budget'!EC573=\"\",\"\",'2-Grant Budget'!EC573)","v":""},{"$f":"IF('2-Grant Budget'!EE573=\"\",\"\",'2-Grant Budget'!EE573)","v":""}]
[null,{"$f":"IF('2-Grant Budget'!EC574=\"\",\"\",RIGHT('2-Grant Budget'!DW574,2))","v":""},{"$f":"IF(G596=\"\",\"\",IF(RIGHT(F596,4)=\"8000\",VLOOKUP('1-Award Info'!$G$19,Tables!Q:R,2,0)&\"08008000\",VLOOKUP('1-Award Info'!$G$19,Tables!Q:R,2,0)&RIGHT(F596,8)))","v":""},"","",{"$f":"IF('2-Grant Budget'!$EC574=\"\",\"\",'2-Grant Budget'!DX574)","v":""},{"$f":"IF('2-Grant Budget'!$EC574=\"\",\"\",'2-Grant Budget'!DY574)","v":""},null,{"$f":"IF('2-Grant Budget'!$EC574=\"\",\"\",\"FY\"&RIGHT('2-Grant Budget'!EA574,2))","v":""},null,{"$f":"IF('2-Grant Budget'!EC574=\"\",\"\",'2-Grant Budget'!EC574)","v":""},{"$f":"IF('2-Grant Budget'!EE574=\"\",\"\",'2-Grant Budget'!EE574)","v":""}]
[null,{"$f":"IF('2-Grant Budget'!EC575=\"\",\"\",RIGHT('2-Grant Budget'!DW575,2))","v":""},{"$f":"IF(G597=\"\",\"\",IF(RIGHT(F597,4)=\"8000\",VLOOKUP('1-Award Info'!$G$19,Tables!Q:R,2,0)&\"08008000\",VLOOKUP('1-Award Info'!$G$19,Tables!Q:R,2,0)&RIGHT(F597,8)))","v":""},"","",{"$f":"IF('2-Grant Budget'!$EC575=\"\",\"\",'2-Grant Budget'!DX575)","v":""},{"$f":"IF('2-Grant Budget'!$EC575=\"\",\"\",'2-Grant Budget'!DY575)","v":""},null,{"$f":"IF('2-Grant Budget'!$EC575=\"\",\"\",\"FY\"&RIGHT('2-Grant Budget'!EA575,2))","v":""},null,{"$f":"IF('2-Grant Budget'!EC575=\"\",\"\",'2-Grant Budget'!EC575)","v":""},{"$f":"IF('2-Grant Budget'!EE575=\"\",\"\",'2-Grant Budget'!EE575)","v":""}]
[null,{"$f":"IF('2-Grant Budget'!EC576=\"\",\"\",RIGHT('2-Grant Budget'!DW576,2))","v":""},{"$f":"IF(G598=\"\",\"\",IF(RIGHT(F598,4)=\"8000\",VLOOKUP('1-Award Info'!$G$19,Tables!Q:R,2,0)&\"08008000\",VLOOKUP('1-Award Info'!$G$19,Tables!Q:R,2,0)&RIGHT(F598,8)))","v":""},"","",{"$f":"IF('2-Grant Budget'!$EC576=\"\",\"\",'2-Grant Budget'!DX576)","v":""},{"$f":"IF('2-Grant Budget'!$EC576=\"\",\"\",'2-Grant Budget'!DY576)","v":""},null,{"$f":"IF('2-Grant Budget'!$EC576=\"\",\"\",\"FY\"&RIGHT('2-Grant Budget'!EA576,2))","v":""},null,{"$f":"IF('2-Grant Budget'!EC576=\"\",\"\",'2-Grant Budget'!EC576)","v":""},{"$f":"IF('2-Grant Budget'!EE576=\"\",\"\",'2-Grant Budget'!EE576)","v":""}]
[null,{"$f":"IF('2-Grant Budget'!EC577=\"\",\"\",RIGHT('2-Grant Budget'!DW577,2))","v":""},{"$f":"IF(G599=\"\",\"\",IF(RIGHT(F599,4)=\"8000\",VLOOKUP('1-Award Info'!$G$19,Tables!Q:R,2,0)&\"08008000\",VLOOKUP('1-Award Info'!$G$19,Tables!Q:R,2,0)&RIGHT(F599,8)))","v":""},"","",{"$f":"IF('2-Grant Budget'!$EC577=\"\",\"\",'2-Grant Budget'!DX577)","v":""},{"$f":"IF('2-Grant Budget'!$EC577=\"\",\"\",'2-Grant Budget'!DY577)","v":""},null,{"$f":"IF('2-Grant Budget'!$EC577=\"\",\"\",\"FY\"&RIGHT('2-Grant Budget'!EA577,2))","v":""},null,{"$f":"IF('2-Grant Budget'!EC577=\"\",\"\",'2-Grant Budget'!EC577)","v":""},{"$f":"IF('2-Grant Budget'!EE577=\"\",\"\",'2-Grant Budget'!EE577)","v":""}]
[null,{"$f":"IF('2-Grant Budget'!EC578=\"\",\"\",RIGHT('2-Grant Budget'!DW578,2))","v":""},{"$f":"IF(G600=\"\",\"\",IF(RIGHT(F600,4)=\"8000\",VLOOKUP('1-Award Info'!$G$19,Tables!Q:R,2,0)&\"08008000\",VLOOKUP('1-Award Info'!$G$19,Tables!Q:R,2,0)&RIGHT(F600,8)))","v":""},"","",{"$f":"IF('2-Grant Budget'!$EC578=\"\",\"\",'2-Grant Budget'!DX578)","v":""},{"$f":"IF('2-Grant Budget'!$EC578=\"\",\"\",'2-Grant Budget'!DY578)","v":""},null,{"$f":"IF('2-Grant Budget'!$EC578=\"\",\"\",\"FY\"&RIGHT('2-Grant Budget'!EA578,2))","v":""},null,{"$f":"IF('2-Grant Budget'!EC578=\"\",\"\",'2-Grant Budget'!EC578)","v":""},{"$f":"IF('2-Grant Budget'!EE578=\"\",\"\",'2-Grant Budget'!EE578)","v":""}]
[null,{"$f":"IF('2-Grant Budget'!EC579=\"\",\"\",RIGHT('2-Grant Budget'!DW579,2))","v":""},{"$f":"IF(G601=\"\",\"\",IF(RIGHT(F601,4)=\"8000\",VLOOKUP('1-Award Info'!$G$19,Tables!Q:R,2,0)&\"08008000\",VLOOKUP('1-Award Info'!$G$19,Tables!Q:R,2,0)&RIGHT(F601,8)))","v":""},"","",{"$f":"IF('2-Grant Budget'!$EC579=\"\",\"\",'2-Grant Budget'!DX579)","v":""},{"$f":"IF('2-Grant Budget'!$EC579=\"\",\"\",'2-Grant Budget'!DY579)","v":""},null,{"$f":"IF('2-Grant Budget'!$EC579=\"\",\"\",\"FY\"&RIGHT('2-Grant Budget'!EA579,2))","v":""},null,{"$f":"IF('2-Grant Budget'!EC579=\"\",\"\",'2-Grant Budget'!EC579)","v":""},{"$f":"IF('2-Grant Budget'!EE579=\"\",\"\",'2-Grant Budget'!EE579)","v":""}]
[null,{"$f":"IF('2-Grant Budget'!EC580=\"\",\"\",RIGHT('2-Grant Budget'!DW580,2))","v":""},{"$f":"IF(G602=\"\",\"\",IF(RIGHT(F602,4)=\"8000\",VLOOKUP('1-Award Info'!$G$19,Tables!Q:R,2,0)&\"08008000\",VLOOKUP('1-Award Info'!$G$19,Tables!Q:R,2,0)&RIGHT(F602,8)))","v":""},"","",{"$f":"IF('2-Grant Budget'!$EC580=\"\",\"\",'2-Grant Budget'!DX580)","v":""},{"$f":"IF('2-Grant Budget'!$EC580=\"\",\"\",'2-Grant Budget'!DY580)","v":""},null,{"$f":"IF('2-Grant Budget'!$EC580=\"\",\"\",\"FY\"&RIGHT('2-Grant Budget'!EA580,2))","v":""},null,{"$f":"IF('2-Grant Budget'!EC580=\"\",\"\",'2-Grant Budget'!EC580)","v":""},{"$f":"IF('2-Grant Budget'!EE580=\"\",\"\",'2-Grant Budget'!EE580)","v":""}]
[null,{"$f":"IF('2-Grant Budget'!EC581=\"\",\"\",RIGHT('2-Grant Budget'!DW581,2))","v":""},{"$f":"IF(G603=\"\",\"\",IF(RIGHT(F603,4)=\"8000\",VLOOKUP('1-Award Info'!$G$19,Tables!Q:R,2,0)&\"08008000\",VLOOKUP('1-Award Info'!$G$19,Tables!Q:R,2,0)&RIGHT(F603,8)))","v":""},"","",{"$f":"IF('2-Grant Budget'!$EC581=\"\",\"\",'2-Grant Budget'!DX581)","v":""},{"$f":"IF('2-Grant Budget'!$EC581=\"\",\"\",'2-Grant Budget'!DY581)","v":""},null,{"$f":"IF('2-Grant Budget'!$EC581=\"\",\"\",\"FY\"&RIGHT('2-Grant Budget'!EA581,2))","v":""},null,{"$f":"IF('2-Grant Budget'!EC581=\"\",\"\",'2-Grant Budget'!EC581)","v":""},{"$f":"IF('2-Grant Budget'!EE581=\"\",\"\",'2-Grant Budget'!EE581)","v":""}]
[null,{"$f":"IF('2-Grant Budget'!EC582=\"\",\"\",RIGHT('2-Grant Budget'!DW582,2))","v":""},{"$f":"IF(G604=\"\",\"\",IF(RIGHT(F604,4)=\"8000\",VLOOKUP('1-Award Info'!$G$19,Tables!Q:R,2,0)&\"08008000\",VLOOKUP('1-Award Info'!$G$19,Tables!Q:R,2,0)&RIGHT(F604,8)))","v":""},"","",{"$f":"IF('2-Grant Budget'!$EC582=\"\",\"\",'2-Grant Budget'!DX582)","v":""},{"$f":"IF('2-Grant Budget'!$EC582=\"\",\"\",'2-Grant Budget'!DY582)","v":""},null,{"$f":"IF('2-Grant Budget'!$EC582=\"\",\"\",\"FY\"&RIGHT('2-Grant Budget'!EA582,2))","v":""},null,{"$f":"IF('2-Grant Budget'!EC582=\"\",\"\",'2-Grant Budget'!EC582)","v":""},{"$f":"IF('2-Grant Budget'!EE582=\"\",\"\",'2-Grant Budget'!EE582)","v":""}]
[null,{"$f":"IF('2-Grant Budget'!EC583=\"\",\"\",RIGHT('2-Grant Budget'!DW583,2))","v":""},{"$f":"IF(G605=\"\",\"\",IF(RIGHT(F605,4)=\"8000\",VLOOKUP('1-Award Info'!$G$19,Tables!Q:R,2,0)&\"08008000\",VLOOKUP('1-Award Info'!$G$19,Tables!Q:R,2,0)&RIGHT(F605,8)))","v":""},"","",{"$f":"IF('2-Grant Budget'!$EC583=\"\",\"\",'2-Grant Budget'!DX583)","v":""},{"$f":"IF('2-Grant Budget'!$EC583=\"\",\"\",'2-Grant Budget'!DY583)","v":""},null,{"$f":"IF('2-Grant Budget'!$EC583=\"\",\"\",\"FY\"&RIGHT('2-Grant Budget'!EA583,2))","v":""},null,{"$f":"IF('2-Grant Budget'!EC583=\"\",\"\",'2-Grant Budget'!EC583)","v":""},{"$f":"IF('2-Grant Budget'!EE583=\"\",\"\",'2-Grant Budget'!EE583)","v":""}]
[null,{"$f":"IF('2-Grant Budget'!EC584=\"\",\"\",RIGHT('2-Grant Budget'!DW584,2))","v":""},{"$f":"IF(G606=\"\",\"\",IF(RIGHT(F606,4)=\"8000\",VLOOKUP('1-Award Info'!$G$19,Tables!Q:R,2,0)&\"08008000\",VLOOKUP('1-Award Info'!$G$19,Tables!Q:R,2,0)&RIGHT(F606,8)))","v":""},"","",{"$f":"IF('2-Grant Budget'!$EC584=\"\",\"\",'2-Grant Budget'!DX584)","v":""},{"$f":"IF('2-Grant Budget'!$EC584=\"\",\"\",'2-Grant Budget'!DY584)","v":""},null,{"$f":"IF('2-Grant Budget'!$EC584=\"\",\"\",\"FY\"&RIGHT('2-Grant Budget'!EA584,2))","v":""},null,{"$f":"IF('2-Grant Budget'!EC584=\"\",\"\",'2-Grant Budget'!EC584)","v":""},{"$f":"IF('2-Grant Budget'!EE584=\"\",\"\",'2-Grant Budget'!EE584)","v":""}]
[null,{"$f":"IF('2-Grant Budget'!EC585=\"\",\"\",RIGHT('2-Grant Budget'!DW585,2))","v":""},{"$f":"IF(G607=\"\",\"\",IF(RIGHT(F607,4)=\"8000\",VLOOKUP('1-Award Info'!$G$19,Tables!Q:R,2,0)&\"08008000\",VLOOKUP('1-Award Info'!$G$19,Tables!Q:R,2,0)&RIGHT(F607,8)))","v":""},"","",{"$f":"IF('2-Grant Budget'!$EC585=\"\",\"\",'2-Grant Budget'!DX585)","v":""},{"$f":"IF('2-Grant Budget'!$EC585=\"\",\"\",'2-Grant Budget'!DY585)","v":""},null,{"$f":"IF('2-Grant Budget'!$EC585=\"\",\"\",\"FY\"&RIGHT('2-Grant Budget'!EA585,2))","v":""},null,{"$f":"IF('2-Grant Budget'!EC585=\"\",\"\",'2-Grant Budget'!EC585)","v":""},{"$f":"IF('2-Grant Budget'!EE585=\"\",\"\",'2-Grant Budget'!EE585)","v":""}]
[null,{"$f":"IF('2-Grant Budget'!EC586=\"\",\"\",RIGHT('2-Grant Budget'!DW586,2))","v":""},{"$f":"IF(G608=\"\",\"\",IF(RIGHT(F608,4)=\"8000\",VLOOKUP('1-Award Info'!$G$19,Tables!Q:R,2,0)&\"08008000\",VLOOKUP('1-Award Info'!$G$19,Tables!Q:R,2,0)&RIGHT(F608,8)))","v":""},"","",{"$f":"IF('2-Grant Budget'!$EC586=\"\",\"\",'2-Grant Budget'!DX586)","v":""},{"$f":"IF('2-Grant Budget'!$EC586=\"\",\"\",'2-Grant Budget'!DY586)","v":""},null,{"$f":"IF('2-Grant Budget'!$EC586=\"\",\"\",\"FY\"&RIGHT('2-Grant Budget'!EA586,2))","v":""},null,{"$f":"IF('2-Grant Budget'!EC586=\"\",\"\",'2-Grant Budget'!EC586)","v":""},{"$f":"IF('2-Grant Budget'!EE586=\"\",\"\",'2-Grant Budget'!EE586)","v":""}]
[null,{"$f":"IF('2-Grant Budget'!EC587=\"\",\"\",RIGHT('2-Grant Budget'!DW587,2))","v":""},{"$f":"IF(G609=\"\",\"\",IF(RIGHT(F609,4)=\"8000\",VLOOKUP('1-Award Info'!$G$19,Tables!Q:R,2,0)&\"08008000\",VLOOKUP('1-Award Info'!$G$19,Tables!Q:R,2,0)&RIGHT(F609,8)))","v":""},"","",{"$f":"IF('2-Grant Budget'!$EC587=\"\",\"\",'2-Grant Budget'!DX587)","v":""},{"$f":"IF('2-Grant Budget'!$EC587=\"\",\"\",'2-Grant Budget'!DY587)","v":""},null,{"$f":"IF('2-Grant Budget'!$EC587=\"\",\"\",\"FY\"&RIGHT('2-Grant Budget'!EA587,2))","v":""},null,{"$f":"IF('2-Grant Budget'!EC587=\"\",\"\",'2-Grant Budget'!EC587)","v":""},{"$f":"IF('2-Grant Budget'!EE587=\"\",\"\",'2-Grant Budget'!EE587)","v":""}]
[null,{"$f":"IF('2-Grant Budget'!EC588=\"\",\"\",RIGHT('2-Grant Budget'!DW588,2))","v":""},{"$f":"IF(G610=\"\",\"\",IF(RIGHT(F610,4)=\"8000\",VLOOKUP('1-Award Info'!$G$19,Tables!Q:R,2,0)&\"08008000\",VLOOKUP('1-Award Info'!$G$19,Tables!Q:R,2,0)&RIGHT(F610,8)))","v":""},"","",{"$f":"IF('2-Grant Budget'!$EC588=\"\",\"\",'2-Grant Budget'!DX588)","v":""},{"$f":"IF('2-Grant Budget'!$EC588=\"\",\"\",'2-Grant Budget'!DY588)","v":""},null,{"$f":"IF('2-Grant Budget'!$EC588=\"\",\"\",\"FY\"&RIGHT('2-Grant Budget'!EA588,2))","v":""},null,{"$f":"IF('2-Grant Budget'!EC588=\"\",\"\",'2-Grant Budget'!EC588)","v":""},{"$f":"IF('2-Grant Budget'!EE588=\"\",\"\",'2-Grant Budget'!EE588)","v":""}]
[null,{"$f":"IF('2-Grant Budget'!EC589=\"\",\"\",RIGHT('2-Grant Budget'!DW589,2))","v":""},{"$f":"IF(G611=\"\",\"\",IF(RIGHT(F611,4)=\"8000\",VLOOKUP('1-Award Info'!$G$19,Tables!Q:R,2,0)&\"08008000\",VLOOKUP('1-Award Info'!$G$19,Tables!Q:R,2,0)&RIGHT(F611,8)))","v":""},"","",{"$f":"IF('2-Grant Budget'!$EC589=\"\",\"\",'2-Grant Budget'!DX589)","v":""},{"$f":"IF('2-Grant Budget'!$EC589=\"\",\"\",'2-Grant Budget'!DY589)","v":""},null,{"$f":"IF('2-Grant Budget'!$EC589=\"\",\"\",\"FY\"&RIGHT('2-Grant Budget'!EA589,2))","v":""},null,{"$f":"IF('2-Grant Budget'!EC589=\"\",\"\",'2-Grant Budget'!EC589)","v":""},{"$f":"IF('2-Grant Budget'!EE589=\"\",\"\",'2-Grant Budget'!EE589)","v":""}]
[null,{"$f":"IF('2-Grant Budget'!EC590=\"\",\"\",RIGHT('2-Grant Budget'!DW590,2))","v":""},{"$f":"IF(G612=\"\",\"\",IF(RIGHT(F612,4)=\"8000\",VLOOKUP('1-Award Info'!$G$19,Tables!Q:R,2,0)&\"08008000\",VLOOKUP('1-Award Info'!$G$19,Tables!Q:R,2,0)&RIGHT(F612,8)))","v":""},"","",{"$f":"IF('2-Grant Budget'!$EC590=\"\",\"\",'2-Grant Budget'!DX590)","v":""},{"$f":"IF('2-Grant Budget'!$EC590=\"\",\"\",'2-Grant Budget'!DY590)","v":""},null,{"$f":"IF('2-Grant Budget'!$EC590=\"\",\"\",\"FY\"&RIGHT('2-Grant Budget'!EA590,2))","v":""},null,{"$f":"IF('2-Grant Budget'!EC590=\"\",\"\",'2-Grant Budget'!EC590)","v":""},{"$f":"IF('2-Grant Budget'!EE590=\"\",\"\",'2-Grant Budget'!EE590)","v":""}]
[null,{"$f":"IF('2-Grant Budget'!EC591=\"\",\"\",RIGHT('2-Grant Budget'!DW591,2))","v":""},{"$f":"IF(G613=\"\",\"\",IF(RIGHT(F613,4)=\"8000\",VLOOKUP('1-Award Info'!$G$19,Tables!Q:R,2,0)&\"08008000\",VLOOKUP('1-Award Info'!$G$19,Tables!Q:R,2,0)&RIGHT(F613,8)))","v":""},"","",{"$f":"IF('2-Grant Budget'!$EC591=\"\",\"\",'2-Grant Budget'!DX591)","v":""},{"$f":"IF('2-Grant Budget'!$EC591=\"\",\"\",'2-Grant Budget'!DY591)","v":""},null,{"$f":"IF('2-Grant Budget'!$EC591=\"\",\"\",\"FY\"&RIGHT('2-Grant Budget'!EA591,2))","v":""},null,{"$f":"IF('2-Grant Budget'!EC591=\"\",\"\",'2-Grant Budget'!EC591)","v":""},{"$f":"IF('2-Grant Budget'!EE591=\"\",\"\",'2-Grant Budget'!EE591)","v":""}]
[null,{"$f":"IF('2-Grant Budget'!EC592=\"\",\"\",RIGHT('2-Grant Budget'!DW592,2))","v":""},{"$f":"IF(G614=\"\",\"\",IF(RIGHT(F614,4)=\"8000\",VLOOKUP('1-Award Info'!$G$19,Tables!Q:R,2,0)&\"08008000\",VLOOKUP('1-Award Info'!$G$19,Tables!Q:R,2,0)&RIGHT(F614,8)))","v":""},"","",{"$f":"IF('2-Grant Budget'!$EC592=\"\",\"\",'2-Grant Budget'!DX592)","v":""},{"$f":"IF('2-Grant Budget'!$EC592=\"\",\"\",'2-Grant Budget'!DY592)","v":""},null,{"$f":"IF('2-Grant Budget'!$EC592=\"\",\"\",\"FY\"&RIGHT('2-Grant Budget'!EA592,2))","v":""},null,{"$f":"IF('2-Grant Budget'!EC592=\"\",\"\",'2-Grant Budget'!EC592)","v":""},{"$f":"IF('2-Grant Budget'!EE592=\"\",\"\",'2-Grant Budget'!EE592)","v":""}]
[null,{"$f":"IF('2-Grant Budget'!EC593=\"\",\"\",RIGHT('2-Grant Budget'!DW593,2))","v":""},{"$f":"IF(G615=\"\",\"\",IF(RIGHT(F615,4)=\"8000\",VLOOKUP('1-Award Info'!$G$19,Tables!Q:R,2,0)&\"08008000\",VLOOKUP('1-Award Info'!$G$19,Tables!Q:R,2,0)&RIGHT(F615,8)))","v":""},"","",{"$f":"IF('2-Grant Budget'!$EC593=\"\",\"\",'2-Grant Budget'!DX593)","v":""},{"$f":"IF('2-Grant Budget'!$EC593=\"\",\"\",'2-Grant Budget'!DY593)","v":""},null,{"$f":"IF('2-Grant Budget'!$EC593=\"\",\"\",\"FY\"&RIGHT('2-Grant Budget'!EA593,2))","v":""},null,{"$f":"IF('2-Grant Budget'!EC593=\"\",\"\",'2-Grant Budget'!EC593)","v":""},{"$f":"IF('2-Grant Budget'!EE593=\"\",\"\",'2-Grant Budget'!EE593)","v":""}]
[null,{"$f":"IF('2-Grant Budget'!EC594=\"\",\"\",RIGHT('2-Grant Budget'!DW594,2))","v":""},{"$f":"IF(G616=\"\",\"\",IF(RIGHT(F616,4)=\"8000\",VLOOKUP('1-Award Info'!$G$19,Tables!Q:R,2,0)&\"08008000\",VLOOKUP('1-Award Info'!$G$19,Tables!Q:R,2,0)&RIGHT(F616,8)))","v":""},{"$f":"IF(G616=\"\",\"\",IF(LEFT(G616)<>\"9\",LEFT(G616,4),9&RIGHT(G616,3)))","v":""},{"$f":"IF(G616=\"\",\"\",IF(LEFT(G616,1)<>\"9\",0,MID(G616,2,1)))","v":""},{"$f":"IF('2-Grant Budget'!$EC594=\"\",\"\",'2-Grant Budget'!DX594)","v":""},{"$f":"IF('2-Grant Budget'!$EC594=\"\",\"\",'2-Grant Budget'!DY594)","v":""},null,{"$f":"IF('2-Grant Budget'!$EC594=\"\",\"\",\"FY\"&RIGHT('2-Grant Budget'!EA594,2))","v":""},null,{"$f":"IF('2-Grant Budget'!EC594=\"\",\"\",'2-Grant Budget'!EC594)","v":""},{"$f":"IF('2-Grant Budget'!EE594=\"\",\"\",'2-Grant Budget'!EE594)","v":""}]
[null,{"$f":"IF('2-Grant Budget'!EC595=\"\",\"\",RIGHT('2-Grant Budget'!DW595,2))","v":""},{"$f":"IF(G617=\"\",\"\",IF(RIGHT(F617,4)=\"8000\",VLOOKUP('1-Award Info'!$G$19,Tables!Q:R,2,0)&\"08008000\",VLOOKUP('1-Award Info'!$G$19,Tables!Q:R,2,0)&RIGHT(F617,8)))","v":""},"","",{"$f":"IF('2-Grant Budget'!$EC595=\"\",\"\",'2-Grant Budget'!DX595)","v":""},{"$f":"IF('2-Grant Budget'!$EC595=\"\",\"\",'2-Grant Budget'!DY595)","v":""},null,{"$f":"IF('2-Grant Budget'!$EC595=\"\",\"\",\"FY\"&RIGHT('2-Grant Budget'!EA595,2))","v":""},null,{"$f":"IF('2-Grant Budget'!EC595=\"\",\"\",'2-Grant Budget'!EC595)","v":""},{"$f":"IF('2-Grant Budget'!EE595=\"\",\"\",'2-Grant Budget'!EE595)","v":""}]
[null,{"$f":"IF('2-Grant Budget'!EC596=\"\",\"\",RIGHT('2-Grant Budget'!DW596,2))","v":""},{"$f":"IF(G618=\"\",\"\",IF(RIGHT(F618,4)=\"8000\",VLOOKUP('1-Award Info'!$G$19,Tables!Q:R,2,0)&\"08008000\",VLOOKUP('1-Award Info'!$G$19,Tables!Q:R,2,0)&RIGHT(F618,8)))","v":""},"","",{"$f":"IF('2-Grant Budget'!$EC596=\"\",\"\",'2-Grant Budget'!DX596)","v":""},{"$f":"IF('2-Grant Budget'!$EC596=\"\",\"\",'2-Grant Budget'!DY596)","v":""},null,{"$f":"IF('2-Grant Budget'!$EC596=\"\",\"\",\"FY\"&RIGHT('2-Grant Budget'!EA596,2))","v":""},null,{"$f":"IF('2-Grant Budget'!EC596=\"\",\"\",'2-Grant Budget'!EC596)","v":""},{"$f":"IF('2-Grant Budget'!EE596=\"\",\"\",'2-Grant Budget'!EE596)","v":""}]
[null,{"$f":"IF('2-Grant Budget'!EC597=\"\",\"\",RIGHT('2-Grant Budget'!DW597,2))","v":""},{"$f":"IF(G619=\"\",\"\",IF(RIGHT(F619,4)=\"8000\",VLOOKUP('1-Award Info'!$G$19,Tables!Q:R,2,0)&\"08008000\",VLOOKUP('1-Award Info'!$G$19,Tables!Q:R,2,0)&RIGHT(F619,8)))","v":""},"","",{"$f":"IF('2-Grant Budget'!$EC597=\"\",\"\",'2-Grant Budget'!DX597)","v":""},{"$f":"IF('2-Grant Budget'!$EC597=\"\",\"\",'2-Grant Budget'!DY597)","v":""},null,{"$f":"IF('2-Grant Budget'!$EC597=\"\",\"\",\"FY\"&RIGHT('2-Grant Budget'!EA597,2))","v":""},null,{"$f":"IF('2-Grant Budget'!EC597=\"\",\"\",'2-Grant Budget'!EC597)","v":""},{"$f":"IF('2-Grant Budget'!EE597=\"\",\"\",'2-Grant Budget'!EE597)","v":""}]
[null,{"$f":"IF('2-Grant Budget'!EC598=\"\",\"\",RIGHT('2-Grant Budget'!DW598,2))","v":""},{"$f":"IF(G620=\"\",\"\",IF(RIGHT(F620,4)=\"8000\",VLOOKUP('1-Award Info'!$G$19,Tables!Q:R,2,0)&\"08008000\",VLOOKUP('1-Award Info'!$G$19,Tables!Q:R,2,0)&RIGHT(F620,8)))","v":""},"","",{"$f":"IF('2-Grant Budget'!$EC598=\"\",\"\",'2-Grant Budget'!DX598)","v":""},{"$f":"IF('2-Grant Budget'!$EC598=\"\",\"\",'2-Grant Budget'!DY598)","v":""},null,{"$f":"IF('2-Grant Budget'!$EC598=\"\",\"\",\"FY\"&RIGHT('2-Grant Budget'!EA598,2))","v":""},null,{"$f":"IF('2-Grant Budget'!EC598=\"\",\"\",'2-Grant Budget'!EC598)","v":""},{"$f":"IF('2-Grant Budget'!EE598=\"\",\"\",'2-Grant Budget'!EE598)","v":""}]
[null,{"$f":"IF('2-Grant Budget'!EC599=\"\",\"\",RIGHT('2-Grant Budget'!DW599,2))","v":""},{"$f":"IF(G621=\"\",\"\",IF(RIGHT(F621,4)=\"8000\",VLOOKUP('1-Award Info'!$G$19,Tables!Q:R,2,0)&\"08008000\",VLOOKUP('1-Award Info'!$G$19,Tables!Q:R,2,0)&RIGHT(F621,8)))","v":""},"","",{"$f":"IF('2-Grant Budget'!$EC599=\"\",\"\",'2-Grant Budget'!DX599)","v":""},{"$f":"IF('2-Grant Budget'!$EC599=\"\",\"\",'2-Grant Budget'!DY599)","v":""},null,{"$f":"IF('2-Grant Budget'!$EC599=\"\",\"\",\"FY\"&RIGHT('2-Grant Budget'!EA599,2))","v":""},null,{"$f":"IF('2-Grant Budget'!EC599=\"\",\"\",'2-Grant Budget'!EC599)","v":""},{"$f":"IF('2-Grant Budget'!EE599=\"\",\"\",'2-Grant Budget'!EE599)","v":""}]
[null,{"$f":"IF('2-Grant Budget'!EC600=\"\",\"\",RIGHT('2-Grant Budget'!DW600,2))","v":""},{"$f":"IF(G622=\"\",\"\",IF(RIGHT(F622,4)=\"8000\",VLOOKUP('1-Award Info'!$G$19,Tables!Q:R,2,0)&\"08008000\",VLOOKUP('1-Award Info'!$G$19,Tables!Q:R,2,0)&RIGHT(F622,8)))","v":""},"","",{"$f":"IF('2-Grant Budget'!$EC600=\"\",\"\",'2-Grant Budget'!DX600)","v":""},{"$f":"IF('2-Grant Budget'!$EC600=\"\",\"\",'2-Grant Budget'!DY600)","v":""},null,{"$f":"IF('2-Grant Budget'!$EC600=\"\",\"\",\"FY\"&RIGHT('2-Grant Budget'!EA600,2))","v":""},null,{"$f":"IF('2-Grant Budget'!EC600=\"\",\"\",'2-Grant Budget'!EC600)","v":""},{"$f":"IF('2-Grant Budget'!EE600=\"\",\"\",'2-Grant Budget'!EE600)","v":""}]
[null,{"$f":"IF('2-Grant Budget'!EC601=\"\",\"\",RIGHT('2-Grant Budget'!DW601,2))","v":""},{"$f":"IF(G623=\"\",\"\",IF(RIGHT(F623,4)=\"8000\",VLOOKUP('1-Award Info'!$G$19,Tables!Q:R,2,0)&\"08008000\",VLOOKUP('1-Award Info'!$G$19,Tables!Q:R,2,0)&RIGHT(F623,8)))","v":""},"","",{"$f":"IF('2-Grant Budget'!$EC601=\"\",\"\",'2-Grant Budget'!DX601)","v":""},{"$f":"IF('2-Grant Budget'!$EC601=\"\",\"\",'2-Grant Budget'!DY601)","v":""},null,{"$f":"IF('2-Grant Budget'!$EC601=\"\",\"\",\"FY\"&RIGHT('2-Grant Budget'!EA601,2))","v":""},null,{"$f":"IF('2-Grant Budget'!EC601=\"\",\"\",'2-Grant Budget'!EC601)","v":""},{"$f":"IF('2-Grant Budget'!EE601=\"\",\"\",'2-Grant Budget'!EE601)","v":""}]

{"sheet":"AC10.1-C & S","index":3,"n_rows":194,"n_cols":24,"rows_kept":194,"cut":false,"hidden":true,"merged":[]}
[]
[null,null,null,null,null,null,null,null,null,null,null,null,null,null,null,null,null,null,null,null,null,null,"COUNT FOR MACRO",{"$f":"\"T\"&SUM(X5:X121)+4","v":"T4"}]
[]
["ACTIVITY","DESCRIPTION","Long Description","ACTIVITY_GRP","COMPANY","ACCT_UNIT","ACCOUNT","SUB_ACCT","USR_STATUS","BEGIN_DATE","END_DATE","BILLABLE_FLAG","POSTING_FLAG","LEVEL_DETAIL_01","LEVEL_DETAIL_02","LEVEL_DETAIL_03","LEVEL_DETAIL_04","AWARD","BUDGET CHECK","LEVEL",null,"Results from AC10.1",null,"COUNT FOR MACRO"]
[{"$f":"LEFT('1-Award Info'!G4,7)","v":""},{"$f":"IF(A5=\"\",\"\",TRIM(LEFT('1-Award Info'!$C$19,30)))","v":""},{"$f":"IF(A5=\"\",\"\",'1-Award Info'!$G$5)","v":""},{"$f":"IF(A5=\"\",\"\",\"00\"&'1-Award Info'!$G$6)","v":""},{"$f":"IF(A5=\"\",\"\",$D$5)","v":""},{"$f":"IF(A5=\"\",\"\",VLOOKUP('1-Award Info'!$G$19,Tables!Q:R,2,0)&\"08008000\")","v":""},{"$f":"IF(A5=\"\",\"\",9848)","v":""},{"$f":"IF(A5=\"\",\"\",0)","v":""},{"$f":"IF(A5=\"\",\"\",\"GB\")","v":""},{"$f":"IF(A5=\"\",\"\",'1-Award Info'!$C$21)","v":""},{"$f":"IF(A5=\"\",\"\",'1-Award Info'!$C$22)","v":""},{"$f":"IF(A5=\"\",\"\",IF(M5=\"C\",\"Y\",\"N\"))","v":""},{"$f":"IF(A5=\"\",\"\",IF(LEN('1-Award Info'!$G$4)=7,\"C\",\"S\"))","v":""},{"$f":"IF(A5=\"\",\"\",IF(LEFT(A5)=\"N\",'1-Award Info'!$G$6&\"00\",'1-Award Info'!$G$6&RIGHT('1-Award Info'!$G$7,2)))","v":""},{"$f":"IF(A5=\"\",\"\",MID(A5,2,6))","v":""},{"$f":"IF(A5=\"\",\"\",MID(A5,8,4))","v":""},{"$f":"IF(A5=\"\",\"\",MID(A5,12,4))","v":""},{"$f":"IF($A5=\"\",\"\",\"Y\")","v":""},null,null,null,null,null,{"$f":"IF(LEN(A5)>0,1,0)","v":0}]
[{"$f":"LEFT('1-Award Info'!$G$4,7)&'2-Grant Budget'!AH17","v":""},{"$f":"IF(A6=\"\",\"\",TRIM(LEFT('1-Award Info'!$C$19,30)))","v":""},{"$f":"IF(A6=\"\",\"\",'1-Award Info'!$G$5)","v":""},{"$f":"IF(A6=\"\",\"\",\"00\"&'1-Award Info'!$G$6)","v":""},{"$f":"IF(A6=\"\",\"\",$D$5)","v":""},{"$f":"IF(A6=\"\",\"\",VLOOKUP('1-Award Info'!$G$19,Tables!Q:R,2,0)&\"08008000\")","v":""},{"$f":"IF(A6=\"\",\"\",9848)","v":""},{"$f":"IF(A6=\"\",\"\",0)","v":""},{"$f":"IF(A6=\"\",\"\",\"GB\")","v":""},{"$f":"IF(A6=\"\",\"\",'1-Award Info'!$C$21)","v":""},{"$f":"IF(A6=\"\",\"\",'1-Award Info'!$C$22)","v":""},{"$f":"IF(A6=\"\",\"\",IF(M6=\"C\",\"Y\",\"N\"))","v":""},{"$f":"IF(A6=\"\",\"\",IF($M$5=\"s\",\"C\",\"S\"))","v":""},{"$f":"IF(A6=\"\",\"\",IF(LEFT(A6)=\"N\",'1-Award Info'!$G$6&\"00\",'1-Award Info'!$G$6&RIGHT('1-Award Info'!$G$7,2)))","v":""},{"$f":"MID(A6,2,6)","v":""},{"$f":"IF(A6=\"\",\"\",MID(A6,8,4))","v":""},{"$f":"IF(A6=\"\",\"\",MID(A6,12,4))","v":""},{"$f":"IF($A6=\"\",\"\",\"Y\")","v":""},null,null,null,null,null,{"$f":"IF(LEN(A6)>0,1,0)","v":0}]
[{"$f":"IF('2-Grant Budget'!AH18=\"\",\"\",LEFT('1-Award Info'!$G$4,7)&'2-Grant Budget'!AH18)","v":""},{"$f":"IF(A7=\"\",\"\",TRIM(LEFT('1-Award Info'!$C$19,30)))","v":""},{"$f":"IF(A7=\"\",\"\",'1-Award Info'!$G$5)","v":""},{"$f":"IF(A7=\"\",\"\",\"00\"&'1-Award Info'!$G$6)","v":""},"",{"$f":"IF(A7=\"\",\"\",VLOOKUP('1-Award Info'!$G$19,Tables!Q:R,2,0)&\"08008000\")","v":""},"","","",{"$f":"IF(A7=\"\",\"\",'1-Award Info'!$C$21)","v":""},{"$f":"IF(A7=\"\",\"\",'1-Award Info'!$C$22)","v":""},"",{"$f":"IF(A7=\"\",\"\",IF($M$5=\"s\",\"C\",\"S\"))","v":""},{"$f":"IF(A7=\"\",\"\",IF(LEFT(A7)=\"N\",'1-Award Info'!$G$6&\"00\",'1-Award Info'!$G$6&RIGHT('1-Award Info'!$G$7,2)))","v":""},"","","","",null,null,null,null,null,0]
[{"$f":"IF('2-Grant Budget'!AH19=\"\",\"\",LEFT('1-Award Info'!$G$4,7)&'2-Grant Budget'!AH19)","v":""},{"$f":"IF(A8=\"\",\"\",TRIM(LEFT('1-Award Info'!$C$19,30)))","v":""},{"$f":"IF(A8=\"\",\"\",'1-Award Info'!$G$5)","v":""},{"$f":"IF(A8=\"\",\"\",\"00\"&'1-Award Info'!$G$6)","v":""},{"$f":"IF(A8=\"\",\"\",$D$5)","v":""},{"$f":"IF(A8=\"\",\"\",VLOOKUP('1-Award Info'!$G$19,Tables!Q:R,2,0)&\"08008000\")","v":""},{"$f":"IF(A8=\"\",\"\",9848)","v":""},{"$f":"IF(A8=\"\",\"\",0)","v":""},{"$f":"IF(A8=\"\",\"\",\"GB\")","v":""},{"$f":"IF(A8=\"\",\"\",'1-Award Info'!$C$21)","v":""},{"$f":"IF(A8=\"\",\"\",'1-Award Info'!$C$22)","v":""},{"$f":"IF(A8=\"\",\"\",IF(M8=\"C\",\"Y\",\"N\"))","v":""},{"$f":"IF(A8=\"\",\"\",IF($M$5=\"s\",\"C\",\"S\"))","v":""},{"$f":"IF(A8=\"\",\"\",IF(LEFT(A8)=\"N\",'1-Award Info'!$G$6&\"00\",'1-Award Info'!$G$6&RIGHT('1-Award Info'!$G$7,2)))","v":""},{"$f":"MID(A8,2,6)","v":""},{"$f":"IF(A8=\"\",\"\",MID(A8,8,4))","v":""},{"$f":"IF(A8=\"\",\"\",MID(A8,12,4))","v":""},"",null,null,null,null,null,0]
[{"$f":"IF('2-Grant Budget'!AH20=\"\",\"\",LEFT('1-Award Info'!$G$4,7)&'2-Grant Budget'!AH20)","v":""},{"$f":"IF(A9=\"\",\"\",TRIM(LEFT('1-Award Info'!$C$19,30)))","v":""},{"$f":"IF(A9=\"\",\"\",'1-Award Info'!$G$5)","v":""},{"$f":"IF(A9=\"\",\"\",\"00\"&'1-Award Info'!$G$6)","v":""},"",{"$f":"IF(A9=\"\",\"\",VLOOKUP('1-Award Info'!$G$19,Tables!Q:R,2,0)&\"08008000\")","v":""},"","","",{"$f":"IF(A9=\"\",\"\",'1-Award Info'!$C$21)","v":""},{"$f":"IF(A9=\"\",\"\",'1-Award Info'!$C$22)","v":""},"","",{"$f":"IF(A9=\"\",\"\",IF(LEFT(A9)=\"N\",'1-Award Info'!$G$6&\"00\",'1-Award Info'!$G$6&RIGHT('1-Award Info'!$G$7,2)))","v":""},"","","","",null,null,null,null,null,0]
[{"$f":"IF('2-Grant Budget'!AH21=\"\",\"\",LEFT('1-Award Info'!$G$4,7)&'2-Grant Budget'!AH21)","v":""},{"$f":"IF(A10=\"\",\"\",TRIM(LEFT('1-Award Info'!$C$19,30)))","v":""},{"$f":"IF(A10=\"\",\"\",'1-Award Info'!$G$5)","v":""},{"$f":"IF(A10=\"\",\"\",\"00\"&'1-Award Info'!$G$6)","v":""},"",{"$f":"IF(A10=\"\",\"\",VLOOKUP('1-Award Info'!$G$19,Tables!Q:R,2,0)&\"08008000\")","v":""},"","","",{"$f":"IF(A10=\"\",\"\",'1-Award Info'!$C$21)","v":""},{"$f":"IF(A10=\"\",\"\",'1-Award Info'!$C$22)","v":""},"","",{"$f":"IF(A10=\"\",\"\",IF(LEFT(A10)=\"N\",'1-Award Info'!$G$6&\"00\",'1-Award Info'!$G$6&RIGHT('1-Award Info'!$G$7,2)))","v":""},"","","","",null,null,null,null,null,0]
[{"$f":"IF('2-Grant Budget'!AH22=\"\",\"\",LEFT('1-Award Info'!$G$4,7)&'2-Grant Budget'!AH22)","v":""},{"$f":"IF(A11=\"\",\"\",TRIM(LEFT('1-Award Info'!$C$19,30)))","v":""},{"$f":"IF(A11=\"\",\"\",'1-Award Info'!$G$5)","v":""},{"$f":"IF(A11=\"\",\"\",\"00\"&'1-Award Info'!$G$6)","v":""},"",{"$f":"IF(A11=\"\",\"\",VLOOKUP('1-Award Info'!$G$19,Tables!Q:R,2,0)&\"08008000\")","v":""},"","","",{"$f":"IF(A11=\"\",\"\",'1-Award Info'!$C$21)","v":""},{"$f":"IF(A11=\"\",\"\",'1-Award Info'!$C$22)","v":""},"","",{"$f":"IF(A11=\"\",\"\",IF(LEFT(A11)=\"N\",'1-Award Info'!$G$6&\"00\",'1-Award Info'!$G$6&RIGHT('1-Award Info'!$G$7,2)))","v":""},"","","","",null,null,null,null,null,0]
[{"$f":"IF('2-Grant Budget'!AH23=\"\",\"\",LEFT('1-Award Info'!$G$4,7)&'2-Grant Budget'!AH23)","v":""},{"$f":"IF(A12=\"\",\"\",TRIM(LEFT('1-Award Info'!$C$19,30)))","v":""},{"$f":"IF(A12=\"\",\"\",'1-Award Info'!$G$5)","v":""},{"$f":"IF(A12=\"\",\"\",\"00\"&'1-Award Info'!$G$6)","v":""},"",{"$f":"IF(A12=\"\",\"\",VLOOKUP('1-Award Info'!$G$19,Tables!Q:R,2,0)&\"08008000\")","v":""},"","","",{"$f":"IF(A12=\"\",\"\",'1-Award Info'!$C$21)","v":""},{"$f":"IF(A12=\"\",\"\",'1-Award Info'!$C$22)","v":""},"","",{"$f":"IF(A12=\"\",\"\",IF(LEFT(A12)=\"N\",'1-Award Info'!$G$6&\"00\",'1-Award Info'!$G$6&RIGHT('1-Award Info'!$G$7,2)))","v":""},"","","","",null,null,null,null,null,0]
[{"$f":"IF('2-Grant Budget'!AH24=\"\",\"\",LEFT('1-Award Info'!$G$4,7)&'2-Grant Budget'!AH24)","v":""},{"$f":"IF(A13=\"\",\"\",TRIM(LEFT('1-Award Info'!$C$19,30)))","v":""},{"$f":"IF(A13=\"\",\"\",'1-Award Info'!$G$5)","v":""},{"$f":"IF(A13=\"\",\"\",\"00\"&'1-Award Info'!$G$6)","v":""},"",{"$f":"IF(A13=\"\",\"\",VLOOKUP('1-Award Info'!$G$19,Tables!Q:R,2,0)&\"08008000\")","v":""},"","","",{"$f":"IF(A13=\"\",\"\",'1-Award Info'!$C$21)","v":""},{"$f":"IF(A13=\"\",\"\",'1-Award Info'!$C$22)","v":""},"","",{"$f":"IF(A13=\"\",\"\",IF(LEFT(A13)=\"N\",'1-Award Info'!$G$6&\"00\",'1-Award Info'!$G$6&RIGHT('1-Award Info'!$G$7,2)))","v":""},"","","","",null,null,null,null,null,0]
[{"$f":"IF('2-Grant Budget'!AH25=\"\",\"\",LEFT('1-Award Info'!$G$4,7)&'2-Grant Budget'!AH25)","v":""},{"$f":"IF(A14=\"\",\"\",TRIM(LEFT('1-Award Info'!$C$19,30)))","v":""},{"$f":"IF(A14=\"\",\"\",'1-Award Info'!$G$5)","v":""},{"$f":"IF(A14=\"\",\"\",\"00\"&'1-Award Info'!$G$6)","v":""},"",{"$f":"IF(A14=\"\",\"\",VLOOKUP('1-Award Info'!$G$19,Tables!Q:R,2,0)&\"08008000\")","v":""},"","","",{"$f":"IF(A14=\"\",\"\",'1-Award Info'!$C$21)","v":""},{"$f":"IF(A14=\"\",\"\",'1-Award Info'!$C$22)","v":""},"","",{"$f":"IF(A14=\"\",\"\",IF(LEFT(A14)=\"N\",'1-Award Info'!$G$6&\"00\",'1-Award Info'!$G$6&RIGHT('1-Award Info'!$G$7,2)))","v":""},"","","","",null,null,null,null,null,0]
[{"$f":"IF('2-Grant Budget'!AH26=\"\",\"\",LEFT('1-Award Info'!$G$4,7)&'2-Grant Budget'!AH26)","v":""},{"$f":"IF(A15=\"\",\"\",TRIM(LEFT('1-Award Info'!$C$19,30)))","v":""},{"$f":"IF(A15=\"\",\"\",'1-Award Info'!$G$5)","v":""},{"$f":"IF(A15=\"\",\"\",\"00\"&'1-Award Info'!$G$6)","v":""},"",{"$f":"IF(A15=\"\",\"\",VLOOKUP('1-Award Info'!$G$19,Tables!Q:R,2,0)&\"08008000\")","v":""},"","","",{"$f":"IF(A15=\"\",\"\",'1-Award Info'!$C$21)","v":""},{"$f":"IF(A15=\"\",\"\",'1-Award Info'!$C$22)","v":""},"","",{"$f":"IF(A15=\"\",\"\",IF(LEFT(A15)=\"N\",'1-Award Info'!$G$6&\"00\",'1-Award Info'!$G$6&RIGHT('1-Award Info'!$G$7,2)))","v":""},"","","","",null,null,null,null,null,0]
[{"$f":"IF('2-Grant Budget'!AH27=\"\",\"\",LEFT('1-Award Info'!$G$4,7)&'2-Grant Budget'!AH27)","v":""},{"$f":"IF(A16=\"\",\"\",TRIM(LEFT('1-Award Info'!$C$19,30)))","v":""},{"$f":"IF(A16=\"\",\"\",'1-Award Info'!$G$5)","v":""},{"$f":"IF(A16=\"\",\"\",\"00\"&'1-Award Info'!$G$6)","v":""},"",{"$f":"IF(A16=\"\",\"\",VLOOKUP('1-Award Info'!$G$19,Tables!Q:R,2,0)&\"08008000\")","v":""},"","","",{"$f":"IF(A16=\"\",\"\",'1-Award Info'!$C$21)","v":""},{"$f":"IF(A16=\"\",\"\",'1-Award Info'!$C$22)","v":""},"","",{"$f":"IF(A16=\"\",\"\",IF(LEFT(A16)=\"N\",'1-Award Info'!$G$6&\"00\",'1-Award Info'!$G$6&RIGHT('1-Award Info'!$G$7,2)))","v":""},"","","","",null,null,null,null,null,0]
[{"$f":"IF('2-Grant Budget'!AH28=\"\",\"\",LEFT('1-Award Info'!$G$4,7)&'2-Grant Budget'!AH28)","v":""},{"$f":"IF(A17=\"\",\"\",TRIM(LEFT('1-Award Info'!$C$19,30)))","v":""},{"$f":"IF(A17=\"\",\"\",'1-Award Info'!$G$5)","v":""},{"$f":"IF(A17=\"\",\"\",\"00\"&'1-Award Info'!$G$6)","v":""},"",{"$f":"IF(A17=\"\",\"\",VLOOKUP('1-Award Info'!$G$19,Tables!Q:R,2,0)&\"08008000\")","v":""},"","","",{"$f":"IF(A17=\"\",\"\",'1-Award Info'!$C$21)","v":""},{"$f":"IF(A17=\"\",\"\",'1-Award Info'!$C$22)","v":""},"","",{"$f":"IF(A17=\"\",\"\",IF(LEFT(A17)=\"N\",'1-Award Info'!$G$6&\"00\",'1-Award Info'!$G$6&RIGHT('1-Award Info'!$G$7,2)))","v":""},"","","","",null,null,null,null,null,0]
[{"$f":"IF('2-Grant Budget'!AH29=\"\",\"\",LEFT('1-Award Info'!$G$4,7)&'2-Grant Budget'!AH29)","v":""},{"$f":"IF(A18=\"\",\"\",TRIM(LEFT('1-Award Info'!$C$19,30)))","v":""},{"$f":"IF(A18=\"\",\"\",'1-Award Info'!$G$5)","v":""},{"$f":"IF(A18=\"\",\"\",\"00\"&'1-Award Info'!$G$6)","v":""},"",{"$f":"IF(A18=\"\",\"\",VLOOKUP('1-Award Info'!$G$19,Tables!Q:R,2,0)&\"08008000\")","v":""},"","","",{"$f":"IF(A18=\"\",\"\",'1-Award Info'!$C$21)","v":""},{"$f":"IF(A18=\"\",\"\",'1-Award Info'!$C$22)","v":""},"","",{"$f":"IF(A18=\"\",\"\",IF(LEFT(A18)=\"N\",'1-Award Info'!$G$6&\"00\",'1-Award Info'!$G$6&RIGHT('1-Award Info'!$G$7,2)))","v":""},"","","","",null,null,null,null,null,0]
[{"$f":"IF('2-Grant Budget'!AH30=\"\",\"\",LEFT('1-Award Info'!$G$4,7)&'2-Grant Budget'!AH30)","v":""},{"$f":"IF(A19=\"\",\"\",TRIM(LEFT('1-Award Info'!$C$19,30)))","v":""},{"$f":"IF(A19=\"\",\"\",'1-Award Info'!$G$5)","v":""},{"$f":"IF(A19=\"\",\"\",\"00\"&'1-Award Info'!$G$6)","v":""},"",{"$f":"IF(A19=\"\",\"\",VLOOKUP('1-Award Info'!$G$19,Tables!Q:R,2,0)&\"08008000\")","v":""},"","","",{"$f":"IF(A19=\"\",\"\",'1-Award Info'!$C$21)","v":""},{"$f":"IF(A19=\"\",\"\",'1-Award Info'!$C$22)","v":""},"","",{"$f":"IF(A19=\"\",\"\",IF(LEFT(A19)=\"N\",'1-Award Info'!$G$6&\"00\",'1-Award Info'!$G$6&RIGHT('1-Award Info'!$G$7,2)))","v":""},"","","","",null,null,null,null,null,0]
[{"$f":"IF('2-Grant Budget'!AH31=\"\",\"\",LEFT('1-Award Info'!$G$4,7)&'2-Grant Budget'!AH31)","v":""},{"$f":"IF(A20=\"\",\"\",TRIM(LEFT('1-Award Info'!$C$19,30)))","v":""},{"$f":"IF(A20=\"\",\"\",'1-Award Info'!$G$5)","v":""},{"$f":"IF(A20=\"\",\"\",\"00\"&'1-Award Info'!$G$6)","v":""},"",{"$f":"IF(A20=\"\",\"\",VLOOKUP('1-Award Info'!$G$19,Tables!Q:R,2,0)&\"08008000\")","v":""},"","","",{"$f":"IF(A20=\"\",\"\",'1-Award Info'!$C$21)","v":""},{"$f":"IF(A20=\"\",\"\",'1-Award Info'!$C$22)","v":""},"","",{"$f":"IF(A20=\"\",\"\",IF(LEFT(A20)=\"N\",'1-Award Info'!$G$6&\"00\",'1-Award Info'!$G$6&RIGHT('1-Award Info'!$G$7,2)))","v":""},"","","","",null,null,null,null,null,0]
[{"$f":"IF('2-Grant Budget'!AH32=\"\",\"\",LEFT('1-Award Info'!$G$4,7)&'2-Grant Budget'!AH32)","v":""},{"$f":"IF(A21=\"\",\"\",TRIM(LEFT('1-Award Info'!$C$19,30)))","v":""},{"$f":"IF(A21=\"\",\"\",'1-Award Info'!$G$5)","v":""},{"$f":"IF(A21=\"\",\"\",\"00\"&'1-Award Info'!$G$6)","v":""},"",{"$f":"IF(A21=\"\",\"\",VLOOKUP('1-Award Info'!$G$19,Tables!Q:R,2,0)&\"08008000\")","v":""},"","","",{"$f":"IF(A21=\"\",\"\",'1-Award Info'!$C$21)","v":""},{"$f":"IF(A21=\"\",\"\",'1-Award Info'!$C$22)","v":""},"","",{"$f":"IF(A21=\"\",\"\",IF(LEFT(A21)=\"N\",'1-Award Info'!$G$6&\"00\",'1-Award Info'!$G$6&RIGHT('1-Award Info'!$G$7,2)))","v":""},"","","","",null,null,null,null,null,0]
[{"$f":"IF('2-Grant Budget'!AH33=\"\",\"\",LEFT('1-Award Info'!$G$4,7)&'2-Grant Budget'!AH33)","v":""},{"$f":"IF(A22=\"\",\"\",TRIM(LEFT('1-Award Info'!$C$19,30)))","v":""},{"$f":"IF(A22=\"\",\"\",'1-Award Info'!$G$5)","v":""},{"$f":"IF(A22=\"\",\"\",\"00\"&'1-Award Info'!$G$6)","v":""},"",{"$f":"IF(A22=\"\",\"\",VLOOKUP('1-Award Info'!$G$19,Tables!Q:R,2,0)&\"08008000\")","v":""},"","","",{"$f":"IF(A22=\"\",\"\",'1-Award Info'!$C$21)","v":""},{"$f":"IF(A22=\"\",\"\",'1-Award Info'!$C$22)","v":""},"","",{"$f":"IF(A22=\"\",\"\",IF(LEFT(A22)=\"N\",'1-Award Info'!$G$6&\"00\",'1-Award Info'!$G$6&RIGHT('1-Award Info'!$G$7,2)))","v":""},"","","","",null,null,null,null,null,0]
[{"$f":"IF('2-Grant Budget'!AH34=\"\",\"\",LEFT('1-Award Info'!$G$4,7)&'2-Grant Budget'!AH34)","v":""},{"$f":"IF(A23=\"\",\"\",TRIM(LEFT('1-Award Info'!$C$19,30)))","v":""},{"$f":"IF(A23=\"\",\"\",'1-Award Info'!$G$5)","v":""},{"$f":"IF(A23=\"\",\"\",\"00\"&'1-Award Info'!$G$6)","v":""},"",{"$f":"IF(A23=\"\",\"\",VLOOKUP('1-Award Info'!$G$19,Tables!Q:R,2,0)&\"08008000\")","v":""},"","","",{"$f":"IF(A23=\"\",\"\",'1-Award Info'!$C$21)","v":""},{"$f":"IF(A23=\"\",\"\",'1-Award Info'!$C$22)","v":""},"","",{"$f":"IF(A23=\"\",\"\",IF(LEFT(A23)=\"N\",'1-Award Info'!$G$6&\"00\",'1-Award Info'!$G$6&RIGHT('1-Award Info'!$G$7,2)))","v":""},"","","","",null,null,null,null,null,0]
[{"$f":"IF('2-Grant Budget'!AH35=\"\",\"\",LEFT('1-Award Info'!$G$4,7)&'2-Grant Budget'!AH35)","v":""},{"$f":"IF(A24=\"\",\"\",TRIM(LEFT('1-Award Info'!$C$19,30)))","v":""},{"$f":"IF(A24=\"\",\"\",'1-Award Info'!$G$5)","v":""},{"$f":"IF(A24=\"\",\"\",\"00\"&'1-Award Info'!$G$6)","v":""},"",{"$f":"IF(A24=\"\",\"\",VLOOKUP('1-Award Info'!$G$19,Tables!Q:R,2,0)&\"08008000\")","v":""},"","","",{"$f":"IF(A24=\"\",\"\",'1-Award Info'!$C$21)","v":""},{"$f":"IF(A24=\"\",\"\",'1-Award Info'!$C$22)","v":""},"","",{"$f":"IF(A24=\"\",\"\",IF(LEFT(A24)=\"N\",'1-Award Info'!$G$6&\"00\",'1-Award Info'!$G$6&RIGHT('1-Award Info'!$G$7,2)))","v":""},"","","","",null,null,null,null,null,0]
[{"$f":"IF('2-Grant Budget'!AH36=\"\",\"\",LEFT('1-Award Info'!$G$4,7)&'2-Grant Budget'!AH36)","v":""},{"$f":"IF(A25=\"\",\"\",TRIM(LEFT('1-Award Info'!$C$19,30)))","v":""},{"$f":"IF(A25=\"\",\"\",'1-Award Info'!$G$5)","v":""},{"$f":"IF(A25=\"\",\"\",\"00\"&'1-Award Info'!$G$6)","v":""},"",{"$f":"IF(A25=\"\",\"\",VLOOKUP('1-Award Info'!$G$19,Tables!Q:R,2,0)&\"08008000\")","v":""},"","","",{"$f":"IF(A25=\"\",\"\",'1-Award Info'!$C$21)","v":""},{"$f":"IF(A25=\"\",\"\",'1-Award Info'!$C$22)","v":""},"","",{"$f":"IF(A25=\"\",\"\",IF(LEFT(A25)=\"N\",'1-Award Info'!$G$6&\"00\",'1-Award Info'!$G$6&RIGHT('1-Award Info'!$G$7,2)))","v":""},"","","","",null,null,null,null,null,0]
[{"$f":"IF('2-Grant Budget'!AH37=\"\",\"\",LEFT('1-Award Info'!$G$4,7)&'2-Grant Budget'!AH37)","v":""},{"$f":"IF(A26=\"\",\"\",TRIM(LEFT('1-Award Info'!$C$19,30)))","v":""},{"$f":"IF(A26=\"\",\"\",'1-Award Info'!$G$5)","v":""},{"$f":"IF(A26=\"\",\"\",\"00\"&'1-Award Info'!$G$6)","v":""},"",{"$f":"IF(A26=\"\",\"\",VLOOKUP('1-Award Info'!$G$19,Tables!Q:R,2,0)&\"08008000\")","v":""},"","","",{"$f":"IF(A26=\"\",\"\",'1-Award Info'!$C$21)","v":""},{"$f":"IF(A26=\"\",\"\",'1-Award Info'!$C$22)","v":""},"","",{"$f":"IF(A26=\"\",\"\",IF(LEFT(A26)=\"N\",'1-Award Info'!$G$6&\"00\",'1-Award Info'!$G$6&RIGHT('1-Award Info'!$G$7,2)))","v":""},"","","","",null,null,null,null,null,0]
[{"$f":"IF('2-Grant Budget'!AH38=\"\",\"\",LEFT('1-Award Info'!$G$4,7)&'2-Grant Budget'!AH38)","v":""},{"$f":"IF(A27=\"\",\"\",TRIM(LEFT('1-Award Info'!$C$19,30)))","v":""},{"$f":"IF(A27=\"\",\"\",'1-Award Info'!$G$5)","v":""},{"$f":"IF(A27=\"\",\"\",\"00\"&'1-Award Info'!$G$6)","v":""},"",{"$f":"IF(A27=\"\",\"\",VLOOKUP('1-Award Info'!$G$19,Tables!Q:R,2,0)&\"08008000\")","v":""},"","","",{"$f":"IF(A27=\"\",\"\",'1-Award Info'!$C$21)","v":""},{"$f":"IF(A27=\"\",\"\",'1-Award Info'!$C$22)","v":""},"","",{"$f":"IF(A27=\"\",\"\",IF(LEFT(A27)=\"N\",'1-Award Info'!$G$6&\"00\",'1-Award Info'!$G$6&RIGHT('1-Award Info'!$G$7,2)))","v":""},"","","","",null,null,null,null,null,0]
[{"$f":"IF('2-Grant Budget'!AH39=\"\",\"\",LEFT('1-Award Info'!$G$4,7)&'2-Grant Budget'!AH39)","v":""},{"$f":"IF(A28=\"\",\"\",TRIM(LEFT('1-Award Info'!$C$19,30)))","v":""},{"$f":"IF(A28=\"\",\"\",'1-Award Info'!$G$5)","v":""},{"$f":"IF(A28=\"\",\"\",\"00\"&'1-Award Info'!$G$6)","v":""},"",{"$f":"IF(A28=\"\",\"\",VLOOKUP('1-Award Info'!$G$19,Tables!Q:R,2,0)&\"08008000\")","v":""},"","","",{"$f":"IF(A28=\"\",\"\",'1-Award Info'!$C$21)","v":""},{"$f":"IF(A28=\"\",\"\",'1-Award Info'!$C$22)","v":""},"","",{"$f":"IF(A28=\"\",\"\",IF(LEFT(A28)=\"N\",'1-Award Info'!$G$6&\"00\",'1-Award Info'!$G$6&RIGHT('1-Award Info'!$G$7,2)))","v":""},"","","","",null,null,null,null,null,0]
[{"$f":"IF('2-Grant Budget'!AH40=\"\",\"\",LEFT('1-Award Info'!$G$4,7)&'2-Grant Budget'!AH40)","v":""},{"$f":"IF(A29=\"\",\"\",TRIM(LEFT('1-Award Info'!$C$19,30)))","v":""},{"$f":"IF(A29=\"\",\"\",'1-Award Info'!$G$5)","v":""},{"$f":"IF(A29=\"\",\"\",\"00\"&'1-Award Info'!$G$6)","v":""},"",{"$f":"IF(A29=\"\",\"\",VLOOKUP('1-Award Info'!$G$19,Tables!Q:R,2,0)&\"08008000\")","v":""},"","","",{"$f":"IF(A29=\"\",\"\",'1-Award Info'!$C$21)","v":""},{"$f":"IF(A29=\"\",\"\",'1-Award Info'!$C$22)","v":""},"","",{"$f":"IF(A29=\"\",\"\",IF(LEFT(A29)=\"N\",'1-Award Info'!$G$6&\"00\",'1-Award Info'!$G$6&RIGHT('1-Award Info'!$G$7,2)))","v":""},"","","","",null,null,null,null,null,0]
[{"$f":"IF('2-Grant Budget'!AH41=\"\",\"\",LEFT('1-Award Info'!$G$4,7)&'2-Grant Budget'!AH41)","v":""},{"$f":"IF(A30=\"\",\"\",TRIM(LEFT('1-Award Info'!$C$19,30)))","v":""},{"$f":"IF(A30=\"\",\"\",'1-Award Info'!$G$5)","v":""},{"$f":"IF(A30=\"\",\"\",\"00\"&'1-Award Info'!$G$6)","v":""},"",{"$f":"IF(A30=\"\",\"\",VLOOKUP('1-Award Info'!$G$19,Tables!Q:R,2,0)&\"08008000\")","v":""},"","","",{"$f":"IF(A30=\"\",\"\",'1-Award Info'!$C$21)","v":""},{"$f":"IF(A30=\"\",\"\",'1-Award Info'!$C$22)","v":""},"","",{"$f":"IF(A30=\"\",\"\",IF(LEFT(A30)=\"N\",'1-Award Info'!$G$6&\"00\",'1-Award Info'!$G$6&RIGHT('1-Award Info'!$G$7,2)))","v":""},"","","","",null,null,null,null,null,0]
[{"$f":"IF('2-Grant Budget'!AH42=\"\",\"\",LEFT('1-Award Info'!$G$4,7)&'2-Grant Budget'!AH42)","v":""},{"$f":"IF(A31=\"\",\"\",TRIM(LEFT('1-Award Info'!$C$19,30)))","v":""},{"$f":"IF(A31=\"\",\"\",'1-Award Info'!$G$5)","v":""},{"$f":"IF(A31=\"\",\"\",\"00\"&'1-Award Info'!$G$6)","v":""},"",{"$f":"IF(A31=\"\",\"\",VLOOKUP('1-Award Info'!$G$19,Tables!Q:R,2,0)&\"08008000\")","v":""},"","","",{"$f":"IF(A31=\"\",\"\",'1-Award Info'!$C$21)","v":""},{"$f":"IF(A31=\"\",\"\",'1-Award Info'!$C$22)","v":""},"","",{"$f":"IF(A31=\"\",\"\",IF(LEFT(A31)=\"N\",'1-Award Info'!$G$6&\"00\",'1-Award Info'!$G$6&RIGHT('1-Award Info'!$G$7,2)))","v":""},"","","","",null,null,null,null,null,0]
[{"$f":"IF('2-Grant Budget'!AH43=\"\",\"\",LEFT('1-Award Info'!$G$4,7)&'2-Grant Budget'!AH43)","v":""},{"$f":"IF(A32=\"\",\"\",TRIM(LEFT('1-Award Info'!$C$19,30)))","v":""},{"$f":"IF(A32=\"\",\"\",'1-Award Info'!$G$5)","v":""},{"$f":"IF(A32=\"\",\"\",\"00\"&'1-Award Info'!$G$6)","v":""},"",{"$f":"IF(A32=\"\",\"\",VLOOKUP('1-Award Info'!$G$19,Tables!Q:R,2,0)&\"08008000\")","v":""},"","","",{"$f":"IF(A32=\"\",\"\",'1-Award Info'!$C$21)","v":""},{"$f":"IF(A32=\"\",\"\",'1-Award Info'!$C$22)","v":""},"","",{"$f":"IF(A32=\"\",\"\",IF(LEFT(A32)=\"N\",'1-Award Info'!$G$6&\"00\",'1-Award Info'!$G$6&RIGHT('1-Award Info'!$G$7,2)))","v":""},"","","","",null,null,null,null,null,0]
[{"$f":"IF('2-Grant Budget'!AH44=\"\",\"\",LEFT('1-Award Info'!$G$4,7)&'2-Grant Budget'!AH44)","v":""},{"$f":"IF(A33=\"\",\"\",TRIM(LEFT('1-Award Info'!$C$19,30)))","v":""},{"$f":"IF(A33=\"\",\"\",'1-Award Info'!$G$5)","v":""},{"$f":"IF(A33=\"\",\"\",\"00\"&'1-Award Info'!$G$6)","v":""},"",{"$f":"IF(A33=\"\",\"\",VLOOKUP('1-Award Info'!$G$19,Tables!Q:R,2,0)&\"08008000\")","v":""},"","","",{"$f":"IF(A33=\"\",\"\",'1-Award Info'!$C$21)","v":""},{"$f":"IF(A33=\"\",\"\",'1-Award Info'!$C$22)","v":""},"","",{"$f":"IF(A33=\"\",\"\",IF(LEFT(A33)=\"N\",'1-Award Info'!$G$6&\"00\",'1-Award Info'!$G$6&RIGHT('1-Award Info'!$G$7,2)))","v":""},"","","","",null,null,null,null,null,0]
[{"$f":"IF('2-Grant Budget'!AH45=\"\",\"\",LEFT('1-Award Info'!$G$4,7)&'2-Grant Budget'!AH45)","v":""},{"$f":"IF(A34=\"\",\"\",TRIM(LEFT('1-Award Info'!$C$19,30)))","v":""},{"$f":"IF(A34=\"\",\"\",'1-Award Info'!$G$5)","v":""},{"$f":"IF(A34=\"\",\"\",\"00\"&'1-Award Info'!$G$6)","v":""},"",{"$f":"IF(A34=\"\",\"\",VLOOKUP('1-Award Info'!$G$19,Tables!Q:R,2,0)&\"08008000\")","v":""},"","","",{"$f":"IF(A34=\"\",\"\",'1-Award Info'!$C$21)","v":""},{"$f":"IF(A34=\"\",\"\",'1-Award Info'!$C$22)","v":""},"","",{"$f":"IF(A34=\"\",\"\",IF(LEFT(A34)=\"N\",'1-Award Info'!$G$6&\"00\",'1-Award Info'!$G$6&RIGHT('1-Award Info'!$G$7,2)))","v":""},"","","","",null,null,null,null,null,0]
[{"$f":"IF('2-Grant Budget'!AH46=\"\",\"\",LEFT('1-Award Info'!$G$4,7)&'2-Grant Budget'!AH46)","v":""},{"$f":"IF(A35=\"\",\"\",TRIM(LEFT('1-Award Info'!$C$19,30)))","v":""},{"$f":"IF(A35=\"\",\"\",'1-Award Info'!$G$5)","v":""},{"$f":"IF(A35=\"\",\"\",\"00\"&'1-Award Info'!$G$6)","v":""},"",{"$f":"IF(A35=\"\",\"\",VLOOKUP('1-Award Info'!$G$19,Tables!Q:R,2,0)&\"08008000\")","v":""},"","","",{"$f":"IF(A35=\"\",\"\",'1-Award Info'!$C$21)","v":""},{"$f":"IF(A35=\"\",\"\",'1-Award Info'!$C$22)","v":""},"","",{"$f":"IF(A35=\"\",\"\",IF(LEFT(A35)=\"N\",'1-Award Info'!$G$6&\"00\",'1-Award Info'!$G$6&RIGHT('1-Award Info'!$G$7,2)))","v":""},"","","","",null,null,null,null,null,0]
[{"$f":"IF('2-Grant Budget'!AH47=\"\",\"\",LEFT('1-Award Info'!$G$4,7)&'2-Grant Budget'!AH47)","v":""},{"$f":"IF(A36=\"\",\"\",TRIM(LEFT('1-Award Info'!$C$19,30)))","v":""},{"$f":"IF(A36=\"\",\"\",'1-Award Info'!$G$5)","v":""},{"$f":"IF(A36=\"\",\"\",\"00\"&'1-Award Info'!$G$6)","v":""},"",{"$f":"IF(A36=\"\",\"\",VLOOKUP('1-Award Info'!$G$19,Tables!Q:R,2,0)&\"08008000\")","v":""},"","","",{"$f":"IF(A36=\"\",\"\",'1-Award Info'!$C$21)","v":""},{"$f":"IF(A36=\"\",\"\",'1-Award Info'!$C$22)","v":""},"","",{"$f":"IF(A36=\"\",\"\",IF(LEFT(A36)=\"N\",'1-Award Info'!$G$6&\"00\",'1-Award Info'!$G$6&RIGHT('1-Award Info'!$G$7,2)))","v":""},"","","","",null,null,null,null,null,0]
[{"$f":"IF('2-Grant Budget'!AH48=\"\",\"\",LEFT('1-Award Info'!$G$4,7)&'2-Grant Budget'!AH48)","v":""},{"$f":"IF(A37=\"\",\"\",TRIM(LEFT('1-Award Info'!$C$19,30)))","v":""},{"$f":"IF(A37=\"\",\"\",'1-Award Info'!$G$5)","v":""},{"$f":"IF(A37=\"\",\"\",\"00\"&'1-Award Info'!$G$6)","v":""},"",{"$f":"IF(A37=\"\",\"\",VLOOKUP('1-Award Info'!$G$19,Tables!Q:R,2,0)&\"08008000\")","v":""},"","","",{"$f":"IF(A37=\"\",\"\",'1-Award Info'!$C$21)","v":""},{"$f":"IF(A37=\"\",\"\",'1-Award Info'!$C$22)","v":""},"","",{"$f":"IF(A37=\"\",\"\",IF(LEFT(A37)=\"N\",'1-Award Info'!$G$6&\"00\",'1-Award Info'!$G$6&RIGHT('1-Award Info'!$G$7,2)))","v":""},"","","","",null,null,null,null,null,0]
[{"$f":"IF('2-Grant Budget'!AH49=\"\",\"\",LEFT('1-Award Info'!$G$4,7)&'2-Grant Budget'!AH49)","v":""},{"$f":"IF(A38=\"\",\"\",TRIM(LEFT('1-Award Info'!$C$19,30)))","v":""},{"$f":"IF(A38=\"\",\"\",'1-Award Info'!$G$5)","v":""},{"$f":"IF(A38=\"\",\"\",\"00\"&'1-Award Info'!$G$6)","v":""},"",{"$f":"IF(A38=\"\",\"\",VLOOKUP('1-Award Info'!$G$19,Tables!Q:R,2,0)&\"08008000\")","v":""},"","","",{"$f":"IF(A38=\"\",\"\",'1-Award Info'!$C$21)","v":""},{"$f":"IF(A38=\"\",\"\",'1-Award Info'!$C$22)","v":""},"","",{"$f":"IF(A38=\"\",\"\",IF(LEFT(A38)=\"N\",'1-Award Info'!$G$6&\"00\",'1-Award Info'!$G$6&RIGHT('1-Award Info'!$G$7,2)))","v":""},"","","","",null,null,null,null,null,0]
[{"$f":"IF('2-Grant Budget'!AH50=\"\",\"\",LEFT('1-Award Info'!$G$4,7)&'2-Grant Budget'!AH50)","v":""},{"$f":"IF(A39=\"\",\"\",TRIM(LEFT('1-Award Info'!$C$19,30)))","v":""},{"$f":"IF(A39=\"\",\"\",'1-Award Info'!$G$5)","v":""},{"$f":"IF(A39=\"\",\"\",\"00\"&'1-Award Info'!$G$6)","v":""},"",{"$f":"IF(A39=\"\",\"\",VLOOKUP('1-Award Info'!$G$19,Tables!Q:R,2,0)&\"08008000\")","v":""},"","","",{"$f":"IF(A39=\"\",\"\",'1-Award Info'!$C$21)","v":""},{"$f":"IF(A39=\"\",\"\",'1-Award Info'!$C$22)","v":""},"","",{"$f":"IF(A39=\"\",\"\",IF(LEFT(A39)=\"N\",'1-Award Info'!$G$6&\"00\",'1-Award Info'!$G$6&RIGHT('1-Award Info'!$G$7,2)))","v":""},"","","",{"$f":"IF($A39=\"\",\"\",\"Y\")","v":""},null,null,null,null,null,0]
[{"$f":"IF('2-Grant Budget'!AH51=\"\",\"\",LEFT('1-Award Info'!$G$4,7)&'2-Grant Budget'!AH51)","v":""},{"$f":"IF(A40=\"\",\"\",TRIM(LEFT('1-Award Info'!$C$19,30)))","v":""},{"$f":"IF(A40=\"\",\"\",'1-Award Info'!$G$5)","v":""},{"$f":"IF(A40=\"\",\"\",\"00\"&'1-Award Info'!$G$6)","v":""},"",{"$f":"IF(A40=\"\",\"\",VLOOKUP('1-Award Info'!$G$19,Tables!Q:R,2,0)&\"08008000\")","v":""},"","","",{"$f":"IF(A40=\"\",\"\",'1-Award Info'!$C$21)","v":""},{"$f":"IF(A40=\"\",\"\",'1-Award Info'!$C$22)","v":""},"","",{"$f":"IF(A40=\"\",\"\",IF(LEFT(A40)=\"N\",'1-Award Info'!$G$6&\"00\",'1-Award Info'!$G$6&RIGHT('1-Award Info'!$G$7,2)))","v":""},"","","","",null,null,null,null,null,0]
[{"$f":"IF('2-Grant Budget'!AH52=\"\",\"\",LEFT('1-Award Info'!$G$4,7)&'2-Grant Budget'!AH52)","v":""},{"$f":"IF(A41=\"\",\"\",TRIM(LEFT('1-Award Info'!$C$19,30)))","v":""},{"$f":"IF(A41=\"\",\"\",'1-Award Info'!$G$5)","v":""},{"$f":"IF(A41=\"\",\"\",\"00\"&'1-Award Info'!$G$6)","v":""},"",{"$f":"IF(A41=\"\",\"\",VLOOKUP('1-Award Info'!$G$19,Tables!Q:R,2,0)&\"08008000\")","v":""},"","","",{"$f":"IF(A41=\"\",\"\",'1-Award Info'!$C$21)","v":""},{"$f":"IF(A41=\"\",\"\",'1-Award Info'!$C$22)","v":""},"","",{"$f":"IF(A41=\"\",\"\",IF(LEFT(A41)=\"N\",'1-Award Info'!$G$6&\"00\",'1-Award Info'!$G$6&RIGHT('1-Award Info'!$G$7,2)))","v":""},"","","","",null,null,null,null,null,0]
[{"$f":"IF('2-Grant Budget'!AH53=\"\",\"\",LEFT('1-Award Info'!$G$4,7)&'2-Grant Budget'!AH53)","v":""},{"$f":"IF(A42=\"\",\"\",TRIM(LEFT('1-Award Info'!$C$19,30)))","v":""},{"$f":"IF(A42=\"\",\"\",'1-Award Info'!$G$5)","v":""},{"$f":"IF(A42=\"\",\"\",\"00\"&'1-Award Info'!$G$6)","v":""},"",{"$f":"IF(A42=\"\",\"\",VLOOKUP('1-Award Info'!$G$19,Tables!Q:R,2,0)&\"08008000\")","v":""},"","","",{"$f":"IF(A42=\"\",\"\",'1-Award Info'!$C$21)","v":""},{"$f":"IF(A42=\"\",\"\",'1-Award Info'!$C$22)","v":""},"","",{"$f":"IF(A42=\"\",\"\",IF(LEFT(A42)=\"N\",'1-Award Info'!$G$6&\"00\",'1-Award Info'!$G$6&RIGHT('1-Award Info'!$G$7,2)))","v":""},"","","","",null,null,null,null,null,0]
[{"$f":"IF('2-Grant Budget'!AH54=\"\",\"\",LEFT('1-Award Info'!$G$4,7)&'2-Grant Budget'!AH54)","v":""},{"$f":"IF(A43=\"\",\"\",TRIM(LEFT('1-Award Info'!$C$19,30)))","v":""},{"$f":"IF(A43=\"\",\"\",'1-Award Info'!$G$5)","v":""},{"$f":"IF(A43=\"\",\"\",\"00\"&'1-Award Info'!$G$6)","v":""},"",{"$f":"IF(A43=\"\",\"\",VLOOKUP('1-Award Info'!$G$19,Tables!Q:R,2,0)&\"08008000\")","v":""},"","","",{"$f":"IF(A43=\"\",\"\",'1-Award Info'!$C$21)","v":""},{"$f":"IF(A43=\"\",\"\",'1-Award Info'!$C$22)","v":""},"","",{"$f":"IF(A43=\"\",\"\",IF(LEFT(A43)=\"N\",'1-Award Info'!$G$6&\"00\",'1-Award Info'!$G$6&RIGHT('1-Award Info'!$G$7,2)))","v":""},"","","","",null,null,null,null,null,0]
[{"$f":"IF('2-Grant Budget'!AH55=\"\",\"\",LEFT('1-Award Info'!$G$4,7)&'2-Grant Budget'!AH55)","v":""},{"$f":"IF(A44=\"\",\"\",TRIM(LEFT('1-Award Info'!$C$19,30)))","v":""},{"$f":"IF(A44=\"\",\"\",'1-Award Info'!$G$5)","v":""},{"$f":"IF(A44=\"\",\"\",\"00\"&'1-Award Info'!$G$6)","v":""},"",{"$f":"IF(A44=\"\",\"\",VLOOKUP('1-Award Info'!$G$19,Tables!Q:R,2,0)&\"08008000\")","v":""},"","","",{"$f":"IF(A44=\"\",\"\",'1-Award Info'!$C$21)","v":""},{"$f":"IF(A44=\"\",\"\",'1-Award Info'!$C$22)","v":""},"","",{"$f":"IF(A44=\"\",\"\",IF(LEFT(A44)=\"N\",'1-Award Info'!$G$6&\"00\",'1-Award Info'!$G$6&RIGHT('1-Award Info'!$G$7,2)))","v":""},"","","","",null,null,null,null,null,0]
[{"$f":"IF('2-Grant Budget'!AH56=\"\",\"\",LEFT('1-Award Info'!$G$4,7)&'2-Grant Budget'!AH56)","v":""},{"$f":"IF(A45=\"\",\"\",TRIM(LEFT('1-Award Info'!$C$19,30)))","v":""},{"$f":"IF(A45=\"\",\"\",'1-Award Info'!$G$5)","v":""},{"$f":"IF(A45=\"\",\"\",\"00\"&'1-Award Info'!$G$6)","v":""},"",{"$f":"IF(A45=\"\",\"\",VLOOKUP('1-Award Info'!$G$19,Tables!Q:R,2,0)&\"08008000\")","v":""},"","","",{"$f":"IF(A45=\"\",\"\",'1-Award Info'!$C$21)","v":""},{"$f":"IF(A45=\"\",\"\",'1-Award Info'!$C$22)","v":""},"","",{"$f":"IF(A45=\"\",\"\",IF(LEFT(A45)=\"N\",'1-Award Info'!$G$6&\"00\",'1-Award Info'!$G$6&RIGHT('1-Award Info'!$G$7,2)))","v":""},"","","","",null,null,null,null,null,0]
[{"$f":"IF('2-Grant Budget'!AH57=\"\",\"\",LEFT('1-Award Info'!$G$4,7)&'2-Grant Budget'!AH57)","v":""},{"$f":"IF(A46=\"\",\"\",TRIM(LEFT('1-Award Info'!$C$19,30)))","v":""},{"$f":"IF(A46=\"\",\"\",'1-Award Info'!$G$5)","v":""},{"$f":"IF(A46=\"\",\"\",\"00\"&'1-Award Info'!$G$6)","v":""},"",{"$f":"IF(A46=\"\",\"\",VLOOKUP('1-Award Info'!$G$19,Tables!Q:R,2,0)&\"08008000\")","v":""},"","","",{"$f":"IF(A46=\"\",\"\",'1-Award Info'!$C$21)","v":""},{"$f":"IF(A46=\"\",\"\",'1-Award Info'!$C$22)","v":""},"","",{"$f":"IF(A46=\"\",\"\",IF(LEFT(A46)=\"N\",'1-Award Info'!$G$6&\"00\",'1-Award Info'!$G$6&RIGHT('1-Award Info'!$G$7,2)))","v":""},"","","","",null,null,null,null,null,0]
[{"$f":"IF('2-Grant Budget'!AH58=\"\",\"\",LEFT('1-Award Info'!$G$4,7)&'2-Grant Budget'!AH58)","v":""},{"$f":"IF(A47=\"\",\"\",TRIM(LEFT('1-Award Info'!$C$19,30)))","v":""},{"$f":"IF(A47=\"\",\"\",'1-Award Info'!$G$5)","v":""},{"$f":"IF(A47=\"\",\"\",\"00\"&'1-Award Info'!$G$6)","v":""},"",{"$f":"IF(A47=\"\",\"\",VLOOKUP('1-Award Info'!$G$19,Tables!Q:R,2,0)&\"08008000\")","v":""},"","","",{"$f":"IF(A47=\"\",\"\",'1-Award Info'!$C$21)","v":""},{"$f":"IF(A47=\"\",\"\",'1-Award Info'!$C$22)","v":""},"","",{"$f":"IF(A47=\"\",\"\",IF(LEFT(A47)=\"N\",'1-Award Info'!$G$6&\"00\",'1-Award Info'!$G$6&RIGHT('1-Award Info'!$G$7,2)))","v":""},"","","","",null,null,null,null,null,0]
[{"$f":"IF('2-Grant Budget'!AH59=\"\",\"\",LEFT('1-Award Info'!$G$4,7)&'2-Grant Budget'!AH59)","v":""},{"$f":"IF(A48=\"\",\"\",TRIM(LEFT('1-Award Info'!$C$19,30)))","v":""},{"$f":"IF(A48=\"\",\"\",'1-Award Info'!$G$5)","v":""},{"$f":"IF(A48=\"\",\"\",\"00\"&'1-Award Info'!$G$6)","v":""},"",{"$f":"IF(A48=\"\",\"\",VLOOKUP('1-Award Info'!$G$19,Tables!Q:R,2,0)&\"08008000\")","v":""},"","","",{"$f":"IF(A48=\"\",\"\",'1-Award Info'!$C$21)","v":""},{"$f":"IF(A48=\"\",\"\",'1-Award Info'!$C$22)","v":""},"","",{"$f":"IF(A48=\"\",\"\",IF(LEFT(A48)=\"N\",'1-Award Info'!$G$6&\"00\",'1-Award Info'!$G$6&RIGHT('1-Award Info'!$G$7,2)))","v":""},"","","","",null,null,null,null,null,0]
[{"$f":"IF('2-Grant Budget'!AH60=\"\",\"\",LEFT('1-Award Info'!$G$4,7)&'2-Grant Budget'!AH60)","v":""},{"$f":"IF(A49=\"\",\"\",TRIM(LEFT('1-Award Info'!$C$19,30)))","v":""},{"$f":"IF(A49=\"\",\"\",'1-Award Info'!$G$5)","v":""},{"$f":"IF(A49=\"\",\"\",\"00\"&'1-Award Info'!$G$6)","v":""},"",{"$f":"IF(A49=\"\",\"\",VLOOKUP('1-Award Info'!$G$19,Tables!Q:R,2,0)&\"08008000\")","v":""},"","","",{"$f":"IF(A49=\"\",\"\",'1-Award Info'!$C$21)","v":""},{"$f":"IF(A49=\"\",\"\",'1-Award Info'!$C$22)","v":""},"","",{"$f":"IF(A49=\"\",\"\",IF(LEFT(A49)=\"N\",'1-Award Info'!$G$6&\"00\",'1-Award Info'!$G$6&RIGHT('1-Award Info'!$G$7,2)))","v":""},"","","","",null,null,null,null,null,0]
[{"$f":"IF('2-Grant Budget'!AH61=\"\",\"\",LEFT('1-Award Info'!$G$4,7)&'2-Grant Budget'!AH61)","v":""},{"$f":"IF(A50=\"\",\"\",TRIM(LEFT('1-Award Info'!$C$19,30)))","v":""},{"$f":"IF(A50=\"\",\"\",'1-Award Info'!$G$5)","v":""},{"$f":"IF(A50=\"\",\"\",\"00\"&'1-Award Info'!$G$6)","v":""},"",{"$f":"IF(A50=\"\",\"\",VLOOKUP('1-Award Info'!$G$19,Tables!Q:R,2,0)&\"08008000\")","v":""},"","","",{"$f":"IF(A50=\"\",\"\",'1-Award Info'!$C$21)","v":""},{"$f":"IF(A50=\"\",\"\",'1-Award Info'!$C$22)","v":""},"","",{"$f":"IF(A50=\"\",\"\",IF(LEFT(A50)=\"N\",'1-Award Info'!$G$6&\"00\",'1-Award Info'!$G$6&RIGHT('1-Award Info'!$G$7,2)))","v":""},"","","","",null,null,null,null,null,0]
[{"$f":"IF('2-Grant Budget'!AH62=\"\",\"\",LEFT('1-Award Info'!$G$4,7)&'2-Grant Budget'!AH62)","v":""},{"$f":"IF(A51=\"\",\"\",TRIM(LEFT('1-Award Info'!$C$19,30)))","v":""},{"$f":"IF(A51=\"\",\"\",'1-Award Info'!$G$5)","v":""},{"$f":"IF(A51=\"\",\"\",\"00\"&'1-Award Info'!$G$6)","v":""},"",{"$f":"IF(A51=\"\",\"\",VLOOKUP('1-Award Info'!$G$19,Tables!Q:R,2,0)&\"08008000\")","v":""},"","","",{"$f":"IF(A51=\"\",\"\",'1-Award Info'!$C$21)","v":""},{"$f":"IF(A51=\"\",\"\",'1-Award Info'!$C$22)","v":""},"","",{"$f":"IF(A51=\"\",\"\",IF(LEFT(A51)=\"N\",'1-Award Info'!$G$6&\"00\",'1-Award Info'!$G$6&RIGHT('1-Award Info'!$G$7,2)))","v":""},"","","","",null,null,null,null,null,0]
[{"$f":"IF('2-Grant Budget'!AH63=\"\",\"\",LEFT('1-Award Info'!$G$4,7)&'2-Grant Budget'!AH63)","v":""},{"$f":"IF(A52=\"\",\"\",TRIM(LEFT('1-Award Info'!$C$19,30)))","v":""},{"$f":"IF(A52=\"\",\"\",'1-Award Info'!$G$5)","v":""},{"$f":"IF(A52=\"\",\"\",\"00\"&'1-Award Info'!$G$6)","v":""},"",{"$f":"IF(A52=\"\",\"\",VLOOKUP('1-Award Info'!$G$19,Tables!Q:R,2,0)&\"08008000\")","v":""},"","","",{"$f":"IF(A52=\"\",\"\",'1-Award Info'!$C$21)","v":""},{"$f":"IF(A52=\"\",\"\",'1-Award Info'!$C$22)","v":""},"","",{"$f":"IF(A52=\"\",\"\",IF(LEFT(A52)=\"N\",'1-Award Info'!$G$6&\"00\",'1-Award Info'!$G$6&RIGHT('1-Award Info'!$G$7,2)))","v":""},"","","","",null,null,null,null,null,0]
[{"$f":"IF('2-Grant Budget'!AH64=\"\",\"\",LEFT('1-Award Info'!$G$4,7)&'2-Grant Budget'!AH64)","v":""},{"$f":"IF(A53=\"\",\"\",TRIM(LEFT('1-Award Info'!$C$19,30)))","v":""},{"$f":"IF(A53=\"\",\"\",'1-Award Info'!$G$5)","v":""},{"$f":"IF(A53=\"\",\"\",\"00\"&'1-Award Info'!$G$6)","v":""},"",{"$f":"IF(A53=\"\",\"\",VLOOKUP('1-Award Info'!$G$19,Tables!Q:R,2,0)&\"08008000\")","v":""},"","","",{"$f":"IF(A53=\"\",\"\",'1-Award Info'!$C$21)","v":""},{"$f":"IF(A53=\"\",\"\",'1-Award Info'!$C$22)","v":""},"","",{"$f":"IF(A53=\"\",\"\",IF(LEFT(A53)=\"N\",'1-Award Info'!$G$6&\"00\",'1-Award Info'!$G$6&RIGHT('1-Award Info'!$G$7,2)))","v":""},"","","","",null,null,null,null,null,0]
[{"$f":"IF('2-Grant Budget'!AH65=\"\",\"\",LEFT('1-Award Info'!$G$4,7)&'2-Grant Budget'!AH65)","v":""},{"$f":"IF(A54=\"\",\"\",TRIM(LEFT('1-Award Info'!$C$19,30)))","v":""},{"$f":"IF(A54=\"\",\"\",'1-Award Info'!$G$5)","v":""},{"$f":"IF(A54=\"\",\"\",\"00\"&'1-Award Info'!$G$6)","v":""},"",{"$f":"IF(A54=\"\",\"\",VLOOKUP('1-Award Info'!$G$19,Tables!Q:R,2,0)&\"08008000\")","v":""},"","","",{"$f":"IF(A54=\"\",\"\",'1-Award Info'!$C$21)","v":""},{"$f":"IF(A54=\"\",\"\",'1-Award Info'!$C$22)","v":""},"","",{"$f":"IF(A54=\"\",\"\",IF(LEFT(A54)=\"N\",'1-Award Info'!$G$6&\"00\",'1-Award Info'!$G$6&RIGHT('1-Award Info'!$G$7,2)))","v":""},"","","","",null,null,null,null,null,0]
[{"$f":"IF('2-Grant Budget'!AH66=\"\",\"\",LEFT('1-Award Info'!$G$4,7)&'2-Grant Budget'!AH66)","v":""},{"$f":"IF(A55=\"\",\"\",TRIM(LEFT('1-Award Info'!$C$19,30)))","v":""},{"$f":"IF(A55=\"\",\"\",'1-Award Info'!$G$5)","v":""},{"$f":"IF(A55=\"\",\"\",\"00\"&'1-Award Info'!$G$6)","v":""},"",{"$f":"IF(A55=\"\",\"\",VLOOKUP('1-Award Info'!$G$19,Tables!Q:R,2,0)&\"08008000\")","v":""},"","","",{"$f":"IF(A55=\"\",\"\",'1-Award Info'!$C$21)","v":""},{"$f":"IF(A55=\"\",\"\",'1-Award Info'!$C$22)","v":""},"","",{"$f":"IF(A55=\"\",\"\",IF(LEFT(A55)=\"N\",'1-Award Info'!$G$6&\"00\",'1-Award Info'!$G$6&RIGHT('1-Award Info'!$G$7,2)))","v":""},"","","","",null,null,null,null,null,0]
[{"$f":"IF('2-Grant Budget'!AH67=\"\",\"\",LEFT('1-Award Info'!$G$4,7)&'2-Grant Budget'!AH67)","v":""},{"$f":"IF(A56=\"\",\"\",TRIM(LEFT('1-Award Info'!$C$19,30)))","v":""},{"$f":"IF(A56=\"\",\"\",'1-Award Info'!$G$5)","v":""},{"$f":"IF(A56=\"\",\"\",\"00\"&'1-Award Info'!$G$6)","v":""},"",{"$f":"IF(A56=\"\",\"\",VLOOKUP('1-Award Info'!$G$19,Tables!Q:R,2,0)&\"08008000\")","v":""},"","","",{"$f":"IF(A56=\"\",\"\",'1-Award Info'!$C$21)","v":""},{"$f":"IF(A56=\"\",\"\",'1-Award Info'!$C$22)","v":""},"","",{"$f":"IF(A56=\"\",\"\",IF(LEFT(A56)=\"N\",'1-Award Info'!$G$6&\"00\",'1-Award Info'!$G$6&RIGHT('1-Award Info'!$G$7,2)))","v":""},"","","","",null,null,null,null,null,0]
[{"$f":"IF('2-Grant Budget'!AH68=\"\",\"\",LEFT('1-Award Info'!$G$4,7)&'2-Grant Budget'!AH68)","v":""},{"$f":"IF(A57=\"\",\"\",TRIM(LEFT('1-Award Info'!$C$19,30)))","v":""},{"$f":"IF(A57=\"\",\"\",'1-Award Info'!$G$5)","v":""},{"$f":"IF(A57=\"\",\"\",\"00\"&'1-Award Info'!$G$6)","v":""},"",{"$f":"IF(A57=\"\",\"\",VLOOKUP('1-Award Info'!$G$19,Tables!Q:R,2,0)&\"08008000\")","v":""},"","","",{"$f":"IF(A57=\"\",\"\",'1-Award Info'!$C$21)","v":""},{"$f":"IF(A57=\"\",\"\",'1-Award Info'!$C$22)","v":""},"","",{"$f":"IF(A57=\"\",\"\",IF(LEFT(A57)=\"N\",'1-Award Info'!$G$6&\"00\",'1-Award Info'!$G$6&RIGHT('1-Award Info'!$G$7,2)))","v":""},"","","","",null,null,null,null,null,0]
[{"$f":"IF('2-Grant Budget'!AH69=\"\",\"\",LEFT('1-Award Info'!$G$4,7)&'2-Grant Budget'!AH69)","v":""},{"$f":"IF(A58=\"\",\"\",TRIM(LEFT('1-Award Info'!$C$19,30)))","v":""},{"$f":"IF(A58=\"\",\"\",'1-Award Info'!$G$5)","v":""},{"$f":"IF(A58=\"\",\"\",\"00\"&'1-Award Info'!$G$6)","v":""},"",{"$f":"IF(A58=\"\",\"\",VLOOKUP('1-Award Info'!$G$19,Tables!Q:R,2,0)&\"08008000\")","v":""},"","","",{"$f":"IF(A58=\"\",\"\",'1-Award Info'!$C$21)","v":""},{"$f":"IF(A58=\"\",\"\",'1-Award Info'!$C$22)","v":""},"","",{"$f":"IF(A58=\"\",\"\",IF(LEFT(A58)=\"N\",'1-Award Info'!$G$6&\"00\",'1-Award Info'!$G$6&RIGHT('1-Award Info'!$G$7,2)))","v":""},"","","","",null,null,null,null,null,0]
[{"$f":"IF('2-Grant Budget'!AH70=\"\",\"\",LEFT('1-Award Info'!$G$4,7)&'2-Grant Budget'!AH70)","v":""},{"$f":"IF(A59=\"\",\"\",TRIM(LEFT('1-Award Info'!$C$19,30)))","v":""},{"$f":"IF(A59=\"\",\"\",'1-Award Info'!$G$5)","v":""},{"$f":"IF(A59=\"\",\"\",\"00\"&'1-Award Info'!$G$6)","v":""},"",{"$f":"IF(A59=\"\",\"\",VLOOKUP('1-Award Info'!$G$19,Tables!Q:R,2,0)&\"08008000\")","v":""},"","","",{"$f":"IF(A59=\"\",\"\",'1-Award Info'!$C$21)","v":""},{"$f":"IF(A59=\"\",\"\",'1-Award Info'!$C$22)","v":""},"","",{"$f":"IF(A59=\"\",\"\",IF(LEFT(A59)=\"N\",'1-Award Info'!$G$6&\"00\",'1-Award Info'!$G$6&RIGHT('1-Award Info'!$G$7,2)))","v":""},"","","","",null,null,null,null,null,0]
[{"$f":"IF('2-Grant Budget'!AH71=\"\",\"\",LEFT('1-Award Info'!$G$4,7)&'2-Grant Budget'!AH71)","v":""},{"$f":"IF(A60=\"\",\"\",TRIM(LEFT('1-Award Info'!$C$19,30)))","v":""},{"$f":"IF(A60=\"\",\"\",'1-Award Info'!$G$5)","v":""},{"$f":"IF(A60=\"\",\"\",\"00\"&'1-Award Info'!$G$6)","v":""},"",{"$f":"IF(A60=\"\",\"\",VLOOKUP('1-Award Info'!$G$19,Tables!Q:R,2,0)&\"08008000\")","v":""},"","","",{"$f":"IF(A60=\"\",\"\",'1-Award Info'!$C$21)","v":""},{"$f":"IF(A60=\"\",\"\",'1-Award Info'!$C$22)","v":""},"","",{"$f":"IF(A60=\"\",\"\",IF(LEFT(A60)=\"N\",'1-Award Info'!$G$6&\"00\",'1-Award Info'!$G$6&RIGHT('1-Award Info'!$G$7,2)))","v":""},"","","","",null,null,null,null,null,0]
[{"$f":"IF('2-Grant Budget'!AH72=\"\",\"\",LEFT('1-Award Info'!$G$4,7)&'2-Grant Budget'!AH72)","v":""},{"$f":"IF(A61=\"\",\"\",TRIM(LEFT('1-Award Info'!$C$19,30)))","v":""},{"$f":"IF(A61=\"\",\"\",'1-Award Info'!$G$5)","v":""},{"$f":"IF(A61=\"\",\"\",\"00\"&'1-Award Info'!$G$6)","v":""},"",{"$f":"IF(A61=\"\",\"\",VLOOKUP('1-Award Info'!$G$19,Tables!Q:R,2,0)&\"08008000\")","v":""},"","","",{"$f":"IF(A61=\"\",\"\",'1-Award Info'!$C$21)","v":""},{"$f":"IF(A61=\"\",\"\",'1-Award Info'!$C$22)","v":""},"","",{"$f":"IF(A61=\"\",\"\",IF(LEFT(A61)=\"N\",'1-Award Info'!$G$6&\"00\",'1-Award Info'!$G$6&RIGHT('1-Award Info'!$G$7,2)))","v":""},"","","","",null,null,null,null,null,0]
[{"$f":"IF('2-Grant Budget'!AH73=\"\",\"\",LEFT('1-Award Info'!$G$4,7)&'2-Grant Budget'!AH73)","v":""},{"$f":"IF(A62=\"\",\"\",TRIM(LEFT('1-Award Info'!$C$19,30)))","v":""},{"$f":"IF(A62=\"\",\"\",'1-Award Info'!$G$5)","v":""},{"$f":"IF(A62=\"\",\"\",\"00\"&'1-Award Info'!$G$6)","v":""},"",{"$f":"IF(A62=\"\",\"\",VLOOKUP('1-Award Info'!$G$19,Tables!Q:R,2,0)&\"08008000\")","v":""},"","","",{"$f":"IF(A62=\"\",\"\",'1-Award Info'!$C$21)","v":""},{"$f":"IF(A62=\"\",\"\",'1-Award Info'!$C$22)","v":""},"","",{"$f":"IF(A62=\"\",\"\",IF(LEFT(A62)=\"N\",'1-Award Info'!$G$6&\"00\",'1-Award Info'!$G$6&RIGHT('1-Award Info'!$G$7,2)))","v":""},"","","","",null,null,null,null,null,0]
[{"$f":"IF('2-Grant Budget'!AH74=\"\",\"\",LEFT('1-Award Info'!$G$4,7)&'2-Grant Budget'!AH74)","v":""},{"$f":"IF(A63=\"\",\"\",TRIM(LEFT('1-Award Info'!$C$19,30)))","v":""},{"$f":"IF(A63=\"\",\"\",'1-Award Info'!$G$5)","v":""},{"$f":"IF(A63=\"\",\"\",\"00\"&'1-Award Info'!$G$6)","v":""},"",{"$f":"IF(A63=\"\",\"\",VLOOKUP('1-Award Info'!$G$19,Tables!Q:R,2,0)&\"08008000\")","v":""},"","","",{"$f":"IF(A63=\"\",\"\",'1-Award Info'!$C$21)","v":""},{"$f":"IF(A63=\"\",\"\",'1-Award Info'!$C$22)","v":""},"","",{"$f":"IF(A63=\"\",\"\",IF(LEFT(A63)=\"N\",'1-Award Info'!$G$6&\"00\",'1-Award Info'!$G$6&RIGHT('1-Award Info'!$G$7,2)))","v":""},"","","","",null,null,null,null,null,0]
[{"$f":"IF('2-Grant Budget'!AH75=\"\",\"\",LEFT('1-Award Info'!$G$4,7)&'2-Grant Budget'!AH75)","v":""},{"$f":"IF(A64=\"\",\"\",TRIM(LEFT('1-Award Info'!$C$19,30)))","v":""},{"$f":"IF(A64=\"\",\"\",'1-Award Info'!$G$5)","v":""},{"$f":"IF(A64=\"\",\"\",\"00\"&'1-Award Info'!$G$6)","v":""},"",{"$f":"IF(A64=\"\",\"\",VLOOKUP('1-Award Info'!$G$19,Tables!Q:R,2,0)&\"08008000\")","v":""},"","","",{"$f":"IF(A64=\"\",\"\",'1-Award Info'!$C$21)","v":""},{"$f":"IF(A64=\"\",\"\",'1-Award Info'!$C$22)","v":""},"","",{"$f":"IF(A64=\"\",\"\",IF(LEFT(A64)=\"N\",'1-Award Info'!$G$6&\"00\",'1-Award Info'!$G$6&RIGHT('1-Award Info'!$G$7,2)))","v":""},"","","","",null,null,null,null,null,0]
[{"$f":"IF('2-Grant Budget'!AH76=\"\",\"\",LEFT('1-Award Info'!$G$4,7)&'2-Grant Budget'!AH76)","v":""},{"$f":"IF(A65=\"\",\"\",TRIM(LEFT('1-Award Info'!$C$19,30)))","v":""},{"$f":"IF(A65=\"\",\"\",'1-Award Info'!$G$5)","v":""},{"$f":"IF(A65=\"\",\"\",\"00\"&'1-Award Info'!$G$6)","v":""},"",{"$f":"IF(A65=\"\",\"\",VLOOKUP('1-Award Info'!$G$19,Tables!Q:R,2,0)&\"08008000\")","v":""},"","","",{"$f":"IF(A65=\"\",\"\",'1-Award Info'!$C$21)","v":""},{"$f":"IF(A65=\"\",\"\",'1-Award Info'!$C$22)","v":""},"","",{"$f":"IF(A65=\"\",\"\",IF(LEFT(A65)=\"N\",'1-Award Info'!$G$6&\"00\",'1-Award Info'!$G$6&RIGHT('1-Award Info'!$G$7,2)))","v":""},"","","","",null,null,null,null,null,0]
[{"$f":"IF('2-Grant Budget'!AH77=\"\",\"\",LEFT('1-Award Info'!$G$4,7)&'2-Grant Budget'!AH77)","v":""},{"$f":"IF(A66=\"\",\"\",TRIM(LEFT('1-Award Info'!$C$19,30)))","v":""},{"$f":"IF(A66=\"\",\"\",'1-Award Info'!$G$5)","v":""},{"$f":"IF(A66=\"\",\"\",\"00\"&'1-Award Info'!$G$6)","v":""},"",{"$f":"IF(A66=\"\",\"\",VLOOKUP('1-Award Info'!$G$19,Tables!Q:R,2,0)&\"08008000\")","v":""},"","","",{"$f":"IF(A66=\"\",\"\",'1-Award Info'!$C$21)","v":""},{"$f":"IF(A66=\"\",\"\",'1-Award Info'!$C$22)","v":""},"","",{"$f":"IF(A66=\"\",\"\",IF(LEFT(A66)=\"N\",'1-Award Info'!$G$6&\"00\",'1-Award Info'!$G$6&RIGHT('1-Award Info'!$G$7,2)))","v":""},"","","","",null,null,null,null,null,0]
[{"$f":"IF('2-Grant Budget'!AH78=\"\",\"\",LEFT('1-Award Info'!$G$4,7)&'2-Grant Budget'!AH78)","v":""},{"$f":"IF(A67=\"\",\"\",TRIM(LEFT('1-Award Info'!$C$19,30)))","v":""},{"$f":"IF(A67=\"\",\"\",'1-Award Info'!$G$5)","v":""},{"$f":"IF(A67=\"\",\"\",\"00\"&'1-Award Info'!$G$6)","v":""},"",{"$f":"IF(A67=\"\",\"\",VLOOKUP('1-Award Info'!$G$19,Tables!Q:R,2,0)&\"08008000\")","v":""},"","","",{"$f":"IF(A67=\"\",\"\",'1-Award Info'!$C$21)","v":""},{"$f":"IF(A67=\"\",\"\",'1-Award Info'!$C$22)","v":""},"","",{"$f":"IF(A67=\"\",\"\",IF(LEFT(A67)=\"N\",'1-Award Info'!$G$6&\"00\",'1-Award Info'!$G$6&RIGHT('1-Award Info'!$G$7,2)))","v":""},"","","","",null,null,null,null,null,0]
[{"$f":"IF('2-Grant Budget'!AH79=\"\",\"\",LEFT('1-Award Info'!$G$4,7)&'2-Grant Budget'!AH79)","v":""},{"$f":"IF(A68=\"\",\"\",TRIM(LEFT('1-Award Info'!$C$19,30)))","v":""},{"$f":"IF(A68=\"\",\"\",'1-Award Info'!$G$5)","v":""},{"$f":"IF(A68=\"\",\"\",\"00\"&'1-Award Info'!$G$6)","v":""},"",{"$f":"IF(A68=\"\",\"\",VLOOKUP('1-Award Info'!$G$19,Tables!Q:R,2,0)&\"08008000\")","v":""},"","","",{"$f":"IF(A68=\"\",\"\",'1-Award Info'!$C$21)","v":""},{"$f":"IF(A68=\"\",\"\",'1-Award Info'!$C$22)","v":""},"","",{"$f":"IF(A68=\"\",\"\",IF(LEFT(A68)=\"N\",'1-Award Info'!$G$6&\"00\",'1-Award Info'!$G$6&RIGHT('1-Award Info'!$G$7,2)))","v":""},"","","","",null,null,null,null,null,0]
[{"$f":"IF('2-Grant Budget'!AH80=\"\",\"\",LEFT('1-Award Info'!$G$4,7)&'2-Grant Budget'!AH80)","v":""},{"$f":"IF(A69=\"\",\"\",TRIM(LEFT('1-Award Info'!$C$19,30)))","v":""},{"$f":"IF(A69=\"\",\"\",'1-Award Info'!$G$5)","v":""},{"$f":"IF(A69=\"\",\"\",\"00\"&'1-Award Info'!$G$6)","v":""},"",{"$f":"IF(A69=\"\",\"\",VLOOKUP('1-Award Info'!$G$19,Tables!Q:R,2,0)&\"08008000\")","v":""},"","","",{"$f":"IF(A69=\"\",\"\",'1-Award Info'!$C$21)","v":""},{"$f":"IF(A69=\"\",\"\",'1-Award Info'!$C$22)","v":""},"","",{"$f":"IF(A69=\"\",\"\",IF(LEFT(A69)=\"N\",'1-Award Info'!$G$6&\"00\",'1-Award Info'!$G$6&RIGHT('1-Award Info'!$G$7,2)))","v":""},"","","","",null,null,null,null,null,0]
[{"$f":"IF('2-Grant Budget'!AH81=\"\",\"\",LEFT('1-Award Info'!$G$4,7)&'2-Grant Budget'!AH81)","v":""},{"$f":"IF(A70=\"\",\"\",TRIM(LEFT('1-Award Info'!$C$19,30)))","v":""},{"$f":"IF(A70=\"\",\"\",'1-Award Info'!$G$5)","v":""},{"$f":"IF(A70=\"\",\"\",\"00\"&'1-Award Info'!$G$6)","v":""},"",{"$f":"IF(A70=\"\",\"\",VLOOKUP('1-Award Info'!$G$19,Tables!Q:R,2,0)&\"08008000\")","v":""},"","","",{"$f":"IF(A70=\"\",\"\",'1-Award Info'!$C$21)","v":""},{"$f":"IF(A70=\"\",\"\",'1-Award Info'!$C$22)","v":""},"","",{"$f":"IF(A70=\"\",\"\",IF(LEFT(A70)=\"N\",'1-Award Info'!$G$6&\"00\",'1-Award Info'!$G$6&RIGHT('1-Award Info'!$G$7,2)))","v":""},"","","","",null,null,null,null,null,{"$f":"IF(LEN(A70)>0,1,0)","v":0}]
[{"$f":"IF('2-Grant Budget'!AH82=\"\",\"\",LEFT('1-Award Info'!$G$4,7)&'2-Grant Budget'!AH82)","v":""},{"$f":"IF(A71=\"\",\"\",TRIM(LEFT('1-Award Info'!$C$19,30)))","v":""},{"$f":"IF(A71=\"\",\"\",'1-Award Info'!$G$5)","v":""},{"$f":"IF(A71=\"\",\"\",\"00\"&'1-Award Info'!$G$6)","v":""},"",{"$f":"IF(A71=\"\",\"\",VLOOKUP('1-Award Info'!$G$19,Tables!Q:R,2,0)&\"08008000\")","v":""},"","","",{"$f":"IF(A71=\"\",\"\",'1-Award Info'!$C$21)","v":""},{"$f":"IF(A71=\"\",\"\",'1-Award Info'!$C$22)","v":""},"","",{"$f":"IF(A71=\"\",\"\",IF(LEFT(A71)=\"N\",'1-Award Info'!$G$6&\"00\",'1-Award Info'!$G$6&RIGHT('1-Award Info'!$G$7,2)))","v":""},"","","","",null,null,null,null,null,0]
[{"$f":"IF('2-Grant Budget'!AH83=\"\",\"\",LEFT('1-Award Info'!$G$4,7)&'2-Grant Budget'!AH83)","v":""},{"$f":"IF(A72=\"\",\"\",TRIM(LEFT('1-Award Info'!$C$19,30)))","v":""},{"$f":"IF(A72=\"\",\"\",'1-Award Info'!$G$5)","v":""},{"$f":"IF(A72=\"\",\"\",\"00\"&'1-Award Info'!$G$6)","v":""},{"$f":"IF(A72=\"\",\"\",$D$5)","v":""},{"$f":"IF(A72=\"\",\"\",VLOOKUP('1-Award Info'!$G$19,Tables!Q:R,2,0)&\"08008000\")","v":""},{"$f":"IF(A72=\"\",\"\",9848)","v":""},{"$f":"IF(A72=\"\",\"\",0)","v":""},{"$f":"IF(A72=\"\",\"\",\"GB\")","v":""},{"$f":"IF(A72=\"\",\"\",'1-Award Info'!$C$21)","v":""},{"$f":"IF(A72=\"\",\"\",'1-Award Info'!$C$22)","v":""},{"$f":"IF(A72=\"\",\"\",IF(M72=\"C\",\"Y\",\"N\"))","v":""},{"$f":"IF(A72=\"\",\"\",IF($M$5=\"s\",\"C\",\"S\"))","v":""},{"$f":"IF(A72=\"\",\"\",IF(LEFT(A72)=\"N\",'1-Award Info'!$G$6&\"00\",'1-Award Info'!$G$6&RIGHT('1-Award Info'!$G$7,2)))","v":""},{"$f":"MID(A72,2,6)","v":""},{"$f":"IF(A72=\"\",\"\",MID(A72,8,4))","v":""},{"$f":"IF(A72=\"\",\"\",MID(A72,12,4))","v":""},"",null,null,null,null,null,0]
[{"$f":"IF('2-Grant Budget'!AH84=\"\",\"\",LEFT('1-Award Info'!$G$4,7)&'2-Grant Budget'!AH84)","v":""},{"$f":"IF(A73=\"\",\"\",TRIM(LEFT('1-Award Info'!$C$19,30)))","v":""},{"$f":"IF(A73=\"\",\"\",'1-Award Info'!$G$5)","v":""},{"$f":"IF(A73=\"\",\"\",\"00\"&'1-Award Info'!$G$6)","v":""},"",{"$f":"IF(A73=\"\",\"\",VLOOKUP('1-Award Info'!$G$19,Tables!Q:R,2,0)&\"08008000\")","v":""},"","","",{"$f":"IF(A73=\"\",\"\",'1-Award Info'!$C$21)","v":""},{"$f":"IF(A73=\"\",\"\",'1-Award Info'!$C$22)","v":""},"","",{"$f":"IF(A73=\"\",\"\",IF(LEFT(A73)=\"N\",'1-Award Info'!$G$6&\"00\",'1-Award Info'!$G$6&RIGHT('1-Award Info'!$G$7,2)))","v":""},"","","","",null,null,null,null,null,0]
[{"$f":"IF('2-Grant Budget'!AH85=\"\",\"\",LEFT('1-Award Info'!$G$4,7)&'2-Grant Budget'!AH85)","v":""},{"$f":"IF(A74=\"\",\"\",TRIM(LEFT('1-Award Info'!$C$19,30)))","v":""},{"$f":"IF(A74=\"\",\"\",'1-Award Info'!$G$5)","v":""},{"$f":"IF(A74=\"\",\"\",\"00\"&'1-Award Info'!$G$6)","v":""},"",{"$f":"IF(A74=\"\",\"\",VLOOKUP('1-Award Info'!$G$19,Tables!Q:R,2,0)&\"08008000\")","v":""},"","","",{"$f":"IF(A74=\"\",\"\",'1-Award Info'!$C$21)","v":""},{"$f":"IF(A74=\"\",\"\",'1-Award Info'!$C$22)","v":""},"","",{"$f":"IF(A74=\"\",\"\",IF(LEFT(A74)=\"N\",'1-Award Info'!$G$6&\"00\",'1-Award Info'!$G$6&RIGHT('1-Award Info'!$G$7,2)))","v":""},"","","","",null,null,null,null,null,0]
[{"$f":"IF('2-Grant Budget'!AH86=\"\",\"\",LEFT('1-Award Info'!$G$4,7)&'2-Grant Budget'!AH86)","v":""},{"$f":"IF(A75=\"\",\"\",TRIM(LEFT('1-Award Info'!$C$19,30)))","v":""},{"$f":"IF(A75=\"\",\"\",'1-Award Info'!$G$5)","v":""},{"$f":"IF(A75=\"\",\"\",\"00\"&'1-Award Info'!$G$6)","v":""},"",{"$f":"IF(A75=\"\",\"\",VLOOKUP('1-Award Info'!$G$19,Tables!Q:R,2,0)&\"08008000\")","v":""},"","","",{"$f":"IF(A75=\"\",\"\",'1-Award Info'!$C$21)","v":""},{"$f":"IF(A75=\"\",\"\",'1-Award Info'!$C$22)","v":""},"","",{"$f":"IF(A75=\"\",\"\",IF(LEFT(A75)=\"N\",'1-Award Info'!$G$6&\"00\",'1-Award Info'!$G$6&RIGHT('1-Award Info'!$G$7,2)))","v":""},"","","","",null,null,null,null,null,0]
[{"$f":"IF('2-Grant Budget'!AH87=\"\",\"\",LEFT('1-Award Info'!$G$4,7)&'2-Grant Budget'!AH87)","v":""},{"$f":"IF(A76=\"\",\"\",TRIM(LEFT('1-Award Info'!$C$19,30)))","v":""},{"$f":"IF(A76=\"\",\"\",'1-Award Info'!$G$5)","v":""},{"$f":"IF(A76=\"\",\"\",\"00\"&'1-Award Info'!$G$6)","v":""},"",{"$f":"IF(A76=\"\",\"\",VLOOKUP('1-Award Info'!$G$19,Tables!Q:R,2,0)&\"08008000\")","v":""},"","","",{"$f":"IF(A76=\"\",\"\",'1-Award Info'!$C$21)","v":""},{"$f":"IF(A76=\"\",\"\",'1-Award Info'!$C$22)","v":""},"","",{"$f":"IF(A76=\"\",\"\",IF(LEFT(A76)=\"N\",'1-Award Info'!$G$6&\"00\",'1-Award Info'!$G$6&RIGHT('1-Award Info'!$G$7,2)))","v":""},"","","","",null,null,null,null,null,0]
[{"$f":"IF('2-Grant Budget'!AH88=\"\",\"\",LEFT('1-Award Info'!$G$4,7)&'2-Grant Budget'!AH88)","v":""},{"$f":"IF(A77=\"\",\"\",TRIM(LEFT('1-Award Info'!$C$19,30)))","v":""},{"$f":"IF(A77=\"\",\"\",'1-Award Info'!$G$5)","v":""},{"$f":"IF(A77=\"\",\"\",\"00\"&'1-Award Info'!$G$6)","v":""},"",{"$f":"IF(A77=\"\",\"\",VLOOKUP('1-Award Info'!$G$19,Tables!Q:R,2,0)&\"08008000\")","v":""},"","","",{"$f":"IF(A77=\"\",\"\",'1-Award Info'!$C$21)","v":""},{"$f":"IF(A77=\"\",\"\",'1-Award Info'!$C$22)","v":""},"","",{"$f":"IF(A77=\"\",\"\",IF(LEFT(A77)=\"N\",'1-Award Info'!$G$6&\"00\",'1-Award Info'!$G$6&RIGHT('1-Award Info'!$G$7,2)))","v":""},"","","","",null,null,null,null,null,0]
[{"$f":"IF('2-Grant Budget'!AH89=\"\",\"\",LEFT('1-Award Info'!$G$4,7)&'2-Grant Budget'!AH89)","v":""},{"$f":"IF(A78=\"\",\"\",TRIM(LEFT('1-Award Info'!$C$19,30)))","v":""},{"$f":"IF(A78=\"\",\"\",'1-Award Info'!$G$5)","v":""},{"$f":"IF(A78=\"\",\"\",\"00\"&'1-Award Info'!$G$6)","v":""},"",{"$f":"IF(A78=\"\",\"\",VLOOKUP('1-Award Info'!$G$19,Tables!Q:R,2,0)&\"08008000\")","v":""},"","","",{"$f":"IF(A78=\"\",\"\",'1-Award Info'!$C$21)","v":""},{"$f":"IF(A78=\"\",\"\",'1-Award Info'!$C$22)","v":""},"","",{"$f":"IF(A78=\"\",\"\",IF(LEFT(A78)=\"N\",'1-Award Info'!$G$6&\"00\",'1-Award Info'!$G$6&RIGHT('1-Award Info'!$G$7,2)))","v":""},"","","","",null,null,null,null,null,0]
[{"$f":"IF('2-Grant Budget'!AH90=\"\",\"\",LEFT('1-Award Info'!$G$4,7)&'2-Grant Budget'!AH90)","v":""},{"$f":"IF(A79=\"\",\"\",TRIM(LEFT('1-Award Info'!$C$19,30)))","v":""},{"$f":"IF(A79=\"\",\"\",'1-Award Info'!$G$5)","v":""},{"$f":"IF(A79=\"\",\"\",\"00\"&'1-Award Info'!$G$6)","v":""},"",{"$f":"IF(A79=\"\",\"\",VLOOKUP('1-Award Info'!$G$19,Tables!Q:R,2,0)&\"08008000\")","v":""},"","","",{"$f":"IF(A79=\"\",\"\",'1-Award Info'!$C$21)","v":""},{"$f":"IF(A79=\"\",\"\",'1-Award Info'!$C$22)","v":""},"","",{"$f":"IF(A79=\"\",\"\",IF(LEFT(A79)=\"N\",'1-Award Info'!$G$6&\"00\",'1-Award Info'!$G$6&RIGHT('1-Award Info'!$G$7,2)))","v":""},"","","","",null,null,null,null,null,0]
[{"$f":"IF('2-Grant Budget'!AH91=\"\",\"\",LEFT('1-Award Info'!$G$4,7)&'2-Grant Budget'!AH91)","v":""},{"$f":"IF(A80=\"\",\"\",TRIM(LEFT('1-Award Info'!$C$19,30)))","v":""},{"$f":"IF(A80=\"\",\"\",'1-Award Info'!$G$5)","v":""},{"$f":"IF(A80=\"\",\"\",\"00\"&'1-Award Info'!$G$6)","v":""},"",{"$f":"IF(A80=\"\",\"\",VLOOKUP('1-Award Info'!$G$19,Tables!Q:R,2,0)&\"08008000\")","v":""},"","","",{"$f":"IF(A80=\"\",\"\",'1-Award Info'!$C$21)","v":""},{"$f":"IF(A80=\"\",\"\",'1-Award Info'!$C$22)","v":""},"","",{"$f":"IF(A80=\"\",\"\",IF(LEFT(A80)=\"N\",'1-Award Info'!$G$6&\"00\",'1-Award Info'!$G$6&RIGHT('1-Award Info'!$G$7,2)))","v":""},"","","","",null,null,null,null,null,0]
[{"$f":"IF('2-Grant Budget'!AH92=\"\",\"\",LEFT('1-Award Info'!$G$4,7)&'2-Grant Budget'!AH92)","v":""},{"$f":"IF(A81=\"\",\"\",TRIM(LEFT('1-Award Info'!$C$19,30)))","v":""},{"$f":"IF(A81=\"\",\"\",'1-Award Info'!$G$5)","v":""},{"$f":"IF(A81=\"\",\"\",\"00\"&'1-Award Info'!$G$6)","v":""},"",{"$f":"IF(A81=\"\",\"\",VLOOKUP('1-Award Info'!$G$19,Tables!Q:R,2,0)&\"08008000\")","v":""},"","","",{"$f":"IF(A81=\"\",\"\",'1-Award Info'!$C$21)","v":""},{"$f":"IF(A81=\"\",\"\",'1-Award Info'!$C$22)","v":""},"","",{"$f":"IF(A81=\"\",\"\",IF(LEFT(A81)=\"N\",'1-Award Info'!$G$6&\"00\",'1-Award Info'!$G$6&RIGHT('1-Award Info'!$G$7,2)))","v":""},"","","","",null,null,null,null,null,0]
[{"$f":"IF('2-Grant Budget'!AH93=\"\",\"\",LEFT('1-Award Info'!$G$4,7)&'2-Grant Budget'!AH93)","v":""},{"$f":"IF(A82=\"\",\"\",TRIM(LEFT('1-Award Info'!$C$19,30)))","v":""},{"$f":"IF(A82=\"\",\"\",'1-Award Info'!$G$5)","v":""},{"$f":"IF(A82=\"\",\"\",\"00\"&'1-Award Info'!$G$6)","v":""},"",{"$f":"IF(A82=\"\",\"\",VLOOKUP('1-Award Info'!$G$19,Tables!Q:R,2,0)&\"08008000\")","v":""},"","","",{"$f":"IF(A82=\"\",\"\",'1-Award Info'!$C$21)","v":""},{"$f":"IF(A82=\"\",\"\",'1-Award Info'!$C$22)","v":""},"","",{"$f":"IF(A82=\"\",\"\",IF(LEFT(A82)=\"N\",'1-Award Info'!$G$6&\"00\",'1-Award Info'!$G$6&RIGHT('1-Award Info'!$G$7,2)))","v":""},"","","","",null,null,null,null,null,0]
[{"$f":"IF('2-Grant Budget'!AH94=\"\",\"\",LEFT('1-Award Info'!$G$4,7)&'2-Grant Budget'!AH94)","v":""},{"$f":"IF(A83=\"\",\"\",TRIM(LEFT('1-Award Info'!$C$19,30)))","v":""},{"$f":"IF(A83=\"\",\"\",'1-Award Info'!$G$5)","v":""},{"$f":"IF(A83=\"\",\"\",\"00\"&'1-Award Info'!$G$6)","v":""},"",{"$f":"IF(A83=\"\",\"\",VLOOKUP('1-Award Info'!$G$19,Tables!Q:R,2,0)&\"08008000\")","v":""},"","","",{"$f":"IF(A83=\"\",\"\",'1-Award Info'!$C$21)","v":""},{"$f":"IF(A83=\"\",\"\",'1-Award Info'!$C$22)","v":""},"","",{"$f":"IF(A83=\"\",\"\",IF(LEFT(A83)=\"N\",'1-Award Info'!$G$6&\"00\",'1-Award Info'!$G$6&RIGHT('1-Award Info'!$G$7,2)))","v":""},"","","","",null,null,null,null,null,0]
[{"$f":"IF('2-Grant Budget'!AH95=\"\",\"\",LEFT('1-Award Info'!$G$4,7)&'2-Grant Budget'!AH95)","v":""},{"$f":"IF(A84=\"\",\"\",TRIM(LEFT('1-Award Info'!$C$19,30)))","v":""},{"$f":"IF(A84=\"\",\"\",'1-Award Info'!$G$5)","v":""},{"$f":"IF(A84=\"\",\"\",\"00\"&'1-Award Info'!$G$6)","v":""},"",{"$f":"IF(A84=\"\",\"\",VLOOKUP('1-Award Info'!$G$19,Tables!Q:R,2,0)&\"08008000\")","v":""},"","","",{"$f":"IF(A84=\"\",\"\",'1-Award Info'!$C$21)","v":""},{"$f":"IF(A84=\"\",\"\",'1-Award Info'!$C$22)","v":""},"","",{"$f":"IF(A84=\"\",\"\",IF(LEFT(A84)=\"N\",'1-Award Info'!$G$6&\"00\",'1-Award Info'!$G$6&RIGHT('1-Award Info'!$G$7,2)))","v":""},"","","","",null,null,null,null,null,0]
[{"$f":"IF('2-Grant Budget'!AH96=\"\",\"\",LEFT('1-Award Info'!$G$4,7)&'2-Grant Budget'!AH96)","v":""},{"$f":"IF(A85=\"\",\"\",TRIM(LEFT('1-Award Info'!$C$19,30)))","v":""},{"$f":"IF(A85=\"\",\"\",'1-Award Info'!$G$5)","v":""},{"$f":"IF(A85=\"\",\"\",\"00\"&'1-Award Info'!$G$6)","v":""},"",{"$f":"IF(A85=\"\",\"\",VLOOKUP('1-Award Info'!$G$19,Tables!Q:R,2,0)&\"08008000\")","v":""},"","","",{"$f":"IF(A85=\"\",\"\",'1-Award Info'!$C$21)","v":""},{"$f":"IF(A85=\"\",\"\",'1-Award Info'!$C$22)","v":""},"","",{"$f":"IF(A85=\"\",\"\",IF(LEFT(A85)=\"N\",'1-Award Info'!$G$6&\"00\",'1-Award Info'!$G$6&RIGHT('1-Award Info'!$G$7,2)))","v":""},"","","","",null,null,null,null,null,0]
[{"$f":"IF('2-Grant Budget'!AH97=\"\",\"\",LEFT('1-Award Info'!$G$4,7)&'2-Grant Budget'!AH97)","v":""},{"$f":"IF(A86=\"\",\"\",TRIM(LEFT('1-Award Info'!$C$19,30)))","v":""},{"$f":"IF(A86=\"\",\"\",'1-Award Info'!$G$5)","v":""},{"$f":"IF(A86=\"\",\"\",\"00\"&'1-Award Info'!$G$6)","v":""},"",{"$f":"IF(A86=\"\",\"\",VLOOKUP('1-Award Info'!$G$19,Tables!Q:R,2,0)&\"08008000\")","v":""},"","","",{"$f":"IF(A86=\"\",\"\",'1-Award Info'!$C$21)","v":""},{"$f":"IF(A86=\"\",\"\",'1-Award Info'!$C$22)","v":""},"","",{"$f":"IF(A86=\"\",\"\",IF(LEFT(A86)=\"N\",'1-Award Info'!$G$6&\"00\",'1-Award Info'!$G$6&RIGHT('1-Award Info'!$G$7,2)))","v":""},"","","","",null,null,null,null,null,0]
[{"$f":"IF('2-Grant Budget'!AH98=\"\",\"\",LEFT('1-Award Info'!$G$4,7)&'2-Grant Budget'!AH98)","v":""},{"$f":"IF(A87=\"\",\"\",TRIM(LEFT('1-Award Info'!$C$19,30)))","v":""},{"$f":"IF(A87=\"\",\"\",'1-Award Info'!$G$5)","v":""},{"$f":"IF(A87=\"\",\"\",\"00\"&'1-Award Info'!$G$6)","v":""},"",{"$f":"IF(A87=\"\",\"\",VLOOKUP('1-Award Info'!$G$19,Tables!Q:R,2,0)&\"08008000\")","v":""},"","","",{"$f":"IF(A87=\"\",\"\",'1-Award Info'!$C$21)","v":""},{"$f":"IF(A87=\"\",\"\",'1-Award Info'!$C$22)","v":""},"","",{"$f":"IF(A87=\"\",\"\",IF(LEFT(A87)=\"N\",'1-Award Info'!$G$6&\"00\",'1-Award Info'!$G$6&RIGHT('1-Award Info'!$G$7,2)))","v":""},"","","","",null,null,null,null,null,0]
[{"$f":"IF('2-Grant Budget'!AH99=\"\",\"\",LEFT('1-Award Info'!$G$4,7)&'2-Grant Budget'!AH99)","v":""},{"$f":"IF(A88=\"\",\"\",TRIM(LEFT('1-Award Info'!$C$19,30)))","v":""},{"$f":"IF(A88=\"\",\"\",'1-Award Info'!$G$5)","v":""},{"$f":"IF(A88=\"\",\"\",\"00\"&'1-Award Info'!$G$6)","v":""},"",{"$f":"IF(A88=\"\",\"\",VLOOKUP('1-Award Info'!$G$19,Tables!Q:R,2,0)&\"08008000\")","v":""},"","","",{"$f":"IF(A88=\"\",\"\",'1-Award Info'!$C$21)","v":""},{"$f":"IF(A88=\"\",\"\",'1-Award Info'!$C$22)","v":""},"","",{"$f":"IF(A88=\"\",\"\",IF(LEFT(A88)=\"N\",'1-Award Info'!$G$6&\"00\",'1-Award Info'!$G$6&RIGHT('1-Award Info'!$G$7,2)))","v":""},"","","","",null,null,null,null,null,0]
[{"$f":"IF('2-Grant Budget'!AH100=\"\",\"\",LEFT('1-Award Info'!$G$4,7)&'2-Grant Budget'!AH100)","v":""},{"$f":"IF(A89=\"\",\"\",TRIM(LEFT('1-Award Info'!$C$19,30)))","v":""},{"$f":"IF(A89=\"\",\"\",'1-Award Info'!$G$5)","v":""},{"$f":"IF(A89=\"\",\"\",\"00\"&'1-Award Info'!$G$6)","v":""},"",{"$f":"IF(A89=\"\",\"\",VLOOKUP('1-Award Info'!$G$19,Tables!Q:R,2,0)&\"08008000\")","v":""},"","","",{"$f":"IF(A89=\"\",\"\",'1-Award Info'!$C$21)","v":""},{"$f":"IF(A89=\"\",\"\",'1-Award Info'!$C$22)","v":""},"","",{"$f":"IF(A89=\"\",\"\",IF(LEFT(A89)=\"N\",'1-Award Info'!$G$6&\"00\",'1-Award Info'!$G$6&RIGHT('1-Award Info'!$G$7,2)))","v":""},"","","","",null,null,null,null,null,0]
[{"$f":"IF('2-Grant Budget'!AH101=\"\",\"\",LEFT('1-Award Info'!$G$4,7)&'2-Grant Budget'!AH101)","v":""},{"$f":"IF(A90=\"\",\"\",TRIM(LEFT('1-Award Info'!$C$19,30)))","v":""},{"$f":"IF(A90=\"\",\"\",'1-Award Info'!$G$5)","v":""},{"$f":"IF(A90=\"\",\"\",\"00\"&'1-Award Info'!$G$6)","v":""},"",{"$f":"IF(A90=\"\",\"\",VLOOKUP('1-Award Info'!$G$19,Tables!Q:R,2,0)&\"08008000\")","v":""},"","","",{"$f":"IF(A90=\"\",\"\",'1-Award Info'!$C$21)","v":""},{"$f":"IF(A90=\"\",\"\",'1-Award Info'!$C$22)","v":""},"","",{"$f":"IF(A90=\"\",\"\",IF(LEFT(A90)=\"N\",'1-Award Info'!$G$6&\"00\",'1-Award Info'!$G$6&RIGHT('1-Award Info'!$G$7,2)))","v":""},"","","","",null,null,null,null,null,0]
[{"$f":"IF('2-Grant Budget'!AH102=\"\",\"\",LEFT('1-Award Info'!$G$4,7)&'2-Grant Budget'!AH102)","v":""},{"$f":"IF(A91=\"\",\"\",TRIM(LEFT('1-Award Info'!$C$19,30)))","v":""},{"$f":"IF(A91=\"\",\"\",'1-Award Info'!$G$5)","v":""},{"$f":"IF(A91=\"\",\"\",\"00\"&'1-Award Info'!$G$6)","v":""},"",{"$f":"IF(A91=\"\",\"\",VLOOKUP('1-Award Info'!$G$19,Tables!Q:R,2,0)&\"08008000\")","v":""},"","","",{"$f":"IF(A91=\"\",\"\",'1-Award Info'!$C$21)","v":""},{"$f":"IF(A91=\"\",\"\",'1-Award Info'!$C$22)","v":""},"","",{"$f":"IF(A91=\"\",\"\",IF(LEFT(A91)=\"N\",'1-Award Info'!$G$6&\"00\",'1-Award Info'!$G$6&RIGHT('1-Award Info'!$G$7,2)))","v":""},"","","","",null,null,null,null,null,0]
[{"$f":"IF('2-Grant Budget'!AH103=\"\",\"\",LEFT('1-Award Info'!$G$4,7)&'2-Grant Budget'!AH103)","v":""},{"$f":"IF(A92=\"\",\"\",TRIM(LEFT('1-Award Info'!$C$19,30)))","v":""},{"$f":"IF(A92=\"\",\"\",'1-Award Info'!$G$5)","v":""},{"$f":"IF(A92=\"\",\"\",\"00\"&'1-Award Info'!$G$6)","v":""},"",{"$f":"IF(A92=\"\",\"\",VLOOKUP('1-Award Info'!$G$19,Tables!Q:R,2,0)&\"08008000\")","v":""},"","","",{"$f":"IF(A92=\"\",\"\",'1-Award Info'!$C$21)","v":""},{"$f":"IF(A92=\"\",\"\",'1-Award Info'!$C$22)","v":""},"","",{"$f":"IF(A92=\"\",\"\",IF(LEFT(A92)=\"N\",'1-Award Info'!$G$6&\"00\",'1-Award Info'!$G$6&RIGHT('1-Award Info'!$G$7,2)))","v":""},"","","","",null,null,null,null,null,0]
[{"$f":"IF('2-Grant Budget'!AH104=\"\",\"\",LEFT('1-Award Info'!$G$4,7)&'2-Grant Budget'!AH104)","v":""},{"$f":"IF(A93=\"\",\"\",TRIM(LEFT('1-Award Info'!$C$19,30)))","v":""},{"$f":"IF(A93=\"\",\"\",'1-Award Info'!$G$5)","v":""},{"$f":"IF(A93=\"\",\"\",\"00\"&'1-Award Info'!$G$6)","v":""},"",{"$f":"IF(A93=\"\",\"\",VLOOKUP('1-Award Info'!$G$19,Tables!Q:R,2,0)&\"08008000\")","v":""},"","","",{"$f":"IF(A93=\"\",\"\",'1-Award Info'!$C$21)","v":""},{"$f":"IF(A93=\"\",\"\",'1-Award Info'!$C$22)","v":""},"","",{"$f":"IF(A93=\"\",\"\",IF(LEFT(A93)=\"N\",'1-Award Info'!$G$6&\"00\",'1-Award Info'!$G$6&RIGHT('1-Award Info'!$G$7,2)))","v":""},"","","","",null,null,null,null,null,0]
[{"$f":"IF('2-Grant Budget'!AH105=\"\",\"\",LEFT('1-Award Info'!$G$4,7)&'2-Grant Budget'!AH105)","v":""},{"$f":"IF(A94=\"\",\"\",TRIM(LEFT('1-Award Info'!$C$19,30)))","v":""},{"$f":"IF(A94=\"\",\"\",'1-Award Info'!$G$5)","v":""},{"$f":"IF(A94=\"\",\"\",\"00\"&'1-Award Info'!$G$6)","v":""},"",{"$f":"IF(A94=\"\",\"\",VLOOKUP('1-Award Info'!$G$19,Tables!Q:R,2,0)&\"08008000\")","v":""},"","","",{"$f":"IF(A94=\"\",\"\",'1-Award Info'!$C$21)","v":""},{"$f":"IF(A94=\"\",\"\",'1-Award Info'!$C$22)","v":""},"","",{"$f":"IF(A94=\"\",\"\",IF(LEFT(A94)=\"N\",'1-Award Info'!$G$6&\"00\",'1-Award Info'!$G$6&RIGHT('1-Award Info'!$G$7,2)))","v":""},"","","","",null,null,null,null,null,0]
[{"$f":"IF('2-Grant Budget'!AH106=\"\",\"\",LEFT('1-Award Info'!$G$4,7)&'2-Grant Budget'!AH106)","v":""},{"$f":"IF(A95=\"\",\"\",TRIM(LEFT('1-Award Info'!$C$19,30)))","v":""},{"$f":"IF(A95=\"\",\"\",'1-Award Info'!$G$5)","v":""},{"$f":"IF(A95=\"\",\"\",\"00\"&'1-Award Info'!$G$6)","v":""},"",{"$f":"IF(A95=\"\",\"\",VLOOKUP('1-Award Info'!$G$19,Tables!Q:R,2,0)&\"08008000\")","v":""},"","","",{"$f":"IF(A95=\"\",\"\",'1-Award Info'!$C$21)","v":""},{"$f":"IF(A95=\"\",\"\",'1-Award Info'!$C$22)","v":""},"","",{"$f":"IF(A95=\"\",\"\",IF(LEFT(A95)=\"N\",'1-Award Info'!$G$6&\"00\",'1-Award Info'!$G$6&RIGHT('1-Award Info'!$G$7,2)))","v":""},"","","","",null,null,null,null,null,0]
[{"$f":"IF('2-Grant Budget'!AH107=\"\",\"\",LEFT('1-Award Info'!$G$4,7)&'2-Grant Budget'!AH107)","v":""},{"$f":"IF(A96=\"\",\"\",TRIM(LEFT('1-Award Info'!$C$19,30)))","v":""},{"$f":"IF(A96=\"\",\"\",'1-Award Info'!$G$5)","v":""},{"$f":"IF(A96=\"\",\"\",\"00\"&'1-Award Info'!$G$6)","v":""},"",{"$f":"IF(A96=\"\",\"\",VLOOKUP('1-Award Info'!$G$19,Tables!Q:R,2,0)&\"08008000\")","v":""},"","","",{"$f":"IF(A96=\"\",\"\",'1-Award Info'!$C$21)","v":""},{"$f":"IF(A96=\"\",\"\",'1-Award Info'!$C$22)","v":""},"","",{"$f":"IF(A96=\"\",\"\",IF(LEFT(A96)=\"N\",'1-Award Info'!$G$6&\"00\",'1-Award Info'!$G$6&RIGHT('1-Award Info'!$G$7,2)))","v":""},"","","","",null,null,null,null,null,0]
[{"$f":"IF('2-Grant Budget'!AH108=\"\",\"\",LEFT('1-Award Info'!$G$4,7)&'2-Grant Budget'!AH108)","v":""},{"$f":"IF(A97=\"\",\"\",TRIM(LEFT('1-Award Info'!$C$19,30)))","v":""},{"$f":"IF(A97=\"\",\"\",'1-Award Info'!$G$5)","v":""},{"$f":"IF(A97=\"\",\"\",\"00\"&'1-Award Info'!$G$6)","v":""},"",{"$f":"IF(A97=\"\",\"\",VLOOKUP('1-Award Info'!$G$19,Tables!Q:R,2,0)&\"08008000\")","v":""},"","","",{"$f":"IF(A97=\"\",\"\",'1-Award Info'!$C$21)","v":""},{"$f":"IF(A97=\"\",\"\",'1-Award Info'!$C$22)","v":""},"","",{"$f":"IF(A97=\"\",\"\",IF(LEFT(A97)=\"N\",'1-Award Info'!$G$6&\"00\",'1-Award Info'!$G$6&RIGHT('1-Award Info'!$G$7,2)))","v":""},"","","","",null,null,null,null,null,0]
[{"$f":"IF('2-Grant Budget'!AH109=\"\",\"\",LEFT('1-Award Info'!$G$4,7)&'2-Grant Budget'!AH109)","v":""},{"$f":"IF(A98=\"\",\"\",TRIM(LEFT('1-Award Info'!$C$19,30)))","v":""},{"$f":"IF(A98=\"\",\"\",'1-Award Info'!$G$5)","v":""},{"$f":"IF(A98=\"\",\"\",\"00\"&'1-Award Info'!$G$6)","v":""},"",{"$f":"IF(A98=\"\",\"\",VLOOKUP('1-Award Info'!$G$19,Tables!Q:R,2,0)&\"08008000\")","v":""},"","","",{"$f":"IF(A98=\"\",\"\",'1-Award Info'!$C$21)","v":""},{"$f":"IF(A98=\"\",\"\",'1-Award Info'!$C$22)","v":""},"","",{"$f":"IF(A98=\"\",\"\",IF(LEFT(A98)=\"N\",'1-Award Info'!$G$6&\"00\",'1-Award Info'!$G$6&RIGHT('1-Award Info'!$G$7,2)))","v":""},"","","","",null,null,null,null,null,0]
[{"$f":"IF('2-Grant Budget'!AH110=\"\",\"\",LEFT('1-Award Info'!$G$4,7)&'2-Grant Budget'!AH110)","v":""},{"$f":"IF(A99=\"\",\"\",TRIM(LEFT('1-Award Info'!$C$19,30)))","v":""},{"$f":"IF(A99=\"\",\"\",'1-Award Info'!$G$5)","v":""},{"$f":"IF(A99=\"\",\"\",\"00\"&'1-Award Info'!$G$6)","v":""},"",{"$f":"IF(A99=\"\",\"\",VLOOKUP('1-Award Info'!$G$19,Tables!Q:R,2,0)&\"08008000\")","v":""},"","","",{"$f":"IF(A99=\"\",\"\",'1-Award Info'!$C$21)","v":""},{"$f":"IF(A99=\"\",\"\",'1-Award Info'!$C$22)","v":""},"","",{"$f":"IF(A99=\"\",\"\",IF(LEFT(A99)=\"N\",'1-Award Info'!$G$6&\"00\",'1-Award Info'!$G$6&RIGHT('1-Award Info'!$G$7,2)))","v":""},"","","","",null,null,null,null,null,0]
[{"$f":"IF('2-Grant Budget'!AH111=\"\",\"\",LEFT('1-Award Info'!$G$4,7)&'2-Grant Budget'!AH111)","v":""},{"$f":"IF(A100=\"\",\"\",TRIM(LEFT('1-Award Info'!$C$19,30)))","v":""},{"$f":"IF(A100=\"\",\"\",'1-Award Info'!$G$5)","v":""},{"$f":"IF(A100=\"\",\"\",\"00\"&'1-Award Info'!$G$6)","v":""},"",{"$f":"IF(A100=\"\",\"\",VLOOKUP('1-Award Info'!$G$19,Tables!Q:R,2,0)&\"08008000\")","v":""},"","","",{"$f":"IF(A100=\"\",\"\",'1-Award Info'!$C$21)","v":""},{"$f":"IF(A100=\"\",\"\",'1-Award Info'!$C$22)","v":""},"","",{"$f":"IF(A100=\"\",\"\",IF(LEFT(A100)=\"N\",'1-Award Info'!$G$6&\"00\",'1-Award Info'!$G$6&RIGHT('1-Award Info'!$G$7,2)))","v":""},"","","","",null,null,null,null,null,0]
[{"$f":"IF('2-Grant Budget'!AH112=\"\",\"\",LEFT('1-Award Info'!$G$4,7)&'2-Grant Budget'!AH112)","v":""},{"$f":"IF(A101=\"\",\"\",TRIM(LEFT('1-Award Info'!$C$19,30)))","v":""},{"$f":"IF(A101=\"\",\"\",'1-Award Info'!$G$5)","v":""},{"$f":"IF(A101=\"\",\"\",\"00\"&'1-Award Info'!$G$6)","v":""},"",{"$f":"IF(A101=\"\",\"\",VLOOKUP('1-Award Info'!$G$19,Tables!Q:R,2,0)&\"08008000\")","v":""},"","","",{"$f":"IF(A101=\"\",\"\",'1-Award Info'!$C$21)","v":""},{"$f":"IF(A101=\"\",\"\",'1-Award Info'!$C$22)","v":""},"","",{"$f":"IF(A101=\"\",\"\",IF(LEFT(A101)=\"N\",'1-Award Info'!$G$6&\"00\",'1-Award Info'!$G$6&RIGHT('1-Award Info'!$G$7,2)))","v":""},"","","","",null,null,null,null,null,0]
[{"$f":"IF('2-Grant Budget'!AH113=\"\",\"\",LEFT('1-Award Info'!$G$4,7)&'2-Grant Budget'!AH113)","v":""},{"$f":"IF(A102=\"\",\"\",TRIM(LEFT('1-Award Info'!$C$19,30)))","v":""},{"$f":"IF(A102=\"\",\"\",'1-Award Info'!$G$5)","v":""},{"$f":"IF(A102=\"\",\"\",\"00\"&'1-Award Info'!$G$6)","v":""},"",{"$f":"IF(A102=\"\",\"\",VLOOKUP('1-Award Info'!$G$19,Tables!Q:R,2,0)&\"08008000\")","v":""},"","","",{"$f":"IF(A102=\"\",\"\",'1-Award Info'!$C$21)","v":""},{"$f":"IF(A102=\"\",\"\",'1-Award Info'!$C$22)","v":""},"","",{"$f":"IF(A102=\"\",\"\",IF(LEFT(A102)=\"N\",'1-Award Info'!$G$6&\"00\",'1-Award Info'!$G$6&RIGHT('1-Award Info'!$G$7,2)))","v":""},"","","","",null,null,null,null,null,0]
[{"$f":"IF('2-Grant Budget'!AH114=\"\",\"\",LEFT('1-Award Info'!$G$4,7)&'2-Grant Budget'!AH114)","v":""},{"$f":"IF(A103=\"\",\"\",TRIM(LEFT('1-Award Info'!$C$19,30)))","v":""},{"$f":"IF(A103=\"\",\"\",'1-Award Info'!$G$5)","v":""},{"$f":"IF(A103=\"\",\"\",\"00\"&'1-Award Info'!$G$6)","v":""},"",{"$f":"IF(A103=\"\",\"\",VLOOKUP('1-Award Info'!$G$19,Tables!Q:R,2,0)&\"08008000\")","v":""},"","","",{"$f":"IF(A103=\"\",\"\",'1-Award Info'!$C$21)","v":""},{"$f":"IF(A103=\"\",\"\",'1-Award Info'!$C$22)","v":""},"","",{"$f":"IF(A103=\"\",\"\",IF(LEFT(A103)=\"N\",'1-Award Info'!$G$6&\"00\",'1-Award Info'!$G$6&RIGHT('1-Award Info'!$G$7,2)))","v":""},"","","",{"$f":"IF($A103=\"\",\"\",\"Y\")","v":""},null,null,null,null,null,0]
[{"$f":"IF('2-Grant Budget'!AH115=\"\",\"\",LEFT('1-Award Info'!$G$4,7)&'2-Grant Budget'!AH115)","v":""},{"$f":"IF(A104=\"\",\"\",TRIM(LEFT('1-Award Info'!$C$19,30)))","v":""},{"$f":"IF(A104=\"\",\"\",'1-Award Info'!$G$5)","v":""},{"$f":"IF(A104=\"\",\"\",\"00\"&'1-Award Info'!$G$6)","v":""},"",{"$f":"IF(A104=\"\",\"\",VLOOKUP('1-Award Info'!$G$19,Tables!Q:R,2,0)&\"08008000\")","v":""},"","","",{"$f":"IF(A104=\"\",\"\",'1-Award Info'!$C$21)","v":""},{"$f":"IF(A104=\"\",\"\",'1-Award Info'!$C$22)","v":""},"","",{"$f":"IF(A104=\"\",\"\",IF(LEFT(A104)=\"N\",'1-Award Info'!$G$6&\"00\",'1-Award Info'!$G$6&RIGHT('1-Award Info'!$G$7,2)))","v":""},"","","","",null,null,null,null,null,0]
[{"$f":"IF('2-Grant Budget'!AH116=\"\",\"\",LEFT('1-Award Info'!$G$4,7)&'2-Grant Budget'!AH116)","v":""},{"$f":"IF(A105=\"\",\"\",TRIM(LEFT('1-Award Info'!$C$19,30)))","v":""},{"$f":"IF(A105=\"\",\"\",'1-Award Info'!$G$5)","v":""},{"$f":"IF(A105=\"\",\"\",\"00\"&'1-Award Info'!$G$6)","v":""},"",{"$f":"IF(A105=\"\",\"\",VLOOKUP('1-Award Info'!$G$19,Tables!Q:R,2,0)&\"08008000\")","v":""},"","","",{"$f":"IF(A105=\"\",\"\",'1-Award Info'!$C$21)","v":""},{"$f":"IF(A105=\"\",\"\",'1-Award Info'!$C$22)","v":""},"","",{"$f":"IF(A105=\"\",\"\",IF(LEFT(A105)=\"N\",'1-Award Info'!$G$6&\"00\",'1-Award Info'!$G$6&RIGHT('1-Award Info'!$G$7,2)))","v":""},"","","","",null,null,null,null,null,0]
[{"$f":"IF('2-Grant Budget'!AH117=\"\",\"\",LEFT('1-Award Info'!$G$4,7)&'2-Grant Budget'!AH117)","v":""},{"$f":"IF(A106=\"\",\"\",TRIM(LEFT('1-Award Info'!$C$19,30)))","v":""},{"$f":"IF(A106=\"\",\"\",'1-Award Info'!$G$5)","v":""},{"$f":"IF(A106=\"\",\"\",\"00\"&'1-Award Info'!$G$6)","v":""},"",{"$f":"IF(A106=\"\",\"\",VLOOKUP('1-Award Info'!$G$19,Tables!Q:R,2,0)&\"08008000\")","v":""},"","","",{"$f":"IF(A106=\"\",\"\",'1-Award Info'!$C$21)","v":""},{"$f":"IF(A106=\"\",\"\",'1-Award Info'!$C$22)","v":""},"","",{"$f":"IF(A106=\"\",\"\",IF(LEFT(A106)=\"N\",'1-Award Info'!$G$6&\"00\",'1-Award Info'!$G$6&RIGHT('1-Award Info'!$G$7,2)))","v":""},"","","","",null,null,null,null,null,0]
[{"$f":"IF('2-Grant Budget'!AH118=\"\",\"\",LEFT('1-Award Info'!$G$4,7)&'2-Grant Budget'!AH118)","v":""},{"$f":"IF(A107=\"\",\"\",TRIM(LEFT('1-Award Info'!$C$19,30)))","v":""},{"$f":"IF(A107=\"\",\"\",'1-Award Info'!$G$5)","v":""},{"$f":"IF(A107=\"\",\"\",\"00\"&'1-Award Info'!$G$6)","v":""},"",{"$f":"IF(A107=\"\",\"\",VLOOKUP('1-Award Info'!$G$19,Tables!Q:R,2,0)&\"08008000\")","v":""},"","","",{"$f":"IF(A107=\"\",\"\",'1-Award Info'!$C$21)","v":""},{"$f":"IF(A107=\"\",\"\",'1-Award Info'!$C$22)","v":""},"","",{"$f":"IF(A107=\"\",\"\",IF(LEFT(A107)=\"N\",'1-Award Info'!$G$6&\"00\",'1-Award Info'!$G$6&RIGHT('1-Award Info'!$G$7,2)))","v":""},"","","","",null,null,null,null,null,0]
[{"$f":"IF('2-Grant Budget'!AH119=\"\",\"\",LEFT('1-Award Info'!$G$4,7)&'2-Grant Budget'!AH119)","v":""},{"$f":"IF(A108=\"\",\"\",TRIM(LEFT('1-Award Info'!$C$19,30)))","v":""},{"$f":"IF(A108=\"\",\"\",'1-Award Info'!$G$5)","v":""},{"$f":"IF(A108=\"\",\"\",\"00\"&'1-Award Info'!$G$6)","v":""},"",{"$f":"IF(A108=\"\",\"\",VLOOKUP('1-Award Info'!$G$19,Tables!Q:R,2,0)&\"08008000\")","v":""},"","","",{"$f":"IF(A108=\"\",\"\",'1-Award Info'!$C$21)","v":""},{"$f":"IF(A108=\"\",\"\",'1-Award Info'!$C$22)","v":""},"","",{"$f":"IF(A108=\"\",\"\",IF(LEFT(A108)=\"N\",'1-Award Info'!$G$6&\"00\",'1-Award Info'!$G$6&RIGHT('1-Award Info'!$G$7,2)))","v":""},"","","","",null,null,null,null,null,0]
[{"$f":"IF('2-Grant Budget'!AH120=\"\",\"\",LEFT('1-Award Info'!$G$4,7)&'2-Grant Budget'!AH120)","v":""},{"$f":"IF(A109=\"\",\"\",TRIM(LEFT('1-Award Info'!$C$19,30)))","v":""},{"$f":"IF(A109=\"\",\"\",'1-Award Info'!$G$5)","v":""},{"$f":"IF(A109=\"\",\"\",\"00\"&'1-Award Info'!$G$6)","v":""},"",{"$f":"IF(A109=\"\",\"\",VLOOKUP('1-Award Info'!$G$19,Tables!Q:R,2,0)&\"08008000\")","v":""},"","","",{"$f":"IF(A109=\"\",\"\",'1-Award Info'!$C$21)","v":""},{"$f":"IF(A109=\"\",\"\",'1-Award Info'!$C$22)","v":""},"","",{"$f":"IF(A109=\"\",\"\",IF(LEFT(A109)=\"N\",'1-Award Info'!$G$6&\"00\",'1-Award Info'!$G$6&RIGHT('1-Award Info'!$G$7,2)))","v":""},"","","","",null,null,null,null,null,0]
[{"$f":"IF('2-Grant Budget'!AH121=\"\",\"\",LEFT('1-Award Info'!$G$4,7)&'2-Grant Budget'!AH121)","v":""},{"$f":"IF(A110=\"\",\"\",TRIM(LEFT('1-Award Info'!$C$19,30)))","v":""},{"$f":"IF(A110=\"\",\"\",'1-Award Info'!$G$5)","v":""},{"$f":"IF(A110=\"\",\"\",\"00\"&'1-Award Info'!$G$6)","v":""},"",{"$f":"IF(A110=\"\",\"\",VLOOKUP('1-Award Info'!$G$19,Tables!Q:R,2,0)&\"08008000\")","v":""},"","","",{"$f":"IF(A110=\"\",\"\",'1-Award Info'!$C$21)","v":""},{"$f":"IF(A110=\"\",\"\",'1-Award Info'!$C$22)","v":""},"","",{"$f":"IF(A110=\"\",\"\",IF(LEFT(A110)=\"N\",'1-Award Info'!$G$6&\"00\",'1-Award Info'!$G$6&RIGHT('1-Award Info'!$G$7,2)))","v":""},"","","","",null,null,null,null,null,0]
[{"$f":"IF('2-Grant Budget'!AH122=\"\",\"\",LEFT('1-Award Info'!$G$4,7)&'2-Grant Budget'!AH122)","v":""},{"$f":"IF(A111=\"\",\"\",TRIM(LEFT('1-Award Info'!$C$19,30)))","v":""},{"$f":"IF(A111=\"\",\"\",'1-Award Info'!$G$5)","v":""},{"$f":"IF(A111=\"\",\"\",\"00\"&'1-Award Info'!$G$6)","v":""},"",{"$f":"IF(A111=\"\",\"\",VLOOKUP('1-Award Info'!$G$19,Tables!Q:R,2,0)&\"08008000\")","v":""},"","","",{"$f":"IF(A111=\"\",\"\",'1-Award Info'!$C$21)","v":""},{"$f":"IF(A111=\"\",\"\",'1-Award Info'!$C$22)","v":""},"","",{"$f":"IF(A111=\"\",\"\",IF(LEFT(A111)=\"N\",'1-Award Info'!$G$6&\"00\",'1-Award Info'!$G$6&RIGHT('1-Award Info'!$G$7,2)))","v":""},"","","","",null,null,null,null,null,0]
[{"$f":"IF('2-Grant Budget'!AH123=\"\",\"\",LEFT('1-Award Info'!$G$4,7)&'2-Grant Budget'!AH123)","v":""},{"$f":"IF(A112=\"\",\"\",TRIM(LEFT('1-Award Info'!$C$19,30)))","v":""},{"$f":"IF(A112=\"\",\"\",'1-Award Info'!$G$5)","v":""},{"$f":"IF(A112=\"\",\"\",\"00\"&'1-Award Info'!$G$6)","v":""},"",{"$f":"IF(A112=\"\",\"\",VLOOKUP('1-Award Info'!$G$19,Tables!Q:R,2,0)&\"08008000\")","v":""},"","","",{"$f":"IF(A112=\"\",\"\",'1-Award Info'!$C$21)","v":""},{"$f":"IF(A112=\"\",\"\",'1-Award Info'!$C$22)","v":""},"","",{"$f":"IF(A112=\"\",\"\",IF(LEFT(A112)=\"N\",'1-Award Info'!$G$6&\"00\",'1-Award Info'!$G$6&RIGHT('1-Award Info'!$G$7,2)))","v":""},"","","","",null,null,null,null,null,0]
[{"$f":"IF('2-Grant Budget'!AH124=\"\",\"\",LEFT('1-Award Info'!$G$4,7)&'2-Grant Budget'!AH124)","v":""},{"$f":"IF(A113=\"\",\"\",TRIM(LEFT('1-Award Info'!$C$19,30)))","v":""},{"$f":"IF(A113=\"\",\"\",'1-Award Info'!$G$5)","v":""},{"$f":"IF(A113=\"\",\"\",\"00\"&'1-Award Info'!$G$6)","v":""},"",{"$f":"IF(A113=\"\",\"\",VLOOKUP('1-Award Info'!$G$19,Tables!Q:R,2,0)&\"08008000\")","v":""},"","","",{"$f":"IF(A113=\"\",\"\",'1-Award Info'!$C$21)","v":""},{"$f":"IF(A113=\"\",\"\",'1-Award Info'!$C$22)","v":""},"","",{"$f":"IF(A113=\"\",\"\",IF(LEFT(A113)=\"N\",'1-Award Info'!$G$6&\"00\",'1-Award Info'!$G$6&RIGHT('1-Award Info'!$G$7,2)))","v":""},"","","","",null,null,null,null,null,0]
[{"$f":"IF('2-Grant Budget'!AH125=\"\",\"\",LEFT('1-Award Info'!$G$4,7)&'2-Grant Budget'!AH125)","v":""},{"$f":"IF(A114=\"\",\"\",TRIM(LEFT('1-Award Info'!$C$19,30)))","v":""},{"$f":"IF(A114=\"\",\"\",'1-Award Info'!$G$5)","v":""},{"$f":"IF(A114=\"\",\"\",\"00\"&'1-Award Info'!$G$6)","v":""},"",{"$f":"IF(A114=\"\",\"\",VLOOKUP('1-Award Info'!$G$19,Tables!Q:R,2,0)&\"08008000\")","v":""},"","","",{"$f":"IF(A114=\"\",\"\",'1-Award Info'!$C$21)","v":""},{"$f":"IF(A114=\"\",\"\",'1-Award Info'!$C$22)","v":""},"","",{"$f":"IF(A114=\"\",\"\",IF(LEFT(A114)=\"N\",'1-Award Info'!$G$6&\"00\",'1-Award Info'!$G$6&RIGHT('1-Award Info'!$G$7,2)))","v":""},"","","","",null,null,null,null,null,0]
[{"$f":"IF('2-Grant Budget'!AH126=\"\",\"\",LEFT('1-Award Info'!$G$4,7)&'2-Grant Budget'!AH126)","v":""},{"$f":"IF(A115=\"\",\"\",TRIM(LEFT('1-Award Info'!$C$19,30)))","v":""},{"$f":"IF(A115=\"\",\"\",'1-Award Info'!$G$5)","v":""},{"$f":"IF(A115=\"\",\"\",\"00\"&'1-Award Info'!$G$6)","v":""},"",{"$f":"IF(A115=\"\",\"\",VLOOKUP('1-Award Info'!$G$19,Tables!Q:R,2,0)&\"08008000\")","v":""},"","","",{"$f":"IF(A115=\"\",\"\",'1-Award Info'!$C$21)","v":""},{"$f":"IF(A115=\"\",\"\",'1-Award Info'!$C$22)","v":""},"","",{"$f":"IF(A115=\"\",\"\",IF(LEFT(A115)=\"N\",'1-Award Info'!$G$6&\"00\",'1-Award Info'!$G$6&RIGHT('1-Award Info'!$G$7,2)))","v":""},"","","","",null,null,null,null,null,0]
[{"$f":"IF('2-Grant Budget'!AH127=\"\",\"\",LEFT('1-Award Info'!$G$4,7)&'2-Grant Budget'!AH127)","v":""},{"$f":"IF(A116=\"\",\"\",TRIM(LEFT('1-Award Info'!$C$19,30)))","v":""},{"$f":"IF(A116=\"\",\"\",'1-Award Info'!$G$5)","v":""},{"$f":"IF(A116=\"\",\"\",\"00\"&'1-Award Info'!$G$6)","v":""},"",{"$f":"IF(A116=\"\",\"\",VLOOKUP('1-Award Info'!$G$19,Tables!Q:R,2,0)&\"08008000\")","v":""},"","","",{"$f":"IF(A116=\"\",\"\",'1-Award Info'!$C$21)","v":""},{"$f":"IF(A116=\"\",\"\",'1-Award Info'!$C$22)","v":""},"","",{"$f":"IF(A116=\"\",\"\",IF(LEFT(A116)=\"N\",'1-Award Info'!$G$6&\"00\",'1-Award Info'!$G$6&RIGHT('1-Award Info'!$G$7,2)))","v":""},"","","","",null,null,null,null,null,0]
[{"$f":"IF('2-Grant Budget'!AH128=\"\",\"\",LEFT('1-Award Info'!$G$4,7)&'2-Grant Budget'!AH128)","v":""},{"$f":"IF(A117=\"\",\"\",TRIM(LEFT('1-Award Info'!$C$19,30)))","v":""},{"$f":"IF(A117=\"\",\"\",'1-Award Info'!$G$5)","v":""},{"$f":"IF(A117=\"\",\"\",\"00\"&'1-Award Info'!$G$6)","v":""},"",{"$f":"IF(A117=\"\",\"\",VLOOKUP('1-Award Info'!$G$19,Tables!Q:R,2,0)&\"08008000\")","v":""},"","","",{"$f":"IF(A117=\"\",\"\",'1-Award Info'!$C$21)","v":""},{"$f":"IF(A117=\"\",\"\",'1-Award Info'!$C$22)","v":""},"","",{"$f":"IF(A117=\"\",\"\",IF(LEFT(A117)=\"N\",'1-Award Info'!$G$6&\"00\",'1-Award Info'!$G$6&RIGHT('1-Award Info'!$G$7,2)))","v":""},"","","","",null,null,null,null,null,0]
[{"$f":"IF('2-Grant Budget'!AH129=\"\",\"\",LEFT('1-Award Info'!$G$4,7)&'2-Grant Budget'!AH129)","v":""},{"$f":"IF(A118=\"\",\"\",TRIM(LEFT('1-Award Info'!$C$19,30)))","v":""},{"$f":"IF(A118=\"\",\"\",'1-Award Info'!$G$5)","v":""},{"$f":"IF(A118=\"\",\"\",\"00\"&'1-Award Info'!$G$6)","v":""},"",{"$f":"IF(A118=\"\",\"\",VLOOKUP('1-Award Info'!$G$19,Tables!Q:R,2,0)&\"08008000\")","v":""},"","","",{"$f":"IF(A118=\"\",\"\",'1-Award Info'!$C$21)","v":""},{"$f":"IF(A118=\"\",\"\",'1-Award Info'!$C$22)","v":""},"","",{"$f":"IF(A118=\"\",\"\",IF(LEFT(A118)=\"N\",'1-Award Info'!$G$6&\"00\",'1-Award Info'!$G$6&RIGHT('1-Award Info'!$G$7,2)))","v":""},"","","","",null,null,null,null,null,0]
[{"$f":"IF('2-Grant Budget'!AH130=\"\",\"\",LEFT('1-Award Info'!$G$4,7)&'2-Grant Budget'!AH130)","v":""},{"$f":"IF(A119=\"\",\"\",TRIM(LEFT('1-Award Info'!$C$19,30)))","v":""},{"$f":"IF(A119=\"\",\"\",'1-Award Info'!$G$5)","v":""},{"$f":"IF(A119=\"\",\"\",\"00\"&'1-Award Info'!$G$6)","v":""},"",{"$f":"IF(A119=\"\",\"\",VLOOKUP('1-Award Info'!$G$19,Tables!Q:R,2,0)&\"08008000\")","v":""},"","","",{"$f":"IF(A119=\"\",\"\",'1-Award Info'!$C$21)","v":""},{"$f":"IF(A119=\"\",\"\",'1-Award Info'!$C$22)","v":""},"","",{"$f":"IF(A119=\"\",\"\",IF(LEFT(A119)=\"N\",'1-Award Info'!$G$6&\"00\",'1-Award Info'!$G$6&RIGHT('1-Award Info'!$G$7,2)))","v":""},"","","","",null,null,null,null,null,0]
[{"$f":"IF('2-Grant Budget'!AH131=\"\",\"\",LEFT('1-Award Info'!$G$4,7)&'2-Grant Budget'!AH131)","v":""},{"$f":"IF(A120=\"\",\"\",TRIM(LEFT('1-Award Info'!$C$19,30)))","v":""},{"$f":"IF(A120=\"\",\"\",'1-Award Info'!$G$5)","v":""},{"$f":"IF(A120=\"\",\"\",\"00\"&'1-Award Info'!$G$6)","v":""},"",{"$f":"IF(A120=\"\",\"\",VLOOKUP('1-Award Info'!$G$19,Tables!Q:R,2,0)&\"08008000\")","v":""},"","","",{"$f":"IF(A120=\"\",\"\",'1-Award Info'!$C$21)","v":""},{"$f":"IF(A120=\"\",\"\",'1-Award Info'!$C$22)","v":""},"","",{"$f":"IF(A120=\"\",\"\",IF(LEFT(A120)=\"N\",'1-Award Info'!$G$6&\"00\",'1-Award Info'!$G$6&RIGHT('1-Award Info'!$G$7,2)))","v":""},"","","","",null,null,null,null,null,0]
[{"$f":"IF('2-Grant Budget'!AH132=\"\",\"\",LEFT('1-Award Info'!$G$4,7)&'2-Grant Budget'!AH132)","v":""},{"$f":"IF(A121=\"\",\"\",TRIM(LEFT('1-Award Info'!$C$19,30)))","v":""},{"$f":"IF(A121=\"\",\"\",'1-Award Info'!$G$5)","v":""},{"$f":"IF(A121=\"\",\"\",\"00\"&'1-Award Info'!$G$6)","v":""},"",{"$f":"IF(A121=\"\",\"\",VLOOKUP('1-Award Info'!$G$19,Tables!Q:R,2,0)&\"08008000\")","v":""},"","","",{"$f":"IF(A121=\"\",\"\",'1-Award Info'!$C$21)","v":""},{"$f":"IF(A121=\"\",\"\",'1-Award Info'!$C$22)","v":""},"","",{"$f":"IF(A121=\"\",\"\",IF(LEFT(A121)=\"N\",'1-Award Info'!$G$6&\"00\",'1-Award Info'!$G$6&RIGHT('1-Award Info'!$G$7,2)))","v":""},"","","","",null,null,null,null,null,0]
[{"$f":"IF('2-Grant Budget'!AH154=\"\",\"\",LEFT('1-Award Info'!$G$4,7)&'2-Grant Budget'!AH154)","v":""},{"$f":"IF(A122=\"\",\"\",TRIM(LEFT('1-Award Info'!$C$19,30)))","v":""},{"$f":"IF(A122=\"\",\"\",'1-Award Info'!$G$5)","v":""},{"$f":"IF(A122=\"\",\"\",\"00\"&'1-Award Info'!$G$6)","v":""},{"$f":"IF(A122=\"\",\"\",$D$5)","v":""},{"$f":"IF(A122=\"\",\"\",VLOOKUP('1-Award Info'!$G$19,Tables!Q:R,2,0)&\"08008000\")","v":""},{"$f":"IF(A122=\"\",\"\",9848)","v":""},{"$f":"IF(A122=\"\",\"\",0)","v":""},{"$f":"IF(A122=\"\",\"\",\"GB\")","v":""},{"$f":"IF(A122=\"\",\"\",'1-Award Info'!$C$21)","v":""},{"$f":"IF(A122=\"\",\"\",'1-Award Info'!$C$22)","v":""},{"$f":"IF(A122=\"\",\"\",IF(M122=\"C\",\"Y\",\"N\"))","v":""},{"$f":"IF(A122=\"\",\"\",IF($M$5=\"s\",\"C\",\"S\"))","v":""},{"$f":"IF(A122=\"\",\"\",IF(LEFT(A122)=\"N\",'1-Award Info'!$G$6&\"00\",'1-Award Info'!$G$6&RIGHT('1-Award Info'!$G$7,2)))","v":""},{"$f":"MID(A122,2,6)","v":""},{"$f":"IF(A122=\"\",\"\",MID(A122,8,4))","v":""},{"$f":"IF(A122=\"\",\"\",MID(A122,12,4))","v":""},""]
[{"$f":"IF('2-Grant Budget'!AH155=\"\",\"\",LEFT('1-Award Info'!$G$4,7)&'2-Grant Budget'!AH155)","v":""},{"$f":"IF(A123=\"\",\"\",TRIM(LEFT('1-Award Info'!$C$19,30)))","v":""},{"$f":"IF(A123=\"\",\"\",'1-Award Info'!$G$5)","v":""},{"$f":"IF(A123=\"\",\"\",\"00\"&'1-Award Info'!$G$6)","v":""},"",{"$f":"IF(A123=\"\",\"\",VLOOKUP('1-Award Info'!$G$19,Tables!Q:R,2,0)&\"08008000\")","v":""},"","","",{"$f":"IF(A123=\"\",\"\",'1-Award Info'!$C$21)","v":""},{"$f":"IF(A123=\"\",\"\",'1-Award Info'!$C$22)","v":""},"","",{"$f":"IF(A123=\"\",\"\",IF(LEFT(A123)=\"N\",'1-Award Info'!$G$6&\"00\",'1-Award Info'!$G$6&RIGHT('1-Award Info'!$G$7,2)))","v":""},"","","",""]
[{"$f":"IF('2-Grant Budget'!AH156=\"\",\"\",LEFT('1-Award Info'!$G$4,7)&'2-Grant Budget'!AH156)","v":""},{"$f":"IF(A124=\"\",\"\",TRIM(LEFT('1-Award Info'!$C$19,30)))","v":""},{"$f":"IF(A124=\"\",\"\",'1-Award Info'!$G$5)","v":""},{"$f":"IF(A124=\"\",\"\",\"00\"&'1-Award Info'!$G$6)","v":""},"",{"$f":"IF(A124=\"\",\"\",VLOOKUP('1-Award Info'!$G$19,Tables!Q:R,2,0)&\"08008000\")","v":""},"","","",{"$f":"IF(A124=\"\",\"\",'1-Award Info'!$C$21)","v":""},{"$f":"IF(A124=\"\",\"\",'1-Award Info'!$C$22)","v":""},"","",{"$f":"IF(A124=\"\",\"\",IF(LEFT(A124)=\"N\",'1-Award Info'!$G$6&\"00\",'1-Award Info'!$G$6&RIGHT('1-Award Info'!$G$7,2)))","v":""},"","","",""]
[{"$f":"IF('2-Grant Budget'!AH157=\"\",\"\",LEFT('1-Award Info'!$G$4,7)&'2-Grant Budget'!AH157)","v":""},{"$f":"IF(A125=\"\",\"\",TRIM(LEFT('1-Award Info'!$C$19,30)))","v":""},{"$f":"IF(A125=\"\",\"\",'1-Award Info'!$G$5)","v":""},{"$f":"IF(A125=\"\",\"\",\"00\"&'1-Award Info'!$G$6)","v":""},"",{"$f":"IF(A125=\"\",\"\",VLOOKUP('1-Award Info'!$G$19,Tables!Q:R,2,0)&\"08008000\")","v":""},"","","",{"$f":"IF(A125=\"\",\"\",'1-Award Info'!$C$21)","v":""},{"$f":"IF(A125=\"\",\"\",'1-Award Info'!$C$22)","v":""},"","",{"$f":"IF(A125=\"\",\"\",IF(LEFT(A125)=\"N\",'1-Award Info'!$G$6&\"00\",'1-Award Info'!$G$6&RIGHT('1-Award Info'!$G$7,2)))","v":""},"","","",""]
[{"$f":"IF('2-Grant Budget'!AH158=\"\",\"\",LEFT('1-Award Info'!$G$4,7)&'2-Grant Budget'!AH158)","v":""},{"$f":"IF(A126=\"\",\"\",TRIM(LEFT('1-Award Info'!$C$19,30)))","v":""},{"$f":"IF(A126=\"\",\"\",'1-Award Info'!$G$5)","v":""},{"$f":"IF(A126=\"\",\"\",\"00\"&'1-Award Info'!$G$6)","v":""},"",{"$f":"IF(A126=\"\",\"\",VLOOKUP('1-Award Info'!$G$19,Tables!Q:R,2,0)&\"08008000\")","v":""},"","","",{"$f":"IF(A126=\"\",\"\",'1-Award Info'!$C$21)","v":""},{"$f":"IF(A126=\"\",\"\",'1-Award Info'!$C$22)","v":""},"","",{"$f":"IF(A126=\"\",\"\",IF(LEFT(A126)=\"N\",'1-Award Info'!$G$6&\"00\",'1-Award Info'!$G$6&RIGHT('1-Award Info'!$G$7,2)))","v":""},"","","",""]
[{"$f":"IF('2-Grant Budget'!AH159=\"\",\"\",LEFT('1-Award Info'!$G$4,7)&'2-Grant Budget'!AH159)","v":""},{"$f":"IF(A127=\"\",\"\",TRIM(LEFT('1-Award Info'!$C$19,30)))","v":""},{"$f":"IF(A127=\"\",\"\",'1-Award Info'!$G$5)","v":""},{"$f":"IF(A127=\"\",\"\",\"00\"&'1-Award Info'!$G$6)","v":""},"",{"$f":"IF(A127=\"\",\"\",VLOOKUP('1-Award Info'!$G$19,Tables!Q:R,2,0)&\"08008000\")","v":""},"","","",{"$f":"IF(A127=\"\",\"\",'1-Award Info'!$C$21)","v":""},{"$f":"IF(A127=\"\",\"\",'1-Award Info'!$C$22)","v":""},"","",{"$f":"IF(A127=\"\",\"\",IF(LEFT(A127)=\"N\",'1-Award Info'!$G$6&\"00\",'1-Award Info'!$G$6&RIGHT('1-Award Info'!$G$7,2)))","v":""},"","","",""]
[{"$f":"IF('2-Grant Budget'!AH160=\"\",\"\",LEFT('1-Award Info'!$G$4,7)&'2-Grant Budget'!AH160)","v":""},{"$f":"IF(A128=\"\",\"\",TRIM(LEFT('1-Award Info'!$C$19,30)))","v":""},{"$f":"IF(A128=\"\",\"\",'1-Award Info'!$G$5)","v":""},{"$f":"IF(A128=\"\",\"\",\"00\"&'1-Award Info'!$G$6)","v":""},"",{"$f":"IF(A128=\"\",\"\",VLOOKUP('1-Award Info'!$G$19,Tables!Q:R,2,0)&\"08008000\")","v":""},"","","",{"$f":"IF(A128=\"\",\"\",'1-Award Info'!$C$21)","v":""},{"$f":"IF(A128=\"\",\"\",'1-Award Info'!$C$22)","v":""},"","",{"$f":"IF(A128=\"\",\"\",IF(LEFT(A128)=\"N\",'1-Award Info'!$G$6&\"00\",'1-Award Info'!$G$6&RIGHT('1-Award Info'!$G$7,2)))","v":""},"","","",""]
[{"$f":"IF('2-Grant Budget'!AH161=\"\",\"\",LEFT('1-Award Info'!$G$4,7)&'2-Grant Budget'!AH161)","v":""},{"$f":"IF(A129=\"\",\"\",TRIM(LEFT('1-Award Info'!$C$19,30)))","v":""},{"$f":"IF(A129=\"\",\"\",'1-Award Info'!$G$5)","v":""},{"$f":"IF(A129=\"\",\"\",\"00\"&'1-Award Info'!$G$6)","v":""},"",{"$f":"IF(A129=\"\",\"\",VLOOKUP('1-Award Info'!$G$19,Tables!Q:R,2,0)&\"08008000\")","v":""},"","","",{"$f":"IF(A129=\"\",\"\",'1-Award Info'!$C$21)","v":""},{"$f":"IF(A129=\"\",\"\",'1-Award Info'!$C$22)","v":""},"","",{"$f":"IF(A129=\"\",\"\",IF(LEFT(A129)=\"N\",'1-Award Info'!$G$6&\"00\",'1-Award Info'!$G$6&RIGHT('1-Award Info'!$G$7,2)))","v":""},"","","",""]
[{"$f":"IF('2-Grant Budget'!AH162=\"\",\"\",LEFT('1-Award Info'!$G$4,7)&'2-Grant Budget'!AH162)","v":""},{"$f":"IF(A130=\"\",\"\",TRIM(LEFT('1-Award Info'!$C$19,30)))","v":""},{"$f":"IF(A130=\"\",\"\",'1-Award Info'!$G$5)","v":""},{"$f":"IF(A130=\"\",\"\",\"00\"&'1-Award Info'!$G$6)","v":""},"",{"$f":"IF(A130=\"\",\"\",VLOOKUP('1-Award Info'!$G$19,Tables!Q:R,2,0)&\"08008000\")","v":""},"","","",{"$f":"IF(A130=\"\",\"\",'1-Award Info'!$C$21)","v":""},{"$f":"IF(A130=\"\",\"\",'1-Award Info'!$C$22)","v":""},"","",{"$f":"IF(A130=\"\",\"\",IF(LEFT(A130)=\"N\",'1-Award Info'!$G$6&\"00\",'1-Award Info'!$G$6&RIGHT('1-Award Info'!$G$7,2)))","v":""},"","","",""]
[{"$f":"IF('2-Grant Budget'!AH163=\"\",\"\",LEFT('1-Award Info'!$G$4,7)&'2-Grant Budget'!AH163)","v":""},{"$f":"IF(A131=\"\",\"\",TRIM(LEFT('1-Award Info'!$C$19,30)))","v":""},{"$f":"IF(A131=\"\",\"\",'1-Award Info'!$G$5)","v":""},{"$f":"IF(A131=\"\",\"\",\"00\"&'1-Award Info'!$G$6)","v":""},"",{"$f":"IF(A131=\"\",\"\",VLOOKUP('1-Award Info'!$G$19,Tables!Q:R,2,0)&\"08008000\")","v":""},"","","",{"$f":"IF(A131=\"\",\"\",'1-Award Info'!$C$21)","v":""},{"$f":"IF(A131=\"\",\"\",'1-Award Info'!$C$22)","v":""},"","",{"$f":"IF(A131=\"\",\"\",IF(LEFT(A131)=\"N\",'1-Award Info'!$G$6&\"00\",'1-Award Info'!$G$6&RIGHT('1-Award Info'!$G$7,2)))","v":""},"","","",""]
[{"$f":"IF('2-Grant Budget'!AH164=\"\",\"\",LEFT('1-Award Info'!$G$4,7)&'2-Grant Budget'!AH164)","v":""},{"$f":"IF(A132=\"\",\"\",TRIM(LEFT('1-Award Info'!$C$19,30)))","v":""},{"$f":"IF(A132=\"\",\"\",'1-Award Info'!$G$5)","v":""},{"$f":"IF(A132=\"\",\"\",\"00\"&'1-Award Info'!$G$6)","v":""},"",{"$f":"IF(A132=\"\",\"\",VLOOKUP('1-Award Info'!$G$19,Tables!Q:R,2,0)&\"08008000\")","v":""},"","","",{"$f":"IF(A132=\"\",\"\",'1-Award Info'!$C$21)","v":""},{"$f":"IF(A132=\"\",\"\",'1-Award Info'!$C$22)","v":""},"","",{"$f":"IF(A132=\"\",\"\",IF(LEFT(A132)=\"N\",'1-Award Info'!$G$6&\"00\",'1-Award Info'!$G$6&RIGHT('1-Award Info'!$G$7,2)))","v":""},"","","",""]
[{"$f":"IF('2-Grant Budget'!AH165=\"\",\"\",LEFT('1-Award Info'!$G$4,7)&'2-Grant Budget'!AH165)","v":""},{"$f":"IF(A133=\"\",\"\",TRIM(LEFT('1-Award Info'!$C$19,30)))","v":""},{"$f":"IF(A133=\"\",\"\",'1-Award Info'!$G$5)","v":""},{"$f":"IF(A133=\"\",\"\",\"00\"&'1-Award Info'!$G$6)","v":""},"",{"$f":"IF(A133=\"\",\"\",VLOOKUP('1-Award Info'!$G$19,Tables!Q:R,2,0)&\"08008000\")","v":""},"","","",{"$f":"IF(A133=\"\",\"\",'1-Award Info'!$C$21)","v":""},{"$f":"IF(A133=\"\",\"\",'1-Award Info'!$C$22)","v":""},"","",{"$f":"IF(A133=\"\",\"\",IF(LEFT(A133)=\"N\",'1-Award Info'!$G$6&\"00\",'1-Award Info'!$G$6&RIGHT('1-Award Info'!$G$7,2)))","v":""},"","","",""]
[{"$f":"IF('2-Grant Budget'!AH166=\"\",\"\",LEFT('1-Award Info'!$G$4,7)&'2-Grant Budget'!AH166)","v":""},{"$f":"IF(A134=\"\",\"\",TRIM(LEFT('1-Award Info'!$C$19,30)))","v":""},{"$f":"IF(A134=\"\",\"\",'1-Award Info'!$G$5)","v":""},{"$f":"IF(A134=\"\",\"\",\"00\"&'1-Award Info'!$G$6)","v":""},"",{"$f":"IF(A134=\"\",\"\",VLOOKUP('1-Award Info'!$G$19,Tables!Q:R,2,0)&\"08008000\")","v":""},"","","",{"$f":"IF(A134=\"\",\"\",'1-Award Info'!$C$21)","v":""},{"$f":"IF(A134=\"\",\"\",'1-Award Info'!$C$22)","v":""},"","",{"$f":"IF(A134=\"\",\"\",IF(LEFT(A134)=\"N\",'1-Award Info'!$G$6&\"00\",'1-Award Info'!$G$6&RIGHT('1-Award Info'!$G$7,2)))","v":""},"","","",""]
[{"$f":"IF('2-Grant Budget'!AH167=\"\",\"\",LEFT('1-Award Info'!$G$4,7)&'2-Grant Budget'!AH167)","v":""},{"$f":"IF(A135=\"\",\"\",TRIM(LEFT('1-Award Info'!$C$19,30)))","v":""},{"$f":"IF(A135=\"\",\"\",'1-Award Info'!$G$5)","v":""},{"$f":"IF(A135=\"\",\"\",\"00\"&'1-Award Info'!$G$6)","v":""},"",{"$f":"IF(A135=\"\",\"\",VLOOKUP('1-Award Info'!$G$19,Tables!Q:R,2,0)&\"08008000\")","v":""},"","","",{"$f":"IF(A135=\"\",\"\",'1-Award Info'!$C$21)","v":""},{"$f":"IF(A135=\"\",\"\",'1-Award Info'!$C$22)","v":""},"","",{"$f":"IF(A135=\"\",\"\",IF(LEFT(A135)=\"N\",'1-Award Info'!$G$6&\"00\",'1-Award Info'!$G$6&RIGHT('1-Award Info'!$G$7,2)))","v":""},"","","",""]
[{"$f":"IF('2-Grant Budget'!AH168=\"\",\"\",LEFT('1-Award Info'!$G$4,7)&'2-Grant Budget'!AH168)","v":""},{"$f":"IF(A136=\"\",\"\",TRIM(LEFT('1-Award Info'!$C$19,30)))","v":""},{"$f":"IF(A136=\"\",\"\",'1-Award Info'!$G$5)","v":""},{"$f":"IF(A136=\"\",\"\",\"00\"&'1-Award Info'!$G$6)","v":""},"",{"$f":"IF(A136=\"\",\"\",VLOOKUP('1-Award Info'!$G$19,Tables!Q:R,2,0)&\"08008000\")","v":""},"","","",{"$f":"IF(A136=\"\",\"\",'1-Award Info'!$C$21)","v":""},{"$f":"IF(A136=\"\",\"\",'1-Award Info'!$C$22)","v":""},"","",{"$f":"IF(A136=\"\",\"\",IF(LEFT(A136)=\"N\",'1-Award Info'!$G$6&\"00\",'1-Award Info'!$G$6&RIGHT('1-Award Info'!$G$7,2)))","v":""},"","","",""]
[{"$f":"IF('2-Grant Budget'!AH169=\"\",\"\",LEFT('1-Award Info'!$G$4,7)&'2-Grant Budget'!AH169)","v":""},{"$f":"IF(A137=\"\",\"\",TRIM(LEFT('1-Award Info'!$C$19,30)))","v":""},{"$f":"IF(A137=\"\",\"\",'1-Award Info'!$G$5)","v":""},{"$f":"IF(A137=\"\",\"\",\"00\"&'1-Award Info'!$G$6)","v":""},"",{"$f":"IF(A137=\"\",\"\",VLOOKUP('1-Award Info'!$G$19,Tables!Q:R,2,0)&\"08008000\")","v":""},"","","",{"$f":"IF(A137=\"\",\"\",'1-Award Info'!$C$21)","v":""},{"$f":"IF(A137=\"\",\"\",'1-Award Info'!$C$22)","v":""},"","",{"$f":"IF(A137=\"\",\"\",IF(LEFT(A137)=\"N\",'1-Award Info'!$G$6&\"00\",'1-Award Info'!$G$6&RIGHT('1-Award Info'!$G$7,2)))","v":""},"","","",""]
[{"$f":"IF('2-Grant Budget'!AH170=\"\",\"\",LEFT('1-Award Info'!$G$4,7)&'2-Grant Budget'!AH170)","v":""},{"$f":"IF(A138=\"\",\"\",TRIM(LEFT('1-Award Info'!$C$19,30)))","v":""},{"$f":"IF(A138=\"\",\"\",'1-Award Info'!$G$5)","v":""},{"$f":"IF(A138=\"\",\"\",\"00\"&'1-Award Info'!$G$6)","v":""},"",{"$f":"IF(A138=\"\",\"\",VLOOKUP('1-Award Info'!$G$19,Tables!Q:R,2,0)&\"08008000\")","v":""},"","","",{"$f":"IF(A138=\"\",\"\",'1-Award Info'!$C$21)","v":""},{"$f":"IF(A138=\"\",\"\",'1-Award Info'!$C$22)","v":""},"","",{"$f":"IF(A138=\"\",\"\",IF(LEFT(A138)=\"N\",'1-Award Info'!$G$6&\"00\",'1-Award Info'!$G$6&RIGHT('1-Award Info'!$G$7,2)))","v":""},"","","",""]
[{"$f":"IF('2-Grant Budget'!AH171=\"\",\"\",LEFT('1-Award Info'!$G$4,7)&'2-Grant Budget'!AH171)","v":""},{"$f":"IF(A139=\"\",\"\",TRIM(LEFT('1-Award Info'!$C$19,30)))","v":""},{"$f":"IF(A139=\"\",\"\",'1-Award Info'!$G$5)","v":""},{"$f":"IF(A139=\"\",\"\",\"00\"&'1-Award Info'!$G$6)","v":""},"",{"$f":"IF(A139=\"\",\"\",VLOOKUP('1-Award Info'!$G$19,Tables!Q:R,2,0)&\"08008000\")","v":""},"","","",{"$f":"IF(A139=\"\",\"\",'1-Award Info'!$C$21)","v":""},{"$f":"IF(A139=\"\",\"\",'1-Award Info'!$C$22)","v":""},"","",{"$f":"IF(A139=\"\",\"\",IF(LEFT(A139)=\"N\",'1-Award Info'!$G$6&\"00\",'1-Award Info'!$G$6&RIGHT('1-Award Info'!$G$7,2)))","v":""},"","","",""]
[{"$f":"IF('2-Grant Budget'!AH172=\"\",\"\",LEFT('1-Award Info'!$G$4,7)&'2-Grant Budget'!AH172)","v":""},{"$f":"IF(A140=\"\",\"\",TRIM(LEFT('1-Award Info'!$C$19,30)))","v":""},{"$f":"IF(A140=\"\",\"\",'1-Award Info'!$G$5)","v":""},{"$f":"IF(A140=\"\",\"\",\"00\"&'1-Award Info'!$G$6)","v":""},"",{"$f":"IF(A140=\"\",\"\",VLOOKUP('1-Award Info'!$G$19,Tables!Q:R,2,0)&\"08008000\")","v":""},"","","",{"$f":"IF(A140=\"\",\"\",'1-Award Info'!$C$21)","v":""},{"$f":"IF(A140=\"\",\"\",'1-Award Info'!$C$22)","v":""},"","",{"$f":"IF(A140=\"\",\"\",IF(LEFT(A140)=\"N\",'1-Award Info'!$G$6&\"00\",'1-Award Info'!$G$6&RIGHT('1-Award Info'!$G$7,2)))","v":""},"","","",""]
[{"$f":"IF('2-Grant Budget'!AH173=\"\",\"\",LEFT('1-Award Info'!$G$4,7)&'2-Grant Budget'!AH173)","v":""},{"$f":"IF(A141=\"\",\"\",TRIM(LEFT('1-Award Info'!$C$19,30)))","v":""},{"$f":"IF(A141=\"\",\"\",'1-Award Info'!$G$5)","v":""},{"$f":"IF(A141=\"\",\"\",\"00\"&'1-Award Info'!$G$6)","v":""},"",{"$f":"IF(A141=\"\",\"\",VLOOKUP('1-Award Info'!$G$19,Tables!Q:R,2,0)&\"08008000\")","v":""},"","","",{"$f":"IF(A141=\"\",\"\",'1-Award Info'!$C$21)","v":""},{"$f":"IF(A141=\"\",\"\",'1-Award Info'!$C$22)","v":""},"","",{"$f":"IF(A141=\"\",\"\",IF(LEFT(A141)=\"N\",'1-Award Info'!$G$6&\"00\",'1-Award Info'!$G$6&RIGHT('1-Award Info'!$G$7,2)))","v":""},"","","",""]
[{"$f":"IF('2-Grant Budget'!AH174=\"\",\"\",LEFT('1-Award Info'!$G$4,7)&'2-Grant Budget'!AH174)","v":""},{"$f":"IF(A142=\"\",\"\",TRIM(LEFT('1-Award Info'!$C$19,30)))","v":""},{"$f":"IF(A142=\"\",\"\",'1-Award Info'!$G$5)","v":""},{"$f":"IF(A142=\"\",\"\",\"00\"&'1-Award Info'!$G$6)","v":""},"",{"$f":"IF(A142=\"\",\"\",VLOOKUP('1-Award Info'!$G$19,Tables!Q:R,2,0)&\"08008000\")","v":""},"","","",{"$f":"IF(A142=\"\",\"\",'1-Award Info'!$C$21)","v":""},{"$f":"IF(A142=\"\",\"\",'1-Award Info'!$C$22)","v":""},"","",{"$f":"IF(A142=\"\",\"\",IF(LEFT(A142)=\"N\",'1-Award Info'!$G$6&\"00\",'1-Award Info'!$G$6&RIGHT('1-Award Info'!$G$7,2)))","v":""},"","","",""]
[{"$f":"IF('2-Grant Budget'!AH175=\"\",\"\",LEFT('1-Award Info'!$G$4,7)&'2-Grant Budget'!AH175)","v":""},{"$f":"IF(A143=\"\",\"\",TRIM(LEFT('1-Award Info'!$C$19,30)))","v":""},{"$f":"IF(A143=\"\",\"\",'1-Award Info'!$G$5)","v":""},{"$f":"IF(A143=\"\",\"\",\"00\"&'1-Award Info'!$G$6)","v":""},"",{"$f":"IF(A143=\"\",\"\",VLOOKUP('1-Award Info'!$G$19,Tables!Q:R,2,0)&\"08008000\")","v":""},"","","",{"$f":"IF(A143=\"\",\"\",'1-Award Info'!$C$21)","v":""},{"$f":"IF(A143=\"\",\"\",'1-Award Info'!$C$22)","v":""},"","",{"$f":"IF(A143=\"\",\"\",IF(LEFT(A143)=\"N\",'1-Award Info'!$G$6&\"00\",'1-Award Info'!$G$6&RIGHT('1-Award Info'!$G$7,2)))","v":""},"","","",""]
[{"$f":"IF('2-Grant Budget'!AH176=\"\",\"\",LEFT('1-Award Info'!$G$4,7)&'2-Grant Budget'!AH176)","v":""},{"$f":"IF(A144=\"\",\"\",TRIM(LEFT('1-Award Info'!$C$19,30)))","v":""},{"$f":"IF(A144=\"\",\"\",'1-Award Info'!$G$5)","v":""},{"$f":"IF(A144=\"\",\"\",\"00\"&'1-Award Info'!$G$6)","v":""},"",{"$f":"IF(A144=\"\",\"\",VLOOKUP('1-Award Info'!$G$19,Tables!Q:R,2,0)&\"08008000\")","v":""},"","","",{"$f":"IF(A144=\"\",\"\",'1-Award Info'!$C$21)","v":""},{"$f":"IF(A144=\"\",\"\",'1-Award Info'!$C$22)","v":""},"","",{"$f":"IF(A144=\"\",\"\",IF(LEFT(A144)=\"N\",'1-Award Info'!$G$6&\"00\",'1-Award Info'!$G$6&RIGHT('1-Award Info'!$G$7,2)))","v":""},"","","",""]
[{"$f":"IF('2-Grant Budget'!AH177=\"\",\"\",LEFT('1-Award Info'!$G$4,7)&'2-Grant Budget'!AH177)","v":""},{"$f":"IF(A145=\"\",\"\",TRIM(LEFT('1-Award Info'!$C$19,30)))","v":""},{"$f":"IF(A145=\"\",\"\",'1-Award Info'!$G$5)","v":""},{"$f":"IF(A145=\"\",\"\",\"00\"&'1-Award Info'!$G$6)","v":""},"",{"$f":"IF(A145=\"\",\"\",VLOOKUP('1-Award Info'!$G$19,Tables!Q:R,2,0)&\"08008000\")","v":""},"","","",{"$f":"IF(A145=\"\",\"\",'1-Award Info'!$C$21)","v":""},{"$f":"IF(A145=\"\",\"\",'1-Award Info'!$C$22)","v":""},"","",{"$f":"IF(A145=\"\",\"\",IF(LEFT(A145)=\"N\",'1-Award Info'!$G$6&\"00\",'1-Award Info'!$G$6&RIGHT('1-Award Info'!$G$7,2)))","v":""},"","","",""]
[{"$f":"IF('2-Grant Budget'!AH178=\"\",\"\",LEFT('1-Award Info'!$G$4,7)&'2-Grant Budget'!AH178)","v":""},{"$f":"IF(A146=\"\",\"\",TRIM(LEFT('1-Award Info'!$C$19,30)))","v":""},{"$f":"IF(A146=\"\",\"\",'1-Award Info'!$G$5)","v":""},{"$f":"IF(A146=\"\",\"\",\"00\"&'1-Award Info'!$G$6)","v":""},"",{"$f":"IF(A146=\"\",\"\",VLOOKUP('1-Award Info'!$G$19,Tables!Q:R,2,0)&\"08008000\")","v":""},"","","",{"$f":"IF(A146=\"\",\"\",'1-Award Info'!$C$21)","v":""},{"$f":"IF(A146=\"\",\"\",'1-Award Info'!$C$22)","v":""},"","",{"$f":"IF(A146=\"\",\"\",IF(LEFT(A146)=\"N\",'1-Award Info'!$G$6&\"00\",'1-Award Info'!$G$6&RIGHT('1-Award Info'!$G$7,2)))","v":""},"","","",{"$f":"IF($A146=\"\",\"\",\"Y\")","v":""}]
[{"$f":"IF('2-Grant Budget'!AH179=\"\",\"\",LEFT('1-Award Info'!$G$4,7)&'2-Grant Budget'!AH179)","v":""},{"$f":"IF(A147=\"\",\"\",TRIM(LEFT('1-Award Info'!$C$19,30)))","v":""},{"$f":"IF(A147=\"\",\"\",'1-Award Info'!$G$5)","v":""},{"$f":"IF(A147=\"\",\"\",\"00\"&'1-Award Info'!$G$6)","v":""},"",{"$f":"IF(A147=\"\",\"\",VLOOKUP('1-Award Info'!$G$19,Tables!Q:R,2,0)&\"08008000\")","v":""},"","","",{"$f":"IF(A147=\"\",\"\",'1-Award Info'!$C$21)","v":""},{"$f":"IF(A147=\"\",\"\",'1-Award Info'!$C$22)","v":""},"","",{"$f":"IF(A147=\"\",\"\",IF(LEFT(A147)=\"N\",'1-Award Info'!$G$6&\"00\",'1-Award Info'!$G$6&RIGHT('1-Award Info'!$G$7,2)))","v":""},"","","",""]
[{"$f":"IF('2-Grant Budget'!AH180=\"\",\"\",LEFT('1-Award Info'!$G$4,7)&'2-Grant Budget'!AH180)","v":""},{"$f":"IF(A148=\"\",\"\",TRIM(LEFT('1-Award Info'!$C$19,30)))","v":""},{"$f":"IF(A148=\"\",\"\",'1-Award Info'!$G$5)","v":""},{"$f":"IF(A148=\"\",\"\",\"00\"&'1-Award Info'!$G$6)","v":""},"",{"$f":"IF(A148=\"\",\"\",VLOOKUP('1-Award Info'!$G$19,Tables!Q:R,2,0)&\"08008000\")","v":""},"","","",{"$f":"IF(A148=\"\",\"\",'1-Award Info'!$C$21)","v":""},{"$f":"IF(A148=\"\",\"\",'1-Award Info'!$C$22)","v":""},"","",{"$f":"IF(A148=\"\",\"\",IF(LEFT(A148)=\"N\",'1-Award Info'!$G$6&\"00\",'1-Award Info'!$G$6&RIGHT('1-Award Info'!$G$7,2)))","v":""},"","","",""]
[{"$f":"IF('2-Grant Budget'!AH181=\"\",\"\",LEFT('1-Award Info'!$G$4,7)&'2-Grant Budget'!AH181)","v":""},{"$f":"IF(A149=\"\",\"\",TRIM(LEFT('1-Award Info'!$C$19,30)))","v":""},{"$f":"IF(A149=\"\",\"\",'1-Award Info'!$G$5)","v":""},{"$f":"IF(A149=\"\",\"\",\"00\"&'1-Award Info'!$G$6)","v":""},"",{"$f":"IF(A149=\"\",\"\",VLOOKUP('1-Award Info'!$G$19,Tables!Q:R,2,0)&\"08008000\")","v":""},"","","",{"$f":"IF(A149=\"\",\"\",'1-Award Info'!$C$21)","v":""},{"$f":"IF(A149=\"\",\"\",'1-Award Info'!$C$22)","v":""},"","",{"$f":"IF(A149=\"\",\"\",IF(LEFT(A149)=\"N\",'1-Award Info'!$G$6&\"00\",'1-Award Info'!$G$6&RIGHT('1-Award Info'!$G$7,2)))","v":""},"","","",""]
[{"$f":"IF('2-Grant Budget'!AH182=\"\",\"\",LEFT('1-Award Info'!$G$4,7)&'2-Grant Budget'!AH182)","v":""},{"$f":"IF(A150=\"\",\"\",TRIM(LEFT('1-Award Info'!$C$19,30)))","v":""},{"$f":"IF(A150=\"\",\"\",'1-Award Info'!$G$5)","v":""},{"$f":"IF(A150=\"\",\"\",\"00\"&'1-Award Info'!$G$6)","v":""},"",{"$f":"IF(A150=\"\",\"\",VLOOKUP('1-Award Info'!$G$19,Tables!Q:R,2,0)&\"08008000\")","v":""},"","","",{"$f":"IF(A150=\"\",\"\",'1-Award Info'!$C$21)","v":""},{"$f":"IF(A150=\"\",\"\",'1-Award Info'!$C$22)","v":""},"","",{"$f":"IF(A150=\"\",\"\",IF(LEFT(A150)=\"N\",'1-Award Info'!$G$6&\"00\",'1-Award Info'!$G$6&RIGHT('1-Award Info'!$G$7,2)))","v":""},"","","",""]
[{"$f":"IF('2-Grant Budget'!AH183=\"\",\"\",LEFT('1-Award Info'!$G$4,7)&'2-Grant Budget'!AH183)","v":""},{"$f":"IF(A151=\"\",\"\",TRIM(LEFT('1-Award Info'!$C$19,30)))","v":""},{"$f":"IF(A151=\"\",\"\",'1-Award Info'!$G$5)","v":""},{"$f":"IF(A151=\"\",\"\",\"00\"&'1-Award Info'!$G$6)","v":""},"",{"$f":"IF(A151=\"\",\"\",VLOOKUP('1-Award Info'!$G$19,Tables!Q:R,2,0)&\"08008000\")","v":""},"","","",{"$f":"IF(A151=\"\",\"\",'1-Award Info'!$C$21)","v":""},{"$f":"IF(A151=\"\",\"\",'1-Award Info'!$C$22)","v":""},"","",{"$f":"IF(A151=\"\",\"\",IF(LEFT(A151)=\"N\",'1-Award Info'!$G$6&\"00\",'1-Award Info'!$G$6&RIGHT('1-Award Info'!$G$7,2)))","v":""},"","","",""]
[{"$f":"IF('2-Grant Budget'!AH184=\"\",\"\",LEFT('1-Award Info'!$G$4,7)&'2-Grant Budget'!AH184)","v":""},{"$f":"IF(A152=\"\",\"\",TRIM(LEFT('1-Award Info'!$C$19,30)))","v":""},{"$f":"IF(A152=\"\",\"\",'1-Award Info'!$G$5)","v":""},{"$f":"IF(A152=\"\",\"\",\"00\"&'1-Award Info'!$G$6)","v":""},"",{"$f":"IF(A152=\"\",\"\",VLOOKUP('1-Award Info'!$G$19,Tables!Q:R,2,0)&\"08008000\")","v":""},"","","",{"$f":"IF(A152=\"\",\"\",'1-Award Info'!$C$21)","v":""},{"$f":"IF(A152=\"\",\"\",'1-Award Info'!$C$22)","v":""},"","",{"$f":"IF(A152=\"\",\"\",IF(LEFT(A152)=\"N\",'1-Award Info'!$G$6&\"00\",'1-Award Info'!$G$6&RIGHT('1-Award Info'!$G$7,2)))","v":""},"","","",""]
[{"$f":"IF('2-Grant Budget'!AH185=\"\",\"\",LEFT('1-Award Info'!$G$4,7)&'2-Grant Budget'!AH185)","v":""},{"$f":"IF(A153=\"\",\"\",TRIM(LEFT('1-Award Info'!$C$19,30)))","v":""},{"$f":"IF(A153=\"\",\"\",'1-Award Info'!$G$5)","v":""},{"$f":"IF(A153=\"\",\"\",\"00\"&'1-Award Info'!$G$6)","v":""},"",{"$f":"IF(A153=\"\",\"\",VLOOKUP('1-Award Info'!$G$19,Tables!Q:R,2,0)&\"08008000\")","v":""},"","","",{"$f":"IF(A153=\"\",\"\",'1-Award Info'!$C$21)","v":""},{"$f":"IF(A153=\"\",\"\",'1-Award Info'!$C$22)","v":""},"","",{"$f":"IF(A153=\"\",\"\",IF(LEFT(A153)=\"N\",'1-Award Info'!$G$6&\"00\",'1-Award Info'!$G$6&RIGHT('1-Award Info'!$G$7,2)))","v":""},"","","",""]
[{"$f":"IF('2-Grant Budget'!AH186=\"\",\"\",LEFT('1-Award Info'!$G$4,7)&'2-Grant Budget'!AH186)","v":""},{"$f":"IF(A154=\"\",\"\",TRIM(LEFT('1-Award Info'!$C$19,30)))","v":""},{"$f":"IF(A154=\"\",\"\",'1-Award Info'!$G$5)","v":""},{"$f":"IF(A154=\"\",\"\",\"00\"&'1-Award Info'!$G$6)","v":""},"",{"$f":"IF(A154=\"\",\"\",VLOOKUP('1-Award Info'!$G$19,Tables!Q:R,2,0)&\"08008000\")","v":""},"","","",{"$f":"IF(A154=\"\",\"\",'1-Award Info'!$C$21)","v":""},{"$f":"IF(A154=\"\",\"\",'1-Award Info'!$C$22)","v":""},"","",{"$f":"IF(A154=\"\",\"\",IF(LEFT(A154)=\"N\",'1-Award Info'!$G$6&\"00\",'1-Award Info'!$G$6&RIGHT('1-Award Info'!$G$7,2)))","v":""},"","","",""]
[{"$f":"IF('2-Grant Budget'!AH187=\"\",\"\",LEFT('1-Award Info'!$G$4,7)&'2-Grant Budget'!AH187)","v":""},{"$f":"IF(A155=\"\",\"\",TRIM(LEFT('1-Award Info'!$C$19,30)))","v":""},{"$f":"IF(A155=\"\",\"\",'1-Award Info'!$G$5)","v":""},{"$f":"IF(A155=\"\",\"\",\"00\"&'1-Award Info'!$G$6)","v":""},"",{"$f":"IF(A155=\"\",\"\",VLOOKUP('1-Award Info'!$G$19,Tables!Q:R,2,0)&\"08008000\")","v":""},"","","",{"$f":"IF(A155=\"\",\"\",'1-Award Info'!$C$21)","v":""},{"$f":"IF(A155=\"\",\"\",'1-Award Info'!$C$22)","v":""},"","",{"$f":"IF(A155=\"\",\"\",IF(LEFT(A155)=\"N\",'1-Award Info'!$G$6&\"00\",'1-Award Info'!$G$6&RIGHT('1-Award Info'!$G$7,2)))","v":""},"","","",""]
[{"$f":"IF('2-Grant Budget'!AH188=\"\",\"\",LEFT('1-Award Info'!$G$4,7)&'2-Grant Budget'!AH188)","v":""},{"$f":"IF(A156=\"\",\"\",TRIM(LEFT('1-Award Info'!$C$19,30)))","v":""},{"$f":"IF(A156=\"\",\"\",'1-Award Info'!$G$5)","v":""},{"$f":"IF(A156=\"\",\"\",\"00\"&'1-Award Info'!$G$6)","v":""},"",{"$f":"IF(A156=\"\",\"\",VLOOKUP('1-Award Info'!$G$19,Tables!Q:R,2,0)&\"08008000\")","v":""},"","","",{"$f":"IF(A156=\"\",\"\",'1-Award Info'!$C$21)","v":""},{"$f":"IF(A156=\"\",\"\",'1-Award Info'!$C$22)","v":""},"","",{"$f":"IF(A156=\"\",\"\",IF(LEFT(A156)=\"N\",'1-Award Info'!$G$6&\"00\",'1-Award Info'!$G$6&RIGHT('1-Award Info'!$G$7,2)))","v":""},"","","",""]
[{"$f":"IF('2-Grant Budget'!AH189=\"\",\"\",LEFT('1-Award Info'!$G$4,7)&'2-Grant Budget'!AH189)","v":""},{"$f":"IF(A157=\"\",\"\",TRIM(LEFT('1-Award Info'!$C$19,30)))","v":""},{"$f":"IF(A157=\"\",\"\",'1-Award Info'!$G$5)","v":""},{"$f":"IF(A157=\"\",\"\",\"00\"&'1-Award Info'!$G$6)","v":""},"",{"$f":"IF(A157=\"\",\"\",VLOOKUP('1-Award Info'!$G$19,Tables!Q:R,2,0)&\"08008000\")","v":""},"","","",{"$f":"IF(A157=\"\",\"\",'1-Award Info'!$C$21)","v":""},{"$f":"IF(A157=\"\",\"\",'1-Award Info'!$C$22)","v":""},"","",{"$f":"IF(A157=\"\",\"\",IF(LEFT(A157)=\"N\",'1-Award Info'!$G$6&\"00\",'1-Award Info'!$G$6&RIGHT('1-Award Info'!$G$7,2)))","v":""},"","","",""]
[{"$f":"IF('2-Grant Budget'!AH190=\"\",\"\",LEFT('1-Award Info'!$G$4,7)&'2-Grant Budget'!AH190)","v":""},{"$f":"IF(A158=\"\",\"\",TRIM(LEFT('1-Award Info'!$C$19,30)))","v":""},{"$f":"IF(A158=\"\",\"\",'1-Award Info'!$G$5)","v":""},{"$f":"IF(A158=\"\",\"\",\"00\"&'1-Award Info'!$G$6)","v":""},"",{"$f":"IF(A158=\"\",\"\",VLOOKUP('1-Award Info'!$G$19,Tables!Q:R,2,0)&\"08008000\")","v":""},"","","",{"$f":"IF(A158=\"\",\"\",'1-Award Info'!$C$21)","v":""},{"$f":"IF(A158=\"\",\"\",'1-Award Info'!$C$22)","v":""},"","",{"$f":"IF(A158=\"\",\"\",IF(LEFT(A158)=\"N\",'1-Award Info'!$G$6&\"00\",'1-Award Info'!$G$6&RIGHT('1-Award Info'!$G$7,2)))","v":""},"","","",""]
[{"$f":"IF('2-Grant Budget'!AH191=\"\",\"\",LEFT('1-Award Info'!$G$4,7)&'2-Grant Budget'!AH191)","v":""},{"$f":"IF(A159=\"\",\"\",TRIM(LEFT('1-Award Info'!$C$19,30)))","v":""},{"$f":"IF(A159=\"\",\"\",'1-Award Info'!$G$5)","v":""},{"$f":"IF(A159=\"\",\"\",\"00\"&'1-Award Info'!$G$6)","v":""},"",{"$f":"IF(A159=\"\",\"\",VLOOKUP('1-Award Info'!$G$19,Tables!Q:R,2,0)&\"08008000\")","v":""},"","","",{"$f":"IF(A159=\"\",\"\",'1-Award Info'!$C$21)","v":""},{"$f":"IF(A159=\"\",\"\",'1-Award Info'!$C$22)","v":""},"","",{"$f":"IF(A159=\"\",\"\",IF(LEFT(A159)=\"N\",'1-Award Info'!$G$6&\"00\",'1-Award Info'!$G$6&RIGHT('1-Award Info'!$G$7,2)))","v":""},"","","",""]
[{"$f":"IF('2-Grant Budget'!AH192=\"\",\"\",LEFT('1-Award Info'!$G$4,7)&'2-Grant Budget'!AH192)","v":""},{"$f":"IF(A160=\"\",\"\",TRIM(LEFT('1-Award Info'!$C$19,30)))","v":""},{"$f":"IF(A160=\"\",\"\",'1-Award Info'!$G$5)","v":""},{"$f":"IF(A160=\"\",\"\",\"00\"&'1-Award Info'!$G$6)","v":""},"",{"$f":"IF(A160=\"\",\"\",VLOOKUP('1-Award Info'!$G$19,Tables!Q:R,2,0)&\"08008000\")","v":""},"","","",{"$f":"IF(A160=\"\",\"\",'1-Award Info'!$C$21)","v":""},{"$f":"IF(A160=\"\",\"\",'1-Award Info'!$C$22)","v":""},"","",{"$f":"IF(A160=\"\",\"\",IF(LEFT(A160)=\"N\",'1-Award Info'!$G$6&\"00\",'1-Award Info'!$G$6&RIGHT('1-Award Info'!$G$7,2)))","v":""},"","","",""]
[{"$f":"IF('2-Grant Budget'!AH193=\"\",\"\",LEFT('1-Award Info'!$G$4,7)&'2-Grant Budget'!AH193)","v":""},{"$f":"IF(A161=\"\",\"\",TRIM(LEFT('1-Award Info'!$C$19,30)))","v":""},{"$f":"IF(A161=\"\",\"\",'1-Award Info'!$G$5)","v":""},{"$f":"IF(A161=\"\",\"\",\"00\"&'1-Award Info'!$G$6)","v":""},"",{"$f":"IF(A161=\"\",\"\",VLOOKUP('1-Award Info'!$G$19,Tables!Q:R,2,0)&\"08008000\")","v":""},"","","",{"$f":"IF(A161=\"\",\"\",'1-Award Info'!$C$21)","v":""},{"$f":"IF(A161=\"\",\"\",'1-Award Info'!$C$22)","v":""},"","",{"$f":"IF(A161=\"\",\"\",IF(LEFT(A161)=\"N\",'1-Award Info'!$G$6&\"00\",'1-Award Info'!$G$6&RIGHT('1-Award Info'!$G$7,2)))","v":""},"","","",""]
[{"$f":"IF('2-Grant Budget'!AH194=\"\",\"\",LEFT('1-Award Info'!$G$4,7)&'2-Grant Budget'!AH194)","v":""},{"$f":"IF(A162=\"\",\"\",TRIM(LEFT('1-Award Info'!$C$19,30)))","v":""},{"$f":"IF(A162=\"\",\"\",'1-Award Info'!$G$5)","v":""},{"$f":"IF(A162=\"\",\"\",\"00\"&'1-Award Info'!$G$6)","v":""},"",{"$f":"IF(A162=\"\",\"\",VLOOKUP('1-Award Info'!$G$19,Tables!Q:R,2,0)&\"08008000\")","v":""},"","","",{"$f":"IF(A162=\"\",\"\",'1-Award Info'!$C$21)","v":""},{"$f":"IF(A162=\"\",\"\",'1-Award Info'!$C$22)","v":""},"","",{"$f":"IF(A162=\"\",\"\",IF(LEFT(A162)=\"N\",'1-Award Info'!$G$6&\"00\",'1-Award Info'!$G$6&RIGHT('1-Award Info'!$G$7,2)))","v":""},"","","",""]
[{"$f":"IF('2-Grant Budget'!AH195=\"\",\"\",LEFT('1-Award Info'!$G$4,7)&'2-Grant Budget'!AH195)","v":""},{"$f":"IF(A163=\"\",\"\",TRIM(LEFT('1-Award Info'!$C$19,30)))","v":""},{"$f":"IF(A163=\"\",\"\",'1-Award Info'!$G$5)","v":""},{"$f":"IF(A163=\"\",\"\",\"00\"&'1-Award Info'!$G$6)","v":""},"",{"$f":"IF(A163=\"\",\"\",VLOOKUP('1-Award Info'!$G$19,Tables!Q:R,2,0)&\"08008000\")","v":""},"","","",{"$f":"IF(A163=\"\",\"\",'1-Award Info'!$C$21)","v":""},{"$f":"IF(A163=\"\",\"\",'1-Award Info'!$C$22)","v":""},"","",{"$f":"IF(A163=\"\",\"\",IF(LEFT(A163)=\"N\",'1-Award Info'!$G$6&\"00\",'1-Award Info'!$G$6&RIGHT('1-Award Info'!$G$7,2)))","v":""},"","","",""]
[{"$f":"IF('2-Grant Budget'!AH196=\"\",\"\",LEFT('1-Award Info'!$G$4,7)&'2-Grant Budget'!AH196)","v":""},{"$f":"IF(A164=\"\",\"\",TRIM(LEFT('1-Award Info'!$C$19,30)))","v":""},{"$f":"IF(A164=\"\",\"\",'1-Award Info'!$G$5)","v":""},{"$f":"IF(A164=\"\",\"\",\"00\"&'1-Award Info'!$G$6)","v":""},"",{"$f":"IF(A164=\"\",\"\",VLOOKUP('1-Award Info'!$G$19,Tables!Q:R,2,0)&\"08008000\")","v":""},"","","",{"$f":"IF(A164=\"\",\"\",'1-Award Info'!$C$21)","v":""},{"$f":"IF(A164=\"\",\"\",'1-Award Info'!$C$22)","v":""},"","",{"$f":"IF(A164=\"\",\"\",IF(LEFT(A164)=\"N\",'1-Award Info'!$G$6&\"00\",'1-Award Info'!$G$6&RIGHT('1-Award Info'!$G$7,2)))","v":""},"","","",""]
[{"$f":"IF('2-Grant Budget'!AH197=\"\",\"\",LEFT('1-Award Info'!$G$4,7)&'2-Grant Budget'!AH197)","v":""},{"$f":"IF(A165=\"\",\"\",TRIM(LEFT('1-Award Info'!$C$19,30)))","v":""},{"$f":"IF(A165=\"\",\"\",'1-Award Info'!$G$5)","v":""},{"$f":"IF(A165=\"\",\"\",\"00\"&'1-Award Info'!$G$6)","v":""},"",{"$f":"IF(A165=\"\",\"\",VLOOKUP('1-Award Info'!$G$19,Tables!Q:R,2,0)&\"08008000\")","v":""},"","","",{"$f":"IF(A165=\"\",\"\",'1-Award Info'!$C$21)","v":""},{"$f":"IF(A165=\"\",\"\",'1-Award Info'!$C$22)","v":""},"","",{"$f":"IF(A165=\"\",\"\",IF(LEFT(A165)=\"N\",'1-Award Info'!$G$6&\"00\",'1-Award Info'!$G$6&RIGHT('1-Award Info'!$G$7,2)))","v":""},"","","",""]
[{"$f":"IF('2-Grant Budget'!AH198=\"\",\"\",LEFT('1-Award Info'!$G$4,7)&'2-Grant Budget'!AH198)","v":""},{"$f":"IF(A166=\"\",\"\",TRIM(LEFT('1-Award Info'!$C$19,30)))","v":""},{"$f":"IF(A166=\"\",\"\",'1-Award Info'!$G$5)","v":""},{"$f":"IF(A166=\"\",\"\",\"00\"&'1-Award Info'!$G$6)","v":""},"",{"$f":"IF(A166=\"\",\"\",VLOOKUP('1-Award Info'!$G$19,Tables!Q:R,2,0)&\"08008000\")","v":""},"","","",{"$f":"IF(A166=\"\",\"\",'1-Award Info'!$C$21)","v":""},{"$f":"IF(A166=\"\",\"\",'1-Award Info'!$C$22)","v":""},"","",{"$f":"IF(A166=\"\",\"\",IF(LEFT(A166)=\"N\",'1-Award Info'!$G$6&\"00\",'1-Award Info'!$G$6&RIGHT('1-Award Info'!$G$7,2)))","v":""},"","","",""]
[{"$f":"IF('2-Grant Budget'!AH199=\"\",\"\",LEFT('1-Award Info'!$G$4,7)&'2-Grant Budget'!AH199)","v":""},{"$f":"IF(A167=\"\",\"\",TRIM(LEFT('1-Award Info'!$C$19,30)))","v":""},{"$f":"IF(A167=\"\",\"\",'1-Award Info'!$G$5)","v":""},{"$f":"IF(A167=\"\",\"\",\"00\"&'1-Award Info'!$G$6)","v":""},"",{"$f":"IF(A167=\"\",\"\",VLOOKUP('1-Award Info'!$G$19,Tables!Q:R,2,0)&\"08008000\")","v":""},"","","",{"$f":"IF(A167=\"\",\"\",'1-Award Info'!$C$21)","v":""},{"$f":"IF(A167=\"\",\"\",'1-Award Info'!$C$22)","v":""},"","",{"$f":"IF(A167=\"\",\"\",IF(LEFT(A167)=\"N\",'1-Award Info'!$G$6&\"00\",'1-Award Info'!$G$6&RIGHT('1-Award Info'!$G$7,2)))","v":""},"","","",""]
[{"$f":"IF('2-Grant Budget'!AH200=\"\",\"\",LEFT('1-Award Info'!$G$4,7)&'2-Grant Budget'!AH200)","v":""},{"$f":"IF(A168=\"\",\"\",TRIM(LEFT('1-Award Info'!$C$19,30)))","v":""},{"$f":"IF(A168=\"\",\"\",'1-Award Info'!$G$5)","v":""},{"$f":"IF(A168=\"\",\"\",\"00\"&'1-Award Info'!$G$6)","v":""},"",{"$f":"IF(A168=\"\",\"\",VLOOKUP('1-Award Info'!$G$19,Tables!Q:R,2,0)&\"08008000\")","v":""},"","","",{"$f":"IF(A168=\"\",\"\",'1-Award Info'!$C$21)","v":""},{"$f":"IF(A168=\"\",\"\",'1-Award Info'!$C$22)","v":""},"","",{"$f":"IF(A168=\"\",\"\",IF(LEFT(A168)=\"N\",'1-Award Info'!$G$6&\"00\",'1-Award Info'!$G$6&RIGHT('1-Award Info'!$G$7,2)))","v":""},"","","",""]
[{"$f":"IF('2-Grant Budget'!AH201=\"\",\"\",LEFT('1-Award Info'!$G$4,7)&'2-Grant Budget'!AH201)","v":""},{"$f":"IF(A169=\"\",\"\",TRIM(LEFT('1-Award Info'!$C$19,30)))","v":""},{"$f":"IF(A169=\"\",\"\",'1-Award Info'!$G$5)","v":""},{"$f":"IF(A169=\"\",\"\",\"00\"&'1-Award Info'!$G$6)","v":""},"",{"$f":"IF(A169=\"\",\"\",VLOOKUP('1-Award Info'!$G$19,Tables!Q:R,2,0)&\"08008000\")","v":""},"","","",{"$f":"IF(A169=\"\",\"\",'1-Award Info'!$C$21)","v":""},{"$f":"IF(A169=\"\",\"\",'1-Award Info'!$C$22)","v":""},"","",{"$f":"IF(A169=\"\",\"\",IF(LEFT(A169)=\"N\",'1-Award Info'!$G$6&\"00\",'1-Award Info'!$G$6&RIGHT('1-Award Info'!$G$7,2)))","v":""},"","","",""]
[{"$f":"IF('2-Grant Budget'!AH202=\"\",\"\",LEFT('1-Award Info'!$G$4,7)&'2-Grant Budget'!AH202)","v":""},{"$f":"IF(A170=\"\",\"\",TRIM(LEFT('1-Award Info'!$C$19,30)))","v":""},{"$f":"IF(A170=\"\",\"\",'1-Award Info'!$G$5)","v":""},{"$f":"IF(A170=\"\",\"\",\"00\"&'1-Award Info'!$G$6)","v":""},"",{"$f":"IF(A170=\"\",\"\",VLOOKUP('1-Award Info'!$G$19,Tables!Q:R,2,0)&\"08008000\")","v":""},"","","",{"$f":"IF(A170=\"\",\"\",'1-Award Info'!$C$21)","v":""},{"$f":"IF(A170=\"\",\"\",'1-Award Info'!$C$22)","v":""},"","",{"$f":"IF(A170=\"\",\"\",IF(LEFT(A170)=\"N\",'1-Award Info'!$G$6&\"00\",'1-Award Info'!$G$6&RIGHT('1-Award Info'!$G$7,2)))","v":""},"","","",""]
[{"$f":"IF('2-Grant Budget'!AH203=\"\",\"\",LEFT('1-Award Info'!$G$4,7)&'2-Grant Budget'!AH203)","v":""},{"$f":"IF(A171=\"\",\"\",TRIM(LEFT('1-Award Info'!$C$19,30)))","v":""},{"$f":"IF(A171=\"\",\"\",'1-Award Info'!$G$5)","v":""},{"$f":"IF(A171=\"\",\"\",\"00\"&'1-Award Info'!$G$6)","v":""},"",{"$f":"IF(A171=\"\",\"\",VLOOKUP('1-Award Info'!$G$19,Tables!Q:R,2,0)&\"08008000\")","v":""},"","","",{"$f":"IF(A171=\"\",\"\",'1-Award Info'!$C$21)","v":""},{"$f":"IF(A171=\"\",\"\",'1-Award Info'!$C$22)","v":""},"","",{"$f":"IF(A171=\"\",\"\",IF(LEFT(A171)=\"N\",'1-Award Info'!$G$6&\"00\",'1-Award Info'!$G$6&RIGHT('1-Award Info'!$G$7,2)))","v":""},"","","",""]
[{"$f":"IF('2-Grant Budget'!AH204=\"\",\"\",LEFT('1-Award Info'!$G$4,7)&'2-Grant Budget'!AH204)","v":""},{"$f":"IF(A172=\"\",\"\",TRIM(LEFT('1-Award Info'!$C$19,30)))","v":""},{"$f":"IF(A172=\"\",\"\",'1-Award Info'!$G$5)","v":""},{"$f":"IF(A172=\"\",\"\",\"00\"&'1-Award Info'!$G$6)","v":""},"",{"$f":"IF(A172=\"\",\"\",VLOOKUP('1-Award Info'!$G$19,Tables!Q:R,2,0)&\"08008000\")","v":""},"","","",{"$f":"IF(A172=\"\",\"\",'1-Award Info'!$C$21)","v":""},{"$f":"IF(A172=\"\",\"\",'1-Award Info'!$C$22)","v":""},"","",{"$f":"IF(A172=\"\",\"\",IF(LEFT(A172)=\"N\",'1-Award Info'!$G$6&\"00\",'1-Award Info'!$G$6&RIGHT('1-Award Info'!$G$7,2)))","v":""},"","","",""]
[{"$f":"IF('2-Grant Budget'!AH205=\"\",\"\",LEFT('1-Award Info'!$G$4,7)&'2-Grant Budget'!AH205)","v":""},{"$f":"IF(A173=\"\",\"\",TRIM(LEFT('1-Award Info'!$C$19,30)))","v":""},{"$f":"IF(A173=\"\",\"\",'1-Award Info'!$G$5)","v":""},{"$f":"IF(A173=\"\",\"\",\"00\"&'1-Award Info'!$G$6)","v":""},"",{"$f":"IF(A173=\"\",\"\",VLOOKUP('1-Award Info'!$G$19,Tables!Q:R,2,0)&\"08008000\")","v":""},"","","",{"$f":"IF(A173=\"\",\"\",'1-Award Info'!$C$21)","v":""},{"$f":"IF(A173=\"\",\"\",'1-Award Info'!$C$22)","v":""},"","",{"$f":"IF(A173=\"\",\"\",IF(LEFT(A173)=\"N\",'1-Award Info'!$G$6&\"00\",'1-Award Info'!$G$6&RIGHT('1-Award Info'!$G$7,2)))","v":""},"","","",""]
[{"$f":"IF('2-Grant Budget'!AH206=\"\",\"\",LEFT('1-Award Info'!$G$4,7)&'2-Grant Budget'!AH206)","v":""},{"$f":"IF(A174=\"\",\"\",TRIM(LEFT('1-Award Info'!$C$19,30)))","v":""},{"$f":"IF(A174=\"\",\"\",'1-Award Info'!$G$5)","v":""},{"$f":"IF(A174=\"\",\"\",\"00\"&'1-Award Info'!$G$6)","v":""},"",{"$f":"IF(A174=\"\",\"\",VLOOKUP('1-Award Info'!$G$19,Tables!Q:R,2,0)&\"08008000\")","v":""},"","","",{"$f":"IF(A174=\"\",\"\",'1-Award Info'!$C$21)","v":""},{"$f":"IF(A174=\"\",\"\",'1-Award Info'!$C$22)","v":""},"","",{"$f":"IF(A174=\"\",\"\",IF(LEFT(A174)=\"N\",'1-Award Info'!$G$6&\"00\",'1-Award Info'!$G$6&RIGHT('1-Award Info'!$G$7,2)))","v":""},"","","",""]
[{"$f":"IF('2-Grant Budget'!AH207=\"\",\"\",LEFT('1-Award Info'!$G$4,7)&'2-Grant Budget'!AH207)","v":""},{"$f":"IF(A175=\"\",\"\",TRIM(LEFT('1-Award Info'!$C$19,30)))","v":""},{"$f":"IF(A175=\"\",\"\",'1-Award Info'!$G$5)","v":""},{"$f":"IF(A175=\"\",\"\",\"00\"&'1-Award Info'!$G$6)","v":""},"",{"$f":"IF(A175=\"\",\"\",VLOOKUP('1-Award Info'!$G$19,Tables!Q:R,2,0)&\"08008000\")","v":""},"","","",{"$f":"IF(A175=\"\",\"\",'1-Award Info'!$C$21)","v":""},{"$f":"IF(A175=\"\",\"\",'1-Award Info'!$C$22)","v":""},"","",{"$f":"IF(A175=\"\",\"\",IF(LEFT(A175)=\"N\",'1-Award Info'!$G$6&\"00\",'1-Award Info'!$G$6&RIGHT('1-Award Info'!$G$7,2)))","v":""},"","","",""]
[{"$f":"IF('2-Grant Budget'!AH208=\"\",\"\",LEFT('1-Award Info'!$G$4,7)&'2-Grant Budget'!AH208)","v":""},{"$f":"IF(A176=\"\",\"\",TRIM(LEFT('1-Award Info'!$C$19,30)))","v":""},{"$f":"IF(A176=\"\",\"\",'1-Award Info'!$G$5)","v":""},{"$f":"IF(A176=\"\",\"\",\"00\"&'1-Award Info'!$G$6)","v":""},"",{"$f":"IF(A176=\"\",\"\",VLOOKUP('1-Award Info'!$G$19,Tables!Q:R,2,0)&\"08008000\")","v":""},"","","",{"$f":"IF(A176=\"\",\"\",'1-Award Info'!$C$21)","v":""},{"$f":"IF(A176=\"\",\"\",'1-Award Info'!$C$22)","v":""},"","",{"$f":"IF(A176=\"\",\"\",IF(LEFT(A176)=\"N\",'1-Award Info'!$G$6&\"00\",'1-Award Info'!$G$6&RIGHT('1-Award Info'!$G$7,2)))","v":""},"","","",""]
[{"$f":"IF('2-Grant Budget'!AH209=\"\",\"\",LEFT('1-Award Info'!$G$4,7)&'2-Grant Budget'!AH209)","v":""},{"$f":"IF(A177=\"\",\"\",TRIM(LEFT('1-Award Info'!$C$19,30)))","v":""},{"$f":"IF(A177=\"\",\"\",'1-Award Info'!$G$5)","v":""},{"$f":"IF(A177=\"\",\"\",\"00\"&'1-Award Info'!$G$6)","v":""},"",{"$f":"IF(A177=\"\",\"\",VLOOKUP('1-Award Info'!$G$19,Tables!Q:R,2,0)&\"08008000\")","v":""},"","","",{"$f":"IF(A177=\"\",\"\",'1-Award Info'!$C$21)","v":""},{"$f":"IF(A177=\"\",\"\",'1-Award Info'!$C$22)","v":""},"","",{"$f":"IF(A177=\"\",\"\",IF(LEFT(A177)=\"N\",'1-Award Info'!$G$6&\"00\",'1-Award Info'!$G$6&RIGHT('1-Award Info'!$G$7,2)))","v":""},"","","",""]
[{"$f":"IF('2-Grant Budget'!AH210=\"\",\"\",LEFT('1-Award Info'!$G$4,7)&'2-Grant Budget'!AH210)","v":""},{"$f":"IF(A178=\"\",\"\",TRIM(LEFT('1-Award Info'!$C$19,30)))","v":""},{"$f":"IF(A178=\"\",\"\",'1-Award Info'!$G$5)","v":""},{"$f":"IF(A178=\"\",\"\",\"00\"&'1-Award Info'!$G$6)","v":""},"",{"$f":"IF(A178=\"\",\"\",VLOOKUP('1-Award Info'!$G$19,Tables!Q:R,2,0)&\"08008000\")","v":""},"","","",{"$f":"IF(A178=\"\",\"\",'1-Award Info'!$C$21)","v":""},{"$f":"IF(A178=\"\",\"\",'1-Award Info'!$C$22)","v":""},"","",{"$f":"IF(A178=\"\",\"\",IF(LEFT(A178)=\"N\",'1-Award Info'!$G$6&\"00\",'1-Award Info'!$G$6&RIGHT('1-Award Info'!$G$7,2)))","v":""},"","","",""]
[{"$f":"IF('2-Grant Budget'!AH211=\"\",\"\",LEFT('1-Award Info'!$G$4,7)&'2-Grant Budget'!AH211)","v":""},{"$f":"IF(A179=\"\",\"\",TRIM(LEFT('1-Award Info'!$C$19,30)))","v":""},{"$f":"IF(A179=\"\",\"\",'1-Award Info'!$G$5)","v":""},{"$f":"IF(A179=\"\",\"\",\"00\"&'1-Award Info'!$G$6)","v":""},{"$f":"IF(A179=\"\",\"\",$D$5)","v":""},{"$f":"IF(A179=\"\",\"\",VLOOKUP('1-Award Info'!$G$19,Tables!Q:R,2,0)&\"08008000\")","v":""},{"$f":"IF(A179=\"\",\"\",9848)","v":""},{"$f":"IF(A179=\"\",\"\",0)","v":""},{"$f":"IF(A179=\"\",\"\",\"GB\")","v":""},{"$f":"IF(A179=\"\",\"\",'1-Award Info'!$C$21)","v":""},{"$f":"IF(A179=\"\",\"\",'1-Award Info'!$C$22)","v":""},{"$f":"IF(A179=\"\",\"\",IF(M179=\"C\",\"Y\",\"N\"))","v":""},{"$f":"IF(A179=\"\",\"\",IF($M$5=\"s\",\"C\",\"S\"))","v":""},{"$f":"IF(A179=\"\",\"\",IF(LEFT(A179)=\"N\",'1-Award Info'!$G$6&\"00\",'1-Award Info'!$G$6&RIGHT('1-Award Info'!$G$7,2)))","v":""},{"$f":"MID(A179,2,6)","v":""},{"$f":"IF(A179=\"\",\"\",MID(A179,8,4))","v":""},{"$f":"IF(A179=\"\",\"\",MID(A179,12,4))","v":""},""]
[{"$f":"IF('2-Grant Budget'!AH212=\"\",\"\",LEFT('1-Award Info'!$G$4,7)&'2-Grant Budget'!AH212)","v":""},{"$f":"IF(A180=\"\",\"\",TRIM(LEFT('1-Award Info'!$C$19,30)))","v":""},{"$f":"IF(A180=\"\",\"\",'1-Award Info'!$G$5)","v":""},{"$f":"IF(A180=\"\",\"\",\"00\"&'1-Award Info'!$G$6)","v":""},"",{"$f":"IF(A180=\"\",\"\",VLOOKUP('1-Award Info'!$G$19,Tables!Q:R,2,0)&\"08008000\")","v":""},"","","",{"$f":"IF(A180=\"\",\"\",'1-Award Info'!$C$21)","v":""},{"$f":"IF(A180=\"\",\"\",'1-Award Info'!$C$22)","v":""},"","",{"$f":"IF(A180=\"\",\"\",IF(LEFT(A180)=\"N\",'1-Award Info'!$G$6&\"00\",'1-Award Info'!$G$6&RIGHT('1-Award Info'!$G$7,2)))","v":""},"","","",""]
[{"$f":"IF('2-Grant Budget'!AH213=\"\",\"\",LEFT('1-Award Info'!$G$4,7)&'2-Grant Budget'!AH213)","v":""},{"$f":"IF(A181=\"\",\"\",TRIM(LEFT('1-Award Info'!$C$19,30)))","v":""},{"$f":"IF(A181=\"\",\"\",'1-Award Info'!$G$5)","v":""},{"$f":"IF(A181=\"\",\"\",\"00\"&'1-Award Info'!$G$6)","v":""},"",{"$f":"IF(A181=\"\",\"\",VLOOKUP('1-Award Info'!$G$19,Tables!Q:R,2,0)&\"08008000\")","v":""},"","","",{"$f":"IF(A181=\"\",\"\",'1-Award Info'!$C$21)","v":""},{"$f":"IF(A181=\"\",\"\",'1-Award Info'!$C$22)","v":""},"","",{"$f":"IF(A181=\"\",\"\",IF(LEFT(A181)=\"N\",'1-Award Info'!$G$6&\"00\",'1-Award Info'!$G$6&RIGHT('1-Award Info'!$G$7,2)))","v":""},"","","",""]
[{"$f":"IF('2-Grant Budget'!AH214=\"\",\"\",LEFT('1-Award Info'!$G$4,7)&'2-Grant Budget'!AH214)","v":""},{"$f":"IF(A182=\"\",\"\",TRIM(LEFT('1-Award Info'!$C$19,30)))","v":""},{"$f":"IF(A182=\"\",\"\",'1-Award Info'!$G$5)","v":""},{"$f":"IF(A182=\"\",\"\",\"00\"&'1-Award Info'!$G$6)","v":""},"",{"$f":"IF(A182=\"\",\"\",VLOOKUP('1-Award Info'!$G$19,Tables!Q:R,2,0)&\"08008000\")","v":""},"","","",{"$f":"IF(A182=\"\",\"\",'1-Award Info'!$C$21)","v":""},{"$f":"IF(A182=\"\",\"\",'1-Award Info'!$C$22)","v":""},"","",{"$f":"IF(A182=\"\",\"\",IF(LEFT(A182)=\"N\",'1-Award Info'!$G$6&\"00\",'1-Award Info'!$G$6&RIGHT('1-Award Info'!$G$7,2)))","v":""},"","","",""]
[{"$f":"IF('2-Grant Budget'!AH215=\"\",\"\",LEFT('1-Award Info'!$G$4,7)&'2-Grant Budget'!AH215)","v":""},{"$f":"IF(A183=\"\",\"\",TRIM(LEFT('1-Award Info'!$C$19,30)))","v":""},{"$f":"IF(A183=\"\",\"\",'1-Award Info'!$G$5)","v":""},{"$f":"IF(A183=\"\",\"\",\"00\"&'1-Award Info'!$G$6)","v":""},"",{"$f":"IF(A183=\"\",\"\",VLOOKUP('1-Award Info'!$G$19,Tables!Q:R,2,0)&\"08008000\")","v":""},"","","",{"$f":"IF(A183=\"\",\"\",'1-Award Info'!$C$21)","v":""},{"$f":"IF(A183=\"\",\"\",'1-Award Info'!$C$22)","v":""},"","",{"$f":"IF(A183=\"\",\"\",IF(LEFT(A183)=\"N\",'1-Award Info'!$G$6&\"00\",'1-Award Info'!$G$6&RIGHT('1-Award Info'!$G$7,2)))","v":""},"","","",""]
[{"$f":"IF('2-Grant Budget'!AH216=\"\",\"\",LEFT('1-Award Info'!$G$4,7)&'2-Grant Budget'!AH216)","v":""},{"$f":"IF(A184=\"\",\"\",TRIM(LEFT('1-Award Info'!$C$19,30)))","v":""},{"$f":"IF(A184=\"\",\"\",'1-Award Info'!$G$5)","v":""},{"$f":"IF(A184=\"\",\"\",\"00\"&'1-Award Info'!$G$6)","v":""},"",{"$f":"IF(A184=\"\",\"\",VLOOKUP('1-Award Info'!$G$19,Tables!Q:R,2,0)&\"08008000\")","v":""},"","","",{"$f":"IF(A184=\"\",\"\",'1-Award Info'!$C$21)","v":""},{"$f":"IF(A184=\"\",\"\",'1-Award Info'!$C$22)","v":""},"","",{"$f":"IF(A184=\"\",\"\",IF(LEFT(A184)=\"N\",'1-Award Info'!$G$6&\"00\",'1-Award Info'!$G$6&RIGHT('1-Award Info'!$G$7,2)))","v":""},"","","",""]
[{"$f":"IF('2-Grant Budget'!AH217=\"\",\"\",LEFT('1-Award Info'!$G$4,7)&'2-Grant Budget'!AH217)","v":""},{"$f":"IF(A185=\"\",\"\",TRIM(LEFT('1-Award Info'!$C$19,30)))","v":""},{"$f":"IF(A185=\"\",\"\",'1-Award Info'!$G$5)","v":""},{"$f":"IF(A185=\"\",\"\",\"00\"&'1-Award Info'!$G$6)","v":""},"",{"$f":"IF(A185=\"\",\"\",VLOOKUP('1-Award Info'!$G$19,Tables!Q:R,2,0)&\"08008000\")","v":""},"","","",{"$f":"IF(A185=\"\",\"\",'1-Award Info'!$C$21)","v":""},{"$f":"IF(A185=\"\",\"\",'1-Award Info'!$C$22)","v":""},"","",{"$f":"IF(A185=\"\",\"\",IF(LEFT(A185)=\"N\",'1-Award Info'!$G$6&\"00\",'1-Award Info'!$G$6&RIGHT('1-Award Info'!$G$7,2)))","v":""},"","","",""]
[{"$f":"IF('2-Grant Budget'!AH218=\"\",\"\",LEFT('1-Award Info'!$G$4,7)&'2-Grant Budget'!AH218)","v":""},{"$f":"IF(A186=\"\",\"\",TRIM(LEFT('1-Award Info'!$C$19,30)))","v":""},{"$f":"IF(A186=\"\",\"\",'1-Award Info'!$G$5)","v":""},{"$f":"IF(A186=\"\",\"\",\"00\"&'1-Award Info'!$G$6)","v":""},"",{"$f":"IF(A186=\"\",\"\",VLOOKUP('1-Award Info'!$G$19,Tables!Q:R,2,0)&\"08008000\")","v":""},"","","",{"$f":"IF(A186=\"\",\"\",'1-Award Info'!$C$21)","v":""},{"$f":"IF(A186=\"\",\"\",'1-Award Info'!$C$22)","v":""},"","",{"$f":"IF(A186=\"\",\"\",IF(LEFT(A186)=\"N\",'1-Award Info'!$G$6&\"00\",'1-Award Info'!$G$6&RIGHT('1-Award Info'!$G$7,2)))","v":""},"","","",""]
[{"$f":"IF('2-Grant Budget'!AH219=\"\",\"\",LEFT('1-Award Info'!$G$4,7)&'2-Grant Budget'!AH219)","v":""},{"$f":"IF(A187=\"\",\"\",TRIM(LEFT('1-Award Info'!$C$19,30)))","v":""},{"$f":"IF(A187=\"\",\"\",'1-Award Info'!$G$5)","v":""},{"$f":"IF(A187=\"\",\"\",\"00\"&'1-Award Info'!$G$6)","v":""},"",{"$f":"IF(A187=\"\",\"\",VLOOKUP('1-Award Info'!$G$19,Tables!Q:R,2,0)&\"08008000\")","v":""},"","","",{"$f":"IF(A187=\"\",\"\",'1-Award Info'!$C$21)","v":""},{"$f":"IF(A187=\"\",\"\",'1-Award Info'!$C$22)","v":""},"","",{"$f":"IF(A187=\"\",\"\",IF(LEFT(A187)=\"N\",'1-Award Info'!$G$6&\"00\",'1-Award Info'!$G$6&RIGHT('1-Award Info'!$G$7,2)))","v":""},"","","",""]
[{"$f":"IF('2-Grant Budget'!AH220=\"\",\"\",LEFT('1-Award Info'!$G$4,7)&'2-Grant Budget'!AH220)","v":""},{"$f":"IF(A188=\"\",\"\",TRIM(LEFT('1-Award Info'!$C$19,30)))","v":""},{"$f":"IF(A188=\"\",\"\",'1-Award Info'!$G$5)","v":""},{"$f":"IF(A188=\"\",\"\",\"00\"&'1-Award Info'!$G$6)","v":""},"",{"$f":"IF(A188=\"\",\"\",VLOOKUP('1-Award Info'!$G$19,Tables!Q:R,2,0)&\"08008000\")","v":""},"","","",{"$f":"IF(A188=\"\",\"\",'1-Award Info'!$C$21)","v":""},{"$f":"IF(A188=\"\",\"\",'1-Award Info'!$C$22)","v":""},"","",{"$f":"IF(A188=\"\",\"\",IF(LEFT(A188)=\"N\",'1-Award Info'!$G$6&\"00\",'1-Award Info'!$G$6&RIGHT('1-Award Info'!$G$7,2)))","v":""},"","","",""]
[{"$f":"IF('2-Grant Budget'!AH221=\"\",\"\",LEFT('1-Award Info'!$G$4,7)&'2-Grant Budget'!AH221)","v":""},{"$f":"IF(A189=\"\",\"\",TRIM(LEFT('1-Award Info'!$C$19,30)))","v":""},{"$f":"IF(A189=\"\",\"\",'1-Award Info'!$G$5)","v":""},{"$f":"IF(A189=\"\",\"\",\"00\"&'1-Award Info'!$G$6)","v":""},"",{"$f":"IF(A189=\"\",\"\",VLOOKUP('1-Award Info'!$G$19,Tables!Q:R,2,0)&\"08008000\")","v":""},"","","",{"$f":"IF(A189=\"\",\"\",'1-Award Info'!$C$21)","v":""},{"$f":"IF(A189=\"\",\"\",'1-Award Info'!$C$22)","v":""},"","",{"$f":"IF(A189=\"\",\"\",IF(LEFT(A189)=\"N\",'1-Award Info'!$G$6&\"00\",'1-Award Info'!$G$6&RIGHT('1-Award Info'!$G$7,2)))","v":""},"","","",""]
[{"$f":"IF('2-Grant Budget'!AH222=\"\",\"\",LEFT('1-Award Info'!$G$4,7)&'2-Grant Budget'!AH222)","v":""},{"$f":"IF(A190=\"\",\"\",TRIM(LEFT('1-Award Info'!$C$19,30)))","v":""},{"$f":"IF(A190=\"\",\"\",'1-Award Info'!$G$5)","v":""},{"$f":"IF(A190=\"\",\"\",\"00\"&'1-Award Info'!$G$6)","v":""},"",{"$f":"IF(A190=\"\",\"\",VLOOKUP('1-Award Info'!$G$19,Tables!Q:R,2,0)&\"08008000\")","v":""},"","","",{"$f":"IF(A190=\"\",\"\",'1-Award Info'!$C$21)","v":""},{"$f":"IF(A190=\"\",\"\",'1-Award Info'!$C$22)","v":""},"","",{"$f":"IF(A190=\"\",\"\",IF(LEFT(A190)=\"N\",'1-Award Info'!$G$6&\"00\",'1-Award Info'!$G$6&RIGHT('1-Award Info'!$G$7,2)))","v":""},"","","",""]
[{"$f":"IF('2-Grant Budget'!AH223=\"\",\"\",LEFT('1-Award Info'!$G$4,7)&'2-Grant Budget'!AH223)","v":""},{"$f":"IF(A191=\"\",\"\",TRIM(LEFT('1-Award Info'!$C$19,30)))","v":""},{"$f":"IF(A191=\"\",\"\",'1-Award Info'!$G$5)","v":""},{"$f":"IF(A191=\"\",\"\",\"00\"&'1-Award Info'!$G$6)","v":""},"",{"$f":"IF(A191=\"\",\"\",VLOOKUP('1-Award Info'!$G$19,Tables!Q:R,2,0)&\"08008000\")","v":""},"","","",{"$f":"IF(A191=\"\",\"\",'1-Award Info'!$C$21)","v":""},{"$f":"IF(A191=\"\",\"\",'1-Award Info'!$C$22)","v":""},"","",{"$f":"IF(A191=\"\",\"\",IF(LEFT(A191)=\"N\",'1-Award Info'!$G$6&\"00\",'1-Award Info'!$G$6&RIGHT('1-Award Info'!$G$7,2)))","v":""},"","","",""]
[{"$f":"IF('2-Grant Budget'!AH224=\"\",\"\",LEFT('1-Award Info'!$G$4,7)&'2-Grant Budget'!AH224)","v":""},{"$f":"IF(A192=\"\",\"\",TRIM(LEFT('1-Award Info'!$C$19,30)))","v":""},{"$f":"IF(A192=\"\",\"\",'1-Award Info'!$G$5)","v":""},{"$f":"IF(A192=\"\",\"\",\"00\"&'1-Award Info'!$G$6)","v":""},"",{"$f":"IF(A192=\"\",\"\",VLOOKUP('1-Award Info'!$G$19,Tables!Q:R,2,0)&\"08008000\")","v":""},"","","",{"$f":"IF(A192=\"\",\"\",'1-Award Info'!$C$21)","v":""},{"$f":"IF(A192=\"\",\"\",'1-Award Info'!$C$22)","v":""},"","",{"$f":"IF(A192=\"\",\"\",IF(LEFT(A192)=\"N\",'1-Award Info'!$G$6&\"00\",'1-Award Info'!$G$6&RIGHT('1-Award Info'!$G$7,2)))","v":""},"","","",""]
[{"$f":"IF('2-Grant Budget'!AH225=\"\",\"\",LEFT('1-Award Info'!$G$4,7)&'2-Grant Budget'!AH225)","v":""},{"$f":"IF(A193=\"\",\"\",TRIM(LEFT('1-Award Info'!$C$19,30)))","v":""},{"$f":"IF(A193=\"\",\"\",'1-Award Info'!$G$5)","v":""},{"$f":"IF(A193=\"\",\"\",\"00\"&'1-Award Info'!$G$6)","v":""},"",{"$f":"IF(A193=\"\",\"\",VLOOKUP('1-Award Info'!$G$19,Tables!Q:R,2,0)&\"08008000\")","v":""},"","","",{"$f":"IF(A193=\"\",\"\",'1-Award Info'!$C$21)","v":""},{"$f":"IF(A193=\"\",\"\",'1-Award Info'!$C$22)","v":""},"","",{"$f":"IF(A193=\"\",\"\",IF(LEFT(A193)=\"N\",'1-Award Info'!$G$6&\"00\",'1-Award Info'!$G$6&RIGHT('1-Award Info'!$G$7,2)))","v":""},"","","",""]
[{"$f":"IF('2-Grant Budget'!AH226=\"\",\"\",LEFT('1-Award Info'!$G$4,7)&'2-Grant Budget'!AH226)","v":""},{"$f":"IF(A194=\"\",\"\",TRIM(LEFT('1-Award Info'!$C$19,30)))","v":""},{"$f":"IF(A194=\"\",\"\",'1-Award Info'!$G$5)","v":""},{"$f":"IF(A194=\"\",\"\",\"00\"&'1-Award Info'!$G$6)","v":""},"",{"$f":"IF(A194=\"\",\"\",VLOOKUP('1-Award Info'!$G$19,Tables!Q:R,2,0)&\"08008000\")","v":""},"","","",{"$f":"IF(A194=\"\",\"\",'1-Award Info'!$C$21)","v":""},{"$f":"IF(A194=\"\",\"\",'1-Award Info'!$C$22)","v":""},"","",{"$f":"IF(A194=\"\",\"\",IF(LEFT(A194)=\"N\",'1-Award Info'!$G$6&\"00\",'1-Award Info'!$G$6&RIGHT('1-Award Info'!$G$7,2)))","v":""},"","","",""]

{"sheet":"AC10.1-P","index":4,"n_rows":121,"n_cols":24,"rows_kept":121,"cut":false,"hidden":true,"merged":[]}
[]
[null,null,null,null,null,null,null,null,null,null,null,null,null,null,null,null,null,null,null,null,null,null,"COUNT FOR MACRO",{"$f":"\"T\"&SUM(X5:X121)+4","v":"T5"}]
[]
["ACTIVITY","DESCRIPTION","Long Description","ACTIVITY_GRP","COMPANY","ACCT_UNIT","ACCOUNT","SUB_ACCT","USR_STATUS","BEGIN_DATE","END_DATE","BILLABLE_FLAG","POSTING_FLAG","LEVEL_DETAIL_01","LEVEL_DETAIL_02","LEVEL_DETAIL_03","LEVEL_DETAIL_04","AWARD","BUDGET CHECK","LEVEL",null,"Results from AC10.1",null,"COUNT FOR MACRO"]
[{"$f":"IF(LEN('1-Award Info'!$G$4)=7,'1-Award Info'!$G$4&'1-Award Info'!$C$28&8000,'1-Award Info'!$G$4&8000)","v":"8000"},{"$f":"IF(A5=\"\",\"\",TRIM(LEFT('1-Award Info'!$C$19,30)))","v":""},{"$f":"IF(A5=\"\",\"\",'1-Award Info'!$G$5)","v":0},{"$f":"IF(A5=\"\",\"\",\"00\"&'1-Award Info'!$G$6)","v":"00"},{"$f":"IF(A5=\"\",\"\",$D$6)","v":""},{"$f":"IF(A5=\"\",\"\",VLOOKUP('1-Award Info'!$G$19,Tables!Q:R,2,0)&\"08008000\")","v":{"$error":"#N/A"}},{"$f":"IF(A5=\"\",\"\",9848)","v":9848},{"$f":"IF(A5=\"\",\"\",0)","v":0},{"$f":"IF(A5=\"\",\"\",\"GB\")","v":"GB"},{"$f":"IF(A5=\"\",\"\",'1-Award Info'!$C$21)","v":"00:00:00"},{"$f":"IF(A5=\"\",\"\",'1-Award Info'!$C$22)","v":"00:00:00"},{"$f":"IF(A5=\"\",\"\",\"Y\")","v":"Y"},{"$f":"IF(A5=\"\",\"\",\"P\")","v":"P"},{"$f":"IF(A5=\"\",\"\",IF(LEFT(A5)=\"N\",'1-Award Info'!$G$6&\"00\",'1-Award Info'!$G$6&RIGHT('1-Award Info'!$G$7,2)))","v":""},{"$f":"MID(A5,2,6)","v":"000"},{"$f":"MID(A5,8,4)","v":""},{"$f":"MID(A5,12,4)","v":""},{"$f":"IF($A5=\"\",\"\",\"Y\")","v":"Y"},null,null,null,null,null,{"$f":"IF(LEN(A5)>0,1,0)","v":1}]
[{"$f":"'2-Grant Budget'!Z17","v":""},{"$f":"IF(A6=\"\",\"\",TRIM(LEFT('1-Award Info'!$C$19,30)))","v":""},{"$f":"IF(A6=\"\",\"\",'1-Award Info'!$G$5)","v":""},{"$f":"IF(A6=\"\",\"\",\"00\"&'1-Award Info'!$G$6)","v":""},{"$f":"IF(A6=\"\",\"\",$D$6)","v":""},{"$f":"IF(A6=\"\",\"\",VLOOKUP('1-Award Info'!$G$19,Tables!Q:R,2,0)&RIGHT(A6,8))","v":""},{"$f":"IF(A6=\"\",\"\",9848)","v":""},{"$f":"IF(A6=\"\",\"\",0)","v":""},{"$f":"IF(A6=\"\",\"\",\"GB\")","v":""},{"$f":"IF(A6=\"\",\"\",'1-Award Info'!$C$21)","v":""},{"$f":"IF(A6=\"\",\"\",'1-Award Info'!$C$22)","v":""},{"$f":"IF(A6=\"\",\"\",\"Y\")","v":""},{"$f":"IF(A6=\"\",\"\",\"P\")","v":""},{"$f":"IF(A6=\"\",\"\",IF(LEFT(A6)=\"N\",'1-Award Info'!$G$6&\"00\",'1-Award Info'!$G$6&RIGHT('1-Award Info'!$G$7,2)))","v":""},{"$f":"MID(A6,2,6)","v":""},{"$f":"MID(A6,8,4)","v":""},{"$f":"MID(A6,12,4)","v":""},"",null,null,null,null,null,0]
[{"$f":"'2-Grant Budget'!Z18","v":""},{"$f":"IF(A7=\"\",\"\",TRIM(LEFT('1-Award Info'!$C$19,30)))","v":""},{"$f":"IF(A7=\"\",\"\",'1-Award Info'!$G$5)","v":""},{"$f":"IF(A7=\"\",\"\",\"00\"&'1-Award Info'!$G$6)","v":""},{"$f":"IF(A7=\"\",\"\",$D$6)","v":""},{"$f":"IF(A7=\"\",\"\",VLOOKUP('1-Award Info'!$G$19,Tables!Q:R,2,0)&RIGHT(A7,8))","v":""},{"$f":"IF(A7=\"\",\"\",9848)","v":""},{"$f":"IF(A7=\"\",\"\",0)","v":""},{"$f":"IF(A7=\"\",\"\",\"GB\")","v":""},{"$f":"IF(A7=\"\",\"\",'1-Award Info'!$C$21)","v":""},{"$f":"IF(A7=\"\",\"\",'1-Award Info'!$C$22)","v":""},{"$f":"IF(A7=\"\",\"\",\"Y\")","v":""},{"$f":"IF(A7=\"\",\"\",\"P\")","v":""},{"$f":"IF(A7=\"\",\"\",IF(LEFT(A7)=\"N\",'1-Award Info'!$G$6&\"00\",'1-Award Info'!$G$6&RIGHT('1-Award Info'!$G$7,2)))","v":""},{"$f":"MID(A7,2,6)","v":""},{"$f":"MID(A7,8,4)","v":""},{"$f":"MID(A7,12,4)","v":""},"",null,null,null,null,null,0]
[{"$f":"'2-Grant Budget'!Z19","v":""},{"$f":"IF(A8=\"\",\"\",TRIM(LEFT('1-Award Info'!$C$19,30)))","v":""},{"$f":"IF(A8=\"\",\"\",'1-Award Info'!$G$5)","v":""},{"$f":"IF(A8=\"\",\"\",\"00\"&'1-Award Info'!$G$6)","v":""},"",{"$f":"IF(A8=\"\",\"\",VLOOKUP('1-Award Info'!$G$19,Tables!Q:R,2,0)&RIGHT(A8,8))","v":""},"","","",{"$f":"IF(A8=\"\",\"\",'1-Award Info'!$C$21)","v":""},{"$f":"IF(A8=\"\",\"\",'1-Award Info'!$C$22)","v":""},"","",{"$f":"IF(A8=\"\",\"\",IF(LEFT(A8)=\"N\",'1-Award Info'!$G$6&\"00\",'1-Award Info'!$G$6&RIGHT('1-Award Info'!$G$7,2)))","v":""},"","","","",null,null,null,null,null,0]
[{"$f":"'2-Grant Budget'!Z20","v":""},{"$f":"IF(A9=\"\",\"\",TRIM(LEFT('1-Award Info'!$C$19,30)))","v":""},{"$f":"IF(A9=\"\",\"\",'1-Award Info'!$G$5)","v":""},{"$f":"IF(A9=\"\",\"\",\"00\"&'1-Award Info'!$G$6)","v":""},"",{"$f":"IF(A9=\"\",\"\",VLOOKUP('1-Award Info'!$G$19,Tables!Q:R,2,0)&RIGHT(A9,8))","v":""},"","","",{"$f":"IF(A9=\"\",\"\",'1-Award Info'!$C$21)","v":""},{"$f":"IF(A9=\"\",\"\",'1-Award Info'!$C$22)","v":""},"","",{"$f":"IF(A9=\"\",\"\",IF(LEFT(A9)=\"N\",'1-Award Info'!$G$6&\"00\",'1-Award Info'!$G$6&RIGHT('1-Award Info'!$G$7,2)))","v":""},"","","","",null,null,null,null,null,0]
[{"$f":"'2-Grant Budget'!Z21","v":""},{"$f":"IF(A10=\"\",\"\",TRIM(LEFT('1-Award Info'!$C$19,30)))","v":""},{"$f":"IF(A10=\"\",\"\",'1-Award Info'!$G$5)","v":""},{"$f":"IF(A10=\"\",\"\",\"00\"&'1-Award Info'!$G$6)","v":""},"",{"$f":"IF(A10=\"\",\"\",VLOOKUP('1-Award Info'!$G$19,Tables!Q:R,2,0)&RIGHT(A10,8))","v":""},"","","",{"$f":"IF(A10=\"\",\"\",'1-Award Info'!$C$21)","v":""},{"$f":"IF(A10=\"\",\"\",'1-Award Info'!$C$22)","v":""},"","",{"$f":"IF(A10=\"\",\"\",IF(LEFT(A10)=\"N\",'1-Award Info'!$G$6&\"00\",'1-Award Info'!$G$6&RIGHT('1-Award Info'!$G$7,2)))","v":""},"","","","",null,null,null,null,null,0]
[{"$f":"'2-Grant Budget'!Z22","v":""},{"$f":"IF(A11=\"\",\"\",TRIM(LEFT('1-Award Info'!$C$19,30)))","v":""},{"$f":"IF(A11=\"\",\"\",'1-Award Info'!$G$5)","v":""},{"$f":"IF(A11=\"\",\"\",\"00\"&'1-Award Info'!$G$6)","v":""},"",{"$f":"IF(A11=\"\",\"\",VLOOKUP('1-Award Info'!$G$19,Tables!Q:R,2,0)&RIGHT(A11,8))","v":""},"","","",{"$f":"IF(A11=\"\",\"\",'1-Award Info'!$C$21)","v":""},{"$f":"IF(A11=\"\",\"\",'1-Award Info'!$C$22)","v":""},"","",{"$f":"IF(A11=\"\",\"\",IF(LEFT(A11)=\"N\",'1-Award Info'!$G$6&\"00\",'1-Award Info'!$G$6&RIGHT('1-Award Info'!$G$7,2)))","v":""},"","","","",null,null,null,null,null,0]
[{"$f":"'2-Grant Budget'!Z23","v":""},{"$f":"IF(A12=\"\",\"\",TRIM(LEFT('1-Award Info'!$C$19,30)))","v":""},{"$f":"IF(A12=\"\",\"\",'1-Award Info'!$G$5)","v":""},{"$f":"IF(A12=\"\",\"\",\"00\"&'1-Award Info'!$G$6)","v":""},"",{"$f":"IF(A12=\"\",\"\",VLOOKUP('1-Award Info'!$G$19,Tables!Q:R,2,0)&RIGHT(A12,8))","v":""},"","","",{"$f":"IF(A12=\"\",\"\",'1-Award Info'!$C$21)","v":""},{"$f":"IF(A12=\"\",\"\",'1-Award Info'!$C$22)","v":""},"","",{"$f":"IF(A12=\"\",\"\",IF(LEFT(A12)=\"N\",'1-Award Info'!$G$6&\"00\",'1-Award Info'!$G$6&RIGHT('1-Award Info'!$G$7,2)))","v":""},"","","","",null,null,null,null,null,0]
[{"$f":"'2-Grant Budget'!Z24","v":""},{"$f":"IF(A13=\"\",\"\",TRIM(LEFT('1-Award Info'!$C$19,30)))","v":""},{"$f":"IF(A13=\"\",\"\",'1-Award Info'!$G$5)","v":""},{"$f":"IF(A13=\"\",\"\",\"00\"&'1-Award Info'!$G$6)","v":""},"",{"$f":"IF(A13=\"\",\"\",VLOOKUP('1-Award Info'!$G$19,Tables!Q:R,2,0)&RIGHT(A13,8))","v":""},"","","",{"$f":"IF(A13=\"\",\"\",'1-Award Info'!$C$21)","v":""},{"$f":"IF(A13=\"\",\"\",'1-Award Info'!$C$22)","v":""},"","",{"$f":"IF(A13=\"\",\"\",IF(LEFT(A13)=\"N\",'1-Award Info'!$G$6&\"00\",'1-Award Info'!$G$6&RIGHT('1-Award Info'!$G$7,2)))","v":""},"","","","",null,null,null,null,null,0]
[{"$f":"'2-Grant Budget'!Z25","v":""},{"$f":"IF(A14=\"\",\"\",TRIM(LEFT('1-Award Info'!$C$19,30)))","v":""},{"$f":"IF(A14=\"\",\"\",'1-Award Info'!$G$5)","v":""},{"$f":"IF(A14=\"\",\"\",\"00\"&'1-Award Info'!$G$6)","v":""},"",{"$f":"IF(A14=\"\",\"\",VLOOKUP('1-Award Info'!$G$19,Tables!Q:R,2,0)&RIGHT(A14,8))","v":""},"","","",{"$f":"IF(A14=\"\",\"\",'1-Award Info'!$C$21)","v":""},{"$f":"IF(A14=\"\",\"\",'1-Award Info'!$C$22)","v":""},"","",{"$f":"IF(A14=\"\",\"\",IF(LEFT(A14)=\"N\",'1-Award Info'!$G$6&\"00\",'1-Award Info'!$G$6&RIGHT('1-Award Info'!$G$7,2)))","v":""},"","","","",null,null,null,null,null,0]
[{"$f":"'2-Grant Budget'!Z26","v":""},{"$f":"IF(A15=\"\",\"\",TRIM(LEFT('1-Award Info'!$C$19,30)))","v":""},{"$f":"IF(A15=\"\",\"\",'1-Award Info'!$G$5)","v":""},{"$f":"IF(A15=\"\",\"\",\"00\"&'1-Award Info'!$G$6)","v":""},"",{"$f":"IF(A15=\"\",\"\",VLOOKUP('1-Award Info'!$G$19,Tables!Q:R,2,0)&RIGHT(A15,8))","v":""},"","","",{"$f":"IF(A15=\"\",\"\",'1-Award Info'!$C$21)","v":""},{"$f":"IF(A15=\"\",\"\",'1-Award Info'!$C$22)","v":""},"","",{"$f":"IF(A15=\"\",\"\",IF(LEFT(A15)=\"N\",'1-Award Info'!$G$6&\"00\",'1-Award Info'!$G$6&RIGHT('1-Award Info'!$G$7,2)))","v":""},"","","","",null,null,null,null,null,0]
[{"$f":"'2-Grant Budget'!Z27","v":""},{"$f":"IF(A16=\"\",\"\",TRIM(LEFT('1-Award Info'!$C$19,30)))","v":""},{"$f":"IF(A16=\"\",\"\",'1-Award Info'!$G$5)","v":""},{"$f":"IF(A16=\"\",\"\",\"00\"&'1-Award Info'!$G$6)","v":""},"",{"$f":"IF(A16=\"\",\"\",VLOOKUP('1-Award Info'!$G$19,Tables!Q:R,2,0)&RIGHT(A16,8))","v":""},"","","",{"$f":"IF(A16=\"\",\"\",'1-Award Info'!$C$21)","v":""},{"$f":"IF(A16=\"\",\"\",'1-Award Info'!$C$22)","v":""},"","",{"$f":"IF(A16=\"\",\"\",IF(LEFT(A16)=\"N\",'1-Award Info'!$G$6&\"00\",'1-Award Info'!$G$6&RIGHT('1-Award Info'!$G$7,2)))","v":""},"","","","",null,null,null,null,null,0]
[{"$f":"'2-Grant Budget'!Z28","v":""},{"$f":"IF(A17=\"\",\"\",TRIM(LEFT('1-Award Info'!$C$19,30)))","v":""},{"$f":"IF(A17=\"\",\"\",'1-Award Info'!$G$5)","v":""},{"$f":"IF(A17=\"\",\"\",\"00\"&'1-Award Info'!$G$6)","v":""},"",{"$f":"IF(A17=\"\",\"\",VLOOKUP('1-Award Info'!$G$19,Tables!Q:R,2,0)&RIGHT(A17,8))","v":""},"","","",{"$f":"IF(A17=\"\",\"\",'1-Award Info'!$C$21)","v":""},{"$f":"IF(A17=\"\",\"\",'1-Award Info'!$C$22)","v":""},"","",{"$f":"IF(A17=\"\",\"\",IF(LEFT(A17)=\"N\",'1-Award Info'!$G$6&\"00\",'1-Award Info'!$G$6&RIGHT('1-Award Info'!$G$7,2)))","v":""},"","","","",null,null,null,null,null,0]
[{"$f":"'2-Grant Budget'!Z29","v":""},{"$f":"IF(A18=\"\",\"\",TRIM(LEFT('1-Award Info'!$C$19,30)))","v":""},{"$f":"IF(A18=\"\",\"\",'1-Award Info'!$G$5)","v":""},{"$f":"IF(A18=\"\",\"\",\"00\"&'1-Award Info'!$G$6)","v":""},"",{"$f":"IF(A18=\"\",\"\",VLOOKUP('1-Award Info'!$G$19,Tables!Q:R,2,0)&RIGHT(A18,8))","v":""},"","","",{"$f":"IF(A18=\"\",\"\",'1-Award Info'!$C$21)","v":""},{"$f":"IF(A18=\"\",\"\",'1-Award Info'!$C$22)","v":""},"","",{"$f":"IF(A18=\"\",\"\",IF(LEFT(A18)=\"N\",'1-Award Info'!$G$6&\"00\",'1-Award Info'!$G$6&RIGHT('1-Award Info'!$G$7,2)))","v":""},"","","","",null,null,null,null,null,0]
[{"$f":"'2-Grant Budget'!Z30","v":""},{"$f":"IF(A19=\"\",\"\",TRIM(LEFT('1-Award Info'!$C$19,30)))","v":""},{"$f":"IF(A19=\"\",\"\",'1-Award Info'!$G$5)","v":""},{"$f":"IF(A19=\"\",\"\",\"00\"&'1-Award Info'!$G$6)","v":""},"",{"$f":"IF(A19=\"\",\"\",VLOOKUP('1-Award Info'!$G$19,Tables!Q:R,2,0)&RIGHT(A19,8))","v":""},"","","",{"$f":"IF(A19=\"\",\"\",'1-Award Info'!$C$21)","v":""},{"$f":"IF(A19=\"\",\"\",'1-Award Info'!$C$22)","v":""},"","",{"$f":"IF(A19=\"\",\"\",IF(LEFT(A19)=\"N\",'1-Award Info'!$G$6&\"00\",'1-Award Info'!$G$6&RIGHT('1-Award Info'!$G$7,2)))","v":""},"","","","",null,null,null,null,null,0]
[{"$f":"'2-Grant Budget'!Z31","v":""},{"$f":"IF(A20=\"\",\"\",TRIM(LEFT('1-Award Info'!$C$19,30)))","v":""},{"$f":"IF(A20=\"\",\"\",'1-Award Info'!$G$5)","v":""},{"$f":"IF(A20=\"\",\"\",\"00\"&'1-Award Info'!$G$6)","v":""},"",{"$f":"IF(A20=\"\",\"\",VLOOKUP('1-Award Info'!$G$19,Tables!Q:R,2,0)&RIGHT(A20,8))","v":""},"","","",{"$f":"IF(A20=\"\",\"\",'1-Award Info'!$C$21)","v":""},{"$f":"IF(A20=\"\",\"\",'1-Award Info'!$C$22)","v":""},"","",{"$f":"IF(A20=\"\",\"\",IF(LEFT(A20)=\"N\",'1-Award Info'!$G$6&\"00\",'1-Award Info'!$G$6&RIGHT('1-Award Info'!$G$7,2)))","v":""},"","","",{"$f":"IF($A20=\"\",\"\",\"Y\")","v":""},null,null,null,null,null,0]
[{"$f":"'2-Grant Budget'!Z32","v":""},{"$f":"IF(A21=\"\",\"\",TRIM(LEFT('1-Award Info'!$C$19,30)))","v":""},{"$f":"IF(A21=\"\",\"\",'1-Award Info'!$G$5)","v":""},{"$f":"IF(A21=\"\",\"\",\"00\"&'1-Award Info'!$G$6)","v":""},"",{"$f":"IF(A21=\"\",\"\",VLOOKUP('1-Award Info'!$G$19,Tables!Q:R,2,0)&RIGHT(A21,8))","v":""},"","","",{"$f":"IF(A21=\"\",\"\",'1-Award Info'!$C$21)","v":""},{"$f":"IF(A21=\"\",\"\",'1-Award Info'!$C$22)","v":""},"","",{"$f":"IF(A21=\"\",\"\",IF(LEFT(A21)=\"N\",'1-Award Info'!$G$6&\"00\",'1-Award Info'!$G$6&RIGHT('1-Award Info'!$G$7,2)))","v":""},"","","","",null,null,null,null,null,0]
[{"$f":"'2-Grant Budget'!Z33","v":""},{"$f":"IF(A22=\"\",\"\",TRIM(LEFT('1-Award Info'!$C$19,30)))","v":""},{"$f":"IF(A22=\"\",\"\",'1-Award Info'!$G$5)","v":""},{"$f":"IF(A22=\"\",\"\",\"00\"&'1-Award Info'!$G$6)","v":""},"",{"$f":"IF(A22=\"\",\"\",VLOOKUP('1-Award Info'!$G$19,Tables!Q:R,2,0)&RIGHT(A22,8))","v":""},"","","",{"$f":"IF(A22=\"\",\"\",'1-Award Info'!$C$21)","v":""},{"$f":"IF(A22=\"\",\"\",'1-Award Info'!$C$22)","v":""},"","",{"$f":"IF(A22=\"\",\"\",IF(LEFT(A22)=\"N\",'1-Award Info'!$G$6&\"00\",'1-Award Info'!$G$6&RIGHT('1-Award Info'!$G$7,2)))","v":""},"","","","",null,null,null,null,null,0]
[{"$f":"'2-Grant Budget'!Z34","v":""},{"$f":"IF(A23=\"\",\"\",TRIM(LEFT('1-Award Info'!$C$19,30)))","v":""},{"$f":"IF(A23=\"\",\"\",'1-Award Info'!$G$5)","v":""},{"$f":"IF(A23=\"\",\"\",\"00\"&'1-Award Info'!$G$6)","v":""},"",{"$f":"IF(A23=\"\",\"\",VLOOKUP('1-Award Info'!$G$19,Tables!Q:R,2,0)&RIGHT(A23,8))","v":""},"","","",{"$f":"IF(A23=\"\",\"\",'1-Award Info'!$C$21)","v":""},{"$f":"IF(A23=\"\",\"\",'1-Award Info'!$C$22)","v":""},"","",{"$f":"IF(A23=\"\",\"\",IF(LEFT(A23)=\"N\",'1-Award Info'!$G$6&\"00\",'1-Award Info'!$G$6&RIGHT('1-Award Info'!$G$7,2)))","v":""},"","","","",null,null,null,null,null,0]
[{"$f":"'2-Grant Budget'!Z35","v":""},{"$f":"IF(A24=\"\",\"\",TRIM(LEFT('1-Award Info'!$C$19,30)))","v":""},{"$f":"IF(A24=\"\",\"\",'1-Award Info'!$G$5)","v":""},{"$f":"IF(A24=\"\",\"\",\"00\"&'1-Award Info'!$G$6)","v":""},"",{"$f":"IF(A24=\"\",\"\",VLOOKUP('1-Award Info'!$G$19,Tables!Q:R,2,0)&RIGHT(A24,8))","v":""},"","","",{"$f":"IF(A24=\"\",\"\",'1-Award Info'!$C$21)","v":""},{"$f":"IF(A24=\"\",\"\",'1-Award Info'!$C$22)","v":""},"","",{"$f":"IF(A24=\"\",\"\",IF(LEFT(A24)=\"N\",'1-Award Info'!$G$6&\"00\",'1-Award Info'!$G$6&RIGHT('1-Award Info'!$G$7,2)))","v":""},"","","","",null,null,null,null,null,0]
[{"$f":"'2-Grant Budget'!Z36","v":""},{"$f":"IF(A25=\"\",\"\",TRIM(LEFT('1-Award Info'!$C$19,30)))","v":""},{"$f":"IF(A25=\"\",\"\",'1-Award Info'!$G$5)","v":""},{"$f":"IF(A25=\"\",\"\",\"00\"&'1-Award Info'!$G$6)","v":""},"",{"$f":"IF(A25=\"\",\"\",VLOOKUP('1-Award Info'!$G$19,Tables!Q:R,2,0)&RIGHT(A25,8))","v":""},"","","",{"$f":"IF(A25=\"\",\"\",'1-Award Info'!$C$21)","v":""},{"$f":"IF(A25=\"\",\"\",'1-Award Info'!$C$22)","v":""},"","",{"$f":"IF(A25=\"\",\"\",IF(LEFT(A25)=\"N\",'1-Award Info'!$G$6&\"00\",'1-Award Info'!$G$6&RIGHT('1-Award Info'!$G$7,2)))","v":""},"","","","",null,null,null,null,null,0]
[{"$f":"'2-Grant Budget'!Z37","v":""},{"$f":"IF(A26=\"\",\"\",TRIM(LEFT('1-Award Info'!$C$19,30)))","v":""},{"$f":"IF(A26=\"\",\"\",'1-Award Info'!$G$5)","v":""},{"$f":"IF(A26=\"\",\"\",\"00\"&'1-Award Info'!$G$6)","v":""},"",{"$f":"IF(A26=\"\",\"\",VLOOKUP('1-Award Info'!$G$19,Tables!Q:R,2,0)&RIGHT(A26,8))","v":""},"","","",{"$f":"IF(A26=\"\",\"\",'1-Award Info'!$C$21)","v":""},{"$f":"IF(A26=\"\",\"\",'1-Award Info'!$C$22)","v":""},"","",{"$f":"IF(A26=\"\",\"\",IF(LEFT(A26)=\"N\",'1-Award Info'!$G$6&\"00\",'1-Award Info'!$G$6&RIGHT('1-Award Info'!$G$7,2)))","v":""},"","","","",null,null,null,null,null,0]
[{"$f":"'2-Grant Budget'!Z38","v":""},{"$f":"IF(A27=\"\",\"\",TRIM(LEFT('1-Award Info'!$C$19,30)))","v":""},{"$f":"IF(A27=\"\",\"\",'1-Award Info'!$G$5)","v":""},{"$f":"IF(A27=\"\",\"\",\"00\"&'1-Award Info'!$G$6)","v":""},"",{"$f":"IF(A27=\"\",\"\",VLOOKUP('1-Award Info'!$G$19,Tables!Q:R,2,0)&RIGHT(A27,8))","v":""},"","","",{"$f":"IF(A27=\"\",\"\",'1-Award Info'!$C$21)","v":""},{"$f":"IF(A27=\"\",\"\",'1-Award Info'!$C$22)","v":""},"","",{"$f":"IF(A27=\"\",\"\",IF(LEFT(A27)=\"N\",'1-Award Info'!$G$6&\"00\",'1-Award Info'!$G$6&RIGHT('1-Award Info'!$G$7,2)))","v":""},"","","","",null,null,null,null,null,0]
[{"$f":"'2-Grant Budget'!Z39","v":""},{"$f":"IF(A28=\"\",\"\",TRIM(LEFT('1-Award Info'!$C$19,30)))","v":""},{"$f":"IF(A28=\"\",\"\",'1-Award Info'!$G$5)","v":""},{"$f":"IF(A28=\"\",\"\",\"00\"&'1-Award Info'!$G$6)","v":""},"",{"$f":"IF(A28=\"\",\"\",VLOOKUP('1-Award Info'!$G$19,Tables!Q:R,2,0)&RIGHT(A28,8))","v":""},"","","",{"$f":"IF(A28=\"\",\"\",'1-Award Info'!$C$21)","v":""},{"$f":"IF(A28=\"\",\"\",'1-Award Info'!$C$22)","v":""},"","",{"$f":"IF(A28=\"\",\"\",IF(LEFT(A28)=\"N\",'1-Award Info'!$G$6&\"00\",'1-Award Info'!$G$6&RIGHT('1-Award Info'!$G$7,2)))","v":""},"","","","",null,null,null,null,null,0]
[{"$f":"'2-Grant Budget'!Z40","v":""},{"$f":"IF(A29=\"\",\"\",TRIM(LEFT('1-Award Info'!$C$19,30)))","v":""},{"$f":"IF(A29=\"\",\"\",'1-Award Info'!$G$5)","v":""},{"$f":"IF(A29=\"\",\"\",\"00\"&'1-Award Info'!$G$6)","v":""},"",{"$f":"IF(A29=\"\",\"\",VLOOKUP('1-Award Info'!$G$19,Tables!Q:R,2,0)&RIGHT(A29,8))","v":""},"","","",{"$f":"IF(A29=\"\",\"\",'1-Award Info'!$C$21)","v":""},{"$f":"IF(A29=\"\",\"\",'1-Award Info'!$C$22)","v":""},"","",{"$f":"IF(A29=\"\",\"\",IF(LEFT(A29)=\"N\",'1-Award Info'!$G$6&\"00\",'1-Award Info'!$G$6&RIGHT('1-Award Info'!$G$7,2)))","v":""},"","","","",null,null,null,null,null,0]
[{"$f":"'2-Grant Budget'!Z41","v":""},{"$f":"IF(A30=\"\",\"\",TRIM(LEFT('1-Award Info'!$C$19,30)))","v":""},{"$f":"IF(A30=\"\",\"\",'1-Award Info'!$G$5)","v":""},{"$f":"IF(A30=\"\",\"\",\"00\"&'1-Award Info'!$G$6)","v":""},"",{"$f":"IF(A30=\"\",\"\",VLOOKUP('1-Award Info'!$G$19,Tables!Q:R,2,0)&RIGHT(A30,8))","v":""},"","","",{"$f":"IF(A30=\"\",\"\",'1-Award Info'!$C$21)","v":""},{"$f":"IF(A30=\"\",\"\",'1-Award Info'!$C$22)","v":""},"","",{"$f":"IF(A30=\"\",\"\",IF(LEFT(A30)=\"N\",'1-Award Info'!$G$6&\"00\",'1-Award Info'!$G$6&RIGHT('1-Award Info'!$G$7,2)))","v":""},"","","","",null,null,null,null,null,0]
[{"$f":"'2-Grant Budget'!Z42","v":""},{"$f":"IF(A31=\"\",\"\",TRIM(LEFT('1-Award Info'!$C$19,30)))","v":""},{"$f":"IF(A31=\"\",\"\",'1-Award Info'!$G$5)","v":""},{"$f":"IF(A31=\"\",\"\",\"00\"&'1-Award Info'!$G$6)","v":""},"",{"$f":"IF(A31=\"\",\"\",VLOOKUP('1-Award Info'!$G$19,Tables!Q:R,2,0)&RIGHT(A31,8))","v":""},"","","",{"$f":"IF(A31=\"\",\"\",'1-Award Info'!$C$21)","v":""},{"$f":"IF(A31=\"\",\"\",'1-Award Info'!$C$22)","v":""},"","",{"$f":"IF(A31=\"\",\"\",IF(LEFT(A31)=\"N\",'1-Award Info'!$G$6&\"00\",'1-Award Info'!$G$6&RIGHT('1-Award Info'!$G$7,2)))","v":""},"","","","",null,null,null,null,null,0]
[{"$f":"'2-Grant Budget'!Z43","v":""},{"$f":"IF(A32=\"\",\"\",TRIM(LEFT('1-Award Info'!$C$19,30)))","v":""},{"$f":"IF(A32=\"\",\"\",'1-Award Info'!$G$5)","v":""},{"$f":"IF(A32=\"\",\"\",\"00\"&'1-Award Info'!$G$6)","v":""},"",{"$f":"IF(A32=\"\",\"\",VLOOKUP('1-Award Info'!$G$19,Tables!Q:R,2,0)&RIGHT(A32,8))","v":""},"","","",{"$f":"IF(A32=\"\",\"\",'1-Award Info'!$C$21)","v":""},{"$f":"IF(A32=\"\",\"\",'1-Award Info'!$C$22)","v":""},"","",{"$f":"IF(A32=\"\",\"\",IF(LEFT(A32)=\"N\",'1-Award Info'!$G$6&\"00\",'1-Award Info'!$G$6&RIGHT('1-Award Info'!$G$7,2)))","v":""},"","","","",null,null,null,null,null,0]
[{"$f":"'2-Grant Budget'!Z44","v":""},{"$f":"IF(A33=\"\",\"\",TRIM(LEFT('1-Award Info'!$C$19,30)))","v":""},{"$f":"IF(A33=\"\",\"\",'1-Award Info'!$G$5)","v":""},{"$f":"IF(A33=\"\",\"\",\"00\"&'1-Award Info'!$G$6)","v":""},"",{"$f":"IF(A33=\"\",\"\",VLOOKUP('1-Award Info'!$G$19,Tables!Q:R,2,0)&RIGHT(A33,8))","v":""},"","","",{"$f":"IF(A33=\"\",\"\",'1-Award Info'!$C$21)","v":""},{"$f":"IF(A33=\"\",\"\",'1-Award Info'!$C$22)","v":""},"","",{"$f":"IF(A33=\"\",\"\",IF(LEFT(A33)=\"N\",'1-Award Info'!$G$6&\"00\",'1-Award Info'!$G$6&RIGHT('1-Award Info'!$G$7,2)))","v":""},"","","","",null,null,null,null,null,0]
[{"$f":"'2-Grant Budget'!Z45","v":""},{"$f":"IF(A34=\"\",\"\",TRIM(LEFT('1-Award Info'!$C$19,30)))","v":""},{"$f":"IF(A34=\"\",\"\",'1-Award Info'!$G$5)","v":""},{"$f":"IF(A34=\"\",\"\",\"00\"&'1-Award Info'!$G$6)","v":""},"",{"$f":"IF(A34=\"\",\"\",VLOOKUP('1-Award Info'!$G$19,Tables!Q:R,2,0)&RIGHT(A34,8))","v":""},"","","",{"$f":"IF(A34=\"\",\"\",'1-Award Info'!$C$21)","v":""},{"$f":"IF(A34=\"\",\"\",'1-Award Info'!$C$22)","v":""},"","",{"$f":"IF(A34=\"\",\"\",IF(LEFT(A34)=\"N\",'1-Award Info'!$G$6&\"00\",'1-Award Info'!$G$6&RIGHT('1-Award Info'!$G$7,2)))","v":""},"","","","",null,null,null,null,null,0]
[{"$f":"'2-Grant Budget'!Z46","v":""},{"$f":"IF(A35=\"\",\"\",TRIM(LEFT('1-Award Info'!$C$19,30)))","v":""},{"$f":"IF(A35=\"\",\"\",'1-Award Info'!$G$5)","v":""},{"$f":"IF(A35=\"\",\"\",\"00\"&'1-Award Info'!$G$6)","v":""},"",{"$f":"IF(A35=\"\",\"\",VLOOKUP('1-Award Info'!$G$19,Tables!Q:R,2,0)&RIGHT(A35,8))","v":""},"","","",{"$f":"IF(A35=\"\",\"\",'1-Award Info'!$C$21)","v":""},{"$f":"IF(A35=\"\",\"\",'1-Award Info'!$C$22)","v":""},"","",{"$f":"IF(A35=\"\",\"\",IF(LEFT(A35)=\"N\",'1-Award Info'!$G$6&\"00\",'1-Award Info'!$G$6&RIGHT('1-Award Info'!$G$7,2)))","v":""},"","","","",null,null,null,null,null,0]
[{"$f":"'2-Grant Budget'!Z47","v":""},{"$f":"IF(A36=\"\",\"\",TRIM(LEFT('1-Award Info'!$C$19,30)))","v":""},{"$f":"IF(A36=\"\",\"\",'1-Award Info'!$G$5)","v":""},{"$f":"IF(A36=\"\",\"\",\"00\"&'1-Award Info'!$G$6)","v":""},"",{"$f":"IF(A36=\"\",\"\",VLOOKUP('1-Award Info'!$G$19,Tables!Q:R,2,0)&RIGHT(A36,8))","v":""},"","","",{"$f":"IF(A36=\"\",\"\",'1-Award Info'!$C$21)","v":""},{"$f":"IF(A36=\"\",\"\",'1-Award Info'!$C$22)","v":""},"","",{"$f":"IF(A36=\"\",\"\",IF(LEFT(A36)=\"N\",'1-Award Info'!$G$6&\"00\",'1-Award Info'!$G$6&RIGHT('1-Award Info'!$G$7,2)))","v":""},"","","","",null,null,null,null,null,0]
[{"$f":"'2-Grant Budget'!Z48","v":""},{"$f":"IF(A37=\"\",\"\",TRIM(LEFT('1-Award Info'!$C$19,30)))","v":""},{"$f":"IF(A37=\"\",\"\",'1-Award Info'!$G$5)","v":""},{"$f":"IF(A37=\"\",\"\",\"00\"&'1-Award Info'!$G$6)","v":""},"",{"$f":"IF(A37=\"\",\"\",VLOOKUP('1-Award Info'!$G$19,Tables!Q:R,2,0)&RIGHT(A37,8))","v":""},"","","",{"$f":"IF(A37=\"\",\"\",'1-Award Info'!$C$21)","v":""},{"$f":"IF(A37=\"\",\"\",'1-Award Info'!$C$22)","v":""},"","",{"$f":"IF(A37=\"\",\"\",IF(LEFT(A37)=\"N\",'1-Award Info'!$G$6&\"00\",'1-Award Info'!$G$6&RIGHT('1-Award Info'!$G$7,2)))","v":""},"","","","",null,null,null,null,null,0]
[{"$f":"'2-Grant Budget'!Z49","v":""},{"$f":"IF(A38=\"\",\"\",TRIM(LEFT('1-Award Info'!$C$19,30)))","v":""},{"$f":"IF(A38=\"\",\"\",'1-Award Info'!$G$5)","v":""},{"$f":"IF(A38=\"\",\"\",\"00\"&'1-Award Info'!$G$6)","v":""},"",{"$f":"IF(A38=\"\",\"\",VLOOKUP('1-Award Info'!$G$19,Tables!Q:R,2,0)&RIGHT(A38,8))","v":""},"","","",{"$f":"IF(A38=\"\",\"\",'1-Award Info'!$C$21)","v":""},{"$f":"IF(A38=\"\",\"\",'1-Award Info'!$C$22)","v":""},"","",{"$f":"IF(A38=\"\",\"\",IF(LEFT(A38)=\"N\",'1-Award Info'!$G$6&\"00\",'1-Award Info'!$G$6&RIGHT('1-Award Info'!$G$7,2)))","v":""},"","","","",null,null,null,null,null,0]
[{"$f":"'2-Grant Budget'!Z50","v":""},{"$f":"IF(A39=\"\",\"\",TRIM(LEFT('1-Award Info'!$C$19,30)))","v":""},{"$f":"IF(A39=\"\",\"\",'1-Award Info'!$G$5)","v":""},{"$f":"IF(A39=\"\",\"\",\"00\"&'1-Award Info'!$G$6)","v":""},"",{"$f":"IF(A39=\"\",\"\",VLOOKUP('1-Award Info'!$G$19,Tables!Q:R,2,0)&RIGHT(A39,8))","v":""},"","","",{"$f":"IF(A39=\"\",\"\",'1-Award Info'!$C$21)","v":""},{"$f":"IF(A39=\"\",\"\",'1-Award Info'!$C$22)","v":""},"","",{"$f":"IF(A39=\"\",\"\",IF(LEFT(A39)=\"N\",'1-Award Info'!$G$6&\"00\",'1-Award Info'!$G$6&RIGHT('1-Award Info'!$G$7,2)))","v":""},"","","","",null,null,null,null,null,0]
[{"$f":"'2-Grant Budget'!Z51","v":""},{"$f":"IF(A40=\"\",\"\",TRIM(LEFT('1-Award Info'!$C$19,30)))","v":""},{"$f":"IF(A40=\"\",\"\",'1-Award Info'!$G$5)","v":""},{"$f":"IF(A40=\"\",\"\",\"00\"&'1-Award Info'!$G$6)","v":""},"",{"$f":"IF(A40=\"\",\"\",VLOOKUP('1-Award Info'!$G$19,Tables!Q:R,2,0)&RIGHT(A40,8))","v":""},"","","",{"$f":"IF(A40=\"\",\"\",'1-Award Info'!$C$21)","v":""},{"$f":"IF(A40=\"\",\"\",'1-Award Info'!$C$22)","v":""},"","",{"$f":"IF(A40=\"\",\"\",IF(LEFT(A40)=\"N\",'1-Award Info'!$G$6&\"00\",'1-Award Info'!$G$6&RIGHT('1-Award Info'!$G$7,2)))","v":""},"","","","",null,null,null,null,null,0]
[{"$f":"'2-Grant Budget'!Z52","v":""},{"$f":"IF(A41=\"\",\"\",TRIM(LEFT('1-Award Info'!$C$19,30)))","v":""},{"$f":"IF(A41=\"\",\"\",'1-Award Info'!$G$5)","v":""},{"$f":"IF(A41=\"\",\"\",\"00\"&'1-Award Info'!$G$6)","v":""},"",{"$f":"IF(A41=\"\",\"\",VLOOKUP('1-Award Info'!$G$19,Tables!Q:R,2,0)&RIGHT(A41,8))","v":""},"","","",{"$f":"IF(A41=\"\",\"\",'1-Award Info'!$C$21)","v":""},{"$f":"IF(A41=\"\",\"\",'1-Award Info'!$C$22)","v":""},"","",{"$f":"IF(A41=\"\",\"\",IF(LEFT(A41)=\"N\",'1-Award Info'!$G$6&\"00\",'1-Award Info'!$G$6&RIGHT('1-Award Info'!$G$7,2)))","v":""},"","","","",null,null,null,null,null,0]
[{"$f":"'2-Grant Budget'!Z53","v":""},{"$f":"IF(A42=\"\",\"\",TRIM(LEFT('1-Award Info'!$C$19,30)))","v":""},{"$f":"IF(A42=\"\",\"\",'1-Award Info'!$G$5)","v":""},{"$f":"IF(A42=\"\",\"\",\"00\"&'1-Award Info'!$G$6)","v":""},"",{"$f":"IF(A42=\"\",\"\",VLOOKUP('1-Award Info'!$G$19,Tables!Q:R,2,0)&RIGHT(A42,8))","v":""},"","","",{"$f":"IF(A42=\"\",\"\",'1-Award Info'!$C$21)","v":""},{"$f":"IF(A42=\"\",\"\",'1-Award Info'!$C$22)","v":""},"","",{"$f":"IF(A42=\"\",\"\",IF(LEFT(A42)=\"N\",'1-Award Info'!$G$6&\"00\",'1-Award Info'!$G$6&RIGHT('1-Award Info'!$G$7,2)))","v":""},"","","","",null,null,null,null,null,0]
[{"$f":"'2-Grant Budget'!Z54","v":""},{"$f":"IF(A43=\"\",\"\",TRIM(LEFT('1-Award Info'!$C$19,30)))","v":""},{"$f":"IF(A43=\"\",\"\",'1-Award Info'!$G$5)","v":""},{"$f":"IF(A43=\"\",\"\",\"00\"&'1-Award Info'!$G$6)","v":""},"",{"$f":"IF(A43=\"\",\"\",VLOOKUP('1-Award Info'!$G$19,Tables!Q:R,2,0)&RIGHT(A43,8))","v":""},"","","",{"$f":"IF(A43=\"\",\"\",'1-Award Info'!$C$21)","v":""},{"$f":"IF(A43=\"\",\"\",'1-Award Info'!$C$22)","v":""},"","",{"$f":"IF(A43=\"\",\"\",IF(LEFT(A43)=\"N\",'1-Award Info'!$G$6&\"00\",'1-Award Info'!$G$6&RIGHT('1-Award Info'!$G$7,2)))","v":""},"","","","",null,null,null,null,null,0]
[{"$f":"'2-Grant Budget'!Z55","v":""},{"$f":"IF(A44=\"\",\"\",TRIM(LEFT('1-Award Info'!$C$19,30)))","v":""},{"$f":"IF(A44=\"\",\"\",'1-Award Info'!$G$5)","v":""},{"$f":"IF(A44=\"\",\"\",\"00\"&'1-Award Info'!$G$6)","v":""},"",{"$f":"IF(A44=\"\",\"\",VLOOKUP('1-Award Info'!$G$19,Tables!Q:R,2,0)&RIGHT(A44,8))","v":""},"","","",{"$f":"IF(A44=\"\",\"\",'1-Award Info'!$C$21)","v":""},{"$f":"IF(A44=\"\",\"\",'1-Award Info'!$C$22)","v":""},"","",{"$f":"IF(A44=\"\",\"\",IF(LEFT(A44)=\"N\",'1-Award Info'!$G$6&\"00\",'1-Award Info'!$G$6&RIGHT('1-Award Info'!$G$7,2)))","v":""},"","","","",null,null,null,null,null,0]
[{"$f":"'2-Grant Budget'!Z56","v":""},{"$f":"IF(A45=\"\",\"\",TRIM(LEFT('1-Award Info'!$C$19,30)))","v":""},{"$f":"IF(A45=\"\",\"\",'1-Award Info'!$G$5)","v":""},{"$f":"IF(A45=\"\",\"\",\"00\"&'1-Award Info'!$G$6)","v":""},"",{"$f":"IF(A45=\"\",\"\",VLOOKUP('1-Award Info'!$G$19,Tables!Q:R,2,0)&RIGHT(A45,8))","v":""},"","","",{"$f":"IF(A45=\"\",\"\",'1-Award Info'!$C$21)","v":""},{"$f":"IF(A45=\"\",\"\",'1-Award Info'!$C$22)","v":""},"","",{"$f":"IF(A45=\"\",\"\",IF(LEFT(A45)=\"N\",'1-Award Info'!$G$6&\"00\",'1-Award Info'!$G$6&RIGHT('1-Award Info'!$G$7,2)))","v":""},"","","","",null,null,null,null,null,0]
[{"$f":"'2-Grant Budget'!Z57","v":""},{"$f":"IF(A46=\"\",\"\",TRIM(LEFT('1-Award Info'!$C$19,30)))","v":""},{"$f":"IF(A46=\"\",\"\",'1-Award Info'!$G$5)","v":""},{"$f":"IF(A46=\"\",\"\",\"00\"&'1-Award Info'!$G$6)","v":""},"",{"$f":"IF(A46=\"\",\"\",VLOOKUP('1-Award Info'!$G$19,Tables!Q:R,2,0)&RIGHT(A46,8))","v":""},"","","",{"$f":"IF(A46=\"\",\"\",'1-Award Info'!$C$21)","v":""},{"$f":"IF(A46=\"\",\"\",'1-Award Info'!$C$22)","v":""},"","",{"$f":"IF(A46=\"\",\"\",IF(LEFT(A46)=\"N\",'1-Award Info'!$G$6&\"00\",'1-Award Info'!$G$6&RIGHT('1-Award Info'!$G$7,2)))","v":""},"","","","",null,null,null,null,null,0]
[{"$f":"'2-Grant Budget'!Z58","v":""},{"$f":"IF(A47=\"\",\"\",TRIM(LEFT('1-Award Info'!$C$19,30)))","v":""},{"$f":"IF(A47=\"\",\"\",'1-Award Info'!$G$5)","v":""},{"$f":"IF(A47=\"\",\"\",\"00\"&'1-Award Info'!$G$6)","v":""},"",{"$f":"IF(A47=\"\",\"\",VLOOKUP('1-Award Info'!$G$19,Tables!Q:R,2,0)&RIGHT(A47,8))","v":""},"","","",{"$f":"IF(A47=\"\",\"\",'1-Award Info'!$C$21)","v":""},{"$f":"IF(A47=\"\",\"\",'1-Award Info'!$C$22)","v":""},"","",{"$f":"IF(A47=\"\",\"\",IF(LEFT(A47)=\"N\",'1-Award Info'!$G$6&\"00\",'1-Award Info'!$G$6&RIGHT('1-Award Info'!$G$7,2)))","v":""},"","","","",null,null,null,null,null,0]
[{"$f":"'2-Grant Budget'!Z59","v":""},{"$f":"IF(A48=\"\",\"\",TRIM(LEFT('1-Award Info'!$C$19,30)))","v":""},{"$f":"IF(A48=\"\",\"\",'1-Award Info'!$G$5)","v":""},{"$f":"IF(A48=\"\",\"\",\"00\"&'1-Award Info'!$G$6)","v":""},"",{"$f":"IF(A48=\"\",\"\",VLOOKUP('1-Award Info'!$G$19,Tables!Q:R,2,0)&RIGHT(A48,8))","v":""},"","","",{"$f":"IF(A48=\"\",\"\",'1-Award Info'!$C$21)","v":""},{"$f":"IF(A48=\"\",\"\",'1-Award Info'!$C$22)","v":""},"","",{"$f":"IF(A48=\"\",\"\",IF(LEFT(A48)=\"N\",'1-Award Info'!$G$6&\"00\",'1-Award Info'!$G$6&RIGHT('1-Award Info'!$G$7,2)))","v":""},"","","","",null,null,null,null,null,0]
[{"$f":"'2-Grant Budget'!Z60","v":""},{"$f":"IF(A49=\"\",\"\",TRIM(LEFT('1-Award Info'!$C$19,30)))","v":""},{"$f":"IF(A49=\"\",\"\",'1-Award Info'!$G$5)","v":""},{"$f":"IF(A49=\"\",\"\",\"00\"&'1-Award Info'!$G$6)","v":""},"",{"$f":"IF(A49=\"\",\"\",VLOOKUP('1-Award Info'!$G$19,Tables!Q:R,2,0)&RIGHT(A49,8))","v":""},"","","",{"$f":"IF(A49=\"\",\"\",'1-Award Info'!$C$21)","v":""},{"$f":"IF(A49=\"\",\"\",'1-Award Info'!$C$22)","v":""},"","",{"$f":"IF(A49=\"\",\"\",IF(LEFT(A49)=\"N\",'1-Award Info'!$G$6&\"00\",'1-Award Info'!$G$6&RIGHT('1-Award Info'!$G$7,2)))","v":""},"","","","",null,null,null,null,null,0]
[{"$f":"'2-Grant Budget'!Z61","v":""},{"$f":"IF(A50=\"\",\"\",TRIM(LEFT('1-Award Info'!$C$19,30)))","v":""},{"$f":"IF(A50=\"\",\"\",'1-Award Info'!$G$5)","v":""},{"$f":"IF(A50=\"\",\"\",\"00\"&'1-Award Info'!$G$6)","v":""},"",{"$f":"IF(A50=\"\",\"\",VLOOKUP('1-Award Info'!$G$19,Tables!Q:R,2,0)&RIGHT(A50,8))","v":""},"","","",{"$f":"IF(A50=\"\",\"\",'1-Award Info'!$C$21)","v":""},{"$f":"IF(A50=\"\",\"\",'1-Award Info'!$C$22)","v":""},"","",{"$f":"IF(A50=\"\",\"\",IF(LEFT(A50)=\"N\",'1-Award Info'!$G$6&\"00\",'1-Award Info'!$G$6&RIGHT('1-Award Info'!$G$7,2)))","v":""},"","","","",null,null,null,null,null,0]
[{"$f":"'2-Grant Budget'!Z62","v":""},{"$f":"IF(A51=\"\",\"\",TRIM(LEFT('1-Award Info'!$C$19,30)))","v":""},{"$f":"IF(A51=\"\",\"\",'1-Award Info'!$G$5)","v":""},{"$f":"IF(A51=\"\",\"\",\"00\"&'1-Award Info'!$G$6)","v":""},"",{"$f":"IF(A51=\"\",\"\",VLOOKUP('1-Award Info'!$G$19,Tables!Q:R,2,0)&RIGHT(A51,8))","v":""},"","","",{"$f":"IF(A51=\"\",\"\",'1-Award Info'!$C$21)","v":""},{"$f":"IF(A51=\"\",\"\",'1-Award Info'!$C$22)","v":""},"","",{"$f":"IF(A51=\"\",\"\",IF(LEFT(A51)=\"N\",'1-Award Info'!$G$6&\"00\",'1-Award Info'!$G$6&RIGHT('1-Award Info'!$G$7,2)))","v":""},"","","","",null,null,null,null,null,0]
[{"$f":"'2-Grant Budget'!Z63","v":""},{"$f":"IF(A52=\"\",\"\",TRIM(LEFT('1-Award Info'!$C$19,30)))","v":""},{"$f":"IF(A52=\"\",\"\",'1-Award Info'!$G$5)","v":""},{"$f":"IF(A52=\"\",\"\",\"00\"&'1-Award Info'!$G$6)","v":""},"",{"$f":"IF(A52=\"\",\"\",VLOOKUP('1-Award Info'!$G$19,Tables!Q:R,2,0)&RIGHT(A52,8))","v":""},"","","",{"$f":"IF(A52=\"\",\"\",'1-Award Info'!$C$21)","v":""},{"$f":"IF(A52=\"\",\"\",'1-Award Info'!$C$22)","v":""},"","",{"$f":"IF(A52=\"\",\"\",IF(LEFT(A52)=\"N\",'1-Award Info'!$G$6&\"00\",'1-Award Info'!$G$6&RIGHT('1-Award Info'!$G$7,2)))","v":""},"","","","",null,null,null,null,null,0]
[{"$f":"'2-Grant Budget'!Z64","v":""},{"$f":"IF(A53=\"\",\"\",TRIM(LEFT('1-Award Info'!$C$19,30)))","v":""},{"$f":"IF(A53=\"\",\"\",'1-Award Info'!$G$5)","v":""},{"$f":"IF(A53=\"\",\"\",\"00\"&'1-Award Info'!$G$6)","v":""},"",{"$f":"IF(A53=\"\",\"\",VLOOKUP('1-Award Info'!$G$19,Tables!Q:R,2,0)&RIGHT(A53,8))","v":""},"","","",{"$f":"IF(A53=\"\",\"\",'1-Award Info'!$C$21)","v":""},{"$f":"IF(A53=\"\",\"\",'1-Award Info'!$C$22)","v":""},"","",{"$f":"IF(A53=\"\",\"\",IF(LEFT(A53)=\"N\",'1-Award Info'!$G$6&\"00\",'1-Award Info'!$G$6&RIGHT('1-Award Info'!$G$7,2)))","v":""},"","","","",null,null,null,null,null,0]
[{"$f":"'2-Grant Budget'!Z65","v":""},{"$f":"IF(A54=\"\",\"\",TRIM(LEFT('1-Award Info'!$C$19,30)))","v":""},{"$f":"IF(A54=\"\",\"\",'1-Award Info'!$G$5)","v":""},{"$f":"IF(A54=\"\",\"\",\"00\"&'1-Award Info'!$G$6)","v":""},"",{"$f":"IF(A54=\"\",\"\",VLOOKUP('1-Award Info'!$G$19,Tables!Q:R,2,0)&RIGHT(A54,8))","v":""},"","","",{"$f":"IF(A54=\"\",\"\",'1-Award Info'!$C$21)","v":""},{"$f":"IF(A54=\"\",\"\",'1-Award Info'!$C$22)","v":""},"","",{"$f":"IF(A54=\"\",\"\",IF(LEFT(A54)=\"N\",'1-Award Info'!$G$6&\"00\",'1-Award Info'!$G$6&RIGHT('1-Award Info'!$G$7,2)))","v":""},"","","","",null,null,null,null,null,0]
[{"$f":"'2-Grant Budget'!Z66","v":""},{"$f":"IF(A55=\"\",\"\",TRIM(LEFT('1-Award Info'!$C$19,30)))","v":""},{"$f":"IF(A55=\"\",\"\",'1-Award Info'!$G$5)","v":""},{"$f":"IF(A55=\"\",\"\",\"00\"&'1-Award Info'!$G$6)","v":""},"",{"$f":"IF(A55=\"\",\"\",VLOOKUP('1-Award Info'!$G$19,Tables!Q:R,2,0)&RIGHT(A55,8))","v":""},"","","",{"$f":"IF(A55=\"\",\"\",'1-Award Info'!$C$21)","v":""},{"$f":"IF(A55=\"\",\"\",'1-Award Info'!$C$22)","v":""},"","",{"$f":"IF(A55=\"\",\"\",IF(LEFT(A55)=\"N\",'1-Award Info'!$G$6&\"00\",'1-Award Info'!$G$6&RIGHT('1-Award Info'!$G$7,2)))","v":""},"","","","",null,null,null,null,null,0]
[{"$f":"'2-Grant Budget'!Z67","v":""},{"$f":"IF(A56=\"\",\"\",TRIM(LEFT('1-Award Info'!$C$19,30)))","v":""},{"$f":"IF(A56=\"\",\"\",'1-Award Info'!$G$5)","v":""},{"$f":"IF(A56=\"\",\"\",\"00\"&'1-Award Info'!$G$6)","v":""},"",{"$f":"IF(A56=\"\",\"\",VLOOKUP('1-Award Info'!$G$19,Tables!Q:R,2,0)&RIGHT(A56,8))","v":""},"","","",{"$f":"IF(A56=\"\",\"\",'1-Award Info'!$C$21)","v":""},{"$f":"IF(A56=\"\",\"\",'1-Award Info'!$C$22)","v":""},"","",{"$f":"IF(A56=\"\",\"\",IF(LEFT(A56)=\"N\",'1-Award Info'!$G$6&\"00\",'1-Award Info'!$G$6&RIGHT('1-Award Info'!$G$7,2)))","v":""},"","","","",null,null,null,null,null,0]
[{"$f":"'2-Grant Budget'!Z68","v":""},{"$f":"IF(A57=\"\",\"\",TRIM(LEFT('1-Award Info'!$C$19,30)))","v":""},{"$f":"IF(A57=\"\",\"\",'1-Award Info'!$G$5)","v":""},{"$f":"IF(A57=\"\",\"\",\"00\"&'1-Award Info'!$G$6)","v":""},"",{"$f":"IF(A57=\"\",\"\",VLOOKUP('1-Award Info'!$G$19,Tables!Q:R,2,0)&RIGHT(A57,8))","v":""},"","","",{"$f":"IF(A57=\"\",\"\",'1-Award Info'!$C$21)","v":""},{"$f":"IF(A57=\"\",\"\",'1-Award Info'!$C$22)","v":""},"","",{"$f":"IF(A57=\"\",\"\",IF(LEFT(A57)=\"N\",'1-Award Info'!$G$6&\"00\",'1-Award Info'!$G$6&RIGHT('1-Award Info'!$G$7,2)))","v":""},"","","","",null,null,null,null,null,0]
[{"$f":"'2-Grant Budget'!Z69","v":""},{"$f":"IF(A58=\"\",\"\",TRIM(LEFT('1-Award Info'!$C$19,30)))","v":""},{"$f":"IF(A58=\"\",\"\",'1-Award Info'!$G$5)","v":""},{"$f":"IF(A58=\"\",\"\",\"00\"&'1-Award Info'!$G$6)","v":""},"",{"$f":"IF(A58=\"\",\"\",VLOOKUP('1-Award Info'!$G$19,Tables!Q:R,2,0)&RIGHT(A58,8))","v":""},"","","",{"$f":"IF(A58=\"\",\"\",'1-Award Info'!$C$21)","v":""},{"$f":"IF(A58=\"\",\"\",'1-Award Info'!$C$22)","v":""},"","",{"$f":"IF(A58=\"\",\"\",IF(LEFT(A58)=\"N\",'1-Award Info'!$G$6&\"00\",'1-Award Info'!$G$6&RIGHT('1-Award Info'!$G$7,2)))","v":""},"","","","",null,null,null,null,null,0]
[{"$f":"'2-Grant Budget'!Z70","v":""},{"$f":"IF(A59=\"\",\"\",TRIM(LEFT('1-Award Info'!$C$19,30)))","v":""},{"$f":"IF(A59=\"\",\"\",'1-Award Info'!$G$5)","v":""},{"$f":"IF(A59=\"\",\"\",\"00\"&'1-Award Info'!$G$6)","v":""},"",{"$f":"IF(A59=\"\",\"\",VLOOKUP('1-Award Info'!$G$19,Tables!Q:R,2,0)&RIGHT(A59,8))","v":""},"","","",{"$f":"IF(A59=\"\",\"\",'1-Award Info'!$C$21)","v":""},{"$f":"IF(A59=\"\",\"\",'1-Award Info'!$C$22)","v":""},"","",{"$f":"IF(A59=\"\",\"\",IF(LEFT(A59)=\"N\",'1-Award Info'!$G$6&\"00\",'1-Award Info'!$G$6&RIGHT('1-Award Info'!$G$7,2)))","v":""},"","","","",null,null,null,null,null,0]
[{"$f":"'2-Grant Budget'!Z71","v":""},{"$f":"IF(A60=\"\",\"\",TRIM(LEFT('1-Award Info'!$C$19,30)))","v":""},{"$f":"IF(A60=\"\",\"\",'1-Award Info'!$G$5)","v":""},{"$f":"IF(A60=\"\",\"\",\"00\"&'1-Award Info'!$G$6)","v":""},"",{"$f":"IF(A60=\"\",\"\",VLOOKUP('1-Award Info'!$G$19,Tables!Q:R,2,0)&RIGHT(A60,8))","v":""},"","","",{"$f":"IF(A60=\"\",\"\",'1-Award Info'!$C$21)","v":""},{"$f":"IF(A60=\"\",\"\",'1-Award Info'!$C$22)","v":""},"","",{"$f":"IF(A60=\"\",\"\",IF(LEFT(A60)=\"N\",'1-Award Info'!$G$6&\"00\",'1-Award Info'!$G$6&RIGHT('1-Award Info'!$G$7,2)))","v":""},"","","","",null,null,null,null,null,0]
[{"$f":"'2-Grant Budget'!Z72","v":""},{"$f":"IF(A61=\"\",\"\",TRIM(LEFT('1-Award Info'!$C$19,30)))","v":""},{"$f":"IF(A61=\"\",\"\",'1-Award Info'!$G$5)","v":""},{"$f":"IF(A61=\"\",\"\",\"00\"&'1-Award Info'!$G$6)","v":""},"",{"$f":"IF(A61=\"\",\"\",VLOOKUP('1-Award Info'!$G$19,Tables!Q:R,2,0)&RIGHT(A61,8))","v":""},"","","",{"$f":"IF(A61=\"\",\"\",'1-Award Info'!$C$21)","v":""},{"$f":"IF(A61=\"\",\"\",'1-Award Info'!$C$22)","v":""},"","",{"$f":"IF(A61=\"\",\"\",IF(LEFT(A61)=\"N\",'1-Award Info'!$G$6&\"00\",'1-Award Info'!$G$6&RIGHT('1-Award Info'!$G$7,2)))","v":""},"","","","",null,null,null,null,null,0]
[{"$f":"'2-Grant Budget'!Z73","v":""},{"$f":"IF(A62=\"\",\"\",TRIM(LEFT('1-Award Info'!$C$19,30)))","v":""},{"$f":"IF(A62=\"\",\"\",'1-Award Info'!$G$5)","v":""},{"$f":"IF(A62=\"\",\"\",\"00\"&'1-Award Info'!$G$6)","v":""},"",{"$f":"IF(A62=\"\",\"\",VLOOKUP('1-Award Info'!$G$19,Tables!Q:R,2,0)&RIGHT(A62,8))","v":""},"","","",{"$f":"IF(A62=\"\",\"\",'1-Award Info'!$C$21)","v":""},{"$f":"IF(A62=\"\",\"\",'1-Award Info'!$C$22)","v":""},"","",{"$f":"IF(A62=\"\",\"\",IF(LEFT(A62)=\"N\",'1-Award Info'!$G$6&\"00\",'1-Award Info'!$G$6&RIGHT('1-Award Info'!$G$7,2)))","v":""},"","","","",null,null,null,null,null,0]
[{"$f":"'2-Grant Budget'!Z74","v":""},{"$f":"IF(A63=\"\",\"\",TRIM(LEFT('1-Award Info'!$C$19,30)))","v":""},{"$f":"IF(A63=\"\",\"\",'1-Award Info'!$G$5)","v":""},{"$f":"IF(A63=\"\",\"\",\"00\"&'1-Award Info'!$G$6)","v":""},"",{"$f":"IF(A63=\"\",\"\",VLOOKUP('1-Award Info'!$G$19,Tables!Q:R,2,0)&RIGHT(A63,8))","v":""},"","","",{"$f":"IF(A63=\"\",\"\",'1-Award Info'!$C$21)","v":""},{"$f":"IF(A63=\"\",\"\",'1-Award Info'!$C$22)","v":""},"","",{"$f":"IF(A63=\"\",\"\",IF(LEFT(A63)=\"N\",'1-Award Info'!$G$6&\"00\",'1-Award Info'!$G$6&RIGHT('1-Award Info'!$G$7,2)))","v":""},"","","","",null,null,null,null,null,0]
[{"$f":"'2-Grant Budget'!Z75","v":""},{"$f":"IF(A64=\"\",\"\",TRIM(LEFT('1-Award Info'!$C$19,30)))","v":""},{"$f":"IF(A64=\"\",\"\",'1-Award Info'!$G$5)","v":""},{"$f":"IF(A64=\"\",\"\",\"00\"&'1-Award Info'!$G$6)","v":""},"",{"$f":"IF(A64=\"\",\"\",VLOOKUP('1-Award Info'!$G$19,Tables!Q:R,2,0)&RIGHT(A64,8))","v":""},"","","",{"$f":"IF(A64=\"\",\"\",'1-Award Info'!$C$21)","v":""},{"$f":"IF(A64=\"\",\"\",'1-Award Info'!$C$22)","v":""},"","",{"$f":"IF(A64=\"\",\"\",IF(LEFT(A64)=\"N\",'1-Award Info'!$G$6&\"00\",'1-Award Info'!$G$6&RIGHT('1-Award Info'!$G$7,2)))","v":""},"","","","",null,null,null,null,null,0]
[{"$f":"'2-Grant Budget'!Z76","v":""},{"$f":"IF(A65=\"\",\"\",TRIM(LEFT('1-Award Info'!$C$19,30)))","v":""},{"$f":"IF(A65=\"\",\"\",'1-Award Info'!$G$5)","v":""},{"$f":"IF(A65=\"\",\"\",\"00\"&'1-Award Info'!$G$6)","v":""},"",{"$f":"IF(A65=\"\",\"\",VLOOKUP('1-Award Info'!$G$19,Tables!Q:R,2,0)&RIGHT(A65,8))","v":""},"","","",{"$f":"IF(A65=\"\",\"\",'1-Award Info'!$C$21)","v":""},{"$f":"IF(A65=\"\",\"\",'1-Award Info'!$C$22)","v":""},"","",{"$f":"IF(A65=\"\",\"\",IF(LEFT(A65)=\"N\",'1-Award Info'!$G$6&\"00\",'1-Award Info'!$G$6&RIGHT('1-Award Info'!$G$7,2)))","v":""},"","","","",null,null,null,null,null,0]
[{"$f":"'2-Grant Budget'!Z77","v":""},{"$f":"IF(A66=\"\",\"\",TRIM(LEFT('1-Award Info'!$C$19,30)))","v":""},{"$f":"IF(A66=\"\",\"\",'1-Award Info'!$G$5)","v":""},{"$f":"IF(A66=\"\",\"\",\"00\"&'1-Award Info'!$G$6)","v":""},"",{"$f":"IF(A66=\"\",\"\",VLOOKUP('1-Award Info'!$G$19,Tables!Q:R,2,0)&RIGHT(A66,8))","v":""},"","","",{"$f":"IF(A66=\"\",\"\",'1-Award Info'!$C$21)","v":""},{"$f":"IF(A66=\"\",\"\",'1-Award Info'!$C$22)","v":""},"","",{"$f":"IF(A66=\"\",\"\",IF(LEFT(A66)=\"N\",'1-Award Info'!$G$6&\"00\",'1-Award Info'!$G$6&RIGHT('1-Award Info'!$G$7,2)))","v":""},"","","","",null,null,null,null,null,0]
[{"$f":"'2-Grant Budget'!Z78","v":""},{"$f":"IF(A67=\"\",\"\",TRIM(LEFT('1-Award Info'!$C$19,30)))","v":""},{"$f":"IF(A67=\"\",\"\",'1-Award Info'!$G$5)","v":""},{"$f":"IF(A67=\"\",\"\",\"00\"&'1-Award Info'!$G$6)","v":""},"",{"$f":"IF(A67=\"\",\"\",VLOOKUP('1-Award Info'!$G$19,Tables!Q:R,2,0)&RIGHT(A67,8))","v":""},"","","",{"$f":"IF(A67=\"\",\"\",'1-Award Info'!$C$21)","v":""},{"$f":"IF(A67=\"\",\"\",'1-Award Info'!$C$22)","v":""},"","",{"$f":"IF(A67=\"\",\"\",IF(LEFT(A67)=\"N\",'1-Award Info'!$G$6&\"00\",'1-Award Info'!$G$6&RIGHT('1-Award Info'!$G$7,2)))","v":""},"","","","",null,null,null,null,null,0]
[{"$f":"'2-Grant Budget'!Z79","v":""},{"$f":"IF(A68=\"\",\"\",TRIM(LEFT('1-Award Info'!$C$19,30)))","v":""},{"$f":"IF(A68=\"\",\"\",'1-Award Info'!$G$5)","v":""},{"$f":"IF(A68=\"\",\"\",\"00\"&'1-Award Info'!$G$6)","v":""},"",{"$f":"IF(A68=\"\",\"\",VLOOKUP('1-Award Info'!$G$19,Tables!Q:R,2,0)&RIGHT(A68,8))","v":""},"","","",{"$f":"IF(A68=\"\",\"\",'1-Award Info'!$C$21)","v":""},{"$f":"IF(A68=\"\",\"\",'1-Award Info'!$C$22)","v":""},"","",{"$f":"IF(A68=\"\",\"\",IF(LEFT(A68)=\"N\",'1-Award Info'!$G$6&\"00\",'1-Award Info'!$G$6&RIGHT('1-Award Info'!$G$7,2)))","v":""},"","","","",null,null,null,null,null,0]
[{"$f":"'2-Grant Budget'!Z80","v":""},{"$f":"IF(A69=\"\",\"\",TRIM(LEFT('1-Award Info'!$C$19,30)))","v":""},{"$f":"IF(A69=\"\",\"\",'1-Award Info'!$G$5)","v":""},{"$f":"IF(A69=\"\",\"\",\"00\"&'1-Award Info'!$G$6)","v":""},"",{"$f":"IF(A69=\"\",\"\",VLOOKUP('1-Award Info'!$G$19,Tables!Q:R,2,0)&RIGHT(A69,8))","v":""},"","","",{"$f":"IF(A69=\"\",\"\",'1-Award Info'!$C$21)","v":""},{"$f":"IF(A69=\"\",\"\",'1-Award Info'!$C$22)","v":""},"","",{"$f":"IF(A69=\"\",\"\",IF(LEFT(A69)=\"N\",'1-Award Info'!$G$6&\"00\",'1-Award Info'!$G$6&RIGHT('1-Award Info'!$G$7,2)))","v":""},"","","","",null,null,null,null,null,{"$f":"IF(LEN(A69)>0,1,0)","v":0}]
[{"$f":"'2-Grant Budget'!Z81","v":""},{"$f":"IF(A70=\"\",\"\",TRIM(LEFT('1-Award Info'!$C$19,30)))","v":""},{"$f":"IF(A70=\"\",\"\",'1-Award Info'!$G$5)","v":""},{"$f":"IF(A70=\"\",\"\",\"00\"&'1-Award Info'!$G$6)","v":""},"",{"$f":"IF(A70=\"\",\"\",VLOOKUP('1-Award Info'!$G$19,Tables!Q:R,2,0)&RIGHT(A70,8))","v":""},"","","",{"$f":"IF(A70=\"\",\"\",'1-Award Info'!$C$21)","v":""},{"$f":"IF(A70=\"\",\"\",'1-Award Info'!$C$22)","v":""},"","",{"$f":"IF(A70=\"\",\"\",IF(LEFT(A70)=\"N\",'1-Award Info'!$G$6&\"00\",'1-Award Info'!$G$6&RIGHT('1-Award Info'!$G$7,2)))","v":""},"","","","",null,null,null,null,null,0]
[{"$f":"'2-Grant Budget'!Z82","v":""},{"$f":"IF(A71=\"\",\"\",TRIM(LEFT('1-Award Info'!$C$19,30)))","v":""},{"$f":"IF(A71=\"\",\"\",'1-Award Info'!$G$5)","v":""},{"$f":"IF(A71=\"\",\"\",\"00\"&'1-Award Info'!$G$6)","v":""},{"$f":"IF(A71=\"\",\"\",$D$6)","v":""},{"$f":"IF(A71=\"\",\"\",VLOOKUP('1-Award Info'!$G$19,Tables!Q:R,2,0)&RIGHT(A71,8))","v":""},{"$f":"IF(A71=\"\",\"\",9848)","v":""},{"$f":"IF(A71=\"\",\"\",0)","v":""},{"$f":"IF(A71=\"\",\"\",\"GB\")","v":""},{"$f":"IF(A71=\"\",\"\",'1-Award Info'!$C$21)","v":""},{"$f":"IF(A71=\"\",\"\",'1-Award Info'!$C$22)","v":""},{"$f":"IF(A71=\"\",\"\",\"Y\")","v":""},{"$f":"IF(A71=\"\",\"\",\"P\")","v":""},{"$f":"IF(A71=\"\",\"\",IF(LEFT(A71)=\"N\",'1-Award Info'!$G$6&\"00\",'1-Award Info'!$G$6&RIGHT('1-Award Info'!$G$7,2)))","v":""},{"$f":"MID(A71,2,6)","v":""},{"$f":"MID(A71,8,4)","v":""},{"$f":"MID(A71,12,4)","v":""},"",null,null,null,null,null,0]
[{"$f":"'2-Grant Budget'!Z83","v":""},{"$f":"IF(A72=\"\",\"\",TRIM(LEFT('1-Award Info'!$C$19,30)))","v":""},{"$f":"IF(A72=\"\",\"\",'1-Award Info'!$G$5)","v":""},{"$f":"IF(A72=\"\",\"\",\"00\"&'1-Award Info'!$G$6)","v":""},"",{"$f":"IF(A72=\"\",\"\",VLOOKUP('1-Award Info'!$G$19,Tables!Q:R,2,0)&RIGHT(A72,8))","v":""},"","","",{"$f":"IF(A72=\"\",\"\",'1-Award Info'!$C$21)","v":""},{"$f":"IF(A72=\"\",\"\",'1-Award Info'!$C$22)","v":""},"","",{"$f":"IF(A72=\"\",\"\",IF(LEFT(A72)=\"N\",'1-Award Info'!$G$6&\"00\",'1-Award Info'!$G$6&RIGHT('1-Award Info'!$G$7,2)))","v":""},"","","","",null,null,null,null,null,0]
[{"$f":"'2-Grant Budget'!Z84","v":""},{"$f":"IF(A73=\"\",\"\",TRIM(LEFT('1-Award Info'!$C$19,30)))","v":""},{"$f":"IF(A73=\"\",\"\",'1-Award Info'!$G$5)","v":""},{"$f":"IF(A73=\"\",\"\",\"00\"&'1-Award Info'!$G$6)","v":""},"",{"$f":"IF(A73=\"\",\"\",VLOOKUP('1-Award Info'!$G$19,Tables!Q:R,2,0)&RIGHT(A73,8))","v":""},"","","",{"$f":"IF(A73=\"\",\"\",'1-Award Info'!$C$21)","v":""},{"$f":"IF(A73=\"\",\"\",'1-Award Info'!$C$22)","v":""},"","",{"$f":"IF(A73=\"\",\"\",IF(LEFT(A73)=\"N\",'1-Award Info'!$G$6&\"00\",'1-Award Info'!$G$6&RIGHT('1-Award Info'!$G$7,2)))","v":""},"","","","",null,null,null,null,null,0]
[{"$f":"'2-Grant Budget'!Z85","v":""},{"$f":"IF(A74=\"\",\"\",TRIM(LEFT('1-Award Info'!$C$19,30)))","v":""},{"$f":"IF(A74=\"\",\"\",'1-Award Info'!$G$5)","v":""},{"$f":"IF(A74=\"\",\"\",\"00\"&'1-Award Info'!$G$6)","v":""},"",{"$f":"IF(A74=\"\",\"\",VLOOKUP('1-Award Info'!$G$19,Tables!Q:R,2,0)&RIGHT(A74,8))","v":""},"","","",{"$f":"IF(A74=\"\",\"\",'1-Award Info'!$C$21)","v":""},{"$f":"IF(A74=\"\",\"\",'1-Award Info'!$C$22)","v":""},"","",{"$f":"IF(A74=\"\",\"\",IF(LEFT(A74)=\"N\",'1-Award Info'!$G$6&\"00\",'1-Award Info'!$G$6&RIGHT('1-Award Info'!$G$7,2)))","v":""},"","","","",null,null,null,null,null,0]
[{"$f":"'2-Grant Budget'!Z86","v":""},{"$f":"IF(A75=\"\",\"\",TRIM(LEFT('1-Award Info'!$C$19,30)))","v":""},{"$f":"IF(A75=\"\",\"\",'1-Award Info'!$G$5)","v":""},{"$f":"IF(A75=\"\",\"\",\"00\"&'1-Award Info'!$G$6)","v":""},"",{"$f":"IF(A75=\"\",\"\",VLOOKUP('1-Award Info'!$G$19,Tables!Q:R,2,0)&RIGHT(A75,8))","v":""},"","","",{"$f":"IF(A75=\"\",\"\",'1-Award Info'!$C$21)","v":""},{"$f":"IF(A75=\"\",\"\",'1-Award Info'!$C$22)","v":""},"","",{"$f":"IF(A75=\"\",\"\",IF(LEFT(A75)=\"N\",'1-Award Info'!$G$6&\"00\",'1-Award Info'!$G$6&RIGHT('1-Award Info'!$G$7,2)))","v":""},"","","","",null,null,null,null,null,0]
[{"$f":"'2-Grant Budget'!Z87","v":""},{"$f":"IF(A76=\"\",\"\",TRIM(LEFT('1-Award Info'!$C$19,30)))","v":""},{"$f":"IF(A76=\"\",\"\",'1-Award Info'!$G$5)","v":""},{"$f":"IF(A76=\"\",\"\",\"00\"&'1-Award Info'!$G$6)","v":""},"",{"$f":"IF(A76=\"\",\"\",VLOOKUP('1-Award Info'!$G$19,Tables!Q:R,2,0)&RIGHT(A76,8))","v":""},"","","",{"$f":"IF(A76=\"\",\"\",'1-Award Info'!$C$21)","v":""},{"$f":"IF(A76=\"\",\"\",'1-Award Info'!$C$22)","v":""},"","",{"$f":"IF(A76=\"\",\"\",IF(LEFT(A76)=\"N\",'1-Award Info'!$G$6&\"00\",'1-Award Info'!$G$6&RIGHT('1-Award Info'!$G$7,2)))","v":""},"","","","",null,null,null,null,null,0]
[{"$f":"'2-Grant Budget'!Z88","v":""},{"$f":"IF(A77=\"\",\"\",TRIM(LEFT('1-Award Info'!$C$19,30)))","v":""},{"$f":"IF(A77=\"\",\"\",'1-Award Info'!$G$5)","v":""},{"$f":"IF(A77=\"\",\"\",\"00\"&'1-Award Info'!$G$6)","v":""},"",{"$f":"IF(A77=\"\",\"\",VLOOKUP('1-Award Info'!$G$19,Tables!Q:R,2,0)&RIGHT(A77,8))","v":""},"","","",{"$f":"IF(A77=\"\",\"\",'1-Award Info'!$C$21)","v":""},{"$f":"IF(A77=\"\",\"\",'1-Award Info'!$C$22)","v":""},"","",{"$f":"IF(A77=\"\",\"\",IF(LEFT(A77)=\"N\",'1-Award Info'!$G$6&\"00\",'1-Award Info'!$G$6&RIGHT('1-Award Info'!$G$7,2)))","v":""},"","","","",null,null,null,null,null,0]
[{"$f":"'2-Grant Budget'!Z89","v":""},{"$f":"IF(A78=\"\",\"\",TRIM(LEFT('1-Award Info'!$C$19,30)))","v":""},{"$f":"IF(A78=\"\",\"\",'1-Award Info'!$G$5)","v":""},{"$f":"IF(A78=\"\",\"\",\"00\"&'1-Award Info'!$G$6)","v":""},"",{"$f":"IF(A78=\"\",\"\",VLOOKUP('1-Award Info'!$G$19,Tables!Q:R,2,0)&RIGHT(A78,8))","v":""},"","","",{"$f":"IF(A78=\"\",\"\",'1-Award Info'!$C$21)","v":""},{"$f":"IF(A78=\"\",\"\",'1-Award Info'!$C$22)","v":""},"","",{"$f":"IF(A78=\"\",\"\",IF(LEFT(A78)=\"N\",'1-Award Info'!$G$6&\"00\",'1-Award Info'!$G$6&RIGHT('1-Award Info'!$G$7,2)))","v":""},"","","","",null,null,null,null,null,0]
[{"$f":"'2-Grant Budget'!Z90","v":""},{"$f":"IF(A79=\"\",\"\",TRIM(LEFT('1-Award Info'!$C$19,30)))","v":""},{"$f":"IF(A79=\"\",\"\",'1-Award Info'!$G$5)","v":""},{"$f":"IF(A79=\"\",\"\",\"00\"&'1-Award Info'!$G$6)","v":""},"",{"$f":"IF(A79=\"\",\"\",VLOOKUP('1-Award Info'!$G$19,Tables!Q:R,2,0)&RIGHT(A79,8))","v":""},"","","",{"$f":"IF(A79=\"\",\"\",'1-Award Info'!$C$21)","v":""},{"$f":"IF(A79=\"\",\"\",'1-Award Info'!$C$22)","v":""},"","",{"$f":"IF(A79=\"\",\"\",IF(LEFT(A79)=\"N\",'1-Award Info'!$G$6&\"00\",'1-Award Info'!$G$6&RIGHT('1-Award Info'!$G$7,2)))","v":""},"","","","",null,null,null,null,null,0]
[{"$f":"'2-Grant Budget'!Z91","v":""},{"$f":"IF(A80=\"\",\"\",TRIM(LEFT('1-Award Info'!$C$19,30)))","v":""},{"$f":"IF(A80=\"\",\"\",'1-Award Info'!$G$5)","v":""},{"$f":"IF(A80=\"\",\"\",\"00\"&'1-Award Info'!$G$6)","v":""},"",{"$f":"IF(A80=\"\",\"\",VLOOKUP('1-Award Info'!$G$19,Tables!Q:R,2,0)&RIGHT(A80,8))","v":""},"","","",{"$f":"IF(A80=\"\",\"\",'1-Award Info'!$C$21)","v":""},{"$f":"IF(A80=\"\",\"\",'1-Award Info'!$C$22)","v":""},"","",{"$f":"IF(A80=\"\",\"\",IF(LEFT(A80)=\"N\",'1-Award Info'!$G$6&\"00\",'1-Award Info'!$G$6&RIGHT('1-Award Info'!$G$7,2)))","v":""},"","","","",null,null,null,null,null,0]
[{"$f":"'2-Grant Budget'!Z92","v":""},{"$f":"IF(A81=\"\",\"\",TRIM(LEFT('1-Award Info'!$C$19,30)))","v":""},{"$f":"IF(A81=\"\",\"\",'1-Award Info'!$G$5)","v":""},{"$f":"IF(A81=\"\",\"\",\"00\"&'1-Award Info'!$G$6)","v":""},"",{"$f":"IF(A81=\"\",\"\",VLOOKUP('1-Award Info'!$G$19,Tables!Q:R,2,0)&RIGHT(A81,8))","v":""},"","","",{"$f":"IF(A81=\"\",\"\",'1-Award Info'!$C$21)","v":""},{"$f":"IF(A81=\"\",\"\",'1-Award Info'!$C$22)","v":""},"","",{"$f":"IF(A81=\"\",\"\",IF(LEFT(A81)=\"N\",'1-Award Info'!$G$6&\"00\",'1-Award Info'!$G$6&RIGHT('1-Award Info'!$G$7,2)))","v":""},"","","","",null,null,null,null,null,0]
[{"$f":"'2-Grant Budget'!Z93","v":""},{"$f":"IF(A82=\"\",\"\",TRIM(LEFT('1-Award Info'!$C$19,30)))","v":""},{"$f":"IF(A82=\"\",\"\",'1-Award Info'!$G$5)","v":""},{"$f":"IF(A82=\"\",\"\",\"00\"&'1-Award Info'!$G$6)","v":""},"",{"$f":"IF(A82=\"\",\"\",VLOOKUP('1-Award Info'!$G$19,Tables!Q:R,2,0)&RIGHT(A82,8))","v":""},"","","",{"$f":"IF(A82=\"\",\"\",'1-Award Info'!$C$21)","v":""},{"$f":"IF(A82=\"\",\"\",'1-Award Info'!$C$22)","v":""},"","",{"$f":"IF(A82=\"\",\"\",IF(LEFT(A82)=\"N\",'1-Award Info'!$G$6&\"00\",'1-Award Info'!$G$6&RIGHT('1-Award Info'!$G$7,2)))","v":""},"","","","",null,null,null,null,null,0]
[{"$f":"'2-Grant Budget'!Z94","v":""},{"$f":"IF(A83=\"\",\"\",TRIM(LEFT('1-Award Info'!$C$19,30)))","v":""},{"$f":"IF(A83=\"\",\"\",'1-Award Info'!$G$5)","v":""},{"$f":"IF(A83=\"\",\"\",\"00\"&'1-Award Info'!$G$6)","v":""},"",{"$f":"IF(A83=\"\",\"\",VLOOKUP('1-Award Info'!$G$19,Tables!Q:R,2,0)&RIGHT(A83,8))","v":""},"","","",{"$f":"IF(A83=\"\",\"\",'1-Award Info'!$C$21)","v":""},{"$f":"IF(A83=\"\",\"\",'1-Award Info'!$C$22)","v":""},"","",{"$f":"IF(A83=\"\",\"\",IF(LEFT(A83)=\"N\",'1-Award Info'!$G$6&\"00\",'1-Award Info'!$G$6&RIGHT('1-Award Info'!$G$7,2)))","v":""},"","","","",null,null,null,null,null,0]
[{"$f":"'2-Grant Budget'!Z95","v":""},{"$f":"IF(A84=\"\",\"\",TRIM(LEFT('1-Award Info'!$C$19,30)))","v":""},{"$f":"IF(A84=\"\",\"\",'1-Award Info'!$G$5)","v":""},{"$f":"IF(A84=\"\",\"\",\"00\"&'1-Award Info'!$G$6)","v":""},"",{"$f":"IF(A84=\"\",\"\",VLOOKUP('1-Award Info'!$G$19,Tables!Q:R,2,0)&RIGHT(A84,8))","v":""},"","","",{"$f":"IF(A84=\"\",\"\",'1-Award Info'!$C$21)","v":""},{"$f":"IF(A84=\"\",\"\",'1-Award Info'!$C$22)","v":""},"","",{"$f":"IF(A84=\"\",\"\",IF(LEFT(A84)=\"N\",'1-Award Info'!$G$6&\"00\",'1-Award Info'!$G$6&RIGHT('1-Award Info'!$G$7,2)))","v":""},"","","",{"$f":"IF($A84=\"\",\"\",\"Y\")","v":""},null,null,null,null,null,0]
[{"$f":"'2-Grant Budget'!Z96","v":""},{"$f":"IF(A85=\"\",\"\",TRIM(LEFT('1-Award Info'!$C$19,30)))","v":""},{"$f":"IF(A85=\"\",\"\",'1-Award Info'!$G$5)","v":""},{"$f":"IF(A85=\"\",\"\",\"00\"&'1-Award Info'!$G$6)","v":""},"",{"$f":"IF(A85=\"\",\"\",VLOOKUP('1-Award Info'!$G$19,Tables!Q:R,2,0)&RIGHT(A85,8))","v":""},"","","",{"$f":"IF(A85=\"\",\"\",'1-Award Info'!$C$21)","v":""},{"$f":"IF(A85=\"\",\"\",'1-Award Info'!$C$22)","v":""},"","",{"$f":"IF(A85=\"\",\"\",IF(LEFT(A85)=\"N\",'1-Award Info'!$G$6&\"00\",'1-Award Info'!$G$6&RIGHT('1-Award Info'!$G$7,2)))","v":""},"","","","",null,null,null,null,null,0]
[{"$f":"'2-Grant Budget'!Z97","v":""},{"$f":"IF(A86=\"\",\"\",TRIM(LEFT('1-Award Info'!$C$19,30)))","v":""},{"$f":"IF(A86=\"\",\"\",'1-Award Info'!$G$5)","v":""},{"$f":"IF(A86=\"\",\"\",\"00\"&'1-Award Info'!$G$6)","v":""},"",{"$f":"IF(A86=\"\",\"\",VLOOKUP('1-Award Info'!$G$19,Tables!Q:R,2,0)&RIGHT(A86,8))","v":""},"","","",{"$f":"IF(A86=\"\",\"\",'1-Award Info'!$C$21)","v":""},{"$f":"IF(A86=\"\",\"\",'1-Award Info'!$C$22)","v":""},"","",{"$f":"IF(A86=\"\",\"\",IF(LEFT(A86)=\"N\",'1-Award Info'!$G$6&\"00\",'1-Award Info'!$G$6&RIGHT('1-Award Info'!$G$7,2)))","v":""},"","","","",null,null,null,null,null,0]
[{"$f":"'2-Grant Budget'!Z98","v":""},{"$f":"IF(A87=\"\",\"\",TRIM(LEFT('1-Award Info'!$C$19,30)))","v":""},{"$f":"IF(A87=\"\",\"\",'1-Award Info'!$G$5)","v":""},{"$f":"IF(A87=\"\",\"\",\"00\"&'1-Award Info'!$G$6)","v":""},"",{"$f":"IF(A87=\"\",\"\",VLOOKUP('1-Award Info'!$G$19,Tables!Q:R,2,0)&RIGHT(A87,8))","v":""},"","","",{"$f":"IF(A87=\"\",\"\",'1-Award Info'!$C$21)","v":""},{"$f":"IF(A87=\"\",\"\",'1-Award Info'!$C$22)","v":""},"","",{"$f":"IF(A87=\"\",\"\",IF(LEFT(A87)=\"N\",'1-Award Info'!$G$6&\"00\",'1-Award Info'!$G$6&RIGHT('1-Award Info'!$G$7,2)))","v":""},"","","","",null,null,null,null,null,0]
[{"$f":"'2-Grant Budget'!Z99","v":""},{"$f":"IF(A88=\"\",\"\",TRIM(LEFT('1-Award Info'!$C$19,30)))","v":""},{"$f":"IF(A88=\"\",\"\",'1-Award Info'!$G$5)","v":""},{"$f":"IF(A88=\"\",\"\",\"00\"&'1-Award Info'!$G$6)","v":""},"",{"$f":"IF(A88=\"\",\"\",VLOOKUP('1-Award Info'!$G$19,Tables!Q:R,2,0)&RIGHT(A88,8))","v":""},"","","",{"$f":"IF(A88=\"\",\"\",'1-Award Info'!$C$21)","v":""},{"$f":"IF(A88=\"\",\"\",'1-Award Info'!$C$22)","v":""},"","",{"$f":"IF(A88=\"\",\"\",IF(LEFT(A88)=\"N\",'1-Award Info'!$G$6&\"00\",'1-Award Info'!$G$6&RIGHT('1-Award Info'!$G$7,2)))","v":""},"","","","",null,null,null,null,null,0]
[{"$f":"'2-Grant Budget'!Z100","v":""},{"$f":"IF(A89=\"\",\"\",TRIM(LEFT('1-Award Info'!$C$19,30)))","v":""},{"$f":"IF(A89=\"\",\"\",'1-Award Info'!$G$5)","v":""},{"$f":"IF(A89=\"\",\"\",\"00\"&'1-Award Info'!$G$6)","v":""},"",{"$f":"IF(A89=\"\",\"\",VLOOKUP('1-Award Info'!$G$19,Tables!Q:R,2,0)&RIGHT(A89,8))","v":""},"","","",{"$f":"IF(A89=\"\",\"\",'1-Award Info'!$C$21)","v":""},{"$f":"IF(A89=\"\",\"\",'1-Award Info'!$C$22)","v":""},"","",{"$f":"IF(A89=\"\",\"\",IF(LEFT(A89)=\"N\",'1-Award Info'!$G$6&\"00\",'1-Award Info'!$G$6&RIGHT('1-Award Info'!$G$7,2)))","v":""},"","","","",null,null,null,null,null,0]
[{"$f":"'2-Grant Budget'!Z101","v":""},{"$f":"IF(A90=\"\",\"\",TRIM(LEFT('1-Award Info'!$C$19,30)))","v":""},{"$f":"IF(A90=\"\",\"\",'1-Award Info'!$G$5)","v":""},{"$f":"IF(A90=\"\",\"\",\"00\"&'1-Award Info'!$G$6)","v":""},"",{"$f":"IF(A90=\"\",\"\",VLOOKUP('1-Award Info'!$G$19,Tables!Q:R,2,0)&RIGHT(A90,8))","v":""},"","","",{"$f":"IF(A90=\"\",\"\",'1-Award Info'!$C$21)","v":""},{"$f":"IF(A90=\"\",\"\",'1-Award Info'!$C$22)","v":""},"","",{"$f":"IF(A90=\"\",\"\",IF(LEFT(A90)=\"N\",'1-Award Info'!$G$6&\"00\",'1-Award Info'!$G$6&RIGHT('1-Award Info'!$G$7,2)))","v":""},"","","","",null,null,null,null,null,0]
[{"$f":"'2-Grant Budget'!Z102","v":""},{"$f":"IF(A91=\"\",\"\",TRIM(LEFT('1-Award Info'!$C$19,30)))","v":""},{"$f":"IF(A91=\"\",\"\",'1-Award Info'!$G$5)","v":""},{"$f":"IF(A91=\"\",\"\",\"00\"&'1-Award Info'!$G$6)","v":""},"",{"$f":"IF(A91=\"\",\"\",VLOOKUP('1-Award Info'!$G$19,Tables!Q:R,2,0)&RIGHT(A91,8))","v":""},"","","",{"$f":"IF(A91=\"\",\"\",'1-Award Info'!$C$21)","v":""},{"$f":"IF(A91=\"\",\"\",'1-Award Info'!$C$22)","v":""},"","",{"$f":"IF(A91=\"\",\"\",IF(LEFT(A91)=\"N\",'1-Award Info'!$G$6&\"00\",'1-Award Info'!$G$6&RIGHT('1-Award Info'!$G$7,2)))","v":""},"","","","",null,null,null,null,null,0]
[{"$f":"'2-Grant Budget'!Z103","v":""},{"$f":"IF(A92=\"\",\"\",TRIM(LEFT('1-Award Info'!$C$19,30)))","v":""},{"$f":"IF(A92=\"\",\"\",'1-Award Info'!$G$5)","v":""},{"$f":"IF(A92=\"\",\"\",\"00\"&'1-Award Info'!$G$6)","v":""},"",{"$f":"IF(A92=\"\",\"\",VLOOKUP('1-Award Info'!$G$19,Tables!Q:R,2,0)&RIGHT(A92,8))","v":""},"","","",{"$f":"IF(A92=\"\",\"\",'1-Award Info'!$C$21)","v":""},{"$f":"IF(A92=\"\",\"\",'1-Award Info'!$C$22)","v":""},"","",{"$f":"IF(A92=\"\",\"\",IF(LEFT(A92)=\"N\",'1-Award Info'!$G$6&\"00\",'1-Award Info'!$G$6&RIGHT('1-Award Info'!$G$7,2)))","v":""},"","","","",null,null,null,null,null,0]
[{"$f":"'2-Grant Budget'!Z104","v":""},{"$f":"IF(A93=\"\",\"\",TRIM(LEFT('1-Award Info'!$C$19,30)))","v":""},{"$f":"IF(A93=\"\",\"\",'1-Award Info'!$G$5)","v":""},{"$f":"IF(A93=\"\",\"\",\"00\"&'1-Award Info'!$G$6)","v":""},"",{"$f":"IF(A93=\"\",\"\",VLOOKUP('1-Award Info'!$G$19,Tables!Q:R,2,0)&RIGHT(A93,8))","v":""},"","","",{"$f":"IF(A93=\"\",\"\",'1-Award Info'!$C$21)","v":""},{"$f":"IF(A93=\"\",\"\",'1-Award Info'!$C$22)","v":""},"","",{"$f":"IF(A93=\"\",\"\",IF(LEFT(A93)=\"N\",'1-Award Info'!$G$6&\"00\",'1-Award Info'!$G$6&RIGHT('1-Award Info'!$G$7,2)))","v":""},"","","","",null,null,null,null,null,0]
[{"$f":"'2-Grant Budget'!Z105","v":""},{"$f":"IF(A94=\"\",\"\",TRIM(LEFT('1-Award Info'!$C$19,30)))","v":""},{"$f":"IF(A94=\"\",\"\",'1-Award Info'!$G$5)","v":""},{"$f":"IF(A94=\"\",\"\",\"00\"&'1-Award Info'!$G$6)","v":""},"",{"$f":"IF(A94=\"\",\"\",VLOOKUP('1-Award Info'!$G$19,Tables!Q:R,2,0)&RIGHT(A94,8))","v":""},"","","",{"$f":"IF(A94=\"\",\"\",'1-Award Info'!$C$21)","v":""},{"$f":"IF(A94=\"\",\"\",'1-Award Info'!$C$22)","v":""},"","",{"$f":"IF(A94=\"\",\"\",IF(LEFT(A94)=\"N\",'1-Award Info'!$G$6&\"00\",'1-Award Info'!$G$6&RIGHT('1-Award Info'!$G$7,2)))","v":""},"","","","",null,null,null,null,null,0]
[{"$f":"'2-Grant Budget'!Z106","v":""},{"$f":"IF(A95=\"\",\"\",TRIM(LEFT('1-Award Info'!$C$19,30)))","v":""},{"$f":"IF(A95=\"\",\"\",'1-Award Info'!$G$5)","v":""},{"$f":"IF(A95=\"\",\"\",\"00\"&'1-Award Info'!$G$6)","v":""},"",{"$f":"IF(A95=\"\",\"\",VLOOKUP('1-Award Info'!$G$19,Tables!Q:R,2,0)&RIGHT(A95,8))","v":""},"","","",{"$f":"IF(A95=\"\",\"\",'1-Award Info'!$C$21)","v":""},{"$f":"IF(A95=\"\",\"\",'1-Award Info'!$C$22)","v":""},"","",{"$f":"IF(A95=\"\",\"\",IF(LEFT(A95)=\"N\",'1-Award Info'!$G$6&\"00\",'1-Award Info'!$G$6&RIGHT('1-Award Info'!$G$7,2)))","v":""},"","","","",null,null,null,null,null,0]
[{"$f":"'2-Grant Budget'!Z107","v":""},{"$f":"IF(A96=\"\",\"\",TRIM(LEFT('1-Award Info'!$C$19,30)))","v":""},{"$f":"IF(A96=\"\",\"\",'1-Award Info'!$G$5)","v":""},{"$f":"IF(A96=\"\",\"\",\"00\"&'1-Award Info'!$G$6)","v":""},"",{"$f":"IF(A96=\"\",\"\",VLOOKUP('1-Award Info'!$G$19,Tables!Q:R,2,0)&RIGHT(A96,8))","v":""},"","","",{"$f":"IF(A96=\"\",\"\",'1-Award Info'!$C$21)","v":""},{"$f":"IF(A96=\"\",\"\",'1-Award Info'!$C$22)","v":""},"","",{"$f":"IF(A96=\"\",\"\",IF(LEFT(A96)=\"N\",'1-Award Info'!$G$6&\"00\",'1-Award Info'!$G$6&RIGHT('1-Award Info'!$G$7,2)))","v":""},"","","","",null,null,null,null,null,0]
[{"$f":"'2-Grant Budget'!Z108","v":""},{"$f":"IF(A97=\"\",\"\",TRIM(LEFT('1-Award Info'!$C$19,30)))","v":""},{"$f":"IF(A97=\"\",\"\",'1-Award Info'!$G$5)","v":""},{"$f":"IF(A97=\"\",\"\",\"00\"&'1-Award Info'!$G$6)","v":""},"",{"$f":"IF(A97=\"\",\"\",VLOOKUP('1-Award Info'!$G$19,Tables!Q:R,2,0)&RIGHT(A97,8))","v":""},"","","",{"$f":"IF(A97=\"\",\"\",'1-Award Info'!$C$21)","v":""},{"$f":"IF(A97=\"\",\"\",'1-Award Info'!$C$22)","v":""},"","",{"$f":"IF(A97=\"\",\"\",IF(LEFT(A97)=\"N\",'1-Award Info'!$G$6&\"00\",'1-Award Info'!$G$6&RIGHT('1-Award Info'!$G$7,2)))","v":""},"","","","",null,null,null,null,null,0]
[{"$f":"'2-Grant Budget'!Z109","v":""},{"$f":"IF(A98=\"\",\"\",TRIM(LEFT('1-Award Info'!$C$19,30)))","v":""},{"$f":"IF(A98=\"\",\"\",'1-Award Info'!$G$5)","v":""},{"$f":"IF(A98=\"\",\"\",\"00\"&'1-Award Info'!$G$6)","v":""},"",{"$f":"IF(A98=\"\",\"\",VLOOKUP('1-Award Info'!$G$19,Tables!Q:R,2,0)&RIGHT(A98,8))","v":""},"","","",{"$f":"IF(A98=\"\",\"\",'1-Award Info'!$C$21)","v":""},{"$f":"IF(A98=\"\",\"\",'1-Award Info'!$C$22)","v":""},"","",{"$f":"IF(A98=\"\",\"\",IF(LEFT(A98)=\"N\",'1-Award Info'!$G$6&\"00\",'1-Award Info'!$G$6&RIGHT('1-Award Info'!$G$7,2)))","v":""},"","","","",null,null,null,null,null,0]
[{"$f":"'2-Grant Budget'!Z110","v":""},{"$f":"IF(A99=\"\",\"\",TRIM(LEFT('1-Award Info'!$C$19,30)))","v":""},{"$f":"IF(A99=\"\",\"\",'1-Award Info'!$G$5)","v":""},{"$f":"IF(A99=\"\",\"\",\"00\"&'1-Award Info'!$G$6)","v":""},"",{"$f":"IF(A99=\"\",\"\",VLOOKUP('1-Award Info'!$G$19,Tables!Q:R,2,0)&RIGHT(A99,8))","v":""},"","","",{"$f":"IF(A99=\"\",\"\",'1-Award Info'!$C$21)","v":""},{"$f":"IF(A99=\"\",\"\",'1-Award Info'!$C$22)","v":""},"","",{"$f":"IF(A99=\"\",\"\",IF(LEFT(A99)=\"N\",'1-Award Info'!$G$6&\"00\",'1-Award Info'!$G$6&RIGHT('1-Award Info'!$G$7,2)))","v":""},"","","","",null,null,null,null,null,0]
[{"$f":"'2-Grant Budget'!Z111","v":""},{"$f":"IF(A100=\"\",\"\",TRIM(LEFT('1-Award Info'!$C$19,30)))","v":""},{"$f":"IF(A100=\"\",\"\",'1-Award Info'!$G$5)","v":""},{"$f":"IF(A100=\"\",\"\",\"00\"&'1-Award Info'!$G$6)","v":""},"",{"$f":"IF(A100=\"\",\"\",VLOOKUP('1-Award Info'!$G$19,Tables!Q:R,2,0)&RIGHT(A100,8))","v":""},"","","",{"$f":"IF(A100=\"\",\"\",'1-Award Info'!$C$21)","v":""},{"$f":"IF(A100=\"\",\"\",'1-Award Info'!$C$22)","v":""},"","",{"$f":"IF(A100=\"\",\"\",IF(LEFT(A100)=\"N\",'1-Award Info'!$G$6&\"00\",'1-Award Info'!$G$6&RIGHT('1-Award Info'!$G$7,2)))","v":""},"","","","",null,null,null,null,null,0]
[{"$f":"'2-Grant Budget'!Z112","v":""},{"$f":"IF(A101=\"\",\"\",TRIM(LEFT('1-Award Info'!$C$19,30)))","v":""},{"$f":"IF(A101=\"\",\"\",'1-Award Info'!$G$5)","v":""},{"$f":"IF(A101=\"\",\"\",\"00\"&'1-Award Info'!$G$6)","v":""},"",{"$f":"IF(A101=\"\",\"\",VLOOKUP('1-Award Info'!$G$19,Tables!Q:R,2,0)&RIGHT(A101,8))","v":""},"","","",{"$f":"IF(A101=\"\",\"\",'1-Award Info'!$C$21)","v":""},{"$f":"IF(A101=\"\",\"\",'1-Award Info'!$C$22)","v":""},"","",{"$f":"IF(A101=\"\",\"\",IF(LEFT(A101)=\"N\",'1-Award Info'!$G$6&\"00\",'1-Award Info'!$G$6&RIGHT('1-Award Info'!$G$7,2)))","v":""},"","","","",null,null,null,null,null,0]
[{"$f":"'2-Grant Budget'!Z113","v":""},{"$f":"IF(A102=\"\",\"\",TRIM(LEFT('1-Award Info'!$C$19,30)))","v":""},{"$f":"IF(A102=\"\",\"\",'1-Award Info'!$G$5)","v":""},{"$f":"IF(A102=\"\",\"\",\"00\"&'1-Award Info'!$G$6)","v":""},"",{"$f":"IF(A102=\"\",\"\",VLOOKUP('1-Award Info'!$G$19,Tables!Q:R,2,0)&RIGHT(A102,8))","v":""},"","","",{"$f":"IF(A102=\"\",\"\",'1-Award Info'!$C$21)","v":""},{"$f":"IF(A102=\"\",\"\",'1-Award Info'!$C$22)","v":""},"","",{"$f":"IF(A102=\"\",\"\",IF(LEFT(A102)=\"N\",'1-Award Info'!$G$6&\"00\",'1-Award Info'!$G$6&RIGHT('1-Award Info'!$G$7,2)))","v":""},"","","","",null,null,null,null,null,0]
[{"$f":"'2-Grant Budget'!Z114","v":""},{"$f":"IF(A103=\"\",\"\",TRIM(LEFT('1-Award Info'!$C$19,30)))","v":""},{"$f":"IF(A103=\"\",\"\",'1-Award Info'!$G$5)","v":""},{"$f":"IF(A103=\"\",\"\",\"00\"&'1-Award Info'!$G$6)","v":""},"",{"$f":"IF(A103=\"\",\"\",VLOOKUP('1-Award Info'!$G$19,Tables!Q:R,2,0)&RIGHT(A103,8))","v":""},"","","",{"$f":"IF(A103=\"\",\"\",'1-Award Info'!$C$21)","v":""},{"$f":"IF(A103=\"\",\"\",'1-Award Info'!$C$22)","v":""},"","",{"$f":"IF(A103=\"\",\"\",IF(LEFT(A103)=\"N\",'1-Award Info'!$G$6&\"00\",'1-Award Info'!$G$6&RIGHT('1-Award Info'!$G$7,2)))","v":""},"","","","",null,null,null,null,null,0]
[{"$f":"'2-Grant Budget'!Z115","v":""},{"$f":"IF(A104=\"\",\"\",TRIM(LEFT('1-Award Info'!$C$19,30)))","v":""},{"$f":"IF(A104=\"\",\"\",'1-Award Info'!$G$5)","v":""},{"$f":"IF(A104=\"\",\"\",\"00\"&'1-Award Info'!$G$6)","v":""},"",{"$f":"IF(A104=\"\",\"\",VLOOKUP('1-Award Info'!$G$19,Tables!Q:R,2,0)&RIGHT(A104,8))","v":""},"","","",{"$f":"IF(A104=\"\",\"\",'1-Award Info'!$C$21)","v":""},{"$f":"IF(A104=\"\",\"\",'1-Award Info'!$C$22)","v":""},"","",{"$f":"IF(A104=\"\",\"\",IF(LEFT(A104)=\"N\",'1-Award Info'!$G$6&\"00\",'1-Award Info'!$G$6&RIGHT('1-Award Info'!$G$7,2)))","v":""},"","","","",null,null,null,null,null,0]
[{"$f":"'2-Grant Budget'!Z116","v":""},{"$f":"IF(A105=\"\",\"\",TRIM(LEFT('1-Award Info'!$C$19,30)))","v":""},{"$f":"IF(A105=\"\",\"\",'1-Award Info'!$G$5)","v":""},{"$f":"IF(A105=\"\",\"\",\"00\"&'1-Award Info'!$G$6)","v":""},"",{"$f":"IF(A105=\"\",\"\",VLOOKUP('1-Award Info'!$G$19,Tables!Q:R,2,0)&RIGHT(A105,8))","v":""},"","","",{"$f":"IF(A105=\"\",\"\",'1-Award Info'!$C$21)","v":""},{"$f":"IF(A105=\"\",\"\",'1-Award Info'!$C$22)","v":""},"","",{"$f":"IF(A105=\"\",\"\",IF(LEFT(A105)=\"N\",'1-Award Info'!$G$6&\"00\",'1-Award Info'!$G$6&RIGHT('1-Award Info'!$G$7,2)))","v":""},"","","","",null,null,null,null,null,0]
[{"$f":"'2-Grant Budget'!Z117","v":""},{"$f":"IF(A106=\"\",\"\",TRIM(LEFT('1-Award Info'!$C$19,30)))","v":""},{"$f":"IF(A106=\"\",\"\",'1-Award Info'!$G$5)","v":""},{"$f":"IF(A106=\"\",\"\",\"00\"&'1-Award Info'!$G$6)","v":""},{"$f":"IF(A106=\"\",\"\",$D$6)","v":""},{"$f":"IF(A106=\"\",\"\",VLOOKUP('1-Award Info'!$G$19,Tables!Q:R,2,0)&RIGHT(A106,8))","v":""},{"$f":"IF(A106=\"\",\"\",9848)","v":""},{"$f":"IF(A106=\"\",\"\",0)","v":""},{"$f":"IF(A106=\"\",\"\",\"GB\")","v":""},{"$f":"IF(A106=\"\",\"\",'1-Award Info'!$C$21)","v":""},{"$f":"IF(A106=\"\",\"\",'1-Award Info'!$C$22)","v":""},{"$f":"IF(A106=\"\",\"\",\"Y\")","v":""},{"$f":"IF(A106=\"\",\"\",\"P\")","v":""},{"$f":"IF(A106=\"\",\"\",IF(LEFT(A106)=\"N\",'1-Award Info'!$G$6&\"00\",'1-Award Info'!$G$6&RIGHT('1-Award Info'!$G$7,2)))","v":""},{"$f":"MID(A106,2,6)","v":""},{"$f":"MID(A106,8,4)","v":""},{"$f":"MID(A106,12,4)","v":""},"",null,null,null,null,null,0]
[{"$f":"'2-Grant Budget'!Z118","v":""},{"$f":"IF(A107=\"\",\"\",TRIM(LEFT('1-Award Info'!$C$19,30)))","v":""},{"$f":"IF(A107=\"\",\"\",'1-Award Info'!$G$5)","v":""},{"$f":"IF(A107=\"\",\"\",\"00\"&'1-Award Info'!$G$6)","v":""},"",{"$f":"IF(A107=\"\",\"\",VLOOKUP('1-Award Info'!$G$19,Tables!Q:R,2,0)&RIGHT(A107,8))","v":""},"","","",{"$f":"IF(A107=\"\",\"\",'1-Award Info'!$C$21)","v":""},{"$f":"IF(A107=\"\",\"\",'1-Award Info'!$C$22)","v":""},"","",{"$f":"IF(A107=\"\",\"\",IF(LEFT(A107)=\"N\",'1-Award Info'!$G$6&\"00\",'1-Award Info'!$G$6&RIGHT('1-Award Info'!$G$7,2)))","v":""},"","","","",null,null,null,null,null,0]
[{"$f":"'2-Grant Budget'!Z119","v":""},{"$f":"IF(A108=\"\",\"\",TRIM(LEFT('1-Award Info'!$C$19,30)))","v":""},{"$f":"IF(A108=\"\",\"\",'1-Award Info'!$G$5)","v":""},{"$f":"IF(A108=\"\",\"\",\"00\"&'1-Award Info'!$G$6)","v":""},"",{"$f":"IF(A108=\"\",\"\",VLOOKUP('1-Award Info'!$G$19,Tables!Q:R,2,0)&RIGHT(A108,8))","v":""},"","","",{"$f":"IF(A108=\"\",\"\",'1-Award Info'!$C$21)","v":""},{"$f":"IF(A108=\"\",\"\",'1-Award Info'!$C$22)","v":""},"","",{"$f":"IF(A108=\"\",\"\",IF(LEFT(A108)=\"N\",'1-Award Info'!$G$6&\"00\",'1-Award Info'!$G$6&RIGHT('1-Award Info'!$G$7,2)))","v":""},"","","","",null,null,null,null,null,0]
[{"$f":"'2-Grant Budget'!Z120","v":""},{"$f":"IF(A109=\"\",\"\",TRIM(LEFT('1-Award Info'!$C$19,30)))","v":""},{"$f":"IF(A109=\"\",\"\",'1-Award Info'!$G$5)","v":""},{"$f":"IF(A109=\"\",\"\",\"00\"&'1-Award Info'!$G$6)","v":""},"",{"$f":"IF(A109=\"\",\"\",VLOOKUP('1-Award Info'!$G$19,Tables!Q:R,2,0)&RIGHT(A109,8))","v":""},"","","",{"$f":"IF(A109=\"\",\"\",'1-Award Info'!$C$21)","v":""},{"$f":"IF(A109=\"\",\"\",'1-Award Info'!$C$22)","v":""},"","",{"$f":"IF(A109=\"\",\"\",IF(LEFT(A109)=\"N\",'1-Award Info'!$G$6&\"00\",'1-Award Info'!$G$6&RIGHT('1-Award Info'!$G$7,2)))","v":""},"","","","",null,null,null,null,null,0]
[{"$f":"'2-Grant Budget'!Z121","v":""},{"$f":"IF(A110=\"\",\"\",TRIM(LEFT('1-Award Info'!$C$19,30)))","v":""},{"$f":"IF(A110=\"\",\"\",'1-Award Info'!$G$5)","v":""},{"$f":"IF(A110=\"\",\"\",\"00\"&'1-Award Info'!$G$6)","v":""},"",{"$f":"IF(A110=\"\",\"\",VLOOKUP('1-Award Info'!$G$19,Tables!Q:R,2,0)&RIGHT(A110,8))","v":""},"","","",{"$f":"IF(A110=\"\",\"\",'1-Award Info'!$C$21)","v":""},{"$f":"IF(A110=\"\",\"\",'1-Award Info'!$C$22)","v":""},"","",{"$f":"IF(A110=\"\",\"\",IF(LEFT(A110)=\"N\",'1-Award Info'!$G$6&\"00\",'1-Award Info'!$G$6&RIGHT('1-Award Info'!$G$7,2)))","v":""},"","","","",null,null,null,null,null,0]
[{"$f":"'2-Grant Budget'!Z122","v":""},{"$f":"IF(A111=\"\",\"\",TRIM(LEFT('1-Award Info'!$C$19,30)))","v":""},{"$f":"IF(A111=\"\",\"\",'1-Award Info'!$G$5)","v":""},{"$f":"IF(A111=\"\",\"\",\"00\"&'1-Award Info'!$G$6)","v":""},"",{"$f":"IF(A111=\"\",\"\",VLOOKUP('1-Award Info'!$G$19,Tables!Q:R,2,0)&RIGHT(A111,8))","v":""},"","","",{"$f":"IF(A111=\"\",\"\",'1-Award Info'!$C$21)","v":""},{"$f":"IF(A111=\"\",\"\",'1-Award Info'!$C$22)","v":""},"","",{"$f":"IF(A111=\"\",\"\",IF(LEFT(A111)=\"N\",'1-Award Info'!$G$6&\"00\",'1-Award Info'!$G$6&RIGHT('1-Award Info'!$G$7,2)))","v":""},"","","",{"$f":"IF($A111=\"\",\"\",\"Y\")","v":""},null,null,null,null,null,0]
[{"$f":"'2-Grant Budget'!Z123","v":""},{"$f":"IF(A112=\"\",\"\",TRIM(LEFT('1-Award Info'!$C$19,30)))","v":""},{"$f":"IF(A112=\"\",\"\",'1-Award Info'!$G$5)","v":""},{"$f":"IF(A112=\"\",\"\",\"00\"&'1-Award Info'!$G$6)","v":""},"",{"$f":"IF(A112=\"\",\"\",VLOOKUP('1-Award Info'!$G$19,Tables!Q:R,2,0)&RIGHT(A112,8))","v":""},"","","",{"$f":"IF(A112=\"\",\"\",'1-Award Info'!$C$21)","v":""},{"$f":"IF(A112=\"\",\"\",'1-Award Info'!$C$22)","v":""},"","",{"$f":"IF(A112=\"\",\"\",IF(LEFT(A112)=\"N\",'1-Award Info'!$G$6&\"00\",'1-Award Info'!$G$6&RIGHT('1-Award Info'!$G$7,2)))","v":""},"","","","",null,null,null,null,null,0]
[{"$f":"'2-Grant Budget'!Z124","v":""},{"$f":"IF(A113=\"\",\"\",TRIM(LEFT('1-Award Info'!$C$19,30)))","v":""},{"$f":"IF(A113=\"\",\"\",'1-Award Info'!$G$5)","v":""},{"$f":"IF(A113=\"\",\"\",\"00\"&'1-Award Info'!$G$6)","v":""},"",{"$f":"IF(A113=\"\",\"\",VLOOKUP('1-Award Info'!$G$19,Tables!Q:R,2,0)&RIGHT(A113,8))","v":""},"","","",{"$f":"IF(A113=\"\",\"\",'1-Award Info'!$C$21)","v":""},{"$f":"IF(A113=\"\",\"\",'1-Award Info'!$C$22)","v":""},"","",{"$f":"IF(A113=\"\",\"\",IF(LEFT(A113)=\"N\",'1-Award Info'!$G$6&\"00\",'1-Award Info'!$G$6&RIGHT('1-Award Info'!$G$7,2)))","v":""},"","","","",null,null,null,null,null,0]
[{"$f":"'2-Grant Budget'!Z125","v":""},{"$f":"IF(A114=\"\",\"\",TRIM(LEFT('1-Award Info'!$C$19,30)))","v":""},{"$f":"IF(A114=\"\",\"\",'1-Award Info'!$G$5)","v":""},{"$f":"IF(A114=\"\",\"\",\"00\"&'1-Award Info'!$G$6)","v":""},"",{"$f":"IF(A114=\"\",\"\",VLOOKUP('1-Award Info'!$G$19,Tables!Q:R,2,0)&RIGHT(A114,8))","v":""},"","","",{"$f":"IF(A114=\"\",\"\",'1-Award Info'!$C$21)","v":""},{"$f":"IF(A114=\"\",\"\",'1-Award Info'!$C$22)","v":""},"","",{"$f":"IF(A114=\"\",\"\",IF(LEFT(A114)=\"N\",'1-Award Info'!$G$6&\"00\",'1-Award Info'!$G$6&RIGHT('1-Award Info'!$G$7,2)))","v":""},"","","","",null,null,null,null,null,0]
[{"$f":"'2-Grant Budget'!Z126","v":""},{"$f":"IF(A115=\"\",\"\",TRIM(LEFT('1-Award Info'!$C$19,30)))","v":""},{"$f":"IF(A115=\"\",\"\",'1-Award Info'!$G$5)","v":""},{"$f":"IF(A115=\"\",\"\",\"00\"&'1-Award Info'!$G$6)","v":""},"",{"$f":"IF(A115=\"\",\"\",VLOOKUP('1-Award Info'!$G$19,Tables!Q:R,2,0)&RIGHT(A115,8))","v":""},"","","",{"$f":"IF(A115=\"\",\"\",'1-Award Info'!$C$21)","v":""},{"$f":"IF(A115=\"\",\"\",'1-Award Info'!$C$22)","v":""},"","",{"$f":"IF(A115=\"\",\"\",IF(LEFT(A115)=\"N\",'1-Award Info'!$G$6&\"00\",'1-Award Info'!$G$6&RIGHT('1-Award Info'!$G$7,2)))","v":""},"","","","",null,null,null,null,null,0]
[{"$f":"'2-Grant Budget'!Z127","v":""},{"$f":"IF(A116=\"\",\"\",TRIM(LEFT('1-Award Info'!$C$19,30)))","v":""},{"$f":"IF(A116=\"\",\"\",'1-Award Info'!$G$5)","v":""},{"$f":"IF(A116=\"\",\"\",\"00\"&'1-Award Info'!$G$6)","v":""},"",{"$f":"IF(A116=\"\",\"\",VLOOKUP('1-Award Info'!$G$19,Tables!Q:R,2,0)&RIGHT(A116,8))","v":""},"","","",{"$f":"IF(A116=\"\",\"\",'1-Award Info'!$C$21)","v":""},{"$f":"IF(A116=\"\",\"\",'1-Award Info'!$C$22)","v":""},"","",{"$f":"IF(A116=\"\",\"\",IF(LEFT(A116)=\"N\",'1-Award Info'!$G$6&\"00\",'1-Award Info'!$G$6&RIGHT('1-Award Info'!$G$7,2)))","v":""},"","","","",null,null,null,null,null,0]
[{"$f":"'2-Grant Budget'!Z128","v":""},{"$f":"IF(A117=\"\",\"\",TRIM(LEFT('1-Award Info'!$C$19,30)))","v":""},{"$f":"IF(A117=\"\",\"\",'1-Award Info'!$G$5)","v":""},{"$f":"IF(A117=\"\",\"\",\"00\"&'1-Award Info'!$G$6)","v":""},"",{"$f":"IF(A117=\"\",\"\",VLOOKUP('1-Award Info'!$G$19,Tables!Q:R,2,0)&RIGHT(A117,8))","v":""},"","","",{"$f":"IF(A117=\"\",\"\",'1-Award Info'!$C$21)","v":""},{"$f":"IF(A117=\"\",\"\",'1-Award Info'!$C$22)","v":""},"","",{"$f":"IF(A117=\"\",\"\",IF(LEFT(A117)=\"N\",'1-Award Info'!$G$6&\"00\",'1-Award Info'!$G$6&RIGHT('1-Award Info'!$G$7,2)))","v":""},"","","","",null,null,null,null,null,0]
[{"$f":"'2-Grant Budget'!Z129","v":""},{"$f":"IF(A118=\"\",\"\",TRIM(LEFT('1-Award Info'!$C$19,30)))","v":""},{"$f":"IF(A118=\"\",\"\",'1-Award Info'!$G$5)","v":""},{"$f":"IF(A118=\"\",\"\",\"00\"&'1-Award Info'!$G$6)","v":""},"",{"$f":"IF(A118=\"\",\"\",VLOOKUP('1-Award Info'!$G$19,Tables!Q:R,2,0)&RIGHT(A118,8))","v":""},"","","",{"$f":"IF(A118=\"\",\"\",'1-Award Info'!$C$21)","v":""},{"$f":"IF(A118=\"\",\"\",'1-Award Info'!$C$22)","v":""},"","",{"$f":"IF(A118=\"\",\"\",IF(LEFT(A118)=\"N\",'1-Award Info'!$G$6&\"00\",'1-Award Info'!$G$6&RIGHT('1-Award Info'!$G$7,2)))","v":""},"","","","",null,null,null,null,null,0]
[{"$f":"'2-Grant Budget'!Z130","v":""},{"$f":"IF(A119=\"\",\"\",TRIM(LEFT('1-Award Info'!$C$19,30)))","v":""},{"$f":"IF(A119=\"\",\"\",'1-Award Info'!$G$5)","v":""},{"$f":"IF(A119=\"\",\"\",\"00\"&'1-Award Info'!$G$6)","v":""},"",{"$f":"IF(A119=\"\",\"\",VLOOKUP('1-Award Info'!$G$19,Tables!Q:R,2,0)&RIGHT(A119,8))","v":""},"","","",{"$f":"IF(A119=\"\",\"\",'1-Award Info'!$C$21)","v":""},{"$f":"IF(A119=\"\",\"\",'1-Award Info'!$C$22)","v":""},"","",{"$f":"IF(A119=\"\",\"\",IF(LEFT(A119)=\"N\",'1-Award Info'!$G$6&\"00\",'1-Award Info'!$G$6&RIGHT('1-Award Info'!$G$7,2)))","v":""},"","","","",null,null,null,null,null,0]
[{"$f":"'2-Grant Budget'!Z131","v":""},{"$f":"IF(A120=\"\",\"\",TRIM(LEFT('1-Award Info'!$C$19,30)))","v":""},{"$f":"IF(A120=\"\",\"\",'1-Award Info'!$G$5)","v":""},{"$f":"IF(A120=\"\",\"\",\"00\"&'1-Award Info'!$G$6)","v":""},"",{"$f":"IF(A120=\"\",\"\",VLOOKUP('1-Award Info'!$G$19,Tables!Q:R,2,0)&RIGHT(A120,8))","v":""},"","","",{"$f":"IF(A120=\"\",\"\",'1-Award Info'!$C$21)","v":""},{"$f":"IF(A120=\"\",\"\",'1-Award Info'!$C$22)","v":""},"","",{"$f":"IF(A120=\"\",\"\",IF(LEFT(A120)=\"N\",'1-Award Info'!$G$6&\"00\",'1-Award Info'!$G$6&RIGHT('1-Award Info'!$G$7,2)))","v":""},"","","","",null,null,null,null,null,0]
[{"$f":"'2-Grant Budget'!Z132","v":""},{"$f":"IF(A121=\"\",\"\",TRIM(LEFT('1-Award Info'!$C$19,30)))","v":""},{"$f":"IF(A121=\"\",\"\",'1-Award Info'!$G$5)","v":""},{"$f":"IF(A121=\"\",\"\",\"00\"&'1-Award Info'!$G$6)","v":""},"",{"$f":"IF(A121=\"\",\"\",VLOOKUP('1-Award Info'!$G$19,Tables!Q:R,2,0)&RIGHT(A121,8))","v":""},"","","",{"$f":"IF(A121=\"\",\"\",'1-Award Info'!$C$21)","v":""},{"$f":"IF(A121=\"\",\"\",'1-Award Info'!$C$22)","v":""},"","",{"$f":"IF(A121=\"\",\"\",IF(LEFT(A121)=\"N\",'1-Award Info'!$G$6&\"00\",'1-Award Info'!$G$6&RIGHT('1-Award Info'!$G$7,2)))","v":""},"","","","",null,null,null,null,null,0]

{"sheet":"AC10.6","index":5,"n_rows":384,"n_cols":12,"rows_kept":384,"cut":false,"hidden":true,"merged":[]}
[]
[null,null,null,null,null,null,null,null,null,null,"COUNT FOR MACRO",{"$f":"\"H\"&SUM(L5:L384)+4","v":"H14"}]
[]
["ACTIVITY_GROUP","ACTIVITY","FC","SYSTEM","BEGIN_DAYS","BEGIN_DATE","END_DAYS","END_DATE",null,"Results from AC10.6",null,"COUNT FOR MACRO"]
[{"$f":"\"00\"&'1-Award Info'!$G$6","v":"00"},{"$f":"'AC10.1-P'!$A$5","v":"8000"},"A","AC",null,null,90,{"$f":"'1-Award Info'!$C$22","v":"00:00:00"},null,null,null,{"$f":"IF(LEN(B5)>0,1,0)","v":1}]
[{"$f":"\"00\"&'1-Award Info'!$G$6","v":"00"},{"$f":"'AC10.1-P'!$A$5","v":"8000"},"A","AM",null,null,62,{"$f":"'1-Award Info'!$C$22","v":"00:00:00"},null,null,null,{"$f":"IF(LEN(B6)>0,1,0)","v":1}]
[{"$f":"\"00\"&'1-Award Info'!$G$6","v":"00"},{"$f":"'AC10.1-P'!$A$5","v":"8000"},"A","AP",null,null,62,{"$f":"'1-Award Info'!$C$22","v":"00:00:00"},null,null,null,1]
[{"$f":"\"00\"&'1-Award Info'!$G$6","v":"00"},{"$f":"'AC10.1-P'!$A$5","v":"8000"},"A","AR",null,null,120,{"$f":"'1-Award Info'!$C$22","v":"00:00:00"},null,null,null,1]
[{"$f":"\"00\"&'1-Award Info'!$G$6","v":"00"},{"$f":"'AC10.1-P'!$A$5","v":"8000"},"A","CB",null,null,180,{"$f":"'1-Award Info'!$C$22","v":"00:00:00"},null,null,null,1]
[{"$f":"\"00\"&'1-Award Info'!$G$6","v":"00"},{"$f":"'AC10.1-P'!$A$5","v":"8000"},"A","GL",null,null,90,{"$f":"'1-Award Info'!$C$22","v":"00:00:00"},null,null,null,1]
[{"$f":"\"00\"&'1-Award Info'!$G$6","v":"00"},{"$f":"'AC10.1-P'!$A$5","v":"8000"},"A","GM",null,null,90,{"$f":"'1-Award Info'!$C$22","v":"00:00:00"},null,null,null,1]
[{"$f":"\"00\"&'1-Award Info'!$G$6","v":"00"},{"$f":"'AC10.1-P'!$A$5","v":"8000"},"A","PR",62,{"$f":"'1-Award Info'!$C$21","v":"00:00:00"},62,{"$f":"'1-Award Info'!$C$22","v":"00:00:00"},null,null,null,1]
[{"$f":"\"00\"&'1-Award Info'!$G$6","v":"00"},{"$f":"'AC10.1-P'!$A$5","v":"8000"},"A","PO",null,null,90,{"$f":"'1-Award Info'!$C$22","v":"00:00:00"},null,null,null,1]
[{"$f":"\"00\"&'1-Award Info'!$G$6","v":"00"},{"$f":"'AC10.1-P'!$A$5","v":"8000"},"A","CS",null,null,90,{"$f":"'1-Award Info'!$C$22","v":"00:00:00"},null,null,null,1]
[{"$f":"\"00\"&'1-Award Info'!$G$6","v":"00"},{"$f":"'AC10.1-P'!$A$6","v":""},"A","AC",null,null,90,{"$f":"'1-Award Info'!$C$22","v":"00:00:00"},null,null,null,0]
[{"$f":"\"00\"&'1-Award Info'!$G$6","v":"00"},{"$f":"'AC10.1-P'!$A$6","v":""},"A","AM",null,null,62,{"$f":"'1-Award Info'!$C$22","v":"00:00:00"},null,null,null,0]
[{"$f":"\"00\"&'1-Award Info'!$G$6","v":"00"},{"$f":"'AC10.1-P'!$A$6","v":""},"A","AP",null,null,62,{"$f":"'1-Award Info'!$C$22","v":"00:00:00"},null,null,null,0]
[{"$f":"\"00\"&'1-Award Info'!$G$6","v":"00"},{"$f":"'AC10.1-P'!$A$6","v":""},"A","AR",null,null,120,{"$f":"'1-Award Info'!$C$22","v":"00:00:00"},null,null,null,0]
[{"$f":"\"00\"&'1-Award Info'!$G$6","v":"00"},{"$f":"'AC10.1-P'!$A$6","v":""},"A","CB",null,null,180,{"$f":"'1-Award Info'!$C$22","v":"00:00:00"},null,null,null,0]
[{"$f":"\"00\"&'1-Award Info'!$G$6","v":"00"},{"$f":"'AC10.1-P'!$A$6","v":""},"A","GL",null,null,90,{"$f":"'1-Award Info'!$C$22","v":"00:00:00"},null,null,null,0]
[{"$f":"\"00\"&'1-Award Info'!$G$6","v":"00"},{"$f":"'AC10.1-P'!$A$6","v":""},"A","GM",null,null,90,{"$f":"'1-Award Info'!$C$22","v":"00:00:00"},null,null,null,0]
[{"$f":"\"00\"&'1-Award Info'!$G$6","v":"00"},{"$f":"'AC10.1-P'!$A$6","v":""},"A","PR",62,{"$f":"'1-Award Info'!$C$21","v":"00:00:00"},62,{"$f":"'1-Award Info'!$C$22","v":"00:00:00"},null,null,null,0]
[{"$f":"\"00\"&'1-Award Info'!$G$6","v":"00"},{"$f":"'AC10.1-P'!$A$6","v":""},"A","PO",null,null,90,{"$f":"'1-Award Info'!$C$22","v":"00:00:00"},null,null,null,0]
[{"$f":"\"00\"&'1-Award Info'!$G$6","v":"00"},{"$f":"'AC10.1-P'!$A$6","v":""},"A","CS",null,null,90,{"$f":"'1-Award Info'!$C$22","v":"00:00:00"},null,null,null,0]
[{"$f":"\"00\"&'1-Award Info'!$G$6","v":"00"},{"$f":"'AC10.1-P'!$A$7","v":""},"A","AC",null,null,90,{"$f":"'1-Award Info'!$C$22","v":"00:00:00"},null,null,null,0]
[{"$f":"\"00\"&'1-Award Info'!$G$6","v":"00"},{"$f":"'AC10.1-P'!$A$7","v":""},"A","AM",null,null,62,{"$f":"'1-Award Info'!$C$22","v":"00:00:00"},null,null,null,0]
[{"$f":"\"00\"&'1-Award Info'!$G$6","v":"00"},{"$f":"'AC10.1-P'!$A$7","v":""},"A","AP",null,null,62,{"$f":"'1-Award Info'!$C$22","v":"00:00:00"},null,null,null,0]
[{"$f":"\"00\"&'1-Award Info'!$G$6","v":"00"},{"$f":"'AC10.1-P'!$A$7","v":""},"A","AR",null,null,120,{"$f":"'1-Award Info'!$C$22","v":"00:00:00"},null,null,null,0]
[{"$f":"\"00\"&'1-Award Info'!$G$6","v":"00"},{"$f":"'AC10.1-P'!$A$7","v":""},"A","CB",null,null,180,{"$f":"'1-Award Info'!$C$22","v":"00:00:00"},null,null,null,0]
[{"$f":"\"00\"&'1-Award Info'!$G$6","v":"00"},{"$f":"'AC10.1-P'!$A$7","v":""},"A","GL",null,null,90,{"$f":"'1-Award Info'!$C$22","v":"00:00:00"},null,null,null,0]
[{"$f":"\"00\"&'1-Award Info'!$G$6","v":"00"},{"$f":"'AC10.1-P'!$A$7","v":""},"A","GM",null,null,90,{"$f":"'1-Award Info'!$C$22","v":"00:00:00"},null,null,null,0]
[{"$f":"\"00\"&'1-Award Info'!$G$6","v":"00"},{"$f":"'AC10.1-P'!$A$7","v":""},"A","PR",62,{"$f":"'1-Award Info'!$C$21","v":"00:00:00"},62,{"$f":"'1-Award Info'!$C$22","v":"00:00:00"},null,null,null,0]
[{"$f":"\"00\"&'1-Award Info'!$G$6","v":"00"},{"$f":"'AC10.1-P'!$A$7","v":""},"A","PO",null,null,90,{"$f":"'1-Award Info'!$C$22","v":"00:00:00"},null,null,null,0]
[{"$f":"\"00\"&'1-Award Info'!$G$6","v":"00"},{"$f":"'AC10.1-P'!$A$7","v":""},"A","CS",null,null,90,{"$f":"'1-Award Info'!$C$22","v":"00:00:00"},null,null,null,0]
[{"$f":"\"00\"&'1-Award Info'!$G$6","v":"00"},{"$f":"'AC10.1-P'!$A$8","v":""},"A","AC",null,null,90,{"$f":"'1-Award Info'!$C$22","v":"00:00:00"},null,null,null,0]
[{"$f":"\"00\"&'1-Award Info'!$G$6","v":"00"},{"$f":"'AC10.1-P'!$A$8","v":""},"A","AM",null,null,62,{"$f":"'1-Award Info'!$C$22","v":"00:00:00"},null,null,null,0]
[{"$f":"\"00\"&'1-Award Info'!$G$6","v":"00"},{"$f":"'AC10.1-P'!$A$8","v":""},"A","AP",null,null,62,{"$f":"'1-Award Info'!$C$22","v":"00:00:00"},null,null,null,0]
[{"$f":"\"00\"&'1-Award Info'!$G$6","v":"00"},{"$f":"'AC10.1-P'!$A$8","v":""},"A","AR",null,null,120,{"$f":"'1-Award Info'!$C$22","v":"00:00:00"},null,null,null,0]
[{"$f":"\"00\"&'1-Award Info'!$G$6","v":"00"},{"$f":"'AC10.1-P'!$A$8","v":""},"A","CB",null,null,180,{"$f":"'1-Award Info'!$C$22","v":"00:00:00"},null,null,null,0]
[{"$f":"\"00\"&'1-Award Info'!$G$6","v":"00"},{"$f":"'AC10.1-P'!$A$8","v":""},"A","GL",null,null,90,{"$f":"'1-Award Info'!$C$22","v":"00:00:00"},null,null,null,0]
[{"$f":"\"00\"&'1-Award Info'!$G$6","v":"00"},{"$f":"'AC10.1-P'!$A$8","v":""},"A","GM",null,null,90,{"$f":"'1-Award Info'!$C$22","v":"00:00:00"},null,null,null,0]
[{"$f":"\"00\"&'1-Award Info'!$G$6","v":"00"},{"$f":"'AC10.1-P'!$A$8","v":""},"A","PR",62,{"$f":"'1-Award Info'!$C$21","v":"00:00:00"},62,{"$f":"'1-Award Info'!$C$22","v":"00:00:00"},null,null,null,0]
[{"$f":"\"00\"&'1-Award Info'!$G$6","v":"00"},{"$f":"'AC10.1-P'!$A$8","v":""},"A","PO",null,null,90,{"$f":"'1-Award Info'!$C$22","v":"00:00:00"},null,null,null,0]
[{"$f":"\"00\"&'1-Award Info'!$G$6","v":"00"},{"$f":"'AC10.1-P'!$A$8","v":""},"A","CS",null,null,90,{"$f":"'1-Award Info'!$C$22","v":"00:00:00"},null,null,null,0]
[{"$f":"\"00\"&'1-Award Info'!$G$6","v":"00"},{"$f":"'AC10.1-P'!$A$9","v":""},"A","AC",null,null,90,{"$f":"'1-Award Info'!$C$22","v":"00:00:00"},null,null,null,0]
[{"$f":"\"00\"&'1-Award Info'!$G$6","v":"00"},{"$f":"'AC10.1-P'!$A$9","v":""},"A","AM",null,null,62,{"$f":"'1-Award Info'!$C$22","v":"00:00:00"},null,null,null,0]
[{"$f":"\"00\"&'1-Award Info'!$G$6","v":"00"},{"$f":"'AC10.1-P'!$A$9","v":""},"A","AP",null,null,62,{"$f":"'1-Award Info'!$C$22","v":"00:00:00"},null,null,null,0]
[{"$f":"\"00\"&'1-Award Info'!$G$6","v":"00"},{"$f":"'AC10.1-P'!$A$9","v":""},"A","AR",null,null,120,{"$f":"'1-Award Info'!$C$22","v":"00:00:00"},null,null,null,0]
[{"$f":"\"00\"&'1-Award Info'!$G$6","v":"00"},{"$f":"'AC10.1-P'!$A$9","v":""},"A","CB",null,null,180,{"$f":"'1-Award Info'!$C$22","v":"00:00:00"},null,null,null,0]
[{"$f":"\"00\"&'1-Award Info'!$G$6","v":"00"},{"$f":"'AC10.1-P'!$A$9","v":""},"A","GL",null,null,90,{"$f":"'1-Award Info'!$C$22","v":"00:00:00"},null,null,null,0]
[{"$f":"\"00\"&'1-Award Info'!$G$6","v":"00"},{"$f":"'AC10.1-P'!$A$9","v":""},"A","GM",null,null,90,{"$f":"'1-Award Info'!$C$22","v":"00:00:00"},null,null,null,0]
[{"$f":"\"00\"&'1-Award Info'!$G$6","v":"00"},{"$f":"'AC10.1-P'!$A$9","v":""},"A","PR",62,{"$f":"'1-Award Info'!$C$21","v":"00:00:00"},62,{"$f":"'1-Award Info'!$C$22","v":"00:00:00"},null,null,null,0]
[{"$f":"\"00\"&'1-Award Info'!$G$6","v":"00"},{"$f":"'AC10.1-P'!$A$9","v":""},"A","PO",null,null,90,{"$f":"'1-Award Info'!$C$22","v":"00:00:00"},null,null,null,0]
[{"$f":"\"00\"&'1-Award Info'!$G$6","v":"00"},{"$f":"'AC10.1-P'!$A$9","v":""},"A","CS",null,null,90,{"$f":"'1-Award Info'!$C$22","v":"00:00:00"},null,null,null,0]
[{"$f":"\"00\"&'1-Award Info'!$G$6","v":"00"},{"$f":"'AC10.1-P'!$A$10","v":""},"A","AC",null,null,90,{"$f":"'1-Award Info'!$C$22","v":"00:00:00"},null,null,null,0]
[{"$f":"\"00\"&'1-Award Info'!$G$6","v":"00"},{"$f":"'AC10.1-P'!$A$10","v":""},"A","AM",null,null,62,{"$f":"'1-Award Info'!$C$22","v":"00:00:00"},null,null,null,0]
[{"$f":"\"00\"&'1-Award Info'!$G$6","v":"00"},{"$f":"'AC10.1-P'!$A$10","v":""},"A","AP",null,null,62,{"$f":"'1-Award Info'!$C$22","v":"00:00:00"},null,null,null,0]
[{"$f":"\"00\"&'1-Award Info'!$G$6","v":"00"},{"$f":"'AC10.1-P'!$A$10","v":""},"A","AR",null,null,120,{"$f":"'1-Award Info'!$C$22","v":"00:00:00"},null,null,null,0]
[{"$f":"\"00\"&'1-Award Info'!$G$6","v":"00"},{"$f":"'AC10.1-P'!$A$10","v":""},"A","CB",null,null,180,{"$f":"'1-Award Info'!$C$22","v":"00:00:00"},null,null,null,0]
[{"$f":"\"00\"&'1-Award Info'!$G$6","v":"00"},{"$f":"'AC10.1-P'!$A$10","v":""},"A","GL",null,null,90,{"$f":"'1-Award Info'!$C$22","v":"00:00:00"},null,null,null,0]
[{"$f":"\"00\"&'1-Award Info'!$G$6","v":"00"},{"$f":"'AC10.1-P'!$A$10","v":""},"A","GM",null,null,90,{"$f":"'1-Award Info'!$C$22","v":"00:00:00"},null,null,null,0]
[{"$f":"\"00\"&'1-Award Info'!$G$6","v":"00"},{"$f":"'AC10.1-P'!$A$10","v":""},"A","PR",62,{"$f":"'1-Award Info'!$C$21","v":"00:00:00"},62,{"$f":"'1-Award Info'!$C$22","v":"00:00:00"},null,null,null,0]
[{"$f":"\"00\"&'1-Award Info'!$G$6","v":"00"},{"$f":"'AC10.1-P'!$A$10","v":""},"A","PO",null,null,90,{"$f":"'1-Award Info'!$C$22","v":"00:00:00"},null,null,null,0]
[{"$f":"\"00\"&'1-Award Info'!$G$6","v":"00"},{"$f":"'AC10.1-P'!$A$10","v":""},"A","CS",null,null,90,{"$f":"'1-Award Info'!$C$22","v":"00:00:00"},null,null,null,0]
[{"$f":"\"00\"&'1-Award Info'!$G$6","v":"00"},{"$f":"'AC10.1-P'!$A$11","v":""},"A","AC",null,null,90,{"$f":"'1-Award Info'!$C$22","v":"00:00:00"},null,null,null,0]
[{"$f":"\"00\"&'1-Award Info'!$G$6","v":"00"},{"$f":"'AC10.1-P'!$A$11","v":""},"A","AM",null,null,62,{"$f":"'1-Award Info'!$C$22","v":"00:00:00"},null,null,null,0]
[{"$f":"\"00\"&'1-Award Info'!$G$6","v":"00"},{"$f":"'AC10.1-P'!$A$11","v":""},"A","AP",null,null,62,{"$f":"'1-Award Info'!$C$22","v":"00:00:00"},null,null,null,0]
[{"$f":"\"00\"&'1-Award Info'!$G$6","v":"00"},{"$f":"'AC10.1-P'!$A$11","v":""},"A","AR",null,null,120,{"$f":"'1-Award Info'!$C$22","v":"00:00:00"},null,null,null,0]
[{"$f":"\"00\"&'1-Award Info'!$G$6","v":"00"},{"$f":"'AC10.1-P'!$A$11","v":""},"A","CB",null,null,180,{"$f":"'1-Award Info'!$C$22","v":"00:00:00"},null,null,null,0]
[{"$f":"\"00\"&'1-Award Info'!$G$6","v":"00"},{"$f":"'AC10.1-P'!$A$11","v":""},"A","GL",null,null,90,{"$f":"'1-Award Info'!$C$22","v":"00:00:00"},null,null,null,{"$f":"IF(LEN(B70)>0,1,0)","v":0}]
[{"$f":"\"00\"&'1-Award Info'!$G$6","v":"00"},{"$f":"'AC10.1-P'!$A$11","v":""},"A","GM",null,null,90,{"$f":"'1-Award Info'!$C$22","v":"00:00:00"},null,null,null,0]
[{"$f":"\"00\"&'1-Award Info'!$G$6","v":"00"},{"$f":"'AC10.1-P'!$A$11","v":""},"A","PR",62,{"$f":"'1-Award Info'!$C$21","v":"00:00:00"},62,{"$f":"'1-Award Info'!$C$22","v":"00:00:00"},null,null,null,0]
[{"$f":"\"00\"&'1-Award Info'!$G$6","v":"00"},{"$f":"'AC10.1-P'!$A$11","v":""},"A","PO",null,null,90,{"$f":"'1-Award Info'!$C$22","v":"00:00:00"},null,null,null,0]
[{"$f":"\"00\"&'1-Award Info'!$G$6","v":"00"},{"$f":"'AC10.1-P'!$A$11","v":""},"A","CS",null,null,90,{"$f":"'1-Award Info'!$C$22","v":"00:00:00"},null,null,null,0]
[{"$f":"\"00\"&'1-Award Info'!$G$6","v":"00"},{"$f":"'AC10.1-P'!$A$12","v":""},"A","AC",null,null,90,{"$f":"'1-Award Info'!$C$22","v":"00:00:00"},null,null,null,0]
[{"$f":"\"00\"&'1-Award Info'!$G$6","v":"00"},{"$f":"'AC10.1-P'!$A$12","v":""},"A","AM",null,null,62,{"$f":"'1-Award Info'!$C$22","v":"00:00:00"},null,null,null,0]
[{"$f":"\"00\"&'1-Award Info'!$G$6","v":"00"},{"$f":"'AC10.1-P'!$A$12","v":""},"A","AP",null,null,62,{"$f":"'1-Award Info'!$C$22","v":"00:00:00"},null,null,null,0]
[{"$f":"\"00\"&'1-Award Info'!$G$6","v":"00"},{"$f":"'AC10.1-P'!$A$12","v":""},"A","AR",null,null,120,{"$f":"'1-Award Info'!$C$22","v":"00:00:00"},null,null,null,0]
[{"$f":"\"00\"&'1-Award Info'!$G$6","v":"00"},{"$f":"'AC10.1-P'!$A$12","v":""},"A","CB",null,null,180,{"$f":"'1-Award Info'!$C$22","v":"00:00:00"},null,null,null,0]
[{"$f":"\"00\"&'1-Award Info'!$G$6","v":"00"},{"$f":"'AC10.1-P'!$A$12","v":""},"A","GL",null,null,90,{"$f":"'1-Award Info'!$C$22","v":"00:00:00"},null,null,null,0]
[{"$f":"\"00\"&'1-Award Info'!$G$6","v":"00"},{"$f":"'AC10.1-P'!$A$12","v":""},"A","GM",null,null,90,{"$f":"'1-Award Info'!$C$22","v":"00:00:00"},null,null,null,0]
[{"$f":"\"00\"&'1-Award Info'!$G$6","v":"00"},{"$f":"'AC10.1-P'!$A$12","v":""},"A","PR",62,{"$f":"'1-Award Info'!$C$21","v":"00:00:00"},62,{"$f":"'1-Award Info'!$C$22","v":"00:00:00"},null,null,null,0]
[{"$f":"\"00\"&'1-Award Info'!$G$6","v":"00"},{"$f":"'AC10.1-P'!$A$12","v":""},"A","PO",null,null,90,{"$f":"'1-Award Info'!$C$22","v":"00:00:00"},null,null,null,0]
[{"$f":"\"00\"&'1-Award Info'!$G$6","v":"00"},{"$f":"'AC10.1-P'!$A$12","v":""},"A","CS",null,null,90,{"$f":"'1-Award Info'!$C$22","v":"00:00:00"},null,null,null,0]
[{"$f":"\"00\"&'1-Award Info'!$G$6","v":"00"},{"$f":"'AC10.1-P'!$A$13","v":""},"A","AC",null,null,90,{"$f":"'1-Award Info'!$C$22","v":"00:00:00"},null,null,null,0]
[{"$f":"\"00\"&'1-Award Info'!$G$6","v":"00"},{"$f":"'AC10.1-P'!$A$13","v":""},"A","AM",null,null,62,{"$f":"'1-Award Info'!$C$22","v":"00:00:00"},null,null,null,0]
[{"$f":"\"00\"&'1-Award Info'!$G$6","v":"00"},{"$f":"'AC10.1-P'!$A$13","v":""},"A","AP",null,null,62,{"$f":"'1-Award Info'!$C$22","v":"00:00:00"},null,null,null,0]
[{"$f":"\"00\"&'1-Award Info'!$G$6","v":"00"},{"$f":"'AC10.1-P'!$A$13","v":""},"A","AR",null,null,120,{"$f":"'1-Award Info'!$C$22","v":"00:00:00"},null,null,null,0]
[{"$f":"\"00\"&'1-Award Info'!$G$6","v":"00"},{"$f":"'AC10.1-P'!$A$13","v":""},"A","CB",null,null,180,{"$f":"'1-Award Info'!$C$22","v":"00:00:00"},null,null,null,0]
[{"$f":"\"00\"&'1-Award Info'!$G$6","v":"00"},{"$f":"'AC10.1-P'!$A$13","v":""},"A","GL",null,null,90,{"$f":"'1-Award Info'!$C$22","v":"00:00:00"},null,null,null,0]
[{"$f":"\"00\"&'1-Award Info'!$G$6","v":"00"},{"$f":"'AC10.1-P'!$A$13","v":""},"A","GM",null,null,90,{"$f":"'1-Award Info'!$C$22","v":"00:00:00"},null,null,null,0]
[{"$f":"\"00\"&'1-Award Info'!$G$6","v":"00"},{"$f":"'AC10.1-P'!$A$13","v":""},"A","PR",62,{"$f":"'1-Award Info'!$C$21","v":"00:00:00"},62,{"$f":"'1-Award Info'!$C$22","v":"00:00:00"},null,null,null,0]
[{"$f":"\"00\"&'1-Award Info'!$G$6","v":"00"},{"$f":"'AC10.1-P'!$A$13","v":""},"A","PO",null,null,90,{"$f":"'1-Award Info'!$C$22","v":"00:00:00"},null,null,null,0]
[{"$f":"\"00\"&'1-Award Info'!$G$6","v":"00"},{"$f":"'AC10.1-P'!$A$13","v":""},"A","CS",null,null,90,{"$f":"'1-Award Info'!$C$22","v":"00:00:00"},null,null,null,0]
[{"$f":"\"00\"&'1-Award Info'!$G$6","v":"00"},{"$f":"'AC10.1-P'!$A$14","v":""},"A","AC",null,null,90,{"$f":"'1-Award Info'!$C$22","v":"00:00:00"},null,null,null,0]
[{"$f":"\"00\"&'1-Award Info'!$G$6","v":"00"},{"$f":"'AC10.1-P'!$A$14","v":""},"A","AM",null,null,62,{"$f":"'1-Award Info'!$C$22","v":"00:00:00"},null,null,null,0]
[{"$f":"\"00\"&'1-Award Info'!$G$6","v":"00"},{"$f":"'AC10.1-P'!$A$14","v":""},"A","AP",null,null,62,{"$f":"'1-Award Info'!$C$22","v":"00:00:00"},null,null,null,0]
[{"$f":"\"00\"&'1-Award Info'!$G$6","v":"00"},{"$f":"'AC10.1-P'!$A$14","v":""},"A","AR",null,null,120,{"$f":"'1-Award Info'!$C$22","v":"00:00:00"},null,null,null,0]
[{"$f":"\"00\"&'1-Award Info'!$G$6","v":"00"},{"$f":"'AC10.1-P'!$A$14","v":""},"A","CB",null,null,180,{"$f":"'1-Award Info'!$C$22","v":"00:00:00"},null,null,null,0]
[{"$f":"\"00\"&'1-Award Info'!$G$6","v":"00"},{"$f":"'AC10.1-P'!$A$14","v":""},"A","GL",null,null,90,{"$f":"'1-Award Info'!$C$22","v":"00:00:00"},null,null,null,0]
[{"$f":"\"00\"&'1-Award Info'!$G$6","v":"00"},{"$f":"'AC10.1-P'!$A$14","v":""},"A","GM",null,null,90,{"$f":"'1-Award Info'!$C$22","v":"00:00:00"},null,null,null,0]
[{"$f":"\"00\"&'1-Award Info'!$G$6","v":"00"},{"$f":"'AC10.1-P'!$A$14","v":""},"A","PR",62,{"$f":"'1-Award Info'!$C$21","v":"00:00:00"},62,{"$f":"'1-Award Info'!$C$22","v":"00:00:00"},null,null,null,0]
[{"$f":"\"00\"&'1-Award Info'!$G$6","v":"00"},{"$f":"'AC10.1-P'!$A$14","v":""},"A","PO",null,null,90,{"$f":"'1-Award Info'!$C$22","v":"00:00:00"},null,null,null,0]
[{"$f":"\"00\"&'1-Award Info'!$G$6","v":"00"},{"$f":"'AC10.1-P'!$A$14","v":""},"A","CS",null,null,90,{"$f":"'1-Award Info'!$C$22","v":"00:00:00"},null,null,null,0]
[{"$f":"\"00\"&'1-Award Info'!$G$6","v":"00"},{"$f":"'AC10.1-P'!$A$15","v":""},"A","AC",null,null,90,{"$f":"'1-Award Info'!$C$22","v":"00:00:00"},null,null,null,0]
[{"$f":"\"00\"&'1-Award Info'!$G$6","v":"00"},{"$f":"'AC10.1-P'!$A$15","v":""},"A","AM",null,null,62,{"$f":"'1-Award Info'!$C$22","v":"00:00:00"},null,null,null,0]
[{"$f":"\"00\"&'1-Award Info'!$G$6","v":"00"},{"$f":"'AC10.1-P'!$A$15","v":""},"A","AP",null,null,62,{"$f":"'1-Award Info'!$C$22","v":"00:00:00"},null,null,null,0]
[{"$f":"\"00\"&'1-Award Info'!$G$6","v":"00"},{"$f":"'AC10.1-P'!$A$15","v":""},"A","AR",null,null,120,{"$f":"'1-Award Info'!$C$22","v":"00:00:00"},null,null,null,0]
[{"$f":"\"00\"&'1-Award Info'!$G$6","v":"00"},{"$f":"'AC10.1-P'!$A$15","v":""},"A","CB",null,null,180,{"$f":"'1-Award Info'!$C$22","v":"00:00:00"},null,null,null,0]
[{"$f":"\"00\"&'1-Award Info'!$G$6","v":"00"},{"$f":"'AC10.1-P'!$A$15","v":""},"A","GL",null,null,90,{"$f":"'1-Award Info'!$C$22","v":"00:00:00"},null,null,null,0]
[{"$f":"\"00\"&'1-Award Info'!$G$6","v":"00"},{"$f":"'AC10.1-P'!$A$15","v":""},"A","GM",null,null,90,{"$f":"'1-Award Info'!$C$22","v":"00:00:00"},null,null,null,0]
[{"$f":"\"00\"&'1-Award Info'!$G$6","v":"00"},{"$f":"'AC10.1-P'!$A$15","v":""},"A","PR",62,{"$f":"'1-Award Info'!$C$21","v":"00:00:00"},62,{"$f":"'1-Award Info'!$C$22","v":"00:00:00"},null,null,null,0]
[{"$f":"\"00\"&'1-Award Info'!$G$6","v":"00"},{"$f":"'AC10.1-P'!$A$15","v":""},"A","PO",null,null,90,{"$f":"'1-Award Info'!$C$22","v":"00:00:00"},null,null,null,0]
[{"$f":"\"00\"&'1-Award Info'!$G$6","v":"00"},{"$f":"'AC10.1-P'!$A$15","v":""},"A","CS",null,null,90,{"$f":"'1-Award Info'!$C$22","v":"00:00:00"},null,null,null,0]
[{"$f":"\"00\"&'1-Award Info'!$G$6","v":"00"},{"$f":"'AC10.1-P'!$A$16","v":""},"A","AC",null,null,90,{"$f":"'1-Award Info'!$C$22","v":"00:00:00"},null,null,null,0]
[{"$f":"\"00\"&'1-Award Info'!$G$6","v":"00"},{"$f":"'AC10.1-P'!$A$16","v":""},"A","AM",null,null,62,{"$f":"'1-Award Info'!$C$22","v":"00:00:00"},null,null,null,0]
[{"$f":"\"00\"&'1-Award Info'!$G$6","v":"00"},{"$f":"'AC10.1-P'!$A$16","v":""},"A","AP",null,null,62,{"$f":"'1-Award Info'!$C$22","v":"00:00:00"},null,null,null,0]
[{"$f":"\"00\"&'1-Award Info'!$G$6","v":"00"},{"$f":"'AC10.1-P'!$A$16","v":""},"A","AR",null,null,120,{"$f":"'1-Award Info'!$C$22","v":"00:00:00"},null,null,null,0]
[{"$f":"\"00\"&'1-Award Info'!$G$6","v":"00"},{"$f":"'AC10.1-P'!$A$16","v":""},"A","CB",null,null,180,{"$f":"'1-Award Info'!$C$22","v":"00:00:00"},null,null,null,0]
[{"$f":"\"00\"&'1-Award Info'!$G$6","v":"00"},{"$f":"'AC10.1-P'!$A$16","v":""},"A","GL",null,null,90,{"$f":"'1-Award Info'!$C$22","v":"00:00:00"},null,null,null,0]
[{"$f":"\"00\"&'1-Award Info'!$G$6","v":"00"},{"$f":"'AC10.1-P'!$A$16","v":""},"A","GM",null,null,90,{"$f":"'1-Award Info'!$C$22","v":"00:00:00"},null,null,null,0]
[{"$f":"\"00\"&'1-Award Info'!$G$6","v":"00"},{"$f":"'AC10.1-P'!$A$16","v":""},"A","PR",62,{"$f":"'1-Award Info'!$C$21","v":"00:00:00"},62,{"$f":"'1-Award Info'!$C$22","v":"00:00:00"},null,null,null,0]
[{"$f":"\"00\"&'1-Award Info'!$G$6","v":"00"},{"$f":"'AC10.1-P'!$A$16","v":""},"A","PO",null,null,90,{"$f":"'1-Award Info'!$C$22","v":"00:00:00"},null,null,null,0]
[{"$f":"\"00\"&'1-Award Info'!$G$6","v":"00"},{"$f":"'AC10.1-P'!$A$16","v":""},"A","CS",null,null,90,{"$f":"'1-Award Info'!$C$22","v":"00:00:00"},null,null,null,0]
[{"$f":"\"00\"&'1-Award Info'!$G$6","v":"00"},{"$f":"'AC10.1-P'!$A$17","v":""},"A","AC",null,null,90,{"$f":"'1-Award Info'!$C$22","v":"00:00:00"},null,null,null,0]
[{"$f":"\"00\"&'1-Award Info'!$G$6","v":"00"},{"$f":"'AC10.1-P'!$A$17","v":""},"A","AM",null,null,62,{"$f":"'1-Award Info'!$C$22","v":"00:00:00"},null,null,null,0]
[{"$f":"\"00\"&'1-Award Info'!$G$6","v":"00"},{"$f":"'AC10.1-P'!$A$17","v":""},"A","AP",null,null,62,{"$f":"'1-Award Info'!$C$22","v":"00:00:00"},null,null,null,0]
[{"$f":"\"00\"&'1-Award Info'!$G$6","v":"00"},{"$f":"'AC10.1-P'!$A$17","v":""},"A","AR",null,null,120,{"$f":"'1-Award Info'!$C$22","v":"00:00:00"},null,null,null,0]
[{"$f":"\"00\"&'1-Award Info'!$G$6","v":"00"},{"$f":"'AC10.1-P'!$A$17","v":""},"A","CB",null,null,180,{"$f":"'1-Award Info'!$C$22","v":"00:00:00"},null,null,null,0]
[{"$f":"\"00\"&'1-Award Info'!$G$6","v":"00"},{"$f":"'AC10.1-P'!$A$17","v":""},"A","GL",null,null,90,{"$f":"'1-Award Info'!$C$22","v":"00:00:00"},null,null,null,0]
[{"$f":"\"00\"&'1-Award Info'!$G$6","v":"00"},{"$f":"'AC10.1-P'!$A$17","v":""},"A","GM",null,null,90,{"$f":"'1-Award Info'!$C$22","v":"00:00:00"},null,null,null,0]
[{"$f":"\"00\"&'1-Award Info'!$G$6","v":"00"},{"$f":"'AC10.1-P'!$A$17","v":""},"A","PR",62,{"$f":"'1-Award Info'!$C$21","v":"00:00:00"},62,{"$f":"'1-Award Info'!$C$22","v":"00:00:00"},null,null,null,0]
[{"$f":"\"00\"&'1-Award Info'!$G$6","v":"00"},{"$f":"'AC10.1-P'!$A$17","v":""},"A","PO",null,null,90,{"$f":"'1-Award Info'!$C$22","v":"00:00:00"},null,null,null,0]
[{"$f":"\"00\"&'1-Award Info'!$G$6","v":"00"},{"$f":"'AC10.1-P'!$A$17","v":""},"A","CS",null,null,90,{"$f":"'1-Award Info'!$C$22","v":"00:00:00"},null,null,null,{"$f":"IF(LEN(B134)>0,1,0)","v":0}]
[{"$f":"\"00\"&'1-Award Info'!$G$6","v":"00"},{"$f":"'AC10.1-P'!$A$18","v":""},"A","AC",null,null,90,{"$f":"'1-Award Info'!$C$22","v":"00:00:00"},null,null,null,0]
[{"$f":"\"00\"&'1-Award Info'!$G$6","v":"00"},{"$f":"'AC10.1-P'!$A$18","v":""},"A","AM",null,null,62,{"$f":"'1-Award Info'!$C$22","v":"00:00:00"},null,null,null,0]
[{"$f":"\"00\"&'1-Award Info'!$G$6","v":"00"},{"$f":"'AC10.1-P'!$A$18","v":""},"A","AP",null,null,62,{"$f":"'1-Award Info'!$C$22","v":"00:00:00"},null,null,null,0]
[{"$f":"\"00\"&'1-Award Info'!$G$6","v":"00"},{"$f":"'AC10.1-P'!$A$18","v":""},"A","AR",null,null,120,{"$f":"'1-Award Info'!$C$22","v":"00:00:00"},null,null,null,0]
[{"$f":"\"00\"&'1-Award Info'!$G$6","v":"00"},{"$f":"'AC10.1-P'!$A$18","v":""},"A","CB",null,null,180,{"$f":"'1-Award Info'!$C$22","v":"00:00:00"},null,null,null,0]
[{"$f":"\"00\"&'1-Award Info'!$G$6","v":"00"},{"$f":"'AC10.1-P'!$A$18","v":""},"A","GL",null,null,90,{"$f":"'1-Award Info'!$C$22","v":"00:00:00"},null,null,null,0]
[{"$f":"\"00\"&'1-Award Info'!$G$6","v":"00"},{"$f":"'AC10.1-P'!$A$18","v":""},"A","GM",null,null,90,{"$f":"'1-Award Info'!$C$22","v":"00:00:00"},null,null,null,0]
[{"$f":"\"00\"&'1-Award Info'!$G$6","v":"00"},{"$f":"'AC10.1-P'!$A$18","v":""},"A","PR",62,{"$f":"'1-Award Info'!$C$21","v":"00:00:00"},62,{"$f":"'1-Award Info'!$C$22","v":"00:00:00"},null,null,null,0]
[{"$f":"\"00\"&'1-Award Info'!$G$6","v":"00"},{"$f":"'AC10.1-P'!$A$18","v":""},"A","PO",null,null,90,{"$f":"'1-Award Info'!$C$22","v":"00:00:00"},null,null,null,0]
[{"$f":"\"00\"&'1-Award Info'!$G$6","v":"00"},{"$f":"'AC10.1-P'!$A$18","v":""},"A","CS",null,null,90,{"$f":"'1-Award Info'!$C$22","v":"00:00:00"},null,null,null,0]
[{"$f":"\"00\"&'1-Award Info'!$G$6","v":"00"},{"$f":"'AC10.1-P'!$A$18","v":""},"A","AC",null,null,90,{"$f":"'1-Award Info'!$C$22","v":"00:00:00"},null,null,null,0]
[{"$f":"\"00\"&'1-Award Info'!$G$6","v":"00"},{"$f":"'AC10.1-P'!$A$18","v":""},"A","AM",null,null,62,{"$f":"'1-Award Info'!$C$22","v":"00:00:00"},null,null,null,0]
[{"$f":"\"00\"&'1-Award Info'!$G$6","v":"00"},{"$f":"'AC10.1-P'!$A$18","v":""},"A","AP",null,null,62,{"$f":"'1-Award Info'!$C$22","v":"00:00:00"},null,null,null,0]
[{"$f":"\"00\"&'1-Award Info'!$G$6","v":"00"},{"$f":"'AC10.1-P'!$A$18","v":""},"A","AR",null,null,120,{"$f":"'1-Award Info'!$C$22","v":"00:00:00"},null,null,null,0]
[{"$f":"\"00\"&'1-Award Info'!$G$6","v":"00"},{"$f":"'AC10.1-P'!$A$18","v":""},"A","CB",null,null,180,{"$f":"'1-Award Info'!$C$22","v":"00:00:00"},null,null,null,0]
[{"$f":"\"00\"&'1-Award Info'!$G$6","v":"00"},{"$f":"'AC10.1-P'!$A$18","v":""},"A","GL",null,null,90,{"$f":"'1-Award Info'!$C$22","v":"00:00:00"},null,null,null,0]
[{"$f":"\"00\"&'1-Award Info'!$G$6","v":"00"},{"$f":"'AC10.1-P'!$A$18","v":""},"A","GM",null,null,90,{"$f":"'1-Award Info'!$C$22","v":"00:00:00"},null,null,null,0]
[{"$f":"\"00\"&'1-Award Info'!$G$6","v":"00"},{"$f":"'AC10.1-P'!$A$18","v":""},"A","PR",62,{"$f":"'1-Award Info'!$C$21","v":"00:00:00"},62,{"$f":"'1-Award Info'!$C$22","v":"00:00:00"},null,null,null,0]
[{"$f":"\"00\"&'1-Award Info'!$G$6","v":"00"},{"$f":"'AC10.1-P'!$A$18","v":""},"A","PO",null,null,90,{"$f":"'1-Award Info'!$C$22","v":"00:00:00"},null,null,null,0]
[{"$f":"\"00\"&'1-Award Info'!$G$6","v":"00"},{"$f":"'AC10.1-P'!$A$18","v":""},"A","CS",null,null,90,{"$f":"'1-Award Info'!$C$22","v":"00:00:00"},null,null,null,0]
[{"$f":"\"00\"&'1-Award Info'!$G$6","v":"00"},{"$f":"'AC10.1-P'!$A$19","v":""},"A","AC",null,null,90,{"$f":"'1-Award Info'!$C$22","v":"00:00:00"},null,null,null,0]
[{"$f":"\"00\"&'1-Award Info'!$G$6","v":"00"},{"$f":"'AC10.1-P'!$A$19","v":""},"A","AM",null,null,62,{"$f":"'1-Award Info'!$C$22","v":"00:00:00"},null,null,null,0]
[{"$f":"\"00\"&'1-Award Info'!$G$6","v":"00"},{"$f":"'AC10.1-P'!$A$19","v":""},"A","AP",null,null,62,{"$f":"'1-Award Info'!$C$22","v":"00:00:00"},null,null,null,0]
[{"$f":"\"00\"&'1-Award Info'!$G$6","v":"00"},{"$f":"'AC10.1-P'!$A$19","v":""},"A","AR",null,null,120,{"$f":"'1-Award Info'!$C$22","v":"00:00:00"},null,null,null,0]
[{"$f":"\"00\"&'1-Award Info'!$G$6","v":"00"},{"$f":"'AC10.1-P'!$A$19","v":""},"A","CB",null,null,180,{"$f":"'1-Award Info'!$C$22","v":"00:00:00"},null,null,null,0]
[{"$f":"\"00\"&'1-Award Info'!$G$6","v":"00"},{"$f":"'AC10.1-P'!$A$19","v":""},"A","GL",null,null,90,{"$f":"'1-Award Info'!$C$22","v":"00:00:00"},null,null,null,0]
[{"$f":"\"00\"&'1-Award Info'!$G$6","v":"00"},{"$f":"'AC10.1-P'!$A$19","v":""},"A","GM",null,null,90,{"$f":"'1-Award Info'!$C$22","v":"00:00:00"},null,null,null,0]
[{"$f":"\"00\"&'1-Award Info'!$G$6","v":"00"},{"$f":"'AC10.1-P'!$A$19","v":""},"A","PR",62,{"$f":"'1-Award Info'!$C$21","v":"00:00:00"},62,{"$f":"'1-Award Info'!$C$22","v":"00:00:00"},null,null,null,0]
[{"$f":"\"00\"&'1-Award Info'!$G$6","v":"00"},{"$f":"'AC10.1-P'!$A$19","v":""},"A","PO",null,null,90,{"$f":"'1-Award Info'!$C$22","v":"00:00:00"},null,null,null,0]
[{"$f":"\"00\"&'1-Award Info'!$G$6","v":"00"},{"$f":"'AC10.1-P'!$A$19","v":""},"A","CS",null,null,90,{"$f":"'1-Award Info'!$C$22","v":"00:00:00"},null,null,null,0]
[{"$f":"\"00\"&'1-Award Info'!$G$6","v":"00"},{"$f":"'AC10.1-P'!$A$20","v":""},"A","AC",null,null,90,{"$f":"'1-Award Info'!$C$22","v":"00:00:00"},null,null,null,0]
[{"$f":"\"00\"&'1-Award Info'!$G$6","v":"00"},{"$f":"'AC10.1-P'!$A$20","v":""},"A","AM",null,null,62,{"$f":"'1-Award Info'!$C$22","v":"00:00:00"},null,null,null,0]
[{"$f":"\"00\"&'1-Award Info'!$G$6","v":"00"},{"$f":"'AC10.1-P'!$A$20","v":""},"A","AP",null,null,62,{"$f":"'1-Award Info'!$C$22","v":"00:00:00"},null,null,null,0]
[{"$f":"\"00\"&'1-Award Info'!$G$6","v":"00"},{"$f":"'AC10.1-P'!$A$20","v":""},"A","AR",null,null,120,{"$f":"'1-Award Info'!$C$22","v":"00:00:00"},null,null,null,0]
[{"$f":"\"00\"&'1-Award Info'!$G$6","v":"00"},{"$f":"'AC10.1-P'!$A$20","v":""},"A","CB",null,null,180,{"$f":"'1-Award Info'!$C$22","v":"00:00:00"},null,null,null,0]
[{"$f":"\"00\"&'1-Award Info'!$G$6","v":"00"},{"$f":"'AC10.1-P'!$A$20","v":""},"A","GL",null,null,90,{"$f":"'1-Award Info'!$C$22","v":"00:00:00"},null,null,null,0]
[{"$f":"\"00\"&'1-Award Info'!$G$6","v":"00"},{"$f":"'AC10.1-P'!$A$20","v":""},"A","GM",null,null,90,{"$f":"'1-Award Info'!$C$22","v":"00:00:00"},null,null,null,0]
[{"$f":"\"00\"&'1-Award Info'!$G$6","v":"00"},{"$f":"'AC10.1-P'!$A$20","v":""},"A","PR",62,{"$f":"'1-Award Info'!$C$21","v":"00:00:00"},62,{"$f":"'1-Award Info'!$C$22","v":"00:00:00"},null,null,null,0]
[{"$f":"\"00\"&'1-Award Info'!$G$6","v":"00"},{"$f":"'AC10.1-P'!$A$20","v":""},"A","PO",null,null,90,{"$f":"'1-Award Info'!$C$22","v":"00:00:00"},null,null,null,0]
[{"$f":"\"00\"&'1-Award Info'!$G$6","v":"00"},{"$f":"'AC10.1-P'!$A$20","v":""},"A","CS",null,null,90,{"$f":"'1-Award Info'!$C$22","v":"00:00:00"},null,null,null,0]
[{"$f":"\"00\"&'1-Award Info'!$G$6","v":"00"},{"$f":"'AC10.1-P'!$A$21","v":""},"A","AC",null,null,90,{"$f":"'1-Award Info'!$C$22","v":"00:00:00"},null,null,null,0]
[{"$f":"\"00\"&'1-Award Info'!$G$6","v":"00"},{"$f":"'AC10.1-P'!$A$21","v":""},"A","AM",null,null,62,{"$f":"'1-Award Info'!$C$22","v":"00:00:00"},null,null,null,0]
[{"$f":"\"00\"&'1-Award Info'!$G$6","v":"00"},{"$f":"'AC10.1-P'!$A$21","v":""},"A","AP",null,null,62,{"$f":"'1-Award Info'!$C$22","v":"00:00:00"},null,null,null,0]
[{"$f":"\"00\"&'1-Award Info'!$G$6","v":"00"},{"$f":"'AC10.1-P'!$A$21","v":""},"A","AR",null,null,120,{"$f":"'1-Award Info'!$C$22","v":"00:00:00"},null,null,null,0]
[{"$f":"\"00\"&'1-Award Info'!$G$6","v":"00"},{"$f":"'AC10.1-P'!$A$21","v":""},"A","CB",null,null,180,{"$f":"'1-Award Info'!$C$22","v":"00:00:00"},null,null,null,0]
[{"$f":"\"00\"&'1-Award Info'!$G$6","v":"00"},{"$f":"'AC10.1-P'!$A$21","v":""},"A","GL",null,null,90,{"$f":"'1-Award Info'!$C$22","v":"00:00:00"},null,null,null,0]
[{"$f":"\"00\"&'1-Award Info'!$G$6","v":"00"},{"$f":"'AC10.1-P'!$A$21","v":""},"A","GM",null,null,90,{"$f":"'1-Award Info'!$C$22","v":"00:00:00"},null,null,null,0]
[{"$f":"\"00\"&'1-Award Info'!$G$6","v":"00"},{"$f":"'AC10.1-P'!$A$21","v":""},"A","PR",62,{"$f":"'1-Award Info'!$C$21","v":"00:00:00"},62,{"$f":"'1-Award Info'!$C$22","v":"00:00:00"},null,null,null,0]
[{"$f":"\"00\"&'1-Award Info'!$G$6","v":"00"},{"$f":"'AC10.1-P'!$A$21","v":""},"A","PO",null,null,90,{"$f":"'1-Award Info'!$C$22","v":"00:00:00"},null,null,null,0]
[{"$f":"\"00\"&'1-Award Info'!$G$6","v":"00"},{"$f":"'AC10.1-P'!$A$21","v":""},"A","CS",null,null,90,{"$f":"'1-Award Info'!$C$22","v":"00:00:00"},null,null,null,0]
[{"$f":"\"00\"&'1-Award Info'!$G$6","v":"00"},{"$f":"'AC10.1-P'!$A$22","v":""},"A","AC",null,null,90,{"$f":"'1-Award Info'!$C$22","v":"00:00:00"},null,null,null,0]
[{"$f":"\"00\"&'1-Award Info'!$G$6","v":"00"},{"$f":"'AC10.1-P'!$A$22","v":""},"A","AM",null,null,62,{"$f":"'1-Award Info'!$C$22","v":"00:00:00"},null,null,null,0]
[{"$f":"\"00\"&'1-Award Info'!$G$6","v":"00"},{"$f":"'AC10.1-P'!$A$22","v":""},"A","AP",null,null,62,{"$f":"'1-Award Info'!$C$22","v":"00:00:00"},null,null,null,0]
[{"$f":"\"00\"&'1-Award Info'!$G$6","v":"00"},{"$f":"'AC10.1-P'!$A$22","v":""},"A","AR",null,null,120,{"$f":"'1-Award Info'!$C$22","v":"00:00:00"},null,null,null,0]
[{"$f":"\"00\"&'1-Award Info'!$G$6","v":"00"},{"$f":"'AC10.1-P'!$A$22","v":""},"A","CB",null,null,180,{"$f":"'1-Award Info'!$C$22","v":"00:00:00"},null,null,null,0]
[{"$f":"\"00\"&'1-Award Info'!$G$6","v":"00"},{"$f":"'AC10.1-P'!$A$22","v":""},"A","GL",null,null,90,{"$f":"'1-Award Info'!$C$22","v":"00:00:00"},null,null,null,0]
[{"$f":"\"00\"&'1-Award Info'!$G$6","v":"00"},{"$f":"'AC10.1-P'!$A$22","v":""},"A","GM",null,null,90,{"$f":"'1-Award Info'!$C$22","v":"00:00:00"},null,null,null,0]
[{"$f":"\"00\"&'1-Award Info'!$G$6","v":"00"},{"$f":"'AC10.1-P'!$A$22","v":""},"A","PR",62,{"$f":"'1-Award Info'!$C$21","v":"00:00:00"},62,{"$f":"'1-Award Info'!$C$22","v":"00:00:00"},null,null,null,0]
[{"$f":"\"00\"&'1-Award Info'!$G$6","v":"00"},{"$f":"'AC10.1-P'!$A$22","v":""},"A","PO",null,null,90,{"$f":"'1-Award Info'!$C$22","v":"00:00:00"},null,null,null,0]
[{"$f":"\"00\"&'1-Award Info'!$G$6","v":"00"},{"$f":"'AC10.1-P'!$A$22","v":""},"A","CS",null,null,90,{"$f":"'1-Award Info'!$C$22","v":"00:00:00"},null,null,null,0]
[{"$f":"\"00\"&'1-Award Info'!$G$6","v":"00"},{"$f":"'AC10.1-P'!$A$23","v":""},"A","AC",null,null,90,{"$f":"'1-Award Info'!$C$22","v":"00:00:00"},null,null,null,0]
[{"$f":"\"00\"&'1-Award Info'!$G$6","v":"00"},{"$f":"'AC10.1-P'!$A$23","v":""},"A","AM",null,null,62,{"$f":"'1-Award Info'!$C$22","v":"00:00:00"},null,null,null,0]
[{"$f":"\"00\"&'1-Award Info'!$G$6","v":"00"},{"$f":"'AC10.1-P'!$A$23","v":""},"A","AP",null,null,62,{"$f":"'1-Award Info'!$C$22","v":"00:00:00"},null,null,null,0]
[{"$f":"\"00\"&'1-Award Info'!$G$6","v":"00"},{"$f":"'AC10.1-P'!$A$23","v":""},"A","AR",null,null,120,{"$f":"'1-Award Info'!$C$22","v":"00:00:00"},null,null,null,{"$f":"IF(LEN(B198)>0,1,0)","v":0}]
[{"$f":"\"00\"&'1-Award Info'!$G$6","v":"00"},{"$f":"'AC10.1-P'!$A$23","v":""},"A","CB",null,null,180,{"$f":"'1-Award Info'!$C$22","v":"00:00:00"},null,null,null,0]
[{"$f":"\"00\"&'1-Award Info'!$G$6","v":"00"},{"$f":"'AC10.1-P'!$A$23","v":""},"A","GL",null,null,90,{"$f":"'1-Award Info'!$C$22","v":"00:00:00"},null,null,null,0]
[{"$f":"\"00\"&'1-Award Info'!$G$6","v":"00"},{"$f":"'AC10.1-P'!$A$23","v":""},"A","GM",null,null,90,{"$f":"'1-Award Info'!$C$22","v":"00:00:00"},null,null,null,0]
[{"$f":"\"00\"&'1-Award Info'!$G$6","v":"00"},{"$f":"'AC10.1-P'!$A$23","v":""},"A","PR",62,{"$f":"'1-Award Info'!$C$21","v":"00:00:00"},62,{"$f":"'1-Award Info'!$C$22","v":"00:00:00"},null,null,null,0]
[{"$f":"\"00\"&'1-Award Info'!$G$6","v":"00"},{"$f":"'AC10.1-P'!$A$23","v":""},"A","PO",null,null,90,{"$f":"'1-Award Info'!$C$22","v":"00:00:00"},null,null,null,0]
[{"$f":"\"00\"&'1-Award Info'!$G$6","v":"00"},{"$f":"'AC10.1-P'!$A$23","v":""},"A","CS",null,null,90,{"$f":"'1-Award Info'!$C$22","v":"00:00:00"},null,null,null,0]
[{"$f":"\"00\"&'1-Award Info'!$G$6","v":"00"},{"$f":"'AC10.1-P'!$A$24","v":""},"A","AC",null,null,90,{"$f":"'1-Award Info'!$C$22","v":"00:00:00"},null,null,null,0]
[{"$f":"\"00\"&'1-Award Info'!$G$6","v":"00"},{"$f":"'AC10.1-P'!$A$24","v":""},"A","AM",null,null,62,{"$f":"'1-Award Info'!$C$22","v":"00:00:00"},null,null,null,0]
[{"$f":"\"00\"&'1-Award Info'!$G$6","v":"00"},{"$f":"'AC10.1-P'!$A$24","v":""},"A","AP",null,null,62,{"$f":"'1-Award Info'!$C$22","v":"00:00:00"},null,null,null,0]
[{"$f":"\"00\"&'1-Award Info'!$G$6","v":"00"},{"$f":"'AC10.1-P'!$A$24","v":""},"A","AR",null,null,120,{"$f":"'1-Award Info'!$C$22","v":"00:00:00"},null,null,null,0]
[{"$f":"\"00\"&'1-Award Info'!$G$6","v":"00"},{"$f":"'AC10.1-P'!$A$24","v":""},"A","CB",null,null,180,{"$f":"'1-Award Info'!$C$22","v":"00:00:00"},null,null,null,0]
[{"$f":"\"00\"&'1-Award Info'!$G$6","v":"00"},{"$f":"'AC10.1-P'!$A$24","v":""},"A","GL",null,null,90,{"$f":"'1-Award Info'!$C$22","v":"00:00:00"},null,null,null,0]
[{"$f":"\"00\"&'1-Award Info'!$G$6","v":"00"},{"$f":"'AC10.1-P'!$A$24","v":""},"A","GM",null,null,90,{"$f":"'1-Award Info'!$C$22","v":"00:00:00"},null,null,null,0]
[{"$f":"\"00\"&'1-Award Info'!$G$6","v":"00"},{"$f":"'AC10.1-P'!$A$24","v":""},"A","PR",62,{"$f":"'1-Award Info'!$C$21","v":"00:00:00"},62,{"$f":"'1-Award Info'!$C$22","v":"00:00:00"},null,null,null,0]
[{"$f":"\"00\"&'1-Award Info'!$G$6","v":"00"},{"$f":"'AC10.1-P'!$A$24","v":""},"A","PO",null,null,90,{"$f":"'1-Award Info'!$C$22","v":"00:00:00"},null,null,null,0]
[{"$f":"\"00\"&'1-Award Info'!$G$6","v":"00"},{"$f":"'AC10.1-P'!$A$24","v":""},"A","CS",null,null,90,{"$f":"'1-Award Info'!$C$22","v":"00:00:00"},null,null,null,0]
[{"$f":"\"00\"&'1-Award Info'!$G$6","v":"00"},{"$f":"'AC10.1-P'!$A$25","v":""},"A","AC",null,null,90,{"$f":"'1-Award Info'!$C$22","v":"00:00:00"},null,null,null,0]
[{"$f":"\"00\"&'1-Award Info'!$G$6","v":"00"},{"$f":"'AC10.1-P'!$A$25","v":""},"A","AM",null,null,62,{"$f":"'1-Award Info'!$C$22","v":"00:00:00"},null,null,null,0]
[{"$f":"\"00\"&'1-Award Info'!$G$6","v":"00"},{"$f":"'AC10.1-P'!$A$25","v":""},"A","AP",null,null,62,{"$f":"'1-Award Info'!$C$22","v":"00:00:00"},null,null,null,0]
[{"$f":"\"00\"&'1-Award Info'!$G$6","v":"00"},{"$f":"'AC10.1-P'!$A$25","v":""},"A","AR",null,null,120,{"$f":"'1-Award Info'!$C$22","v":"00:00:00"},null,null,null,0]
[{"$f":"\"00\"&'1-Award Info'!$G$6","v":"00"},{"$f":"'AC10.1-P'!$A$25","v":""},"A","CB",null,null,180,{"$f":"'1-Award Info'!$C$22","v":"00:00:00"},null,null,null,0]
[{"$f":"\"00\"&'1-Award Info'!$G$6","v":"00"},{"$f":"'AC10.1-P'!$A$25","v":""},"A","GL",null,null,90,{"$f":"'1-Award Info'!$C$22","v":"00:00:00"},null,null,null,0]
[{"$f":"\"00\"&'1-Award Info'!$G$6","v":"00"},{"$f":"'AC10.1-P'!$A$25","v":""},"A","GM",null,null,90,{"$f":"'1-Award Info'!$C$22","v":"00:00:00"},null,null,null,0]
[{"$f":"\"00\"&'1-Award Info'!$G$6","v":"00"},{"$f":"'AC10.1-P'!$A$25","v":""},"A","PR",62,{"$f":"'1-Award Info'!$C$21","v":"00:00:00"},62,{"$f":"'1-Award Info'!$C$22","v":"00:00:00"},null,null,null,0]
[{"$f":"\"00\"&'1-Award Info'!$G$6","v":"00"},{"$f":"'AC10.1-P'!$A$25","v":""},"A","PO",null,null,90,{"$f":"'1-Award Info'!$C$22","v":"00:00:00"},null,null,null,0]
[{"$f":"\"00\"&'1-Award Info'!$G$6","v":"00"},{"$f":"'AC10.1-P'!$A$25","v":""},"A","CS",null,null,90,{"$f":"'1-Award Info'!$C$22","v":"00:00:00"},null,null,null,0]
[{"$f":"\"00\"&'1-Award Info'!$G$6","v":"00"},{"$f":"'AC10.1-P'!$A$26","v":""},"A","AC",null,null,90,{"$f":"'1-Award Info'!$C$22","v":"00:00:00"},null,null,null,0]
[{"$f":"\"00\"&'1-Award Info'!$G$6","v":"00"},{"$f":"'AC10.1-P'!$A$26","v":""},"A","AM",null,null,62,{"$f":"'1-Award Info'!$C$22","v":"00:00:00"},null,null,null,0]
[{"$f":"\"00\"&'1-Award Info'!$G$6","v":"00"},{"$f":"'AC10.1-P'!$A$26","v":""},"A","AP",null,null,62,{"$f":"'1-Award Info'!$C$22","v":"00:00:00"},null,null,null,0]
[{"$f":"\"00\"&'1-Award Info'!$G$6","v":"00"},{"$f":"'AC10.1-P'!$A$26","v":""},"A","AR",null,null,120,{"$f":"'1-Award Info'!$C$22","v":"00:00:00"},null,null,null,0]
[{"$f":"\"00\"&'1-Award Info'!$G$6","v":"00"},{"$f":"'AC10.1-P'!$A$26","v":""},"A","CB",null,null,180,{"$f":"'1-Award Info'!$C$22","v":"00:00:00"},null,null,null,0]
[{"$f":"\"00\"&'1-Award Info'!$G$6","v":"00"},{"$f":"'AC10.1-P'!$A$26","v":""},"A","GL",null,null,90,{"$f":"'1-Award Info'!$C$22","v":"00:00:00"},null,null,null,0]
[{"$f":"\"00\"&'1-Award Info'!$G$6","v":"00"},{"$f":"'AC10.1-P'!$A$26","v":""},"A","GM",null,null,90,{"$f":"'1-Award Info'!$C$22","v":"00:00:00"},null,null,null,0]
[{"$f":"\"00\"&'1-Award Info'!$G$6","v":"00"},{"$f":"'AC10.1-P'!$A$26","v":""},"A","PR",62,{"$f":"'1-Award Info'!$C$21","v":"00:00:00"},62,{"$f":"'1-Award Info'!$C$22","v":"00:00:00"},null,null,null,0]
[{"$f":"\"00\"&'1-Award Info'!$G$6","v":"00"},{"$f":"'AC10.1-P'!$A$26","v":""},"A","PO",null,null,90,{"$f":"'1-Award Info'!$C$22","v":"00:00:00"},null,null,null,0]
[{"$f":"\"00\"&'1-Award Info'!$G$6","v":"00"},{"$f":"'AC10.1-P'!$A$26","v":""},"A","CS",null,null,90,{"$f":"'1-Award Info'!$C$22","v":"00:00:00"},null,null,null,0]
[{"$f":"\"00\"&'1-Award Info'!$G$6","v":"00"},{"$f":"'AC10.1-P'!$A$27","v":""},"A","AC",null,null,90,{"$f":"'1-Award Info'!$C$22","v":"00:00:00"},null,null,null,0]
[{"$f":"\"00\"&'1-Award Info'!$G$6","v":"00"},{"$f":"'AC10.1-P'!$A$27","v":""},"A","AM",null,null,62,{"$f":"'1-Award Info'!$C$22","v":"00:00:00"},null,null,null,0]
[{"$f":"\"00\"&'1-Award Info'!$G$6","v":"00"},{"$f":"'AC10.1-P'!$A$27","v":""},"A","AP",null,null,62,{"$f":"'1-Award Info'!$C$22","v":"00:00:00"},null,null,null,0]
[{"$f":"\"00\"&'1-Award Info'!$G$6","v":"00"},{"$f":"'AC10.1-P'!$A$27","v":""},"A","AR",null,null,120,{"$f":"'1-Award Info'!$C$22","v":"00:00:00"},null,null,null,0]
[{"$f":"\"00\"&'1-Award Info'!$G$6","v":"00"},{"$f":"'AC10.1-P'!$A$27","v":""},"A","CB",null,null,180,{"$f":"'1-Award Info'!$C$22","v":"00:00:00"},null,null,null,0]
[{"$f":"\"00\"&'1-Award Info'!$G$6","v":"00"},{"$f":"'AC10.1-P'!$A$27","v":""},"A","GL",null,null,90,{"$f":"'1-Award Info'!$C$22","v":"00:00:00"},null,null,null,0]
[{"$f":"\"00\"&'1-Award Info'!$G$6","v":"00"},{"$f":"'AC10.1-P'!$A$27","v":""},"A","GM",null,null,90,{"$f":"'1-Award Info'!$C$22","v":"00:00:00"},null,null,null,0]
[{"$f":"\"00\"&'1-Award Info'!$G$6","v":"00"},{"$f":"'AC10.1-P'!$A$27","v":""},"A","PR",62,{"$f":"'1-Award Info'!$C$21","v":"00:00:00"},62,{"$f":"'1-Award Info'!$C$22","v":"00:00:00"},null,null,null,0]
[{"$f":"\"00\"&'1-Award Info'!$G$6","v":"00"},{"$f":"'AC10.1-P'!$A$27","v":""},"A","PO",null,null,90,{"$f":"'1-Award Info'!$C$22","v":"00:00:00"},null,null,null,0]
[{"$f":"\"00\"&'1-Award Info'!$G$6","v":"00"},{"$f":"'AC10.1-P'!$A$27","v":""},"A","CS",null,null,90,{"$f":"'1-Award Info'!$C$22","v":"00:00:00"},null,null,null,0]
[{"$f":"\"00\"&'1-Award Info'!$G$6","v":"00"},{"$f":"'AC10.1-P'!$A$28","v":""},"A","AC",null,null,90,{"$f":"'1-Award Info'!$C$22","v":"00:00:00"},null,null,null,0]
[{"$f":"\"00\"&'1-Award Info'!$G$6","v":"00"},{"$f":"'AC10.1-P'!$A$28","v":""},"A","AM",null,null,62,{"$f":"'1-Award Info'!$C$22","v":"00:00:00"},null,null,null,0]
[{"$f":"\"00\"&'1-Award Info'!$G$6","v":"00"},{"$f":"'AC10.1-P'!$A$28","v":""},"A","AP",null,null,62,{"$f":"'1-Award Info'!$C$22","v":"00:00:00"},null,null,null,0]
[{"$f":"\"00\"&'1-Award Info'!$G$6","v":"00"},{"$f":"'AC10.1-P'!$A$28","v":""},"A","AR",null,null,120,{"$f":"'1-Award Info'!$C$22","v":"00:00:00"},null,null,null,0]
[{"$f":"\"00\"&'1-Award Info'!$G$6","v":"00"},{"$f":"'AC10.1-P'!$A$28","v":""},"A","CB",null,null,180,{"$f":"'1-Award Info'!$C$22","v":"00:00:00"},null,null,null,0]
[{"$f":"\"00\"&'1-Award Info'!$G$6","v":"00"},{"$f":"'AC10.1-P'!$A$28","v":""},"A","GL",null,null,90,{"$f":"'1-Award Info'!$C$22","v":"00:00:00"},null,null,null,0]
[{"$f":"\"00\"&'1-Award Info'!$G$6","v":"00"},{"$f":"'AC10.1-P'!$A$28","v":""},"A","GM",null,null,90,{"$f":"'1-Award Info'!$C$22","v":"00:00:00"},null,null,null,0]
[{"$f":"\"00\"&'1-Award Info'!$G$6","v":"00"},{"$f":"'AC10.1-P'!$A$28","v":""},"A","PR",62,{"$f":"'1-Award Info'!$C$21","v":"00:00:00"},62,{"$f":"'1-Award Info'!$C$22","v":"00:00:00"},null,null,null,0]
[{"$f":"\"00\"&'1-Award Info'!$G$6","v":"00"},{"$f":"'AC10.1-P'!$A$28","v":""},"A","PO",null,null,90,{"$f":"'1-Award Info'!$C$22","v":"00:00:00"},null,null,null,0]
[{"$f":"\"00\"&'1-Award Info'!$G$6","v":"00"},{"$f":"'AC10.1-P'!$A$28","v":""},"A","CS",null,null,90,{"$f":"'1-Award Info'!$C$22","v":"00:00:00"},null,null,null,0]
[{"$f":"\"00\"&'1-Award Info'!$G$6","v":"00"},{"$f":"'AC10.1-P'!$A$29","v":""},"A","AC",null,null,90,{"$f":"'1-Award Info'!$C$22","v":"00:00:00"},null,null,null,0]
[{"$f":"\"00\"&'1-Award Info'!$G$6","v":"00"},{"$f":"'AC10.1-P'!$A$29","v":""},"A","AM",null,null,62,{"$f":"'1-Award Info'!$C$22","v":"00:00:00"},null,null,null,0]
[{"$f":"\"00\"&'1-Award Info'!$G$6","v":"00"},{"$f":"'AC10.1-P'!$A$29","v":""},"A","AP",null,null,62,{"$f":"'1-Award Info'!$C$22","v":"00:00:00"},null,null,null,0]
[{"$f":"\"00\"&'1-Award Info'!$G$6","v":"00"},{"$f":"'AC10.1-P'!$A$29","v":""},"A","AR",null,null,120,{"$f":"'1-Award Info'!$C$22","v":"00:00:00"},null,null,null,0]
[{"$f":"\"00\"&'1-Award Info'!$G$6","v":"00"},{"$f":"'AC10.1-P'!$A$29","v":""},"A","CB",null,null,180,{"$f":"'1-Award Info'!$C$22","v":"00:00:00"},null,null,null,0]
[{"$f":"\"00\"&'1-Award Info'!$G$6","v":"00"},{"$f":"'AC10.1-P'!$A$29","v":""},"A","GL",null,null,90,{"$f":"'1-Award Info'!$C$22","v":"00:00:00"},null,null,null,0]
[{"$f":"\"00\"&'1-Award Info'!$G$6","v":"00"},{"$f":"'AC10.1-P'!$A$29","v":""},"A","GM",null,null,90,{"$f":"'1-Award Info'!$C$22","v":"00:00:00"},null,null,null,0]
[{"$f":"\"00\"&'1-Award Info'!$G$6","v":"00"},{"$f":"'AC10.1-P'!$A$29","v":""},"A","PR",62,{"$f":"'1-Award Info'!$C$21","v":"00:00:00"},62,{"$f":"'1-Award Info'!$C$22","v":"00:00:00"},null,null,null,{"$f":"IF(LEN(B262)>0,1,0)","v":0}]
[{"$f":"\"00\"&'1-Award Info'!$G$6","v":"00"},{"$f":"'AC10.1-P'!$A$29","v":""},"A","PO",null,null,90,{"$f":"'1-Award Info'!$C$22","v":"00:00:00"},null,null,null,0]
[{"$f":"\"00\"&'1-Award Info'!$G$6","v":"00"},{"$f":"'AC10.1-P'!$A$29","v":""},"A","CS",null,null,90,{"$f":"'1-Award Info'!$C$22","v":"00:00:00"},null,null,null,0]
[{"$f":"\"00\"&'1-Award Info'!$G$6","v":"00"},{"$f":"'AC10.1-P'!$A$30","v":""},"A","AC",null,null,90,{"$f":"'1-Award Info'!$C$22","v":"00:00:00"},null,null,null,0]
[{"$f":"\"00\"&'1-Award Info'!$G$6","v":"00"},{"$f":"'AC10.1-P'!$A$30","v":""},"A","AM",null,null,62,{"$f":"'1-Award Info'!$C$22","v":"00:00:00"},null,null,null,0]
[{"$f":"\"00\"&'1-Award Info'!$G$6","v":"00"},{"$f":"'AC10.1-P'!$A$30","v":""},"A","AP",null,null,62,{"$f":"'1-Award Info'!$C$22","v":"00:00:00"},null,null,null,0]
[{"$f":"\"00\"&'1-Award Info'!$G$6","v":"00"},{"$f":"'AC10.1-P'!$A$30","v":""},"A","AR",null,null,120,{"$f":"'1-Award Info'!$C$22","v":"00:00:00"},null,null,null,0]
[{"$f":"\"00\"&'1-Award Info'!$G$6","v":"00"},{"$f":"'AC10.1-P'!$A$30","v":""},"A","CB",null,null,180,{"$f":"'1-Award Info'!$C$22","v":"00:00:00"},null,null,null,0]
[{"$f":"\"00\"&'1-Award Info'!$G$6","v":"00"},{"$f":"'AC10.1-P'!$A$30","v":""},"A","GL",null,null,90,{"$f":"'1-Award Info'!$C$22","v":"00:00:00"},null,null,null,0]
[{"$f":"\"00\"&'1-Award Info'!$G$6","v":"00"},{"$f":"'AC10.1-P'!$A$30","v":""},"A","GM",null,null,90,{"$f":"'1-Award Info'!$C$22","v":"00:00:00"},null,null,null,0]
[{"$f":"\"00\"&'1-Award Info'!$G$6","v":"00"},{"$f":"'AC10.1-P'!$A$30","v":""},"A","PR",62,{"$f":"'1-Award Info'!$C$21","v":"00:00:00"},62,{"$f":"'1-Award Info'!$C$22","v":"00:00:00"},null,null,null,0]
[{"$f":"\"00\"&'1-Award Info'!$G$6","v":"00"},{"$f":"'AC10.1-P'!$A$30","v":""},"A","PO",null,null,90,{"$f":"'1-Award Info'!$C$22","v":"00:00:00"},null,null,null,0]
[{"$f":"\"00\"&'1-Award Info'!$G$6","v":"00"},{"$f":"'AC10.1-P'!$A$30","v":""},"A","CS",null,null,90,{"$f":"'1-Award Info'!$C$22","v":"00:00:00"},null,null,null,0]
[{"$f":"\"00\"&'1-Award Info'!$G$6","v":"00"},{"$f":"'AC10.1-P'!$A$31","v":""},"A","AC",null,null,90,{"$f":"'1-Award Info'!$C$22","v":"00:00:00"},null,null,null,0]
[{"$f":"\"00\"&'1-Award Info'!$G$6","v":"00"},{"$f":"'AC10.1-P'!$A$31","v":""},"A","AM",null,null,62,{"$f":"'1-Award Info'!$C$22","v":"00:00:00"},null,null,null,0]
[{"$f":"\"00\"&'1-Award Info'!$G$6","v":"00"},{"$f":"'AC10.1-P'!$A$31","v":""},"A","AP",null,null,62,{"$f":"'1-Award Info'!$C$22","v":"00:00:00"},null,null,null,0]
[{"$f":"\"00\"&'1-Award Info'!$G$6","v":"00"},{"$f":"'AC10.1-P'!$A$31","v":""},"A","AR",null,null,120,{"$f":"'1-Award Info'!$C$22","v":"00:00:00"},null,null,null,0]
[{"$f":"\"00\"&'1-Award Info'!$G$6","v":"00"},{"$f":"'AC10.1-P'!$A$31","v":""},"A","CB",null,null,180,{"$f":"'1-Award Info'!$C$22","v":"00:00:00"},null,null,null,0]
[{"$f":"\"00\"&'1-Award Info'!$G$6","v":"00"},{"$f":"'AC10.1-P'!$A$31","v":""},"A","GL",null,null,90,{"$f":"'1-Award Info'!$C$22","v":"00:00:00"},null,null,null,0]
[{"$f":"\"00\"&'1-Award Info'!$G$6","v":"00"},{"$f":"'AC10.1-P'!$A$31","v":""},"A","GM",null,null,90,{"$f":"'1-Award Info'!$C$22","v":"00:00:00"},null,null,null,0]
[{"$f":"\"00\"&'1-Award Info'!$G$6","v":"00"},{"$f":"'AC10.1-P'!$A$31","v":""},"A","PR",62,{"$f":"'1-Award Info'!$C$21","v":"00:00:00"},62,{"$f":"'1-Award Info'!$C$22","v":"00:00:00"},null,null,null,0]
[{"$f":"\"00\"&'1-Award Info'!$G$6","v":"00"},{"$f":"'AC10.1-P'!$A$31","v":""},"A","PO",null,null,90,{"$f":"'1-Award Info'!$C$22","v":"00:00:00"},null,null,null,0]
[{"$f":"\"00\"&'1-Award Info'!$G$6","v":"00"},{"$f":"'AC10.1-P'!$A$31","v":""},"A","CS",null,null,90,{"$f":"'1-Award Info'!$C$22","v":"00:00:00"},null,null,null,0]
[{"$f":"\"00\"&'1-Award Info'!$G$6","v":"00"},{"$f":"'AC10.1-P'!$A$32","v":""},"A","AC",null,null,90,{"$f":"'1-Award Info'!$C$22","v":"00:00:00"},null,null,null,0]
[{"$f":"\"00\"&'1-Award Info'!$G$6","v":"00"},{"$f":"'AC10.1-P'!$A$32","v":""},"A","AM",null,null,62,{"$f":"'1-Award Info'!$C$22","v":"00:00:00"},null,null,null,0]
[{"$f":"\"00\"&'1-Award Info'!$G$6","v":"00"},{"$f":"'AC10.1-P'!$A$32","v":""},"A","AP",null,null,62,{"$f":"'1-Award Info'!$C$22","v":"00:00:00"},null,null,null,0]
[{"$f":"\"00\"&'1-Award Info'!$G$6","v":"00"},{"$f":"'AC10.1-P'!$A$32","v":""},"A","AR",null,null,120,{"$f":"'1-Award Info'!$C$22","v":"00:00:00"},null,null,null,0]
[{"$f":"\"00\"&'1-Award Info'!$G$6","v":"00"},{"$f":"'AC10.1-P'!$A$32","v":""},"A","CB",null,null,180,{"$f":"'1-Award Info'!$C$22","v":"00:00:00"},null,null,null,0]
[{"$f":"\"00\"&'1-Award Info'!$G$6","v":"00"},{"$f":"'AC10.1-P'!$A$32","v":""},"A","GL",null,null,90,{"$f":"'1-Award Info'!$C$22","v":"00:00:00"},null,null,null,0]
[{"$f":"\"00\"&'1-Award Info'!$G$6","v":"00"},{"$f":"'AC10.1-P'!$A$32","v":""},"A","GM",null,null,90,{"$f":"'1-Award Info'!$C$22","v":"00:00:00"},null,null,null,0]
[{"$f":"\"00\"&'1-Award Info'!$G$6","v":"00"},{"$f":"'AC10.1-P'!$A$32","v":""},"A","PR",62,{"$f":"'1-Award Info'!$C$21","v":"00:00:00"},62,{"$f":"'1-Award Info'!$C$22","v":"00:00:00"},null,null,null,0]
[{"$f":"\"00\"&'1-Award Info'!$G$6","v":"00"},{"$f":"'AC10.1-P'!$A$32","v":""},"A","PO",null,null,90,{"$f":"'1-Award Info'!$C$22","v":"00:00:00"},null,null,null,0]
[{"$f":"\"00\"&'1-Award Info'!$G$6","v":"00"},{"$f":"'AC10.1-P'!$A$32","v":""},"A","CS",null,null,90,{"$f":"'1-Award Info'!$C$22","v":"00:00:00"},null,null,null,0]
[{"$f":"\"00\"&'1-Award Info'!$G$6","v":"00"},{"$f":"'AC10.1-P'!$A$33","v":""},"A","AC",null,null,90,{"$f":"'1-Award Info'!$C$22","v":"00:00:00"},null,null,null,0]
[{"$f":"\"00\"&'1-Award Info'!$G$6","v":"00"},{"$f":"'AC10.1-P'!$A$33","v":""},"A","AM",null,null,62,{"$f":"'1-Award Info'!$C$22","v":"00:00:00"},null,null,null,0]
[{"$f":"\"00\"&'1-Award Info'!$G$6","v":"00"},{"$f":"'AC10.1-P'!$A$33","v":""},"A","AP",null,null,62,{"$f":"'1-Award Info'!$C$22","v":"00:00:00"},null,null,null,0]
[{"$f":"\"00\"&'1-Award Info'!$G$6","v":"00"},{"$f":"'AC10.1-P'!$A$33","v":""},"A","AR",null,null,120,{"$f":"'1-Award Info'!$C$22","v":"00:00:00"},null,null,null,0]
[{"$f":"\"00\"&'1-Award Info'!$G$6","v":"00"},{"$f":"'AC10.1-P'!$A$33","v":""},"A","CB",null,null,180,{"$f":"'1-Award Info'!$C$22","v":"00:00:00"},null,null,null,0]
[{"$f":"\"00\"&'1-Award Info'!$G$6","v":"00"},{"$f":"'AC10.1-P'!$A$33","v":""},"A","GL",null,null,90,{"$f":"'1-Award Info'!$C$22","v":"00:00:00"},null,null,null,0]
[{"$f":"\"00\"&'1-Award Info'!$G$6","v":"00"},{"$f":"'AC10.1-P'!$A$33","v":""},"A","GM",null,null,90,{"$f":"'1-Award Info'!$C$22","v":"00:00:00"},null,null,null,0]
[{"$f":"\"00\"&'1-Award Info'!$G$6","v":"00"},{"$f":"'AC10.1-P'!$A$33","v":""},"A","PR",62,{"$f":"'1-Award Info'!$C$21","v":"00:00:00"},62,{"$f":"'1-Award Info'!$C$22","v":"00:00:00"},null,null,null,0]
[{"$f":"\"00\"&'1-Award Info'!$G$6","v":"00"},{"$f":"'AC10.1-P'!$A$33","v":""},"A","PO",null,null,90,{"$f":"'1-Award Info'!$C$22","v":"00:00:00"},null,null,null,0]
[{"$f":"\"00\"&'1-Award Info'!$G$6","v":"00"},{"$f":"'AC10.1-P'!$A$33","v":""},"A","CS",null,null,90,{"$f":"'1-Award Info'!$C$22","v":"00:00:00"},null,null,null,0]
[{"$f":"\"00\"&'1-Award Info'!$G$6","v":"00"},{"$f":"'AC10.1-P'!$A$34","v":""},"A","AC",null,null,90,{"$f":"'1-Award Info'!$C$22","v":"00:00:00"},null,null,null,0]
[{"$f":"\"00\"&'1-Award Info'!$G$6","v":"00"},{"$f":"'AC10.1-P'!$A$34","v":""},"A","AM",null,null,62,{"$f":"'1-Award Info'!$C$22","v":"00:00:00"},null,null,null,0]
[{"$f":"\"00\"&'1-Award Info'!$G$6","v":"00"},{"$f":"'AC10.1-P'!$A$34","v":""},"A","AP",null,null,62,{"$f":"'1-Award Info'!$C$22","v":"00:00:00"},null,null,null,0]
[{"$f":"\"00\"&'1-Award Info'!$G$6","v":"00"},{"$f":"'AC10.1-P'!$A$34","v":""},"A","AR",null,null,120,{"$f":"'1-Award Info'!$C$22","v":"00:00:00"},null,null,null,0]
[{"$f":"\"00\"&'1-Award Info'!$G$6","v":"00"},{"$f":"'AC10.1-P'!$A$34","v":""},"A","CB",null,null,180,{"$f":"'1-Award Info'!$C$22","v":"00:00:00"},null,null,null,0]
[{"$f":"\"00\"&'1-Award Info'!$G$6","v":"00"},{"$f":"'AC10.1-P'!$A$34","v":""},"A","GL",null,null,90,{"$f":"'1-Award Info'!$C$22","v":"00:00:00"},null,null,null,0]
[{"$f":"\"00\"&'1-Award Info'!$G$6","v":"00"},{"$f":"'AC10.1-P'!$A$34","v":""},"A","GM",null,null,90,{"$f":"'1-Award Info'!$C$22","v":"00:00:00"},null,null,null,0]
[{"$f":"\"00\"&'1-Award Info'!$G$6","v":"00"},{"$f":"'AC10.1-P'!$A$34","v":""},"A","PR",62,{"$f":"'1-Award Info'!$C$21","v":"00:00:00"},62,{"$f":"'1-Award Info'!$C$22","v":"00:00:00"},null,null,null,0]
[{"$f":"\"00\"&'1-Award Info'!$G$6","v":"00"},{"$f":"'AC10.1-P'!$A$34","v":""},"A","PO",null,null,90,{"$f":"'1-Award Info'!$C$22","v":"00:00:00"},null,null,null,0]
[{"$f":"\"00\"&'1-Award Info'!$G$6","v":"00"},{"$f":"'AC10.1-P'!$A$34","v":""},"A","CS",null,null,90,{"$f":"'1-Award Info'!$C$22","v":"00:00:00"},null,null,null,0]
[{"$f":"\"00\"&'1-Award Info'!$G$6","v":"00"},{"$f":"'AC10.1-P'!$A$35","v":""},"A","AC",null,null,90,{"$f":"'1-Award Info'!$C$22","v":"00:00:00"},null,null,null,0]
[{"$f":"\"00\"&'1-Award Info'!$G$6","v":"00"},{"$f":"'AC10.1-P'!$A$35","v":""},"A","AM",null,null,62,{"$f":"'1-Award Info'!$C$22","v":"00:00:00"},null,null,null,0]
[{"$f":"\"00\"&'1-Award Info'!$G$6","v":"00"},{"$f":"'AC10.1-P'!$A$35","v":""},"A","AP",null,null,62,{"$f":"'1-Award Info'!$C$22","v":"00:00:00"},null,null,null,0]
[{"$f":"\"00\"&'1-Award Info'!$G$6","v":"00"},{"$f":"'AC10.1-P'!$A$35","v":""},"A","AR",null,null,120,{"$f":"'1-Award Info'!$C$22","v":"00:00:00"},null,null,null,0]
[{"$f":"\"00\"&'1-Award Info'!$G$6","v":"00"},{"$f":"'AC10.1-P'!$A$35","v":""},"A","CB",null,null,180,{"$f":"'1-Award Info'!$C$22","v":"00:00:00"},null,null,null,0]
[{"$f":"\"00\"&'1-Award Info'!$G$6","v":"00"},{"$f":"'AC10.1-P'!$A$35","v":""},"A","GL",null,null,90,{"$f":"'1-Award Info'!$C$22","v":"00:00:00"},null,null,null,0]
[{"$f":"\"00\"&'1-Award Info'!$G$6","v":"00"},{"$f":"'AC10.1-P'!$A$35","v":""},"A","GM",null,null,90,{"$f":"'1-Award Info'!$C$22","v":"00:00:00"},null,null,null,0]
[{"$f":"\"00\"&'1-Award Info'!$G$6","v":"00"},{"$f":"'AC10.1-P'!$A$35","v":""},"A","PR",62,{"$f":"'1-Award Info'!$C$21","v":"00:00:00"},62,{"$f":"'1-Award Info'!$C$22","v":"00:00:00"},null,null,null,0]
[{"$f":"\"00\"&'1-Award Info'!$G$6","v":"00"},{"$f":"'AC10.1-P'!$A$35","v":""},"A","PO",null,null,90,{"$f":"'1-Award Info'!$C$22","v":"00:00:00"},null,null,null,0]
[{"$f":"\"00\"&'1-Award Info'!$G$6","v":"00"},{"$f":"'AC10.1-P'!$A$35","v":""},"A","CS",null,null,90,{"$f":"'1-Award Info'!$C$22","v":"00:00:00"},null,null,null,0]
[{"$f":"\"00\"&'1-Award Info'!$G$6","v":"00"},{"$f":"'AC10.1-P'!$A$36","v":""},"A","AC",null,null,90,{"$f":"'1-Award Info'!$C$22","v":"00:00:00"},null,null,null,0]
[{"$f":"\"00\"&'1-Award Info'!$G$6","v":"00"},{"$f":"'AC10.1-P'!$A$36","v":""},"A","AM",null,null,62,{"$f":"'1-Award Info'!$C$22","v":"00:00:00"},null,null,null,{"$f":"IF(LEN(B326)>0,1,0)","v":0}]
[{"$f":"\"00\"&'1-Award Info'!$G$6","v":"00"},{"$f":"'AC10.1-P'!$A$36","v":""},"A","AP",null,null,62,{"$f":"'1-Award Info'!$C$22","v":"00:00:00"},null,null,null,0]
[{"$f":"\"00\"&'1-Award Info'!$G$6","v":"00"},{"$f":"'AC10.1-P'!$A$36","v":""},"A","AR",null,null,120,{"$f":"'1-Award Info'!$C$22","v":"00:00:00"},null,null,null,0]
[{"$f":"\"00\"&'1-Award Info'!$G$6","v":"00"},{"$f":"'AC10.1-P'!$A$36","v":""},"A","CB",null,null,180,{"$f":"'1-Award Info'!$C$22","v":"00:00:00"},null,null,null,0]
[{"$f":"\"00\"&'1-Award Info'!$G$6","v":"00"},{"$f":"'AC10.1-P'!$A$36","v":""},"A","GL",null,null,90,{"$f":"'1-Award Info'!$C$22","v":"00:00:00"},null,null,null,0]
[{"$f":"\"00\"&'1-Award Info'!$G$6","v":"00"},{"$f":"'AC10.1-P'!$A$36","v":""},"A","GM",null,null,90,{"$f":"'1-Award Info'!$C$22","v":"00:00:00"},null,null,null,0]
[{"$f":"\"00\"&'1-Award Info'!$G$6","v":"00"},{"$f":"'AC10.1-P'!$A$36","v":""},"A","PR",62,{"$f":"'1-Award Info'!$C$21","v":"00:00:00"},62,{"$f":"'1-Award Info'!$C$22","v":"00:00:00"},null,null,null,0]
[{"$f":"\"00\"&'1-Award Info'!$G$6","v":"00"},{"$f":"'AC10.1-P'!$A$36","v":""},"A","PO",null,null,90,{"$f":"'1-Award Info'!$C$22","v":"00:00:00"},null,null,null,0]
[{"$f":"\"00\"&'1-Award Info'!$G$6","v":"00"},{"$f":"'AC10.1-P'!$A$36","v":""},"A","CS",null,null,90,{"$f":"'1-Award Info'!$C$22","v":"00:00:00"},null,null,null,0]
[{"$f":"\"00\"&'1-Award Info'!$G$6","v":"00"},{"$f":"'AC10.1-P'!$A$37","v":""},"A","AC",null,null,90,{"$f":"'1-Award Info'!$C$22","v":"00:00:00"},null,null,null,0]
[{"$f":"\"00\"&'1-Award Info'!$G$6","v":"00"},{"$f":"'AC10.1-P'!$A$37","v":""},"A","AM",null,null,62,{"$f":"'1-Award Info'!$C$22","v":"00:00:00"},null,null,null,0]
[{"$f":"\"00\"&'1-Award Info'!$G$6","v":"00"},{"$f":"'AC10.1-P'!$A$37","v":""},"A","AP",null,null,62,{"$f":"'1-Award Info'!$C$22","v":"00:00:00"},null,null,null,0]
[{"$f":"\"00\"&'1-Award Info'!$G$6","v":"00"},{"$f":"'AC10.1-P'!$A$37","v":""},"A","AR",null,null,120,{"$f":"'1-Award Info'!$C$22","v":"00:00:00"},null,null,null,0]
[{"$f":"\"00\"&'1-Award Info'!$G$6","v":"00"},{"$f":"'AC10.1-P'!$A$37","v":""},"A","CB",null,null,180,{"$f":"'1-Award Info'!$C$22","v":"00:00:00"},null,null,null,0]
[{"$f":"\"00\"&'1-Award Info'!$G$6","v":"00"},{"$f":"'AC10.1-P'!$A$37","v":""},"A","GL",null,null,90,{"$f":"'1-Award Info'!$C$22","v":"00:00:00"},null,null,null,0]
[{"$f":"\"00\"&'1-Award Info'!$G$6","v":"00"},{"$f":"'AC10.1-P'!$A$37","v":""},"A","GM",null,null,90,{"$f":"'1-Award Info'!$C$22","v":"00:00:00"},null,null,null,0]
[{"$f":"\"00\"&'1-Award Info'!$G$6","v":"00"},{"$f":"'AC10.1-P'!$A$37","v":""},"A","PR",62,{"$f":"'1-Award Info'!$C$21","v":"00:00:00"},62,{"$f":"'1-Award Info'!$C$22","v":"00:00:00"},null,null,null,0]
[{"$f":"\"00\"&'1-Award Info'!$G$6","v":"00"},{"$f":"'AC10.1-P'!$A$37","v":""},"A","PO",null,null,90,{"$f":"'1-Award Info'!$C$22","v":"00:00:00"},null,null,null,0]
[{"$f":"\"00\"&'1-Award Info'!$G$6","v":"00"},{"$f":"'AC10.1-P'!$A$37","v":""},"A","CS",null,null,90,{"$f":"'1-Award Info'!$C$22","v":"00:00:00"},null,null,null,0]
[{"$f":"\"00\"&'1-Award Info'!$G$6","v":"00"},{"$f":"'AC10.1-P'!$A$38","v":""},"A","AC",null,null,90,{"$f":"'1-Award Info'!$C$22","v":"00:00:00"},null,null,null,0]
[{"$f":"\"00\"&'1-Award Info'!$G$6","v":"00"},{"$f":"'AC10.1-P'!$A$38","v":""},"A","AM",null,null,62,{"$f":"'1-Award Info'!$C$22","v":"00:00:00"},null,null,null,0]
[{"$f":"\"00\"&'1-Award Info'!$G$6","v":"00"},{"$f":"'AC10.1-P'!$A$38","v":""},"A","AP",null,null,62,{"$f":"'1-Award Info'!$C$22","v":"00:00:00"},null,null,null,0]
[{"$f":"\"00\"&'1-Award Info'!$G$6","v":"00"},{"$f":"'AC10.1-P'!$A$38","v":""},"A","AR",null,null,120,{"$f":"'1-Award Info'!$C$22","v":"00:00:00"},null,null,null,0]
[{"$f":"\"00\"&'1-Award Info'!$G$6","v":"00"},{"$f":"'AC10.1-P'!$A$38","v":""},"A","CB",null,null,180,{"$f":"'1-Award Info'!$C$22","v":"00:00:00"},null,null,null,0]
[{"$f":"\"00\"&'1-Award Info'!$G$6","v":"00"},{"$f":"'AC10.1-P'!$A$38","v":""},"A","GL",null,null,90,{"$f":"'1-Award Info'!$C$22","v":"00:00:00"},null,null,null,0]
[{"$f":"\"00\"&'1-Award Info'!$G$6","v":"00"},{"$f":"'AC10.1-P'!$A$38","v":""},"A","GM",null,null,90,{"$f":"'1-Award Info'!$C$22","v":"00:00:00"},null,null,null,0]
[{"$f":"\"00\"&'1-Award Info'!$G$6","v":"00"},{"$f":"'AC10.1-P'!$A$38","v":""},"A","PR",62,{"$f":"'1-Award Info'!$C$21","v":"00:00:00"},62,{"$f":"'1-Award Info'!$C$22","v":"00:00:00"},null,null,null,0]
[{"$f":"\"00\"&'1-Award Info'!$G$6","v":"00"},{"$f":"'AC10.1-P'!$A$38","v":""},"A","PO",null,null,90,{"$f":"'1-Award Info'!$C$22","v":"00:00:00"},null,null,null,0]
[{"$f":"\"00\"&'1-Award Info'!$G$6","v":"00"},{"$f":"'AC10.1-P'!$A$38","v":""},"A","CS",null,null,90,{"$f":"'1-Award Info'!$C$22","v":"00:00:00"},null,null,null,0]
[{"$f":"\"00\"&'1-Award Info'!$G$6","v":"00"},{"$f":"'AC10.1-P'!$A$39","v":""},"A","AC",null,null,90,{"$f":"'1-Award Info'!$C$22","v":"00:00:00"},null,null,null,0]
[{"$f":"\"00\"&'1-Award Info'!$G$6","v":"00"},{"$f":"'AC10.1-P'!$A$39","v":""},"A","AM",null,null,62,{"$f":"'1-Award Info'!$C$22","v":"00:00:00"},null,null,null,0]
[{"$f":"\"00\"&'1-Award Info'!$G$6","v":"00"},{"$f":"'AC10.1-P'!$A$39","v":""},"A","AP",null,null,62,{"$f":"'1-Award Info'!$C$22","v":"00:00:00"},null,null,null,0]
[{"$f":"\"00\"&'1-Award Info'!$G$6","v":"00"},{"$f":"'AC10.1-P'!$A$39","v":""},"A","AR",null,null,120,{"$f":"'1-Award Info'!$C$22","v":"00:00:00"},null,null,null,0]
[{"$f":"\"00\"&'1-Award Info'!$G$6","v":"00"},{"$f":"'AC10.1-P'!$A$39","v":""},"A","CB",null,null,180,{"$f":"'1-Award Info'!$C$22","v":"00:00:00"},null,null,null,0]
[{"$f":"\"00\"&'1-Award Info'!$G$6","v":"00"},{"$f":"'AC10.1-P'!$A$39","v":""},"A","GL",null,null,90,{"$f":"'1-Award Info'!$C$22","v":"00:00:00"},null,null,null,0]
[{"$f":"\"00\"&'1-Award Info'!$G$6","v":"00"},{"$f":"'AC10.1-P'!$A$39","v":""},"A","GM",null,null,90,{"$f":"'1-Award Info'!$C$22","v":"00:00:00"},null,null,null,0]
[{"$f":"\"00\"&'1-Award Info'!$G$6","v":"00"},{"$f":"'AC10.1-P'!$A$39","v":""},"A","PR",62,{"$f":"'1-Award Info'!$C$21","v":"00:00:00"},62,{"$f":"'1-Award Info'!$C$22","v":"00:00:00"},null,null,null,0]
[{"$f":"\"00\"&'1-Award Info'!$G$6","v":"00"},{"$f":"'AC10.1-P'!$A$39","v":""},"A","PO",null,null,90,{"$f":"'1-Award Info'!$C$22","v":"00:00:00"},null,null,null,0]
[{"$f":"\"00\"&'1-Award Info'!$G$6","v":"00"},{"$f":"'AC10.1-P'!$A$39","v":""},"A","CS",null,null,90,{"$f":"'1-Award Info'!$C$22","v":"00:00:00"},null,null,null,0]
[{"$f":"\"00\"&'1-Award Info'!$G$6","v":"00"},{"$f":"'AC10.1-P'!$A$40","v":""},"A","AC",null,null,90,{"$f":"'1-Award Info'!$C$22","v":"00:00:00"},null,null,null,0]
[{"$f":"\"00\"&'1-Award Info'!$G$6","v":"00"},{"$f":"'AC10.1-P'!$A$40","v":""},"A","AM",null,null,62,{"$f":"'1-Award Info'!$C$22","v":"00:00:00"},null,null,null,0]
[{"$f":"\"00\"&'1-Award Info'!$G$6","v":"00"},{"$f":"'AC10.1-P'!$A$40","v":""},"A","AP",null,null,62,{"$f":"'1-Award Info'!$C$22","v":"00:00:00"},null,null,null,0]
[{"$f":"\"00\"&'1-Award Info'!$G$6","v":"00"},{"$f":"'AC10.1-P'!$A$40","v":""},"A","AR",null,null,120,{"$f":"'1-Award Info'!$C$22","v":"00:00:00"},null,null,null,0]
[{"$f":"\"00\"&'1-Award Info'!$G$6","v":"00"},{"$f":"'AC10.1-P'!$A$40","v":""},"A","CB",null,null,180,{"$f":"'1-Award Info'!$C$22","v":"00:00:00"},null,null,null,0]
[{"$f":"\"00\"&'1-Award Info'!$G$6","v":"00"},{"$f":"'AC10.1-P'!$A$40","v":""},"A","GL",null,null,90,{"$f":"'1-Award Info'!$C$22","v":"00:00:00"},null,null,null,0]
[{"$f":"\"00\"&'1-Award Info'!$G$6","v":"00"},{"$f":"'AC10.1-P'!$A$40","v":""},"A","GM",null,null,90,{"$f":"'1-Award Info'!$C$22","v":"00:00:00"},null,null,null,0]
[{"$f":"\"00\"&'1-Award Info'!$G$6","v":"00"},{"$f":"'AC10.1-P'!$A$40","v":""},"A","PR",62,{"$f":"'1-Award Info'!$C$21","v":"00:00:00"},62,{"$f":"'1-Award Info'!$C$22","v":"00:00:00"},null,null,null,0]
[{"$f":"\"00\"&'1-Award Info'!$G$6","v":"00"},{"$f":"'AC10.1-P'!$A$40","v":""},"A","PO",null,null,90,{"$f":"'1-Award Info'!$C$22","v":"00:00:00"},null,null,null,0]
[{"$f":"\"00\"&'1-Award Info'!$G$6","v":"00"},{"$f":"'AC10.1-P'!$A$40","v":""},"A","CS",null,null,90,{"$f":"'1-Award Info'!$C$22","v":"00:00:00"},null,null,null,0]
[{"$f":"\"00\"&'1-Award Info'!$G$6","v":"00"},{"$f":"'AC10.1-P'!$A$41","v":""},"A","AC",null,null,90,{"$f":"'1-Award Info'!$C$22","v":"00:00:00"},null,null,null,0]
[{"$f":"\"00\"&'1-Award Info'!$G$6","v":"00"},{"$f":"'AC10.1-P'!$A$41","v":""},"A","AM",null,null,62,{"$f":"'1-Award Info'!$C$22","v":"00:00:00"},null,null,null,0]
[{"$f":"\"00\"&'1-Award Info'!$G$6","v":"00"},{"$f":"'AC10.1-P'!$A$41","v":""},"A","AP",null,null,62,{"$f":"'1-Award Info'!$C$22","v":"00:00:00"},null,null,null,0]
[{"$f":"\"00\"&'1-Award Info'!$G$6","v":"00"},{"$f":"'AC10.1-P'!$A$41","v":""},"A","AR",null,null,120,{"$f":"'1-Award Info'!$C$22","v":"00:00:00"},null,null,null,0]
[{"$f":"\"00\"&'1-Award Info'!$G$6","v":"00"},{"$f":"'AC10.1-P'!$A$41","v":""},"A","CB",null,null,180,{"$f":"'1-Award Info'!$C$22","v":"00:00:00"},null,null,null,0]
[{"$f":"\"00\"&'1-Award Info'!$G$6","v":"00"},{"$f":"'AC10.1-P'!$A$41","v":""},"A","GL",null,null,90,{"$f":"'1-Award Info'!$C$22","v":"00:00:00"},null,null,null,0]
[{"$f":"\"00\"&'1-Award Info'!$G$6","v":"00"},{"$f":"'AC10.1-P'!$A$41","v":""},"A","GM",null,null,90,{"$f":"'1-Award Info'!$C$22","v":"00:00:00"},null,null,null,0]
[{"$f":"\"00\"&'1-Award Info'!$G$6","v":"00"},{"$f":"'AC10.1-P'!$A$41","v":""},"A","PR",62,{"$f":"'1-Award Info'!$C$21","v":"00:00:00"},62,{"$f":"'1-Award Info'!$C$22","v":"00:00:00"},null,null,null,0]
[{"$f":"\"00\"&'1-Award Info'!$G$6","v":"00"},{"$f":"'AC10.1-P'!$A$41","v":""},"A","PO",null,null,90,{"$f":"'1-Award Info'!$C$22","v":"00:00:00"},null,null,null,0]
[{"$f":"\"00\"&'1-Award Info'!$G$6","v":"00"},{"$f":"'AC10.1-P'!$A$41","v":""},"A","CS",null,null,90,{"$f":"'1-Award Info'!$C$22","v":"00:00:00"},null,null,null,0]

{"sheet":"AC13.1","index":6,"n_rows":122,"n_cols":7,"rows_kept":122,"cut":false,"hidden":true,"merged":[]}
[]
[null,null,null,null,null,"COUNT FOR MACRO",{"$f":"\"D\"&SUM(G5:G122)+4","v":"D6"}]
[]
["ACTIVITY","FC","MATRIX_CAT","MX_VALUE","Results from AC13.1",null,"COUNT FOR MACRO"]
[{"$f":"'1-Award Info'!G4","v":0},"A","RPTREQ","FINAL RPRT",null,null,{"$f":"IF(LEN(A5)>0,1,0)","v":1}]
[{"$f":"'AC10.1-P'!A5","v":"8000"},{"$f":"IF(A6=\"\",\"\",\"A\")","v":"A"},{"$f":"IF(A6=\"\",\"\",\"IDC\")","v":"IDC"},0,null,null,{"$f":"IF(LEN(A6)>0,1,0)","v":1}]
[{"$f":"'2-Grant Budget'!Z17","v":""},{"$f":"IF(A7=\"\",\"\",\"A\")","v":""},{"$f":"IF(A7=\"\",\"\",\"IDC\")","v":""},{"$f":"IF(RIGHT(A7,4)=\"2900\",0,IF(A7=\"\",\"\",'1-Award Info'!$C$24))","v":""},null,null,0]
[{"$f":"'2-Grant Budget'!Z18","v":""},{"$f":"IF(A8=\"\",\"\",\"A\")","v":""},{"$f":"IF(A8=\"\",\"\",\"IDC\")","v":""},{"$f":"IF(RIGHT(A8,4)=\"2900\",0,IF(A8=\"\",\"\",'1-Award Info'!$C$24))","v":""},null,null,0]
[{"$f":"'2-Grant Budget'!Z19","v":""},"","",{"$f":"IF(RIGHT(A9,4)=\"2900\",0,IF(A9=\"\",\"\",'1-Award Info'!$C$24))","v":""},null,null,0]
[{"$f":"'2-Grant Budget'!Z20","v":""},"","",{"$f":"IF(RIGHT(A10,4)=\"2900\",0,IF(A10=\"\",\"\",'1-Award Info'!$C$24))","v":""},null,null,0]
[{"$f":"'2-Grant Budget'!Z21","v":""},"","",{"$f":"IF(RIGHT(A11,4)=\"2900\",0,IF(A11=\"\",\"\",'1-Award Info'!$C$24))","v":""},null,null,0]
[{"$f":"'2-Grant Budget'!Z22","v":""},"","",{"$f":"IF(RIGHT(A12,4)=\"2900\",0,IF(A12=\"\",\"\",'1-Award Info'!$C$24))","v":""},null,null,0]
[{"$f":"'2-Grant Budget'!Z23","v":""},"","",{"$f":"IF(RIGHT(A13,4)=\"2900\",0,IF(A13=\"\",\"\",'1-Award Info'!$C$24))","v":""},null,null,0]
[{"$f":"'2-Grant Budget'!Z24","v":""},"","",{"$f":"IF(RIGHT(A14,4)=\"2900\",0,IF(A14=\"\",\"\",'1-Award Info'!$C$24))","v":""},null,null,0]
[{"$f":"'2-Grant Budget'!Z25","v":""},"","",{"$f":"IF(RIGHT(A15,4)=\"2900\",0,IF(A15=\"\",\"\",'1-Award Info'!$C$24))","v":""},null,null,0]
[{"$f":"'2-Grant Budget'!Z26","v":""},"","",{"$f":"IF(RIGHT(A16,4)=\"2900\",0,IF(A16=\"\",\"\",'1-Award Info'!$C$24))","v":""},null,null,0]
[{"$f":"'2-Grant Budget'!Z27","v":""},"","",{"$f":"IF(RIGHT(A17,4)=\"2900\",0,IF(A17=\"\",\"\",'1-Award Info'!$C$24))","v":""},null,null,0]
[{"$f":"'2-Grant Budget'!Z28","v":""},"","",{"$f":"IF(RIGHT(A18,4)=\"2900\",0,IF(A18=\"\",\"\",'1-Award Info'!$C$24))","v":""},null,null,0]
[{"$f":"'2-Grant Budget'!Z29","v":""},"","",{"$f":"IF(RIGHT(A19,4)=\"2900\",0,IF(A19=\"\",\"\",'1-Award Info'!$C$24))","v":""},null,null,0]
[{"$f":"'2-Grant Budget'!Z30","v":""},"","",{"$f":"IF(RIGHT(A20,4)=\"2900\",0,IF(A20=\"\",\"\",'1-Award Info'!$C$24))","v":""},null,null,0]
[{"$f":"'2-Grant Budget'!Z31","v":""},"","",{"$f":"IF(RIGHT(A21,4)=\"2900\",0,IF(A21=\"\",\"\",'1-Award Info'!$C$24))","v":""},null,null,0]
[{"$f":"'2-Grant Budget'!Z32","v":""},"","",{"$f":"IF(RIGHT(A22,4)=\"2900\",0,IF(A22=\"\",\"\",'1-Award Info'!$C$24))","v":""},null,null,0]
[{"$f":"'2-Grant Budget'!Z33","v":""},"","",{"$f":"IF(RIGHT(A23,4)=\"2900\",0,IF(A23=\"\",\"\",'1-Award Info'!$C$24))","v":""},null,null,0]
[{"$f":"'2-Grant Budget'!Z34","v":""},"","",{"$f":"IF(RIGHT(A24,4)=\"2900\",0,IF(A24=\"\",\"\",'1-Award Info'!$C$24))","v":""},null,null,0]
[{"$f":"'2-Grant Budget'!Z35","v":""},"","",{"$f":"IF(RIGHT(A25,4)=\"2900\",0,IF(A25=\"\",\"\",'1-Award Info'!$C$24))","v":""},null,null,0]
[{"$f":"'2-Grant Budget'!Z36","v":""},"","",{"$f":"IF(RIGHT(A26,4)=\"2900\",0,IF(A26=\"\",\"\",'1-Award Info'!$C$24))","v":""},null,null,0]
[{"$f":"'2-Grant Budget'!Z37","v":""},"","",{"$f":"IF(RIGHT(A27,4)=\"2900\",0,IF(A27=\"\",\"\",'1-Award Info'!$C$24))","v":""},null,null,0]
[{"$f":"'2-Grant Budget'!Z38","v":""},"","",{"$f":"IF(RIGHT(A28,4)=\"2900\",0,IF(A28=\"\",\"\",'1-Award Info'!$C$24))","v":""},null,null,0]
[{"$f":"'2-Grant Budget'!Z39","v":""},"","",{"$f":"IF(RIGHT(A29,4)=\"2900\",0,IF(A29=\"\",\"\",'1-Award Info'!$C$24))","v":""},null,null,0]
[{"$f":"'2-Grant Budget'!Z40","v":""},"","",{"$f":"IF(RIGHT(A30,4)=\"2900\",0,IF(A30=\"\",\"\",'1-Award Info'!$C$24))","v":""},null,null,0]
[{"$f":"'2-Grant Budget'!Z41","v":""},{"$f":"IF(A31=\"\",\"\",\"A\")","v":""},{"$f":"IF(A31=\"\",\"\",\"IDC\")","v":""},{"$f":"IF(RIGHT(A31,4)=\"2900\",0,IF(A31=\"\",\"\",'1-Award Info'!$C$24))","v":""},null,null,0]
[{"$f":"'2-Grant Budget'!Z42","v":""},"","",{"$f":"IF(RIGHT(A32,4)=\"2900\",0,IF(A32=\"\",\"\",'1-Award Info'!$C$24))","v":""},null,null,0]
[{"$f":"'2-Grant Budget'!Z43","v":""},"","",{"$f":"IF(RIGHT(A33,4)=\"2900\",0,IF(A33=\"\",\"\",'1-Award Info'!$C$24))","v":""},null,null,0]
[{"$f":"'2-Grant Budget'!Z44","v":""},"","",{"$f":"IF(RIGHT(A34,4)=\"2900\",0,IF(A34=\"\",\"\",'1-Award Info'!$C$24))","v":""},null,null,0]
[{"$f":"'2-Grant Budget'!Z45","v":""},"","",{"$f":"IF(RIGHT(A35,4)=\"2900\",0,IF(A35=\"\",\"\",'1-Award Info'!$C$24))","v":""},null,null,0]
[{"$f":"'2-Grant Budget'!Z46","v":""},"","",{"$f":"IF(RIGHT(A36,4)=\"2900\",0,IF(A36=\"\",\"\",'1-Award Info'!$C$24))","v":""},null,null,0]
[{"$f":"'2-Grant Budget'!Z47","v":""},"","",{"$f":"IF(RIGHT(A37,4)=\"2900\",0,IF(A37=\"\",\"\",'1-Award Info'!$C$24))","v":""},null,null,0]
[{"$f":"'2-Grant Budget'!Z48","v":""},"","",{"$f":"IF(RIGHT(A38,4)=\"2900\",0,IF(A38=\"\",\"\",'1-Award Info'!$C$24))","v":""},null,null,0]
[{"$f":"'2-Grant Budget'!Z49","v":""},"","",{"$f":"IF(RIGHT(A39,4)=\"2900\",0,IF(A39=\"\",\"\",'1-Award Info'!$C$24))","v":""},null,null,0]
[{"$f":"'2-Grant Budget'!Z50","v":""},"","",{"$f":"IF(RIGHT(A40,4)=\"2900\",0,IF(A40=\"\",\"\",'1-Award Info'!$C$24))","v":""},null,null,0]
[{"$f":"'2-Grant Budget'!Z51","v":""},"","",{"$f":"IF(RIGHT(A41,4)=\"2900\",0,IF(A41=\"\",\"\",'1-Award Info'!$C$24))","v":""},null,null,0]
[{"$f":"'2-Grant Budget'!Z52","v":""},"","",{"$f":"IF(RIGHT(A42,4)=\"2900\",0,IF(A42=\"\",\"\",'1-Award Info'!$C$24))","v":""},null,null,0]
[{"$f":"'2-Grant Budget'!Z53","v":""},"","",{"$f":"IF(RIGHT(A43,4)=\"2900\",0,IF(A43=\"\",\"\",'1-Award Info'!$C$24))","v":""},null,null,0]
[{"$f":"'2-Grant Budget'!Z54","v":""},"","",{"$f":"IF(RIGHT(A44,4)=\"2900\",0,IF(A44=\"\",\"\",'1-Award Info'!$C$24))","v":""},null,null,0]
[{"$f":"'2-Grant Budget'!Z55","v":""},"","",{"$f":"IF(RIGHT(A45,4)=\"2900\",0,IF(A45=\"\",\"\",'1-Award Info'!$C$24))","v":""},null,null,0]
[{"$f":"'2-Grant Budget'!Z56","v":""},"","",{"$f":"IF(RIGHT(A46,4)=\"2900\",0,IF(A46=\"\",\"\",'1-Award Info'!$C$24))","v":""},null,null,0]
[{"$f":"'2-Grant Budget'!Z57","v":""},"","",{"$f":"IF(RIGHT(A47,4)=\"2900\",0,IF(A47=\"\",\"\",'1-Award Info'!$C$24))","v":""},null,null,0]
[{"$f":"'2-Grant Budget'!Z58","v":""},"","",{"$f":"IF(RIGHT(A48,4)=\"2900\",0,IF(A48=\"\",\"\",'1-Award Info'!$C$24))","v":""},null,null,0]
[{"$f":"'2-Grant Budget'!Z59","v":""},"","",{"$f":"IF(RIGHT(A49,4)=\"2900\",0,IF(A49=\"\",\"\",'1-Award Info'!$C$24))","v":""},null,null,0]
[{"$f":"'2-Grant Budget'!Z60","v":""},"","",{"$f":"IF(RIGHT(A50,4)=\"2900\",0,IF(A50=\"\",\"\",'1-Award Info'!$C$24))","v":""},null,null,0]
[{"$f":"'2-Grant Budget'!Z61","v":""},"","",{"$f":"IF(RIGHT(A51,4)=\"2900\",0,IF(A51=\"\",\"\",'1-Award Info'!$C$24))","v":""},null,null,0]
[{"$f":"'2-Grant Budget'!Z62","v":""},"","",{"$f":"IF(RIGHT(A52,4)=\"2900\",0,IF(A52=\"\",\"\",'1-Award Info'!$C$24))","v":""},null,null,0]
[{"$f":"'2-Grant Budget'!Z63","v":""},"","",{"$f":"IF(RIGHT(A53,4)=\"2900\",0,IF(A53=\"\",\"\",'1-Award Info'!$C$24))","v":""},null,null,0]
[{"$f":"'2-Grant Budget'!Z64","v":""},"","",{"$f":"IF(RIGHT(A54,4)=\"2900\",0,IF(A54=\"\",\"\",'1-Award Info'!$C$24))","v":""},null,null,0]
[{"$f":"'2-Grant Budget'!Z65","v":""},"","",{"$f":"IF(RIGHT(A55,4)=\"2900\",0,IF(A55=\"\",\"\",'1-Award Info'!$C$24))","v":""},null,null,0]
[{"$f":"'2-Grant Budget'!Z66","v":""},"","",{"$f":"IF(RIGHT(A56,4)=\"2900\",0,IF(A56=\"\",\"\",'1-Award Info'!$C$24))","v":""},null,null,0]
[{"$f":"'2-Grant Budget'!Z67","v":""},"","",{"$f":"IF(RIGHT(A57,4)=\"2900\",0,IF(A57=\"\",\"\",'1-Award Info'!$C$24))","v":""},null,null,0]
[{"$f":"'2-Grant Budget'!Z68","v":""},"","",{"$f":"IF(RIGHT(A58,4)=\"2900\",0,IF(A58=\"\",\"\",'1-Award Info'!$C$24))","v":""},null,null,0]
[{"$f":"'2-Grant Budget'!Z69","v":""},"","",{"$f":"IF(RIGHT(A59,4)=\"2900\",0,IF(A59=\"\",\"\",'1-Award Info'!$C$24))","v":""},null,null,0]
[{"$f":"'2-Grant Budget'!Z70","v":""},"","",{"$f":"IF(RIGHT(A60,4)=\"2900\",0,IF(A60=\"\",\"\",'1-Award Info'!$C$24))","v":""},null,null,0]
[{"$f":"'2-Grant Budget'!Z71","v":""},"","",{"$f":"IF(RIGHT(A61,4)=\"2900\",0,IF(A61=\"\",\"\",'1-Award Info'!$C$24))","v":""},null,null,0]
[{"$f":"'2-Grant Budget'!Z72","v":""},"","",{"$f":"IF(RIGHT(A62,4)=\"2900\",0,IF(A62=\"\",\"\",'1-Award Info'!$C$24))","v":""},null,null,0]
[{"$f":"'2-Grant Budget'!Z73","v":""},"","",{"$f":"IF(RIGHT(A63,4)=\"2900\",0,IF(A63=\"\",\"\",'1-Award Info'!$C$24))","v":""},null,null,0]
[{"$f":"'2-Grant Budget'!Z74","v":""},"","",{"$f":"IF(RIGHT(A64,4)=\"2900\",0,IF(A64=\"\",\"\",'1-Award Info'!$C$24))","v":""},null,null,0]
[{"$f":"'2-Grant Budget'!Z75","v":""},"","",{"$f":"IF(RIGHT(A65,4)=\"2900\",0,IF(A65=\"\",\"\",'1-Award Info'!$C$24))","v":""},null,null,0]
[{"$f":"'2-Grant Budget'!Z76","v":""},"","",{"$f":"IF(RIGHT(A66,4)=\"2900\",0,IF(A66=\"\",\"\",'1-Award Info'!$C$24))","v":""},null,null,0]
[{"$f":"'2-Grant Budget'!Z77","v":""},"","",{"$f":"IF(RIGHT(A67,4)=\"2900\",0,IF(A67=\"\",\"\",'1-Award Info'!$C$24))","v":""},null,null,0]
[{"$f":"'2-Grant Budget'!Z78","v":""},"","",{"$f":"IF(RIGHT(A68,4)=\"2900\",0,IF(A68=\"\",\"\",'1-Award Info'!$C$24))","v":""},null,null,0]
[{"$f":"'2-Grant Budget'!Z79","v":""},"","",{"$f":"IF(RIGHT(A69,4)=\"2900\",0,IF(A69=\"\",\"\",'1-Award Info'!$C$24))","v":""},null,null,{"$f":"IF(LEN(A69)>0,1,0)","v":0}]
[{"$f":"'2-Grant Budget'!Z80","v":""},"","",{"$f":"IF(RIGHT(A70,4)=\"2900\",0,IF(A70=\"\",\"\",'1-Award Info'!$C$24))","v":""},null,null,0]
[{"$f":"'2-Grant Budget'!Z81","v":""},"","",{"$f":"IF(RIGHT(A71,4)=\"2900\",0,IF(A71=\"\",\"\",'1-Award Info'!$C$24))","v":""},null,null,0]
[{"$f":"'2-Grant Budget'!Z82","v":""},"","",{"$f":"IF(RIGHT(A72,4)=\"2900\",0,IF(A72=\"\",\"\",'1-Award Info'!$C$24))","v":""},null,null,0]
[{"$f":"'2-Grant Budget'!Z83","v":""},"","",{"$f":"IF(RIGHT(A73,4)=\"2900\",0,IF(A73=\"\",\"\",'1-Award Info'!$C$24))","v":""},null,null,0]
[{"$f":"'2-Grant Budget'!Z84","v":""},"","",{"$f":"IF(RIGHT(A74,4)=\"2900\",0,IF(A74=\"\",\"\",'1-Award Info'!$C$24))","v":""},null,null,0]
[{"$f":"'2-Grant Budget'!Z85","v":""},"","",{"$f":"IF(RIGHT(A75,4)=\"2900\",0,IF(A75=\"\",\"\",'1-Award Info'!$C$24))","v":""},null,null,0]
[{"$f":"'2-Grant Budget'!Z86","v":""},"","",{"$f":"IF(RIGHT(A76,4)=\"2900\",0,IF(A76=\"\",\"\",'1-Award Info'!$C$24))","v":""},null,null,0]
[{"$f":"'2-Grant Budget'!Z87","v":""},"","",{"$f":"IF(RIGHT(A77,4)=\"2900\",0,IF(A77=\"\",\"\",'1-Award Info'!$C$24))","v":""},null,null,0]
[{"$f":"'2-Grant Budget'!Z88","v":""},"","",{"$f":"IF(RIGHT(A78,4)=\"2900\",0,IF(A78=\"\",\"\",'1-Award Info'!$C$24))","v":""},null,null,0]
[{"$f":"'2-Grant Budget'!Z89","v":""},"","",{"$f":"IF(RIGHT(A79,4)=\"2900\",0,IF(A79=\"\",\"\",'1-Award Info'!$C$24))","v":""},null,null,0]
[{"$f":"'2-Grant Budget'!Z90","v":""},"","",{"$f":"IF(RIGHT(A80,4)=\"2900\",0,IF(A80=\"\",\"\",'1-Award Info'!$C$24))","v":""},null,null,0]
[{"$f":"'2-Grant Budget'!Z91","v":""},"","",{"$f":"IF(RIGHT(A81,4)=\"2900\",0,IF(A81=\"\",\"\",'1-Award Info'!$C$24))","v":""},null,null,0]
[{"$f":"'2-Grant Budget'!Z92","v":""},"","",{"$f":"IF(RIGHT(A82,4)=\"2900\",0,IF(A82=\"\",\"\",'1-Award Info'!$C$24))","v":""},null,null,0]
[{"$f":"'2-Grant Budget'!Z93","v":""},"","",{"$f":"IF(RIGHT(A83,4)=\"2900\",0,IF(A83=\"\",\"\",'1-Award Info'!$C$24))","v":""},null,null,0]
[{"$f":"'2-Grant Budget'!Z94","v":""},"","",{"$f":"IF(RIGHT(A84,4)=\"2900\",0,IF(A84=\"\",\"\",'1-Award Info'!$C$24))","v":""},null,null,0]
[{"$f":"'2-Grant Budget'!Z95","v":""},"","",{"$f":"IF(RIGHT(A85,4)=\"2900\",0,IF(A85=\"\",\"\",'1-Award Info'!$C$24))","v":""},null,null,0]
[{"$f":"'2-Grant Budget'!Z96","v":""},"","",{"$f":"IF(RIGHT(A86,4)=\"2900\",0,IF(A86=\"\",\"\",'1-Award Info'!$C$24))","v":""},null,null,0]
[{"$f":"'2-Grant Budget'!Z97","v":""},"","",{"$f":"IF(RIGHT(A87,4)=\"2900\",0,IF(A87=\"\",\"\",'1-Award Info'!$C$24))","v":""},null,null,0]
[{"$f":"'2-Grant Budget'!Z98","v":""},"","",{"$f":"IF(RIGHT(A88,4)=\"2900\",0,IF(A88=\"\",\"\",'1-Award Info'!$C$24))","v":""},null,null,0]
[{"$f":"'2-Grant Budget'!Z99","v":""},"","",{"$f":"IF(RIGHT(A89,4)=\"2900\",0,IF(A89=\"\",\"\",'1-Award Info'!$C$24))","v":""},null,null,0]
[{"$f":"'2-Grant Budget'!Z100","v":""},"","",{"$f":"IF(RIGHT(A90,4)=\"2900\",0,IF(A90=\"\",\"\",'1-Award Info'!$C$24))","v":""},null,null,0]
[{"$f":"'2-Grant Budget'!Z101","v":""},"","",{"$f":"IF(RIGHT(A91,4)=\"2900\",0,IF(A91=\"\",\"\",'1-Award Info'!$C$24))","v":""},null,null,0]
[{"$f":"'2-Grant Budget'!Z102","v":""},"","",{"$f":"IF(RIGHT(A92,4)=\"2900\",0,IF(A92=\"\",\"\",'1-Award Info'!$C$24))","v":""},null,null,0]
[{"$f":"'2-Grant Budget'!Z103","v":""},"","",{"$f":"IF(RIGHT(A93,4)=\"2900\",0,IF(A93=\"\",\"\",'1-Award Info'!$C$24))","v":""},null,null,0]
[{"$f":"'2-Grant Budget'!Z104","v":""},"","",{"$f":"IF(RIGHT(A94,4)=\"2900\",0,IF(A94=\"\",\"\",'1-Award Info'!$C$24))","v":""},null,null,0]
[{"$f":"'2-Grant Budget'!Z105","v":""},{"$f":"IF(A95=\"\",\"\",\"A\")","v":""},{"$f":"IF(A95=\"\",\"\",\"IDC\")","v":""},{"$f":"IF(RIGHT(A95,4)=\"2900\",0,IF(A95=\"\",\"\",'1-Award Info'!$C$24))","v":""},null,null,0]
[{"$f":"'2-Grant Budget'!Z106","v":""},"","",{"$f":"IF(RIGHT(A96,4)=\"2900\",0,IF(A96=\"\",\"\",'1-Award Info'!$C$24))","v":""},null,null,0]
[{"$f":"'2-Grant Budget'!Z107","v":""},"","",{"$f":"IF(RIGHT(A97,4)=\"2900\",0,IF(A97=\"\",\"\",'1-Award Info'!$C$24))","v":""},null,null,0]
[{"$f":"'2-Grant Budget'!Z108","v":""},"","",{"$f":"IF(RIGHT(A98,4)=\"2900\",0,IF(A98=\"\",\"\",'1-Award Info'!$C$24))","v":""},null,null,0]
[{"$f":"'2-Grant Budget'!Z109","v":""},"","",{"$f":"IF(RIGHT(A99,4)=\"2900\",0,IF(A99=\"\",\"\",'1-Award Info'!$C$24))","v":""},null,null,0]
[{"$f":"'2-Grant Budget'!Z110","v":""},"","",{"$f":"IF(RIGHT(A100,4)=\"2900\",0,IF(A100=\"\",\"\",'1-Award Info'!$C$24))","v":""},null,null,0]
[{"$f":"'2-Grant Budget'!Z111","v":""},"","",{"$f":"IF(RIGHT(A101,4)=\"2900\",0,IF(A101=\"\",\"\",'1-Award Info'!$C$24))","v":""},null,null,0]
[{"$f":"'2-Grant Budget'!Z112","v":""},"","",{"$f":"IF(RIGHT(A102,4)=\"2900\",0,IF(A102=\"\",\"\",'1-Award Info'!$C$24))","v":""},null,null,0]
[{"$f":"'2-Grant Budget'!Z113","v":""},"","",{"$f":"IF(RIGHT(A103,4)=\"2900\",0,IF(A103=\"\",\"\",'1-Award Info'!$C$24))","v":""},null,null,0]
[{"$f":"'2-Grant Budget'!Z114","v":""},"","",{"$f":"IF(RIGHT(A104,4)=\"2900\",0,IF(A104=\"\",\"\",'1-Award Info'!$C$24))","v":""},null,null,0]
[{"$f":"'2-Grant Budget'!Z115","v":""},"","",{"$f":"IF(RIGHT(A105,4)=\"2900\",0,IF(A105=\"\",\"\",'1-Award Info'!$C$24))","v":""},null,null,0]
[{"$f":"'2-Grant Budget'!Z116","v":""},"","",{"$f":"IF(RIGHT(A106,4)=\"2900\",0,IF(A106=\"\",\"\",'1-Award Info'!$C$24))","v":""},null,null,0]
[{"$f":"'2-Grant Budget'!Z117","v":""},"","",{"$f":"IF(RIGHT(A107,4)=\"2900\",0,IF(A107=\"\",\"\",'1-Award Info'!$C$24))","v":""},null,null,0]
[{"$f":"'2-Grant Budget'!Z118","v":""},"","",{"$f":"IF(RIGHT(A108,4)=\"2900\",0,IF(A108=\"\",\"\",'1-Award Info'!$C$24))","v":""},null,null,0]
[{"$f":"'2-Grant Budget'!Z119","v":""},"","",{"$f":"IF(RIGHT(A109,4)=\"2900\",0,IF(A109=\"\",\"\",'1-Award Info'!$C$24))","v":""},null,null,0]
[{"$f":"'2-Grant Budget'!Z120","v":""},"","",{"$f":"IF(RIGHT(A110,4)=\"2900\",0,IF(A110=\"\",\"\",'1-Award Info'!$C$24))","v":""},null,null,0]
[{"$f":"'2-Grant Budget'!Z121","v":""},"","",{"$f":"IF(RIGHT(A111,4)=\"2900\",0,IF(A111=\"\",\"\",'1-Award Info'!$C$24))","v":""},null,null,0]
[{"$f":"'2-Grant Budget'!Z122","v":""},"","",{"$f":"IF(RIGHT(A112,4)=\"2900\",0,IF(A112=\"\",\"\",'1-Award Info'!$C$24))","v":""},null,null,0]
[{"$f":"'2-Grant Budget'!Z123","v":""},"","",{"$f":"IF(RIGHT(A113,4)=\"2900\",0,IF(A113=\"\",\"\",'1-Award Info'!$C$24))","v":""},null,null,0]
[{"$f":"'2-Grant Budget'!Z124","v":""},"","",{"$f":"IF(RIGHT(A114,4)=\"2900\",0,IF(A114=\"\",\"\",'1-Award Info'!$C$24))","v":""},null,null,0]
[{"$f":"'2-Grant Budget'!Z125","v":""},"","",{"$f":"IF(RIGHT(A115,4)=\"2900\",0,IF(A115=\"\",\"\",'1-Award Info'!$C$24))","v":""},null,null,0]
[{"$f":"'2-Grant Budget'!Z126","v":""},"","",{"$f":"IF(RIGHT(A116,4)=\"2900\",0,IF(A116=\"\",\"\",'1-Award Info'!$C$24))","v":""},null,null,0]
[{"$f":"'2-Grant Budget'!Z127","v":""},"","",{"$f":"IF(RIGHT(A117,4)=\"2900\",0,IF(A117=\"\",\"\",'1-Award Info'!$C$24))","v":""},null,null,0]
[{"$f":"'2-Grant Budget'!Z128","v":""},"","",{"$f":"IF(RIGHT(A118,4)=\"2900\",0,IF(A118=\"\",\"\",'1-Award Info'!$C$24))","v":""},null,null,0]
[{"$f":"'2-Grant Budget'!Z129","v":""},"","",{"$f":"IF(RIGHT(A119,4)=\"2900\",0,IF(A119=\"\",\"\",'1-Award Info'!$C$24))","v":""},null,null,0]
[{"$f":"'2-Grant Budget'!Z130","v":""},"","",{"$f":"IF(RIGHT(A120,4)=\"2900\",0,IF(A120=\"\",\"\",'1-Award Info'!$C$24))","v":""},null,null,0]
[{"$f":"'2-Grant Budget'!Z131","v":""},"","",{"$f":"IF(RIGHT(A121,4)=\"2900\",0,IF(A121=\"\",\"\",'1-Award Info'!$C$24))","v":""},null,null,0]
[{"$f":"'2-Grant Budget'!Z132","v":""},"","",{"$f":"IF(RIGHT(A122,4)=\"2900\",0,IF(A122=\"\",\"\",'1-Award Info'!$C$24))","v":""},null,null,0]

{"sheet":"GM15","index":7,"n_rows":2,"n_cols":22,"rows_kept":2,"cut":false,"hidden":true,"merged":[]}
["f3-R_GRANT","f4-DESCRIPTION","f6-LONG_DESC","f7-AMOUNT","f8-CURRENCY_CODE","f17-STATUS","f19-CSTCL_TEMPLATE","f32-GRANTOR_CO","f33-GRANTOR","f54-BEGIN_DATE","f55-END_DATE","f62-INVOICE_OPTION","f88-FUND_SOURCE","f92-PROGRAM_TITLE","f93-CFDA_NUMBER","f118-REV_ACCT_CAT","f113-REVENUE_GL_CD","f11 PM COMPANY #","f12 PROJECT (GRANT )MGR ID#","f14 ADMIN COMPANY #","f15 ADMIN (GRANT ANALYST) ID#","Results from GM15.1"]
[{"$f":"\nIF('1-Award Info'!G11<>\"GM15\",\"\",\nIF(LEN('1-Award Info'!$G$4)=7,'1-Award Info'!$G$7&\"-\"&RIGHT('1-Award Info'!$G$4,6),'1-Award Info'!$G$7&\"-\"&MID('1-Award Info'!$G$4,2,6)&\"-\"&'1-Award Info'!$C$28)\n)","v":""},{"$f":"IF(A2=\"\",\"\",TRIM(LEFT('1-Award Info'!C19,30)))","v":""},{"$f":"IF(A2=\"\",\"\",'1-Award Info'!G5)","v":""},{"$f":"IF(A2=\"\",\"\",'1-Award Info'!C20)","v":""},{"$f":"IF(A2=\"\",\"\",\"USD\")","v":""},{"$f":"IF(A2=\"\",\"\",1)","v":""},{"$f":"IF(A2=\"\",\"\",\"BILLING\")","v":""},{"$f":"IF(A2=\"\",\"\",'1-Award Info'!G6)","v":""},{"$f":"IF(A2=\"\",\"\",IFERROR(VLOOKUP('1-Award Info'!G12,Tables!AA:AB,2,0),VLOOKUP('1-Award Info'!G13,Tables!AD:AE,2,0)))","v":""},{"$f":"IF(A2=\"\",\"\",'1-Award Info'!C21)","v":""},{"$f":"IF(A2=\"\",\"\",'1-Award Info'!C22)","v":""},{"$f":"IF(A2=\"\",\"\",\"STD\")","v":""},{"$f":"IF(A2=\"\",\"\",IFERROR(VLOOKUP('1-Award Info'!$G$17,Tables!$AK:$AL,2,0),\"\"))","v":""},{"$f":"IF(A2=\"\",\"\",C2)","v":""},{"$f":"IF(A2=\"\",\"\",'1-Award Info'!$G$23)","v":""},{"$f":"IF(A2=\"\",\"\",VLOOKUP('1-Award Info'!G14,Tables!T:V,2,0))","v":""},{"$f":"IF(A2=\"\",\"\",VLOOKUP('1-Award Info'!G14,Tables!T:V,3,0))","v":""},{"$f":"IF(A2=\"\",\"\",1)","v":""},{"$f":"IF(A2=\"\",\"\",'1-Award Info'!C31)","v":""},{"$f":"IF(A2=\"\",\"\",1)","v":""},{"$f":"IF(A2=\"\",\"\",'1-Award Info'!G8)","v":""}]

{"sheet":"GM16","index":8,"n_rows":2,"n_cols":15,"rows_kept":2,"cut":false,"hidden":true,"merged":[]}
["f3-R_GRANT","f4-DESCRIPTION","f6-LONG_DESC","f7-BEGIN_DATE","f8-END_DATE","f9-AMOUNT","f10-CURRENCY_CODE","f12-STATUS","f14-FUND_SOURCE","f32-REVENUE_GL_CD","f37-REV_ACCT_CAT","f39-FUND_GL_CODE","f18 GRANT MANAGER","f19 GRANT MGR ID#","Results from GM16.1"]
[{"$f":"IF('1-Award Info'!G11<>\"GM16\",\"\",IF(LEN('1-Award Info'!$G$4)=7,'1-Award Info'!$G$7&\"-\"&RIGHT('1-Award Info'!$G$4,6),'1-Award Info'!$G$7&\"-\"&MID('1-Award Info'!$G$4,2,6)&\"-\"&'1-Award Info'!$C$28))","v":""},{"$f":"IF(A2=\"\",\"\",TRIM(LEFT('1-Award Info'!C19,30)))","v":""},{"$f":"IF(A2=\"\",\"\",'1-Award Info'!G5)","v":""},{"$f":"IF(A2=\"\",\"\",'1-Award Info'!C21)","v":""},{"$f":"IF(A2=\"\",\"\",'1-Award Info'!C22)","v":""},{"$f":"IF(A2=\"\",\"\",'1-Award Info'!C20)","v":""},{"$f":"IF(A2=\"\",\"\",\"USD\")","v":""},{"$f":"IF(A2=\"\",\"\",1)","v":""},{"$f":"IF(A2=\"\",\"\",VLOOKUP('1-Award Info'!G14,Tables!T:W,4,0))","v":""},{"$f":"IF(A2=\"\",\"\",VLOOKUP('1-Award Info'!G14,Tables!T:U,2,0))","v":""},{"$f":"IF(A2=\"\",\"\",VLOOKUP('1-Award Info'!G14,Tables!T:V,3,0))","v":""},{"$f":"IF(A2=\"\",\"\",VLOOKUP('1-Award Info'!G14,Tables!T:Y,6,0))","v":""},{"$f":"IF(A2=\"\",\"\",1)","v":""},{"$f":"IF(A2=\"\",\"\",'1-Award Info'!C31)","v":""}]

{"sheet":"GM20","index":9,"n_rows":2,"n_cols":12,"rows_kept":2,"cut":false,"hidden":true,"merged":[]}
["f4-CONTRACT","f5-DESCRIPTION","f8-ACTIVITY","f11-CONTRACT_AMT","f15-BILL_PAID_AP","f19.0-FC","f20.0-PRIORITY_ORDER","f22.0-R_GRANT","f23.0-FUND_PERCENT","f24.0-FUND_AMOUNT",null,"Results from GM20.1"]
[{"$f":"IF(LEFT('1-Award Info'!G11,2)<>\"GM\",\"\",'1-Award Info'!G4)","v":""},{"$f":"IF(A2=\"\",\"\",'1-Award Info'!C19)","v":""},{"$f":"IF(A2=\"\",\"\",A2)","v":""},{"$f":"IF(A2=\"\",\"\",'1-Award Info'!C20)","v":""},{"$f":"IF(A2=\"\",\"\",\"Y\")","v":""},{"$f":"IF(A2=\"\",\"\",\"A\")","v":""},{"$f":"IF(A2=\"\",\"\",1)","v":""},{"$f":"IF(A2=\"\",\"\",IF(LEN('1-Award Info'!$G$4)=7,'1-Award Info'!$G$7&\"-\"&RIGHT('1-Award Info'!$G$4,6),'1-Award Info'!$G$7&\"-\"&MID('1-Award Info'!$G$4,2,6)&\"-\"&'1-Award Info'!$C$28))","v":""},{"$f":"IF(A2=\"\",\"\",100)","v":""},{"$f":"IF(A2=\"\",\"\",D2)","v":""}]

{"sheet":"GM01","index":10,"n_rows":2,"n_cols":17,"rows_kept":2,"cut":false,"hidden":true,"merged":[]}
["CONTRACT LVL ACTIVITY\nf2","INSTITUTION BR f5","DIV-CODE-DI\nf9","Project Types\nf13","AWARD-CODE-AW AWARD TYPE f15","BUSLIN-CODE-BU\nf17","DIR-SPONS-CO\nf26","Direct Spons Award No\nf27","SPONSOR-AWD-NO\nf29","CFDA-NUMBER\nf36","Include in SFA\nf37","MAJOR-CATEGORY\nf39","PRIME-SPONS-CO\nf30","PRIME-SPONS-NBR\nf31","Prime spons award NO\nf35","Award Proposal Date\nf45","Program Title\nf41"]
[{"$f":"'1-Award Info'!G4","v":0},{"$f":"'1-Award Info'!C29","v":0},{"$f":"'1-Award Info'!G17","v":0},{"$f":"'1-Award Info'!G11","v":0},{"$f":"IF('1-Award Info'!G18=\"\",\"\",'1-Award Info'!G18)","v":""},{"$f":"IF('1-Award Info'!G20=\"\",\"\",'1-Award Info'!G20)","v":""},{"$f":"IF(LEFT(C2,1)=\"F\",22,\"\")","v":""},{"$f":"IF(G2=22,VLOOKUP('1-Award Info'!G12,Tables!AA:AB,2,0),\"\")","v":""},{"$f":"IF(G2=22,'1-Award Info'!G24,\"\")","v":""},{"$f":"IF(G2=22,'1-Award Info'!G23,\"\")","v":""},{"$f":"IF(G2=22,1,\"\")","v":""},{"$f":"IFERROR(IF(G2=\"\",\"\",'1-Award Info'!G25),\"\")","v":""},{"$f":"IF(LEFT(C2,1)<>\"F\",'1-Award Info'!G6,\"\")","v":0},{"$f":"IFERROR(IF(LEFT(C2,1)<>\"F\",\nIF('1-Award Info'!G12<>\"\",\nVLOOKUP('1-Award Info'!G12,Tables!AA:AB,2,0),\nVLOOKUP('1-Award Info'!G13,Tables!AD:AE,2,0)),\"\"),\"\")","v":""},{"$f":"IF('1-Award Info'!G24=\"\",\"\",IF(LEFT(C2,1)<>\"F\",'1-Award Info'!G24,\"\"))","v":""},{"$f":"IF(A2=\"\",\"\",TEXT('1-Award Info'!G62,\"mm/dd/yy\"))","v":"01/00/00"},{"$f":"'Objective Tables'!D2","v":"???%NNNNNNNNNNNNNNNNNNNNN"}]

{"sheet":"AC20.7","index":11,"n_rows":121,"n_cols":7,"rows_kept":121,"cut":false,"hidden":true,"merged":[]}
[]
[null,null,null,null,null,"COUNT FOR MACRO",{"$f":"\"E\"&SUM(G5:G121)+4","v":"E5"}]
[]
["_f7:BDH-ACTIVITY*","_f10:BDH-BUDGET-NBR*","_f13:BDH-DESCRIPTION","_f22:ACTIVE-BUDGET","_f27:BDH-CURRENCY-CODE",null,"COUNT FOR MACRO"]
[{"$f":"'AC10.1-P'!A5","v":"8000"},{"$f":"IF(A5=\"\",\"\",1)","v":1},{"$f":"IF(A5=\"\",\"\",\"Active Budget\")","v":"Active Budget"},{"$f":"IF(A5=\"\",\"\",\"Y\")","v":"Y"},{"$f":"IF(A5=\"\",\"\",\"USD\")","v":"USD"},null,{"$f":"IF(LEN(A5)>0,1,0)","v":1}]
[{"$f":"'2-Grant Budget'!Z17","v":""},{"$f":"IF(A6=\"\",\"\",1)","v":""},{"$f":"IF(A6=\"\",\"\",\"Active Budget\")","v":""},{"$f":"IF(A6=\"\",\"\",\"Y\")","v":""},{"$f":"IF(A6=\"\",\"\",\"USD\")","v":""},null,0]
[{"$f":"'2-Grant Budget'!Z18","v":""},{"$f":"IF(A7=\"\",\"\",1)","v":""},{"$f":"IF(A7=\"\",\"\",\"Active Budget\")","v":""},{"$f":"IF(A7=\"\",\"\",\"Y\")","v":""},{"$f":"IF(A7=\"\",\"\",\"USD\")","v":""},null,0]
[{"$f":"'2-Grant Budget'!Z19","v":""},"","","","",null,0]
[{"$f":"'2-Grant Budget'!Z20","v":""},"","","","",null,0]
[{"$f":"'2-Grant Budget'!Z21","v":""},"","","","",null,0]
[{"$f":"'2-Grant Budget'!Z22","v":""},"","","","",null,0]
[{"$f":"'2-Grant Budget'!Z23","v":""},"","","","",null,0]
[{"$f":"'2-Grant Budget'!Z24","v":""},"","","","",null,0]
[{"$f":"'2-Grant Budget'!Z25","v":""},"","","","",null,0]
[{"$f":"'2-Grant Budget'!Z26","v":""},"","","","",null,0]
[{"$f":"'2-Grant Budget'!Z27","v":""},"","","","",null,0]
[{"$f":"'2-Grant Budget'!Z28","v":""},"","","","",null,0]
[{"$f":"'2-Grant Budget'!Z29","v":""},"","","","",null,0]
[{"$f":"'2-Grant Budget'!Z30","v":""},"","","","",null,0]
[{"$f":"'2-Grant Budget'!Z31","v":""},"","","","",null,0]
[{"$f":"'2-Grant Budget'!Z32","v":""},"","","","",null,0]
[{"$f":"'2-Grant Budget'!Z33","v":""},"","","","",null,0]
[{"$f":"'2-Grant Budget'!Z34","v":""},"","","","",null,0]
[{"$f":"'2-Grant Budget'!Z35","v":""},"","","","",null,0]
[{"$f":"'2-Grant Budget'!Z36","v":""},"","","","",null,0]
[{"$f":"'2-Grant Budget'!Z37","v":""},"","","","",null,0]
[{"$f":"'2-Grant Budget'!Z38","v":""},"","","","",null,0]
[{"$f":"'2-Grant Budget'!Z39","v":""},"","","","",null,0]
[{"$f":"'2-Grant Budget'!Z40","v":""},"","","","",null,0]
[{"$f":"'2-Grant Budget'!Z41","v":""},"","","","",null,0]
[{"$f":"'2-Grant Budget'!Z42","v":""},"","","","",null,0]
[{"$f":"'2-Grant Budget'!Z43","v":""},"","","","",null,0]
[{"$f":"'2-Grant Budget'!Z44","v":""},"","","","",null,0]
[{"$f":"'2-Grant Budget'!Z45","v":""},"","","","",null,0]
[{"$f":"'2-Grant Budget'!Z46","v":""},"","","","",null,0]
[{"$f":"'2-Grant Budget'!Z47","v":""},"","","","",null,0]
[{"$f":"'2-Grant Budget'!Z48","v":""},"","","","",null,0]
[{"$f":"'2-Grant Budget'!Z49","v":""},"","","","",null,0]
[{"$f":"'2-Grant Budget'!Z50","v":""},"","","","",null,0]
[{"$f":"'2-Grant Budget'!Z51","v":""},"","","","",null,0]
[{"$f":"'2-Grant Budget'!Z52","v":""},"","","","",null,0]
[{"$f":"'2-Grant Budget'!Z53","v":""},"","","","",null,0]
[{"$f":"'2-Grant Budget'!Z54","v":""},"","","","",null,0]
[{"$f":"'2-Grant Budget'!Z55","v":""},"","","","",null,0]
[{"$f":"'2-Grant Budget'!Z56","v":""},"","","","",null,0]
[{"$f":"'2-Grant Budget'!Z57","v":""},"","","","",null,0]
[{"$f":"'2-Grant Budget'!Z58","v":""},"","","","",null,0]
[{"$f":"'2-Grant Budget'!Z59","v":""},"","","","",null,0]
[{"$f":"'2-Grant Budget'!Z60","v":""},"","","","",null,0]
[{"$f":"'2-Grant Budget'!Z61","v":""},"","","","",null,0]
[{"$f":"'2-Grant Budget'!Z62","v":""},"","","","",null,0]
[{"$f":"'2-Grant Budget'!Z63","v":""},"","","","",null,0]
[{"$f":"'2-Grant Budget'!Z64","v":""},"","","","",null,0]
[{"$f":"'2-Grant Budget'!Z65","v":""},"","","","",null,0]
[{"$f":"'2-Grant Budget'!Z66","v":""},"","","","",null,0]
[{"$f":"'2-Grant Budget'!Z67","v":""},"","","","",null,0]
[{"$f":"'2-Grant Budget'!Z68","v":""},"","","","",null,0]
[{"$f":"'2-Grant Budget'!Z69","v":""},"","","","",null,0]
[{"$f":"'2-Grant Budget'!Z70","v":""},"","","","",null,0]
[{"$f":"'2-Grant Budget'!Z71","v":""},"","","","",null,0]
[{"$f":"'2-Grant Budget'!Z72","v":""},"","","","",null,0]
[{"$f":"'2-Grant Budget'!Z73","v":""},"","","","",null,0]
[{"$f":"'2-Grant Budget'!Z74","v":""},"","","","",null,0]
[{"$f":"'2-Grant Budget'!Z75","v":""},"","","","",null,0]
[{"$f":"'2-Grant Budget'!Z76","v":""},"","","","",null,0]
[{"$f":"'2-Grant Budget'!Z77","v":""},"","","","",null,{"$f":"IF(LEN(A66)>0,1,0)","v":0}]
[{"$f":"'2-Grant Budget'!Z78","v":""},"","","","",null,0]
[{"$f":"'2-Grant Budget'!Z79","v":""},"","","","",null,0]
[{"$f":"'2-Grant Budget'!Z80","v":""},"","","","",null,0]
[{"$f":"'2-Grant Budget'!Z81","v":""},"","","","",null,0]
[{"$f":"'2-Grant Budget'!Z82","v":""},{"$f":"IF(A71=\"\",\"\",1)","v":""},{"$f":"IF(A71=\"\",\"\",\"Active Budget\")","v":""},{"$f":"IF(A71=\"\",\"\",\"Y\")","v":""},{"$f":"IF(A71=\"\",\"\",\"USD\")","v":""},null,0]
[{"$f":"'2-Grant Budget'!Z83","v":""},"","","","",null,0]
[{"$f":"'2-Grant Budget'!Z84","v":""},"","","","",null,0]
[{"$f":"'2-Grant Budget'!Z85","v":""},"","","","",null,0]
[{"$f":"'2-Grant Budget'!Z86","v":""},"","","","",null,0]
[{"$f":"'2-Grant Budget'!Z87","v":""},"","","","",null,0]
[{"$f":"'2-Grant Budget'!Z88","v":""},"","","","",null,0]
[{"$f":"'2-Grant Budget'!Z89","v":""},"","","","",null,0]
[{"$f":"'2-Grant Budget'!Z90","v":""},"","","","",null,0]
[{"$f":"'2-Grant Budget'!Z91","v":""},"","","","",null,0]
[{"$f":"'2-Grant Budget'!Z92","v":""},"","","","",null,0]
[{"$f":"'2-Grant Budget'!Z93","v":""},"","","","",null,0]
[{"$f":"'2-Grant Budget'!Z94","v":""},"","","","",null,0]
[{"$f":"'2-Grant Budget'!Z95","v":""},"","","","",null,0]
[{"$f":"'2-Grant Budget'!Z96","v":""},"","","","",null,0]
[{"$f":"'2-Grant Budget'!Z97","v":""},"","","","",null,0]
[{"$f":"'2-Grant Budget'!Z98","v":""},"","","","",null,0]
[{"$f":"'2-Grant Budget'!Z99","v":""},"","","","",null,0]
[{"$f":"'2-Grant Budget'!Z100","v":""},"","","","",null,0]
[{"$f":"'2-Grant Budget'!Z101","v":""},"","","","",null,0]
[{"$f":"'2-Grant Budget'!Z102","v":""},"","","","",null,0]
[{"$f":"'2-Grant Budget'!Z103","v":""},"","","","",null,0]
[{"$f":"'2-Grant Budget'!Z104","v":""},"","","","",null,0]
[{"$f":"'2-Grant Budget'!Z105","v":""},"","","","",null,0]
[{"$f":"'2-Grant Budget'!Z106","v":""},"","","","",null,0]
[{"$f":"'2-Grant Budget'!Z107","v":""},"","","","",null,0]
[{"$f":"'2-Grant Budget'!Z108","v":""},"","","","",null,0]
[{"$f":"'2-Grant Budget'!Z109","v":""},"","","","",null,0]
[{"$f":"'2-Grant Budget'!Z110","v":""},"","","","",null,0]
[{"$f":"'2-Grant Budget'!Z111","v":""},"","","","",null,0]
[{"$f":"'2-Grant Budget'!Z112","v":""},"","","","",null,0]
[{"$f":"'2-Grant Budget'!Z113","v":""},"","","","",null,0]
[{"$f":"'2-Grant Budget'!Z114","v":""},"","","","",null,0]
[{"$f":"'2-Grant Budget'!Z115","v":""},"","","","",null,0]
[{"$f":"'2-Grant Budget'!Z116","v":""},"","","","",null,0]
[{"$f":"'2-Grant Budget'!Z117","v":""},"","","","",null,0]
[{"$f":"'2-Grant Budget'!Z118","v":""},"","","","",null,0]
[{"$f":"'2-Grant Budget'!Z119","v":""},"","","","",null,0]
[{"$f":"'2-Grant Budget'!Z120","v":""},"","","","",null,0]
[{"$f":"'2-Grant Budget'!Z121","v":""},"","","","",null,0]
[{"$f":"'2-Grant Budget'!Z122","v":""},"","","","",null,0]
[{"$f":"'2-Grant Budget'!Z123","v":""},"","","","",null,0]
[{"$f":"'2-Grant Budget'!Z124","v":""},"","","","",null,0]
[{"$f":"'2-Grant Budget'!Z125","v":""},"","","","",null,0]
[{"$f":"'2-Grant Budget'!Z126","v":""},"","","","",null,0]
[{"$f":"'2-Grant Budget'!Z127","v":""},"","","","",null,0]
[{"$f":"'2-Grant Budget'!Z128","v":""},"","","","",null,0]
[{"$f":"'2-Grant Budget'!Z129","v":""},"","","","",null,0]
[{"$f":"'2-Grant Budget'!Z130","v":""},"","","","",null,0]
[{"$f":"'2-Grant Budget'!Z131","v":""},"","","","",null,0]
[{"$f":"'2-Grant Budget'!Z132","v":""},"","","","",null,0]

{"sheet":"AC20.3","index":12,"n_rows":589,"n_cols":12,"rows_kept":589,"cut":false,"hidden":true,"merged":[]}
[]
[null,null,null,null,null,null,null,null,null,null,"COUNT FOR MACRO",{"$f":"\"I\"&SUM(L5:L589)+4","v":"I4"}]
[]
["CO-f5","Activity-f11","Acc Cat-f14","BL-f16","FY-f19","Period-f29","$-f30","RATE-f32","FTE-f33","Results from AC20.3",null,"COUNT FOR MACRO"]
[{"$f":"'2-Grant Budget'!DW17","v":"00"},{"$f":"'2-Grant Budget'!DX17","v":""},{"$f":"'2-Grant Budget'!DY17","v":""},{"$f":"'2-Grant Budget'!DZ17","v":1},{"$f":"'2-Grant Budget'!EA17","v":""},{"$f":"'2-Grant Budget'!EB17","v":1},{"$f":"'2-Grant Budget'!EC17","v":""},{"$f":"'2-Grant Budget'!ED17","v":0},{"$f":"'2-Grant Budget'!EE17","v":""},null,null,{"$f":"IF(LEN(B5)>0,1,0)","v":0}]
[{"$f":"'2-Grant Budget'!DW18","v":"00"},{"$f":"'2-Grant Budget'!DX18","v":""},{"$f":"'2-Grant Budget'!DY18","v":""},{"$f":"'2-Grant Budget'!DZ18","v":1},{"$f":"'2-Grant Budget'!EA18","v":""},{"$f":"'2-Grant Budget'!EB18","v":1},{"$f":"'2-Grant Budget'!EC18","v":""},{"$f":"'2-Grant Budget'!ED18","v":0},{"$f":"'2-Grant Budget'!EE18","v":""},null,null,{"$f":"IF(LEN(B6)>0,1,0)","v":0}]
[{"$f":"'2-Grant Budget'!DW19","v":"00"},{"$f":"'2-Grant Budget'!DX19","v":""},{"$f":"'2-Grant Budget'!DY19","v":""},{"$f":"'2-Grant Budget'!DZ19","v":1},{"$f":"'2-Grant Budget'!EA19","v":""},{"$f":"'2-Grant Budget'!EB19","v":1},{"$f":"'2-Grant Budget'!EC19","v":""},{"$f":"'2-Grant Budget'!ED19","v":0},{"$f":"'2-Grant Budget'!EE19","v":""},null,null,0]
[{"$f":"'2-Grant Budget'!DW20","v":"00"},{"$f":"'2-Grant Budget'!DX20","v":""},{"$f":"'2-Grant Budget'!DY20","v":""},{"$f":"'2-Grant Budget'!DZ20","v":1},{"$f":"'2-Grant Budget'!EA20","v":""},{"$f":"'2-Grant Budget'!EB20","v":1},{"$f":"'2-Grant Budget'!EC20","v":""},{"$f":"'2-Grant Budget'!ED20","v":0},{"$f":"'2-Grant Budget'!EE20","v":""},null,null,0]
[{"$f":"'2-Grant Budget'!DW21","v":"00"},{"$f":"'2-Grant Budget'!DX21","v":""},{"$f":"'2-Grant Budget'!DY21","v":""},{"$f":"'2-Grant Budget'!DZ21","v":1},{"$f":"'2-Grant Budget'!EA21","v":""},{"$f":"'2-Grant Budget'!EB21","v":1},{"$f":"'2-Grant Budget'!EC21","v":""},{"$f":"'2-Grant Budget'!ED21","v":0},{"$f":"'2-Grant Budget'!EE21","v":""},null,null,0]
[{"$f":"'2-Grant Budget'!DW22","v":"00"},{"$f":"'2-Grant Budget'!DX22","v":""},{"$f":"'2-Grant Budget'!DY22","v":""},{"$f":"'2-Grant Budget'!DZ22","v":1},{"$f":"'2-Grant Budget'!EA22","v":""},{"$f":"'2-Grant Budget'!EB22","v":1},{"$f":"'2-Grant Budget'!EC22","v":""},{"$f":"'2-Grant Budget'!ED22","v":0},{"$f":"'2-Grant Budget'!EE22","v":""},null,null,0]
[{"$f":"'2-Grant Budget'!DW23","v":"00"},{"$f":"'2-Grant Budget'!DX23","v":""},{"$f":"'2-Grant Budget'!DY23","v":""},{"$f":"'2-Grant Budget'!DZ23","v":1},{"$f":"'2-Grant Budget'!EA23","v":""},{"$f":"'2-Grant Budget'!EB23","v":1},{"$f":"'2-Grant Budget'!EC23","v":""},{"$f":"'2-Grant Budget'!ED23","v":0},{"$f":"'2-Grant Budget'!EE23","v":""},null,null,0]
[{"$f":"'2-Grant Budget'!DW24","v":"00"},{"$f":"'2-Grant Budget'!DX24","v":""},{"$f":"'2-Grant Budget'!DY24","v":""},{"$f":"'2-Grant Budget'!DZ24","v":1},{"$f":"'2-Grant Budget'!EA24","v":""},{"$f":"'2-Grant Budget'!EB24","v":1},{"$f":"'2-Grant Budget'!EC24","v":""},{"$f":"'2-Grant Budget'!ED24","v":0},{"$f":"'2-Grant Budget'!EE24","v":""},null,null,0]
[{"$f":"'2-Grant Budget'!DW25","v":"00"},{"$f":"'2-Grant Budget'!DX25","v":""},{"$f":"'2-Grant Budget'!DY25","v":""},{"$f":"'2-Grant Budget'!DZ25","v":1},{"$f":"'2-Grant Budget'!EA25","v":""},{"$f":"'2-Grant Budget'!EB25","v":1},{"$f":"'2-Grant Budget'!EC25","v":""},{"$f":"'2-Grant Budget'!ED25","v":0},{"$f":"'2-Grant Budget'!EE25","v":""},null,null,0]
[{"$f":"'2-Grant Budget'!DW26","v":"00"},{"$f":"'2-Grant Budget'!DX26","v":""},{"$f":"'2-Grant Budget'!DY26","v":""},{"$f":"'2-Grant Budget'!DZ26","v":1},{"$f":"'2-Grant Budget'!EA26","v":""},{"$f":"'2-Grant Budget'!EB26","v":1},{"$f":"'2-Grant Budget'!EC26","v":""},{"$f":"'2-Grant Budget'!ED26","v":0},{"$f":"'2-Grant Budget'!EE26","v":""},null,null,0]
[{"$f":"'2-Grant Budget'!DW27","v":"00"},{"$f":"'2-Grant Budget'!DX27","v":""},{"$f":"'2-Grant Budget'!DY27","v":""},{"$f":"'2-Grant Budget'!DZ27","v":1},{"$f":"'2-Grant Budget'!EA27","v":""},{"$f":"'2-Grant Budget'!EB27","v":1},{"$f":"'2-Grant Budget'!EC27","v":""},{"$f":"'2-Grant Budget'!ED27","v":0},{"$f":"'2-Grant Budget'!EE27","v":""},null,null,0]
[{"$f":"'2-Grant Budget'!DW28","v":"00"},{"$f":"'2-Grant Budget'!DX28","v":""},{"$f":"'2-Grant Budget'!DY28","v":""},{"$f":"'2-Grant Budget'!DZ28","v":1},{"$f":"'2-Grant Budget'!EA28","v":""},{"$f":"'2-Grant Budget'!EB28","v":1},{"$f":"'2-Grant Budget'!EC28","v":""},{"$f":"'2-Grant Budget'!ED28","v":0},{"$f":"'2-Grant Budget'!EE28","v":""},null,null,0]
[{"$f":"'2-Grant Budget'!DW29","v":"00"},{"$f":"'2-Grant Budget'!DX29","v":""},{"$f":"'2-Grant Budget'!DY29","v":""},{"$f":"'2-Grant Budget'!DZ29","v":1},{"$f":"'2-Grant Budget'!EA29","v":""},{"$f":"'2-Grant Budget'!EB29","v":1},{"$f":"'2-Grant Budget'!EC29","v":""},{"$f":"'2-Grant Budget'!ED29","v":0},{"$f":"'2-Grant Budget'!EE29","v":""},null,null,0]
[{"$f":"'2-Grant Budget'!DW30","v":"00"},{"$f":"'2-Grant Budget'!DX30","v":""},{"$f":"'2-Grant Budget'!DY30","v":""},{"$f":"'2-Grant Budget'!DZ30","v":1},{"$f":"'2-Grant Budget'!EA30","v":""},{"$f":"'2-Grant Budget'!EB30","v":1},{"$f":"'2-Grant Budget'!EC30","v":""},{"$f":"'2-Grant Budget'!ED30","v":0},{"$f":"'2-Grant Budget'!EE30","v":""},null,null,0]
[{"$f":"'2-Grant Budget'!DW31","v":"00"},{"$f":"'2-Grant Budget'!DX31","v":""},{"$f":"'2-Grant Budget'!DY31","v":""},{"$f":"'2-Grant Budget'!DZ31","v":1},{"$f":"'2-Grant Budget'!EA31","v":""},{"$f":"'2-Grant Budget'!EB31","v":1},{"$f":"'2-Grant Budget'!EC31","v":""},{"$f":"'2-Grant Budget'!ED31","v":0},{"$f":"'2-Grant Budget'!EE31","v":""},null,null,0]
[{"$f":"'2-Grant Budget'!DW32","v":"00"},{"$f":"'2-Grant Budget'!DX32","v":""},{"$f":"'2-Grant Budget'!DY32","v":""},{"$f":"'2-Grant Budget'!DZ32","v":1},{"$f":"'2-Grant Budget'!EA32","v":""},{"$f":"'2-Grant Budget'!EB32","v":1},{"$f":"'2-Grant Budget'!EC32","v":""},{"$f":"'2-Grant Budget'!ED32","v":0},{"$f":"'2-Grant Budget'!EE32","v":""},null,null,0]
[{"$f":"'2-Grant Budget'!DW33","v":"00"},{"$f":"'2-Grant Budget'!DX33","v":""},{"$f":"'2-Grant Budget'!DY33","v":""},{"$f":"'2-Grant Budget'!DZ33","v":1},{"$f":"'2-Grant Budget'!EA33","v":""},{"$f":"'2-Grant Budget'!EB33","v":1},{"$f":"'2-Grant Budget'!EC33","v":""},{"$f":"'2-Grant Budget'!ED33","v":0},{"$f":"'2-Grant Budget'!EE33","v":""},null,null,0]
[{"$f":"'2-Grant Budget'!DW34","v":"00"},{"$f":"'2-Grant Budget'!DX34","v":""},{"$f":"'2-Grant Budget'!DY34","v":""},{"$f":"'2-Grant Budget'!DZ34","v":1},{"$f":"'2-Grant Budget'!EA34","v":""},{"$f":"'2-Grant Budget'!EB34","v":1},{"$f":"'2-Grant Budget'!EC34","v":""},{"$f":"'2-Grant Budget'!ED34","v":0},{"$f":"'2-Grant Budget'!EE34","v":""},null,null,0]
[{"$f":"'2-Grant Budget'!DW35","v":"00"},{"$f":"'2-Grant Budget'!DX35","v":""},{"$f":"'2-Grant Budget'!DY35","v":""},{"$f":"'2-Grant Budget'!DZ35","v":1},{"$f":"'2-Grant Budget'!EA35","v":""},{"$f":"'2-Grant Budget'!EB35","v":1},{"$f":"'2-Grant Budget'!EC35","v":""},{"$f":"'2-Grant Budget'!ED35","v":0},{"$f":"'2-Grant Budget'!EE35","v":""},null,null,0]
[{"$f":"'2-Grant Budget'!DW36","v":"00"},{"$f":"'2-Grant Budget'!DX36","v":""},{"$f":"'2-Grant Budget'!DY36","v":""},{"$f":"'2-Grant Budget'!DZ36","v":1},{"$f":"'2-Grant Budget'!EA36","v":""},{"$f":"'2-Grant Budget'!EB36","v":1},{"$f":"'2-Grant Budget'!EC36","v":""},{"$f":"'2-Grant Budget'!ED36","v":0},{"$f":"'2-Grant Budget'!EE36","v":""},null,null,0]
[{"$f":"'2-Grant Budget'!DW37","v":"00"},{"$f":"'2-Grant Budget'!DX37","v":""},{"$f":"'2-Grant Budget'!DY37","v":""},{"$f":"'2-Grant Budget'!DZ37","v":1},{"$f":"'2-Grant Budget'!EA37","v":""},{"$f":"'2-Grant Budget'!EB37","v":1},{"$f":"'2-Grant Budget'!EC37","v":""},{"$f":"'2-Grant Budget'!ED37","v":0},{"$f":"'2-Grant Budget'!EE37","v":""},null,null,0]
[{"$f":"'2-Grant Budget'!DW38","v":"00"},{"$f":"'2-Grant Budget'!DX38","v":""},{"$f":"'2-Grant Budget'!DY38","v":""},{"$f":"'2-Grant Budget'!DZ38","v":1},{"$f":"'2-Grant Budget'!EA38","v":""},{"$f":"'2-Grant Budget'!EB38","v":1},{"$f":"'2-Grant Budget'!EC38","v":""},{"$f":"'2-Grant Budget'!ED38","v":0},{"$f":"'2-Grant Budget'!EE38","v":""},null,null,0]
[{"$f":"'2-Grant Budget'!DW39","v":"00"},{"$f":"'2-Grant Budget'!DX39","v":""},{"$f":"'2-Grant Budget'!DY39","v":""},{"$f":"'2-Grant Budget'!DZ39","v":1},{"$f":"'2-Grant Budget'!EA39","v":""},{"$f":"'2-Grant Budget'!EB39","v":1},{"$f":"'2-Grant Budget'!EC39","v":""},{"$f":"'2-Grant Budget'!ED39","v":0},{"$f":"'2-Grant Budget'!EE39","v":""},null,null,0]
[{"$f":"'2-Grant Budget'!DW40","v":"00"},{"$f":"'2-Grant Budget'!DX40","v":""},{"$f":"'2-Grant Budget'!DY40","v":""},{"$f":"'2-Grant Budget'!DZ40","v":1},{"$f":"'2-Grant Budget'!EA40","v":""},{"$f":"'2-Grant Budget'!EB40","v":1},{"$f":"'2-Grant Budget'!EC40","v":""},{"$f":"'2-Grant Budget'!ED40","v":0},{"$f":"'2-Grant Budget'!EE40","v":""},null,null,0]
[{"$f":"'2-Grant Budget'!DW41","v":"00"},{"$f":"'2-Grant Budget'!DX41","v":""},{"$f":"'2-Grant Budget'!DY41","v":""},{"$f":"'2-Grant Budget'!DZ41","v":1},{"$f":"'2-Grant Budget'!EA41","v":""},{"$f":"'2-Grant Budget'!EB41","v":1},{"$f":"'2-Grant Budget'!EC41","v":""},{"$f":"'2-Grant Budget'!ED41","v":0},{"$f":"'2-Grant Budget'!EE41","v":""},null,null,0]
[{"$f":"'2-Grant Budget'!DW42","v":"00"},{"$f":"'2-Grant Budget'!DX42","v":""},{"$f":"'2-Grant Budget'!DY42","v":""},{"$f":"'2-Grant Budget'!DZ42","v":1},{"$f":"'2-Grant Budget'!EA42","v":""},{"$f":"'2-Grant Budget'!EB42","v":1},{"$f":"'2-Grant Budget'!EC42","v":""},{"$f":"'2-Grant Budget'!ED42","v":0},{"$f":"'2-Grant Budget'!EE42","v":""},null,null,0]
[{"$f":"'2-Grant Budget'!DW43","v":"00"},{"$f":"'2-Grant Budget'!DX43","v":""},{"$f":"'2-Grant Budget'!DY43","v":""},{"$f":"'2-Grant Budget'!DZ43","v":1},{"$f":"'2-Grant Budget'!EA43","v":""},{"$f":"'2-Grant Budget'!EB43","v":1},{"$f":"'2-Grant Budget'!EC43","v":""},{"$f":"'2-Grant Budget'!ED43","v":0},{"$f":"'2-Grant Budget'!EE43","v":""},null,null,0]
[{"$f":"'2-Grant Budget'!DW44","v":"00"},{"$f":"'2-Grant Budget'!DX44","v":""},{"$f":"'2-Grant Budget'!DY44","v":""},{"$f":"'2-Grant Budget'!DZ44","v":1},{"$f":"'2-Grant Budget'!EA44","v":""},{"$f":"'2-Grant Budget'!EB44","v":1},{"$f":"'2-Grant Budget'!EC44","v":""},{"$f":"'2-Grant Budget'!ED44","v":0},{"$f":"'2-Grant Budget'!EE44","v":""},null,null,0]
[{"$f":"'2-Grant Budget'!DW45","v":"00"},{"$f":"'2-Grant Budget'!DX45","v":""},{"$f":"'2-Grant Budget'!DY45","v":""},{"$f":"'2-Grant Budget'!DZ45","v":1},{"$f":"'2-Grant Budget'!EA45","v":""},{"$f":"'2-Grant Budget'!EB45","v":1},{"$f":"'2-Grant Budget'!EC45","v":""},{"$f":"'2-Grant Budget'!ED45","v":0},{"$f":"'2-Grant Budget'!EE45","v":""},null,null,0]
[{"$f":"'2-Grant Budget'!DW46","v":"00"},{"$f":"'2-Grant Budget'!DX46","v":""},{"$f":"'2-Grant Budget'!DY46","v":""},{"$f":"'2-Grant Budget'!DZ46","v":1},{"$f":"'2-Grant Budget'!EA46","v":""},{"$f":"'2-Grant Budget'!EB46","v":1},{"$f":"'2-Grant Budget'!EC46","v":""},{"$f":"'2-Grant Budget'!ED46","v":0},{"$f":"'2-Grant Budget'!EE46","v":""},null,null,0]
[{"$f":"'2-Grant Budget'!DW47","v":"00"},{"$f":"'2-Grant Budget'!DX47","v":""},{"$f":"'2-Grant Budget'!DY47","v":""},{"$f":"'2-Grant Budget'!DZ47","v":1},{"$f":"'2-Grant Budget'!EA47","v":""},{"$f":"'2-Grant Budget'!EB47","v":1},{"$f":"'2-Grant Budget'!EC47","v":""},{"$f":"'2-Grant Budget'!ED47","v":0},{"$f":"'2-Grant Budget'!EE47","v":""},null,null,0]
[{"$f":"'2-Grant Budget'!DW48","v":"00"},{"$f":"'2-Grant Budget'!DX48","v":""},{"$f":"'2-Grant Budget'!DY48","v":""},{"$f":"'2-Grant Budget'!DZ48","v":1},{"$f":"'2-Grant Budget'!EA48","v":""},{"$f":"'2-Grant Budget'!EB48","v":1},{"$f":"'2-Grant Budget'!EC48","v":""},{"$f":"'2-Grant Budget'!ED48","v":0},{"$f":"'2-Grant Budget'!EE48","v":""},null,null,0]
[{"$f":"'2-Grant Budget'!DW49","v":"00"},{"$f":"'2-Grant Budget'!DX49","v":""},{"$f":"'2-Grant Budget'!DY49","v":""},{"$f":"'2-Grant Budget'!DZ49","v":1},{"$f":"'2-Grant Budget'!EA49","v":""},{"$f":"'2-Grant Budget'!EB49","v":1},{"$f":"'2-Grant Budget'!EC49","v":""},{"$f":"'2-Grant Budget'!ED49","v":0},{"$f":"'2-Grant Budget'!EE49","v":""},null,null,0]
[{"$f":"'2-Grant Budget'!DW50","v":"00"},{"$f":"'2-Grant Budget'!DX50","v":""},{"$f":"'2-Grant Budget'!DY50","v":""},{"$f":"'2-Grant Budget'!DZ50","v":1},{"$f":"'2-Grant Budget'!EA50","v":""},{"$f":"'2-Grant Budget'!EB50","v":1},{"$f":"'2-Grant Budget'!EC50","v":""},{"$f":"'2-Grant Budget'!ED50","v":0},{"$f":"'2-Grant Budget'!EE50","v":""},null,null,0]
[{"$f":"'2-Grant Budget'!DW51","v":"00"},{"$f":"'2-Grant Budget'!DX51","v":""},{"$f":"'2-Grant Budget'!DY51","v":""},{"$f":"'2-Grant Budget'!DZ51","v":1},{"$f":"'2-Grant Budget'!EA51","v":""},{"$f":"'2-Grant Budget'!EB51","v":1},{"$f":"'2-Grant Budget'!EC51","v":""},{"$f":"'2-Grant Budget'!ED51","v":0},{"$f":"'2-Grant Budget'!EE51","v":""},null,null,0]
[{"$f":"'2-Grant Budget'!DW52","v":"00"},{"$f":"'2-Grant Budget'!DX52","v":""},{"$f":"'2-Grant Budget'!DY52","v":""},{"$f":"'2-Grant Budget'!DZ52","v":1},{"$f":"'2-Grant Budget'!EA52","v":""},{"$f":"'2-Grant Budget'!EB52","v":1},{"$f":"'2-Grant Budget'!EC52","v":""},{"$f":"'2-Grant Budget'!ED52","v":0},{"$f":"'2-Grant Budget'!EE52","v":""},null,null,0]
[{"$f":"'2-Grant Budget'!DW53","v":"00"},{"$f":"'2-Grant Budget'!DX53","v":""},{"$f":"'2-Grant Budget'!DY53","v":""},{"$f":"'2-Grant Budget'!DZ53","v":1},{"$f":"'2-Grant Budget'!EA53","v":""},{"$f":"'2-Grant Budget'!EB53","v":1},{"$f":"'2-Grant Budget'!EC53","v":""},{"$f":"'2-Grant Budget'!ED53","v":0},{"$f":"'2-Grant Budget'!EE53","v":""},null,null,0]
[{"$f":"'2-Grant Budget'!DW54","v":"00"},{"$f":"'2-Grant Budget'!DX54","v":""},{"$f":"'2-Grant Budget'!DY54","v":""},{"$f":"'2-Grant Budget'!DZ54","v":1},{"$f":"'2-Grant Budget'!EA54","v":""},{"$f":"'2-Grant Budget'!EB54","v":1},{"$f":"'2-Grant Budget'!EC54","v":""},{"$f":"'2-Grant Budget'!ED54","v":0},{"$f":"'2-Grant Budget'!EE54","v":""},null,null,0]
[{"$f":"'2-Grant Budget'!DW55","v":"00"},{"$f":"'2-Grant Budget'!DX55","v":""},{"$f":"'2-Grant Budget'!DY55","v":""},{"$f":"'2-Grant Budget'!DZ55","v":1},{"$f":"'2-Grant Budget'!EA55","v":""},{"$f":"'2-Grant Budget'!EB55","v":1},{"$f":"'2-Grant Budget'!EC55","v":""},{"$f":"'2-Grant Budget'!ED55","v":0},{"$f":"'2-Grant Budget'!EE55","v":""},null,null,0]
[{"$f":"'2-Grant Budget'!DW56","v":"00"},{"$f":"'2-Grant Budget'!DX56","v":""},{"$f":"'2-Grant Budget'!DY56","v":""},{"$f":"'2-Grant Budget'!DZ56","v":1},{"$f":"'2-Grant Budget'!EA56","v":""},{"$f":"'2-Grant Budget'!EB56","v":1},{"$f":"'2-Grant Budget'!EC56","v":""},{"$f":"'2-Grant Budget'!ED56","v":0},{"$f":"'2-Grant Budget'!EE56","v":""},null,null,0]
[{"$f":"'2-Grant Budget'!DW57","v":"00"},{"$f":"'2-Grant Budget'!DX57","v":""},{"$f":"'2-Grant Budget'!DY57","v":""},{"$f":"'2-Grant Budget'!DZ57","v":1},{"$f":"'2-Grant Budget'!EA57","v":""},{"$f":"'2-Grant Budget'!EB57","v":1},{"$f":"'2-Grant Budget'!EC57","v":""},{"$f":"'2-Grant Budget'!ED57","v":0},{"$f":"'2-Grant Budget'!EE57","v":""},null,null,0]
[{"$f":"'2-Grant Budget'!DW58","v":"00"},{"$f":"'2-Grant Budget'!DX58","v":""},{"$f":"'2-Grant Budget'!DY58","v":""},{"$f":"'2-Grant Budget'!DZ58","v":1},{"$f":"'2-Grant Budget'!EA58","v":""},{"$f":"'2-Grant Budget'!EB58","v":1},{"$f":"'2-Grant Budget'!EC58","v":""},{"$f":"'2-Grant Budget'!ED58","v":0},{"$f":"'2-Grant Budget'!EE58","v":""},null,null,0]
[{"$f":"'2-Grant Budget'!DW59","v":"00"},{"$f":"'2-Grant Budget'!DX59","v":""},{"$f":"'2-Grant Budget'!DY59","v":""},{"$f":"'2-Grant Budget'!DZ59","v":1},{"$f":"'2-Grant Budget'!EA59","v":""},{"$f":"'2-Grant Budget'!EB59","v":1},{"$f":"'2-Grant Budget'!EC59","v":""},{"$f":"'2-Grant Budget'!ED59","v":0},{"$f":"'2-Grant Budget'!EE59","v":""},null,null,0]
[{"$f":"'2-Grant Budget'!DW60","v":"00"},{"$f":"'2-Grant Budget'!DX60","v":""},{"$f":"'2-Grant Budget'!DY60","v":""},{"$f":"'2-Grant Budget'!DZ60","v":1},{"$f":"'2-Grant Budget'!EA60","v":""},{"$f":"'2-Grant Budget'!EB60","v":1},{"$f":"'2-Grant Budget'!EC60","v":""},{"$f":"'2-Grant Budget'!ED60","v":0},{"$f":"'2-Grant Budget'!EE60","v":""},null,null,0]
[{"$f":"'2-Grant Budget'!DW61","v":"00"},{"$f":"'2-Grant Budget'!DX61","v":""},{"$f":"'2-Grant Budget'!DY61","v":""},{"$f":"'2-Grant Budget'!DZ61","v":1},{"$f":"'2-Grant Budget'!EA61","v":""},{"$f":"'2-Grant Budget'!EB61","v":1},{"$f":"'2-Grant Budget'!EC61","v":""},{"$f":"'2-Grant Budget'!ED61","v":0},{"$f":"'2-Grant Budget'!EE61","v":""},null,null,0]
[{"$f":"'2-Grant Budget'!DW62","v":"00"},{"$f":"'2-Grant Budget'!DX62","v":""},{"$f":"'2-Grant Budget'!DY62","v":""},{"$f":"'2-Grant Budget'!DZ62","v":1},{"$f":"'2-Grant Budget'!EA62","v":""},{"$f":"'2-Grant Budget'!EB62","v":1},{"$f":"'2-Grant Budget'!EC62","v":""},{"$f":"'2-Grant Budget'!ED62","v":0},{"$f":"'2-Grant Budget'!EE62","v":""},null,null,0]
[{"$f":"'2-Grant Budget'!DW63","v":"00"},{"$f":"'2-Grant Budget'!DX63","v":""},{"$f":"'2-Grant Budget'!DY63","v":""},{"$f":"'2-Grant Budget'!DZ63","v":1},{"$f":"'2-Grant Budget'!EA63","v":""},{"$f":"'2-Grant Budget'!EB63","v":1},{"$f":"'2-Grant Budget'!EC63","v":""},{"$f":"'2-Grant Budget'!ED63","v":0},{"$f":"'2-Grant Budget'!EE63","v":""},null,null,0]
[{"$f":"'2-Grant Budget'!DW64","v":"00"},{"$f":"'2-Grant Budget'!DX64","v":""},{"$f":"'2-Grant Budget'!DY64","v":""},{"$f":"'2-Grant Budget'!DZ64","v":1},{"$f":"'2-Grant Budget'!EA64","v":""},{"$f":"'2-Grant Budget'!EB64","v":1},{"$f":"'2-Grant Budget'!EC64","v":""},{"$f":"'2-Grant Budget'!ED64","v":0},{"$f":"'2-Grant Budget'!EE64","v":""},null,null,0]
[{"$f":"'2-Grant Budget'!DW65","v":"00"},{"$f":"'2-Grant Budget'!DX65","v":""},{"$f":"'2-Grant Budget'!DY65","v":""},{"$f":"'2-Grant Budget'!DZ65","v":1},{"$f":"'2-Grant Budget'!EA65","v":""},{"$f":"'2-Grant Budget'!EB65","v":1},{"$f":"'2-Grant Budget'!EC65","v":""},{"$f":"'2-Grant Budget'!ED65","v":0},{"$f":"'2-Grant Budget'!EE65","v":""},null,null,0]
[{"$f":"'2-Grant Budget'!DW66","v":"00"},{"$f":"'2-Grant Budget'!DX66","v":""},{"$f":"'2-Grant Budget'!DY66","v":""},{"$f":"'2-Grant Budget'!DZ66","v":1},{"$f":"'2-Grant Budget'!EA66","v":""},{"$f":"'2-Grant Budget'!EB66","v":1},{"$f":"'2-Grant Budget'!EC66","v":""},{"$f":"'2-Grant Budget'!ED66","v":0},{"$f":"'2-Grant Budget'!EE66","v":""},null,null,0]
[{"$f":"'2-Grant Budget'!DW67","v":"00"},{"$f":"'2-Grant Budget'!DX67","v":""},{"$f":"'2-Grant Budget'!DY67","v":""},{"$f":"'2-Grant Budget'!DZ67","v":1},{"$f":"'2-Grant Budget'!EA67","v":""},{"$f":"'2-Grant Budget'!EB67","v":1},{"$f":"'2-Grant Budget'!EC67","v":""},{"$f":"'2-Grant Budget'!ED67","v":0},{"$f":"'2-Grant Budget'!EE67","v":""},null,null,0]
[{"$f":"'2-Grant Budget'!DW68","v":"00"},{"$f":"'2-Grant Budget'!DX68","v":""},{"$f":"'2-Grant Budget'!DY68","v":""},{"$f":"'2-Grant Budget'!DZ68","v":1},{"$f":"'2-Grant Budget'!EA68","v":""},{"$f":"'2-Grant Budget'!EB68","v":1},{"$f":"'2-Grant Budget'!EC68","v":""},{"$f":"'2-Grant Budget'!ED68","v":0},{"$f":"'2-Grant Budget'!EE68","v":""},null,null,0]
[{"$f":"'2-Grant Budget'!DW69","v":"00"},{"$f":"'2-Grant Budget'!DX69","v":""},{"$f":"'2-Grant Budget'!DY69","v":""},{"$f":"'2-Grant Budget'!DZ69","v":1},{"$f":"'2-Grant Budget'!EA69","v":""},{"$f":"'2-Grant Budget'!EB69","v":1},{"$f":"'2-Grant Budget'!EC69","v":""},{"$f":"'2-Grant Budget'!ED69","v":0},{"$f":"'2-Grant Budget'!EE69","v":""},null,null,0]
[{"$f":"'2-Grant Budget'!DW70","v":"00"},{"$f":"'2-Grant Budget'!DX70","v":""},{"$f":"'2-Grant Budget'!DY70","v":""},{"$f":"'2-Grant Budget'!DZ70","v":1},{"$f":"'2-Grant Budget'!EA70","v":""},{"$f":"'2-Grant Budget'!EB70","v":1},{"$f":"'2-Grant Budget'!EC70","v":""},{"$f":"'2-Grant Budget'!ED70","v":0},{"$f":"'2-Grant Budget'!EE70","v":""},null,null,0]
[{"$f":"'2-Grant Budget'!DW71","v":"00"},{"$f":"'2-Grant Budget'!DX71","v":""},{"$f":"'2-Grant Budget'!DY71","v":""},{"$f":"'2-Grant Budget'!DZ71","v":1},{"$f":"'2-Grant Budget'!EA71","v":""},{"$f":"'2-Grant Budget'!EB71","v":1},{"$f":"'2-Grant Budget'!EC71","v":""},{"$f":"'2-Grant Budget'!ED71","v":0},{"$f":"'2-Grant Budget'!EE71","v":""},null,null,0]
[{"$f":"'2-Grant Budget'!DW72","v":"00"},{"$f":"'2-Grant Budget'!DX72","v":""},{"$f":"'2-Grant Budget'!DY72","v":""},{"$f":"'2-Grant Budget'!DZ72","v":1},{"$f":"'2-Grant Budget'!EA72","v":""},{"$f":"'2-Grant Budget'!EB72","v":1},{"$f":"'2-Grant Budget'!EC72","v":""},{"$f":"'2-Grant Budget'!ED72","v":0},{"$f":"'2-Grant Budget'!EE72","v":""},null,null,0]
[{"$f":"'2-Grant Budget'!DW73","v":"00"},{"$f":"'2-Grant Budget'!DX73","v":""},{"$f":"'2-Grant Budget'!DY73","v":""},{"$f":"'2-Grant Budget'!DZ73","v":1},{"$f":"'2-Grant Budget'!EA73","v":""},{"$f":"'2-Grant Budget'!EB73","v":1},{"$f":"'2-Grant Budget'!EC73","v":""},{"$f":"'2-Grant Budget'!ED73","v":0},{"$f":"'2-Grant Budget'!EE73","v":""},null,null,0]
[{"$f":"'2-Grant Budget'!DW74","v":"00"},{"$f":"'2-Grant Budget'!DX74","v":""},{"$f":"'2-Grant Budget'!DY74","v":""},{"$f":"'2-Grant Budget'!DZ74","v":1},{"$f":"'2-Grant Budget'!EA74","v":""},{"$f":"'2-Grant Budget'!EB74","v":1},{"$f":"'2-Grant Budget'!EC74","v":""},{"$f":"'2-Grant Budget'!ED74","v":0},{"$f":"'2-Grant Budget'!EE74","v":""},null,null,0]
[{"$f":"'2-Grant Budget'!DW75","v":"00"},{"$f":"'2-Grant Budget'!DX75","v":""},{"$f":"'2-Grant Budget'!DY75","v":""},{"$f":"'2-Grant Budget'!DZ75","v":1},{"$f":"'2-Grant Budget'!EA75","v":""},{"$f":"'2-Grant Budget'!EB75","v":1},{"$f":"'2-Grant Budget'!EC75","v":""},{"$f":"'2-Grant Budget'!ED75","v":0},{"$f":"'2-Grant Budget'!EE75","v":""},null,null,0]
[{"$f":"'2-Grant Budget'!DW76","v":"00"},{"$f":"'2-Grant Budget'!DX76","v":""},{"$f":"'2-Grant Budget'!DY76","v":""},{"$f":"'2-Grant Budget'!DZ76","v":1},{"$f":"'2-Grant Budget'!EA76","v":""},{"$f":"'2-Grant Budget'!EB76","v":1},{"$f":"'2-Grant Budget'!EC76","v":""},{"$f":"'2-Grant Budget'!ED76","v":0},{"$f":"'2-Grant Budget'!EE76","v":""},null,null,0]
[{"$f":"'2-Grant Budget'!DW77","v":"00"},{"$f":"'2-Grant Budget'!DX77","v":""},{"$f":"'2-Grant Budget'!DY77","v":""},{"$f":"'2-Grant Budget'!DZ77","v":1},{"$f":"'2-Grant Budget'!EA77","v":""},{"$f":"'2-Grant Budget'!EB77","v":1},{"$f":"'2-Grant Budget'!EC77","v":""},{"$f":"'2-Grant Budget'!ED77","v":0},{"$f":"'2-Grant Budget'!EE77","v":""},null,null,0]
[{"$f":"'2-Grant Budget'!DW78","v":"00"},{"$f":"'2-Grant Budget'!DX78","v":""},{"$f":"'2-Grant Budget'!DY78","v":""},{"$f":"'2-Grant Budget'!DZ78","v":1},{"$f":"'2-Grant Budget'!EA78","v":""},{"$f":"'2-Grant Budget'!EB78","v":1},{"$f":"'2-Grant Budget'!EC78","v":""},{"$f":"'2-Grant Budget'!ED78","v":0},{"$f":"'2-Grant Budget'!EE78","v":""},null,null,0]
[{"$f":"'2-Grant Budget'!DW79","v":"00"},{"$f":"'2-Grant Budget'!DX79","v":""},{"$f":"'2-Grant Budget'!DY79","v":""},{"$f":"'2-Grant Budget'!DZ79","v":1},{"$f":"'2-Grant Budget'!EA79","v":""},{"$f":"'2-Grant Budget'!EB79","v":1},{"$f":"'2-Grant Budget'!EC79","v":""},{"$f":"'2-Grant Budget'!ED79","v":0},{"$f":"'2-Grant Budget'!EE79","v":""},null,null,0]
[{"$f":"'2-Grant Budget'!DW80","v":"00"},{"$f":"'2-Grant Budget'!DX80","v":""},{"$f":"'2-Grant Budget'!DY80","v":""},{"$f":"'2-Grant Budget'!DZ80","v":1},{"$f":"'2-Grant Budget'!EA80","v":""},{"$f":"'2-Grant Budget'!EB80","v":1},{"$f":"'2-Grant Budget'!EC80","v":""},{"$f":"'2-Grant Budget'!ED80","v":0},{"$f":"'2-Grant Budget'!EE80","v":""},null,null,0]
[{"$f":"'2-Grant Budget'!DW81","v":"00"},{"$f":"'2-Grant Budget'!DX81","v":""},{"$f":"'2-Grant Budget'!DY81","v":""},{"$f":"'2-Grant Budget'!DZ81","v":1},{"$f":"'2-Grant Budget'!EA81","v":""},{"$f":"'2-Grant Budget'!EB81","v":1},{"$f":"'2-Grant Budget'!EC81","v":""},{"$f":"'2-Grant Budget'!ED81","v":0},{"$f":"'2-Grant Budget'!EE81","v":""},null,null,0]
[{"$f":"'2-Grant Budget'!DW82","v":"00"},{"$f":"'2-Grant Budget'!DX82","v":""},{"$f":"'2-Grant Budget'!DY82","v":""},{"$f":"'2-Grant Budget'!DZ82","v":1},{"$f":"'2-Grant Budget'!EA82","v":""},{"$f":"'2-Grant Budget'!EB82","v":1},{"$f":"'2-Grant Budget'!EC82","v":""},{"$f":"'2-Grant Budget'!ED82","v":0},{"$f":"'2-Grant Budget'!EE82","v":""},null,null,{"$f":"IF(LEN(B70)>0,1,0)","v":0}]
[{"$f":"'2-Grant Budget'!DW83","v":"00"},{"$f":"'2-Grant Budget'!DX83","v":""},{"$f":"'2-Grant Budget'!DY83","v":""},{"$f":"'2-Grant Budget'!DZ83","v":1},{"$f":"'2-Grant Budget'!EA83","v":""},{"$f":"'2-Grant Budget'!EB83","v":1},{"$f":"'2-Grant Budget'!EC83","v":""},{"$f":"'2-Grant Budget'!ED83","v":0},{"$f":"'2-Grant Budget'!EE83","v":""},null,null,0]
[{"$f":"'2-Grant Budget'!DW84","v":"00"},{"$f":"'2-Grant Budget'!DX84","v":""},{"$f":"'2-Grant Budget'!DY84","v":""},{"$f":"'2-Grant Budget'!DZ84","v":1},{"$f":"'2-Grant Budget'!EA84","v":""},{"$f":"'2-Grant Budget'!EB84","v":1},{"$f":"'2-Grant Budget'!EC84","v":""},{"$f":"'2-Grant Budget'!ED84","v":0},{"$f":"'2-Grant Budget'!EE84","v":""},null,null,0]
[{"$f":"'2-Grant Budget'!DW85","v":"00"},{"$f":"'2-Grant Budget'!DX85","v":""},{"$f":"'2-Grant Budget'!DY85","v":""},{"$f":"'2-Grant Budget'!DZ85","v":1},{"$f":"'2-Grant Budget'!EA85","v":""},{"$f":"'2-Grant Budget'!EB85","v":1},{"$f":"'2-Grant Budget'!EC85","v":""},{"$f":"'2-Grant Budget'!ED85","v":0},{"$f":"'2-Grant Budget'!EE85","v":""},null,null,0]
[{"$f":"'2-Grant Budget'!DW86","v":"00"},{"$f":"'2-Grant Budget'!DX86","v":""},{"$f":"'2-Grant Budget'!DY86","v":""},{"$f":"'2-Grant Budget'!DZ86","v":1},{"$f":"'2-Grant Budget'!EA86","v":""},{"$f":"'2-Grant Budget'!EB86","v":1},{"$f":"'2-Grant Budget'!EC86","v":""},{"$f":"'2-Grant Budget'!ED86","v":0},{"$f":"'2-Grant Budget'!EE86","v":""},null,null,0]
[{"$f":"'2-Grant Budget'!DW87","v":"00"},{"$f":"'2-Grant Budget'!DX87","v":""},{"$f":"'2-Grant Budget'!DY87","v":""},{"$f":"'2-Grant Budget'!DZ87","v":1},{"$f":"'2-Grant Budget'!EA87","v":""},{"$f":"'2-Grant Budget'!EB87","v":1},{"$f":"'2-Grant Budget'!EC87","v":""},{"$f":"'2-Grant Budget'!ED87","v":0},{"$f":"'2-Grant Budget'!EE87","v":""},null,null,0]
[{"$f":"'2-Grant Budget'!DW88","v":"00"},{"$f":"'2-Grant Budget'!DX88","v":""},{"$f":"'2-Grant Budget'!DY88","v":""},{"$f":"'2-Grant Budget'!DZ88","v":1},{"$f":"'2-Grant Budget'!EA88","v":""},{"$f":"'2-Grant Budget'!EB88","v":1},{"$f":"'2-Grant Budget'!EC88","v":""},{"$f":"'2-Grant Budget'!ED88","v":0},{"$f":"'2-Grant Budget'!EE88","v":""},null,null,0]
[{"$f":"'2-Grant Budget'!DW89","v":"00"},{"$f":"'2-Grant Budget'!DX89","v":""},{"$f":"'2-Grant Budget'!DY89","v":""},{"$f":"'2-Grant Budget'!DZ89","v":1},{"$f":"'2-Grant Budget'!EA89","v":""},{"$f":"'2-Grant Budget'!EB89","v":1},{"$f":"'2-Grant Budget'!EC89","v":""},{"$f":"'2-Grant Budget'!ED89","v":0},{"$f":"'2-Grant Budget'!EE89","v":""},null,null,0]
[{"$f":"'2-Grant Budget'!DW90","v":"00"},{"$f":"'2-Grant Budget'!DX90","v":""},{"$f":"'2-Grant Budget'!DY90","v":""},{"$f":"'2-Grant Budget'!DZ90","v":1},{"$f":"'2-Grant Budget'!EA90","v":""},{"$f":"'2-Grant Budget'!EB90","v":1},{"$f":"'2-Grant Budget'!EC90","v":""},{"$f":"'2-Grant Budget'!ED90","v":0},{"$f":"'2-Grant Budget'!EE90","v":""},null,null,0]
[{"$f":"'2-Grant Budget'!DW91","v":"00"},{"$f":"'2-Grant Budget'!DX91","v":""},{"$f":"'2-Grant Budget'!DY91","v":""},{"$f":"'2-Grant Budget'!DZ91","v":1},{"$f":"'2-Grant Budget'!EA91","v":""},{"$f":"'2-Grant Budget'!EB91","v":1},{"$f":"'2-Grant Budget'!EC91","v":""},{"$f":"'2-Grant Budget'!ED91","v":0},{"$f":"'2-Grant Budget'!EE91","v":""},null,null,0]
[{"$f":"'2-Grant Budget'!DW92","v":"00"},{"$f":"'2-Grant Budget'!DX92","v":""},{"$f":"'2-Grant Budget'!DY92","v":""},{"$f":"'2-Grant Budget'!DZ92","v":1},{"$f":"'2-Grant Budget'!EA92","v":""},{"$f":"'2-Grant Budget'!EB92","v":1},{"$f":"'2-Grant Budget'!EC92","v":""},{"$f":"'2-Grant Budget'!ED92","v":0},{"$f":"'2-Grant Budget'!EE92","v":""},null,null,0]
[{"$f":"'2-Grant Budget'!DW93","v":"00"},{"$f":"'2-Grant Budget'!DX93","v":""},{"$f":"'2-Grant Budget'!DY93","v":""},{"$f":"'2-Grant Budget'!DZ93","v":1},{"$f":"'2-Grant Budget'!EA93","v":""},{"$f":"'2-Grant Budget'!EB93","v":1},{"$f":"'2-Grant Budget'!EC93","v":""},{"$f":"'2-Grant Budget'!ED93","v":0},{"$f":"'2-Grant Budget'!EE93","v":""},null,null,0]
[{"$f":"'2-Grant Budget'!DW94","v":"00"},{"$f":"'2-Grant Budget'!DX94","v":""},{"$f":"'2-Grant Budget'!DY94","v":""},{"$f":"'2-Grant Budget'!DZ94","v":1},{"$f":"'2-Grant Budget'!EA94","v":""},{"$f":"'2-Grant Budget'!EB94","v":1},{"$f":"'2-Grant Budget'!EC94","v":""},{"$f":"'2-Grant Budget'!ED94","v":0},{"$f":"'2-Grant Budget'!EE94","v":""},null,null,0]
[{"$f":"'2-Grant Budget'!DW95","v":"00"},{"$f":"'2-Grant Budget'!DX95","v":""},{"$f":"'2-Grant Budget'!DY95","v":""},{"$f":"'2-Grant Budget'!DZ95","v":1},{"$f":"'2-Grant Budget'!EA95","v":""},{"$f":"'2-Grant Budget'!EB95","v":1},{"$f":"'2-Grant Budget'!EC95","v":""},{"$f":"'2-Grant Budget'!ED95","v":0},{"$f":"'2-Grant Budget'!EE95","v":""},null,null,0]
[{"$f":"'2-Grant Budget'!DW96","v":"00"},{"$f":"'2-Grant Budget'!DX96","v":""},{"$f":"'2-Grant Budget'!DY96","v":""},{"$f":"'2-Grant Budget'!DZ96","v":1},{"$f":"'2-Grant Budget'!EA96","v":""},{"$f":"'2-Grant Budget'!EB96","v":1},{"$f":"'2-Grant Budget'!EC96","v":""},{"$f":"'2-Grant Budget'!ED96","v":0},{"$f":"'2-Grant Budget'!EE96","v":""},null,null,0]
[{"$f":"'2-Grant Budget'!DW97","v":"00"},{"$f":"'2-Grant Budget'!DX97","v":""},{"$f":"'2-Grant Budget'!DY97","v":""},{"$f":"'2-Grant Budget'!DZ97","v":1},{"$f":"'2-Grant Budget'!EA97","v":""},{"$f":"'2-Grant Budget'!EB97","v":1},{"$f":"'2-Grant Budget'!EC97","v":""},{"$f":"'2-Grant Budget'!ED97","v":0},{"$f":"'2-Grant Budget'!EE97","v":""},null,null,0]
[{"$f":"'2-Grant Budget'!DW98","v":"00"},{"$f":"'2-Grant Budget'!DX98","v":""},{"$f":"'2-Grant Budget'!DY98","v":""},{"$f":"'2-Grant Budget'!DZ98","v":1},{"$f":"'2-Grant Budget'!EA98","v":""},{"$f":"'2-Grant Budget'!EB98","v":1},{"$f":"'2-Grant Budget'!EC98","v":""},{"$f":"'2-Grant Budget'!ED98","v":0},{"$f":"'2-Grant Budget'!EE98","v":""},null,null,0]
[{"$f":"'2-Grant Budget'!DW99","v":"00"},{"$f":"'2-Grant Budget'!DX99","v":""},{"$f":"'2-Grant Budget'!DY99","v":""},{"$f":"'2-Grant Budget'!DZ99","v":1},{"$f":"'2-Grant Budget'!EA99","v":""},{"$f":"'2-Grant Budget'!EB99","v":1},{"$f":"'2-Grant Budget'!EC99","v":""},{"$f":"'2-Grant Budget'!ED99","v":0},{"$f":"'2-Grant Budget'!EE99","v":""},null,null,0]
[{"$f":"'2-Grant Budget'!DW100","v":"00"},{"$f":"'2-Grant Budget'!DX100","v":""},{"$f":"'2-Grant Budget'!DY100","v":""},{"$f":"'2-Grant Budget'!DZ100","v":1},{"$f":"'2-Grant Budget'!EA100","v":""},{"$f":"'2-Grant Budget'!EB100","v":1},{"$f":"'2-Grant Budget'!EC100","v":""},{"$f":"'2-Grant Budget'!ED100","v":0},{"$f":"'2-Grant Budget'!EE100","v":""},null,null,0]
[{"$f":"'2-Grant Budget'!DW101","v":"00"},{"$f":"'2-Grant Budget'!DX101","v":""},{"$f":"'2-Grant Budget'!DY101","v":""},{"$f":"'2-Grant Budget'!DZ101","v":1},{"$f":"'2-Grant Budget'!EA101","v":""},{"$f":"'2-Grant Budget'!EB101","v":1},{"$f":"'2-Grant Budget'!EC101","v":""},{"$f":"'2-Grant Budget'!ED101","v":0},{"$f":"'2-Grant Budget'!EE101","v":""},null,null,0]
[{"$f":"'2-Grant Budget'!DW102","v":"00"},{"$f":"'2-Grant Budget'!DX102","v":""},{"$f":"'2-Grant Budget'!DY102","v":""},{"$f":"'2-Grant Budget'!DZ102","v":1},{"$f":"'2-Grant Budget'!EA102","v":""},{"$f":"'2-Grant Budget'!EB102","v":1},{"$f":"'2-Grant Budget'!EC102","v":""},{"$f":"'2-Grant Budget'!ED102","v":0},{"$f":"'2-Grant Budget'!EE102","v":""},null,null,0]
[{"$f":"'2-Grant Budget'!DW103","v":"00"},{"$f":"'2-Grant Budget'!DX103","v":""},{"$f":"'2-Grant Budget'!DY103","v":""},{"$f":"'2-Grant Budget'!DZ103","v":1},{"$f":"'2-Grant Budget'!EA103","v":""},{"$f":"'2-Grant Budget'!EB103","v":1},{"$f":"'2-Grant Budget'!EC103","v":""},{"$f":"'2-Grant Budget'!ED103","v":0},{"$f":"'2-Grant Budget'!EE103","v":""},null,null,0]
[{"$f":"'2-Grant Budget'!DW104","v":"00"},{"$f":"'2-Grant Budget'!DX104","v":""},{"$f":"'2-Grant Budget'!DY104","v":""},{"$f":"'2-Grant Budget'!DZ104","v":1},{"$f":"'2-Grant Budget'!EA104","v":""},{"$f":"'2-Grant Budget'!EB104","v":1},{"$f":"'2-Grant Budget'!EC104","v":""},{"$f":"'2-Grant Budget'!ED104","v":0},{"$f":"'2-Grant Budget'!EE104","v":""},null,null,0]
[{"$f":"'2-Grant Budget'!DW105","v":"00"},{"$f":"'2-Grant Budget'!DX105","v":""},{"$f":"'2-Grant Budget'!DY105","v":""},{"$f":"'2-Grant Budget'!DZ105","v":1},{"$f":"'2-Grant Budget'!EA105","v":""},{"$f":"'2-Grant Budget'!EB105","v":1},{"$f":"'2-Grant Budget'!EC105","v":""},{"$f":"'2-Grant Budget'!ED105","v":0},{"$f":"'2-Grant Budget'!EE105","v":""},null,null,0]
[{"$f":"'2-Grant Budget'!DW106","v":"00"},{"$f":"'2-Grant Budget'!DX106","v":""},{"$f":"'2-Grant Budget'!DY106","v":""},{"$f":"'2-Grant Budget'!DZ106","v":1},{"$f":"'2-Grant Budget'!EA106","v":""},{"$f":"'2-Grant Budget'!EB106","v":1},{"$f":"'2-Grant Budget'!EC106","v":""},{"$f":"'2-Grant Budget'!ED106","v":0},{"$f":"'2-Grant Budget'!EE106","v":""},null,null,0]
[{"$f":"'2-Grant Budget'!DW107","v":"00"},{"$f":"'2-Grant Budget'!DX107","v":""},{"$f":"'2-Grant Budget'!DY107","v":""},{"$f":"'2-Grant Budget'!DZ107","v":1},{"$f":"'2-Grant Budget'!EA107","v":""},{"$f":"'2-Grant Budget'!EB107","v":1},{"$f":"'2-Grant Budget'!EC107","v":""},{"$f":"'2-Grant Budget'!ED107","v":0},{"$f":"'2-Grant Budget'!EE107","v":""},null,null,0]
[{"$f":"'2-Grant Budget'!DW108","v":"00"},{"$f":"'2-Grant Budget'!DX108","v":""},{"$f":"'2-Grant Budget'!DY108","v":""},{"$f":"'2-Grant Budget'!DZ108","v":1},{"$f":"'2-Grant Budget'!EA108","v":""},{"$f":"'2-Grant Budget'!EB108","v":1},{"$f":"'2-Grant Budget'!EC108","v":""},{"$f":"'2-Grant Budget'!ED108","v":0},{"$f":"'2-Grant Budget'!EE108","v":""},null,null,0]
[{"$f":"'2-Grant Budget'!DW109","v":"00"},{"$f":"'2-Grant Budget'!DX109","v":""},{"$f":"'2-Grant Budget'!DY109","v":""},{"$f":"'2-Grant Budget'!DZ109","v":1},{"$f":"'2-Grant Budget'!EA109","v":""},{"$f":"'2-Grant Budget'!EB109","v":1},{"$f":"'2-Grant Budget'!EC109","v":""},{"$f":"'2-Grant Budget'!ED109","v":0},{"$f":"'2-Grant Budget'!EE109","v":""},null,null,0]
[{"$f":"'2-Grant Budget'!DW110","v":"00"},{"$f":"'2-Grant Budget'!DX110","v":""},{"$f":"'2-Grant Budget'!DY110","v":""},{"$f":"'2-Grant Budget'!DZ110","v":1},{"$f":"'2-Grant Budget'!EA110","v":""},{"$f":"'2-Grant Budget'!EB110","v":1},{"$f":"'2-Grant Budget'!EC110","v":""},{"$f":"'2-Grant Budget'!ED110","v":0},{"$f":"'2-Grant Budget'!EE110","v":""},null,null,0]
[{"$f":"'2-Grant Budget'!DW111","v":"00"},{"$f":"'2-Grant Budget'!DX111","v":""},{"$f":"'2-Grant Budget'!DY111","v":""},{"$f":"'2-Grant Budget'!DZ111","v":1},{"$f":"'2-Grant Budget'!EA111","v":""},{"$f":"'2-Grant Budget'!EB111","v":1},{"$f":"'2-Grant Budget'!EC111","v":""},{"$f":"'2-Grant Budget'!ED111","v":0},{"$f":"'2-Grant Budget'!EE111","v":""},null,null,0]
[{"$f":"'2-Grant Budget'!DW112","v":"00"},{"$f":"'2-Grant Budget'!DX112","v":""},{"$f":"'2-Grant Budget'!DY112","v":""},{"$f":"'2-Grant Budget'!DZ112","v":1},{"$f":"'2-Grant Budget'!EA112","v":""},{"$f":"'2-Grant Budget'!EB112","v":1},{"$f":"'2-Grant Budget'!EC112","v":""},{"$f":"'2-Grant Budget'!ED112","v":0},{"$f":"'2-Grant Budget'!EE112","v":""},null,null,0]
[{"$f":"'2-Grant Budget'!DW113","v":"00"},{"$f":"'2-Grant Budget'!DX113","v":""},{"$f":"'2-Grant Budget'!DY113","v":""},{"$f":"'2-Grant Budget'!DZ113","v":1},{"$f":"'2-Grant Budget'!EA113","v":""},{"$f":"'2-Grant Budget'!EB113","v":1},{"$f":"'2-Grant Budget'!EC113","v":""},{"$f":"'2-Grant Budget'!ED113","v":0},{"$f":"'2-Grant Budget'!EE113","v":""},null,null,0]
[{"$f":"'2-Grant Budget'!DW114","v":"00"},{"$f":"'2-Grant Budget'!DX114","v":""},{"$f":"'2-Grant Budget'!DY114","v":""},{"$f":"'2-Grant Budget'!DZ114","v":1},{"$f":"'2-Grant Budget'!EA114","v":""},{"$f":"'2-Grant Budget'!EB114","v":1},{"$f":"'2-Grant Budget'!EC114","v":""},{"$f":"'2-Grant Budget'!ED114","v":0},{"$f":"'2-Grant Budget'!EE114","v":""},null,null,0]
[{"$f":"'2-Grant Budget'!DW115","v":"00"},{"$f":"'2-Grant Budget'!DX115","v":""},{"$f":"'2-Grant Budget'!DY115","v":""},{"$f":"'2-Grant Budget'!DZ115","v":1},{"$f":"'2-Grant Budget'!EA115","v":""},{"$f":"'2-Grant Budget'!EB115","v":1},{"$f":"'2-Grant Budget'!EC115","v":""},{"$f":"'2-Grant Budget'!ED115","v":0},{"$f":"'2-Grant Budget'!EE115","v":""},null,null,0]
[{"$f":"'2-Grant Budget'!DW116","v":"00"},{"$f":"'2-Grant Budget'!DX116","v":""},{"$f":"'2-Grant Budget'!DY116","v":""},{"$f":"'2-Grant Budget'!DZ116","v":1},{"$f":"'2-Grant Budget'!EA116","v":""},{"$f":"'2-Grant Budget'!EB116","v":1},{"$f":"'2-Grant Budget'!EC116","v":""},{"$f":"'2-Grant Budget'!ED116","v":0},{"$f":"'2-Grant Budget'!EE116","v":""},null,null,0]
[{"$f":"'2-Grant Budget'!DW117","v":"00"},{"$f":"'2-Grant Budget'!DX117","v":""},{"$f":"'2-Grant Budget'!DY117","v":""},{"$f":"'2-Grant Budget'!DZ117","v":1},{"$f":"'2-Grant Budget'!EA117","v":""},{"$f":"'2-Grant Budget'!EB117","v":1},{"$f":"'2-Grant Budget'!EC117","v":""},{"$f":"'2-Grant Budget'!ED117","v":0},{"$f":"'2-Grant Budget'!EE117","v":""},null,null,0]
[{"$f":"'2-Grant Budget'!DW118","v":"00"},{"$f":"'2-Grant Budget'!DX118","v":""},{"$f":"'2-Grant Budget'!DY118","v":""},{"$f":"'2-Grant Budget'!DZ118","v":1},{"$f":"'2-Grant Budget'!EA118","v":""},{"$f":"'2-Grant Budget'!EB118","v":1},{"$f":"'2-Grant Budget'!EC118","v":""},{"$f":"'2-Grant Budget'!ED118","v":0},{"$f":"'2-Grant Budget'!EE118","v":""},null,null,0]
[{"$f":"'2-Grant Budget'!DW119","v":"00"},{"$f":"'2-Grant Budget'!DX119","v":""},{"$f":"'2-Grant Budget'!DY119","v":""},{"$f":"'2-Grant Budget'!DZ119","v":1},{"$f":"'2-Grant Budget'!EA119","v":""},{"$f":"'2-Grant Budget'!EB119","v":1},{"$f":"'2-Grant Budget'!EC119","v":""},{"$f":"'2-Grant Budget'!ED119","v":0},{"$f":"'2-Grant Budget'!EE119","v":""},null,null,0]
[{"$f":"'2-Grant Budget'!DW120","v":"00"},{"$f":"'2-Grant Budget'!DX120","v":""},{"$f":"'2-Grant Budget'!DY120","v":""},{"$f":"'2-Grant Budget'!DZ120","v":1},{"$f":"'2-Grant Budget'!EA120","v":""},{"$f":"'2-Grant Budget'!EB120","v":1},{"$f":"'2-Grant Budget'!EC120","v":""},{"$f":"'2-Grant Budget'!ED120","v":0},{"$f":"'2-Grant Budget'!EE120","v":""},null,null,0]
[{"$f":"'2-Grant Budget'!DW121","v":"00"},{"$f":"'2-Grant Budget'!DX121","v":""},{"$f":"'2-Grant Budget'!DY121","v":""},{"$f":"'2-Grant Budget'!DZ121","v":1},{"$f":"'2-Grant Budget'!EA121","v":""},{"$f":"'2-Grant Budget'!EB121","v":1},{"$f":"'2-Grant Budget'!EC121","v":""},{"$f":"'2-Grant Budget'!ED121","v":0},{"$f":"'2-Grant Budget'!EE121","v":""},null,null,0]
[{"$f":"'2-Grant Budget'!DW122","v":"00"},{"$f":"'2-Grant Budget'!DX122","v":""},{"$f":"'2-Grant Budget'!DY122","v":""},{"$f":"'2-Grant Budget'!DZ122","v":1},{"$f":"'2-Grant Budget'!EA122","v":""},{"$f":"'2-Grant Budget'!EB122","v":1},{"$f":"'2-Grant Budget'!EC122","v":""},{"$f":"'2-Grant Budget'!ED122","v":0},{"$f":"'2-Grant Budget'!EE122","v":""},null,null,0]
[{"$f":"'2-Grant Budget'!DW123","v":"00"},{"$f":"'2-Grant Budget'!DX123","v":""},{"$f":"'2-Grant Budget'!DY123","v":""},{"$f":"'2-Grant Budget'!DZ123","v":1},{"$f":"'2-Grant Budget'!EA123","v":""},{"$f":"'2-Grant Budget'!EB123","v":1},{"$f":"'2-Grant Budget'!EC123","v":""},{"$f":"'2-Grant Budget'!ED123","v":0},{"$f":"'2-Grant Budget'!EE123","v":""},null,null,0]
[{"$f":"'2-Grant Budget'!DW124","v":"00"},{"$f":"'2-Grant Budget'!DX124","v":""},{"$f":"'2-Grant Budget'!DY124","v":""},{"$f":"'2-Grant Budget'!DZ124","v":1},{"$f":"'2-Grant Budget'!EA124","v":""},{"$f":"'2-Grant Budget'!EB124","v":1},{"$f":"'2-Grant Budget'!EC124","v":""},{"$f":"'2-Grant Budget'!ED124","v":0},{"$f":"'2-Grant Budget'!EE124","v":""},null,null,0]
[{"$f":"'2-Grant Budget'!DW125","v":"00"},{"$f":"'2-Grant Budget'!DX125","v":""},{"$f":"'2-Grant Budget'!DY125","v":""},{"$f":"'2-Grant Budget'!DZ125","v":1},{"$f":"'2-Grant Budget'!EA125","v":""},{"$f":"'2-Grant Budget'!EB125","v":1},{"$f":"'2-Grant Budget'!EC125","v":""},{"$f":"'2-Grant Budget'!ED125","v":0},{"$f":"'2-Grant Budget'!EE125","v":""},null,null,0]
[{"$f":"'2-Grant Budget'!DW126","v":"00"},{"$f":"'2-Grant Budget'!DX126","v":""},{"$f":"'2-Grant Budget'!DY126","v":""},{"$f":"'2-Grant Budget'!DZ126","v":1},{"$f":"'2-Grant Budget'!EA126","v":""},{"$f":"'2-Grant Budget'!EB126","v":1},{"$f":"'2-Grant Budget'!EC126","v":""},{"$f":"'2-Grant Budget'!ED126","v":0},{"$f":"'2-Grant Budget'!EE126","v":""},null,null,0]
[{"$f":"'2-Grant Budget'!DW127","v":"00"},{"$f":"'2-Grant Budget'!DX127","v":""},{"$f":"'2-Grant Budget'!DY127","v":""},{"$f":"'2-Grant Budget'!DZ127","v":1},{"$f":"'2-Grant Budget'!EA127","v":""},{"$f":"'2-Grant Budget'!EB127","v":1},{"$f":"'2-Grant Budget'!EC127","v":""},{"$f":"'2-Grant Budget'!ED127","v":0},{"$f":"'2-Grant Budget'!EE127","v":""},null,null,0]
[{"$f":"'2-Grant Budget'!DW128","v":"00"},{"$f":"'2-Grant Budget'!DX128","v":""},{"$f":"'2-Grant Budget'!DY128","v":""},{"$f":"'2-Grant Budget'!DZ128","v":1},{"$f":"'2-Grant Budget'!EA128","v":""},{"$f":"'2-Grant Budget'!EB128","v":1},{"$f":"'2-Grant Budget'!EC128","v":""},{"$f":"'2-Grant Budget'!ED128","v":0},{"$f":"'2-Grant Budget'!EE128","v":""},null,null,0]
[{"$f":"'2-Grant Budget'!DW129","v":"00"},{"$f":"'2-Grant Budget'!DX129","v":""},{"$f":"'2-Grant Budget'!DY129","v":""},{"$f":"'2-Grant Budget'!DZ129","v":1},{"$f":"'2-Grant Budget'!EA129","v":""},{"$f":"'2-Grant Budget'!EB129","v":1},{"$f":"'2-Grant Budget'!EC129","v":""},{"$f":"'2-Grant Budget'!ED129","v":0},{"$f":"'2-Grant Budget'!EE129","v":""},null,null,0]
[{"$f":"'2-Grant Budget'!DW130","v":"00"},{"$f":"'2-Grant Budget'!DX130","v":""},{"$f":"'2-Grant Budget'!DY130","v":""},{"$f":"'2-Grant Budget'!DZ130","v":1},{"$f":"'2-Grant Budget'!EA130","v":""},{"$f":"'2-Grant Budget'!EB130","v":1},{"$f":"'2-Grant Budget'!EC130","v":""},{"$f":"'2-Grant Budget'!ED130","v":0},{"$f":"'2-Grant Budget'!EE130","v":""},null,null,0]
[{"$f":"'2-Grant Budget'!DW131","v":"00"},{"$f":"'2-Grant Budget'!DX131","v":""},{"$f":"'2-Grant Budget'!DY131","v":""},{"$f":"'2-Grant Budget'!DZ131","v":1},{"$f":"'2-Grant Budget'!EA131","v":""},{"$f":"'2-Grant Budget'!EB131","v":1},{"$f":"'2-Grant Budget'!EC131","v":""},{"$f":"'2-Grant Budget'!ED131","v":0},{"$f":"'2-Grant Budget'!EE131","v":""},null,null,0]
[{"$f":"'2-Grant Budget'!DW132","v":"00"},{"$f":"'2-Grant Budget'!DX132","v":""},{"$f":"'2-Grant Budget'!DY132","v":""},{"$f":"'2-Grant Budget'!DZ132","v":1},{"$f":"'2-Grant Budget'!EA132","v":""},{"$f":"'2-Grant Budget'!EB132","v":1},{"$f":"'2-Grant Budget'!EC132","v":""},{"$f":"'2-Grant Budget'!ED132","v":0},{"$f":"'2-Grant Budget'!EE132","v":""},null,null,0]
[{"$f":"'2-Grant Budget'!DW133","v":"00"},{"$f":"'2-Grant Budget'!DX133","v":""},{"$f":"'2-Grant Budget'!DY133","v":""},{"$f":"'2-Grant Budget'!DZ133","v":1},{"$f":"'2-Grant Budget'!EA133","v":""},{"$f":"'2-Grant Budget'!EB133","v":1},{"$f":"'2-Grant Budget'!EC133","v":""},{"$f":"'2-Grant Budget'!ED133","v":0},{"$f":"'2-Grant Budget'!EE133","v":""},null,null,0]
[{"$f":"'2-Grant Budget'!DW134","v":"00"},{"$f":"'2-Grant Budget'!DX134","v":""},{"$f":"'2-Grant Budget'!DY134","v":""},{"$f":"'2-Grant Budget'!DZ134","v":1},{"$f":"'2-Grant Budget'!EA134","v":""},{"$f":"'2-Grant Budget'!EB134","v":1},{"$f":"'2-Grant Budget'!EC134","v":""},{"$f":"'2-Grant Budget'!ED134","v":0},{"$f":"'2-Grant Budget'!EE134","v":""},null,null,0]
[{"$f":"'2-Grant Budget'!DW135","v":"00"},{"$f":"'2-Grant Budget'!DX135","v":""},{"$f":"'2-Grant Budget'!DY135","v":""},{"$f":"'2-Grant Budget'!DZ135","v":1},{"$f":"'2-Grant Budget'!EA135","v":""},{"$f":"'2-Grant Budget'!EB135","v":1},{"$f":"'2-Grant Budget'!EC135","v":""},{"$f":"'2-Grant Budget'!ED135","v":0},{"$f":"'2-Grant Budget'!EE135","v":""},null,null,0]
[{"$f":"'2-Grant Budget'!DW136","v":"00"},{"$f":"'2-Grant Budget'!DX136","v":""},{"$f":"'2-Grant Budget'!DY136","v":""},{"$f":"'2-Grant Budget'!DZ136","v":1},{"$f":"'2-Grant Budget'!EA136","v":""},{"$f":"'2-Grant Budget'!EB136","v":1},{"$f":"'2-Grant Budget'!EC136","v":""},{"$f":"'2-Grant Budget'!ED136","v":0},{"$f":"'2-Grant Budget'!EE136","v":""},null,null,0]
[{"$f":"'2-Grant Budget'!DW137","v":"00"},{"$f":"'2-Grant Budget'!DX137","v":""},{"$f":"'2-Grant Budget'!DY137","v":""},{"$f":"'2-Grant Budget'!DZ137","v":1},{"$f":"'2-Grant Budget'!EA137","v":""},{"$f":"'2-Grant Budget'!EB137","v":1},{"$f":"'2-Grant Budget'!EC137","v":""},{"$f":"'2-Grant Budget'!ED137","v":0},{"$f":"'2-Grant Budget'!EE137","v":""},null,null,0]
[{"$f":"'2-Grant Budget'!DW138","v":"00"},{"$f":"'2-Grant Budget'!DX138","v":""},{"$f":"'2-Grant Budget'!DY138","v":""},{"$f":"'2-Grant Budget'!DZ138","v":1},{"$f":"'2-Grant Budget'!EA138","v":""},{"$f":"'2-Grant Budget'!EB138","v":1},{"$f":"'2-Grant Budget'!EC138","v":""},{"$f":"'2-Grant Budget'!ED138","v":0},{"$f":"'2-Grant Budget'!EE138","v":""},null,null,0]
[{"$f":"'2-Grant Budget'!DW139","v":"00"},{"$f":"'2-Grant Budget'!DX139","v":""},{"$f":"'2-Grant Budget'!DY139","v":""},{"$f":"'2-Grant Budget'!DZ139","v":1},{"$f":"'2-Grant Budget'!EA139","v":""},{"$f":"'2-Grant Budget'!EB139","v":1},{"$f":"'2-Grant Budget'!EC139","v":""},{"$f":"'2-Grant Budget'!ED139","v":0},{"$f":"'2-Grant Budget'!EE139","v":""},null,null,0]
[{"$f":"'2-Grant Budget'!DW140","v":"00"},{"$f":"'2-Grant Budget'!DX140","v":""},{"$f":"'2-Grant Budget'!DY140","v":""},{"$f":"'2-Grant Budget'!DZ140","v":1},{"$f":"'2-Grant Budget'!EA140","v":""},{"$f":"'2-Grant Budget'!EB140","v":1},{"$f":"'2-Grant Budget'!EC140","v":""},{"$f":"'2-Grant Budget'!ED140","v":0},{"$f":"'2-Grant Budget'!EE140","v":""},null,null,0]
[{"$f":"'2-Grant Budget'!DW141","v":"00"},{"$f":"'2-Grant Budget'!DX141","v":""},{"$f":"'2-Grant Budget'!DY141","v":""},{"$f":"'2-Grant Budget'!DZ141","v":1},{"$f":"'2-Grant Budget'!EA141","v":""},{"$f":"'2-Grant Budget'!EB141","v":1},{"$f":"'2-Grant Budget'!EC141","v":""},{"$f":"'2-Grant Budget'!ED141","v":0},{"$f":"'2-Grant Budget'!EE141","v":""},null,null,0]
[{"$f":"'2-Grant Budget'!DW142","v":"00"},{"$f":"'2-Grant Budget'!DX142","v":""},{"$f":"'2-Grant Budget'!DY142","v":""},{"$f":"'2-Grant Budget'!DZ142","v":1},{"$f":"'2-Grant Budget'!EA142","v":""},{"$f":"'2-Grant Budget'!EB142","v":1},{"$f":"'2-Grant Budget'!EC142","v":""},{"$f":"'2-Grant Budget'!ED142","v":0},{"$f":"'2-Grant Budget'!EE142","v":""},null,null,0]
[{"$f":"'2-Grant Budget'!DW143","v":"00"},{"$f":"'2-Grant Budget'!DX143","v":""},{"$f":"'2-Grant Budget'!DY143","v":""},{"$f":"'2-Grant Budget'!DZ143","v":1},{"$f":"'2-Grant Budget'!EA143","v":""},{"$f":"'2-Grant Budget'!EB143","v":1},{"$f":"'2-Grant Budget'!EC143","v":""},{"$f":"'2-Grant Budget'!ED143","v":0},{"$f":"'2-Grant Budget'!EE143","v":""},null,null,0]
[{"$f":"'2-Grant Budget'!DW144","v":"00"},{"$f":"'2-Grant Budget'!DX144","v":""},{"$f":"'2-Grant Budget'!DY144","v":""},{"$f":"'2-Grant Budget'!DZ144","v":1},{"$f":"'2-Grant Budget'!EA144","v":""},{"$f":"'2-Grant Budget'!EB144","v":1},{"$f":"'2-Grant Budget'!EC144","v":""},{"$f":"'2-Grant Budget'!ED144","v":0},{"$f":"'2-Grant Budget'!EE144","v":""},null,null,0]
[{"$f":"'2-Grant Budget'!DW145","v":"00"},{"$f":"'2-Grant Budget'!DX145","v":""},{"$f":"'2-Grant Budget'!DY145","v":""},{"$f":"'2-Grant Budget'!DZ145","v":1},{"$f":"'2-Grant Budget'!EA145","v":""},{"$f":"'2-Grant Budget'!EB145","v":1},{"$f":"'2-Grant Budget'!EC145","v":""},{"$f":"'2-Grant Budget'!ED145","v":0},{"$f":"'2-Grant Budget'!EE145","v":""},null,null,0]
[{"$f":"'2-Grant Budget'!DW146","v":"00"},{"$f":"'2-Grant Budget'!DX146","v":""},{"$f":"'2-Grant Budget'!DY146","v":""},{"$f":"'2-Grant Budget'!DZ146","v":1},{"$f":"'2-Grant Budget'!EA146","v":""},{"$f":"'2-Grant Budget'!EB146","v":1},{"$f":"'2-Grant Budget'!EC146","v":""},{"$f":"'2-Grant Budget'!ED146","v":0},{"$f":"'2-Grant Budget'!EE146","v":""},null,null,{"$f":"IF(LEN(B134)>0,1,0)","v":0}]
[{"$f":"'2-Grant Budget'!DW147","v":"00"},{"$f":"'2-Grant Budget'!DX147","v":""},{"$f":"'2-Grant Budget'!DY147","v":""},{"$f":"'2-Grant Budget'!DZ147","v":1},{"$f":"'2-Grant Budget'!EA147","v":""},{"$f":"'2-Grant Budget'!EB147","v":1},{"$f":"'2-Grant Budget'!EC147","v":""},{"$f":"'2-Grant Budget'!ED147","v":0},{"$f":"'2-Grant Budget'!EE147","v":""},null,null,0]
[{"$f":"'2-Grant Budget'!DW148","v":"00"},{"$f":"'2-Grant Budget'!DX148","v":""},{"$f":"'2-Grant Budget'!DY148","v":""},{"$f":"'2-Grant Budget'!DZ148","v":1},{"$f":"'2-Grant Budget'!EA148","v":""},{"$f":"'2-Grant Budget'!EB148","v":1},{"$f":"'2-Grant Budget'!EC148","v":""},{"$f":"'2-Grant Budget'!ED148","v":0},{"$f":"'2-Grant Budget'!EE148","v":""},null,null,0]
[{"$f":"'2-Grant Budget'!DW149","v":"00"},{"$f":"'2-Grant Budget'!DX149","v":""},{"$f":"'2-Grant Budget'!DY149","v":""},{"$f":"'2-Grant Budget'!DZ149","v":1},{"$f":"'2-Grant Budget'!EA149","v":""},{"$f":"'2-Grant Budget'!EB149","v":1},{"$f":"'2-Grant Budget'!EC149","v":""},{"$f":"'2-Grant Budget'!ED149","v":0},{"$f":"'2-Grant Budget'!EE149","v":""},null,null,0]
[{"$f":"'2-Grant Budget'!DW150","v":"00"},{"$f":"'2-Grant Budget'!DX150","v":""},{"$f":"'2-Grant Budget'!DY150","v":""},{"$f":"'2-Grant Budget'!DZ150","v":1},{"$f":"'2-Grant Budget'!EA150","v":""},{"$f":"'2-Grant Budget'!EB150","v":1},{"$f":"'2-Grant Budget'!EC150","v":""},{"$f":"'2-Grant Budget'!ED150","v":0},{"$f":"'2-Grant Budget'!EE150","v":""},null,null,0]
[{"$f":"'2-Grant Budget'!DW151","v":"00"},{"$f":"'2-Grant Budget'!DX151","v":""},{"$f":"'2-Grant Budget'!DY151","v":""},{"$f":"'2-Grant Budget'!DZ151","v":1},{"$f":"'2-Grant Budget'!EA151","v":""},{"$f":"'2-Grant Budget'!EB151","v":1},{"$f":"'2-Grant Budget'!EC151","v":""},{"$f":"'2-Grant Budget'!ED151","v":0},{"$f":"'2-Grant Budget'!EE151","v":""},null,null,0]
[{"$f":"'2-Grant Budget'!DW152","v":"00"},{"$f":"'2-Grant Budget'!DX152","v":""},{"$f":"'2-Grant Budget'!DY152","v":""},{"$f":"'2-Grant Budget'!DZ152","v":1},{"$f":"'2-Grant Budget'!EA152","v":""},{"$f":"'2-Grant Budget'!EB152","v":1},{"$f":"'2-Grant Budget'!EC152","v":""},{"$f":"'2-Grant Budget'!ED152","v":0},{"$f":"'2-Grant Budget'!EE152","v":""},null,null,0]
[{"$f":"'2-Grant Budget'!DW153","v":"00"},{"$f":"'2-Grant Budget'!DX153","v":""},{"$f":"'2-Grant Budget'!DY153","v":""},{"$f":"'2-Grant Budget'!DZ153","v":1},{"$f":"'2-Grant Budget'!EA153","v":""},{"$f":"'2-Grant Budget'!EB153","v":1},{"$f":"'2-Grant Budget'!EC153","v":""},{"$f":"'2-Grant Budget'!ED153","v":0},{"$f":"'2-Grant Budget'!EE153","v":""},null,null,0]
[{"$f":"'2-Grant Budget'!DW154","v":"00"},{"$f":"'2-Grant Budget'!DX154","v":""},{"$f":"'2-Grant Budget'!DY154","v":""},{"$f":"'2-Grant Budget'!DZ154","v":1},{"$f":"'2-Grant Budget'!EA154","v":""},{"$f":"'2-Grant Budget'!EB154","v":1},{"$f":"'2-Grant Budget'!EC154","v":""},{"$f":"'2-Grant Budget'!ED154","v":0},{"$f":"'2-Grant Budget'!EE154","v":""},null,null,0]
[{"$f":"'2-Grant Budget'!DW155","v":"00"},{"$f":"'2-Grant Budget'!DX155","v":""},{"$f":"'2-Grant Budget'!DY155","v":""},{"$f":"'2-Grant Budget'!DZ155","v":1},{"$f":"'2-Grant Budget'!EA155","v":""},{"$f":"'2-Grant Budget'!EB155","v":1},{"$f":"'2-Grant Budget'!EC155","v":""},{"$f":"'2-Grant Budget'!ED155","v":0},{"$f":"'2-Grant Budget'!EE155","v":""},null,null,0]
[{"$f":"'2-Grant Budget'!DW156","v":"00"},{"$f":"'2-Grant Budget'!DX156","v":""},{"$f":"'2-Grant Budget'!DY156","v":""},{"$f":"'2-Grant Budget'!DZ156","v":1},{"$f":"'2-Grant Budget'!EA156","v":""},{"$f":"'2-Grant Budget'!EB156","v":1},{"$f":"'2-Grant Budget'!EC156","v":""},{"$f":"'2-Grant Budget'!ED156","v":0},{"$f":"'2-Grant Budget'!EE156","v":""},null,null,0]
[{"$f":"'2-Grant Budget'!DW157","v":"00"},{"$f":"'2-Grant Budget'!DX157","v":""},{"$f":"'2-Grant Budget'!DY157","v":""},{"$f":"'2-Grant Budget'!DZ157","v":1},{"$f":"'2-Grant Budget'!EA157","v":""},{"$f":"'2-Grant Budget'!EB157","v":1},{"$f":"'2-Grant Budget'!EC157","v":""},{"$f":"'2-Grant Budget'!ED157","v":0},{"$f":"'2-Grant Budget'!EE157","v":""},null,null,0]
[{"$f":"'2-Grant Budget'!DW158","v":"00"},{"$f":"'2-Grant Budget'!DX158","v":""},{"$f":"'2-Grant Budget'!DY158","v":""},{"$f":"'2-Grant Budget'!DZ158","v":1},{"$f":"'2-Grant Budget'!EA158","v":""},{"$f":"'2-Grant Budget'!EB158","v":1},{"$f":"'2-Grant Budget'!EC158","v":""},{"$f":"'2-Grant Budget'!ED158","v":0},{"$f":"'2-Grant Budget'!EE158","v":""},null,null,0]
[{"$f":"'2-Grant Budget'!DW159","v":"00"},{"$f":"'2-Grant Budget'!DX159","v":""},{"$f":"'2-Grant Budget'!DY159","v":""},{"$f":"'2-Grant Budget'!DZ159","v":1},{"$f":"'2-Grant Budget'!EA159","v":""},{"$f":"'2-Grant Budget'!EB159","v":1},{"$f":"'2-Grant Budget'!EC159","v":""},{"$f":"'2-Grant Budget'!ED159","v":0},{"$f":"'2-Grant Budget'!EE159","v":""},null,null,0]
[{"$f":"'2-Grant Budget'!DW160","v":"00"},{"$f":"'2-Grant Budget'!DX160","v":""},{"$f":"'2-Grant Budget'!DY160","v":""},{"$f":"'2-Grant Budget'!DZ160","v":1},{"$f":"'2-Grant Budget'!EA160","v":""},{"$f":"'2-Grant Budget'!EB160","v":1},{"$f":"'2-Grant Budget'!EC160","v":""},{"$f":"'2-Grant Budget'!ED160","v":0},{"$f":"'2-Grant Budget'!EE160","v":""},null,null,0]
[{"$f":"'2-Grant Budget'!DW161","v":"00"},{"$f":"'2-Grant Budget'!DX161","v":""},{"$f":"'2-Grant Budget'!DY161","v":""},{"$f":"'2-Grant Budget'!DZ161","v":1},{"$f":"'2-Grant Budget'!EA161","v":""},{"$f":"'2-Grant Budget'!EB161","v":1},{"$f":"'2-Grant Budget'!EC161","v":""},{"$f":"'2-Grant Budget'!ED161","v":0},{"$f":"'2-Grant Budget'!EE161","v":""},null,null,0]
[{"$f":"'2-Grant Budget'!DW162","v":"00"},{"$f":"'2-Grant Budget'!DX162","v":""},{"$f":"'2-Grant Budget'!DY162","v":""},{"$f":"'2-Grant Budget'!DZ162","v":1},{"$f":"'2-Grant Budget'!EA162","v":""},{"$f":"'2-Grant Budget'!EB162","v":1},{"$f":"'2-Grant Budget'!EC162","v":""},{"$f":"'2-Grant Budget'!ED162","v":0},{"$f":"'2-Grant Budget'!EE162","v":""},null,null,0]
[{"$f":"'2-Grant Budget'!DW163","v":"00"},{"$f":"'2-Grant Budget'!DX163","v":""},{"$f":"'2-Grant Budget'!DY163","v":""},{"$f":"'2-Grant Budget'!DZ163","v":1},{"$f":"'2-Grant Budget'!EA163","v":""},{"$f":"'2-Grant Budget'!EB163","v":1},{"$f":"'2-Grant Budget'!EC163","v":""},{"$f":"'2-Grant Budget'!ED163","v":0},{"$f":"'2-Grant Budget'!EE163","v":""},null,null,0]
[{"$f":"'2-Grant Budget'!DW164","v":"00"},{"$f":"'2-Grant Budget'!DX164","v":""},{"$f":"'2-Grant Budget'!DY164","v":""},{"$f":"'2-Grant Budget'!DZ164","v":1},{"$f":"'2-Grant Budget'!EA164","v":""},{"$f":"'2-Grant Budget'!EB164","v":1},{"$f":"'2-Grant Budget'!EC164","v":""},{"$f":"'2-Grant Budget'!ED164","v":0},{"$f":"'2-Grant Budget'!EE164","v":""},null,null,0]
[{"$f":"'2-Grant Budget'!DW165","v":"00"},{"$f":"'2-Grant Budget'!DX165","v":""},{"$f":"'2-Grant Budget'!DY165","v":""},{"$f":"'2-Grant Budget'!DZ165","v":1},{"$f":"'2-Grant Budget'!EA165","v":""},{"$f":"'2-Grant Budget'!EB165","v":1},{"$f":"'2-Grant Budget'!EC165","v":""},{"$f":"'2-Grant Budget'!ED165","v":0},{"$f":"'2-Grant Budget'!EE165","v":""},null,null,0]
[{"$f":"'2-Grant Budget'!DW166","v":"00"},{"$f":"'2-Grant Budget'!DX166","v":""},{"$f":"'2-Grant Budget'!DY166","v":""},{"$f":"'2-Grant Budget'!DZ166","v":1},{"$f":"'2-Grant Budget'!EA166","v":""},{"$f":"'2-Grant Budget'!EB166","v":1},{"$f":"'2-Grant Budget'!EC166","v":""},{"$f":"'2-Grant Budget'!ED166","v":0},{"$f":"'2-Grant Budget'!EE166","v":""},null,null,0]
[{"$f":"'2-Grant Budget'!DW167","v":"00"},{"$f":"'2-Grant Budget'!DX167","v":""},{"$f":"'2-Grant Budget'!DY167","v":""},{"$f":"'2-Grant Budget'!DZ167","v":1},{"$f":"'2-Grant Budget'!EA167","v":""},{"$f":"'2-Grant Budget'!EB167","v":1},{"$f":"'2-Grant Budget'!EC167","v":""},{"$f":"'2-Grant Budget'!ED167","v":0},{"$f":"'2-Grant Budget'!EE167","v":""},null,null,0]
[{"$f":"'2-Grant Budget'!DW168","v":"00"},{"$f":"'2-Grant Budget'!DX168","v":""},{"$f":"'2-Grant Budget'!DY168","v":""},{"$f":"'2-Grant Budget'!DZ168","v":1},{"$f":"'2-Grant Budget'!EA168","v":""},{"$f":"'2-Grant Budget'!EB168","v":1},{"$f":"'2-Grant Budget'!EC168","v":""},{"$f":"'2-Grant Budget'!ED168","v":0},{"$f":"'2-Grant Budget'!EE168","v":""},null,null,0]
[{"$f":"'2-Grant Budget'!DW169","v":"00"},{"$f":"'2-Grant Budget'!DX169","v":""},{"$f":"'2-Grant Budget'!DY169","v":""},{"$f":"'2-Grant Budget'!DZ169","v":1},{"$f":"'2-Grant Budget'!EA169","v":""},{"$f":"'2-Grant Budget'!EB169","v":1},{"$f":"'2-Grant Budget'!EC169","v":""},{"$f":"'2-Grant Budget'!ED169","v":0},{"$f":"'2-Grant Budget'!EE169","v":""},null,null,0]
[{"$f":"'2-Grant Budget'!DW170","v":"00"},{"$f":"'2-Grant Budget'!DX170","v":""},{"$f":"'2-Grant Budget'!DY170","v":""},{"$f":"'2-Grant Budget'!DZ170","v":1},{"$f":"'2-Grant Budget'!EA170","v":""},{"$f":"'2-Grant Budget'!EB170","v":1},{"$f":"'2-Grant Budget'!EC170","v":""},{"$f":"'2-Grant Budget'!ED170","v":0},{"$f":"'2-Grant Budget'!EE170","v":""},null,null,0]
[{"$f":"'2-Grant Budget'!DW171","v":"00"},{"$f":"'2-Grant Budget'!DX171","v":""},{"$f":"'2-Grant Budget'!DY171","v":""},{"$f":"'2-Grant Budget'!DZ171","v":1},{"$f":"'2-Grant Budget'!EA171","v":""},{"$f":"'2-Grant Budget'!EB171","v":1},{"$f":"'2-Grant Budget'!EC171","v":""},{"$f":"'2-Grant Budget'!ED171","v":0},{"$f":"'2-Grant Budget'!EE171","v":""},null,null,0]
[{"$f":"'2-Grant Budget'!DW172","v":"00"},{"$f":"'2-Grant Budget'!DX172","v":""},{"$f":"'2-Grant Budget'!DY172","v":""},{"$f":"'2-Grant Budget'!DZ172","v":1},{"$f":"'2-Grant Budget'!EA172","v":""},{"$f":"'2-Grant Budget'!EB172","v":1},{"$f":"'2-Grant Budget'!EC172","v":""},{"$f":"'2-Grant Budget'!ED172","v":0},{"$f":"'2-Grant Budget'!EE172","v":""},null,null,0]
[{"$f":"'2-Grant Budget'!DW173","v":"00"},{"$f":"'2-Grant Budget'!DX173","v":""},{"$f":"'2-Grant Budget'!DY173","v":""},{"$f":"'2-Grant Budget'!DZ173","v":1},{"$f":"'2-Grant Budget'!EA173","v":""},{"$f":"'2-Grant Budget'!EB173","v":1},{"$f":"'2-Grant Budget'!EC173","v":""},{"$f":"'2-Grant Budget'!ED173","v":0},{"$f":"'2-Grant Budget'!EE173","v":""},null,null,0]
[{"$f":"'2-Grant Budget'!DW174","v":"00"},{"$f":"'2-Grant Budget'!DX174","v":""},{"$f":"'2-Grant Budget'!DY174","v":""},{"$f":"'2-Grant Budget'!DZ174","v":1},{"$f":"'2-Grant Budget'!EA174","v":""},{"$f":"'2-Grant Budget'!EB174","v":1},{"$f":"'2-Grant Budget'!EC174","v":""},{"$f":"'2-Grant Budget'!ED174","v":0},{"$f":"'2-Grant Budget'!EE174","v":""},null,null,0]
[{"$f":"'2-Grant Budget'!DW175","v":"00"},{"$f":"'2-Grant Budget'!DX175","v":""},{"$f":"'2-Grant Budget'!DY175","v":""},{"$f":"'2-Grant Budget'!DZ175","v":1},{"$f":"'2-Grant Budget'!EA175","v":""},{"$f":"'2-Grant Budget'!EB175","v":1},{"$f":"'2-Grant Budget'!EC175","v":""},{"$f":"'2-Grant Budget'!ED175","v":0},{"$f":"'2-Grant Budget'!EE175","v":""},null,null,0]
[{"$f":"'2-Grant Budget'!DW176","v":"00"},{"$f":"'2-Grant Budget'!DX176","v":""},{"$f":"'2-Grant Budget'!DY176","v":""},{"$f":"'2-Grant Budget'!DZ176","v":1},{"$f":"'2-Grant Budget'!EA176","v":""},{"$f":"'2-Grant Budget'!EB176","v":1},{"$f":"'2-Grant Budget'!EC176","v":""},{"$f":"'2-Grant Budget'!ED176","v":0},{"$f":"'2-Grant Budget'!EE176","v":""},null,null,0]
[{"$f":"'2-Grant Budget'!DW177","v":"00"},{"$f":"'2-Grant Budget'!DX177","v":""},{"$f":"'2-Grant Budget'!DY177","v":""},{"$f":"'2-Grant Budget'!DZ177","v":1},{"$f":"'2-Grant Budget'!EA177","v":""},{"$f":"'2-Grant Budget'!EB177","v":1},{"$f":"'2-Grant Budget'!EC177","v":""},{"$f":"'2-Grant Budget'!ED177","v":0},{"$f":"'2-Grant Budget'!EE177","v":""},null,null,0]
[{"$f":"'2-Grant Budget'!DW178","v":"00"},{"$f":"'2-Grant Budget'!DX178","v":""},{"$f":"'2-Grant Budget'!DY178","v":""},{"$f":"'2-Grant Budget'!DZ178","v":1},{"$f":"'2-Grant Budget'!EA178","v":""},{"$f":"'2-Grant Budget'!EB178","v":1},{"$f":"'2-Grant Budget'!EC178","v":""},{"$f":"'2-Grant Budget'!ED178","v":0},{"$f":"'2-Grant Budget'!EE178","v":""},null,null,0]
[{"$f":"'2-Grant Budget'!DW179","v":"00"},{"$f":"'2-Grant Budget'!DX179","v":""},{"$f":"'2-Grant Budget'!DY179","v":""},{"$f":"'2-Grant Budget'!DZ179","v":1},{"$f":"'2-Grant Budget'!EA179","v":""},{"$f":"'2-Grant Budget'!EB179","v":1},{"$f":"'2-Grant Budget'!EC179","v":""},{"$f":"'2-Grant Budget'!ED179","v":0},{"$f":"'2-Grant Budget'!EE179","v":""},null,null,0]
[{"$f":"'2-Grant Budget'!DW180","v":"00"},{"$f":"'2-Grant Budget'!DX180","v":""},{"$f":"'2-Grant Budget'!DY180","v":""},{"$f":"'2-Grant Budget'!DZ180","v":1},{"$f":"'2-Grant Budget'!EA180","v":""},{"$f":"'2-Grant Budget'!EB180","v":1},{"$f":"'2-Grant Budget'!EC180","v":""},{"$f":"'2-Grant Budget'!ED180","v":0},{"$f":"'2-Grant Budget'!EE180","v":""},null,null,0]
[{"$f":"'2-Grant Budget'!DW181","v":"00"},{"$f":"'2-Grant Budget'!DX181","v":""},{"$f":"'2-Grant Budget'!DY181","v":""},{"$f":"'2-Grant Budget'!DZ181","v":1},{"$f":"'2-Grant Budget'!EA181","v":""},{"$f":"'2-Grant Budget'!EB181","v":1},{"$f":"'2-Grant Budget'!EC181","v":""},{"$f":"'2-Grant Budget'!ED181","v":0},{"$f":"'2-Grant Budget'!EE181","v":""},null,null,0]
[{"$f":"'2-Grant Budget'!DW182","v":"00"},{"$f":"'2-Grant Budget'!DX182","v":""},{"$f":"'2-Grant Budget'!DY182","v":""},{"$f":"'2-Grant Budget'!DZ182","v":1},{"$f":"'2-Grant Budget'!EA182","v":""},{"$f":"'2-Grant Budget'!EB182","v":1},{"$f":"'2-Grant Budget'!EC182","v":""},{"$f":"'2-Grant Budget'!ED182","v":0},{"$f":"'2-Grant Budget'!EE182","v":""},null,null,0]
[{"$f":"'2-Grant Budget'!DW183","v":"00"},{"$f":"'2-Grant Budget'!DX183","v":""},{"$f":"'2-Grant Budget'!DY183","v":""},{"$f":"'2-Grant Budget'!DZ183","v":1},{"$f":"'2-Grant Budget'!EA183","v":""},{"$f":"'2-Grant Budget'!EB183","v":1},{"$f":"'2-Grant Budget'!EC183","v":""},{"$f":"'2-Grant Budget'!ED183","v":0},{"$f":"'2-Grant Budget'!EE183","v":""},null,null,0]
[{"$f":"'2-Grant Budget'!DW184","v":"00"},{"$f":"'2-Grant Budget'!DX184","v":""},{"$f":"'2-Grant Budget'!DY184","v":""},{"$f":"'2-Grant Budget'!DZ184","v":1},{"$f":"'2-Grant Budget'!EA184","v":""},{"$f":"'2-Grant Budget'!EB184","v":1},{"$f":"'2-Grant Budget'!EC184","v":""},{"$f":"'2-Grant Budget'!ED184","v":0},{"$f":"'2-Grant Budget'!EE184","v":""},null,null,0]
[{"$f":"'2-Grant Budget'!DW185","v":"00"},{"$f":"'2-Grant Budget'!DX185","v":""},{"$f":"'2-Grant Budget'!DY185","v":""},{"$f":"'2-Grant Budget'!DZ185","v":1},{"$f":"'2-Grant Budget'!EA185","v":""},{"$f":"'2-Grant Budget'!EB185","v":1},{"$f":"'2-Grant Budget'!EC185","v":""},{"$f":"'2-Grant Budget'!ED185","v":0},{"$f":"'2-Grant Budget'!EE185","v":""},null,null,0]
[{"$f":"'2-Grant Budget'!DW186","v":"00"},{"$f":"'2-Grant Budget'!DX186","v":""},{"$f":"'2-Grant Budget'!DY186","v":""},{"$f":"'2-Grant Budget'!DZ186","v":1},{"$f":"'2-Grant Budget'!EA186","v":""},{"$f":"'2-Grant Budget'!EB186","v":1},{"$f":"'2-Grant Budget'!EC186","v":""},{"$f":"'2-Grant Budget'!ED186","v":0},{"$f":"'2-Grant Budget'!EE186","v":""},null,null,0]
[{"$f":"'2-Grant Budget'!DW187","v":"00"},{"$f":"'2-Grant Budget'!DX187","v":""},{"$f":"'2-Grant Budget'!DY187","v":""},{"$f":"'2-Grant Budget'!DZ187","v":1},{"$f":"'2-Grant Budget'!EA187","v":""},{"$f":"'2-Grant Budget'!EB187","v":1},{"$f":"'2-Grant Budget'!EC187","v":""},{"$f":"'2-Grant Budget'!ED187","v":0},{"$f":"'2-Grant Budget'!EE187","v":""},null,null,0]
[{"$f":"'2-Grant Budget'!DW188","v":"00"},{"$f":"'2-Grant Budget'!DX188","v":""},{"$f":"'2-Grant Budget'!DY188","v":""},{"$f":"'2-Grant Budget'!DZ188","v":1},{"$f":"'2-Grant Budget'!EA188","v":""},{"$f":"'2-Grant Budget'!EB188","v":1},{"$f":"'2-Grant Budget'!EC188","v":""},{"$f":"'2-Grant Budget'!ED188","v":0},{"$f":"'2-Grant Budget'!EE188","v":""},null,null,0]
[{"$f":"'2-Grant Budget'!DW189","v":"00"},{"$f":"'2-Grant Budget'!DX189","v":""},{"$f":"'2-Grant Budget'!DY189","v":""},{"$f":"'2-Grant Budget'!DZ189","v":1},{"$f":"'2-Grant Budget'!EA189","v":""},{"$f":"'2-Grant Budget'!EB189","v":1},{"$f":"'2-Grant Budget'!EC189","v":""},{"$f":"'2-Grant Budget'!ED189","v":0},{"$f":"'2-Grant Budget'!EE189","v":""},null,null,0]
[{"$f":"'2-Grant Budget'!DW190","v":"00"},{"$f":"'2-Grant Budget'!DX190","v":""},{"$f":"'2-Grant Budget'!DY190","v":""},{"$f":"'2-Grant Budget'!DZ190","v":1},{"$f":"'2-Grant Budget'!EA190","v":""},{"$f":"'2-Grant Budget'!EB190","v":1},{"$f":"'2-Grant Budget'!EC190","v":""},{"$f":"'2-Grant Budget'!ED190","v":0},{"$f":"'2-Grant Budget'!EE190","v":""},null,null,0]
[{"$f":"'2-Grant Budget'!DW191","v":"00"},{"$f":"'2-Grant Budget'!DX191","v":""},{"$f":"'2-Grant Budget'!DY191","v":""},{"$f":"'2-Grant Budget'!DZ191","v":1},{"$f":"'2-Grant Budget'!EA191","v":""},{"$f":"'2-Grant Budget'!EB191","v":1},{"$f":"'2-Grant Budget'!EC191","v":""},{"$f":"'2-Grant Budget'!ED191","v":0},{"$f":"'2-Grant Budget'!EE191","v":""},null,null,0]
[{"$f":"'2-Grant Budget'!DW192","v":"00"},{"$f":"'2-Grant Budget'!DX192","v":""},{"$f":"'2-Grant Budget'!DY192","v":""},{"$f":"'2-Grant Budget'!DZ192","v":1},{"$f":"'2-Grant Budget'!EA192","v":""},{"$f":"'2-Grant Budget'!EB192","v":1},{"$f":"'2-Grant Budget'!EC192","v":""},{"$f":"'2-Grant Budget'!ED192","v":0},{"$f":"'2-Grant Budget'!EE192","v":""},null,null,0]
[{"$f":"'2-Grant Budget'!DW193","v":"00"},{"$f":"'2-Grant Budget'!DX193","v":""},{"$f":"'2-Grant Budget'!DY193","v":""},{"$f":"'2-Grant Budget'!DZ193","v":1},{"$f":"'2-Grant Budget'!EA193","v":""},{"$f":"'2-Grant Budget'!EB193","v":1},{"$f":"'2-Grant Budget'!EC193","v":""},{"$f":"'2-Grant Budget'!ED193","v":0},{"$f":"'2-Grant Budget'!EE193","v":""},null,null,0]
[{"$f":"'2-Grant Budget'!DW194","v":"00"},{"$f":"'2-Grant Budget'!DX194","v":""},{"$f":"'2-Grant Budget'!DY194","v":""},{"$f":"'2-Grant Budget'!DZ194","v":1},{"$f":"'2-Grant Budget'!EA194","v":""},{"$f":"'2-Grant Budget'!EB194","v":1},{"$f":"'2-Grant Budget'!EC194","v":""},{"$f":"'2-Grant Budget'!ED194","v":0},{"$f":"'2-Grant Budget'!EE194","v":""},null,null,0]
[{"$f":"'2-Grant Budget'!DW195","v":"00"},{"$f":"'2-Grant Budget'!DX195","v":""},{"$f":"'2-Grant Budget'!DY195","v":""},{"$f":"'2-Grant Budget'!DZ195","v":1},{"$f":"'2-Grant Budget'!EA195","v":""},{"$f":"'2-Grant Budget'!EB195","v":1},{"$f":"'2-Grant Budget'!EC195","v":""},{"$f":"'2-Grant Budget'!ED195","v":0},{"$f":"'2-Grant Budget'!EE195","v":""},null,null,0]
[{"$f":"'2-Grant Budget'!DW196","v":"00"},{"$f":"'2-Grant Budget'!DX196","v":""},{"$f":"'2-Grant Budget'!DY196","v":""},{"$f":"'2-Grant Budget'!DZ196","v":1},{"$f":"'2-Grant Budget'!EA196","v":""},{"$f":"'2-Grant Budget'!EB196","v":1},{"$f":"'2-Grant Budget'!EC196","v":""},{"$f":"'2-Grant Budget'!ED196","v":0},{"$f":"'2-Grant Budget'!EE196","v":""},null,null,0]
[{"$f":"'2-Grant Budget'!DW197","v":"00"},{"$f":"'2-Grant Budget'!DX197","v":""},{"$f":"'2-Grant Budget'!DY197","v":""},{"$f":"'2-Grant Budget'!DZ197","v":1},{"$f":"'2-Grant Budget'!EA197","v":""},{"$f":"'2-Grant Budget'!EB197","v":1},{"$f":"'2-Grant Budget'!EC197","v":""},{"$f":"'2-Grant Budget'!ED197","v":0},{"$f":"'2-Grant Budget'!EE197","v":""},null,null,0]
[{"$f":"'2-Grant Budget'!DW198","v":"00"},{"$f":"'2-Grant Budget'!DX198","v":""},{"$f":"'2-Grant Budget'!DY198","v":""},{"$f":"'2-Grant Budget'!DZ198","v":1},{"$f":"'2-Grant Budget'!EA198","v":""},{"$f":"'2-Grant Budget'!EB198","v":1},{"$f":"'2-Grant Budget'!EC198","v":""},{"$f":"'2-Grant Budget'!ED198","v":0},{"$f":"'2-Grant Budget'!EE198","v":""},null,null,0]
[{"$f":"'2-Grant Budget'!DW199","v":"00"},{"$f":"'2-Grant Budget'!DX199","v":""},{"$f":"'2-Grant Budget'!DY199","v":""},{"$f":"'2-Grant Budget'!DZ199","v":1},{"$f":"'2-Grant Budget'!EA199","v":""},{"$f":"'2-Grant Budget'!EB199","v":1},{"$f":"'2-Grant Budget'!EC199","v":""},{"$f":"'2-Grant Budget'!ED199","v":0},{"$f":"'2-Grant Budget'!EE199","v":""},null,null,0]
[{"$f":"'2-Grant Budget'!DW200","v":"00"},{"$f":"'2-Grant Budget'!DX200","v":""},{"$f":"'2-Grant Budget'!DY200","v":""},{"$f":"'2-Grant Budget'!DZ200","v":1},{"$f":"'2-Grant Budget'!EA200","v":""},{"$f":"'2-Grant Budget'!EB200","v":1},{"$f":"'2-Grant Budget'!EC200","v":""},{"$f":"'2-Grant Budget'!ED200","v":0},{"$f":"'2-Grant Budget'!EE200","v":""},null,null,0]
[{"$f":"'2-Grant Budget'!DW201","v":"00"},{"$f":"'2-Grant Budget'!DX201","v":""},{"$f":"'2-Grant Budget'!DY201","v":""},{"$f":"'2-Grant Budget'!DZ201","v":1},{"$f":"'2-Grant Budget'!EA201","v":""},{"$f":"'2-Grant Budget'!EB201","v":1},{"$f":"'2-Grant Budget'!EC201","v":""},{"$f":"'2-Grant Budget'!ED201","v":0},{"$f":"'2-Grant Budget'!EE201","v":""},null,null,0]
[{"$f":"'2-Grant Budget'!DW202","v":"00"},{"$f":"'2-Grant Budget'!DX202","v":""},{"$f":"'2-Grant Budget'!DY202","v":""},{"$f":"'2-Grant Budget'!DZ202","v":1},{"$f":"'2-Grant Budget'!EA202","v":""},{"$f":"'2-Grant Budget'!EB202","v":1},{"$f":"'2-Grant Budget'!EC202","v":""},{"$f":"'2-Grant Budget'!ED202","v":0},{"$f":"'2-Grant Budget'!EE202","v":""},null,null,0]
[{"$f":"'2-Grant Budget'!DW203","v":"00"},{"$f":"'2-Grant Budget'!DX203","v":""},{"$f":"'2-Grant Budget'!DY203","v":""},{"$f":"'2-Grant Budget'!DZ203","v":1},{"$f":"'2-Grant Budget'!EA203","v":""},{"$f":"'2-Grant Budget'!EB203","v":1},{"$f":"'2-Grant Budget'!EC203","v":""},{"$f":"'2-Grant Budget'!ED203","v":0},{"$f":"'2-Grant Budget'!EE203","v":""},null,null,0]
[{"$f":"'2-Grant Budget'!DW204","v":"00"},{"$f":"'2-Grant Budget'!DX204","v":""},{"$f":"'2-Grant Budget'!DY204","v":""},{"$f":"'2-Grant Budget'!DZ204","v":1},{"$f":"'2-Grant Budget'!EA204","v":""},{"$f":"'2-Grant Budget'!EB204","v":1},{"$f":"'2-Grant Budget'!EC204","v":""},{"$f":"'2-Grant Budget'!ED204","v":0},{"$f":"'2-Grant Budget'!EE204","v":""},null,null,0]
[{"$f":"'2-Grant Budget'!DW205","v":"00"},{"$f":"'2-Grant Budget'!DX205","v":""},{"$f":"'2-Grant Budget'!DY205","v":""},{"$f":"'2-Grant Budget'!DZ205","v":1},{"$f":"'2-Grant Budget'!EA205","v":""},{"$f":"'2-Grant Budget'!EB205","v":1},{"$f":"'2-Grant Budget'!EC205","v":""},{"$f":"'2-Grant Budget'!ED205","v":0},{"$f":"'2-Grant Budget'!EE205","v":""},null,null,0]
[{"$f":"'2-Grant Budget'!DW206","v":"00"},{"$f":"'2-Grant Budget'!DX206","v":""},{"$f":"'2-Grant Budget'!DY206","v":""},{"$f":"'2-Grant Budget'!DZ206","v":1},{"$f":"'2-Grant Budget'!EA206","v":""},{"$f":"'2-Grant Budget'!EB206","v":1},{"$f":"'2-Grant Budget'!EC206","v":""},{"$f":"'2-Grant Budget'!ED206","v":0},{"$f":"'2-Grant Budget'!EE206","v":""},null,null,0]
[{"$f":"'2-Grant Budget'!DW207","v":"00"},{"$f":"'2-Grant Budget'!DX207","v":""},{"$f":"'2-Grant Budget'!DY207","v":""},{"$f":"'2-Grant Budget'!DZ207","v":1},{"$f":"'2-Grant Budget'!EA207","v":""},{"$f":"'2-Grant Budget'!EB207","v":1},{"$f":"'2-Grant Budget'!EC207","v":""},{"$f":"'2-Grant Budget'!ED207","v":0},{"$f":"'2-Grant Budget'!EE207","v":""},null,null,0]
[{"$f":"'2-Grant Budget'!DW208","v":"00"},{"$f":"'2-Grant Budget'!DX208","v":""},{"$f":"'2-Grant Budget'!DY208","v":""},{"$f":"'2-Grant Budget'!DZ208","v":1},{"$f":"'2-Grant Budget'!EA208","v":""},{"$f":"'2-Grant Budget'!EB208","v":1},{"$f":"'2-Grant Budget'!EC208","v":""},{"$f":"'2-Grant Budget'!ED208","v":0},{"$f":"'2-Grant Budget'!EE208","v":""},null,null,0]
[{"$f":"'2-Grant Budget'!DW209","v":"00"},{"$f":"'2-Grant Budget'!DX209","v":""},{"$f":"'2-Grant Budget'!DY209","v":""},{"$f":"'2-Grant Budget'!DZ209","v":1},{"$f":"'2-Grant Budget'!EA209","v":""},{"$f":"'2-Grant Budget'!EB209","v":1},{"$f":"'2-Grant Budget'!EC209","v":""},{"$f":"'2-Grant Budget'!ED209","v":0},{"$f":"'2-Grant Budget'!EE209","v":""},null,null,0]
[{"$f":"'2-Grant Budget'!DW210","v":"00"},{"$f":"'2-Grant Budget'!DX210","v":""},{"$f":"'2-Grant Budget'!DY210","v":""},{"$f":"'2-Grant Budget'!DZ210","v":1},{"$f":"'2-Grant Budget'!EA210","v":""},{"$f":"'2-Grant Budget'!EB210","v":1},{"$f":"'2-Grant Budget'!EC210","v":""},{"$f":"'2-Grant Budget'!ED210","v":0},{"$f":"'2-Grant Budget'!EE210","v":""},null,null,{"$f":"IF(LEN(B198)>0,1,0)","v":0}]
[{"$f":"'2-Grant Budget'!DW211","v":"00"},{"$f":"'2-Grant Budget'!DX211","v":""},{"$f":"'2-Grant Budget'!DY211","v":""},{"$f":"'2-Grant Budget'!DZ211","v":1},{"$f":"'2-Grant Budget'!EA211","v":""},{"$f":"'2-Grant Budget'!EB211","v":1},{"$f":"'2-Grant Budget'!EC211","v":""},{"$f":"'2-Grant Budget'!ED211","v":0},{"$f":"'2-Grant Budget'!EE211","v":""},null,null,0]
[{"$f":"'2-Grant Budget'!DW212","v":"00"},{"$f":"'2-Grant Budget'!DX212","v":""},{"$f":"'2-Grant Budget'!DY212","v":""},{"$f":"'2-Grant Budget'!DZ212","v":1},{"$f":"'2-Grant Budget'!EA212","v":""},{"$f":"'2-Grant Budget'!EB212","v":1},{"$f":"'2-Grant Budget'!EC212","v":""},{"$f":"'2-Grant Budget'!ED212","v":0},{"$f":"'2-Grant Budget'!EE212","v":""},null,null,0]
[{"$f":"'2-Grant Budget'!DW213","v":"00"},{"$f":"'2-Grant Budget'!DX213","v":""},{"$f":"'2-Grant Budget'!DY213","v":""},{"$f":"'2-Grant Budget'!DZ213","v":1},{"$f":"'2-Grant Budget'!EA213","v":""},{"$f":"'2-Grant Budget'!EB213","v":1},{"$f":"'2-Grant Budget'!EC213","v":""},{"$f":"'2-Grant Budget'!ED213","v":0},{"$f":"'2-Grant Budget'!EE213","v":""},null,null,0]
[{"$f":"'2-Grant Budget'!DW214","v":"00"},{"$f":"'2-Grant Budget'!DX214","v":""},{"$f":"'2-Grant Budget'!DY214","v":""},{"$f":"'2-Grant Budget'!DZ214","v":1},{"$f":"'2-Grant Budget'!EA214","v":""},{"$f":"'2-Grant Budget'!EB214","v":1},{"$f":"'2-Grant Budget'!EC214","v":""},{"$f":"'2-Grant Budget'!ED214","v":0},{"$f":"'2-Grant Budget'!EE214","v":""},null,null,0]
[{"$f":"'2-Grant Budget'!DW215","v":"00"},{"$f":"'2-Grant Budget'!DX215","v":""},{"$f":"'2-Grant Budget'!DY215","v":""},{"$f":"'2-Grant Budget'!DZ215","v":1},{"$f":"'2-Grant Budget'!EA215","v":""},{"$f":"'2-Grant Budget'!EB215","v":1},{"$f":"'2-Grant Budget'!EC215","v":""},{"$f":"'2-Grant Budget'!ED215","v":0},{"$f":"'2-Grant Budget'!EE215","v":""},null,null,0]
[{"$f":"'2-Grant Budget'!DW216","v":"00"},{"$f":"'2-Grant Budget'!DX216","v":""},{"$f":"'2-Grant Budget'!DY216","v":""},{"$f":"'2-Grant Budget'!DZ216","v":1},{"$f":"'2-Grant Budget'!EA216","v":""},{"$f":"'2-Grant Budget'!EB216","v":1},{"$f":"'2-Grant Budget'!EC216","v":""},{"$f":"'2-Grant Budget'!ED216","v":0},{"$f":"'2-Grant Budget'!EE216","v":""},null,null,0]
[{"$f":"'2-Grant Budget'!DW217","v":"00"},{"$f":"'2-Grant Budget'!DX217","v":""},{"$f":"'2-Grant Budget'!DY217","v":""},{"$f":"'2-Grant Budget'!DZ217","v":1},{"$f":"'2-Grant Budget'!EA217","v":""},{"$f":"'2-Grant Budget'!EB217","v":1},{"$f":"'2-Grant Budget'!EC217","v":""},{"$f":"'2-Grant Budget'!ED217","v":0},{"$f":"'2-Grant Budget'!EE217","v":""},null,null,0]
[{"$f":"'2-Grant Budget'!DW218","v":"00"},{"$f":"'2-Grant Budget'!DX218","v":""},{"$f":"'2-Grant Budget'!DY218","v":""},{"$f":"'2-Grant Budget'!DZ218","v":1},{"$f":"'2-Grant Budget'!EA218","v":""},{"$f":"'2-Grant Budget'!EB218","v":1},{"$f":"'2-Grant Budget'!EC218","v":""},{"$f":"'2-Grant Budget'!ED218","v":0},{"$f":"'2-Grant Budget'!EE218","v":""},null,null,0]
[{"$f":"'2-Grant Budget'!DW219","v":"00"},{"$f":"'2-Grant Budget'!DX219","v":""},{"$f":"'2-Grant Budget'!DY219","v":""},{"$f":"'2-Grant Budget'!DZ219","v":1},{"$f":"'2-Grant Budget'!EA219","v":""},{"$f":"'2-Grant Budget'!EB219","v":1},{"$f":"'2-Grant Budget'!EC219","v":""},{"$f":"'2-Grant Budget'!ED219","v":0},{"$f":"'2-Grant Budget'!EE219","v":""},null,null,0]
[{"$f":"'2-Grant Budget'!DW220","v":"00"},{"$f":"'2-Grant Budget'!DX220","v":""},{"$f":"'2-Grant Budget'!DY220","v":""},{"$f":"'2-Grant Budget'!DZ220","v":1},{"$f":"'2-Grant Budget'!EA220","v":""},{"$f":"'2-Grant Budget'!EB220","v":1},{"$f":"'2-Grant Budget'!EC220","v":""},{"$f":"'2-Grant Budget'!ED220","v":0},{"$f":"'2-Grant Budget'!EE220","v":""},null,null,0]
[{"$f":"'2-Grant Budget'!DW221","v":"00"},{"$f":"'2-Grant Budget'!DX221","v":""},{"$f":"'2-Grant Budget'!DY221","v":""},{"$f":"'2-Grant Budget'!DZ221","v":1},{"$f":"'2-Grant Budget'!EA221","v":""},{"$f":"'2-Grant Budget'!EB221","v":1},{"$f":"'2-Grant Budget'!EC221","v":""},{"$f":"'2-Grant Budget'!ED221","v":0},{"$f":"'2-Grant Budget'!EE221","v":""},null,null,0]
[{"$f":"'2-Grant Budget'!DW222","v":"00"},{"$f":"'2-Grant Budget'!DX222","v":""},{"$f":"'2-Grant Budget'!DY222","v":""},{"$f":"'2-Grant Budget'!DZ222","v":1},{"$f":"'2-Grant Budget'!EA222","v":""},{"$f":"'2-Grant Budget'!EB222","v":1},{"$f":"'2-Grant Budget'!EC222","v":""},{"$f":"'2-Grant Budget'!ED222","v":0},{"$f":"'2-Grant Budget'!EE222","v":""},null,null,0]
[{"$f":"'2-Grant Budget'!DW223","v":"00"},{"$f":"'2-Grant Budget'!DX223","v":""},{"$f":"'2-Grant Budget'!DY223","v":""},{"$f":"'2-Grant Budget'!DZ223","v":1},{"$f":"'2-Grant Budget'!EA223","v":""},{"$f":"'2-Grant Budget'!EB223","v":1},{"$f":"'2-Grant Budget'!EC223","v":""},{"$f":"'2-Grant Budget'!ED223","v":0},{"$f":"'2-Grant Budget'!EE223","v":""},null,null,0]
[{"$f":"'2-Grant Budget'!DW224","v":"00"},{"$f":"'2-Grant Budget'!DX224","v":""},{"$f":"'2-Grant Budget'!DY224","v":""},{"$f":"'2-Grant Budget'!DZ224","v":1},{"$f":"'2-Grant Budget'!EA224","v":""},{"$f":"'2-Grant Budget'!EB224","v":1},{"$f":"'2-Grant Budget'!EC224","v":""},{"$f":"'2-Grant Budget'!ED224","v":0},{"$f":"'2-Grant Budget'!EE224","v":""},null,null,0]
[{"$f":"'2-Grant Budget'!DW225","v":"00"},{"$f":"'2-Grant Budget'!DX225","v":""},{"$f":"'2-Grant Budget'!DY225","v":""},{"$f":"'2-Grant Budget'!DZ225","v":1},{"$f":"'2-Grant Budget'!EA225","v":""},{"$f":"'2-Grant Budget'!EB225","v":1},{"$f":"'2-Grant Budget'!EC225","v":""},{"$f":"'2-Grant Budget'!ED225","v":0},{"$f":"'2-Grant Budget'!EE225","v":""},null,null,0]
[{"$f":"'2-Grant Budget'!DW226","v":"00"},{"$f":"'2-Grant Budget'!DX226","v":""},{"$f":"'2-Grant Budget'!DY226","v":""},{"$f":"'2-Grant Budget'!DZ226","v":1},{"$f":"'2-Grant Budget'!EA226","v":""},{"$f":"'2-Grant Budget'!EB226","v":1},{"$f":"'2-Grant Budget'!EC226","v":""},{"$f":"'2-Grant Budget'!ED226","v":0},{"$f":"'2-Grant Budget'!EE226","v":""},null,null,0]
[{"$f":"'2-Grant Budget'!DW227","v":"00"},{"$f":"'2-Grant Budget'!DX227","v":""},{"$f":"'2-Grant Budget'!DY227","v":""},{"$f":"'2-Grant Budget'!DZ227","v":1},{"$f":"'2-Grant Budget'!EA227","v":""},{"$f":"'2-Grant Budget'!EB227","v":1},{"$f":"'2-Grant Budget'!EC227","v":""},{"$f":"'2-Grant Budget'!ED227","v":0},{"$f":"'2-Grant Budget'!EE227","v":""},null,null,0]
[{"$f":"'2-Grant Budget'!DW228","v":"00"},{"$f":"'2-Grant Budget'!DX228","v":""},{"$f":"'2-Grant Budget'!DY228","v":""},{"$f":"'2-Grant Budget'!DZ228","v":1},{"$f":"'2-Grant Budget'!EA228","v":""},{"$f":"'2-Grant Budget'!EB228","v":1},{"$f":"'2-Grant Budget'!EC228","v":""},{"$f":"'2-Grant Budget'!ED228","v":0},{"$f":"'2-Grant Budget'!EE228","v":""},null,null,0]
[{"$f":"'2-Grant Budget'!DW229","v":"00"},{"$f":"'2-Grant Budget'!DX229","v":""},{"$f":"'2-Grant Budget'!DY229","v":""},{"$f":"'2-Grant Budget'!DZ229","v":1},{"$f":"'2-Grant Budget'!EA229","v":""},{"$f":"'2-Grant Budget'!EB229","v":1},{"$f":"'2-Grant Budget'!EC229","v":""},{"$f":"'2-Grant Budget'!ED229","v":0},{"$f":"'2-Grant Budget'!EE229","v":""},null,null,0]
[{"$f":"'2-Grant Budget'!DW230","v":"00"},{"$f":"'2-Grant Budget'!DX230","v":""},{"$f":"'2-Grant Budget'!DY230","v":""},{"$f":"'2-Grant Budget'!DZ230","v":1},{"$f":"'2-Grant Budget'!EA230","v":""},{"$f":"'2-Grant Budget'!EB230","v":1},{"$f":"'2-Grant Budget'!EC230","v":""},{"$f":"'2-Grant Budget'!ED230","v":0},{"$f":"'2-Grant Budget'!EE230","v":""},null,null,0]
[{"$f":"'2-Grant Budget'!DW231","v":"00"},{"$f":"'2-Grant Budget'!DX231","v":""},{"$f":"'2-Grant Budget'!DY231","v":""},{"$f":"'2-Grant Budget'!DZ231","v":1},{"$f":"'2-Grant Budget'!EA231","v":""},{"$f":"'2-Grant Budget'!EB231","v":1},{"$f":"'2-Grant Budget'!EC231","v":""},{"$f":"'2-Grant Budget'!ED231","v":0},{"$f":"'2-Grant Budget'!EE231","v":""},null,null,0]
[{"$f":"'2-Grant Budget'!DW232","v":"00"},{"$f":"'2-Grant Budget'!DX232","v":""},{"$f":"'2-Grant Budget'!DY232","v":""},{"$f":"'2-Grant Budget'!DZ232","v":1},{"$f":"'2-Grant Budget'!EA232","v":""},{"$f":"'2-Grant Budget'!EB232","v":1},{"$f":"'2-Grant Budget'!EC232","v":""},{"$f":"'2-Grant Budget'!ED232","v":0},{"$f":"'2-Grant Budget'!EE232","v":""},null,null,0]
[{"$f":"'2-Grant Budget'!DW233","v":"00"},{"$f":"'2-Grant Budget'!DX233","v":""},{"$f":"'2-Grant Budget'!DY233","v":""},{"$f":"'2-Grant Budget'!DZ233","v":1},{"$f":"'2-Grant Budget'!EA233","v":""},{"$f":"'2-Grant Budget'!EB233","v":1},{"$f":"'2-Grant Budget'!EC233","v":""},{"$f":"'2-Grant Budget'!ED233","v":0},{"$f":"'2-Grant Budget'!EE233","v":""},null,null,0]
[{"$f":"'2-Grant Budget'!DW234","v":"00"},{"$f":"'2-Grant Budget'!DX234","v":""},{"$f":"'2-Grant Budget'!DY234","v":""},{"$f":"'2-Grant Budget'!DZ234","v":1},{"$f":"'2-Grant Budget'!EA234","v":""},{"$f":"'2-Grant Budget'!EB234","v":1},{"$f":"'2-Grant Budget'!EC234","v":""},{"$f":"'2-Grant Budget'!ED234","v":0},{"$f":"'2-Grant Budget'!EE234","v":""},null,null,0]
[{"$f":"'2-Grant Budget'!DW235","v":"00"},{"$f":"'2-Grant Budget'!DX235","v":""},{"$f":"'2-Grant Budget'!DY235","v":""},{"$f":"'2-Grant Budget'!DZ235","v":1},{"$f":"'2-Grant Budget'!EA235","v":""},{"$f":"'2-Grant Budget'!EB235","v":1},{"$f":"'2-Grant Budget'!EC235","v":""},{"$f":"'2-Grant Budget'!ED235","v":0},{"$f":"'2-Grant Budget'!EE235","v":""},null,null,0]
[{"$f":"'2-Grant Budget'!DW236","v":"00"},{"$f":"'2-Grant Budget'!DX236","v":""},{"$f":"'2-Grant Budget'!DY236","v":""},{"$f":"'2-Grant Budget'!DZ236","v":1},{"$f":"'2-Grant Budget'!EA236","v":""},{"$f":"'2-Grant Budget'!EB236","v":1},{"$f":"'2-Grant Budget'!EC236","v":""},{"$f":"'2-Grant Budget'!ED236","v":0},{"$f":"'2-Grant Budget'!EE236","v":""},null,null,0]
[{"$f":"'2-Grant Budget'!DW237","v":"00"},{"$f":"'2-Grant Budget'!DX237","v":""},{"$f":"'2-Grant Budget'!DY237","v":""},{"$f":"'2-Grant Budget'!DZ237","v":1},{"$f":"'2-Grant Budget'!EA237","v":""},{"$f":"'2-Grant Budget'!EB237","v":1},{"$f":"'2-Grant Budget'!EC237","v":""},{"$f":"'2-Grant Budget'!ED237","v":0},{"$f":"'2-Grant Budget'!EE237","v":""},null,null,0]
[{"$f":"'2-Grant Budget'!DW238","v":"00"},{"$f":"'2-Grant Budget'!DX238","v":""},{"$f":"'2-Grant Budget'!DY238","v":""},{"$f":"'2-Grant Budget'!DZ238","v":1},{"$f":"'2-Grant Budget'!EA238","v":""},{"$f":"'2-Grant Budget'!EB238","v":1},{"$f":"'2-Grant Budget'!EC238","v":""},{"$f":"'2-Grant Budget'!ED238","v":0},{"$f":"'2-Grant Budget'!EE238","v":""},null,null,0]
[{"$f":"'2-Grant Budget'!DW239","v":"00"},{"$f":"'2-Grant Budget'!DX239","v":""},{"$f":"'2-Grant Budget'!DY239","v":""},{"$f":"'2-Grant Budget'!DZ239","v":1},{"$f":"'2-Grant Budget'!EA239","v":""},{"$f":"'2-Grant Budget'!EB239","v":1},{"$f":"'2-Grant Budget'!EC239","v":""},{"$f":"'2-Grant Budget'!ED239","v":0},{"$f":"'2-Grant Budget'!EE239","v":""},null,null,0]
[{"$f":"'2-Grant Budget'!DW240","v":"00"},{"$f":"'2-Grant Budget'!DX240","v":""},{"$f":"'2-Grant Budget'!DY240","v":""},{"$f":"'2-Grant Budget'!DZ240","v":1},{"$f":"'2-Grant Budget'!EA240","v":""},{"$f":"'2-Grant Budget'!EB240","v":1},{"$f":"'2-Grant Budget'!EC240","v":""},{"$f":"'2-Grant Budget'!ED240","v":0},{"$f":"'2-Grant Budget'!EE240","v":""},null,null,0]
[{"$f":"'2-Grant Budget'!DW241","v":"00"},{"$f":"'2-Grant Budget'!DX241","v":""},{"$f":"'2-Grant Budget'!DY241","v":""},{"$f":"'2-Grant Budget'!DZ241","v":1},{"$f":"'2-Grant Budget'!EA241","v":""},{"$f":"'2-Grant Budget'!EB241","v":1},{"$f":"'2-Grant Budget'!EC241","v":""},{"$f":"'2-Grant Budget'!ED241","v":0},{"$f":"'2-Grant Budget'!EE241","v":""},null,null,0]
[{"$f":"'2-Grant Budget'!DW242","v":"00"},{"$f":"'2-Grant Budget'!DX242","v":""},{"$f":"'2-Grant Budget'!DY242","v":""},{"$f":"'2-Grant Budget'!DZ242","v":1},{"$f":"'2-Grant Budget'!EA242","v":""},{"$f":"'2-Grant Budget'!EB242","v":1},{"$f":"'2-Grant Budget'!EC242","v":""},{"$f":"'2-Grant Budget'!ED242","v":0},{"$f":"'2-Grant Budget'!EE242","v":""},null,null,0]
[{"$f":"'2-Grant Budget'!DW243","v":"00"},{"$f":"'2-Grant Budget'!DX243","v":""},{"$f":"'2-Grant Budget'!DY243","v":""},{"$f":"'2-Grant Budget'!DZ243","v":1},{"$f":"'2-Grant Budget'!EA243","v":""},{"$f":"'2-Grant Budget'!EB243","v":1},{"$f":"'2-Grant Budget'!EC243","v":""},{"$f":"'2-Grant Budget'!ED243","v":0},{"$f":"'2-Grant Budget'!EE243","v":""},null,null,0]
[{"$f":"'2-Grant Budget'!DW244","v":"00"},{"$f":"'2-Grant Budget'!DX244","v":""},{"$f":"'2-Grant Budget'!DY244","v":""},{"$f":"'2-Grant Budget'!DZ244","v":1},{"$f":"'2-Grant Budget'!EA244","v":""},{"$f":"'2-Grant Budget'!EB244","v":1},{"$f":"'2-Grant Budget'!EC244","v":""},{"$f":"'2-Grant Budget'!ED244","v":0},{"$f":"'2-Grant Budget'!EE244","v":""},null,null,0]
[{"$f":"'2-Grant Budget'!DW245","v":"00"},{"$f":"'2-Grant Budget'!DX245","v":""},{"$f":"'2-Grant Budget'!DY245","v":""},{"$f":"'2-Grant Budget'!DZ245","v":1},{"$f":"'2-Grant Budget'!EA245","v":""},{"$f":"'2-Grant Budget'!EB245","v":1},{"$f":"'2-Grant Budget'!EC245","v":""},{"$f":"'2-Grant Budget'!ED245","v":0},{"$f":"'2-Grant Budget'!EE245","v":""},null,null,0]
[{"$f":"'2-Grant Budget'!DW246","v":"00"},{"$f":"'2-Grant Budget'!DX246","v":""},{"$f":"'2-Grant Budget'!DY246","v":""},{"$f":"'2-Grant Budget'!DZ246","v":1},{"$f":"'2-Grant Budget'!EA246","v":""},{"$f":"'2-Grant Budget'!EB246","v":1},{"$f":"'2-Grant Budget'!EC246","v":""},{"$f":"'2-Grant Budget'!ED246","v":0},{"$f":"'2-Grant Budget'!EE246","v":""},null,null,0]
[{"$f":"'2-Grant Budget'!DW247","v":"00"},{"$f":"'2-Grant Budget'!DX247","v":""},{"$f":"'2-Grant Budget'!DY247","v":""},{"$f":"'2-Grant Budget'!DZ247","v":1},{"$f":"'2-Grant Budget'!EA247","v":""},{"$f":"'2-Grant Budget'!EB247","v":1},{"$f":"'2-Grant Budget'!EC247","v":""},{"$f":"'2-Grant Budget'!ED247","v":0},{"$f":"'2-Grant Budget'!EE247","v":""},null,null,0]
[{"$f":"'2-Grant Budget'!DW248","v":"00"},{"$f":"'2-Grant Budget'!DX248","v":""},{"$f":"'2-Grant Budget'!DY248","v":""},{"$f":"'2-Grant Budget'!DZ248","v":1},{"$f":"'2-Grant Budget'!EA248","v":""},{"$f":"'2-Grant Budget'!EB248","v":1},{"$f":"'2-Grant Budget'!EC248","v":""},{"$f":"'2-Grant Budget'!ED248","v":0},{"$f":"'2-Grant Budget'!EE248","v":""},null,null,0]
[{"$f":"'2-Grant Budget'!DW249","v":"00"},{"$f":"'2-Grant Budget'!DX249","v":""},{"$f":"'2-Grant Budget'!DY249","v":""},{"$f":"'2-Grant Budget'!DZ249","v":1},{"$f":"'2-Grant Budget'!EA249","v":""},{"$f":"'2-Grant Budget'!EB249","v":1},{"$f":"'2-Grant Budget'!EC249","v":""},{"$f":"'2-Grant Budget'!ED249","v":0},{"$f":"'2-Grant Budget'!EE249","v":""},null,null,0]
[{"$f":"'2-Grant Budget'!DW250","v":"00"},{"$f":"'2-Grant Budget'!DX250","v":""},{"$f":"'2-Grant Budget'!DY250","v":""},{"$f":"'2-Grant Budget'!DZ250","v":1},{"$f":"'2-Grant Budget'!EA250","v":""},{"$f":"'2-Grant Budget'!EB250","v":1},{"$f":"'2-Grant Budget'!EC250","v":""},{"$f":"'2-Grant Budget'!ED250","v":0},{"$f":"'2-Grant Budget'!EE250","v":""},null,null,0]
[{"$f":"'2-Grant Budget'!DW251","v":"00"},{"$f":"'2-Grant Budget'!DX251","v":""},{"$f":"'2-Grant Budget'!DY251","v":""},{"$f":"'2-Grant Budget'!DZ251","v":1},{"$f":"'2-Grant Budget'!EA251","v":""},{"$f":"'2-Grant Budget'!EB251","v":1},{"$f":"'2-Grant Budget'!EC251","v":""},{"$f":"'2-Grant Budget'!ED251","v":0},{"$f":"'2-Grant Budget'!EE251","v":""},null,null,0]
[{"$f":"'2-Grant Budget'!DW252","v":"00"},{"$f":"'2-Grant Budget'!DX252","v":""},{"$f":"'2-Grant Budget'!DY252","v":""},{"$f":"'2-Grant Budget'!DZ252","v":1},{"$f":"'2-Grant Budget'!EA252","v":""},{"$f":"'2-Grant Budget'!EB252","v":1},{"$f":"'2-Grant Budget'!EC252","v":""},{"$f":"'2-Grant Budget'!ED252","v":0},{"$f":"'2-Grant Budget'!EE252","v":""},null,null,0]
[{"$f":"'2-Grant Budget'!DW253","v":"00"},{"$f":"'2-Grant Budget'!DX253","v":""},{"$f":"'2-Grant Budget'!DY253","v":""},{"$f":"'2-Grant Budget'!DZ253","v":1},{"$f":"'2-Grant Budget'!EA253","v":""},{"$f":"'2-Grant Budget'!EB253","v":1},{"$f":"'2-Grant Budget'!EC253","v":""},{"$f":"'2-Grant Budget'!ED253","v":0},{"$f":"'2-Grant Budget'!EE253","v":""},null,null,0]
[{"$f":"'2-Grant Budget'!DW254","v":"00"},{"$f":"'2-Grant Budget'!DX254","v":""},{"$f":"'2-Grant Budget'!DY254","v":""},{"$f":"'2-Grant Budget'!DZ254","v":1},{"$f":"'2-Grant Budget'!EA254","v":""},{"$f":"'2-Grant Budget'!EB254","v":1},{"$f":"'2-Grant Budget'!EC254","v":""},{"$f":"'2-Grant Budget'!ED254","v":0},{"$f":"'2-Grant Budget'!EE254","v":""},null,null,0]
[{"$f":"'2-Grant Budget'!DW255","v":"00"},{"$f":"'2-Grant Budget'!DX255","v":""},{"$f":"'2-Grant Budget'!DY255","v":""},{"$f":"'2-Grant Budget'!DZ255","v":1},{"$f":"'2-Grant Budget'!EA255","v":""},{"$f":"'2-Grant Budget'!EB255","v":1},{"$f":"'2-Grant Budget'!EC255","v":""},{"$f":"'2-Grant Budget'!ED255","v":0},{"$f":"'2-Grant Budget'!EE255","v":""},null,null,0]
[{"$f":"'2-Grant Budget'!DW256","v":"00"},{"$f":"'2-Grant Budget'!DX256","v":""},{"$f":"'2-Grant Budget'!DY256","v":""},{"$f":"'2-Grant Budget'!DZ256","v":1},{"$f":"'2-Grant Budget'!EA256","v":""},{"$f":"'2-Grant Budget'!EB256","v":1},{"$f":"'2-Grant Budget'!EC256","v":""},{"$f":"'2-Grant Budget'!ED256","v":0},{"$f":"'2-Grant Budget'!EE256","v":""},null,null,0]
[{"$f":"'2-Grant Budget'!DW257","v":"00"},{"$f":"'2-Grant Budget'!DX257","v":""},{"$f":"'2-Grant Budget'!DY257","v":""},{"$f":"'2-Grant Budget'!DZ257","v":1},{"$f":"'2-Grant Budget'!EA257","v":""},{"$f":"'2-Grant Budget'!EB257","v":1},{"$f":"'2-Grant Budget'!EC257","v":""},{"$f":"'2-Grant Budget'!ED257","v":0},{"$f":"'2-Grant Budget'!EE257","v":""},null,null,0]
[{"$f":"'2-Grant Budget'!DW258","v":"00"},{"$f":"'2-Grant Budget'!DX258","v":""},{"$f":"'2-Grant Budget'!DY258","v":""},{"$f":"'2-Grant Budget'!DZ258","v":1},{"$f":"'2-Grant Budget'!EA258","v":""},{"$f":"'2-Grant Budget'!EB258","v":1},{"$f":"'2-Grant Budget'!EC258","v":""},{"$f":"'2-Grant Budget'!ED258","v":0},{"$f":"'2-Grant Budget'!EE258","v":""},null,null,0]
[{"$f":"'2-Grant Budget'!DW259","v":"00"},{"$f":"'2-Grant Budget'!DX259","v":""},{"$f":"'2-Grant Budget'!DY259","v":""},{"$f":"'2-Grant Budget'!DZ259","v":1},{"$f":"'2-Grant Budget'!EA259","v":""},{"$f":"'2-Grant Budget'!EB259","v":1},{"$f":"'2-Grant Budget'!EC259","v":""},{"$f":"'2-Grant Budget'!ED259","v":0},{"$f":"'2-Grant Budget'!EE259","v":""},null,null,0]
[{"$f":"'2-Grant Budget'!DW260","v":"00"},{"$f":"'2-Grant Budget'!DX260","v":""},{"$f":"'2-Grant Budget'!DY260","v":""},{"$f":"'2-Grant Budget'!DZ260","v":1},{"$f":"'2-Grant Budget'!EA260","v":""},{"$f":"'2-Grant Budget'!EB260","v":1},{"$f":"'2-Grant Budget'!EC260","v":""},{"$f":"'2-Grant Budget'!ED260","v":0},{"$f":"'2-Grant Budget'!EE260","v":""},null,null,0]
[{"$f":"'2-Grant Budget'!DW261","v":"00"},{"$f":"'2-Grant Budget'!DX261","v":""},{"$f":"'2-Grant Budget'!DY261","v":""},{"$f":"'2-Grant Budget'!DZ261","v":1},{"$f":"'2-Grant Budget'!EA261","v":""},{"$f":"'2-Grant Budget'!EB261","v":1},{"$f":"'2-Grant Budget'!EC261","v":""},{"$f":"'2-Grant Budget'!ED261","v":0},{"$f":"'2-Grant Budget'!EE261","v":""},null,null,0]
[{"$f":"'2-Grant Budget'!DW262","v":"00"},{"$f":"'2-Grant Budget'!DX262","v":""},{"$f":"'2-Grant Budget'!DY262","v":""},{"$f":"'2-Grant Budget'!DZ262","v":1},{"$f":"'2-Grant Budget'!EA262","v":""},{"$f":"'2-Grant Budget'!EB262","v":1},{"$f":"'2-Grant Budget'!EC262","v":""},{"$f":"'2-Grant Budget'!ED262","v":0},{"$f":"'2-Grant Budget'!EE262","v":""},null,null,0]
[{"$f":"'2-Grant Budget'!DW263","v":"00"},{"$f":"'2-Grant Budget'!DX263","v":""},{"$f":"'2-Grant Budget'!DY263","v":""},{"$f":"'2-Grant Budget'!DZ263","v":1},{"$f":"'2-Grant Budget'!EA263","v":""},{"$f":"'2-Grant Budget'!EB263","v":1},{"$f":"'2-Grant Budget'!EC263","v":""},{"$f":"'2-Grant Budget'!ED263","v":0},{"$f":"'2-Grant Budget'!EE263","v":""},null,null,0]
[{"$f":"'2-Grant Budget'!DW264","v":"00"},{"$f":"'2-Grant Budget'!DX264","v":""},{"$f":"'2-Grant Budget'!DY264","v":""},{"$f":"'2-Grant Budget'!DZ264","v":1},{"$f":"'2-Grant Budget'!EA264","v":""},{"$f":"'2-Grant Budget'!EB264","v":1},{"$f":"'2-Grant Budget'!EC264","v":""},{"$f":"'2-Grant Budget'!ED264","v":0},{"$f":"'2-Grant Budget'!EE264","v":""},null,null,0]
[{"$f":"'2-Grant Budget'!DW265","v":"00"},{"$f":"'2-Grant Budget'!DX265","v":""},{"$f":"'2-Grant Budget'!DY265","v":""},{"$f":"'2-Grant Budget'!DZ265","v":1},{"$f":"'2-Grant Budget'!EA265","v":""},{"$f":"'2-Grant Budget'!EB265","v":1},{"$f":"'2-Grant Budget'!EC265","v":""},{"$f":"'2-Grant Budget'!ED265","v":0},{"$f":"'2-Grant Budget'!EE265","v":""},null,null,0]
[{"$f":"'2-Grant Budget'!DW266","v":"00"},{"$f":"'2-Grant Budget'!DX266","v":""},{"$f":"'2-Grant Budget'!DY266","v":""},{"$f":"'2-Grant Budget'!DZ266","v":1},{"$f":"'2-Grant Budget'!EA266","v":""},{"$f":"'2-Grant Budget'!EB266","v":1},{"$f":"'2-Grant Budget'!EC266","v":""},{"$f":"'2-Grant Budget'!ED266","v":0},{"$f":"'2-Grant Budget'!EE266","v":""},null,null,0]
[{"$f":"'2-Grant Budget'!DW267","v":"00"},{"$f":"'2-Grant Budget'!DX267","v":""},{"$f":"'2-Grant Budget'!DY267","v":""},{"$f":"'2-Grant Budget'!DZ267","v":1},{"$f":"'2-Grant Budget'!EA267","v":""},{"$f":"'2-Grant Budget'!EB267","v":1},{"$f":"'2-Grant Budget'!EC267","v":""},{"$f":"'2-Grant Budget'!ED267","v":0},{"$f":"'2-Grant Budget'!EE267","v":""},null,null,0]
[{"$f":"'2-Grant Budget'!DW268","v":"00"},{"$f":"'2-Grant Budget'!DX268","v":""},{"$f":"'2-Grant Budget'!DY268","v":""},{"$f":"'2-Grant Budget'!DZ268","v":1},{"$f":"'2-Grant Budget'!EA268","v":""},{"$f":"'2-Grant Budget'!EB268","v":1},{"$f":"'2-Grant Budget'!EC268","v":""},{"$f":"'2-Grant Budget'!ED268","v":0},{"$f":"'2-Grant Budget'!EE268","v":""},null,null,0]
[{"$f":"'2-Grant Budget'!DW269","v":"00"},{"$f":"'2-Grant Budget'!DX269","v":""},{"$f":"'2-Grant Budget'!DY269","v":""},{"$f":"'2-Grant Budget'!DZ269","v":1},{"$f":"'2-Grant Budget'!EA269","v":""},{"$f":"'2-Grant Budget'!EB269","v":1},{"$f":"'2-Grant Budget'!EC269","v":""},{"$f":"'2-Grant Budget'!ED269","v":0},{"$f":"'2-Grant Budget'!EE269","v":""},null,null,0]
[{"$f":"'2-Grant Budget'!DW270","v":"00"},{"$f":"'2-Grant Budget'!DX270","v":""},{"$f":"'2-Grant Budget'!DY270","v":""},{"$f":"'2-Grant Budget'!DZ270","v":1},{"$f":"'2-Grant Budget'!EA270","v":""},{"$f":"'2-Grant Budget'!EB270","v":1},{"$f":"'2-Grant Budget'!EC270","v":""},{"$f":"'2-Grant Budget'!ED270","v":0},{"$f":"'2-Grant Budget'!EE270","v":""},null,null,0]
[{"$f":"'2-Grant Budget'!DW271","v":"00"},{"$f":"'2-Grant Budget'!DX271","v":""},{"$f":"'2-Grant Budget'!DY271","v":""},{"$f":"'2-Grant Budget'!DZ271","v":1},{"$f":"'2-Grant Budget'!EA271","v":""},{"$f":"'2-Grant Budget'!EB271","v":1},{"$f":"'2-Grant Budget'!EC271","v":""},{"$f":"'2-Grant Budget'!ED271","v":0},{"$f":"'2-Grant Budget'!EE271","v":""},null,null,0]
[{"$f":"'2-Grant Budget'!DW272","v":"00"},{"$f":"'2-Grant Budget'!DX272","v":""},{"$f":"'2-Grant Budget'!DY272","v":""},{"$f":"'2-Grant Budget'!DZ272","v":1},{"$f":"'2-Grant Budget'!EA272","v":""},{"$f":"'2-Grant Budget'!EB272","v":1},{"$f":"'2-Grant Budget'!EC272","v":""},{"$f":"'2-Grant Budget'!ED272","v":0},{"$f":"'2-Grant Budget'!EE272","v":""},null,null,0]
[{"$f":"'2-Grant Budget'!DW273","v":"00"},{"$f":"'2-Grant Budget'!DX273","v":""},{"$f":"'2-Grant Budget'!DY273","v":""},{"$f":"'2-Grant Budget'!DZ273","v":1},{"$f":"'2-Grant Budget'!EA273","v":""},{"$f":"'2-Grant Budget'!EB273","v":1},{"$f":"'2-Grant Budget'!EC273","v":""},{"$f":"'2-Grant Budget'!ED273","v":0},{"$f":"'2-Grant Budget'!EE273","v":""},null,null,0]
[{"$f":"'2-Grant Budget'!DW274","v":"00"},{"$f":"'2-Grant Budget'!DX274","v":""},{"$f":"'2-Grant Budget'!DY274","v":""},{"$f":"'2-Grant Budget'!DZ274","v":1},{"$f":"'2-Grant Budget'!EA274","v":""},{"$f":"'2-Grant Budget'!EB274","v":1},{"$f":"'2-Grant Budget'!EC274","v":""},{"$f":"'2-Grant Budget'!ED274","v":0},{"$f":"'2-Grant Budget'!EE274","v":""},null,null,{"$f":"IF(LEN(B262)>0,1,0)","v":0}]
[{"$f":"'2-Grant Budget'!DW275","v":"00"},{"$f":"'2-Grant Budget'!DX275","v":""},{"$f":"'2-Grant Budget'!DY275","v":""},{"$f":"'2-Grant Budget'!DZ275","v":1},{"$f":"'2-Grant Budget'!EA275","v":""},{"$f":"'2-Grant Budget'!EB275","v":1},{"$f":"'2-Grant Budget'!EC275","v":""},{"$f":"'2-Grant Budget'!ED275","v":0},{"$f":"'2-Grant Budget'!EE275","v":""},null,null,0]
[{"$f":"'2-Grant Budget'!DW276","v":"00"},{"$f":"'2-Grant Budget'!DX276","v":""},{"$f":"'2-Grant Budget'!DY276","v":""},{"$f":"'2-Grant Budget'!DZ276","v":1},{"$f":"'2-Grant Budget'!EA276","v":""},{"$f":"'2-Grant Budget'!EB276","v":1},{"$f":"'2-Grant Budget'!EC276","v":""},{"$f":"'2-Grant Budget'!ED276","v":0},{"$f":"'2-Grant Budget'!EE276","v":""},null,null,0]
[{"$f":"'2-Grant Budget'!DW277","v":"00"},{"$f":"'2-Grant Budget'!DX277","v":""},{"$f":"'2-Grant Budget'!DY277","v":""},{"$f":"'2-Grant Budget'!DZ277","v":1},{"$f":"'2-Grant Budget'!EA277","v":""},{"$f":"'2-Grant Budget'!EB277","v":1},{"$f":"'2-Grant Budget'!EC277","v":""},{"$f":"'2-Grant Budget'!ED277","v":0},{"$f":"'2-Grant Budget'!EE277","v":""},null,null,0]
[{"$f":"'2-Grant Budget'!DW278","v":"00"},{"$f":"'2-Grant Budget'!DX278","v":""},{"$f":"'2-Grant Budget'!DY278","v":""},{"$f":"'2-Grant Budget'!DZ278","v":1},{"$f":"'2-Grant Budget'!EA278","v":""},{"$f":"'2-Grant Budget'!EB278","v":1},{"$f":"'2-Grant Budget'!EC278","v":""},{"$f":"'2-Grant Budget'!ED278","v":0},{"$f":"'2-Grant Budget'!EE278","v":""},null,null,0]
[{"$f":"'2-Grant Budget'!DW279","v":"00"},{"$f":"'2-Grant Budget'!DX279","v":""},{"$f":"'2-Grant Budget'!DY279","v":""},{"$f":"'2-Grant Budget'!DZ279","v":1},{"$f":"'2-Grant Budget'!EA279","v":""},{"$f":"'2-Grant Budget'!EB279","v":1},{"$f":"'2-Grant Budget'!EC279","v":""},{"$f":"'2-Grant Budget'!ED279","v":0},{"$f":"'2-Grant Budget'!EE279","v":""},null,null,0]
[{"$f":"'2-Grant Budget'!DW280","v":"00"},{"$f":"'2-Grant Budget'!DX280","v":""},{"$f":"'2-Grant Budget'!DY280","v":""},{"$f":"'2-Grant Budget'!DZ280","v":1},{"$f":"'2-Grant Budget'!EA280","v":""},{"$f":"'2-Grant Budget'!EB280","v":1},{"$f":"'2-Grant Budget'!EC280","v":""},{"$f":"'2-Grant Budget'!ED280","v":0},{"$f":"'2-Grant Budget'!EE280","v":""},null,null,0]
[{"$f":"'2-Grant Budget'!DW281","v":"00"},{"$f":"'2-Grant Budget'!DX281","v":""},{"$f":"'2-Grant Budget'!DY281","v":""},{"$f":"'2-Grant Budget'!DZ281","v":1},{"$f":"'2-Grant Budget'!EA281","v":""},{"$f":"'2-Grant Budget'!EB281","v":1},{"$f":"'2-Grant Budget'!EC281","v":""},{"$f":"'2-Grant Budget'!ED281","v":0},{"$f":"'2-Grant Budget'!EE281","v":""},null,null,0]
[{"$f":"'2-Grant Budget'!DW282","v":"00"},{"$f":"'2-Grant Budget'!DX282","v":""},{"$f":"'2-Grant Budget'!DY282","v":""},{"$f":"'2-Grant Budget'!DZ282","v":1},{"$f":"'2-Grant Budget'!EA282","v":""},{"$f":"'2-Grant Budget'!EB282","v":1},{"$f":"'2-Grant Budget'!EC282","v":""},{"$f":"'2-Grant Budget'!ED282","v":0},{"$f":"'2-Grant Budget'!EE282","v":""},null,null,0]
[{"$f":"'2-Grant Budget'!DW283","v":"00"},{"$f":"'2-Grant Budget'!DX283","v":""},{"$f":"'2-Grant Budget'!DY283","v":""},{"$f":"'2-Grant Budget'!DZ283","v":1},{"$f":"'2-Grant Budget'!EA283","v":""},{"$f":"'2-Grant Budget'!EB283","v":1},{"$f":"'2-Grant Budget'!EC283","v":""},{"$f":"'2-Grant Budget'!ED283","v":0},{"$f":"'2-Grant Budget'!EE283","v":""},null,null,0]
[{"$f":"'2-Grant Budget'!DW284","v":"00"},{"$f":"'2-Grant Budget'!DX284","v":""},{"$f":"'2-Grant Budget'!DY284","v":""},{"$f":"'2-Grant Budget'!DZ284","v":1},{"$f":"'2-Grant Budget'!EA284","v":""},{"$f":"'2-Grant Budget'!EB284","v":1},{"$f":"'2-Grant Budget'!EC284","v":""},{"$f":"'2-Grant Budget'!ED284","v":0},{"$f":"'2-Grant Budget'!EE284","v":""},null,null,0]
[{"$f":"'2-Grant Budget'!DW285","v":"00"},{"$f":"'2-Grant Budget'!DX285","v":""},{"$f":"'2-Grant Budget'!DY285","v":""},{"$f":"'2-Grant Budget'!DZ285","v":1},{"$f":"'2-Grant Budget'!EA285","v":""},{"$f":"'2-Grant Budget'!EB285","v":1},{"$f":"'2-Grant Budget'!EC285","v":""},{"$f":"'2-Grant Budget'!ED285","v":0},{"$f":"'2-Grant Budget'!EE285","v":""},null,null,0]
[{"$f":"'2-Grant Budget'!DW286","v":"00"},{"$f":"'2-Grant Budget'!DX286","v":""},{"$f":"'2-Grant Budget'!DY286","v":""},{"$f":"'2-Grant Budget'!DZ286","v":1},{"$f":"'2-Grant Budget'!EA286","v":""},{"$f":"'2-Grant Budget'!EB286","v":1},{"$f":"'2-Grant Budget'!EC286","v":""},{"$f":"'2-Grant Budget'!ED286","v":0},{"$f":"'2-Grant Budget'!EE286","v":""},null,null,0]
[{"$f":"'2-Grant Budget'!DW287","v":"00"},{"$f":"'2-Grant Budget'!DX287","v":""},{"$f":"'2-Grant Budget'!DY287","v":""},{"$f":"'2-Grant Budget'!DZ287","v":1},{"$f":"'2-Grant Budget'!EA287","v":""},{"$f":"'2-Grant Budget'!EB287","v":1},{"$f":"'2-Grant Budget'!EC287","v":""},{"$f":"'2-Grant Budget'!ED287","v":0},{"$f":"'2-Grant Budget'!EE287","v":""},null,null,0]
[{"$f":"'2-Grant Budget'!DW288","v":"00"},{"$f":"'2-Grant Budget'!DX288","v":""},{"$f":"'2-Grant Budget'!DY288","v":""},{"$f":"'2-Grant Budget'!DZ288","v":1},{"$f":"'2-Grant Budget'!EA288","v":""},{"$f":"'2-Grant Budget'!EB288","v":1},{"$f":"'2-Grant Budget'!EC288","v":""},{"$f":"'2-Grant Budget'!ED288","v":0},{"$f":"'2-Grant Budget'!EE288","v":""},null,null,0]
[{"$f":"'2-Grant Budget'!DW289","v":"00"},{"$f":"'2-Grant Budget'!DX289","v":""},{"$f":"'2-Grant Budget'!DY289","v":""},{"$f":"'2-Grant Budget'!DZ289","v":1},{"$f":"'2-Grant Budget'!EA289","v":""},{"$f":"'2-Grant Budget'!EB289","v":1},{"$f":"'2-Grant Budget'!EC289","v":""},{"$f":"'2-Grant Budget'!ED289","v":0},{"$f":"'2-Grant Budget'!EE289","v":""},null,null,0]
[{"$f":"'2-Grant Budget'!DW290","v":"00"},{"$f":"'2-Grant Budget'!DX290","v":""},{"$f":"'2-Grant Budget'!DY290","v":""},{"$f":"'2-Grant Budget'!DZ290","v":1},{"$f":"'2-Grant Budget'!EA290","v":""},{"$f":"'2-Grant Budget'!EB290","v":1},{"$f":"'2-Grant Budget'!EC290","v":""},{"$f":"'2-Grant Budget'!ED290","v":0},{"$f":"'2-Grant Budget'!EE290","v":""},null,null,0]
[{"$f":"'2-Grant Budget'!DW291","v":"00"},{"$f":"'2-Grant Budget'!DX291","v":""},{"$f":"'2-Grant Budget'!DY291","v":""},{"$f":"'2-Grant Budget'!DZ291","v":1},{"$f":"'2-Grant Budget'!EA291","v":""},{"$f":"'2-Grant Budget'!EB291","v":1},{"$f":"'2-Grant Budget'!EC291","v":""},{"$f":"'2-Grant Budget'!ED291","v":0},{"$f":"'2-Grant Budget'!EE291","v":""},null,null,0]
[{"$f":"'2-Grant Budget'!DW292","v":"00"},{"$f":"'2-Grant Budget'!DX292","v":""},{"$f":"'2-Grant Budget'!DY292","v":""},{"$f":"'2-Grant Budget'!DZ292","v":1},{"$f":"'2-Grant Budget'!EA292","v":""},{"$f":"'2-Grant Budget'!EB292","v":1},{"$f":"'2-Grant Budget'!EC292","v":""},{"$f":"'2-Grant Budget'!ED292","v":0},{"$f":"'2-Grant Budget'!EE292","v":""},null,null,0]
[{"$f":"'2-Grant Budget'!DW293","v":"00"},{"$f":"'2-Grant Budget'!DX293","v":""},{"$f":"'2-Grant Budget'!DY293","v":""},{"$f":"'2-Grant Budget'!DZ293","v":1},{"$f":"'2-Grant Budget'!EA293","v":""},{"$f":"'2-Grant Budget'!EB293","v":1},{"$f":"'2-Grant Budget'!EC293","v":""},{"$f":"'2-Grant Budget'!ED293","v":0},{"$f":"'2-Grant Budget'!EE293","v":""},null,null,0]
[{"$f":"'2-Grant Budget'!DW294","v":"00"},{"$f":"'2-Grant Budget'!DX294","v":""},{"$f":"'2-Grant Budget'!DY294","v":""},{"$f":"'2-Grant Budget'!DZ294","v":1},{"$f":"'2-Grant Budget'!EA294","v":""},{"$f":"'2-Grant Budget'!EB294","v":1},{"$f":"'2-Grant Budget'!EC294","v":""},{"$f":"'2-Grant Budget'!ED294","v":0},{"$f":"'2-Grant Budget'!EE294","v":""},null,null,0]
[{"$f":"'2-Grant Budget'!DW295","v":"00"},{"$f":"'2-Grant Budget'!DX295","v":""},{"$f":"'2-Grant Budget'!DY295","v":""},{"$f":"'2-Grant Budget'!DZ295","v":1},{"$f":"'2-Grant Budget'!EA295","v":""},{"$f":"'2-Grant Budget'!EB295","v":1},{"$f":"'2-Grant Budget'!EC295","v":""},{"$f":"'2-Grant Budget'!ED295","v":0},{"$f":"'2-Grant Budget'!EE295","v":""},null,null,0]
[{"$f":"'2-Grant Budget'!DW296","v":"00"},{"$f":"'2-Grant Budget'!DX296","v":""},{"$f":"'2-Grant Budget'!DY296","v":""},{"$f":"'2-Grant Budget'!DZ296","v":1},{"$f":"'2-Grant Budget'!EA296","v":""},{"$f":"'2-Grant Budget'!EB296","v":1},{"$f":"'2-Grant Budget'!EC296","v":""},{"$f":"'2-Grant Budget'!ED296","v":0},{"$f":"'2-Grant Budget'!EE296","v":""},null,null,0]
[{"$f":"'2-Grant Budget'!DW297","v":"00"},{"$f":"'2-Grant Budget'!DX297","v":""},{"$f":"'2-Grant Budget'!DY297","v":""},{"$f":"'2-Grant Budget'!DZ297","v":1},{"$f":"'2-Grant Budget'!EA297","v":""},{"$f":"'2-Grant Budget'!EB297","v":1},{"$f":"'2-Grant Budget'!EC297","v":""},{"$f":"'2-Grant Budget'!ED297","v":0},{"$f":"'2-Grant Budget'!EE297","v":""},null,null,0]
[{"$f":"'2-Grant Budget'!DW298","v":"00"},{"$f":"'2-Grant Budget'!DX298","v":""},{"$f":"'2-Grant Budget'!DY298","v":""},{"$f":"'2-Grant Budget'!DZ298","v":1},{"$f":"'2-Grant Budget'!EA298","v":""},{"$f":"'2-Grant Budget'!EB298","v":1},{"$f":"'2-Grant Budget'!EC298","v":""},{"$f":"'2-Grant Budget'!ED298","v":0},{"$f":"'2-Grant Budget'!EE298","v":""},null,null,0]
[{"$f":"'2-Grant Budget'!DW299","v":"00"},{"$f":"'2-Grant Budget'!DX299","v":""},{"$f":"'2-Grant Budget'!DY299","v":""},{"$f":"'2-Grant Budget'!DZ299","v":1},{"$f":"'2-Grant Budget'!EA299","v":""},{"$f":"'2-Grant Budget'!EB299","v":1},{"$f":"'2-Grant Budget'!EC299","v":""},{"$f":"'2-Grant Budget'!ED299","v":0},{"$f":"'2-Grant Budget'!EE299","v":""},null,null,0]
[{"$f":"'2-Grant Budget'!DW300","v":"00"},{"$f":"'2-Grant Budget'!DX300","v":""},{"$f":"'2-Grant Budget'!DY300","v":""},{"$f":"'2-Grant Budget'!DZ300","v":1},{"$f":"'2-Grant Budget'!EA300","v":""},{"$f":"'2-Grant Budget'!EB300","v":1},{"$f":"'2-Grant Budget'!EC300","v":""},{"$f":"'2-Grant Budget'!ED300","v":0},{"$f":"'2-Grant Budget'!EE300","v":""},null,null,0]
[{"$f":"'2-Grant Budget'!DW301","v":"00"},{"$f":"'2-Grant Budget'!DX301","v":""},{"$f":"'2-Grant Budget'!DY301","v":""},{"$f":"'2-Grant Budget'!DZ301","v":1},{"$f":"'2-Grant Budget'!EA301","v":""},{"$f":"'2-Grant Budget'!EB301","v":1},{"$f":"'2-Grant Budget'!EC301","v":""},{"$f":"'2-Grant Budget'!ED301","v":0},{"$f":"'2-Grant Budget'!EE301","v":""},null,null,0]
[{"$f":"'2-Grant Budget'!DW302","v":"00"},{"$f":"'2-Grant Budget'!DX302","v":""},{"$f":"'2-Grant Budget'!DY302","v":""},{"$f":"'2-Grant Budget'!DZ302","v":1},{"$f":"'2-Grant Budget'!EA302","v":""},{"$f":"'2-Grant Budget'!EB302","v":1},{"$f":"'2-Grant Budget'!EC302","v":""},{"$f":"'2-Grant Budget'!ED302","v":0},{"$f":"'2-Grant Budget'!EE302","v":""},null,null,0]
[{"$f":"'2-Grant Budget'!DW303","v":"00"},{"$f":"'2-Grant Budget'!DX303","v":""},{"$f":"'2-Grant Budget'!DY303","v":""},{"$f":"'2-Grant Budget'!DZ303","v":1},{"$f":"'2-Grant Budget'!EA303","v":""},{"$f":"'2-Grant Budget'!EB303","v":1},{"$f":"'2-Grant Budget'!EC303","v":""},{"$f":"'2-Grant Budget'!ED303","v":0},{"$f":"'2-Grant Budget'!EE303","v":""},null,null,0]
[{"$f":"'2-Grant Budget'!DW304","v":"00"},{"$f":"'2-Grant Budget'!DX304","v":""},{"$f":"'2-Grant Budget'!DY304","v":""},{"$f":"'2-Grant Budget'!DZ304","v":1},{"$f":"'2-Grant Budget'!EA304","v":""},{"$f":"'2-Grant Budget'!EB304","v":1},{"$f":"'2-Grant Budget'!EC304","v":""},{"$f":"'2-Grant Budget'!ED304","v":0},{"$f":"'2-Grant Budget'!EE304","v":""},null,null,0]
[{"$f":"'2-Grant Budget'!DW305","v":"00"},{"$f":"'2-Grant Budget'!DX305","v":""},{"$f":"'2-Grant Budget'!DY305","v":""},{"$f":"'2-Grant Budget'!DZ305","v":1},{"$f":"'2-Grant Budget'!EA305","v":""},{"$f":"'2-Grant Budget'!EB305","v":1},{"$f":"'2-Grant Budget'!EC305","v":""},{"$f":"'2-Grant Budget'!ED305","v":0},{"$f":"'2-Grant Budget'!EE305","v":""},null,null,0]
[{"$f":"'2-Grant Budget'!DW306","v":"00"},{"$f":"'2-Grant Budget'!DX306","v":""},{"$f":"'2-Grant Budget'!DY306","v":""},{"$f":"'2-Grant Budget'!DZ306","v":1},{"$f":"'2-Grant Budget'!EA306","v":""},{"$f":"'2-Grant Budget'!EB306","v":1},{"$f":"'2-Grant Budget'!EC306","v":""},{"$f":"'2-Grant Budget'!ED306","v":0},{"$f":"'2-Grant Budget'!EE306","v":""},null,null,0]
[{"$f":"'2-Grant Budget'!DW307","v":"00"},{"$f":"'2-Grant Budget'!DX307","v":""},{"$f":"'2-Grant Budget'!DY307","v":""},{"$f":"'2-Grant Budget'!DZ307","v":1},{"$f":"'2-Grant Budget'!EA307","v":""},{"$f":"'2-Grant Budget'!EB307","v":1},{"$f":"'2-Grant Budget'!EC307","v":""},{"$f":"'2-Grant Budget'!ED307","v":0},{"$f":"'2-Grant Budget'!EE307","v":""},null,null,0]
[{"$f":"'2-Grant Budget'!DW308","v":"00"},{"$f":"'2-Grant Budget'!DX308","v":""},{"$f":"'2-Grant Budget'!DY308","v":""},{"$f":"'2-Grant Budget'!DZ308","v":1},{"$f":"'2-Grant Budget'!EA308","v":""},{"$f":"'2-Grant Budget'!EB308","v":1},{"$f":"'2-Grant Budget'!EC308","v":""},{"$f":"'2-Grant Budget'!ED308","v":0},{"$f":"'2-Grant Budget'!EE308","v":""},null,null,0]
[{"$f":"'2-Grant Budget'!DW309","v":"00"},{"$f":"'2-Grant Budget'!DX309","v":""},{"$f":"'2-Grant Budget'!DY309","v":""},{"$f":"'2-Grant Budget'!DZ309","v":1},{"$f":"'2-Grant Budget'!EA309","v":""},{"$f":"'2-Grant Budget'!EB309","v":1},{"$f":"'2-Grant Budget'!EC309","v":""},{"$f":"'2-Grant Budget'!ED309","v":0},{"$f":"'2-Grant Budget'!EE309","v":""},null,null,0]
[{"$f":"'2-Grant Budget'!DW310","v":"00"},{"$f":"'2-Grant Budget'!DX310","v":""},{"$f":"'2-Grant Budget'!DY310","v":""},{"$f":"'2-Grant Budget'!DZ310","v":1},{"$f":"'2-Grant Budget'!EA310","v":""},{"$f":"'2-Grant Budget'!EB310","v":1},{"$f":"'2-Grant Budget'!EC310","v":""},{"$f":"'2-Grant Budget'!ED310","v":0},{"$f":"'2-Grant Budget'!EE310","v":""},null,null,0]
[{"$f":"'2-Grant Budget'!DW311","v":"00"},{"$f":"'2-Grant Budget'!DX311","v":""},{"$f":"'2-Grant Budget'!DY311","v":""},{"$f":"'2-Grant Budget'!DZ311","v":1},{"$f":"'2-Grant Budget'!EA311","v":""},{"$f":"'2-Grant Budget'!EB311","v":1},{"$f":"'2-Grant Budget'!EC311","v":""},{"$f":"'2-Grant Budget'!ED311","v":0},{"$f":"'2-Grant Budget'!EE311","v":""},null,null,0]
[{"$f":"'2-Grant Budget'!DW312","v":"00"},{"$f":"'2-Grant Budget'!DX312","v":""},{"$f":"'2-Grant Budget'!DY312","v":""},{"$f":"'2-Grant Budget'!DZ312","v":1},{"$f":"'2-Grant Budget'!EA312","v":""},{"$f":"'2-Grant Budget'!EB312","v":1},{"$f":"'2-Grant Budget'!EC312","v":""},{"$f":"'2-Grant Budget'!ED312","v":0},{"$f":"'2-Grant Budget'!EE312","v":""},null,null,0]
[{"$f":"'2-Grant Budget'!DW313","v":"00"},{"$f":"'2-Grant Budget'!DX313","v":""},{"$f":"'2-Grant Budget'!DY313","v":""},{"$f":"'2-Grant Budget'!DZ313","v":1},{"$f":"'2-Grant Budget'!EA313","v":""},{"$f":"'2-Grant Budget'!EB313","v":1},{"$f":"'2-Grant Budget'!EC313","v":""},{"$f":"'2-Grant Budget'!ED313","v":0},{"$f":"'2-Grant Budget'!EE313","v":""},null,null,0]
[{"$f":"'2-Grant Budget'!DW314","v":"00"},{"$f":"'2-Grant Budget'!DX314","v":""},{"$f":"'2-Grant Budget'!DY314","v":""},{"$f":"'2-Grant Budget'!DZ314","v":1},{"$f":"'2-Grant Budget'!EA314","v":""},{"$f":"'2-Grant Budget'!EB314","v":1},{"$f":"'2-Grant Budget'!EC314","v":""},{"$f":"'2-Grant Budget'!ED314","v":0},{"$f":"'2-Grant Budget'!EE314","v":""},null,null,0]
[{"$f":"'2-Grant Budget'!DW315","v":"00"},{"$f":"'2-Grant Budget'!DX315","v":""},{"$f":"'2-Grant Budget'!DY315","v":""},{"$f":"'2-Grant Budget'!DZ315","v":1},{"$f":"'2-Grant Budget'!EA315","v":""},{"$f":"'2-Grant Budget'!EB315","v":1},{"$f":"'2-Grant Budget'!EC315","v":""},{"$f":"'2-Grant Budget'!ED315","v":0},{"$f":"'2-Grant Budget'!EE315","v":""},null,null,0]
[{"$f":"'2-Grant Budget'!DW316","v":"00"},{"$f":"'2-Grant Budget'!DX316","v":""},{"$f":"'2-Grant Budget'!DY316","v":""},{"$f":"'2-Grant Budget'!DZ316","v":1},{"$f":"'2-Grant Budget'!EA316","v":""},{"$f":"'2-Grant Budget'!EB316","v":1},{"$f":"'2-Grant Budget'!EC316","v":""},{"$f":"'2-Grant Budget'!ED316","v":0},{"$f":"'2-Grant Budget'!EE316","v":""},null,null,0]
[{"$f":"'2-Grant Budget'!DW317","v":"00"},{"$f":"'2-Grant Budget'!DX317","v":""},{"$f":"'2-Grant Budget'!DY317","v":""},{"$f":"'2-Grant Budget'!DZ317","v":1},{"$f":"'2-Grant Budget'!EA317","v":""},{"$f":"'2-Grant Budget'!EB317","v":1},{"$f":"'2-Grant Budget'!EC317","v":""},{"$f":"'2-Grant Budget'!ED317","v":0},{"$f":"'2-Grant Budget'!EE317","v":""},null,null,0]
[{"$f":"'2-Grant Budget'!DW318","v":"00"},{"$f":"'2-Grant Budget'!DX318","v":""},{"$f":"'2-Grant Budget'!DY318","v":""},{"$f":"'2-Grant Budget'!DZ318","v":1},{"$f":"'2-Grant Budget'!EA318","v":""},{"$f":"'2-Grant Budget'!EB318","v":1},{"$f":"'2-Grant Budget'!EC318","v":""},{"$f":"'2-Grant Budget'!ED318","v":0},{"$f":"'2-Grant Budget'!EE318","v":""},null,null,0]
[{"$f":"'2-Grant Budget'!DW319","v":"00"},{"$f":"'2-Grant Budget'!DX319","v":""},{"$f":"'2-Grant Budget'!DY319","v":""},{"$f":"'2-Grant Budget'!DZ319","v":1},{"$f":"'2-Grant Budget'!EA319","v":""},{"$f":"'2-Grant Budget'!EB319","v":1},{"$f":"'2-Grant Budget'!EC319","v":""},{"$f":"'2-Grant Budget'!ED319","v":0},{"$f":"'2-Grant Budget'!EE319","v":""},null,null,0]
[{"$f":"'2-Grant Budget'!DW320","v":"00"},{"$f":"'2-Grant Budget'!DX320","v":""},{"$f":"'2-Grant Budget'!DY320","v":""},{"$f":"'2-Grant Budget'!DZ320","v":1},{"$f":"'2-Grant Budget'!EA320","v":""},{"$f":"'2-Grant Budget'!EB320","v":1},{"$f":"'2-Grant Budget'!EC320","v":""},{"$f":"'2-Grant Budget'!ED320","v":0},{"$f":"'2-Grant Budget'!EE320","v":""},null,null,0]
[{"$f":"'2-Grant Budget'!DW321","v":"00"},{"$f":"'2-Grant Budget'!DX321","v":""},{"$f":"'2-Grant Budget'!DY321","v":""},{"$f":"'2-Grant Budget'!DZ321","v":1},{"$f":"'2-Grant Budget'!EA321","v":""},{"$f":"'2-Grant Budget'!EB321","v":1},{"$f":"'2-Grant Budget'!EC321","v":""},{"$f":"'2-Grant Budget'!ED321","v":0},{"$f":"'2-Grant Budget'!EE321","v":""},null,null,0]
[{"$f":"'2-Grant Budget'!DW322","v":"00"},{"$f":"'2-Grant Budget'!DX322","v":""},{"$f":"'2-Grant Budget'!DY322","v":""},{"$f":"'2-Grant Budget'!DZ322","v":1},{"$f":"'2-Grant Budget'!EA322","v":""},{"$f":"'2-Grant Budget'!EB322","v":1},{"$f":"'2-Grant Budget'!EC322","v":""},{"$f":"'2-Grant Budget'!ED322","v":0},{"$f":"'2-Grant Budget'!EE322","v":""},null,null,0]
[{"$f":"'2-Grant Budget'!DW323","v":"00"},{"$f":"'2-Grant Budget'!DX323","v":""},{"$f":"'2-Grant Budget'!DY323","v":""},{"$f":"'2-Grant Budget'!DZ323","v":1},{"$f":"'2-Grant Budget'!EA323","v":""},{"$f":"'2-Grant Budget'!EB323","v":1},{"$f":"'2-Grant Budget'!EC323","v":""},{"$f":"'2-Grant Budget'!ED323","v":0},{"$f":"'2-Grant Budget'!EE323","v":""},null,null,0]
[{"$f":"'2-Grant Budget'!DW324","v":"00"},{"$f":"'2-Grant Budget'!DX324","v":""},{"$f":"'2-Grant Budget'!DY324","v":""},{"$f":"'2-Grant Budget'!DZ324","v":1},{"$f":"'2-Grant Budget'!EA324","v":""},{"$f":"'2-Grant Budget'!EB324","v":1},{"$f":"'2-Grant Budget'!EC324","v":""},{"$f":"'2-Grant Budget'!ED324","v":0},{"$f":"'2-Grant Budget'!EE324","v":""},null,null,0]
[{"$f":"'2-Grant Budget'!DW325","v":"00"},{"$f":"'2-Grant Budget'!DX325","v":""},{"$f":"'2-Grant Budget'!DY325","v":""},{"$f":"'2-Grant Budget'!DZ325","v":1},{"$f":"'2-Grant Budget'!EA325","v":""},{"$f":"'2-Grant Budget'!EB325","v":1},{"$f":"'2-Grant Budget'!EC325","v":""},{"$f":"'2-Grant Budget'!ED325","v":0},{"$f":"'2-Grant Budget'!EE325","v":""},null,null,0]
[{"$f":"'2-Grant Budget'!DW326","v":"00"},{"$f":"'2-Grant Budget'!DX326","v":""},{"$f":"'2-Grant Budget'!DY326","v":""},{"$f":"'2-Grant Budget'!DZ326","v":1},{"$f":"'2-Grant Budget'!EA326","v":""},{"$f":"'2-Grant Budget'!EB326","v":1},{"$f":"'2-Grant Budget'!EC326","v":""},{"$f":"'2-Grant Budget'!ED326","v":0},{"$f":"'2-Grant Budget'!EE326","v":""},null,null,0]
[{"$f":"'2-Grant Budget'!DW327","v":"00"},{"$f":"'2-Grant Budget'!DX327","v":""},{"$f":"'2-Grant Budget'!DY327","v":""},{"$f":"'2-Grant Budget'!DZ327","v":1},{"$f":"'2-Grant Budget'!EA327","v":""},{"$f":"'2-Grant Budget'!EB327","v":1},{"$f":"'2-Grant Budget'!EC327","v":""},{"$f":"'2-Grant Budget'!ED327","v":0},{"$f":"'2-Grant Budget'!EE327","v":""},null,null,0]
[{"$f":"'2-Grant Budget'!DW328","v":"00"},{"$f":"'2-Grant Budget'!DX328","v":""},{"$f":"'2-Grant Budget'!DY328","v":""},{"$f":"'2-Grant Budget'!DZ328","v":1},{"$f":"'2-Grant Budget'!EA328","v":""},{"$f":"'2-Grant Budget'!EB328","v":1},{"$f":"'2-Grant Budget'!EC328","v":""},{"$f":"'2-Grant Budget'!ED328","v":0},{"$f":"'2-Grant Budget'!EE328","v":""},null,null,0]
[{"$f":"'2-Grant Budget'!DW329","v":"00"},{"$f":"'2-Grant Budget'!DX329","v":""},{"$f":"'2-Grant Budget'!DY329","v":""},{"$f":"'2-Grant Budget'!DZ329","v":1},{"$f":"'2-Grant Budget'!EA329","v":""},{"$f":"'2-Grant Budget'!EB329","v":1},{"$f":"'2-Grant Budget'!EC329","v":""},{"$f":"'2-Grant Budget'!ED329","v":0},{"$f":"'2-Grant Budget'!EE329","v":""},null,null,0]
[{"$f":"'2-Grant Budget'!DW330","v":"00"},{"$f":"'2-Grant Budget'!DX330","v":""},{"$f":"'2-Grant Budget'!DY330","v":""},{"$f":"'2-Grant Budget'!DZ330","v":1},{"$f":"'2-Grant Budget'!EA330","v":""},{"$f":"'2-Grant Budget'!EB330","v":1},{"$f":"'2-Grant Budget'!EC330","v":""},{"$f":"'2-Grant Budget'!ED330","v":0},{"$f":"'2-Grant Budget'!EE330","v":""},null,null,0]
[{"$f":"'2-Grant Budget'!DW331","v":"00"},{"$f":"'2-Grant Budget'!DX331","v":""},{"$f":"'2-Grant Budget'!DY331","v":""},{"$f":"'2-Grant Budget'!DZ331","v":1},{"$f":"'2-Grant Budget'!EA331","v":""},{"$f":"'2-Grant Budget'!EB331","v":1},{"$f":"'2-Grant Budget'!EC331","v":""},{"$f":"'2-Grant Budget'!ED331","v":0},{"$f":"'2-Grant Budget'!EE331","v":""},null,null,0]
[{"$f":"'2-Grant Budget'!DW332","v":"00"},{"$f":"'2-Grant Budget'!DX332","v":""},{"$f":"'2-Grant Budget'!DY332","v":""},{"$f":"'2-Grant Budget'!DZ332","v":1},{"$f":"'2-Grant Budget'!EA332","v":""},{"$f":"'2-Grant Budget'!EB332","v":1},{"$f":"'2-Grant Budget'!EC332","v":""},{"$f":"'2-Grant Budget'!ED332","v":0},{"$f":"'2-Grant Budget'!EE332","v":""},null,null,0]
[{"$f":"'2-Grant Budget'!DW333","v":"00"},{"$f":"'2-Grant Budget'!DX333","v":""},{"$f":"'2-Grant Budget'!DY333","v":""},{"$f":"'2-Grant Budget'!DZ333","v":1},{"$f":"'2-Grant Budget'!EA333","v":""},{"$f":"'2-Grant Budget'!EB333","v":1},{"$f":"'2-Grant Budget'!EC333","v":""},{"$f":"'2-Grant Budget'!ED333","v":0},{"$f":"'2-Grant Budget'!EE333","v":""},null,null,0]
[{"$f":"'2-Grant Budget'!DW334","v":"00"},{"$f":"'2-Grant Budget'!DX334","v":""},{"$f":"'2-Grant Budget'!DY334","v":""},{"$f":"'2-Grant Budget'!DZ334","v":1},{"$f":"'2-Grant Budget'!EA334","v":""},{"$f":"'2-Grant Budget'!EB334","v":1},{"$f":"'2-Grant Budget'!EC334","v":""},{"$f":"'2-Grant Budget'!ED334","v":0},{"$f":"'2-Grant Budget'!EE334","v":""},null,null,0]
[{"$f":"'2-Grant Budget'!DW335","v":"00"},{"$f":"'2-Grant Budget'!DX335","v":""},{"$f":"'2-Grant Budget'!DY335","v":""},{"$f":"'2-Grant Budget'!DZ335","v":1},{"$f":"'2-Grant Budget'!EA335","v":""},{"$f":"'2-Grant Budget'!EB335","v":1},{"$f":"'2-Grant Budget'!EC335","v":""},{"$f":"'2-Grant Budget'!ED335","v":0},{"$f":"'2-Grant Budget'!EE335","v":""},null,null,0]
[{"$f":"'2-Grant Budget'!DW336","v":"00"},{"$f":"'2-Grant Budget'!DX336","v":""},{"$f":"'2-Grant Budget'!DY336","v":""},{"$f":"'2-Grant Budget'!DZ336","v":1},{"$f":"'2-Grant Budget'!EA336","v":""},{"$f":"'2-Grant Budget'!EB336","v":1},{"$f":"'2-Grant Budget'!EC336","v":""},{"$f":"'2-Grant Budget'!ED336","v":0},{"$f":"'2-Grant Budget'!EE336","v":""},null,null,0]
[{"$f":"'2-Grant Budget'!DW337","v":"00"},{"$f":"'2-Grant Budget'!DX337","v":""},{"$f":"'2-Grant Budget'!DY337","v":""},{"$f":"'2-Grant Budget'!DZ337","v":1},{"$f":"'2-Grant Budget'!EA337","v":""},{"$f":"'2-Grant Budget'!EB337","v":1},{"$f":"'2-Grant Budget'!EC337","v":""},{"$f":"'2-Grant Budget'!ED337","v":0},{"$f":"'2-Grant Budget'!EE337","v":""},null,null,0]
[{"$f":"'2-Grant Budget'!DW338","v":"00"},{"$f":"'2-Grant Budget'!DX338","v":""},{"$f":"'2-Grant Budget'!DY338","v":""},{"$f":"'2-Grant Budget'!DZ338","v":1},{"$f":"'2-Grant Budget'!EA338","v":""},{"$f":"'2-Grant Budget'!EB338","v":1},{"$f":"'2-Grant Budget'!EC338","v":""},{"$f":"'2-Grant Budget'!ED338","v":0},{"$f":"'2-Grant Budget'!EE338","v":""},null,null,{"$f":"IF(LEN(B326)>0,1,0)","v":0}]
[{"$f":"'2-Grant Budget'!DW339","v":"00"},{"$f":"'2-Grant Budget'!DX339","v":""},{"$f":"'2-Grant Budget'!DY339","v":""},{"$f":"'2-Grant Budget'!DZ339","v":1},{"$f":"'2-Grant Budget'!EA339","v":""},{"$f":"'2-Grant Budget'!EB339","v":1},{"$f":"'2-Grant Budget'!EC339","v":""},{"$f":"'2-Grant Budget'!ED339","v":0},{"$f":"'2-Grant Budget'!EE339","v":""},null,null,0]
[{"$f":"'2-Grant Budget'!DW340","v":"00"},{"$f":"'2-Grant Budget'!DX340","v":""},{"$f":"'2-Grant Budget'!DY340","v":""},{"$f":"'2-Grant Budget'!DZ340","v":1},{"$f":"'2-Grant Budget'!EA340","v":""},{"$f":"'2-Grant Budget'!EB340","v":1},{"$f":"'2-Grant Budget'!EC340","v":""},{"$f":"'2-Grant Budget'!ED340","v":0},{"$f":"'2-Grant Budget'!EE340","v":""},null,null,0]
[{"$f":"'2-Grant Budget'!DW341","v":"00"},{"$f":"'2-Grant Budget'!DX341","v":""},{"$f":"'2-Grant Budget'!DY341","v":""},{"$f":"'2-Grant Budget'!DZ341","v":1},{"$f":"'2-Grant Budget'!EA341","v":""},{"$f":"'2-Grant Budget'!EB341","v":1},{"$f":"'2-Grant Budget'!EC341","v":""},{"$f":"'2-Grant Budget'!ED341","v":0},{"$f":"'2-Grant Budget'!EE341","v":""},null,null,0]
[{"$f":"'2-Grant Budget'!DW342","v":"00"},{"$f":"'2-Grant Budget'!DX342","v":""},{"$f":"'2-Grant Budget'!DY342","v":""},{"$f":"'2-Grant Budget'!DZ342","v":1},{"$f":"'2-Grant Budget'!EA342","v":""},{"$f":"'2-Grant Budget'!EB342","v":1},{"$f":"'2-Grant Budget'!EC342","v":""},{"$f":"'2-Grant Budget'!ED342","v":0},{"$f":"'2-Grant Budget'!EE342","v":""},null,null,0]
[{"$f":"'2-Grant Budget'!DW343","v":"00"},{"$f":"'2-Grant Budget'!DX343","v":""},{"$f":"'2-Grant Budget'!DY343","v":""},{"$f":"'2-Grant Budget'!DZ343","v":1},{"$f":"'2-Grant Budget'!EA343","v":""},{"$f":"'2-Grant Budget'!EB343","v":1},{"$f":"'2-Grant Budget'!EC343","v":""},{"$f":"'2-Grant Budget'!ED343","v":0},{"$f":"'2-Grant Budget'!EE343","v":""},null,null,0]
[{"$f":"'2-Grant Budget'!DW344","v":"00"},{"$f":"'2-Grant Budget'!DX344","v":""},{"$f":"'2-Grant Budget'!DY344","v":""},{"$f":"'2-Grant Budget'!DZ344","v":1},{"$f":"'2-Grant Budget'!EA344","v":""},{"$f":"'2-Grant Budget'!EB344","v":1},{"$f":"'2-Grant Budget'!EC344","v":""},{"$f":"'2-Grant Budget'!ED344","v":0},{"$f":"'2-Grant Budget'!EE344","v":""},null,null,0]
[{"$f":"'2-Grant Budget'!DW345","v":"00"},{"$f":"'2-Grant Budget'!DX345","v":""},{"$f":"'2-Grant Budget'!DY345","v":""},{"$f":"'2-Grant Budget'!DZ345","v":1},{"$f":"'2-Grant Budget'!EA345","v":""},{"$f":"'2-Grant Budget'!EB345","v":1},{"$f":"'2-Grant Budget'!EC345","v":""},{"$f":"'2-Grant Budget'!ED345","v":0},{"$f":"'2-Grant Budget'!EE345","v":""},null,null,0]
[{"$f":"'2-Grant Budget'!DW346","v":"00"},{"$f":"'2-Grant Budget'!DX346","v":""},{"$f":"'2-Grant Budget'!DY346","v":""},{"$f":"'2-Grant Budget'!DZ346","v":1},{"$f":"'2-Grant Budget'!EA346","v":""},{"$f":"'2-Grant Budget'!EB346","v":1},{"$f":"'2-Grant Budget'!EC346","v":""},{"$f":"'2-Grant Budget'!ED346","v":0},{"$f":"'2-Grant Budget'!EE346","v":""},null,null,0]
[{"$f":"'2-Grant Budget'!DW347","v":"00"},{"$f":"'2-Grant Budget'!DX347","v":""},{"$f":"'2-Grant Budget'!DY347","v":""},{"$f":"'2-Grant Budget'!DZ347","v":1},{"$f":"'2-Grant Budget'!EA347","v":""},{"$f":"'2-Grant Budget'!EB347","v":1},{"$f":"'2-Grant Budget'!EC347","v":""},{"$f":"'2-Grant Budget'!ED347","v":0},{"$f":"'2-Grant Budget'!EE347","v":""},null,null,0]
[{"$f":"'2-Grant Budget'!DW348","v":"00"},{"$f":"'2-Grant Budget'!DX348","v":""},{"$f":"'2-Grant Budget'!DY348","v":""},{"$f":"'2-Grant Budget'!DZ348","v":1},{"$f":"'2-Grant Budget'!EA348","v":""},{"$f":"'2-Grant Budget'!EB348","v":1},{"$f":"'2-Grant Budget'!EC348","v":""},{"$f":"'2-Grant Budget'!ED348","v":0},{"$f":"'2-Grant Budget'!EE348","v":""},null,null,0]
[{"$f":"'2-Grant Budget'!DW349","v":"00"},{"$f":"'2-Grant Budget'!DX349","v":""},{"$f":"'2-Grant Budget'!DY349","v":""},{"$f":"'2-Grant Budget'!DZ349","v":1},{"$f":"'2-Grant Budget'!EA349","v":""},{"$f":"'2-Grant Budget'!EB349","v":1},{"$f":"'2-Grant Budget'!EC349","v":""},{"$f":"'2-Grant Budget'!ED349","v":0},{"$f":"'2-Grant Budget'!EE349","v":""},null,null,0]
[{"$f":"'2-Grant Budget'!DW350","v":"00"},{"$f":"'2-Grant Budget'!DX350","v":""},{"$f":"'2-Grant Budget'!DY350","v":""},{"$f":"'2-Grant Budget'!DZ350","v":1},{"$f":"'2-Grant Budget'!EA350","v":""},{"$f":"'2-Grant Budget'!EB350","v":1},{"$f":"'2-Grant Budget'!EC350","v":""},{"$f":"'2-Grant Budget'!ED350","v":0},{"$f":"'2-Grant Budget'!EE350","v":""},null,null,0]
[{"$f":"'2-Grant Budget'!DW351","v":"00"},{"$f":"'2-Grant Budget'!DX351","v":""},{"$f":"'2-Grant Budget'!DY351","v":""},{"$f":"'2-Grant Budget'!DZ351","v":1},{"$f":"'2-Grant Budget'!EA351","v":""},{"$f":"'2-Grant Budget'!EB351","v":1},{"$f":"'2-Grant Budget'!EC351","v":""},{"$f":"'2-Grant Budget'!ED351","v":0},{"$f":"'2-Grant Budget'!EE351","v":""},null,null,0]
[{"$f":"'2-Grant Budget'!DW352","v":"00"},{"$f":"'2-Grant Budget'!DX352","v":""},{"$f":"'2-Grant Budget'!DY352","v":""},{"$f":"'2-Grant Budget'!DZ352","v":1},{"$f":"'2-Grant Budget'!EA352","v":""},{"$f":"'2-Grant Budget'!EB352","v":1},{"$f":"'2-Grant Budget'!EC352","v":""},{"$f":"'2-Grant Budget'!ED352","v":0},{"$f":"'2-Grant Budget'!EE352","v":""},null,null,0]
[{"$f":"'2-Grant Budget'!DW353","v":"00"},{"$f":"'2-Grant Budget'!DX353","v":""},{"$f":"'2-Grant Budget'!DY353","v":""},{"$f":"'2-Grant Budget'!DZ353","v":1},{"$f":"'2-Grant Budget'!EA353","v":""},{"$f":"'2-Grant Budget'!EB353","v":1},{"$f":"'2-Grant Budget'!EC353","v":""},{"$f":"'2-Grant Budget'!ED353","v":0},{"$f":"'2-Grant Budget'!EE353","v":""},null,null,0]
[{"$f":"'2-Grant Budget'!DW354","v":"00"},{"$f":"'2-Grant Budget'!DX354","v":""},{"$f":"'2-Grant Budget'!DY354","v":""},{"$f":"'2-Grant Budget'!DZ354","v":1},{"$f":"'2-Grant Budget'!EA354","v":""},{"$f":"'2-Grant Budget'!EB354","v":1},{"$f":"'2-Grant Budget'!EC354","v":""},{"$f":"'2-Grant Budget'!ED354","v":0},{"$f":"'2-Grant Budget'!EE354","v":""},null,null,0]
[{"$f":"'2-Grant Budget'!DW355","v":"00"},{"$f":"'2-Grant Budget'!DX355","v":""},{"$f":"'2-Grant Budget'!DY355","v":""},{"$f":"'2-Grant Budget'!DZ355","v":1},{"$f":"'2-Grant Budget'!EA355","v":""},{"$f":"'2-Grant Budget'!EB355","v":1},{"$f":"'2-Grant Budget'!EC355","v":""},{"$f":"'2-Grant Budget'!ED355","v":0},{"$f":"'2-Grant Budget'!EE355","v":""},null,null,0]
[{"$f":"'2-Grant Budget'!DW356","v":"00"},{"$f":"'2-Grant Budget'!DX356","v":""},{"$f":"'2-Grant Budget'!DY356","v":""},{"$f":"'2-Grant Budget'!DZ356","v":1},{"$f":"'2-Grant Budget'!EA356","v":""},{"$f":"'2-Grant Budget'!EB356","v":1},{"$f":"'2-Grant Budget'!EC356","v":""},{"$f":"'2-Grant Budget'!ED356","v":0},{"$f":"'2-Grant Budget'!EE356","v":""},null,null,0]
[{"$f":"'2-Grant Budget'!DW357","v":"00"},{"$f":"'2-Grant Budget'!DX357","v":""},{"$f":"'2-Grant Budget'!DY357","v":""},{"$f":"'2-Grant Budget'!DZ357","v":1},{"$f":"'2-Grant Budget'!EA357","v":""},{"$f":"'2-Grant Budget'!EB357","v":1},{"$f":"'2-Grant Budget'!EC357","v":""},{"$f":"'2-Grant Budget'!ED357","v":0},{"$f":"'2-Grant Budget'!EE357","v":""},null,null,0]
[{"$f":"'2-Grant Budget'!DW358","v":"00"},{"$f":"'2-Grant Budget'!DX358","v":""},{"$f":"'2-Grant Budget'!DY358","v":""},{"$f":"'2-Grant Budget'!DZ358","v":1},{"$f":"'2-Grant Budget'!EA358","v":""},{"$f":"'2-Grant Budget'!EB358","v":1},{"$f":"'2-Grant Budget'!EC358","v":""},{"$f":"'2-Grant Budget'!ED358","v":0},{"$f":"'2-Grant Budget'!EE358","v":""},null,null,0]
[{"$f":"'2-Grant Budget'!DW359","v":"00"},{"$f":"'2-Grant Budget'!DX359","v":""},{"$f":"'2-Grant Budget'!DY359","v":""},{"$f":"'2-Grant Budget'!DZ359","v":1},{"$f":"'2-Grant Budget'!EA359","v":""},{"$f":"'2-Grant Budget'!EB359","v":1},{"$f":"'2-Grant Budget'!EC359","v":""},{"$f":"'2-Grant Budget'!ED359","v":0},{"$f":"'2-Grant Budget'!EE359","v":""},null,null,0]
[{"$f":"'2-Grant Budget'!DW360","v":"00"},{"$f":"'2-Grant Budget'!DX360","v":""},{"$f":"'2-Grant Budget'!DY360","v":""},{"$f":"'2-Grant Budget'!DZ360","v":1},{"$f":"'2-Grant Budget'!EA360","v":""},{"$f":"'2-Grant Budget'!EB360","v":1},{"$f":"'2-Grant Budget'!EC360","v":""},{"$f":"'2-Grant Budget'!ED360","v":0},{"$f":"'2-Grant Budget'!EE360","v":""},null,null,0]
[{"$f":"'2-Grant Budget'!DW361","v":"00"},{"$f":"'2-Grant Budget'!DX361","v":""},{"$f":"'2-Grant Budget'!DY361","v":""},{"$f":"'2-Grant Budget'!DZ361","v":1},{"$f":"'2-Grant Budget'!EA361","v":""},{"$f":"'2-Grant Budget'!EB361","v":1},{"$f":"'2-Grant Budget'!EC361","v":""},{"$f":"'2-Grant Budget'!ED361","v":0},{"$f":"'2-Grant Budget'!EE361","v":""},null,null,0]
[{"$f":"'2-Grant Budget'!DW362","v":"00"},{"$f":"'2-Grant Budget'!DX362","v":""},{"$f":"'2-Grant Budget'!DY362","v":""},{"$f":"'2-Grant Budget'!DZ362","v":1},{"$f":"'2-Grant Budget'!EA362","v":""},{"$f":"'2-Grant Budget'!EB362","v":1},{"$f":"'2-Grant Budget'!EC362","v":""},{"$f":"'2-Grant Budget'!ED362","v":0},{"$f":"'2-Grant Budget'!EE362","v":""},null,null,0]
[{"$f":"'2-Grant Budget'!DW363","v":"00"},{"$f":"'2-Grant Budget'!DX363","v":""},{"$f":"'2-Grant Budget'!DY363","v":""},{"$f":"'2-Grant Budget'!DZ363","v":1},{"$f":"'2-Grant Budget'!EA363","v":""},{"$f":"'2-Grant Budget'!EB363","v":1},{"$f":"'2-Grant Budget'!EC363","v":""},{"$f":"'2-Grant Budget'!ED363","v":0},{"$f":"'2-Grant Budget'!EE363","v":""},null,null,0]
[{"$f":"'2-Grant Budget'!DW364","v":"00"},{"$f":"'2-Grant Budget'!DX364","v":""},{"$f":"'2-Grant Budget'!DY364","v":""},{"$f":"'2-Grant Budget'!DZ364","v":1},{"$f":"'2-Grant Budget'!EA364","v":""},{"$f":"'2-Grant Budget'!EB364","v":1},{"$f":"'2-Grant Budget'!EC364","v":""},{"$f":"'2-Grant Budget'!ED364","v":0},{"$f":"'2-Grant Budget'!EE364","v":""},null,null,0]
[{"$f":"'2-Grant Budget'!DW365","v":"00"},{"$f":"'2-Grant Budget'!DX365","v":""},{"$f":"'2-Grant Budget'!DY365","v":""},{"$f":"'2-Grant Budget'!DZ365","v":1},{"$f":"'2-Grant Budget'!EA365","v":""},{"$f":"'2-Grant Budget'!EB365","v":1},{"$f":"'2-Grant Budget'!EC365","v":""},{"$f":"'2-Grant Budget'!ED365","v":0},{"$f":"'2-Grant Budget'!EE365","v":""},null,null,0]
[{"$f":"'2-Grant Budget'!DW366","v":"00"},{"$f":"'2-Grant Budget'!DX366","v":""},{"$f":"'2-Grant Budget'!DY366","v":""},{"$f":"'2-Grant Budget'!DZ366","v":1},{"$f":"'2-Grant Budget'!EA366","v":""},{"$f":"'2-Grant Budget'!EB366","v":1},{"$f":"'2-Grant Budget'!EC366","v":""},{"$f":"'2-Grant Budget'!ED366","v":0},{"$f":"'2-Grant Budget'!EE366","v":""},null,null,0]
[{"$f":"'2-Grant Budget'!DW367","v":"00"},{"$f":"'2-Grant Budget'!DX367","v":""},{"$f":"'2-Grant Budget'!DY367","v":""},{"$f":"'2-Grant Budget'!DZ367","v":1},{"$f":"'2-Grant Budget'!EA367","v":""},{"$f":"'2-Grant Budget'!EB367","v":1},{"$f":"'2-Grant Budget'!EC367","v":""},{"$f":"'2-Grant Budget'!ED367","v":0},{"$f":"'2-Grant Budget'!EE367","v":""},null,null,0]
[{"$f":"'2-Grant Budget'!DW368","v":"00"},{"$f":"'2-Grant Budget'!DX368","v":""},{"$f":"'2-Grant Budget'!DY368","v":""},{"$f":"'2-Grant Budget'!DZ368","v":1},{"$f":"'2-Grant Budget'!EA368","v":""},{"$f":"'2-Grant Budget'!EB368","v":1},{"$f":"'2-Grant Budget'!EC368","v":""},{"$f":"'2-Grant Budget'!ED368","v":0},{"$f":"'2-Grant Budget'!EE368","v":""},null,null,0]
[{"$f":"'2-Grant Budget'!DW369","v":"00"},{"$f":"'2-Grant Budget'!DX369","v":""},{"$f":"'2-Grant Budget'!DY369","v":""},{"$f":"'2-Grant Budget'!DZ369","v":1},{"$f":"'2-Grant Budget'!EA369","v":""},{"$f":"'2-Grant Budget'!EB369","v":1},{"$f":"'2-Grant Budget'!EC369","v":""},{"$f":"'2-Grant Budget'!ED369","v":0},{"$f":"'2-Grant Budget'!EE369","v":""},null,null,0]
[{"$f":"'2-Grant Budget'!DW370","v":"00"},{"$f":"'2-Grant Budget'!DX370","v":""},{"$f":"'2-Grant Budget'!DY370","v":""},{"$f":"'2-Grant Budget'!DZ370","v":1},{"$f":"'2-Grant Budget'!EA370","v":""},{"$f":"'2-Grant Budget'!EB370","v":1},{"$f":"'2-Grant Budget'!EC370","v":""},{"$f":"'2-Grant Budget'!ED370","v":0},{"$f":"'2-Grant Budget'!EE370","v":""},null,null,0]
[{"$f":"'2-Grant Budget'!DW371","v":"00"},{"$f":"'2-Grant Budget'!DX371","v":""},{"$f":"'2-Grant Budget'!DY371","v":""},{"$f":"'2-Grant Budget'!DZ371","v":1},{"$f":"'2-Grant Budget'!EA371","v":""},{"$f":"'2-Grant Budget'!EB371","v":1},{"$f":"'2-Grant Budget'!EC371","v":""},{"$f":"'2-Grant Budget'!ED371","v":0},{"$f":"'2-Grant Budget'!EE371","v":""},null,null,0]
[{"$f":"'2-Grant Budget'!DW372","v":"00"},{"$f":"'2-Grant Budget'!DX372","v":""},{"$f":"'2-Grant Budget'!DY372","v":""},{"$f":"'2-Grant Budget'!DZ372","v":1},{"$f":"'2-Grant Budget'!EA372","v":""},{"$f":"'2-Grant Budget'!EB372","v":1},{"$f":"'2-Grant Budget'!EC372","v":""},{"$f":"'2-Grant Budget'!ED372","v":0},{"$f":"'2-Grant Budget'!EE372","v":""},null,null,0]
[{"$f":"'2-Grant Budget'!DW373","v":"00"},{"$f":"'2-Grant Budget'!DX373","v":""},{"$f":"'2-Grant Budget'!DY373","v":""},{"$f":"'2-Grant Budget'!DZ373","v":1},{"$f":"'2-Grant Budget'!EA373","v":""},{"$f":"'2-Grant Budget'!EB373","v":1},{"$f":"'2-Grant Budget'!EC373","v":""},{"$f":"'2-Grant Budget'!ED373","v":0},{"$f":"'2-Grant Budget'!EE373","v":""},null,null,0]
[{"$f":"'2-Grant Budget'!DW374","v":"00"},{"$f":"'2-Grant Budget'!DX374","v":""},{"$f":"'2-Grant Budget'!DY374","v":""},{"$f":"'2-Grant Budget'!DZ374","v":1},{"$f":"'2-Grant Budget'!EA374","v":""},{"$f":"'2-Grant Budget'!EB374","v":1},{"$f":"'2-Grant Budget'!EC374","v":""},{"$f":"'2-Grant Budget'!ED374","v":0},{"$f":"'2-Grant Budget'!EE374","v":""},null,null,0]
[{"$f":"'2-Grant Budget'!DW375","v":"00"},{"$f":"'2-Grant Budget'!DX375","v":""},{"$f":"'2-Grant Budget'!DY375","v":""},{"$f":"'2-Grant Budget'!DZ375","v":1},{"$f":"'2-Grant Budget'!EA375","v":""},{"$f":"'2-Grant Budget'!EB375","v":1},{"$f":"'2-Grant Budget'!EC375","v":""},{"$f":"'2-Grant Budget'!ED375","v":0},{"$f":"'2-Grant Budget'!EE375","v":""},null,null,0]
[{"$f":"'2-Grant Budget'!DW376","v":"00"},{"$f":"'2-Grant Budget'!DX376","v":""},{"$f":"'2-Grant Budget'!DY376","v":""},{"$f":"'2-Grant Budget'!DZ376","v":1},{"$f":"'2-Grant Budget'!EA376","v":""},{"$f":"'2-Grant Budget'!EB376","v":1},{"$f":"'2-Grant Budget'!EC376","v":""},{"$f":"'2-Grant Budget'!ED376","v":0},{"$f":"'2-Grant Budget'!EE376","v":""},null,null,0]
[{"$f":"'2-Grant Budget'!DW377","v":"00"},{"$f":"'2-Grant Budget'!DX377","v":""},{"$f":"'2-Grant Budget'!DY377","v":""},{"$f":"'2-Grant Budget'!DZ377","v":1},{"$f":"'2-Grant Budget'!EA377","v":""},{"$f":"'2-Grant Budget'!EB377","v":1},{"$f":"'2-Grant Budget'!EC377","v":""},{"$f":"'2-Grant Budget'!ED377","v":0},{"$f":"'2-Grant Budget'!EE377","v":""},null,null,0]
[{"$f":"'2-Grant Budget'!DW378","v":"00"},{"$f":"'2-Grant Budget'!DX378","v":""},{"$f":"'2-Grant Budget'!DY378","v":""},{"$f":"'2-Grant Budget'!DZ378","v":1},{"$f":"'2-Grant Budget'!EA378","v":""},{"$f":"'2-Grant Budget'!EB378","v":1},{"$f":"'2-Grant Budget'!EC378","v":""},{"$f":"'2-Grant Budget'!ED378","v":0},{"$f":"'2-Grant Budget'!EE378","v":""},null,null,0]
[{"$f":"'2-Grant Budget'!DW379","v":"00"},{"$f":"'2-Grant Budget'!DX379","v":""},{"$f":"'2-Grant Budget'!DY379","v":""},{"$f":"'2-Grant Budget'!DZ379","v":1},{"$f":"'2-Grant Budget'!EA379","v":""},{"$f":"'2-Grant Budget'!EB379","v":1},{"$f":"'2-Grant Budget'!EC379","v":""},{"$f":"'2-Grant Budget'!ED379","v":0},{"$f":"'2-Grant Budget'!EE379","v":""},null,null,0]
[{"$f":"'2-Grant Budget'!DW380","v":"00"},{"$f":"'2-Grant Budget'!DX380","v":""},{"$f":"'2-Grant Budget'!DY380","v":""},{"$f":"'2-Grant Budget'!DZ380","v":1},{"$f":"'2-Grant Budget'!EA380","v":""},{"$f":"'2-Grant Budget'!EB380","v":1},{"$f":"'2-Grant Budget'!EC380","v":""},{"$f":"'2-Grant Budget'!ED380","v":0},{"$f":"'2-Grant Budget'!EE380","v":""},null,null,0]
[{"$f":"'2-Grant Budget'!DW381","v":"00"},{"$f":"'2-Grant Budget'!DX381","v":""},{"$f":"'2-Grant Budget'!DY381","v":""},{"$f":"'2-Grant Budget'!DZ381","v":1},{"$f":"'2-Grant Budget'!EA381","v":""},{"$f":"'2-Grant Budget'!EB381","v":1},{"$f":"'2-Grant Budget'!EC381","v":""},{"$f":"'2-Grant Budget'!ED381","v":0},{"$f":"'2-Grant Budget'!EE381","v":""},null,null,0]
[{"$f":"'2-Grant Budget'!DW382","v":"00"},{"$f":"'2-Grant Budget'!DX382","v":""},{"$f":"'2-Grant Budget'!DY382","v":""},{"$f":"'2-Grant Budget'!DZ382","v":1},{"$f":"'2-Grant Budget'!EA382","v":""},{"$f":"'2-Grant Budget'!EB382","v":1},{"$f":"'2-Grant Budget'!EC382","v":""},{"$f":"'2-Grant Budget'!ED382","v":0},{"$f":"'2-Grant Budget'!EE382","v":""},null,null,0]
[{"$f":"'2-Grant Budget'!DW383","v":"00"},{"$f":"'2-Grant Budget'!DX383","v":""},{"$f":"'2-Grant Budget'!DY383","v":""},{"$f":"'2-Grant Budget'!DZ383","v":1},{"$f":"'2-Grant Budget'!EA383","v":""},{"$f":"'2-Grant Budget'!EB383","v":1},{"$f":"'2-Grant Budget'!EC383","v":""},{"$f":"'2-Grant Budget'!ED383","v":0},{"$f":"'2-Grant Budget'!EE383","v":""},null,null,0]
[{"$f":"'2-Grant Budget'!DW384","v":"00"},{"$f":"'2-Grant Budget'!DX384","v":""},{"$f":"'2-Grant Budget'!DY384","v":""},{"$f":"'2-Grant Budget'!DZ384","v":1},{"$f":"'2-Grant Budget'!EA384","v":""},{"$f":"'2-Grant Budget'!EB384","v":1},{"$f":"'2-Grant Budget'!EC384","v":""},{"$f":"'2-Grant Budget'!ED384","v":0},{"$f":"'2-Grant Budget'!EE384","v":""},null,null,0]
[{"$f":"'2-Grant Budget'!DW385","v":"00"},{"$f":"'2-Grant Budget'!DX385","v":""},{"$f":"'2-Grant Budget'!DY385","v":""},{"$f":"'2-Grant Budget'!DZ385","v":1},{"$f":"'2-Grant Budget'!EA385","v":""},{"$f":"'2-Grant Budget'!EB385","v":1},{"$f":"'2-Grant Budget'!EC385","v":""},{"$f":"'2-Grant Budget'!ED385","v":0},{"$f":"'2-Grant Budget'!EE385","v":""},null,null,0]
[{"$f":"'2-Grant Budget'!DW386","v":"00"},{"$f":"'2-Grant Budget'!DX386","v":""},{"$f":"'2-Grant Budget'!DY386","v":""},{"$f":"'2-Grant Budget'!DZ386","v":1},{"$f":"'2-Grant Budget'!EA386","v":""},{"$f":"'2-Grant Budget'!EB386","v":1},{"$f":"'2-Grant Budget'!EC386","v":""},{"$f":"'2-Grant Budget'!ED386","v":0},{"$f":"'2-Grant Budget'!EE386","v":""},null,null,0]
[{"$f":"'2-Grant Budget'!DW387","v":"00"},{"$f":"'2-Grant Budget'!DX387","v":""},{"$f":"'2-Grant Budget'!DY387","v":""},{"$f":"'2-Grant Budget'!DZ387","v":1},{"$f":"'2-Grant Budget'!EA387","v":""},{"$f":"'2-Grant Budget'!EB387","v":1},{"$f":"'2-Grant Budget'!EC387","v":""},{"$f":"'2-Grant Budget'!ED387","v":0},{"$f":"'2-Grant Budget'!EE387","v":""},null,null,0]
[{"$f":"'2-Grant Budget'!DW388","v":"00"},{"$f":"'2-Grant Budget'!DX388","v":""},{"$f":"'2-Grant Budget'!DY388","v":""},{"$f":"'2-Grant Budget'!DZ388","v":1},{"$f":"'2-Grant Budget'!EA388","v":""},{"$f":"'2-Grant Budget'!EB388","v":1},{"$f":"'2-Grant Budget'!EC388","v":""},{"$f":"'2-Grant Budget'!ED388","v":0},{"$f":"'2-Grant Budget'!EE388","v":""},null,null,0]
[{"$f":"'2-Grant Budget'!DW389","v":"00"},{"$f":"'2-Grant Budget'!DX389","v":""},{"$f":"'2-Grant Budget'!DY389","v":""},{"$f":"'2-Grant Budget'!DZ389","v":1},{"$f":"'2-Grant Budget'!EA389","v":""},{"$f":"'2-Grant Budget'!EB389","v":1},{"$f":"'2-Grant Budget'!EC389","v":""},{"$f":"'2-Grant Budget'!ED389","v":0},{"$f":"'2-Grant Budget'!EE389","v":""},null,null,0]
[{"$f":"'2-Grant Budget'!DW390","v":"00"},{"$f":"'2-Grant Budget'!DX390","v":""},{"$f":"'2-Grant Budget'!DY390","v":""},{"$f":"'2-Grant Budget'!DZ390","v":1},{"$f":"'2-Grant Budget'!EA390","v":""},{"$f":"'2-Grant Budget'!EB390","v":1},{"$f":"'2-Grant Budget'!EC390","v":""},{"$f":"'2-Grant Budget'!ED390","v":0},{"$f":"'2-Grant Budget'!EE390","v":""},null,null,0]
[{"$f":"'2-Grant Budget'!DW391","v":"00"},{"$f":"'2-Grant Budget'!DX391","v":""},{"$f":"'2-Grant Budget'!DY391","v":""},{"$f":"'2-Grant Budget'!DZ391","v":1},{"$f":"'2-Grant Budget'!EA391","v":""},{"$f":"'2-Grant Budget'!EB391","v":1},{"$f":"'2-Grant Budget'!EC391","v":""},{"$f":"'2-Grant Budget'!ED391","v":0},{"$f":"'2-Grant Budget'!EE391","v":""},null,null,0]
[{"$f":"'2-Grant Budget'!DW392","v":"00"},{"$f":"'2-Grant Budget'!DX392","v":""},{"$f":"'2-Grant Budget'!DY392","v":""},{"$f":"'2-Grant Budget'!DZ392","v":1},{"$f":"'2-Grant Budget'!EA392","v":""},{"$f":"'2-Grant Budget'!EB392","v":1},{"$f":"'2-Grant Budget'!EC392","v":""},{"$f":"'2-Grant Budget'!ED392","v":0},{"$f":"'2-Grant Budget'!EE392","v":""},null,null,0]
[{"$f":"'2-Grant Budget'!DW393","v":"00"},{"$f":"'2-Grant Budget'!DX393","v":""},{"$f":"'2-Grant Budget'!DY393","v":""},{"$f":"'2-Grant Budget'!DZ393","v":1},{"$f":"'2-Grant Budget'!EA393","v":""},{"$f":"'2-Grant Budget'!EB393","v":1},{"$f":"'2-Grant Budget'!EC393","v":""},{"$f":"'2-Grant Budget'!ED393","v":0},{"$f":"'2-Grant Budget'!EE393","v":""},null,null,0]
[{"$f":"'2-Grant Budget'!DW394","v":"00"},{"$f":"'2-Grant Budget'!DX394","v":""},{"$f":"'2-Grant Budget'!DY394","v":""},{"$f":"'2-Grant Budget'!DZ394","v":1},{"$f":"'2-Grant Budget'!EA394","v":""},{"$f":"'2-Grant Budget'!EB394","v":1},{"$f":"'2-Grant Budget'!EC394","v":""},{"$f":"'2-Grant Budget'!ED394","v":0},{"$f":"'2-Grant Budget'!EE394","v":""},null,null,0]
[{"$f":"'2-Grant Budget'!DW395","v":"00"},{"$f":"'2-Grant Budget'!DX395","v":""},{"$f":"'2-Grant Budget'!DY395","v":""},{"$f":"'2-Grant Budget'!DZ395","v":1},{"$f":"'2-Grant Budget'!EA395","v":""},{"$f":"'2-Grant Budget'!EB395","v":1},{"$f":"'2-Grant Budget'!EC395","v":""},{"$f":"'2-Grant Budget'!ED395","v":0},{"$f":"'2-Grant Budget'!EE395","v":""},null,null,0]
[{"$f":"'2-Grant Budget'!DW396","v":"00"},{"$f":"'2-Grant Budget'!DX396","v":""},{"$f":"'2-Grant Budget'!DY396","v":""},{"$f":"'2-Grant Budget'!DZ396","v":1},{"$f":"'2-Grant Budget'!EA396","v":""},{"$f":"'2-Grant Budget'!EB396","v":1},{"$f":"'2-Grant Budget'!EC396","v":""},{"$f":"'2-Grant Budget'!ED396","v":0},{"$f":"'2-Grant Budget'!EE396","v":""},null,null,0]
[{"$f":"'2-Grant Budget'!DW397","v":"00"},{"$f":"'2-Grant Budget'!DX397","v":""},{"$f":"'2-Grant Budget'!DY397","v":""},{"$f":"'2-Grant Budget'!DZ397","v":1},{"$f":"'2-Grant Budget'!EA397","v":""},{"$f":"'2-Grant Budget'!EB397","v":1},{"$f":"'2-Grant Budget'!EC397","v":""},{"$f":"'2-Grant Budget'!ED397","v":0},{"$f":"'2-Grant Budget'!EE397","v":""},null,null,0]
[{"$f":"'2-Grant Budget'!DW398","v":"00"},{"$f":"'2-Grant Budget'!DX398","v":""},{"$f":"'2-Grant Budget'!DY398","v":""},{"$f":"'2-Grant Budget'!DZ398","v":1},{"$f":"'2-Grant Budget'!EA398","v":""},{"$f":"'2-Grant Budget'!EB398","v":1},{"$f":"'2-Grant Budget'!EC398","v":""},{"$f":"'2-Grant Budget'!ED398","v":0},{"$f":"'2-Grant Budget'!EE398","v":""},null,null,0]
[{"$f":"'2-Grant Budget'!DW399","v":"00"},{"$f":"'2-Grant Budget'!DX399","v":""},{"$f":"'2-Grant Budget'!DY399","v":""},{"$f":"'2-Grant Budget'!DZ399","v":1},{"$f":"'2-Grant Budget'!EA399","v":""},{"$f":"'2-Grant Budget'!EB399","v":1},{"$f":"'2-Grant Budget'!EC399","v":""},{"$f":"'2-Grant Budget'!ED399","v":0},{"$f":"'2-Grant Budget'!EE399","v":""},null,null,0]
[{"$f":"'2-Grant Budget'!DW400","v":"00"},{"$f":"'2-Grant Budget'!DX400","v":""},{"$f":"'2-Grant Budget'!DY400","v":""},{"$f":"'2-Grant Budget'!DZ400","v":1},{"$f":"'2-Grant Budget'!EA400","v":""},{"$f":"'2-Grant Budget'!EB400","v":1},{"$f":"'2-Grant Budget'!EC400","v":""},{"$f":"'2-Grant Budget'!ED400","v":0},{"$f":"'2-Grant Budget'!EE400","v":""},null,null,0]
[{"$f":"'2-Grant Budget'!DW401","v":"00"},{"$f":"'2-Grant Budget'!DX401","v":""},{"$f":"'2-Grant Budget'!DY401","v":""},{"$f":"'2-Grant Budget'!DZ401","v":1},{"$f":"'2-Grant Budget'!EA401","v":""},{"$f":"'2-Grant Budget'!EB401","v":1},{"$f":"'2-Grant Budget'!EC401","v":""},{"$f":"'2-Grant Budget'!ED401","v":0},{"$f":"'2-Grant Budget'!EE401","v":""},null,null,0]
[{"$f":"'2-Grant Budget'!DW402","v":"00"},{"$f":"'2-Grant Budget'!DX402","v":""},{"$f":"'2-Grant Budget'!DY402","v":""},{"$f":"'2-Grant Budget'!DZ402","v":1},{"$f":"'2-Grant Budget'!EA402","v":""},{"$f":"'2-Grant Budget'!EB402","v":1},{"$f":"'2-Grant Budget'!EC402","v":""},{"$f":"'2-Grant Budget'!ED402","v":0},{"$f":"'2-Grant Budget'!EE402","v":""},null,null,{"$f":"IF(LEN(B390)>0,1,0)","v":0}]
[{"$f":"'2-Grant Budget'!DW403","v":"00"},{"$f":"'2-Grant Budget'!DX403","v":""},{"$f":"'2-Grant Budget'!DY403","v":""},{"$f":"'2-Grant Budget'!DZ403","v":1},{"$f":"'2-Grant Budget'!EA403","v":""},{"$f":"'2-Grant Budget'!EB403","v":1},{"$f":"'2-Grant Budget'!EC403","v":""},{"$f":"'2-Grant Budget'!ED403","v":0},{"$f":"'2-Grant Budget'!EE403","v":""},null,null,0]
[{"$f":"'2-Grant Budget'!DW404","v":"00"},{"$f":"'2-Grant Budget'!DX404","v":""},{"$f":"'2-Grant Budget'!DY404","v":""},{"$f":"'2-Grant Budget'!DZ404","v":1},{"$f":"'2-Grant Budget'!EA404","v":""},{"$f":"'2-Grant Budget'!EB404","v":1},{"$f":"'2-Grant Budget'!EC404","v":""},{"$f":"'2-Grant Budget'!ED404","v":0},{"$f":"'2-Grant Budget'!EE404","v":""},null,null,0]
[{"$f":"'2-Grant Budget'!DW405","v":"00"},{"$f":"'2-Grant Budget'!DX405","v":""},{"$f":"'2-Grant Budget'!DY405","v":""},{"$f":"'2-Grant Budget'!DZ405","v":1},{"$f":"'2-Grant Budget'!EA405","v":""},{"$f":"'2-Grant Budget'!EB405","v":1},{"$f":"'2-Grant Budget'!EC405","v":""},{"$f":"'2-Grant Budget'!ED405","v":0},{"$f":"'2-Grant Budget'!EE405","v":""},null,null,0]
[{"$f":"'2-Grant Budget'!DW406","v":"00"},{"$f":"'2-Grant Budget'!DX406","v":""},{"$f":"'2-Grant Budget'!DY406","v":""},{"$f":"'2-Grant Budget'!DZ406","v":1},{"$f":"'2-Grant Budget'!EA406","v":""},{"$f":"'2-Grant Budget'!EB406","v":1},{"$f":"'2-Grant Budget'!EC406","v":""},{"$f":"'2-Grant Budget'!ED406","v":0},{"$f":"'2-Grant Budget'!EE406","v":""},null,null,0]
[{"$f":"'2-Grant Budget'!DW407","v":"00"},{"$f":"'2-Grant Budget'!DX407","v":""},{"$f":"'2-Grant Budget'!DY407","v":""},{"$f":"'2-Grant Budget'!DZ407","v":1},{"$f":"'2-Grant Budget'!EA407","v":""},{"$f":"'2-Grant Budget'!EB407","v":1},{"$f":"'2-Grant Budget'!EC407","v":""},{"$f":"'2-Grant Budget'!ED407","v":0},{"$f":"'2-Grant Budget'!EE407","v":""},null,null,0]
[{"$f":"'2-Grant Budget'!DW408","v":"00"},{"$f":"'2-Grant Budget'!DX408","v":""},{"$f":"'2-Grant Budget'!DY408","v":""},{"$f":"'2-Grant Budget'!DZ408","v":1},{"$f":"'2-Grant Budget'!EA408","v":""},{"$f":"'2-Grant Budget'!EB408","v":1},{"$f":"'2-Grant Budget'!EC408","v":""},{"$f":"'2-Grant Budget'!ED408","v":0},{"$f":"'2-Grant Budget'!EE408","v":""},null,null,0]
[{"$f":"'2-Grant Budget'!DW409","v":"00"},{"$f":"'2-Grant Budget'!DX409","v":""},{"$f":"'2-Grant Budget'!DY409","v":""},{"$f":"'2-Grant Budget'!DZ409","v":1},{"$f":"'2-Grant Budget'!EA409","v":""},{"$f":"'2-Grant Budget'!EB409","v":1},{"$f":"'2-Grant Budget'!EC409","v":""},{"$f":"'2-Grant Budget'!ED409","v":0},{"$f":"'2-Grant Budget'!EE409","v":""},null,null,0]
[{"$f":"'2-Grant Budget'!DW410","v":"00"},{"$f":"'2-Grant Budget'!DX410","v":""},{"$f":"'2-Grant Budget'!DY410","v":""},{"$f":"'2-Grant Budget'!DZ410","v":1},{"$f":"'2-Grant Budget'!EA410","v":""},{"$f":"'2-Grant Budget'!EB410","v":1},{"$f":"'2-Grant Budget'!EC410","v":""},{"$f":"'2-Grant Budget'!ED410","v":0},{"$f":"'2-Grant Budget'!EE410","v":""},null,null,0]
[{"$f":"'2-Grant Budget'!DW411","v":"00"},{"$f":"'2-Grant Budget'!DX411","v":""},{"$f":"'2-Grant Budget'!DY411","v":""},{"$f":"'2-Grant Budget'!DZ411","v":1},{"$f":"'2-Grant Budget'!EA411","v":""},{"$f":"'2-Grant Budget'!EB411","v":1},{"$f":"'2-Grant Budget'!EC411","v":""},{"$f":"'2-Grant Budget'!ED411","v":0},{"$f":"'2-Grant Budget'!EE411","v":""},null,null,0]
[{"$f":"'2-Grant Budget'!DW412","v":"00"},{"$f":"'2-Grant Budget'!DX412","v":""},{"$f":"'2-Grant Budget'!DY412","v":""},{"$f":"'2-Grant Budget'!DZ412","v":1},{"$f":"'2-Grant Budget'!EA412","v":""},{"$f":"'2-Grant Budget'!EB412","v":1},{"$f":"'2-Grant Budget'!EC412","v":""},{"$f":"'2-Grant Budget'!ED412","v":0},{"$f":"'2-Grant Budget'!EE412","v":""},null,null,0]
[{"$f":"'2-Grant Budget'!DW413","v":"00"},{"$f":"'2-Grant Budget'!DX413","v":""},{"$f":"'2-Grant Budget'!DY413","v":""},{"$f":"'2-Grant Budget'!DZ413","v":1},{"$f":"'2-Grant Budget'!EA413","v":""},{"$f":"'2-Grant Budget'!EB413","v":1},{"$f":"'2-Grant Budget'!EC413","v":""},{"$f":"'2-Grant Budget'!ED413","v":0},{"$f":"'2-Grant Budget'!EE413","v":""},null,null,0]
[{"$f":"'2-Grant Budget'!DW414","v":"00"},{"$f":"'2-Grant Budget'!DX414","v":""},{"$f":"'2-Grant Budget'!DY414","v":""},{"$f":"'2-Grant Budget'!DZ414","v":1},{"$f":"'2-Grant Budget'!EA414","v":""},{"$f":"'2-Grant Budget'!EB414","v":1},{"$f":"'2-Grant Budget'!EC414","v":""},{"$f":"'2-Grant Budget'!ED414","v":0},{"$f":"'2-Grant Budget'!EE414","v":""},null,null,0]
[{"$f":"'2-Grant Budget'!DW415","v":"00"},{"$f":"'2-Grant Budget'!DX415","v":""},{"$f":"'2-Grant Budget'!DY415","v":""},{"$f":"'2-Grant Budget'!DZ415","v":1},{"$f":"'2-Grant Budget'!EA415","v":""},{"$f":"'2-Grant Budget'!EB415","v":1},{"$f":"'2-Grant Budget'!EC415","v":""},{"$f":"'2-Grant Budget'!ED415","v":0},{"$f":"'2-Grant Budget'!EE415","v":""},null,null,0]
[{"$f":"'2-Grant Budget'!DW416","v":"00"},{"$f":"'2-Grant Budget'!DX416","v":""},{"$f":"'2-Grant Budget'!DY416","v":""},{"$f":"'2-Grant Budget'!DZ416","v":1},{"$f":"'2-Grant Budget'!EA416","v":""},{"$f":"'2-Grant Budget'!EB416","v":1},{"$f":"'2-Grant Budget'!EC416","v":""},{"$f":"'2-Grant Budget'!ED416","v":0},{"$f":"'2-Grant Budget'!EE416","v":""},null,null,0]
[{"$f":"'2-Grant Budget'!DW417","v":"00"},{"$f":"'2-Grant Budget'!DX417","v":""},{"$f":"'2-Grant Budget'!DY417","v":""},{"$f":"'2-Grant Budget'!DZ417","v":1},{"$f":"'2-Grant Budget'!EA417","v":""},{"$f":"'2-Grant Budget'!EB417","v":1},{"$f":"'2-Grant Budget'!EC417","v":""},{"$f":"'2-Grant Budget'!ED417","v":0},{"$f":"'2-Grant Budget'!EE417","v":""},null,null,0]
[{"$f":"'2-Grant Budget'!DW418","v":"00"},{"$f":"'2-Grant Budget'!DX418","v":""},{"$f":"'2-Grant Budget'!DY418","v":""},{"$f":"'2-Grant Budget'!DZ418","v":1},{"$f":"'2-Grant Budget'!EA418","v":""},{"$f":"'2-Grant Budget'!EB418","v":1},{"$f":"'2-Grant Budget'!EC418","v":""},{"$f":"'2-Grant Budget'!ED418","v":0},{"$f":"'2-Grant Budget'!EE418","v":""},null,null,0]
[{"$f":"'2-Grant Budget'!DW419","v":"00"},{"$f":"'2-Grant Budget'!DX419","v":""},{"$f":"'2-Grant Budget'!DY419","v":""},{"$f":"'2-Grant Budget'!DZ419","v":1},{"$f":"'2-Grant Budget'!EA419","v":""},{"$f":"'2-Grant Budget'!EB419","v":1},{"$f":"'2-Grant Budget'!EC419","v":""},{"$f":"'2-Grant Budget'!ED419","v":0},{"$f":"'2-Grant Budget'!EE419","v":""},null,null,0]
[{"$f":"'2-Grant Budget'!DW420","v":"00"},{"$f":"'2-Grant Budget'!DX420","v":""},{"$f":"'2-Grant Budget'!DY420","v":""},{"$f":"'2-Grant Budget'!DZ420","v":1},{"$f":"'2-Grant Budget'!EA420","v":""},{"$f":"'2-Grant Budget'!EB420","v":1},{"$f":"'2-Grant Budget'!EC420","v":""},{"$f":"'2-Grant Budget'!ED420","v":0},{"$f":"'2-Grant Budget'!EE420","v":""},null,null,0]
[{"$f":"'2-Grant Budget'!DW421","v":"00"},{"$f":"'2-Grant Budget'!DX421","v":""},{"$f":"'2-Grant Budget'!DY421","v":""},{"$f":"'2-Grant Budget'!DZ421","v":1},{"$f":"'2-Grant Budget'!EA421","v":""},{"$f":"'2-Grant Budget'!EB421","v":1},{"$f":"'2-Grant Budget'!EC421","v":""},{"$f":"'2-Grant Budget'!ED421","v":0},{"$f":"'2-Grant Budget'!EE421","v":""},null,null,0]
[{"$f":"'2-Grant Budget'!DW422","v":"00"},{"$f":"'2-Grant Budget'!DX422","v":""},{"$f":"'2-Grant Budget'!DY422","v":""},{"$f":"'2-Grant Budget'!DZ422","v":1},{"$f":"'2-Grant Budget'!EA422","v":""},{"$f":"'2-Grant Budget'!EB422","v":1},{"$f":"'2-Grant Budget'!EC422","v":""},{"$f":"'2-Grant Budget'!ED422","v":0},{"$f":"'2-Grant Budget'!EE422","v":""},null,null,0]
[{"$f":"'2-Grant Budget'!DW423","v":"00"},{"$f":"'2-Grant Budget'!DX423","v":""},{"$f":"'2-Grant Budget'!DY423","v":""},{"$f":"'2-Grant Budget'!DZ423","v":1},{"$f":"'2-Grant Budget'!EA423","v":""},{"$f":"'2-Grant Budget'!EB423","v":1},{"$f":"'2-Grant Budget'!EC423","v":""},{"$f":"'2-Grant Budget'!ED423","v":0},{"$f":"'2-Grant Budget'!EE423","v":""},null,null,0]
[{"$f":"'2-Grant Budget'!DW424","v":"00"},{"$f":"'2-Grant Budget'!DX424","v":""},{"$f":"'2-Grant Budget'!DY424","v":""},{"$f":"'2-Grant Budget'!DZ424","v":1},{"$f":"'2-Grant Budget'!EA424","v":""},{"$f":"'2-Grant Budget'!EB424","v":1},{"$f":"'2-Grant Budget'!EC424","v":""},{"$f":"'2-Grant Budget'!ED424","v":0},{"$f":"'2-Grant Budget'!EE424","v":""},null,null,0]
[{"$f":"'2-Grant Budget'!DW425","v":"00"},{"$f":"'2-Grant Budget'!DX425","v":""},{"$f":"'2-Grant Budget'!DY425","v":""},{"$f":"'2-Grant Budget'!DZ425","v":1},{"$f":"'2-Grant Budget'!EA425","v":""},{"$f":"'2-Grant Budget'!EB425","v":1},{"$f":"'2-Grant Budget'!EC425","v":""},{"$f":"'2-Grant Budget'!ED425","v":0},{"$f":"'2-Grant Budget'!EE425","v":""},null,null,0]
[{"$f":"'2-Grant Budget'!DW426","v":"00"},{"$f":"'2-Grant Budget'!DX426","v":""},{"$f":"'2-Grant Budget'!DY426","v":""},{"$f":"'2-Grant Budget'!DZ426","v":1},{"$f":"'2-Grant Budget'!EA426","v":""},{"$f":"'2-Grant Budget'!EB426","v":1},{"$f":"'2-Grant Budget'!EC426","v":""},{"$f":"'2-Grant Budget'!ED426","v":0},{"$f":"'2-Grant Budget'!EE426","v":""},null,null,0]
[{"$f":"'2-Grant Budget'!DW427","v":"00"},{"$f":"'2-Grant Budget'!DX427","v":""},{"$f":"'2-Grant Budget'!DY427","v":""},{"$f":"'2-Grant Budget'!DZ427","v":1},{"$f":"'2-Grant Budget'!EA427","v":""},{"$f":"'2-Grant Budget'!EB427","v":1},{"$f":"'2-Grant Budget'!EC427","v":""},{"$f":"'2-Grant Budget'!ED427","v":0},{"$f":"'2-Grant Budget'!EE427","v":""},null,null,0]
[{"$f":"'2-Grant Budget'!DW428","v":"00"},{"$f":"'2-Grant Budget'!DX428","v":""},{"$f":"'2-Grant Budget'!DY428","v":""},{"$f":"'2-Grant Budget'!DZ428","v":1},{"$f":"'2-Grant Budget'!EA428","v":""},{"$f":"'2-Grant Budget'!EB428","v":1},{"$f":"'2-Grant Budget'!EC428","v":""},{"$f":"'2-Grant Budget'!ED428","v":0},{"$f":"'2-Grant Budget'!EE428","v":""},null,null,0]
[{"$f":"'2-Grant Budget'!DW429","v":"00"},{"$f":"'2-Grant Budget'!DX429","v":""},{"$f":"'2-Grant Budget'!DY429","v":""},{"$f":"'2-Grant Budget'!DZ429","v":1},{"$f":"'2-Grant Budget'!EA429","v":""},{"$f":"'2-Grant Budget'!EB429","v":1},{"$f":"'2-Grant Budget'!EC429","v":""},{"$f":"'2-Grant Budget'!ED429","v":0},{"$f":"'2-Grant Budget'!EE429","v":""},null,null,0]
[{"$f":"'2-Grant Budget'!DW430","v":"00"},{"$f":"'2-Grant Budget'!DX430","v":""},{"$f":"'2-Grant Budget'!DY430","v":""},{"$f":"'2-Grant Budget'!DZ430","v":1},{"$f":"'2-Grant Budget'!EA430","v":""},{"$f":"'2-Grant Budget'!EB430","v":1},{"$f":"'2-Grant Budget'!EC430","v":""},{"$f":"'2-Grant Budget'!ED430","v":0},{"$f":"'2-Grant Budget'!EE430","v":""},null,null,0]
[{"$f":"'2-Grant Budget'!DW431","v":"00"},{"$f":"'2-Grant Budget'!DX431","v":""},{"$f":"'2-Grant Budget'!DY431","v":""},{"$f":"'2-Grant Budget'!DZ431","v":1},{"$f":"'2-Grant Budget'!EA431","v":""},{"$f":"'2-Grant Budget'!EB431","v":1},{"$f":"'2-Grant Budget'!EC431","v":""},{"$f":"'2-Grant Budget'!ED431","v":0},{"$f":"'2-Grant Budget'!EE431","v":""},null,null,0]
[{"$f":"'2-Grant Budget'!DW432","v":"00"},{"$f":"'2-Grant Budget'!DX432","v":""},{"$f":"'2-Grant Budget'!DY432","v":""},{"$f":"'2-Grant Budget'!DZ432","v":1},{"$f":"'2-Grant Budget'!EA432","v":""},{"$f":"'2-Grant Budget'!EB432","v":1},{"$f":"'2-Grant Budget'!EC432","v":""},{"$f":"'2-Grant Budget'!ED432","v":0},{"$f":"'2-Grant Budget'!EE432","v":""},null,null,0]
[{"$f":"'2-Grant Budget'!DW433","v":"00"},{"$f":"'2-Grant Budget'!DX433","v":""},{"$f":"'2-Grant Budget'!DY433","v":""},{"$f":"'2-Grant Budget'!DZ433","v":1},{"$f":"'2-Grant Budget'!EA433","v":""},{"$f":"'2-Grant Budget'!EB433","v":1},{"$f":"'2-Grant Budget'!EC433","v":""},{"$f":"'2-Grant Budget'!ED433","v":0},{"$f":"'2-Grant Budget'!EE433","v":""},null,null,0]
[{"$f":"'2-Grant Budget'!DW434","v":"00"},{"$f":"'2-Grant Budget'!DX434","v":""},{"$f":"'2-Grant Budget'!DY434","v":""},{"$f":"'2-Grant Budget'!DZ434","v":1},{"$f":"'2-Grant Budget'!EA434","v":""},{"$f":"'2-Grant Budget'!EB434","v":1},{"$f":"'2-Grant Budget'!EC434","v":""},{"$f":"'2-Grant Budget'!ED434","v":0},{"$f":"'2-Grant Budget'!EE434","v":""},null,null,0]
[{"$f":"'2-Grant Budget'!DW435","v":"00"},{"$f":"'2-Grant Budget'!DX435","v":""},{"$f":"'2-Grant Budget'!DY435","v":""},{"$f":"'2-Grant Budget'!DZ435","v":1},{"$f":"'2-Grant Budget'!EA435","v":""},{"$f":"'2-Grant Budget'!EB435","v":1},{"$f":"'2-Grant Budget'!EC435","v":""},{"$f":"'2-Grant Budget'!ED435","v":0},{"$f":"'2-Grant Budget'!EE435","v":""},null,null,0]
[{"$f":"'2-Grant Budget'!DW436","v":"00"},{"$f":"'2-Grant Budget'!DX436","v":""},{"$f":"'2-Grant Budget'!DY436","v":""},{"$f":"'2-Grant Budget'!DZ436","v":1},{"$f":"'2-Grant Budget'!EA436","v":""},{"$f":"'2-Grant Budget'!EB436","v":1},{"$f":"'2-Grant Budget'!EC436","v":""},{"$f":"'2-Grant Budget'!ED436","v":0},{"$f":"'2-Grant Budget'!EE436","v":""},null,null,0]
[{"$f":"'2-Grant Budget'!DW437","v":"00"},{"$f":"'2-Grant Budget'!DX437","v":""},{"$f":"'2-Grant Budget'!DY437","v":""},{"$f":"'2-Grant Budget'!DZ437","v":1},{"$f":"'2-Grant Budget'!EA437","v":""},{"$f":"'2-Grant Budget'!EB437","v":1},{"$f":"'2-Grant Budget'!EC437","v":""},{"$f":"'2-Grant Budget'!ED437","v":0},{"$f":"'2-Grant Budget'!EE437","v":""},null,null,0]
[{"$f":"'2-Grant Budget'!DW438","v":"00"},{"$f":"'2-Grant Budget'!DX438","v":""},{"$f":"'2-Grant Budget'!DY438","v":""},{"$f":"'2-Grant Budget'!DZ438","v":1},{"$f":"'2-Grant Budget'!EA438","v":""},{"$f":"'2-Grant Budget'!EB438","v":1},{"$f":"'2-Grant Budget'!EC438","v":""},{"$f":"'2-Grant Budget'!ED438","v":0},{"$f":"'2-Grant Budget'!EE438","v":""},null,null,0]
[{"$f":"'2-Grant Budget'!DW439","v":"00"},{"$f":"'2-Grant Budget'!DX439","v":""},{"$f":"'2-Grant Budget'!DY439","v":""},{"$f":"'2-Grant Budget'!DZ439","v":1},{"$f":"'2-Grant Budget'!EA439","v":""},{"$f":"'2-Grant Budget'!EB439","v":1},{"$f":"'2-Grant Budget'!EC439","v":""},{"$f":"'2-Grant Budget'!ED439","v":0},{"$f":"'2-Grant Budget'!EE439","v":""},null,null,0]
[{"$f":"'2-Grant Budget'!DW440","v":"00"},{"$f":"'2-Grant Budget'!DX440","v":""},{"$f":"'2-Grant Budget'!DY440","v":""},{"$f":"'2-Grant Budget'!DZ440","v":1},{"$f":"'2-Grant Budget'!EA440","v":""},{"$f":"'2-Grant Budget'!EB440","v":1},{"$f":"'2-Grant Budget'!EC440","v":""},{"$f":"'2-Grant Budget'!ED440","v":0},{"$f":"'2-Grant Budget'!EE440","v":""},null,null,0]
[{"$f":"'2-Grant Budget'!DW441","v":"00"},{"$f":"'2-Grant Budget'!DX441","v":""},{"$f":"'2-Grant Budget'!DY441","v":""},{"$f":"'2-Grant Budget'!DZ441","v":1},{"$f":"'2-Grant Budget'!EA441","v":""},{"$f":"'2-Grant Budget'!EB441","v":1},{"$f":"'2-Grant Budget'!EC441","v":""},{"$f":"'2-Grant Budget'!ED441","v":0},{"$f":"'2-Grant Budget'!EE441","v":""},null,null,0]
[{"$f":"'2-Grant Budget'!DW442","v":"00"},{"$f":"'2-Grant Budget'!DX442","v":""},{"$f":"'2-Grant Budget'!DY442","v":""},{"$f":"'2-Grant Budget'!DZ442","v":1},{"$f":"'2-Grant Budget'!EA442","v":""},{"$f":"'2-Grant Budget'!EB442","v":1},{"$f":"'2-Grant Budget'!EC442","v":""},{"$f":"'2-Grant Budget'!ED442","v":0},{"$f":"'2-Grant Budget'!EE442","v":""},null,null,0]
[{"$f":"'2-Grant Budget'!DW443","v":"00"},{"$f":"'2-Grant Budget'!DX443","v":""},{"$f":"'2-Grant Budget'!DY443","v":""},{"$f":"'2-Grant Budget'!DZ443","v":1},{"$f":"'2-Grant Budget'!EA443","v":""},{"$f":"'2-Grant Budget'!EB443","v":1},{"$f":"'2-Grant Budget'!EC443","v":""},{"$f":"'2-Grant Budget'!ED443","v":0},{"$f":"'2-Grant Budget'!EE443","v":""},null,null,0]
[{"$f":"'2-Grant Budget'!DW444","v":"00"},{"$f":"'2-Grant Budget'!DX444","v":""},{"$f":"'2-Grant Budget'!DY444","v":""},{"$f":"'2-Grant Budget'!DZ444","v":1},{"$f":"'2-Grant Budget'!EA444","v":""},{"$f":"'2-Grant Budget'!EB444","v":1},{"$f":"'2-Grant Budget'!EC444","v":""},{"$f":"'2-Grant Budget'!ED444","v":0},{"$f":"'2-Grant Budget'!EE444","v":""},null,null,0]
[{"$f":"'2-Grant Budget'!DW445","v":"00"},{"$f":"'2-Grant Budget'!DX445","v":""},{"$f":"'2-Grant Budget'!DY445","v":""},{"$f":"'2-Grant Budget'!DZ445","v":1},{"$f":"'2-Grant Budget'!EA445","v":""},{"$f":"'2-Grant Budget'!EB445","v":1},{"$f":"'2-Grant Budget'!EC445","v":""},{"$f":"'2-Grant Budget'!ED445","v":0},{"$f":"'2-Grant Budget'!EE445","v":""},null,null,0]
[{"$f":"'2-Grant Budget'!DW446","v":"00"},{"$f":"'2-Grant Budget'!DX446","v":""},{"$f":"'2-Grant Budget'!DY446","v":""},{"$f":"'2-Grant Budget'!DZ446","v":1},{"$f":"'2-Grant Budget'!EA446","v":""},{"$f":"'2-Grant Budget'!EB446","v":1},{"$f":"'2-Grant Budget'!EC446","v":""},{"$f":"'2-Grant Budget'!ED446","v":0},{"$f":"'2-Grant Budget'!EE446","v":""},null,null,0]
[{"$f":"'2-Grant Budget'!DW447","v":"00"},{"$f":"'2-Grant Budget'!DX447","v":""},{"$f":"'2-Grant Budget'!DY447","v":""},{"$f":"'2-Grant Budget'!DZ447","v":1},{"$f":"'2-Grant Budget'!EA447","v":""},{"$f":"'2-Grant Budget'!EB447","v":1},{"$f":"'2-Grant Budget'!EC447","v":""},{"$f":"'2-Grant Budget'!ED447","v":0},{"$f":"'2-Grant Budget'!EE447","v":""},null,null,0]
[{"$f":"'2-Grant Budget'!DW448","v":"00"},{"$f":"'2-Grant Budget'!DX448","v":""},{"$f":"'2-Grant Budget'!DY448","v":""},{"$f":"'2-Grant Budget'!DZ448","v":1},{"$f":"'2-Grant Budget'!EA448","v":""},{"$f":"'2-Grant Budget'!EB448","v":1},{"$f":"'2-Grant Budget'!EC448","v":""},{"$f":"'2-Grant Budget'!ED448","v":0},{"$f":"'2-Grant Budget'!EE448","v":""},null,null,0]
[{"$f":"'2-Grant Budget'!DW449","v":"00"},{"$f":"'2-Grant Budget'!DX449","v":""},{"$f":"'2-Grant Budget'!DY449","v":""},{"$f":"'2-Grant Budget'!DZ449","v":1},{"$f":"'2-Grant Budget'!EA449","v":""},{"$f":"'2-Grant Budget'!EB449","v":1},{"$f":"'2-Grant Budget'!EC449","v":""},{"$f":"'2-Grant Budget'!ED449","v":0},{"$f":"'2-Grant Budget'!EE449","v":""},null,null,0]
[{"$f":"'2-Grant Budget'!DW450","v":"00"},{"$f":"'2-Grant Budget'!DX450","v":""},{"$f":"'2-Grant Budget'!DY450","v":""},{"$f":"'2-Grant Budget'!DZ450","v":1},{"$f":"'2-Grant Budget'!EA450","v":""},{"$f":"'2-Grant Budget'!EB450","v":1},{"$f":"'2-Grant Budget'!EC450","v":""},{"$f":"'2-Grant Budget'!ED450","v":0},{"$f":"'2-Grant Budget'!EE450","v":""},null,null,0]
[{"$f":"'2-Grant Budget'!DW451","v":"00"},{"$f":"'2-Grant Budget'!DX451","v":""},{"$f":"'2-Grant Budget'!DY451","v":""},{"$f":"'2-Grant Budget'!DZ451","v":1},{"$f":"'2-Grant Budget'!EA451","v":""},{"$f":"'2-Grant Budget'!EB451","v":1},{"$f":"'2-Grant Budget'!EC451","v":""},{"$f":"'2-Grant Budget'!ED451","v":0},{"$f":"'2-Grant Budget'!EE451","v":""},null,null,0]
[{"$f":"'2-Grant Budget'!DW452","v":"00"},{"$f":"'2-Grant Budget'!DX452","v":""},{"$f":"'2-Grant Budget'!DY452","v":""},{"$f":"'2-Grant Budget'!DZ452","v":1},{"$f":"'2-Grant Budget'!EA452","v":""},{"$f":"'2-Grant Budget'!EB452","v":1},{"$f":"'2-Grant Budget'!EC452","v":""},{"$f":"'2-Grant Budget'!ED452","v":0},{"$f":"'2-Grant Budget'!EE452","v":""},null,null,0]
[{"$f":"'2-Grant Budget'!DW453","v":"00"},{"$f":"'2-Grant Budget'!DX453","v":""},{"$f":"'2-Grant Budget'!DY453","v":""},{"$f":"'2-Grant Budget'!DZ453","v":1},{"$f":"'2-Grant Budget'!EA453","v":""},{"$f":"'2-Grant Budget'!EB453","v":1},{"$f":"'2-Grant Budget'!EC453","v":""},{"$f":"'2-Grant Budget'!ED453","v":0},{"$f":"'2-Grant Budget'!EE453","v":""},null,null,0]
[{"$f":"'2-Grant Budget'!DW454","v":"00"},{"$f":"'2-Grant Budget'!DX454","v":""},{"$f":"'2-Grant Budget'!DY454","v":""},{"$f":"'2-Grant Budget'!DZ454","v":1},{"$f":"'2-Grant Budget'!EA454","v":""},{"$f":"'2-Grant Budget'!EB454","v":1},{"$f":"'2-Grant Budget'!EC454","v":""},{"$f":"'2-Grant Budget'!ED454","v":0},{"$f":"'2-Grant Budget'!EE454","v":""},null,null,0]
[{"$f":"'2-Grant Budget'!DW455","v":"00"},{"$f":"'2-Grant Budget'!DX455","v":""},{"$f":"'2-Grant Budget'!DY455","v":""},{"$f":"'2-Grant Budget'!DZ455","v":1},{"$f":"'2-Grant Budget'!EA455","v":""},{"$f":"'2-Grant Budget'!EB455","v":1},{"$f":"'2-Grant Budget'!EC455","v":""},{"$f":"'2-Grant Budget'!ED455","v":0},{"$f":"'2-Grant Budget'!EE455","v":""},null,null,0]
[{"$f":"'2-Grant Budget'!DW456","v":"00"},{"$f":"'2-Grant Budget'!DX456","v":""},{"$f":"'2-Grant Budget'!DY456","v":""},{"$f":"'2-Grant Budget'!DZ456","v":1},{"$f":"'2-Grant Budget'!EA456","v":""},{"$f":"'2-Grant Budget'!EB456","v":1},{"$f":"'2-Grant Budget'!EC456","v":""},{"$f":"'2-Grant Budget'!ED456","v":0},{"$f":"'2-Grant Budget'!EE456","v":""},null,null,0]
[{"$f":"'2-Grant Budget'!DW457","v":"00"},{"$f":"'2-Grant Budget'!DX457","v":""},{"$f":"'2-Grant Budget'!DY457","v":""},{"$f":"'2-Grant Budget'!DZ457","v":1},{"$f":"'2-Grant Budget'!EA457","v":""},{"$f":"'2-Grant Budget'!EB457","v":1},{"$f":"'2-Grant Budget'!EC457","v":""},{"$f":"'2-Grant Budget'!ED457","v":0},{"$f":"'2-Grant Budget'!EE457","v":""},null,null,0]
[{"$f":"'2-Grant Budget'!DW458","v":"00"},{"$f":"'2-Grant Budget'!DX458","v":""},{"$f":"'2-Grant Budget'!DY458","v":""},{"$f":"'2-Grant Budget'!DZ458","v":1},{"$f":"'2-Grant Budget'!EA458","v":""},{"$f":"'2-Grant Budget'!EB458","v":1},{"$f":"'2-Grant Budget'!EC458","v":""},{"$f":"'2-Grant Budget'!ED458","v":0},{"$f":"'2-Grant Budget'!EE458","v":""},null,null,0]
[{"$f":"'2-Grant Budget'!DW459","v":"00"},{"$f":"'2-Grant Budget'!DX459","v":""},{"$f":"'2-Grant Budget'!DY459","v":""},{"$f":"'2-Grant Budget'!DZ459","v":1},{"$f":"'2-Grant Budget'!EA459","v":""},{"$f":"'2-Grant Budget'!EB459","v":1},{"$f":"'2-Grant Budget'!EC459","v":""},{"$f":"'2-Grant Budget'!ED459","v":0},{"$f":"'2-Grant Budget'!EE459","v":""},null,null,0]
[{"$f":"'2-Grant Budget'!DW460","v":"00"},{"$f":"'2-Grant Budget'!DX460","v":""},{"$f":"'2-Grant Budget'!DY460","v":""},{"$f":"'2-Grant Budget'!DZ460","v":1},{"$f":"'2-Grant Budget'!EA460","v":""},{"$f":"'2-Grant Budget'!EB460","v":1},{"$f":"'2-Grant Budget'!EC460","v":""},{"$f":"'2-Grant Budget'!ED460","v":0},{"$f":"'2-Grant Budget'!EE460","v":""},null,null,0]
[{"$f":"'2-Grant Budget'!DW461","v":"00"},{"$f":"'2-Grant Budget'!DX461","v":""},{"$f":"'2-Grant Budget'!DY461","v":""},{"$f":"'2-Grant Budget'!DZ461","v":1},{"$f":"'2-Grant Budget'!EA461","v":""},{"$f":"'2-Grant Budget'!EB461","v":1},{"$f":"'2-Grant Budget'!EC461","v":""},{"$f":"'2-Grant Budget'!ED461","v":0},{"$f":"'2-Grant Budget'!EE461","v":""},null,null,0]
[{"$f":"'2-Grant Budget'!DW462","v":"00"},{"$f":"'2-Grant Budget'!DX462","v":""},{"$f":"'2-Grant Budget'!DY462","v":""},{"$f":"'2-Grant Budget'!DZ462","v":1},{"$f":"'2-Grant Budget'!EA462","v":""},{"$f":"'2-Grant Budget'!EB462","v":1},{"$f":"'2-Grant Budget'!EC462","v":""},{"$f":"'2-Grant Budget'!ED462","v":0},{"$f":"'2-Grant Budget'!EE462","v":""},null,null,0]
[{"$f":"'2-Grant Budget'!DW463","v":"00"},{"$f":"'2-Grant Budget'!DX463","v":""},{"$f":"'2-Grant Budget'!DY463","v":""},{"$f":"'2-Grant Budget'!DZ463","v":1},{"$f":"'2-Grant Budget'!EA463","v":""},{"$f":"'2-Grant Budget'!EB463","v":1},{"$f":"'2-Grant Budget'!EC463","v":""},{"$f":"'2-Grant Budget'!ED463","v":0},{"$f":"'2-Grant Budget'!EE463","v":""},null,null,0]
[{"$f":"'2-Grant Budget'!DW464","v":"00"},{"$f":"'2-Grant Budget'!DX464","v":""},{"$f":"'2-Grant Budget'!DY464","v":""},{"$f":"'2-Grant Budget'!DZ464","v":1},{"$f":"'2-Grant Budget'!EA464","v":""},{"$f":"'2-Grant Budget'!EB464","v":1},{"$f":"'2-Grant Budget'!EC464","v":""},{"$f":"'2-Grant Budget'!ED464","v":0},{"$f":"'2-Grant Budget'!EE464","v":""},null,null,0]
[{"$f":"'2-Grant Budget'!DW465","v":"00"},{"$f":"'2-Grant Budget'!DX465","v":""},{"$f":"'2-Grant Budget'!DY465","v":""},{"$f":"'2-Grant Budget'!DZ465","v":1},{"$f":"'2-Grant Budget'!EA465","v":""},{"$f":"'2-Grant Budget'!EB465","v":1},{"$f":"'2-Grant Budget'!EC465","v":""},{"$f":"'2-Grant Budget'!ED465","v":0},{"$f":"'2-Grant Budget'!EE465","v":""},null,null,0]
[{"$f":"'2-Grant Budget'!DW466","v":"00"},{"$f":"'2-Grant Budget'!DX466","v":""},{"$f":"'2-Grant Budget'!DY466","v":""},{"$f":"'2-Grant Budget'!DZ466","v":1},{"$f":"'2-Grant Budget'!EA466","v":""},{"$f":"'2-Grant Budget'!EB466","v":1},{"$f":"'2-Grant Budget'!EC466","v":""},{"$f":"'2-Grant Budget'!ED466","v":0},{"$f":"'2-Grant Budget'!EE466","v":""},null,null,{"$f":"IF(LEN(B454)>0,1,0)","v":0}]
[{"$f":"'2-Grant Budget'!DW467","v":"00"},{"$f":"'2-Grant Budget'!DX467","v":""},{"$f":"'2-Grant Budget'!DY467","v":""},{"$f":"'2-Grant Budget'!DZ467","v":1},{"$f":"'2-Grant Budget'!EA467","v":""},{"$f":"'2-Grant Budget'!EB467","v":1},{"$f":"'2-Grant Budget'!EC467","v":""},{"$f":"'2-Grant Budget'!ED467","v":0},{"$f":"'2-Grant Budget'!EE467","v":""},null,null,0]
[{"$f":"'2-Grant Budget'!DW468","v":"00"},{"$f":"'2-Grant Budget'!DX468","v":""},{"$f":"'2-Grant Budget'!DY468","v":""},{"$f":"'2-Grant Budget'!DZ468","v":1},{"$f":"'2-Grant Budget'!EA468","v":""},{"$f":"'2-Grant Budget'!EB468","v":1},{"$f":"'2-Grant Budget'!EC468","v":""},{"$f":"'2-Grant Budget'!ED468","v":0},{"$f":"'2-Grant Budget'!EE468","v":""},null,null,0]
[{"$f":"'2-Grant Budget'!DW469","v":"00"},{"$f":"'2-Grant Budget'!DX469","v":""},{"$f":"'2-Grant Budget'!DY469","v":""},{"$f":"'2-Grant Budget'!DZ469","v":1},{"$f":"'2-Grant Budget'!EA469","v":""},{"$f":"'2-Grant Budget'!EB469","v":1},{"$f":"'2-Grant Budget'!EC469","v":""},{"$f":"'2-Grant Budget'!ED469","v":0},{"$f":"'2-Grant Budget'!EE469","v":""},null,null,0]
[{"$f":"'2-Grant Budget'!DW470","v":"00"},{"$f":"'2-Grant Budget'!DX470","v":""},{"$f":"'2-Grant Budget'!DY470","v":""},{"$f":"'2-Grant Budget'!DZ470","v":1},{"$f":"'2-Grant Budget'!EA470","v":""},{"$f":"'2-Grant Budget'!EB470","v":1},{"$f":"'2-Grant Budget'!EC470","v":""},{"$f":"'2-Grant Budget'!ED470","v":0},{"$f":"'2-Grant Budget'!EE470","v":""},null,null,0]
[{"$f":"'2-Grant Budget'!DW471","v":"00"},{"$f":"'2-Grant Budget'!DX471","v":""},{"$f":"'2-Grant Budget'!DY471","v":""},{"$f":"'2-Grant Budget'!DZ471","v":1},{"$f":"'2-Grant Budget'!EA471","v":""},{"$f":"'2-Grant Budget'!EB471","v":1},{"$f":"'2-Grant Budget'!EC471","v":""},{"$f":"'2-Grant Budget'!ED471","v":0},{"$f":"'2-Grant Budget'!EE471","v":""},null,null,0]
[{"$f":"'2-Grant Budget'!DW472","v":"00"},{"$f":"'2-Grant Budget'!DX472","v":""},{"$f":"'2-Grant Budget'!DY472","v":""},{"$f":"'2-Grant Budget'!DZ472","v":1},{"$f":"'2-Grant Budget'!EA472","v":""},{"$f":"'2-Grant Budget'!EB472","v":1},{"$f":"'2-Grant Budget'!EC472","v":""},{"$f":"'2-Grant Budget'!ED472","v":0},{"$f":"'2-Grant Budget'!EE472","v":""},null,null,0]
[{"$f":"'2-Grant Budget'!DW473","v":"00"},{"$f":"'2-Grant Budget'!DX473","v":""},{"$f":"'2-Grant Budget'!DY473","v":""},{"$f":"'2-Grant Budget'!DZ473","v":1},{"$f":"'2-Grant Budget'!EA473","v":""},{"$f":"'2-Grant Budget'!EB473","v":1},{"$f":"'2-Grant Budget'!EC473","v":""},{"$f":"'2-Grant Budget'!ED473","v":0},{"$f":"'2-Grant Budget'!EE473","v":""},null,null,0]
[{"$f":"'2-Grant Budget'!DW474","v":"00"},{"$f":"'2-Grant Budget'!DX474","v":""},{"$f":"'2-Grant Budget'!DY474","v":""},{"$f":"'2-Grant Budget'!DZ474","v":1},{"$f":"'2-Grant Budget'!EA474","v":""},{"$f":"'2-Grant Budget'!EB474","v":1},{"$f":"'2-Grant Budget'!EC474","v":""},{"$f":"'2-Grant Budget'!ED474","v":0},{"$f":"'2-Grant Budget'!EE474","v":""},null,null,0]
[{"$f":"'2-Grant Budget'!DW475","v":"00"},{"$f":"'2-Grant Budget'!DX475","v":""},{"$f":"'2-Grant Budget'!DY475","v":""},{"$f":"'2-Grant Budget'!DZ475","v":1},{"$f":"'2-Grant Budget'!EA475","v":""},{"$f":"'2-Grant Budget'!EB475","v":1},{"$f":"'2-Grant Budget'!EC475","v":""},{"$f":"'2-Grant Budget'!ED475","v":0},{"$f":"'2-Grant Budget'!EE475","v":""},null,null,0]
[{"$f":"'2-Grant Budget'!DW476","v":"00"},{"$f":"'2-Grant Budget'!DX476","v":""},{"$f":"'2-Grant Budget'!DY476","v":""},{"$f":"'2-Grant Budget'!DZ476","v":1},{"$f":"'2-Grant Budget'!EA476","v":""},{"$f":"'2-Grant Budget'!EB476","v":1},{"$f":"'2-Grant Budget'!EC476","v":""},{"$f":"'2-Grant Budget'!ED476","v":0},{"$f":"'2-Grant Budget'!EE476","v":""},null,null,0]
[{"$f":"'2-Grant Budget'!DW477","v":"00"},{"$f":"'2-Grant Budget'!DX477","v":""},{"$f":"'2-Grant Budget'!DY477","v":""},{"$f":"'2-Grant Budget'!DZ477","v":1},{"$f":"'2-Grant Budget'!EA477","v":""},{"$f":"'2-Grant Budget'!EB477","v":1},{"$f":"'2-Grant Budget'!EC477","v":""},{"$f":"'2-Grant Budget'!ED477","v":0},{"$f":"'2-Grant Budget'!EE477","v":""},null,null,0]
[{"$f":"'2-Grant Budget'!DW478","v":"00"},{"$f":"'2-Grant Budget'!DX478","v":""},{"$f":"'2-Grant Budget'!DY478","v":""},{"$f":"'2-Grant Budget'!DZ478","v":1},{"$f":"'2-Grant Budget'!EA478","v":""},{"$f":"'2-Grant Budget'!EB478","v":1},{"$f":"'2-Grant Budget'!EC478","v":""},{"$f":"'2-Grant Budget'!ED478","v":0},{"$f":"'2-Grant Budget'!EE478","v":""},null,null,0]
[{"$f":"'2-Grant Budget'!DW479","v":"00"},{"$f":"'2-Grant Budget'!DX479","v":""},{"$f":"'2-Grant Budget'!DY479","v":""},{"$f":"'2-Grant Budget'!DZ479","v":1},{"$f":"'2-Grant Budget'!EA479","v":""},{"$f":"'2-Grant Budget'!EB479","v":1},{"$f":"'2-Grant Budget'!EC479","v":""},{"$f":"'2-Grant Budget'!ED479","v":0},{"$f":"'2-Grant Budget'!EE479","v":""},null,null,0]
[{"$f":"'2-Grant Budget'!DW480","v":"00"},{"$f":"'2-Grant Budget'!DX480","v":""},{"$f":"'2-Grant Budget'!DY480","v":""},{"$f":"'2-Grant Budget'!DZ480","v":1},{"$f":"'2-Grant Budget'!EA480","v":""},{"$f":"'2-Grant Budget'!EB480","v":1},{"$f":"'2-Grant Budget'!EC480","v":""},{"$f":"'2-Grant Budget'!ED480","v":0},{"$f":"'2-Grant Budget'!EE480","v":""},null,null,0]
[{"$f":"'2-Grant Budget'!DW481","v":"00"},{"$f":"'2-Grant Budget'!DX481","v":""},{"$f":"'2-Grant Budget'!DY481","v":""},{"$f":"'2-Grant Budget'!DZ481","v":1},{"$f":"'2-Grant Budget'!EA481","v":""},{"$f":"'2-Grant Budget'!EB481","v":1},{"$f":"'2-Grant Budget'!EC481","v":""},{"$f":"'2-Grant Budget'!ED481","v":0},{"$f":"'2-Grant Budget'!EE481","v":""},null,null,0]
[{"$f":"'2-Grant Budget'!DW482","v":"00"},{"$f":"'2-Grant Budget'!DX482","v":""},{"$f":"'2-Grant Budget'!DY482","v":""},{"$f":"'2-Grant Budget'!DZ482","v":1},{"$f":"'2-Grant Budget'!EA482","v":""},{"$f":"'2-Grant Budget'!EB482","v":1},{"$f":"'2-Grant Budget'!EC482","v":""},{"$f":"'2-Grant Budget'!ED482","v":0},{"$f":"'2-Grant Budget'!EE482","v":""},null,null,0]
[{"$f":"'2-Grant Budget'!DW483","v":"00"},{"$f":"'2-Grant Budget'!DX483","v":""},{"$f":"'2-Grant Budget'!DY483","v":""},{"$f":"'2-Grant Budget'!DZ483","v":1},{"$f":"'2-Grant Budget'!EA483","v":""},{"$f":"'2-Grant Budget'!EB483","v":1},{"$f":"'2-Grant Budget'!EC483","v":""},{"$f":"'2-Grant Budget'!ED483","v":0},{"$f":"'2-Grant Budget'!EE483","v":""},null,null,0]
[{"$f":"'2-Grant Budget'!DW484","v":"00"},{"$f":"'2-Grant Budget'!DX484","v":""},{"$f":"'2-Grant Budget'!DY484","v":""},{"$f":"'2-Grant Budget'!DZ484","v":1},{"$f":"'2-Grant Budget'!EA484","v":""},{"$f":"'2-Grant Budget'!EB484","v":1},{"$f":"'2-Grant Budget'!EC484","v":""},{"$f":"'2-Grant Budget'!ED484","v":0},{"$f":"'2-Grant Budget'!EE484","v":""},null,null,0]
[{"$f":"'2-Grant Budget'!DW485","v":"00"},{"$f":"'2-Grant Budget'!DX485","v":""},{"$f":"'2-Grant Budget'!DY485","v":""},{"$f":"'2-Grant Budget'!DZ485","v":1},{"$f":"'2-Grant Budget'!EA485","v":""},{"$f":"'2-Grant Budget'!EB485","v":1},{"$f":"'2-Grant Budget'!EC485","v":""},{"$f":"'2-Grant Budget'!ED485","v":0},{"$f":"'2-Grant Budget'!EE485","v":""},null,null,0]
[{"$f":"'2-Grant Budget'!DW486","v":"00"},{"$f":"'2-Grant Budget'!DX486","v":""},{"$f":"'2-Grant Budget'!DY486","v":""},{"$f":"'2-Grant Budget'!DZ486","v":1},{"$f":"'2-Grant Budget'!EA486","v":""},{"$f":"'2-Grant Budget'!EB486","v":1},{"$f":"'2-Grant Budget'!EC486","v":""},{"$f":"'2-Grant Budget'!ED486","v":0},{"$f":"'2-Grant Budget'!EE486","v":""},null,null,0]
[{"$f":"'2-Grant Budget'!DW487","v":"00"},{"$f":"'2-Grant Budget'!DX487","v":""},{"$f":"'2-Grant Budget'!DY487","v":""},{"$f":"'2-Grant Budget'!DZ487","v":1},{"$f":"'2-Grant Budget'!EA487","v":""},{"$f":"'2-Grant Budget'!EB487","v":1},{"$f":"'2-Grant Budget'!EC487","v":""},{"$f":"'2-Grant Budget'!ED487","v":0},{"$f":"'2-Grant Budget'!EE487","v":""},null,null,0]
[{"$f":"'2-Grant Budget'!DW488","v":"00"},{"$f":"'2-Grant Budget'!DX488","v":""},{"$f":"'2-Grant Budget'!DY488","v":""},{"$f":"'2-Grant Budget'!DZ488","v":1},{"$f":"'2-Grant Budget'!EA488","v":""},{"$f":"'2-Grant Budget'!EB488","v":1},{"$f":"'2-Grant Budget'!EC488","v":""},{"$f":"'2-Grant Budget'!ED488","v":0},{"$f":"'2-Grant Budget'!EE488","v":""},null,null,0]
[{"$f":"'2-Grant Budget'!DW489","v":"00"},{"$f":"'2-Grant Budget'!DX489","v":""},{"$f":"'2-Grant Budget'!DY489","v":""},{"$f":"'2-Grant Budget'!DZ489","v":1},{"$f":"'2-Grant Budget'!EA489","v":""},{"$f":"'2-Grant Budget'!EB489","v":1},{"$f":"'2-Grant Budget'!EC489","v":""},{"$f":"'2-Grant Budget'!ED489","v":0},{"$f":"'2-Grant Budget'!EE489","v":""},null,null,0]
[{"$f":"'2-Grant Budget'!DW490","v":"00"},{"$f":"'2-Grant Budget'!DX490","v":""},{"$f":"'2-Grant Budget'!DY490","v":""},{"$f":"'2-Grant Budget'!DZ490","v":1},{"$f":"'2-Grant Budget'!EA490","v":""},{"$f":"'2-Grant Budget'!EB490","v":1},{"$f":"'2-Grant Budget'!EC490","v":""},{"$f":"'2-Grant Budget'!ED490","v":0},{"$f":"'2-Grant Budget'!EE490","v":""},null,null,0]
[{"$f":"'2-Grant Budget'!DW491","v":"00"},{"$f":"'2-Grant Budget'!DX491","v":""},{"$f":"'2-Grant Budget'!DY491","v":""},{"$f":"'2-Grant Budget'!DZ491","v":1},{"$f":"'2-Grant Budget'!EA491","v":""},{"$f":"'2-Grant Budget'!EB491","v":1},{"$f":"'2-Grant Budget'!EC491","v":""},{"$f":"'2-Grant Budget'!ED491","v":0},{"$f":"'2-Grant Budget'!EE491","v":""},null,null,0]
[{"$f":"'2-Grant Budget'!DW492","v":"00"},{"$f":"'2-Grant Budget'!DX492","v":""},{"$f":"'2-Grant Budget'!DY492","v":""},{"$f":"'2-Grant Budget'!DZ492","v":1},{"$f":"'2-Grant Budget'!EA492","v":""},{"$f":"'2-Grant Budget'!EB492","v":1},{"$f":"'2-Grant Budget'!EC492","v":""},{"$f":"'2-Grant Budget'!ED492","v":0},{"$f":"'2-Grant Budget'!EE492","v":""},null,null,0]
[{"$f":"'2-Grant Budget'!DW493","v":"00"},{"$f":"'2-Grant Budget'!DX493","v":""},{"$f":"'2-Grant Budget'!DY493","v":""},{"$f":"'2-Grant Budget'!DZ493","v":1},{"$f":"'2-Grant Budget'!EA493","v":""},{"$f":"'2-Grant Budget'!EB493","v":1},{"$f":"'2-Grant Budget'!EC493","v":""},{"$f":"'2-Grant Budget'!ED493","v":0},{"$f":"'2-Grant Budget'!EE493","v":""},null,null,0]
[{"$f":"'2-Grant Budget'!DW494","v":"00"},{"$f":"'2-Grant Budget'!DX494","v":""},{"$f":"'2-Grant Budget'!DY494","v":""},{"$f":"'2-Grant Budget'!DZ494","v":1},{"$f":"'2-Grant Budget'!EA494","v":""},{"$f":"'2-Grant Budget'!EB494","v":1},{"$f":"'2-Grant Budget'!EC494","v":""},{"$f":"'2-Grant Budget'!ED494","v":0},{"$f":"'2-Grant Budget'!EE494","v":""},null,null,0]
[{"$f":"'2-Grant Budget'!DW495","v":"00"},{"$f":"'2-Grant Budget'!DX495","v":""},{"$f":"'2-Grant Budget'!DY495","v":""},{"$f":"'2-Grant Budget'!DZ495","v":1},{"$f":"'2-Grant Budget'!EA495","v":""},{"$f":"'2-Grant Budget'!EB495","v":1},{"$f":"'2-Grant Budget'!EC495","v":""},{"$f":"'2-Grant Budget'!ED495","v":0},{"$f":"'2-Grant Budget'!EE495","v":""},null,null,0]
[{"$f":"'2-Grant Budget'!DW496","v":"00"},{"$f":"'2-Grant Budget'!DX496","v":""},{"$f":"'2-Grant Budget'!DY496","v":""},{"$f":"'2-Grant Budget'!DZ496","v":1},{"$f":"'2-Grant Budget'!EA496","v":""},{"$f":"'2-Grant Budget'!EB496","v":1},{"$f":"'2-Grant Budget'!EC496","v":""},{"$f":"'2-Grant Budget'!ED496","v":0},{"$f":"'2-Grant Budget'!EE496","v":""},null,null,0]
[{"$f":"'2-Grant Budget'!DW497","v":"00"},{"$f":"'2-Grant Budget'!DX497","v":""},{"$f":"'2-Grant Budget'!DY497","v":""},{"$f":"'2-Grant Budget'!DZ497","v":1},{"$f":"'2-Grant Budget'!EA497","v":""},{"$f":"'2-Grant Budget'!EB497","v":1},{"$f":"'2-Grant Budget'!EC497","v":""},{"$f":"'2-Grant Budget'!ED497","v":0},{"$f":"'2-Grant Budget'!EE497","v":""},null,null,0]
[{"$f":"'2-Grant Budget'!DW498","v":"00"},{"$f":"'2-Grant Budget'!DX498","v":""},{"$f":"'2-Grant Budget'!DY498","v":""},{"$f":"'2-Grant Budget'!DZ498","v":1},{"$f":"'2-Grant Budget'!EA498","v":""},{"$f":"'2-Grant Budget'!EB498","v":1},{"$f":"'2-Grant Budget'!EC498","v":""},{"$f":"'2-Grant Budget'!ED498","v":0},{"$f":"'2-Grant Budget'!EE498","v":""},null,null,0]
[{"$f":"'2-Grant Budget'!DW499","v":"00"},{"$f":"'2-Grant Budget'!DX499","v":""},{"$f":"'2-Grant Budget'!DY499","v":""},{"$f":"'2-Grant Budget'!DZ499","v":1},{"$f":"'2-Grant Budget'!EA499","v":""},{"$f":"'2-Grant Budget'!EB499","v":1},{"$f":"'2-Grant Budget'!EC499","v":""},{"$f":"'2-Grant Budget'!ED499","v":0},{"$f":"'2-Grant Budget'!EE499","v":""},null,null,0]
[{"$f":"'2-Grant Budget'!DW500","v":"00"},{"$f":"'2-Grant Budget'!DX500","v":""},{"$f":"'2-Grant Budget'!DY500","v":""},{"$f":"'2-Grant Budget'!DZ500","v":1},{"$f":"'2-Grant Budget'!EA500","v":""},{"$f":"'2-Grant Budget'!EB500","v":1},{"$f":"'2-Grant Budget'!EC500","v":""},{"$f":"'2-Grant Budget'!ED500","v":0},{"$f":"'2-Grant Budget'!EE500","v":""},null,null,0]
[{"$f":"'2-Grant Budget'!DW501","v":"00"},{"$f":"'2-Grant Budget'!DX501","v":""},{"$f":"'2-Grant Budget'!DY501","v":""},{"$f":"'2-Grant Budget'!DZ501","v":1},{"$f":"'2-Grant Budget'!EA501","v":""},{"$f":"'2-Grant Budget'!EB501","v":1},{"$f":"'2-Grant Budget'!EC501","v":""},{"$f":"'2-Grant Budget'!ED501","v":0},{"$f":"'2-Grant Budget'!EE501","v":""},null,null,0]
[{"$f":"'2-Grant Budget'!DW502","v":"00"},{"$f":"'2-Grant Budget'!DX502","v":""},{"$f":"'2-Grant Budget'!DY502","v":""},{"$f":"'2-Grant Budget'!DZ502","v":1},{"$f":"'2-Grant Budget'!EA502","v":""},{"$f":"'2-Grant Budget'!EB502","v":1},{"$f":"'2-Grant Budget'!EC502","v":""},{"$f":"'2-Grant Budget'!ED502","v":0},{"$f":"'2-Grant Budget'!EE502","v":""},null,null,0]
[{"$f":"'2-Grant Budget'!DW503","v":"00"},{"$f":"'2-Grant Budget'!DX503","v":""},{"$f":"'2-Grant Budget'!DY503","v":""},{"$f":"'2-Grant Budget'!DZ503","v":1},{"$f":"'2-Grant Budget'!EA503","v":""},{"$f":"'2-Grant Budget'!EB503","v":1},{"$f":"'2-Grant Budget'!EC503","v":""},{"$f":"'2-Grant Budget'!ED503","v":0},{"$f":"'2-Grant Budget'!EE503","v":""},null,null,0]
[{"$f":"'2-Grant Budget'!DW504","v":"00"},{"$f":"'2-Grant Budget'!DX504","v":""},{"$f":"'2-Grant Budget'!DY504","v":""},{"$f":"'2-Grant Budget'!DZ504","v":1},{"$f":"'2-Grant Budget'!EA504","v":""},{"$f":"'2-Grant Budget'!EB504","v":1},{"$f":"'2-Grant Budget'!EC504","v":""},{"$f":"'2-Grant Budget'!ED504","v":0},{"$f":"'2-Grant Budget'!EE504","v":""},null,null,0]
[{"$f":"'2-Grant Budget'!DW505","v":"00"},{"$f":"'2-Grant Budget'!DX505","v":""},{"$f":"'2-Grant Budget'!DY505","v":""},{"$f":"'2-Grant Budget'!DZ505","v":1},{"$f":"'2-Grant Budget'!EA505","v":""},{"$f":"'2-Grant Budget'!EB505","v":1},{"$f":"'2-Grant Budget'!EC505","v":""},{"$f":"'2-Grant Budget'!ED505","v":0},{"$f":"'2-Grant Budget'!EE505","v":""},null,null,0]
[{"$f":"'2-Grant Budget'!DW506","v":"00"},{"$f":"'2-Grant Budget'!DX506","v":""},{"$f":"'2-Grant Budget'!DY506","v":""},{"$f":"'2-Grant Budget'!DZ506","v":1},{"$f":"'2-Grant Budget'!EA506","v":""},{"$f":"'2-Grant Budget'!EB506","v":1},{"$f":"'2-Grant Budget'!EC506","v":""},{"$f":"'2-Grant Budget'!ED506","v":0},{"$f":"'2-Grant Budget'!EE506","v":""},null,null,0]
[{"$f":"'2-Grant Budget'!DW507","v":"00"},{"$f":"'2-Grant Budget'!DX507","v":""},{"$f":"'2-Grant Budget'!DY507","v":""},{"$f":"'2-Grant Budget'!DZ507","v":1},{"$f":"'2-Grant Budget'!EA507","v":""},{"$f":"'2-Grant Budget'!EB507","v":1},{"$f":"'2-Grant Budget'!EC507","v":""},{"$f":"'2-Grant Budget'!ED507","v":0},{"$f":"'2-Grant Budget'!EE507","v":""},null,null,0]
[{"$f":"'2-Grant Budget'!DW508","v":"00"},{"$f":"'2-Grant Budget'!DX508","v":""},{"$f":"'2-Grant Budget'!DY508","v":""},{"$f":"'2-Grant Budget'!DZ508","v":1},{"$f":"'2-Grant Budget'!EA508","v":""},{"$f":"'2-Grant Budget'!EB508","v":1},{"$f":"'2-Grant Budget'!EC508","v":""},{"$f":"'2-Grant Budget'!ED508","v":0},{"$f":"'2-Grant Budget'!EE508","v":""},null,null,0]
[{"$f":"'2-Grant Budget'!DW509","v":"00"},{"$f":"'2-Grant Budget'!DX509","v":""},{"$f":"'2-Grant Budget'!DY509","v":""},{"$f":"'2-Grant Budget'!DZ509","v":1},{"$f":"'2-Grant Budget'!EA509","v":""},{"$f":"'2-Grant Budget'!EB509","v":1},{"$f":"'2-Grant Budget'!EC509","v":""},{"$f":"'2-Grant Budget'!ED509","v":0},{"$f":"'2-Grant Budget'!EE509","v":""},null,null,0]
[{"$f":"'2-Grant Budget'!DW510","v":"00"},{"$f":"'2-Grant Budget'!DX510","v":""},{"$f":"'2-Grant Budget'!DY510","v":""},{"$f":"'2-Grant Budget'!DZ510","v":1},{"$f":"'2-Grant Budget'!EA510","v":""},{"$f":"'2-Grant Budget'!EB510","v":1},{"$f":"'2-Grant Budget'!EC510","v":""},{"$f":"'2-Grant Budget'!ED510","v":0},{"$f":"'2-Grant Budget'!EE510","v":""},null,null,0]
[{"$f":"'2-Grant Budget'!DW511","v":"00"},{"$f":"'2-Grant Budget'!DX511","v":""},{"$f":"'2-Grant Budget'!DY511","v":""},{"$f":"'2-Grant Budget'!DZ511","v":1},{"$f":"'2-Grant Budget'!EA511","v":""},{"$f":"'2-Grant Budget'!EB511","v":1},{"$f":"'2-Grant Budget'!EC511","v":""},{"$f":"'2-Grant Budget'!ED511","v":0},{"$f":"'2-Grant Budget'!EE511","v":""},null,null,0]
[{"$f":"'2-Grant Budget'!DW512","v":"00"},{"$f":"'2-Grant Budget'!DX512","v":""},{"$f":"'2-Grant Budget'!DY512","v":""},{"$f":"'2-Grant Budget'!DZ512","v":1},{"$f":"'2-Grant Budget'!EA512","v":""},{"$f":"'2-Grant Budget'!EB512","v":1},{"$f":"'2-Grant Budget'!EC512","v":""},{"$f":"'2-Grant Budget'!ED512","v":0},{"$f":"'2-Grant Budget'!EE512","v":""},null,null,0]
[{"$f":"'2-Grant Budget'!DW513","v":"00"},{"$f":"'2-Grant Budget'!DX513","v":""},{"$f":"'2-Grant Budget'!DY513","v":""},{"$f":"'2-Grant Budget'!DZ513","v":1},{"$f":"'2-Grant Budget'!EA513","v":""},{"$f":"'2-Grant Budget'!EB513","v":1},{"$f":"'2-Grant Budget'!EC513","v":""},{"$f":"'2-Grant Budget'!ED513","v":0},{"$f":"'2-Grant Budget'!EE513","v":""},null,null,0]
[{"$f":"'2-Grant Budget'!DW514","v":"00"},{"$f":"'2-Grant Budget'!DX514","v":""},{"$f":"'2-Grant Budget'!DY514","v":""},{"$f":"'2-Grant Budget'!DZ514","v":1},{"$f":"'2-Grant Budget'!EA514","v":""},{"$f":"'2-Grant Budget'!EB514","v":1},{"$f":"'2-Grant Budget'!EC514","v":""},{"$f":"'2-Grant Budget'!ED514","v":0},{"$f":"'2-Grant Budget'!EE514","v":""},null,null,0]
[{"$f":"'2-Grant Budget'!DW515","v":"00"},{"$f":"'2-Grant Budget'!DX515","v":""},{"$f":"'2-Grant Budget'!DY515","v":""},{"$f":"'2-Grant Budget'!DZ515","v":1},{"$f":"'2-Grant Budget'!EA515","v":""},{"$f":"'2-Grant Budget'!EB515","v":1},{"$f":"'2-Grant Budget'!EC515","v":""},{"$f":"'2-Grant Budget'!ED515","v":0},{"$f":"'2-Grant Budget'!EE515","v":""},null,null,0]
[{"$f":"'2-Grant Budget'!DW516","v":"00"},{"$f":"'2-Grant Budget'!DX516","v":""},{"$f":"'2-Grant Budget'!DY516","v":""},{"$f":"'2-Grant Budget'!DZ516","v":1},{"$f":"'2-Grant Budget'!EA516","v":""},{"$f":"'2-Grant Budget'!EB516","v":1},{"$f":"'2-Grant Budget'!EC516","v":""},{"$f":"'2-Grant Budget'!ED516","v":0},{"$f":"'2-Grant Budget'!EE516","v":""},null,null,0]
[{"$f":"'2-Grant Budget'!DW517","v":"00"},{"$f":"'2-Grant Budget'!DX517","v":""},{"$f":"'2-Grant Budget'!DY517","v":""},{"$f":"'2-Grant Budget'!DZ517","v":1},{"$f":"'2-Grant Budget'!EA517","v":""},{"$f":"'2-Grant Budget'!EB517","v":1},{"$f":"'2-Grant Budget'!EC517","v":""},{"$f":"'2-Grant Budget'!ED517","v":0},{"$f":"'2-Grant Budget'!EE517","v":""},null,null,0]
[{"$f":"'2-Grant Budget'!DW518","v":"00"},{"$f":"'2-Grant Budget'!DX518","v":""},{"$f":"'2-Grant Budget'!DY518","v":""},{"$f":"'2-Grant Budget'!DZ518","v":1},{"$f":"'2-Grant Budget'!EA518","v":""},{"$f":"'2-Grant Budget'!EB518","v":1},{"$f":"'2-Grant Budget'!EC518","v":""},{"$f":"'2-Grant Budget'!ED518","v":0},{"$f":"'2-Grant Budget'!EE518","v":""},null,null,0]
[{"$f":"'2-Grant Budget'!DW519","v":"00"},{"$f":"'2-Grant Budget'!DX519","v":""},{"$f":"'2-Grant Budget'!DY519","v":""},{"$f":"'2-Grant Budget'!DZ519","v":1},{"$f":"'2-Grant Budget'!EA519","v":""},{"$f":"'2-Grant Budget'!EB519","v":1},{"$f":"'2-Grant Budget'!EC519","v":""},{"$f":"'2-Grant Budget'!ED519","v":0},{"$f":"'2-Grant Budget'!EE519","v":""},null,null,0]
[{"$f":"'2-Grant Budget'!DW520","v":"00"},{"$f":"'2-Grant Budget'!DX520","v":""},{"$f":"'2-Grant Budget'!DY520","v":""},{"$f":"'2-Grant Budget'!DZ520","v":1},{"$f":"'2-Grant Budget'!EA520","v":""},{"$f":"'2-Grant Budget'!EB520","v":1},{"$f":"'2-Grant Budget'!EC520","v":""},{"$f":"'2-Grant Budget'!ED520","v":0},{"$f":"'2-Grant Budget'!EE520","v":""},null,null,0]
[{"$f":"'2-Grant Budget'!DW521","v":"00"},{"$f":"'2-Grant Budget'!DX521","v":""},{"$f":"'2-Grant Budget'!DY521","v":""},{"$f":"'2-Grant Budget'!DZ521","v":1},{"$f":"'2-Grant Budget'!EA521","v":""},{"$f":"'2-Grant Budget'!EB521","v":1},{"$f":"'2-Grant Budget'!EC521","v":""},{"$f":"'2-Grant Budget'!ED521","v":0},{"$f":"'2-Grant Budget'!EE521","v":""},null,null,0]
[{"$f":"'2-Grant Budget'!DW522","v":"00"},{"$f":"'2-Grant Budget'!DX522","v":""},{"$f":"'2-Grant Budget'!DY522","v":""},{"$f":"'2-Grant Budget'!DZ522","v":1},{"$f":"'2-Grant Budget'!EA522","v":""},{"$f":"'2-Grant Budget'!EB522","v":1},{"$f":"'2-Grant Budget'!EC522","v":""},{"$f":"'2-Grant Budget'!ED522","v":0},{"$f":"'2-Grant Budget'!EE522","v":""},null,null,0]
[{"$f":"'2-Grant Budget'!DW523","v":"00"},{"$f":"'2-Grant Budget'!DX523","v":""},{"$f":"'2-Grant Budget'!DY523","v":""},{"$f":"'2-Grant Budget'!DZ523","v":1},{"$f":"'2-Grant Budget'!EA523","v":""},{"$f":"'2-Grant Budget'!EB523","v":1},{"$f":"'2-Grant Budget'!EC523","v":""},{"$f":"'2-Grant Budget'!ED523","v":0},{"$f":"'2-Grant Budget'!EE523","v":""},null,null,0]
[{"$f":"'2-Grant Budget'!DW524","v":"00"},{"$f":"'2-Grant Budget'!DX524","v":""},{"$f":"'2-Grant Budget'!DY524","v":""},{"$f":"'2-Grant Budget'!DZ524","v":1},{"$f":"'2-Grant Budget'!EA524","v":""},{"$f":"'2-Grant Budget'!EB524","v":1},{"$f":"'2-Grant Budget'!EC524","v":""},{"$f":"'2-Grant Budget'!ED524","v":0},{"$f":"'2-Grant Budget'!EE524","v":""},null,null,0]
[{"$f":"'2-Grant Budget'!DW525","v":"00"},{"$f":"'2-Grant Budget'!DX525","v":""},{"$f":"'2-Grant Budget'!DY525","v":""},{"$f":"'2-Grant Budget'!DZ525","v":1},{"$f":"'2-Grant Budget'!EA525","v":""},{"$f":"'2-Grant Budget'!EB525","v":1},{"$f":"'2-Grant Budget'!EC525","v":""},{"$f":"'2-Grant Budget'!ED525","v":0},{"$f":"'2-Grant Budget'!EE525","v":""},null,null,0]
[{"$f":"'2-Grant Budget'!DW526","v":"00"},{"$f":"'2-Grant Budget'!DX526","v":""},{"$f":"'2-Grant Budget'!DY526","v":""},{"$f":"'2-Grant Budget'!DZ526","v":1},{"$f":"'2-Grant Budget'!EA526","v":""},{"$f":"'2-Grant Budget'!EB526","v":1},{"$f":"'2-Grant Budget'!EC526","v":""},{"$f":"'2-Grant Budget'!ED526","v":0},{"$f":"'2-Grant Budget'!EE526","v":""},null,null,0]
[{"$f":"'2-Grant Budget'!DW527","v":"00"},{"$f":"'2-Grant Budget'!DX527","v":""},{"$f":"'2-Grant Budget'!DY527","v":""},{"$f":"'2-Grant Budget'!DZ527","v":1},{"$f":"'2-Grant Budget'!EA527","v":""},{"$f":"'2-Grant Budget'!EB527","v":1},{"$f":"'2-Grant Budget'!EC527","v":""},{"$f":"'2-Grant Budget'!ED527","v":0},{"$f":"'2-Grant Budget'!EE527","v":""},null,null,0]
[{"$f":"'2-Grant Budget'!DW528","v":"00"},{"$f":"'2-Grant Budget'!DX528","v":""},{"$f":"'2-Grant Budget'!DY528","v":""},{"$f":"'2-Grant Budget'!DZ528","v":1},{"$f":"'2-Grant Budget'!EA528","v":""},{"$f":"'2-Grant Budget'!EB528","v":1},{"$f":"'2-Grant Budget'!EC528","v":""},{"$f":"'2-Grant Budget'!ED528","v":0},{"$f":"'2-Grant Budget'!EE528","v":""},null,null,0]
[{"$f":"'2-Grant Budget'!DW529","v":"00"},{"$f":"'2-Grant Budget'!DX529","v":""},{"$f":"'2-Grant Budget'!DY529","v":""},{"$f":"'2-Grant Budget'!DZ529","v":1},{"$f":"'2-Grant Budget'!EA529","v":""},{"$f":"'2-Grant Budget'!EB529","v":1},{"$f":"'2-Grant Budget'!EC529","v":""},{"$f":"'2-Grant Budget'!ED529","v":0},{"$f":"'2-Grant Budget'!EE529","v":""},null,null,0]
[{"$f":"'2-Grant Budget'!DW530","v":"00"},{"$f":"'2-Grant Budget'!DX530","v":""},{"$f":"'2-Grant Budget'!DY530","v":""},{"$f":"'2-Grant Budget'!DZ530","v":1},{"$f":"'2-Grant Budget'!EA530","v":""},{"$f":"'2-Grant Budget'!EB530","v":1},{"$f":"'2-Grant Budget'!EC530","v":""},{"$f":"'2-Grant Budget'!ED530","v":0},{"$f":"'2-Grant Budget'!EE530","v":""},null,null,{"$f":"IF(LEN(B518)>0,1,0)","v":0}]
[{"$f":"'2-Grant Budget'!DW531","v":"00"},{"$f":"'2-Grant Budget'!DX531","v":""},{"$f":"'2-Grant Budget'!DY531","v":""},{"$f":"'2-Grant Budget'!DZ531","v":1},{"$f":"'2-Grant Budget'!EA531","v":""},{"$f":"'2-Grant Budget'!EB531","v":1},{"$f":"'2-Grant Budget'!EC531","v":""},{"$f":"'2-Grant Budget'!ED531","v":0},{"$f":"'2-Grant Budget'!EE531","v":""},null,null,0]
[{"$f":"'2-Grant Budget'!DW532","v":"00"},{"$f":"'2-Grant Budget'!DX532","v":""},{"$f":"'2-Grant Budget'!DY532","v":""},{"$f":"'2-Grant Budget'!DZ532","v":1},{"$f":"'2-Grant Budget'!EA532","v":""},{"$f":"'2-Grant Budget'!EB532","v":1},{"$f":"'2-Grant Budget'!EC532","v":""},{"$f":"'2-Grant Budget'!ED532","v":0},{"$f":"'2-Grant Budget'!EE532","v":""},null,null,0]
[{"$f":"'2-Grant Budget'!DW533","v":"00"},{"$f":"'2-Grant Budget'!DX533","v":""},{"$f":"'2-Grant Budget'!DY533","v":""},{"$f":"'2-Grant Budget'!DZ533","v":1},{"$f":"'2-Grant Budget'!EA533","v":""},{"$f":"'2-Grant Budget'!EB533","v":1},{"$f":"'2-Grant Budget'!EC533","v":""},{"$f":"'2-Grant Budget'!ED533","v":0},{"$f":"'2-Grant Budget'!EE533","v":""},null,null,0]
[{"$f":"'2-Grant Budget'!DW534","v":"00"},{"$f":"'2-Grant Budget'!DX534","v":""},{"$f":"'2-Grant Budget'!DY534","v":""},{"$f":"'2-Grant Budget'!DZ534","v":1},{"$f":"'2-Grant Budget'!EA534","v":""},{"$f":"'2-Grant Budget'!EB534","v":1},{"$f":"'2-Grant Budget'!EC534","v":""},{"$f":"'2-Grant Budget'!ED534","v":0},{"$f":"'2-Grant Budget'!EE534","v":""},null,null,0]
[{"$f":"'2-Grant Budget'!DW535","v":"00"},{"$f":"'2-Grant Budget'!DX535","v":""},{"$f":"'2-Grant Budget'!DY535","v":""},{"$f":"'2-Grant Budget'!DZ535","v":1},{"$f":"'2-Grant Budget'!EA535","v":""},{"$f":"'2-Grant Budget'!EB535","v":1},{"$f":"'2-Grant Budget'!EC535","v":""},{"$f":"'2-Grant Budget'!ED535","v":0},{"$f":"'2-Grant Budget'!EE535","v":""},null,null,0]
[{"$f":"'2-Grant Budget'!DW536","v":"00"},{"$f":"'2-Grant Budget'!DX536","v":""},{"$f":"'2-Grant Budget'!DY536","v":""},{"$f":"'2-Grant Budget'!DZ536","v":1},{"$f":"'2-Grant Budget'!EA536","v":""},{"$f":"'2-Grant Budget'!EB536","v":1},{"$f":"'2-Grant Budget'!EC536","v":""},{"$f":"'2-Grant Budget'!ED536","v":0},{"$f":"'2-Grant Budget'!EE536","v":""},null,null,0]
[{"$f":"'2-Grant Budget'!DW537","v":"00"},{"$f":"'2-Grant Budget'!DX537","v":""},{"$f":"'2-Grant Budget'!DY537","v":""},{"$f":"'2-Grant Budget'!DZ537","v":1},{"$f":"'2-Grant Budget'!EA537","v":""},{"$f":"'2-Grant Budget'!EB537","v":1},{"$f":"'2-Grant Budget'!EC537","v":""},{"$f":"'2-Grant Budget'!ED537","v":0},{"$f":"'2-Grant Budget'!EE537","v":""},null,null,0]
[{"$f":"'2-Grant Budget'!DW538","v":"00"},{"$f":"'2-Grant Budget'!DX538","v":""},{"$f":"'2-Grant Budget'!DY538","v":""},{"$f":"'2-Grant Budget'!DZ538","v":1},{"$f":"'2-Grant Budget'!EA538","v":""},{"$f":"'2-Grant Budget'!EB538","v":1},{"$f":"'2-Grant Budget'!EC538","v":""},{"$f":"'2-Grant Budget'!ED538","v":0},{"$f":"'2-Grant Budget'!EE538","v":""},null,null,0]
[{"$f":"'2-Grant Budget'!DW539","v":"00"},{"$f":"'2-Grant Budget'!DX539","v":""},{"$f":"'2-Grant Budget'!DY539","v":""},{"$f":"'2-Grant Budget'!DZ539","v":1},{"$f":"'2-Grant Budget'!EA539","v":""},{"$f":"'2-Grant Budget'!EB539","v":1},{"$f":"'2-Grant Budget'!EC539","v":""},{"$f":"'2-Grant Budget'!ED539","v":0},{"$f":"'2-Grant Budget'!EE539","v":""},null,null,0]
[{"$f":"'2-Grant Budget'!DW540","v":"00"},{"$f":"'2-Grant Budget'!DX540","v":""},{"$f":"'2-Grant Budget'!DY540","v":""},{"$f":"'2-Grant Budget'!DZ540","v":1},{"$f":"'2-Grant Budget'!EA540","v":""},{"$f":"'2-Grant Budget'!EB540","v":1},{"$f":"'2-Grant Budget'!EC540","v":""},{"$f":"'2-Grant Budget'!ED540","v":0},{"$f":"'2-Grant Budget'!EE540","v":""},null,null,0]
[{"$f":"'2-Grant Budget'!DW541","v":"00"},{"$f":"'2-Grant Budget'!DX541","v":""},{"$f":"'2-Grant Budget'!DY541","v":""},{"$f":"'2-Grant Budget'!DZ541","v":1},{"$f":"'2-Grant Budget'!EA541","v":""},{"$f":"'2-Grant Budget'!EB541","v":1},{"$f":"'2-Grant Budget'!EC541","v":""},{"$f":"'2-Grant Budget'!ED541","v":0},{"$f":"'2-Grant Budget'!EE541","v":""},null,null,0]
[{"$f":"'2-Grant Budget'!DW542","v":"00"},{"$f":"'2-Grant Budget'!DX542","v":""},{"$f":"'2-Grant Budget'!DY542","v":""},{"$f":"'2-Grant Budget'!DZ542","v":1},{"$f":"'2-Grant Budget'!EA542","v":""},{"$f":"'2-Grant Budget'!EB542","v":1},{"$f":"'2-Grant Budget'!EC542","v":""},{"$f":"'2-Grant Budget'!ED542","v":0},{"$f":"'2-Grant Budget'!EE542","v":""},null,null,0]
[{"$f":"'2-Grant Budget'!DW543","v":"00"},{"$f":"'2-Grant Budget'!DX543","v":""},{"$f":"'2-Grant Budget'!DY543","v":""},{"$f":"'2-Grant Budget'!DZ543","v":1},{"$f":"'2-Grant Budget'!EA543","v":""},{"$f":"'2-Grant Budget'!EB543","v":1},{"$f":"'2-Grant Budget'!EC543","v":""},{"$f":"'2-Grant Budget'!ED543","v":0},{"$f":"'2-Grant Budget'!EE543","v":""},null,null,0]
[{"$f":"'2-Grant Budget'!DW544","v":"00"},{"$f":"'2-Grant Budget'!DX544","v":""},{"$f":"'2-Grant Budget'!DY544","v":""},{"$f":"'2-Grant Budget'!DZ544","v":1},{"$f":"'2-Grant Budget'!EA544","v":""},{"$f":"'2-Grant Budget'!EB544","v":1},{"$f":"'2-Grant Budget'!EC544","v":""},{"$f":"'2-Grant Budget'!ED544","v":0},{"$f":"'2-Grant Budget'!EE544","v":""},null,null,0]
[{"$f":"'2-Grant Budget'!DW545","v":"00"},{"$f":"'2-Grant Budget'!DX545","v":""},{"$f":"'2-Grant Budget'!DY545","v":""},{"$f":"'2-Grant Budget'!DZ545","v":1},{"$f":"'2-Grant Budget'!EA545","v":""},{"$f":"'2-Grant Budget'!EB545","v":1},{"$f":"'2-Grant Budget'!EC545","v":""},{"$f":"'2-Grant Budget'!ED545","v":0},{"$f":"'2-Grant Budget'!EE545","v":""},null,null,0]
[{"$f":"'2-Grant Budget'!DW546","v":"00"},{"$f":"'2-Grant Budget'!DX546","v":""},{"$f":"'2-Grant Budget'!DY546","v":""},{"$f":"'2-Grant Budget'!DZ546","v":1},{"$f":"'2-Grant Budget'!EA546","v":""},{"$f":"'2-Grant Budget'!EB546","v":1},{"$f":"'2-Grant Budget'!EC546","v":""},{"$f":"'2-Grant Budget'!ED546","v":0},{"$f":"'2-Grant Budget'!EE546","v":""},null,null,0]
[{"$f":"'2-Grant Budget'!DW547","v":"00"},{"$f":"'2-Grant Budget'!DX547","v":""},{"$f":"'2-Grant Budget'!DY547","v":""},{"$f":"'2-Grant Budget'!DZ547","v":1},{"$f":"'2-Grant Budget'!EA547","v":""},{"$f":"'2-Grant Budget'!EB547","v":1},{"$f":"'2-Grant Budget'!EC547","v":""},{"$f":"'2-Grant Budget'!ED547","v":0},{"$f":"'2-Grant Budget'!EE547","v":""},null,null,0]
[{"$f":"'2-Grant Budget'!DW548","v":"00"},{"$f":"'2-Grant Budget'!DX548","v":""},{"$f":"'2-Grant Budget'!DY548","v":""},{"$f":"'2-Grant Budget'!DZ548","v":1},{"$f":"'2-Grant Budget'!EA548","v":""},{"$f":"'2-Grant Budget'!EB548","v":1},{"$f":"'2-Grant Budget'!EC548","v":""},{"$f":"'2-Grant Budget'!ED548","v":0},{"$f":"'2-Grant Budget'!EE548","v":""},null,null,0]
[{"$f":"'2-Grant Budget'!DW549","v":"00"},{"$f":"'2-Grant Budget'!DX549","v":""},{"$f":"'2-Grant Budget'!DY549","v":""},{"$f":"'2-Grant Budget'!DZ549","v":1},{"$f":"'2-Grant Budget'!EA549","v":""},{"$f":"'2-Grant Budget'!EB549","v":1},{"$f":"'2-Grant Budget'!EC549","v":""},{"$f":"'2-Grant Budget'!ED549","v":0},{"$f":"'2-Grant Budget'!EE549","v":""},null,null,0]
[{"$f":"'2-Grant Budget'!DW550","v":"00"},{"$f":"'2-Grant Budget'!DX550","v":""},{"$f":"'2-Grant Budget'!DY550","v":""},{"$f":"'2-Grant Budget'!DZ550","v":1},{"$f":"'2-Grant Budget'!EA550","v":""},{"$f":"'2-Grant Budget'!EB550","v":1},{"$f":"'2-Grant Budget'!EC550","v":""},{"$f":"'2-Grant Budget'!ED550","v":0},{"$f":"'2-Grant Budget'!EE550","v":""},null,null,0]
[{"$f":"'2-Grant Budget'!DW551","v":"00"},{"$f":"'2-Grant Budget'!DX551","v":""},{"$f":"'2-Grant Budget'!DY551","v":""},{"$f":"'2-Grant Budget'!DZ551","v":1},{"$f":"'2-Grant Budget'!EA551","v":""},{"$f":"'2-Grant Budget'!EB551","v":1},{"$f":"'2-Grant Budget'!EC551","v":""},{"$f":"'2-Grant Budget'!ED551","v":0},{"$f":"'2-Grant Budget'!EE551","v":""},null,null,0]
[{"$f":"'2-Grant Budget'!DW552","v":"00"},{"$f":"'2-Grant Budget'!DX552","v":""},{"$f":"'2-Grant Budget'!DY552","v":""},{"$f":"'2-Grant Budget'!DZ552","v":1},{"$f":"'2-Grant Budget'!EA552","v":""},{"$f":"'2-Grant Budget'!EB552","v":1},{"$f":"'2-Grant Budget'!EC552","v":""},{"$f":"'2-Grant Budget'!ED552","v":0},{"$f":"'2-Grant Budget'!EE552","v":""},null,null,0]
[{"$f":"'2-Grant Budget'!DW553","v":"00"},{"$f":"'2-Grant Budget'!DX553","v":""},{"$f":"'2-Grant Budget'!DY553","v":""},{"$f":"'2-Grant Budget'!DZ553","v":1},{"$f":"'2-Grant Budget'!EA553","v":""},{"$f":"'2-Grant Budget'!EB553","v":1},{"$f":"'2-Grant Budget'!EC553","v":""},{"$f":"'2-Grant Budget'!ED553","v":0},{"$f":"'2-Grant Budget'!EE553","v":""},null,null,0]
[{"$f":"'2-Grant Budget'!DW554","v":"00"},{"$f":"'2-Grant Budget'!DX554","v":""},{"$f":"'2-Grant Budget'!DY554","v":""},{"$f":"'2-Grant Budget'!DZ554","v":1},{"$f":"'2-Grant Budget'!EA554","v":""},{"$f":"'2-Grant Budget'!EB554","v":1},{"$f":"'2-Grant Budget'!EC554","v":""},{"$f":"'2-Grant Budget'!ED554","v":0},{"$f":"'2-Grant Budget'!EE554","v":""},null,null,0]
[{"$f":"'2-Grant Budget'!DW555","v":"00"},{"$f":"'2-Grant Budget'!DX555","v":""},{"$f":"'2-Grant Budget'!DY555","v":""},{"$f":"'2-Grant Budget'!DZ555","v":1},{"$f":"'2-Grant Budget'!EA555","v":""},{"$f":"'2-Grant Budget'!EB555","v":1},{"$f":"'2-Grant Budget'!EC555","v":""},{"$f":"'2-Grant Budget'!ED555","v":0},{"$f":"'2-Grant Budget'!EE555","v":""},null,null,0]
[{"$f":"'2-Grant Budget'!DW556","v":"00"},{"$f":"'2-Grant Budget'!DX556","v":""},{"$f":"'2-Grant Budget'!DY556","v":""},{"$f":"'2-Grant Budget'!DZ556","v":1},{"$f":"'2-Grant Budget'!EA556","v":""},{"$f":"'2-Grant Budget'!EB556","v":1},{"$f":"'2-Grant Budget'!EC556","v":""},{"$f":"'2-Grant Budget'!ED556","v":0},{"$f":"'2-Grant Budget'!EE556","v":""},null,null,0]
[{"$f":"'2-Grant Budget'!DW557","v":"00"},{"$f":"'2-Grant Budget'!DX557","v":""},{"$f":"'2-Grant Budget'!DY557","v":""},{"$f":"'2-Grant Budget'!DZ557","v":1},{"$f":"'2-Grant Budget'!EA557","v":""},{"$f":"'2-Grant Budget'!EB557","v":1},{"$f":"'2-Grant Budget'!EC557","v":""},{"$f":"'2-Grant Budget'!ED557","v":0},{"$f":"'2-Grant Budget'!EE557","v":""},null,null,0]
[{"$f":"'2-Grant Budget'!DW558","v":"00"},{"$f":"'2-Grant Budget'!DX558","v":""},{"$f":"'2-Grant Budget'!DY558","v":""},{"$f":"'2-Grant Budget'!DZ558","v":1},{"$f":"'2-Grant Budget'!EA558","v":""},{"$f":"'2-Grant Budget'!EB558","v":1},{"$f":"'2-Grant Budget'!EC558","v":""},{"$f":"'2-Grant Budget'!ED558","v":0},{"$f":"'2-Grant Budget'!EE558","v":""},null,null,0]
[{"$f":"'2-Grant Budget'!DW559","v":"00"},{"$f":"'2-Grant Budget'!DX559","v":""},{"$f":"'2-Grant Budget'!DY559","v":""},{"$f":"'2-Grant Budget'!DZ559","v":1},{"$f":"'2-Grant Budget'!EA559","v":""},{"$f":"'2-Grant Budget'!EB559","v":1},{"$f":"'2-Grant Budget'!EC559","v":""},{"$f":"'2-Grant Budget'!ED559","v":0},{"$f":"'2-Grant Budget'!EE559","v":""},null,null,0]
[{"$f":"'2-Grant Budget'!DW560","v":"00"},{"$f":"'2-Grant Budget'!DX560","v":""},{"$f":"'2-Grant Budget'!DY560","v":""},{"$f":"'2-Grant Budget'!DZ560","v":1},{"$f":"'2-Grant Budget'!EA560","v":""},{"$f":"'2-Grant Budget'!EB560","v":1},{"$f":"'2-Grant Budget'!EC560","v":""},{"$f":"'2-Grant Budget'!ED560","v":0},{"$f":"'2-Grant Budget'!EE560","v":""},null,null,0]
[{"$f":"'2-Grant Budget'!DW561","v":"00"},{"$f":"'2-Grant Budget'!DX561","v":""},{"$f":"'2-Grant Budget'!DY561","v":""},{"$f":"'2-Grant Budget'!DZ561","v":1},{"$f":"'2-Grant Budget'!EA561","v":""},{"$f":"'2-Grant Budget'!EB561","v":1},{"$f":"'2-Grant Budget'!EC561","v":""},{"$f":"'2-Grant Budget'!ED561","v":0},{"$f":"'2-Grant Budget'!EE561","v":""},null,null,0]
[{"$f":"'2-Grant Budget'!DW562","v":"00"},{"$f":"'2-Grant Budget'!DX562","v":""},{"$f":"'2-Grant Budget'!DY562","v":""},{"$f":"'2-Grant Budget'!DZ562","v":1},{"$f":"'2-Grant Budget'!EA562","v":""},{"$f":"'2-Grant Budget'!EB562","v":1},{"$f":"'2-Grant Budget'!EC562","v":""},{"$f":"'2-Grant Budget'!ED562","v":0},{"$f":"'2-Grant Budget'!EE562","v":""},null,null,0]
[{"$f":"'2-Grant Budget'!DW563","v":"00"},{"$f":"'2-Grant Budget'!DX563","v":""},{"$f":"'2-Grant Budget'!DY563","v":""},{"$f":"'2-Grant Budget'!DZ563","v":1},{"$f":"'2-Grant Budget'!EA563","v":""},{"$f":"'2-Grant Budget'!EB563","v":1},{"$f":"'2-Grant Budget'!EC563","v":""},{"$f":"'2-Grant Budget'!ED563","v":0},{"$f":"'2-Grant Budget'!EE563","v":""},null,null,0]
[{"$f":"'2-Grant Budget'!DW564","v":"00"},{"$f":"'2-Grant Budget'!DX564","v":""},{"$f":"'2-Grant Budget'!DY564","v":""},{"$f":"'2-Grant Budget'!DZ564","v":1},{"$f":"'2-Grant Budget'!EA564","v":""},{"$f":"'2-Grant Budget'!EB564","v":1},{"$f":"'2-Grant Budget'!EC564","v":""},{"$f":"'2-Grant Budget'!ED564","v":0},{"$f":"'2-Grant Budget'!EE564","v":""},null,null,0]
[{"$f":"'2-Grant Budget'!DW565","v":"00"},{"$f":"'2-Grant Budget'!DX565","v":""},{"$f":"'2-Grant Budget'!DY565","v":""},{"$f":"'2-Grant Budget'!DZ565","v":1},{"$f":"'2-Grant Budget'!EA565","v":""},{"$f":"'2-Grant Budget'!EB565","v":1},{"$f":"'2-Grant Budget'!EC565","v":""},{"$f":"'2-Grant Budget'!ED565","v":0},{"$f":"'2-Grant Budget'!EE565","v":""},null,null,0]
[{"$f":"'2-Grant Budget'!DW566","v":"00"},{"$f":"'2-Grant Budget'!DX566","v":""},{"$f":"'2-Grant Budget'!DY566","v":""},{"$f":"'2-Grant Budget'!DZ566","v":1},{"$f":"'2-Grant Budget'!EA566","v":""},{"$f":"'2-Grant Budget'!EB566","v":1},{"$f":"'2-Grant Budget'!EC566","v":""},{"$f":"'2-Grant Budget'!ED566","v":0},{"$f":"'2-Grant Budget'!EE566","v":""},null,null,0]
[{"$f":"'2-Grant Budget'!DW567","v":"00"},{"$f":"'2-Grant Budget'!DX567","v":""},{"$f":"'2-Grant Budget'!DY567","v":""},{"$f":"'2-Grant Budget'!DZ567","v":1},{"$f":"'2-Grant Budget'!EA567","v":""},{"$f":"'2-Grant Budget'!EB567","v":1},{"$f":"'2-Grant Budget'!EC567","v":""},{"$f":"'2-Grant Budget'!ED567","v":0},{"$f":"'2-Grant Budget'!EE567","v":""},null,null,0]
[{"$f":"'2-Grant Budget'!DW568","v":"00"},{"$f":"'2-Grant Budget'!DX568","v":""},{"$f":"'2-Grant Budget'!DY568","v":""},{"$f":"'2-Grant Budget'!DZ568","v":1},{"$f":"'2-Grant Budget'!EA568","v":""},{"$f":"'2-Grant Budget'!EB568","v":1},{"$f":"'2-Grant Budget'!EC568","v":""},{"$f":"'2-Grant Budget'!ED568","v":0},{"$f":"'2-Grant Budget'!EE568","v":""},null,null,0]
[{"$f":"'2-Grant Budget'!DW569","v":"00"},{"$f":"'2-Grant Budget'!DX569","v":""},{"$f":"'2-Grant Budget'!DY569","v":""},{"$f":"'2-Grant Budget'!DZ569","v":1},{"$f":"'2-Grant Budget'!EA569","v":""},{"$f":"'2-Grant Budget'!EB569","v":1},{"$f":"'2-Grant Budget'!EC569","v":""},{"$f":"'2-Grant Budget'!ED569","v":0},{"$f":"'2-Grant Budget'!EE569","v":""},null,null,0]
[{"$f":"'2-Grant Budget'!DW570","v":"00"},{"$f":"'2-Grant Budget'!DX570","v":""},{"$f":"'2-Grant Budget'!DY570","v":""},{"$f":"'2-Grant Budget'!DZ570","v":1},{"$f":"'2-Grant Budget'!EA570","v":""},{"$f":"'2-Grant Budget'!EB570","v":1},{"$f":"'2-Grant Budget'!EC570","v":""},{"$f":"'2-Grant Budget'!ED570","v":0},{"$f":"'2-Grant Budget'!EE570","v":""},null,null,0]
[{"$f":"'2-Grant Budget'!DW571","v":"00"},{"$f":"'2-Grant Budget'!DX571","v":""},{"$f":"'2-Grant Budget'!DY571","v":""},{"$f":"'2-Grant Budget'!DZ571","v":1},{"$f":"'2-Grant Budget'!EA571","v":""},{"$f":"'2-Grant Budget'!EB571","v":1},{"$f":"'2-Grant Budget'!EC571","v":""},{"$f":"'2-Grant Budget'!ED571","v":0},{"$f":"'2-Grant Budget'!EE571","v":""},null,null,0]
[{"$f":"'2-Grant Budget'!DW572","v":"00"},{"$f":"'2-Grant Budget'!DX572","v":""},{"$f":"'2-Grant Budget'!DY572","v":""},{"$f":"'2-Grant Budget'!DZ572","v":1},{"$f":"'2-Grant Budget'!EA572","v":""},{"$f":"'2-Grant Budget'!EB572","v":1},{"$f":"'2-Grant Budget'!EC572","v":""},{"$f":"'2-Grant Budget'!ED572","v":0},{"$f":"'2-Grant Budget'!EE572","v":""},null,null,0]
[{"$f":"'2-Grant Budget'!DW573","v":"00"},{"$f":"'2-Grant Budget'!DX573","v":""},{"$f":"'2-Grant Budget'!DY573","v":""},{"$f":"'2-Grant Budget'!DZ573","v":1},{"$f":"'2-Grant Budget'!EA573","v":""},{"$f":"'2-Grant Budget'!EB573","v":1},{"$f":"'2-Grant Budget'!EC573","v":""},{"$f":"'2-Grant Budget'!ED573","v":0},{"$f":"'2-Grant Budget'!EE573","v":""},null,null,0]
[{"$f":"'2-Grant Budget'!DW574","v":"00"},{"$f":"'2-Grant Budget'!DX574","v":""},{"$f":"'2-Grant Budget'!DY574","v":""},{"$f":"'2-Grant Budget'!DZ574","v":1},{"$f":"'2-Grant Budget'!EA574","v":""},{"$f":"'2-Grant Budget'!EB574","v":1},{"$f":"'2-Grant Budget'!EC574","v":""},{"$f":"'2-Grant Budget'!ED574","v":0},{"$f":"'2-Grant Budget'!EE574","v":""},null,null,0]
[{"$f":"'2-Grant Budget'!DW575","v":"00"},{"$f":"'2-Grant Budget'!DX575","v":""},{"$f":"'2-Grant Budget'!DY575","v":""},{"$f":"'2-Grant Budget'!DZ575","v":1},{"$f":"'2-Grant Budget'!EA575","v":""},{"$f":"'2-Grant Budget'!EB575","v":1},{"$f":"'2-Grant Budget'!EC575","v":""},{"$f":"'2-Grant Budget'!ED575","v":0},{"$f":"'2-Grant Budget'!EE575","v":""},null,null,0]
[{"$f":"'2-Grant Budget'!DW576","v":"00"},{"$f":"'2-Grant Budget'!DX576","v":""},{"$f":"'2-Grant Budget'!DY576","v":""},{"$f":"'2-Grant Budget'!DZ576","v":1},{"$f":"'2-Grant Budget'!EA576","v":""},{"$f":"'2-Grant Budget'!EB576","v":1},{"$f":"'2-Grant Budget'!EC576","v":""},{"$f":"'2-Grant Budget'!ED576","v":0},{"$f":"'2-Grant Budget'!EE576","v":""},null,null,0]
[{"$f":"'2-Grant Budget'!DW577","v":"00"},{"$f":"'2-Grant Budget'!DX577","v":""},{"$f":"'2-Grant Budget'!DY577","v":""},{"$f":"'2-Grant Budget'!DZ577","v":1},{"$f":"'2-Grant Budget'!EA577","v":""},{"$f":"'2-Grant Budget'!EB577","v":1},{"$f":"'2-Grant Budget'!EC577","v":""},{"$f":"'2-Grant Budget'!ED577","v":0},{"$f":"'2-Grant Budget'!EE577","v":""},null,null,0]
[{"$f":"'2-Grant Budget'!DW578","v":"00"},{"$f":"'2-Grant Budget'!DX578","v":""},{"$f":"'2-Grant Budget'!DY578","v":""},{"$f":"'2-Grant Budget'!DZ578","v":1},{"$f":"'2-Grant Budget'!EA578","v":""},{"$f":"'2-Grant Budget'!EB578","v":1},{"$f":"'2-Grant Budget'!EC578","v":""},{"$f":"'2-Grant Budget'!ED578","v":0},{"$f":"'2-Grant Budget'!EE578","v":""},null,null,0]
[{"$f":"'2-Grant Budget'!DW579","v":"00"},{"$f":"'2-Grant Budget'!DX579","v":""},{"$f":"'2-Grant Budget'!DY579","v":""},{"$f":"'2-Grant Budget'!DZ579","v":1},{"$f":"'2-Grant Budget'!EA579","v":""},{"$f":"'2-Grant Budget'!EB579","v":1},{"$f":"'2-Grant Budget'!EC579","v":""},{"$f":"'2-Grant Budget'!ED579","v":0},{"$f":"'2-Grant Budget'!EE579","v":""},null,null,0]
[{"$f":"'2-Grant Budget'!DW580","v":"00"},{"$f":"'2-Grant Budget'!DX580","v":""},{"$f":"'2-Grant Budget'!DY580","v":""},{"$f":"'2-Grant Budget'!DZ580","v":1},{"$f":"'2-Grant Budget'!EA580","v":""},{"$f":"'2-Grant Budget'!EB580","v":1},{"$f":"'2-Grant Budget'!EC580","v":""},{"$f":"'2-Grant Budget'!ED580","v":0},{"$f":"'2-Grant Budget'!EE580","v":""},null,null,0]
[{"$f":"'2-Grant Budget'!DW581","v":"00"},{"$f":"'2-Grant Budget'!DX581","v":""},{"$f":"'2-Grant Budget'!DY581","v":""},{"$f":"'2-Grant Budget'!DZ581","v":1},{"$f":"'2-Grant Budget'!EA581","v":""},{"$f":"'2-Grant Budget'!EB581","v":1},{"$f":"'2-Grant Budget'!EC581","v":""},{"$f":"'2-Grant Budget'!ED581","v":0},{"$f":"'2-Grant Budget'!EE581","v":""},null,null,0]
[{"$f":"'2-Grant Budget'!DW582","v":"00"},{"$f":"'2-Grant Budget'!DX582","v":""},{"$f":"'2-Grant Budget'!DY582","v":""},{"$f":"'2-Grant Budget'!DZ582","v":1},{"$f":"'2-Grant Budget'!EA582","v":""},{"$f":"'2-Grant Budget'!EB582","v":1},{"$f":"'2-Grant Budget'!EC582","v":""},{"$f":"'2-Grant Budget'!ED582","v":0},{"$f":"'2-Grant Budget'!EE582","v":""},null,null,0]
[{"$f":"'2-Grant Budget'!DW583","v":"00"},{"$f":"'2-Grant Budget'!DX583","v":""},{"$f":"'2-Grant Budget'!DY583","v":""},{"$f":"'2-Grant Budget'!DZ583","v":1},{"$f":"'2-Grant Budget'!EA583","v":""},{"$f":"'2-Grant Budget'!EB583","v":1},{"$f":"'2-Grant Budget'!EC583","v":""},{"$f":"'2-Grant Budget'!ED583","v":0},{"$f":"'2-Grant Budget'!EE583","v":""},null,null,0]
[{"$f":"'2-Grant Budget'!DW584","v":"00"},{"$f":"'2-Grant Budget'!DX584","v":""},{"$f":"'2-Grant Budget'!DY584","v":""},{"$f":"'2-Grant Budget'!DZ584","v":1},{"$f":"'2-Grant Budget'!EA584","v":""},{"$f":"'2-Grant Budget'!EB584","v":1},{"$f":"'2-Grant Budget'!EC584","v":""},{"$f":"'2-Grant Budget'!ED584","v":0},{"$f":"'2-Grant Budget'!EE584","v":""},null,null,0]
[{"$f":"'2-Grant Budget'!DW585","v":"00"},{"$f":"'2-Grant Budget'!DX585","v":""},{"$f":"'2-Grant Budget'!DY585","v":""},{"$f":"'2-Grant Budget'!DZ585","v":1},{"$f":"'2-Grant Budget'!EA585","v":""},{"$f":"'2-Grant Budget'!EB585","v":1},{"$f":"'2-Grant Budget'!EC585","v":""},{"$f":"'2-Grant Budget'!ED585","v":0},{"$f":"'2-Grant Budget'!EE585","v":""},null,null,0]
[{"$f":"'2-Grant Budget'!DW586","v":"00"},{"$f":"'2-Grant Budget'!DX586","v":""},{"$f":"'2-Grant Budget'!DY586","v":""},{"$f":"'2-Grant Budget'!DZ586","v":1},{"$f":"'2-Grant Budget'!EA586","v":""},{"$f":"'2-Grant Budget'!EB586","v":1},{"$f":"'2-Grant Budget'!EC586","v":""},{"$f":"'2-Grant Budget'!ED586","v":0},{"$f":"'2-Grant Budget'!EE586","v":""},null,null,0]
[{"$f":"'2-Grant Budget'!DW587","v":"00"},{"$f":"'2-Grant Budget'!DX587","v":""},{"$f":"'2-Grant Budget'!DY587","v":""},{"$f":"'2-Grant Budget'!DZ587","v":1},{"$f":"'2-Grant Budget'!EA587","v":""},{"$f":"'2-Grant Budget'!EB587","v":1},{"$f":"'2-Grant Budget'!EC587","v":""},{"$f":"'2-Grant Budget'!ED587","v":0},{"$f":"'2-Grant Budget'!EE587","v":""},null,null,0]
[{"$f":"'2-Grant Budget'!DW588","v":"00"},{"$f":"'2-Grant Budget'!DX588","v":""},{"$f":"'2-Grant Budget'!DY588","v":""},{"$f":"'2-Grant Budget'!DZ588","v":1},{"$f":"'2-Grant Budget'!EA588","v":""},{"$f":"'2-Grant Budget'!EB588","v":1},{"$f":"'2-Grant Budget'!EC588","v":""},{"$f":"'2-Grant Budget'!ED588","v":0},{"$f":"'2-Grant Budget'!EE588","v":""},null,null,0]
[{"$f":"'2-Grant Budget'!DW589","v":"00"},{"$f":"'2-Grant Budget'!DX589","v":""},{"$f":"'2-Grant Budget'!DY589","v":""},{"$f":"'2-Grant Budget'!DZ589","v":1},{"$f":"'2-Grant Budget'!EA589","v":""},{"$f":"'2-Grant Budget'!EB589","v":1},{"$f":"'2-Grant Budget'!EC589","v":""},{"$f":"'2-Grant Budget'!ED589","v":0},{"$f":"'2-Grant Budget'!EE589","v":""},null,null,0]
[{"$f":"'2-Grant Budget'!DW590","v":"00"},{"$f":"'2-Grant Budget'!DX590","v":""},{"$f":"'2-Grant Budget'!DY590","v":""},{"$f":"'2-Grant Budget'!DZ590","v":1},{"$f":"'2-Grant Budget'!EA590","v":""},{"$f":"'2-Grant Budget'!EB590","v":1},{"$f":"'2-Grant Budget'!EC590","v":""},{"$f":"'2-Grant Budget'!ED590","v":0},{"$f":"'2-Grant Budget'!EE590","v":""},null,null,0]
[{"$f":"'2-Grant Budget'!DW591","v":"00"},{"$f":"'2-Grant Budget'!DX591","v":""},{"$f":"'2-Grant Budget'!DY591","v":""},{"$f":"'2-Grant Budget'!DZ591","v":1},{"$f":"'2-Grant Budget'!EA591","v":""},{"$f":"'2-Grant Budget'!EB591","v":1},{"$f":"'2-Grant Budget'!EC591","v":""},{"$f":"'2-Grant Budget'!ED591","v":0},{"$f":"'2-Grant Budget'!EE591","v":""},null,null,0]
[{"$f":"'2-Grant Budget'!DW592","v":"00"},{"$f":"'2-Grant Budget'!DX592","v":""},{"$f":"'2-Grant Budget'!DY592","v":""},{"$f":"'2-Grant Budget'!DZ592","v":1},{"$f":"'2-Grant Budget'!EA592","v":""},{"$f":"'2-Grant Budget'!EB592","v":1},{"$f":"'2-Grant Budget'!EC592","v":""},{"$f":"'2-Grant Budget'!ED592","v":0},{"$f":"'2-Grant Budget'!EE592","v":""},null,null,0]
[{"$f":"'2-Grant Budget'!DW593","v":"00"},{"$f":"'2-Grant Budget'!DX593","v":""},{"$f":"'2-Grant Budget'!DY593","v":""},{"$f":"'2-Grant Budget'!DZ593","v":1},{"$f":"'2-Grant Budget'!EA593","v":""},{"$f":"'2-Grant Budget'!EB593","v":1},{"$f":"'2-Grant Budget'!EC593","v":""},{"$f":"'2-Grant Budget'!ED593","v":0},{"$f":"'2-Grant Budget'!EE593","v":""},null,null,0]
[{"$f":"'2-Grant Budget'!DW594","v":"00"},{"$f":"'2-Grant Budget'!DX594","v":""},{"$f":"'2-Grant Budget'!DY594","v":""},{"$f":"'2-Grant Budget'!DZ594","v":1},{"$f":"'2-Grant Budget'!EA594","v":""},{"$f":"'2-Grant Budget'!EB594","v":1},{"$f":"'2-Grant Budget'!EC594","v":""},{"$f":"'2-Grant Budget'!ED594","v":0},{"$f":"'2-Grant Budget'!EE594","v":""},null,null,{"$f":"IF(LEN(B582)>0,1,0)","v":0}]
[{"$f":"'2-Grant Budget'!DW595","v":"00"},{"$f":"'2-Grant Budget'!DX595","v":""},{"$f":"'2-Grant Budget'!DY595","v":""},{"$f":"'2-Grant Budget'!DZ595","v":1},{"$f":"'2-Grant Budget'!EA595","v":""},{"$f":"'2-Grant Budget'!EB595","v":1},{"$f":"'2-Grant Budget'!EC595","v":""},{"$f":"'2-Grant Budget'!ED595","v":0},{"$f":"'2-Grant Budget'!EE595","v":""},null,null,0]
[{"$f":"'2-Grant Budget'!DW596","v":"00"},{"$f":"'2-Grant Budget'!DX596","v":""},{"$f":"'2-Grant Budget'!DY596","v":""},{"$f":"'2-Grant Budget'!DZ596","v":1},{"$f":"'2-Grant Budget'!EA596","v":""},{"$f":"'2-Grant Budget'!EB596","v":1},{"$f":"'2-Grant Budget'!EC596","v":""},{"$f":"'2-Grant Budget'!ED596","v":0},{"$f":"'2-Grant Budget'!EE596","v":""},null,null,0]
[{"$f":"'2-Grant Budget'!DW597","v":"00"},{"$f":"'2-Grant Budget'!DX597","v":""},{"$f":"'2-Grant Budget'!DY597","v":""},{"$f":"'2-Grant Budget'!DZ597","v":1},{"$f":"'2-Grant Budget'!EA597","v":""},{"$f":"'2-Grant Budget'!EB597","v":1},{"$f":"'2-Grant Budget'!EC597","v":""},{"$f":"'2-Grant Budget'!ED597","v":0},{"$f":"'2-Grant Budget'!EE597","v":""},null,null,0]
[{"$f":"'2-Grant Budget'!DW598","v":"00"},{"$f":"'2-Grant Budget'!DX598","v":""},{"$f":"'2-Grant Budget'!DY598","v":""},{"$f":"'2-Grant Budget'!DZ598","v":1},{"$f":"'2-Grant Budget'!EA598","v":""},{"$f":"'2-Grant Budget'!EB598","v":1},{"$f":"'2-Grant Budget'!EC598","v":""},{"$f":"'2-Grant Budget'!ED598","v":0},{"$f":"'2-Grant Budget'!EE598","v":""},null,null,0]
[{"$f":"'2-Grant Budget'!DW599","v":"00"},{"$f":"'2-Grant Budget'!DX599","v":""},{"$f":"'2-Grant Budget'!DY599","v":""},{"$f":"'2-Grant Budget'!DZ599","v":1},{"$f":"'2-Grant Budget'!EA599","v":""},{"$f":"'2-Grant Budget'!EB599","v":1},{"$f":"'2-Grant Budget'!EC599","v":""},{"$f":"'2-Grant Budget'!ED599","v":0},{"$f":"'2-Grant Budget'!EE599","v":""},null,null,0]
[{"$f":"'2-Grant Budget'!DW600","v":"00"},{"$f":"'2-Grant Budget'!DX600","v":""},{"$f":"'2-Grant Budget'!DY600","v":""},{"$f":"'2-Grant Budget'!DZ600","v":1},{"$f":"'2-Grant Budget'!EA600","v":""},{"$f":"'2-Grant Budget'!EB600","v":1},{"$f":"'2-Grant Budget'!EC600","v":""},{"$f":"'2-Grant Budget'!ED600","v":0},{"$f":"'2-Grant Budget'!EE600","v":""},null,null,0]
[{"$f":"'2-Grant Budget'!DW601","v":"00"},{"$f":"'2-Grant Budget'!DX601","v":""},{"$f":"'2-Grant Budget'!DY601","v":""},{"$f":"'2-Grant Budget'!DZ601","v":1},{"$f":"'2-Grant Budget'!EA601","v":""},{"$f":"'2-Grant Budget'!EB601","v":1},{"$f":"'2-Grant Budget'!EC601","v":""},{"$f":"'2-Grant Budget'!ED601","v":0},{"$f":"'2-Grant Budget'!EE601","v":""},null,null,0]

{"sheet":"GM04","index":13,"n_rows":26,"n_cols":9,"rows_kept":26,"cut":false,"hidden":true,"merged":[]}
[]
[null,null,null,null,null,null,null,"COUNT FOR MACRO",{"$f":"\nIF(SUM(I5:I26)=0,\"F5\",\n\"F\"&SUM(I5:I121)+4\n)","v":"F5"}]
[]
["Activity","FC","Code","CO","EIN","Due Date","Results from GM04.1",null,"COUNT FOR MACRO"]
[{"$f":"IF(C5=\"\",\"\",'1-Award Info'!$G$4)","v":""},{"$f":"IF(C5=\"\",\"\",\"A\")","v":""},{"$f":"IF('1-Award Info'!G37=\"\",\"\",'1-Award Info'!F37)","v":""},{"$f":"IF(C5=\"\",\"\",1)","v":""},{"$f":"IF(C5=\"\",\"\",IF(C5=\"FINAL BILLING\",100189780,100002368))","v":""},{"$f":"IF(C5=\"\",\"\",'1-Award Info'!G37)","v":""},null,null,{"$f":"IF(LEN(A5)>0,1,0)","v":0}]
[{"$f":"IF(C6=\"\",\"\",'1-Award Info'!$G$4)","v":""},{"$f":"IF(C6=\"\",\"\",\"A\")","v":""},{"$f":"IF('1-Award Info'!G38=\"\",\"\",'1-Award Info'!F38)","v":""},{"$f":"IF(C6=\"\",\"\",1)","v":""},{"$f":"IF(C6=\"\",\"\",IF(C6=\"FINAL BILLING\",100189780,100002368))","v":""},{"$f":"IF(C6=\"\",\"\",'1-Award Info'!G38)","v":""},null,null,{"$f":"IF(LEN(A6)>0,1,0)","v":0}]
[{"$f":"IF(C7=\"\",\"\",'1-Award Info'!$G$4)","v":""},"",{"$f":"IF('1-Award Info'!G39=\"\",\"\",'1-Award Info'!F39)","v":""},"","",{"$f":"IF(C7=\"\",\"\",'1-Award Info'!G39)","v":""},null,null,0]
[{"$f":"IF(C8=\"\",\"\",'1-Award Info'!$G$4)","v":""},"",{"$f":"IF('1-Award Info'!G40=\"\",\"\",'1-Award Info'!F40)","v":""},"","",{"$f":"IF(C8=\"\",\"\",'1-Award Info'!G40)","v":""},null,null,0]
[{"$f":"IF(C9=\"\",\"\",'1-Award Info'!$G$4)","v":""},"",{"$f":"IF('1-Award Info'!G41=\"\",\"\",'1-Award Info'!F41)","v":""},"","",{"$f":"IF(C9=\"\",\"\",'1-Award Info'!G41)","v":""},null,null,0]
[{"$f":"IF(C10=\"\",\"\",'1-Award Info'!$G$4)","v":""},"",{"$f":"IF('1-Award Info'!G42=\"\",\"\",'1-Award Info'!F42)","v":""},"","",{"$f":"IF(C10=\"\",\"\",'1-Award Info'!G42)","v":""},null,null,0]
[{"$f":"IF(C11=\"\",\"\",'1-Award Info'!$G$4)","v":""},"",{"$f":"IF('1-Award Info'!G43=\"\",\"\",'1-Award Info'!F43)","v":""},"","",{"$f":"IF(C11=\"\",\"\",'1-Award Info'!G43)","v":""},null,null,0]
[{"$f":"IF(C12=\"\",\"\",'1-Award Info'!$G$4)","v":""},"",{"$f":"IF('1-Award Info'!G44=\"\",\"\",'1-Award Info'!F44)","v":""},"","",{"$f":"IF(C12=\"\",\"\",'1-Award Info'!G44)","v":""},null,null,0]
[{"$f":"IF(C13=\"\",\"\",'1-Award Info'!$G$4)","v":""},"",{"$f":"IF('1-Award Info'!G45=\"\",\"\",'1-Award Info'!F45)","v":""},"","",{"$f":"IF(C13=\"\",\"\",'1-Award Info'!G45)","v":""},null,null,0]
[{"$f":"IF(C14=\"\",\"\",'1-Award Info'!$G$4)","v":""},"",{"$f":"IF('1-Award Info'!G46=\"\",\"\",'1-Award Info'!F46)","v":""},"","",{"$f":"IF(C14=\"\",\"\",'1-Award Info'!G46)","v":""},null,null,0]
[{"$f":"IF(C15=\"\",\"\",'1-Award Info'!$G$4)","v":""},"",{"$f":"IF('1-Award Info'!G47=\"\",\"\",'1-Award Info'!F47)","v":""},"","",{"$f":"IF(C15=\"\",\"\",'1-Award Info'!G47)","v":""},null,null,0]
[{"$f":"IF(C16=\"\",\"\",'1-Award Info'!$G$4)","v":""},"",{"$f":"IF('1-Award Info'!G48=\"\",\"\",'1-Award Info'!F48)","v":""},"","",{"$f":"IF(C16=\"\",\"\",'1-Award Info'!G48)","v":""},null,null,0]
[{"$f":"IF(C17=\"\",\"\",'1-Award Info'!$G$4)","v":""},"",{"$f":"IF('1-Award Info'!G49=\"\",\"\",'1-Award Info'!F49)","v":""},"","",{"$f":"IF(C17=\"\",\"\",'1-Award Info'!G49)","v":""},null,null,0]
[{"$f":"IF(C18=\"\",\"\",'1-Award Info'!$G$4)","v":""},"",{"$f":"IF('1-Award Info'!G50=\"\",\"\",'1-Award Info'!F50)","v":""},"","",{"$f":"IF(C18=\"\",\"\",'1-Award Info'!G50)","v":""},null,null,0]
[{"$f":"IF(C19=\"\",\"\",'1-Award Info'!$G$4)","v":""},"",{"$f":"IF('1-Award Info'!G51=\"\",\"\",'1-Award Info'!F51)","v":""},"","",{"$f":"IF(C19=\"\",\"\",'1-Award Info'!G51)","v":""},null,null,0]
[{"$f":"IF(C20=\"\",\"\",'1-Award Info'!$G$4)","v":""},"",{"$f":"IF('1-Award Info'!G52=\"\",\"\",'1-Award Info'!F52)","v":""},"","",{"$f":"IF(C20=\"\",\"\",'1-Award Info'!G52)","v":""},null,null,0]
[{"$f":"IF(C21=\"\",\"\",'1-Award Info'!$G$4)","v":""},"",{"$f":"IF('1-Award Info'!G53=\"\",\"\",'1-Award Info'!F53)","v":""},"","",{"$f":"IF(C21=\"\",\"\",'1-Award Info'!G53)","v":""},null,null,0]
[{"$f":"IF(C22=\"\",\"\",'1-Award Info'!$G$4)","v":""},"",{"$f":"IF('1-Award Info'!G54=\"\",\"\",'1-Award Info'!F54)","v":""},"","",{"$f":"IF(C22=\"\",\"\",'1-Award Info'!G54)","v":""},null,null,0]
[{"$f":"IF(C23=\"\",\"\",'1-Award Info'!$G$4)","v":""},"",{"$f":"IF('1-Award Info'!G55=\"\",\"\",'1-Award Info'!F55)","v":""},"","",{"$f":"IF(C23=\"\",\"\",'1-Award Info'!G55)","v":""},null,null,0]
[{"$f":"IF(C24=\"\",\"\",'1-Award Info'!$G$4)","v":""},"",{"$f":"IF('1-Award Info'!G56=\"\",\"\",'1-Award Info'!F56)","v":""},"","",{"$f":"IF(C24=\"\",\"\",'1-Award Info'!G56)","v":""},null,null,0]
[{"$f":"IF(C25=\"\",\"\",'1-Award Info'!$G$4)","v":""},"",{"$f":"IF('1-Award Info'!G57=\"\",\"\",'1-Award Info'!F57)","v":""},"","",{"$f":"IF(C25=\"\",\"\",'1-Award Info'!G57)","v":""},null,null,0]
[{"$f":"IF(C26=\"\",\"\",'1-Award Info'!$G$4)","v":""},"",{"$f":"IF('1-Award Info'!G58=\"\",\"\",'1-Award Info'!F58)","v":""},"","",{"$f":"IF(C26=\"\",\"\",'1-Award Info'!G58)","v":""},null,null,0]

{"sheet":"Tables","index":14,"n_rows":343,"n_cols":46,"rows_kept":343,"cut":false,"hidden":true,"merged":[]}
[]
[null,"CO",null,"Fiscal Years for budget",null,null,"Payment Details",null,"Location",null,"BR",null,"Account",null,"Sub Account",null,"MANAGED","TYPE",null,"REVENUE",null,null,null,"DR / AR",null,null,"CO22 GRANTORS",null,null,"CO26 GRANTORS",null,null,"Project Type",null,"BUS LINE TYPE",null,"Division","Fund Source",null,"Award Type",null,"Program",null,"Reporting Requirements",null,"SOFA Major Category"]
[null,22,null,1,"FY19",null,"Cost Reimbursement",null,"0150",null,"0150",null,"9110",null,0,null,"SCHOOL",30,null,"Federal Dept Rev Direct ","F404","40200","FEDERAL","Federal Dept Deferred Rev","F402",null,"CDE-TEAM NUTRITION UNIT","AR0011",null,"ACADEMY OF URBAN LEARNING","AR0069",null,"GM15",null,"ANNUAL",null,"FED DIRECT COMP","FEDERAL",null,"FORMULA",null,"0010",null,"AFR",null,"CORP FR N&C SRV"]
[null,26,null,2,{"$f":"\"FY\"&RIGHT($E$3,2)+D4-1","v":"FY20"},null,"Pre-Funded - Check Attached",null,"0158",null,"0158",null,"9111",null,1,null,"DEPT",40,null,"Federal Dept Rev Passed Thru CDE","F401","40000","FEDERAL","Federal Dept Deferred Rev","F402",null,"CITY & COUNTY OF DENVER","AR0005",null,"ACTION FOR HEALTHY KIDS","AR0070",null,"GM16",null,"NON-ROLLING",null,"FED FORMULA","FEDERAL",null,"TIER 1",null,"0018",null,"ANNUAL RPT 1",null,"DEPT-AGRICULTR"]
[null,null,null,3,{"$f":"\"FY\"&RIGHT($E$3,2)+D5-1","v":"FY21"},null,"Pre-Funded - Check will be sent later",null,"0159",null,"0159",null,"9130",null,2,null,null,null,null,"Federal Dept Rev Passed Thru Other","F403","40100","FEDERAL","Federal Dept Deferred Rev","F402",null,"CO DEPT OF LABOR & EMPLOYMENT","AR0277",null,"ALLIANCE FOR EXCELLENT EDUCATI","AR0284",null,"STATE FUNDING",null,"OPEN ENDED",null,"FED STATE COMP","FEDERAL",null,"TIER 2",null,"0020",null,"ANNUAL RPT 2",null,"DEPT-COMMERCE"]
[null,null,null,4,"FY22",null,null,null,"0161",null,"0162",null,"9150",null,3,null,null,null,null,"Federal School Rev Direct ","F304","40200","FEDERAL","Federal School Deferred Rev","F302",null,"CO DEPT OF PUBLIC SAFETY","AR0014",null,"AMERICAN FOREST FOUNDATION","AR0071",null,"FEES OR TUITION",null,"ROLLING",null,"STATE COMP","STATE",null,"TIER 3",null,"0030",null,"ANNUAL RPT 3",null,"DEPT-DEFENSE"]
[null,null,null,5,"FY23",null,null,null,"0162",null,"0165",null,9240,null,4,null,null,null,null,"Federal School Rev Passed Thru CDE","F301","40000","FEDERAL","Federal School Deferred Rev","F302",null,"CO DEPT OF TRANSPORTATION","AR0015",null,"ANADARKO PETROLEUM CORP","AR0074",null,null,null,null,null,"STATE NON-COMP","STATE",null,null,null,"0040",null,"ANNUAL RPT 4",null,"DEPT-EDUCATION"]
[null,null,null,null,null,null,null,null,"0163",null,"0166",null,"9300",null,5,null,null,null,null,"Federal School Rev Passed Thru Other","F303","40100","FEDERAL","Federal School Deferred Rev","F302",null,"CO DEPT PUBLIC HEALTH-ENVIRON","AR0013",null,"ANSCHUTZ FAMILY FOUNDATION","AR0075",null,null,null,null,null,"LOCAL-CITY&CNTY","LOCAL",null,null,null,"0050",null,"ANNUAL RPT 5",null,"DEPT-ENERGY"]
[null,null,null,null,null,null,null,null,"0165",null,"0170",null,"9313",null,6,null,null,null,null,"Local Dept Rev","L403","19900","CITY&COUNTY","Local Dept Deferred Rev","L404",null,"CO DEPT-HIGHER EDUCATION(CDHE)","AR0039",null,"ASIA SOCIETY","AR0076",null,null,null,null,null,"PRIVATE","PRIVATE",null,null,null,"0051",null,"APR",null,"DEPT-HEALTH &HS"]
[null,null,null,null,null,null,null,null,"0166",null,"0172",null,"9320",null,null,null,null,null,null,"Local School Rev","L303","19900","CITY&COUNTY","Local School Deferred Rev","L304",null,"COLORADO COMMUNITY COLLEGE SYS","AR0009",null,"ASSOC OF AMERICAN GEOGRAPHERS","AR0001",null,null,null,null,null,"DPS FOUNDATION","FOUNDATION",null,null,null,"0070",null,"BILLING DUE",null,"DEPT-HOMELAND S"]
[null,null,null,"Conditional Formating",null,null,null,null,"0168",null,"0174",null,9334,null,null,null,null,null,null,"Private Found Dept Rev","L401","19900","PRIVATE","Private Found Dept Defer Rev","L402",null,"COLORADO DEPT OF EDUCATION","AR0010",null,"ASSOCIATED GENERAL CONTRACTORS","AR0278",null,null,null,null,null,"DONATION",null,null,null,null,"0090",null,"BUDGET DEADLINE1",null,"DEPT-HOUSING&UD"]
[null,null,null,"Is Grant Active in:",null,null,null,null,"0170",null,"0177",null,9339,null,null,null,null,null,null,"Private Found School Rev","L301","19900","PRIVATE","Private Found School Defer Rev","L302",null,"COLORADO DEPT OF HUMAN SVS.","AR0012",null,"BASEBALL TOMORROW FUND","AR0302",null,null,null,null,null,"FEE BASED",null,null,null,null,"0091",null,"BUDGET DEADLINE2",null,"DEPT-INTER. BLM"]
[null,null,null,{"$f":"E3","v":"FY19"},{"$f":"IFERROR(\nIF(\nOR(\nDATEVALUE(TEXT('1-Award Info'!$C$21,\"MM/DD/YY\"))>DATEVALUE(\"06/30/\"&RIGHT(D13,2)),\nDATEVALUE(TEXT('1-Award Info'!$C$22,\"MM/DD/YY\"))<DATEVALUE(\"07/01/\"&RIGHT(D13,2)-1)\n),\n\"NO\",\n\"YES\"),\"NO\")","v":"NO"},null,null,null,"0172",null,"0178",null,9400,null,null,null,null,null,null,"State Dept Rev CDE","S401","30000","STATE","State Dept Deferred Rev","S402",null,"COLORADO PARKS AND WILDLIFE","AR0062",null,"BBVA COMPASS","AR0080",null,null,null,null,null,null,null,null,null,null,"0099",null,"BUDGET DEADLINE3",null,"DEPT-JUSTICE"]
[null,null,null,{"$f":"E4","v":"FY20"},{"$f":"IFERROR(\nIF(\nOR(\nDATEVALUE(TEXT('1-Award Info'!$C$21,\"MM/DD/YY\"))>DATEVALUE(\"06/30/\"&RIGHT(D14,2)),\nDATEVALUE(TEXT('1-Award Info'!$C$22,\"MM/DD/YY\"))<DATEVALUE(\"07/01/\"&RIGHT(D14,2)-1)\n),\n\"NO\",\n\"YES\"),\"NO\")","v":"NO"},null,null,null,"0174",null,"0179",null,9421,null,null,null,null,null,null,"State Dept Rev Other","S403","30100","STATE","State Dept Deferred Rev","S402",null,"COLORADO YOUTH MATTER","AR0111",null,"BILL & MELINDA GATES FOUND","AR0065",null,null,null,null,null,null,null,null,null,null,"0100",null,"BUDGET DEADLINE4",null,"DEPT-LABOR"]
[null,null,null,{"$f":"E5","v":"FY21"},{"$f":"IFERROR(\nIF(\nOR(\nDATEVALUE(TEXT('1-Award Info'!$C$21,\"MM/DD/YY\"))>DATEVALUE(\"06/30/\"&RIGHT(D15,2)),\nDATEVALUE(TEXT('1-Award Info'!$C$22,\"MM/DD/YY\"))<DATEVALUE(\"07/01/\"&RIGHT(D15,2)-1)\n),\n\"NO\",\n\"YES\"),\n\"NO\")","v":"NO"},null,null,null,"0175",null,"0185",null,9423,null,null,null,null,null,null,"State School Rev CDE","S301","30000","STATE","State School Deferred Rev","S302",null,"DEN MUSEUM-NATURE AND SCIENCE","AR0018",null,"BROAD FOUNDATION","AR0002",null,null,null,null,null,null,null,null,null,null,"0200",null,"BUDGET DEADLINE5",null,"DEPT-TRANSPORTN"]
[null,null,null,{"$f":"E6","v":"FY22"},{"$f":"IFERROR(\nIF(\nOR(\nDATEVALUE(TEXT('1-Award Info'!$C$21,\"MM/DD/YY\"))>DATEVALUE(\"06/30/\"&RIGHT(D16,2)),\nDATEVALUE(TEXT('1-Award Info'!$C$22,\"MM/DD/YY\"))<DATEVALUE(\"07/01/\"&RIGHT(D16,2)-1)\n),\n\"NO\",\n\"YES\"),\n\"NO\")","v":"NO"},null,null,null,"0176",null,"0186",null,9425,null,null,null,null,null,null,"State School Rev Other ","S303","30100","STATE","State School Deferred Rev","S302",null,"DENVER DEPT OF HUMAN SERVICES","AR0007",null,"BROMWELL COMMUNITY FUND","AR0082",null,null,null,null,null,null,null,null,null,null,"0300",null,"BUDGET DEADLINE6",null,"ENVIRMNTL PROT."]
[null,null,null,{"$f":"E7","v":"FY23"},{"$f":"IFERROR(\nIF(\nOR(\nDATEVALUE(TEXT('1-Award Info'!$C$21,\"MM/DD/YY\"))>DATEVALUE(\"06/30/\"&RIGHT(D17,2)),\nDATEVALUE(TEXT('1-Award Info'!$C$22,\"MM/DD/YY\"))<DATEVALUE(\"07/01/\"&RIGHT(D17,2)-1)\n),\n\"NO\",\n\"YES\"),\n\"NO\")","v":"NO"},null,null,null,"0177",null,"0188",null,9430,null,null,null,null,null,null,null,null,null,null,null,null,null,"DENVER HEALTH & HOSPITAL AUTH.","AR0017",null,"CAFETERIA MAKEOVER","AR0273",null,null,null,null,null,null,null,null,null,null,"0390",null,"BUDGET REVISION",null,"GRANT SET-ASIDE"]
[null,null,null,null,null,null,null,null,"0178",null,"0189",null,"9431",null,null,null,null,null,null,null,null,null,null,null,null,null,"DENVER OFFICE OF ECONOMIC DEV.","AR0019",null,"CAPTAIN PLANET FND - VOYA FIN","AR0083",null,null,null,null,null,null,null,null,null,null,"0500",null,"FINAL BILLING",null,"LIBRARY SC&TECH"]
[null,null,null,null,null,null,null,null,"0179",null,"0190",null,9439,null,null,null,null,null,null,null,null,null,null,null,null,null,"DENVER PUBLIC SAFETY YOUTH PRO","AR0292",null,"CAREERWISE COLORADO","AR0291",null,null,null,null,null,null,null,null,null,null,"0543",null,"FINAL BUDGET DUE",null,"NASA"]
[null,null,null,null,null,null,null,null,"0181",null,"0194",null,9441,null,null,null,null,null,null,null,null,null,null,null,null,null,"DPS FOUNDATION","AR0023",null,"CARRIE MORGRIDGE - SSF","AR0084",null,null,null,null,null,null,null,null,null,null,"0560",null,"FINAL REPORT",null,"NAT'L SCI FNDN"]
[null,null,null,null,null,null,null,null,"0182",null,"0195",null,9442,null,null,null,null,null,null,null,null,null,null,null,null,null,"GOVERNOR'S COMMISION-COMM SRVC","AR0027",null,"CARSON PTA","AR0085",null,null,null,null,null,null,null,null,null,null,"0566",null,"IFR",null,"OTHER"]
[null,null,null,null,null,null,null,null,"0183",null,"0197",null,9450,null,null,null,null,null,null,null,null,null,null,null,null,null,"GOVNR'S ENERGY OFF., ST OF CO.","AR0028",null,"CDE-TEAM NUTRITION UNIT","AR0011",null,null,null,null,null,null,null,null,null,null,"0600",null,"INTERIM RPT 1",null,"PROF DEV GRANTS"]
[null,null,null,null,null,null,null,null,"0184",null,"0199",null,9500,null,null,null,null,null,null,null,null,null,null,null,null,null,"HOUSING AUTHORITY OF THE CITY & ","AR0305",null,"CENTER FOR TEACHING QUALITY","AR0004",null,null,null,null,null,null,null,null,null,null,"0700",null,"INTERIM RPT 2"]
[null,null,null,null,null,null,null,null,"0185",null,"0201",null,9502,null,null,null,null,null,null,null,null,null,null,null,null,null,"JOBS FOR THE FUTURE","AR0067",null,"CENTURY LINK","AR0088",null,null,null,null,null,null,null,null,null,null,"0740",null,"INTERIM RPT 3"]
[null,null,null,null,null,null,null,null,"0186",null,"0203",null,"9510",null,null,null,null,null,null,null,null,null,null,null,null,null,"NATIONAL SCIENCE FOUNDATION","AR0056",null,"CENTURYLINK","AR0089",null,null,null,null,null,null,null,null,null,null,"0800",null,"INTERIM RPT 4"]
[null,null,null,null,null,null,null,null,"0187",null,"0205",null,9515,null,null,null,null,null,null,null,null,null,null,null,null,null,"OFFICE OF ECONOMIC DEVELOPMENT","AR0066",null,"CHALLENGE DENVER FUND","AR0090",null,null,null,null,null,null,null,null,null,null,"0830",null,"INTERIM RPT 5"]
[null,null,null,null,null,null,null,null,"0188",null,"0206",null,9519,null,null,null,null,null,null,null,null,null,null,null,null,null,"REGENTS OF UNIVERSITY OF COLO.","AR0045",null,"CHANCELLOR SUPP. ED SERV., LLC","AR0091",null,null,null,null,null,null,null,null,null,null,"0891",null,"IPR"]
[null,null,null,null,null,null,null,null,"0189",null,"0207",null,9520,null,null,null,null,null,null,null,null,null,null,null,null,null,"STATE OF COLORADO","AR0021",null,"CHILDREN'S LITERACY INITIATIVE","AR0281",null,null,null,null,null,null,null,null,null,null,"0921",null,"IPR 1"]
[null,null,null,null,null,null,null,null,"0190",null,"0208",null,9531,null,null,null,null,null,null,null,null,null,null,null,null,null,"THE GREENWAY FOUNDATION, INC.","AR0283",null,"CIGNA HEALTH CARE","AR0092",null,null,null,null,null,null,null,null,null,null,"0933",null,"IPR 2"]
[null,null,null,null,null,null,null,null,"0192",null,"0209",null,9533,null,null,null,null,null,null,null,null,null,null,null,null,null,"U S DEPARTMENT OF AGRICULTURE","AR0052",null,"CITY & COUNTY OF DENVER","AR0005",null,null,null,null,null,null,null,null,null,null,"1000",null,"IPR 3"]
[null,null,null,null,null,null,null,null,"0194",null,"0210",null,9540,null,null,null,null,null,null,null,null,null,null,null,null,null,"U S DEPARTMENT OF LABOR","AR0054",null,"CIVIC ENTERTAINMENT GROUP","AR0093",null,null,null,null,null,null,null,null,null,null,"1050",null,"IPR 4"]
[null,null,null,null,null,null,null,null,"0195",null,"0213",null,9550,null,null,null,null,null,null,null,null,null,null,null,null,null,"U S DEPT OF EDUCATION","AR0046",null,"COACH ACROSS AMERICA","AR0094",null,null,null,null,null,null,null,null,null,null,"1070",null,"PROGRESS REPORT"]
[null,null,null,null,null,null,null,null,"0196",null,"0214",null,9564,null,null,null,null,null,null,null,null,null,null,null,null,null,null,null,null,"COAPPP","AR0095",null,null,null,null,null,null,null,null,null,null,"1087"]
[null,null,null,null,null,null,null,null,"0197",null,"0215",null,9569,null,null,null,null,null,null,null,null,null,null,null,null,null,null,null,null,"COCA-COLA NORTH AMERICA","AR0096",null,null,null,null,null,null,null,null,null,null,"1090"]
[null,null,null,null,null,null,null,null,"0199",null,"0216",null,9580,null,null,null,null,null,null,null,null,null,null,null,null,null,null,null,null,"COLLEGE BOARD","AR0008",null,null,null,null,null,null,null,null,null,null,"1100"]
[null,null,null,null,null,null,null,null,"0201",null,"0217",null,9581,null,null,null,null,null,null,null,null,null,null,null,null,null,null,null,null,"COLLEGE FOR EVERY STUDENT","AR0097",null,null,null,null,null,null,null,null,null,null,"1200"]
[null,null,null,null,null,null,null,null,"0203",null,"0218",null,9582,null,null,null,null,null,null,null,null,null,null,null,null,null,null,null,null,"COLORADO DEPT OF EDUCATION","AR0010",null,null,null,null,null,null,null,null,null,null,"1240"]
[null,null,null,null,null,null,null,null,"0205",null,"0219",null,9583,null,null,null,null,null,null,null,null,null,null,null,null,null,null,null,null,"COLORADO DIVISION OF WILDLIFE","AR0101",null,null,null,null,null,null,null,null,null,null,"1250"]
[null,null,null,null,null,null,null,null,"0206",null,"0220",null,9584,null,null,null,null,null,null,null,null,null,null,null,null,null,null,null,null,"COLORADO EDUCATION INITIATIVE","AR0064",null,null,null,null,null,null,null,null,null,null,"1300"]
[null,null,null,null,null,null,null,null,"0207",null,"0221",null,9585,null,null,null,null,null,null,null,null,null,null,null,null,null,null,null,null,"COLORADO GARDEN FOUNDATION","AR0290",null,null,null,null,null,null,null,null,null,null,"1500"]
[null,null,null,null,null,null,null,null,"0208",null,"0222",null,9590,null,null,null,null,null,null,null,null,null,null,null,null,null,null,null,null,"COLORADO GOVERNOR'S OFFICE","AR0102",null,null,null,null,null,null,null,null,null,null,"1600"]
[null,null,null,null,null,null,null,null,"0209",null,"0223",null,9594,null,null,null,null,null,null,null,null,null,null,null,null,null,null,null,null,"COLORADO HEALTH FOUNDATION","AR0103",null,null,null,null,null,null,null,null,null,null,"1690"]
[null,null,null,null,null,null,null,null,"0210",null,"0224",null,9598,null,null,null,null,null,null,null,null,null,null,null,null,null,null,null,null,"COLORADO LEGACY FOUNDATION","AR0104",null,null,null,null,null,null,null,null,null,null,"1700"]
[null,null,null,null,null,null,null,null,"0211",null,"0225",null,9600,null,null,null,null,null,null,null,null,null,null,null,null,null,null,null,null,"COLORADO PARKING ASSOCIATION","AR0106",null,null,null,null,null,null,null,null,null,null,"1704"]
[null,null,null,null,null,null,null,null,"0212",null,"0226",null,"9610",null,null,null,null,null,null,null,null,null,null,null,null,null,null,null,null,"COLORADO YOUTH MATTER","AR0111",null,null,null,null,null,null,null,null,null,null,"1716"]
[null,null,null,null,null,null,null,null,"0213",null,"0227",null,9611,null,null,null,null,null,null,null,null,null,null,null,null,null,null,null,null,"COMMON SENSE MEDIA","AR0113",null,null,null,null,null,null,null,null,null,null,"1720"]
[null,null,null,null,null,null,null,null,"0214",null,"0228",null,9612,null,null,null,null,null,null,null,null,null,null,null,null,null,null,null,null,"CONSULADO GENERAL DE MEXICO","AR0294",null,null,null,null,null,null,null,null,null,null,"1730"]
[null,null,null,null,null,null,null,null,"0215",null,"0229",null,9614,null,null,null,null,null,null,null,null,null,null,null,null,null,null,null,null,"DELL COMPUTERS","AR0116",null,null,null,null,null,null,null,null,null,null,"1734"]
[null,null,null,null,null,null,null,null,"0216",null,"0230",null,9615,null,null,null,null,null,null,null,null,null,null,null,null,null,null,null,null,"DEN MUSEUM-NATURE AND SCIENCE","AR0018",null,null,null,null,null,null,null,null,null,null,"1740"]
[null,null,null,null,null,null,null,null,"0217",null,"0231",null,9616,null,null,null,null,null,null,null,null,null,null,null,null,null,null,null,null,"DENVER ART MUSEUM","AR0117",null,null,null,null,null,null,null,null,null,null,"1750"]
[null,null,null,null,null,null,null,null,"0218",null,"0235",null,9617,null,null,null,null,null,null,null,null,null,null,null,null,null,null,null,null,"DENVER CHERRY CREEK ROTARY","AR0118",null,null,null,null,null,null,null,null,null,null,"1770"]
[null,null,null,null,null,null,null,null,"0219",null,"0236",null,9618,null,null,null,null,null,null,null,null,null,null,null,null,null,null,null,null,"DENVER FOUNDATION","AR0119",null,null,null,null,null,null,null,null,null,null,"1771"]
[null,null,null,null,null,null,null,null,"0220",null,"0237",null,9619,null,null,null,null,null,null,null,null,null,null,null,null,null,null,null,null,"DENVER HEALTH","AR0120",null,null,null,null,null,null,null,null,null,null,"1790"]
[null,null,null,null,null,null,null,null,"0221",null,"0238",null,9626,null,null,null,null,null,null,null,null,null,null,null,null,null,null,null,null,"DENVER HEALTH & HOSPITAL AUTH.","AR0017",null,null,null,null,null,null,null,null,null,null,"1800"]
[null,null,null,null,null,null,null,null,"0222",null,"0240",null,9630,null,null,null,null,null,null,null,null,null,null,null,null,null,null,null,null,"DENVER KIDS INC.","AR0040",null,null,null,null,null,null,null,null,null,null,"1839"]
[null,null,null,null,null,null,null,null,"0223",null,"0241",null,9640,null,null,null,null,null,null,null,null,null,null,null,null,null,null,null,null,"DENVER POST CHARITIES","AR0122",null,null,null,null,null,null,null,null,null,null,"1869"]
[null,null,null,null,null,null,null,null,"0224",null,"0242",null,9650,null,null,null,null,null,null,null,null,null,null,null,null,null,null,null,null,"DENVER PUBLIC HEALTH","AR0020",null,null,null,null,null,null,null,null,null,null,"1900"]
[null,null,null,null,null,null,null,null,"0225",null,"0243",null,9653,null,null,null,null,null,null,null,null,null,null,null,null,null,null,null,null,"DENVER STUDENT VOICES","AR0124",null,null,null,null,null,null,null,null,null,null,"1901"]
[null,null,null,null,null,null,null,null,"0226",null,"0244",null,9655,null,null,null,null,null,null,null,null,null,null,null,null,null,null,null,null,"DENVER UNIVERSITY","AR0125",null,null,null,null,null,null,null,null,null,null,"1904"]
[null,null,null,null,null,null,null,null,"0227",null,"0245",null,9656,null,null,null,null,null,null,null,null,null,null,null,null,null,null,null,null,"DICKENSHEET & ASSOCIATES","AR0126",null,null,null,null,null,null,null,null,null,null,"1905"]
[null,null,null,null,null,null,null,null,"0228",null,"0246",null,9657,null,null,null,null,null,null,null,null,null,null,null,null,null,null,null,null,"DIPLOMA PLUS","AR0127",null,null,null,null,null,null,null,null,null,null,"1910"]
[null,null,null,null,null,null,null,null,"0229",null,"0247",null,9690,null,null,null,null,null,null,null,null,null,null,null,null,null,null,null,null,"DISNEY WORLDWIDE SERV., INC.","AR0128",null,null,null,null,null,null,null,null,null,null,"2100"]
[null,null,null,null,null,null,null,null,"0230",null,"0248",null,9700,null,null,null,null,null,null,null,null,null,null,null,null,null,null,null,null,"DONATIONS","AR0130",null,null,null,null,null,null,null,null,null,null,"2110"]
[null,null,null,null,null,null,null,null,"0231",null,"0249",null,9723,null,null,null,null,null,null,null,null,null,null,null,null,null,null,null,null,"DONNELL-KAY FOUNDATION","AR0131",null,null,null,null,null,null,null,null,null,null,"2113"]
[null,null,null,null,null,null,null,null,"0235",null,"0250",null,9730,null,null,null,null,null,null,null,null,null,null,null,null,null,null,null,null,"DPS FOUNDATION","AR0023",null,null,null,null,null,null,null,null,null,null,"2114"]
[null,null,null,null,null,null,null,null,"0236",null,"0251",null,9731,null,null,null,null,null,null,null,null,null,null,null,null,null,null,null,null,"EDISON PTA","AR0133",null,null,null,null,null,null,null,null,null,null,"2120"]
[null,null,null,null,null,null,null,null,"0237",null,"0252",null,9732,null,null,null,null,null,null,null,null,null,null,null,null,null,null,null,null,"EDUCATIONAL THEATRE ASSOCIATIO","AR0296",null,null,null,null,null,null,null,null,null,null,"2122"]
[null,null,null,null,null,null,null,null,"0238",null,"0253",null,9733,null,null,null,null,null,null,null,null,null,null,null,null,null,null,null,null,"EGOS FOUNDATION","AR0024",null,null,null,null,null,null,null,null,null,null,"2124"]
[null,null,null,null,null,null,null,null,"0240",null,"0254",null,9734,null,null,null,null,null,null,null,null,null,null,null,null,null,null,null,null,"EL POMAR FOUNDATION","AR0134",null,null,null,null,null,null,null,null,null,null,"2125"]
[null,null,null,null,null,null,null,null,"0241",null,"0255",null,9735,null,null,null,null,null,null,null,null,null,null,null,null,null,null,null,null,"ENCANA","AR0135",null,null,null,null,null,null,null,null,null,null,"2130"]
[null,null,null,null,null,null,null,null,"0242",null,"0256",null,9800,null,null,null,null,null,null,null,null,null,null,null,null,null,null,null,null,"FED-CORP. FOR NAT'L&COMM SERV","AR0137",null,null,null,null,null,null,null,null,null,null,"2132"]
[null,null,null,null,null,null,null,null,"0243",null,"0257",null,9810,null,null,null,null,null,null,null,null,null,null,null,null,null,null,null,null,"FEES AND/OR TUITION","AR0138",null,null,null,null,null,null,null,null,null,null,"2134"]
[null,null,null,null,null,null,null,null,"0244",null,"0258",null,9840,null,null,null,null,null,null,null,null,null,null,null,null,null,null,null,null,"FIDELITY CHARITABLE GIFT FUND","AR0139",null,null,null,null,null,null,null,null,null,null,"2139"]
[null,null,null,null,null,null,null,null,"0246",null,"0259",null,9850,null,null,null,null,null,null,null,null,null,null,null,null,null,null,null,null,"FND FOR EDUCATIONAL EXCELLENCE","AR0026",null,null,null,null,null,null,null,null,null,null,"2140"]
[null,null,null,null,null,null,null,null,"0248",null,"0260",null,9851,null,null,null,null,null,null,null,null,null,null,null,null,null,null,null,null,"FOUNDATIONS FOR GREAT SCHOOLS","AR0140",null,null,null,null,null,null,null,null,null,null,"2141"]
[null,null,null,null,null,null,null,null,"0249",null,"0261",null,9853,null,null,null,null,null,null,null,null,null,null,null,null,null,null,null,null,"FRESH FRUITS OF WASHINGTON","AR0279",null,null,null,null,null,null,null,null,null,null,"2191"]
[null,null,null,null,null,null,null,null,"0250",null,"0262",null,9869,null,null,null,null,null,null,null,null,null,null,null,null,null,null,null,null,"FRIENDS OF COLE","AR0141",null,null,null,null,null,null,null,null,null,null,"2200"]
[null,null,null,null,null,null,null,null,"0251",null,"0263",null,9870,null,null,null,null,null,null,null,null,null,null,null,null,null,null,null,null,"FRIENDS OF EDISON","AR0142",null,null,null,null,null,null,null,null,null,null,"2210"]
[null,null,null,null,null,null,null,null,"0252",null,"0264",null,9871,null,null,null,null,null,null,null,null,null,null,null,null,null,null,null,null,"FRONT RANGE ORGANIC GROWERS","AR0146",null,null,null,null,null,null,null,null,null,null,"2212"]
[null,null,null,null,null,null,null,null,"0253",null,"0269",null,9890,null,null,null,null,null,null,null,null,null,null,null,null,null,null,null,null,"FRONTIER AIRLINES","AR0147",null,null,null,null,null,null,null,null,null,null,"2213"]
[null,null,null,null,null,null,null,null,"0254",null,"0270",null,null,null,null,null,null,null,null,null,null,null,null,null,null,null,null,null,null,"GATES TENNIS CENTER","AR0149",null,null,null,null,null,null,null,null,null,null,"2214"]
[null,null,null,null,null,null,null,null,"0257",null,"0271",null,null,null,null,null,null,null,null,null,null,null,null,null,null,null,null,null,null,"GILL FOUNDATION","AR0150",null,null,null,null,null,null,null,null,null,null,"2215"]
[null,null,null,null,null,null,null,null,"0258",null,"0274",null,null,null,null,null,null,null,null,null,null,null,null,null,null,null,null,null,null,"GLOBAL TECH RESOURCES, INC.","AR0151",null,null,null,null,null,null,null,null,null,null,"2217"]
[null,null,null,null,null,null,null,null,"0259",null,"0275",null,null,null,null,null,null,null,null,null,null,null,null,null,null,null,null,null,null,"GOOGLE, INC.","AR0152",null,null,null,null,null,null,null,null,null,null,"2219"]
[null,null,null,null,null,null,null,null,"0260",null,"0276",null,null,null,null,null,null,null,null,null,null,null,null,null,null,null,null,null,null,"GOVNR'S ENERGY OFF., ST OF CO.","AR0028",null,null,null,null,null,null,null,null,null,null,"2220"]
[null,null,null,null,null,null,null,null,"0261",null,"0277",null,null,null,null,null,null,null,null,null,null,null,null,null,null,null,null,null,null,"GREAT-WEST LIFE & ANNUITY INS.","AR0154",null,null,null,null,null,null,null,null,null,null,"2222"]
[null,null,null,null,null,null,null,null,"0262",null,"0278",null,null,null,null,null,null,null,null,null,null,null,null,null,null,null,null,null,null,"GREEN UP OUR SCHOOLS","AR0272",null,null,null,null,null,null,null,null,null,null,"2225"]
[null,null,null,null,null,null,null,null,"0263",null,"0279",null,null,null,null,null,null,null,null,null,null,null,null,null,null,null,null,null,null,"HACH SCIENTIFIC FOUNDATION","AR0155",null,null,null,null,null,null,null,null,null,null,"2240"]
[null,null,null,null,null,null,null,null,"0264",null,"0280",null,null,null,null,null,null,null,null,null,null,null,null,null,null,null,null,null,null,"HARRY CHAPIN FOUNDATION","AR0293",null,null,null,null,null,null,null,null,null,null,"2300"]
[null,null,null,null,null,null,null,null,"0266",null,"0281",null,null,null,null,null,null,null,null,null,null,null,null,null,null,null,null,null,null,"HCPF/CMS","AR0156",null,null,null,null,null,null,null,null,null,null,"2320"]
[null,null,null,null,null,null,null,null,"0269",null,"0282",null,null,null,null,null,null,null,null,null,null,null,null,null,null,null,null,null,null,"HYATT HOTELS FOUNDATION","AR0157",null,null,null,null,null,null,null,null,null,null,"2321"]
[null,null,null,null,null,null,null,null,"0270",null,"0283",null,null,null,null,null,null,null,null,null,null,null,null,null,null,null,null,null,null,"I.A. O'SHAUGHNESSY FOUNDATION","AR0271",null,null,null,null,null,null,null,null,null,null,"2322"]
[null,null,null,null,null,null,null,null,"0271",null,"0284",null,null,null,null,null,null,null,null,null,null,null,null,null,null,null,null,null,null,"IBM CORPORATION","AR0158",null,null,null,null,null,null,null,null,null,null,"2400"]
[null,null,null,null,null,null,null,null,"0274",null,"0285",null,null,null,null,null,null,null,null,null,null,null,null,null,null,null,null,null,null,"IKON","AR0159",null,null,null,null,null,null,null,null,null,null,"2410"]
[null,null,null,null,null,null,null,null,"0275",null,"0287",null,null,null,null,null,null,null,null,null,null,null,null,null,null,null,null,null,null,"IMA FOUNDATION","AR0160",null,null,null,null,null,null,null,null,null,null,"2500"]
[null,null,null,null,null,null,null,null,"0276",null,"0288",null,null,null,null,null,null,null,null,null,null,null,null,null,null,null,null,null,null,"ING","AR0162",null,null,null,null,null,null,null,null,null,null,"2510"]
[null,null,null,null,null,null,null,null,"0277",null,"0289",null,null,null,null,null,null,null,null,null,null,null,null,null,null,null,null,null,null,"INNOVATIVE EDUCATION COLORADO","AR0269",null,null,null,null,null,null,null,null,null,null,"2513"]
[null,null,null,null,null,null,null,null,"0278",null,"0290",null,null,null,null,null,null,null,null,null,null,null,null,null,null,null,null,null,null,"INVEST IN KIDS","AR0030",null,null,null,null,null,null,null,null,null,null,"2516"]
[null,null,null,null,null,null,null,null,"0279",null,"0291",null,null,null,null,null,null,null,null,null,null,null,null,null,null,null,null,null,null,"JARED POLIS FOUNDATION","AR0164",null,null,null,null,null,null,null,null,null,null,"2520"]
[null,null,null,null,null,null,null,null,"0280",null,"0292",null,null,null,null,null,null,null,null,null,null,null,null,null,null,null,null,null,null,"JFM FOUNDATION","AR0165",null,null,null,null,null,null,null,null,null,null,"2600"]
[null,null,null,null,null,null,null,null,"0281",null,"0293",null,null,null,null,null,null,null,null,null,null,null,null,null,null,null,null,null,null,"JORDAN FUNDAMENTALS","AR0166",null,null,null,null,null,null,null,null,null,null,"2620"]
[null,null,null,null,null,null,null,null,"0282",null,"0294",null,null,null,null,null,null,null,null,null,null,null,null,null,null,null,null,null,null,"JP MORGAN CHASE FOUNDATION","AR0167",null,null,null,null,null,null,null,null,null,null,"2622"]
[null,null,null,null,null,null,null,null,"0283",null,"0295",null,null,null,null,null,null,null,null,null,null,null,null,null,null,null,null,null,null,"KAISER PERMANENTE","AR0168",null,null,null,null,null,null,null,null,null,null,"2660"]
[null,null,null,null,null,null,null,null,"0284",null,"0296",null,null,null,null,null,null,null,null,null,null,null,null,null,null,null,null,null,null,"KENNETH KING FOUNDATION","AR0286",null,null,null,null,null,null,null,null,null,null,"2661"]
[null,null,null,null,null,null,null,null,"0285",null,"0297",null,null,null,null,null,null,null,null,null,null,null,null,null,null,null,null,null,null,"LAURA BUSH FOUNDATION","AR0170",null,null,null,null,null,null,null,null,null,null,"2790"]
[null,null,null,null,null,null,null,null,"0287",null,"0298",null,null,null,null,null,null,null,null,null,null,null,null,null,null,null,null,null,null,"LINDA ALVARADO","AR0171",null,null,null,null,null,null,null,null,null,null,"2800"]
[null,null,null,null,null,null,null,null,"0289",null,"0299",null,null,null,null,null,null,null,null,null,null,null,null,null,null,null,null,null,null,"LITERACY COALITION OF COLORADO","AR0031",null,null,null,null,null,null,null,null,null,null,"2810"]
[null,null,null,null,null,null,null,null,"0290",null,"0301",null,null,null,null,null,null,null,null,null,null,null,null,null,null,null,null,null,null,"LIVE WELL CO AND CO HEALTH FND","AR0173",null,null,null,null,null,null,null,null,null,null,"2814"]
[null,null,null,null,null,null,null,null,"0292",null,"0308",null,null,null,null,null,null,null,null,null,null,null,null,null,null,null,null,null,null,"LIVEWELL WESTWOOD","AR0174",null,null,null,null,null,null,null,null,null,null,"2820"]
[null,null,null,null,null,null,null,null,"0293",null,"0311",null,null,null,null,null,null,null,null,null,null,null,null,null,null,null,null,null,null,"LOUDEN FAMILY FOUNDATION","AR0175",null,null,null,null,null,null,null,null,null,null,"2823"]
[null,null,null,null,null,null,null,null,"0294",null,"0338",null,null,null,null,null,null,null,null,null,null,null,null,null,null,null,null,null,null,"LOWE'S CHARITABLE AND EDAL FND","AR0176",null,null,null,null,null,null,null,null,null,null,"2830"]
[null,null,null,null,null,null,null,null,"0295",null,"0384",null,null,null,null,null,null,null,null,null,null,null,null,null,null,null,null,null,null,"LUTHERAN REFUGEE & ASYLEE PROG","AR0177",null,null,null,null,null,null,null,null,null,null,"2833"]
[null,null,null,null,null,null,null,null,"0296",null,"0385",null,null,null,null,null,null,null,null,null,null,null,null,null,null,null,null,null,null,"MARGULF FOUNDATION","AR0178",null,null,null,null,null,null,null,null,null,null,"2840"]
[null,null,null,null,null,null,null,null,"0297",null,"0389",null,null,null,null,null,null,null,null,null,null,null,null,null,null,null,null,null,null,"MCCARTHEY-DRESSMAN ED FND","AR0180",null,null,null,null,null,null,null,null,null,null,"2900"]
[null,null,null,null,null,null,null,null,"0298",null,"0395",null,null,null,null,null,null,null,null,null,null,null,null,null,null,null,null,null,null,"MELANIE GRANT","AR0181",null,null,null,null,null,null,null,null,null,null,"3000"]
[null,null,null,null,null,null,null,null,"0299",null,"0405",null,null,null,null,null,null,null,null,null,null,null,null,null,null,null,null,null,null,"MERRION FOUNDATION","AR0182",null,null,null,null,null,null,null,null,null,null,"3130"]
[null,null,null,null,null,null,null,null,"0301",null,"0406",null,null,null,null,null,null,null,null,null,null,null,null,null,null,null,null,null,null,"METRO STATE UNIV.","AR0032",null,null,null,null,null,null,null,null,null,null,"3300"]
[null,null,null,null,null,null,null,null,"0305",null,"0407",null,null,null,null,null,null,null,null,null,null,null,null,null,null,null,null,null,null,"MICHAEL & SUSAN DELL FOUNDATIO","AR0033",null,null,null,null,null,null,null,null,null,null,"3410"]
[null,null,null,null,null,null,null,null,"0306",null,"0408",null,null,null,null,null,null,null,null,null,null,null,null,null,null,null,null,null,null,"MILE HIGH UNITED WAY","AR0034",null,null,null,null,null,null,null,null,null,null,"3411"]
[null,null,null,null,null,null,null,null,"0308",null,"0409",null,null,null,null,null,null,null,null,null,null,null,null,null,null,null,null,null,null,"MILLER COORS FOUNDATION","AR0183",null,null,null,null,null,null,null,null,null,null,"3412"]
[null,null,null,null,null,null,null,null,"0309",null,"0410",null,null,null,null,null,null,null,null,null,null,null,null,null,null,null,null,null,null,"MOP","AR0184",null,null,null,null,null,null,null,null,null,null,"3413"]
[null,null,null,null,null,null,null,null,"0310",null,"0411",null,null,null,null,null,null,null,null,null,null,null,null,null,null,null,null,null,null,"MORGRIDGE FAMILY FOUNDATION","AR0035",null,null,null,null,null,null,null,null,null,null,"3414"]
[null,null,null,null,null,null,null,null,"0311",null,"0412",null,null,null,null,null,null,null,null,null,null,null,null,null,null,null,null,null,null,"MR. JACK R. THOMPSON","AR0185",null,null,null,null,null,null,null,null,null,null,"3420"]
[null,null,null,null,null,null,null,null,"0317",null,"0413",null,null,null,null,null,null,null,null,null,null,null,null,null,null,null,null,null,null,"MULTIPLE","AR0186",null,null,null,null,null,null,null,null,null,null,"3421"]
[null,null,null,null,null,null,null,null,"0328",null,"0415",null,null,null,null,null,null,null,null,null,null,null,null,null,null,null,null,null,null,"NAESP FOUNDATION","AR0187",null,null,null,null,null,null,null,null,null,null,"3422"]
[null,null,null,null,null,null,null,null,"0330",null,"0416",null,null,null,null,null,null,null,null,null,null,null,null,null,null,null,null,null,null,"NATIONAL AUDUBON SOCIETY","AR0036",null,null,null,null,null,null,null,null,null,null,"3424"]
[null,null,null,null,null,null,null,null,"0331",null,"0418",null,null,null,null,null,null,null,null,null,null,null,null,null,null,null,null,null,null,"NATIONAL CENTER FOR WOMEN & IN","AR0285",null,null,null,null,null,null,null,null,null,null,"3427"]
[null,null,null,null,null,null,null,null,"0333",null,"0419",null,null,null,null,null,null,null,null,null,null,null,null,null,null,null,null,null,null,"NATIONAL GARDENING ASSOC, INC.","AR0190",null,null,null,null,null,null,null,null,null,null,"3429"]
[null,null,null,null,null,null,null,null,"0338",null,"0423",null,null,null,null,null,null,null,null,null,null,null,null,null,null,null,null,null,null,"NATIONAL JEWISH HEALTH","AR0059",null,null,null,null,null,null,null,null,null,null,"3431"]
[null,null,null,null,null,null,null,null,"0339",null,"0424",null,null,null,null,null,null,null,null,null,null,null,null,null,null,null,null,null,null,"NATIONAL PARK FOUNDATION","AR0192",null,null,null,null,null,null,null,null,null,null,"3432"]
[null,null,null,null,null,null,null,null,"0383",null,"0431",null,null,null,null,null,null,null,null,null,null,null,null,null,null,null,null,null,null,"NATIONAL WILDLIFE FEDERATION","AR0194",null,null,null,null,null,null,null,null,null,null,"3433"]
[null,null,null,null,null,null,null,null,"0384",null,"0442",null,null,null,null,null,null,null,null,null,null,null,null,null,null,null,null,null,null,"NATL CTR FOR TEACHER RESIDENCY","AR0274",null,null,null,null,null,null,null,null,null,null,"3434"]
[null,null,null,null,null,null,null,null,"0385",null,"0448",null,null,null,null,null,null,null,null,null,null,null,null,null,null,null,null,null,null,"NEIGHBORHOOD RESOURCE CENTER","AR0196",null,null,null,null,null,null,null,null,null,null,"3437"]
[null,null,null,null,null,null,null,null,"0386",null,"0450",null,null,null,null,null,null,null,null,null,null,null,null,null,null,null,null,null,null,"NEW VENTURE FUND","AR0282",null,null,null,null,null,null,null,null,null,null,"3438"]
[null,null,null,null,null,null,null,null,"0387",null,"0451",null,null,null,null,null,null,null,null,null,null,null,null,null,null,null,null,null,null,"NOBLE ENERGY","AR0198",null,null,null,null,null,null,null,null,null,null,"3439"]
[null,null,null,null,null,null,null,null,"0388",null,"0452",null,null,null,null,null,null,null,null,null,null,null,null,null,null,null,null,null,null,"NSTA","AR0199",null,null,null,null,null,null,null,null,null,null,"3442"]
[null,null,null,null,null,null,null,null,"0389",null,"0453",null,null,null,null,null,null,null,null,null,null,null,null,null,null,null,null,null,null,"NW COALITION 4 BETTER SCHOOLS","AR0200",null,null,null,null,null,null,null,null,null,null,"3443"]
[null,null,null,null,null,null,null,null,"0390",null,"0455",null,null,null,null,null,null,null,null,null,null,null,null,null,null,null,null,null,null,"PADRES & JOVENES UNIDOS","AR0295",null,null,null,null,null,null,null,null,null,null,"3444"]
[null,null,null,null,null,null,null,null,"0392",null,"0456",null,null,null,null,null,null,null,null,null,null,null,null,null,null,null,null,null,null,"PARENTS ALLIANCE INC","AR0276",null,null,null,null,null,null,null,null,null,null,"3445"]
[null,null,null,null,null,null,null,null,"0393",null,"0457",null,null,null,null,null,null,null,null,null,null,null,null,null,null,null,null,null,null,"PARTNERS FOR BRKFST IN CLASSRM","AR0037",null,null,null,null,null,null,null,null,null,null,"3446"]
[null,null,null,null,null,null,null,null,"0394",null,"0458",null,null,null,null,null,null,null,null,null,null,null,null,null,null,null,null,null,null,"PAUL M ANGELL FAMILY FOUND","AR0270",null,null,null,null,null,null,null,null,null,null,"3448"]
[null,null,null,null,null,null,null,null,"0395",null,"0459",null,null,null,null,null,null,null,null,null,null,null,null,null,null,null,null,null,null,"PEBC","AR0201",null,null,null,null,null,null,null,null,null,null,"3449"]
[null,null,null,null,null,null,null,null,"0396",null,"0461",null,null,null,null,null,null,null,null,null,null,null,null,null,null,null,null,null,null,"PEBC & QWEST","AR0202",null,null,null,null,null,null,null,null,null,null,"3450"]
[null,null,null,null,null,null,null,null,"0397",null,"0463",null,null,null,null,null,null,null,null,null,null,null,null,null,null,null,null,null,null,"PITON FOUNDATION","AR0204",null,null,null,null,null,null,null,null,null,null,"3452"]
[null,null,null,null,null,null,null,null,"0398",null,"0464",null,null,null,null,null,null,null,null,null,null,null,null,null,null,null,null,null,null,"PROJECT LEAD THE WAY, INC.","AR0297",null,null,null,null,null,null,null,null,null,null,"3453"]
[null,null,null,null,null,null,null,null,"0399",null,"0465",null,null,null,null,null,null,null,null,null,null,null,null,null,null,null,null,null,null,"PUBLIC HEALTH SOLUTIONS","AR0207",null,null,null,null,null,null,null,null,null,null,"3455"]
[null,null,null,null,null,null,null,null,"0400",null,"0466",null,null,null,null,null,null,null,null,null,null,null,null,null,null,null,null,null,null,"QWEST FOUNDATION","AR0208",null,null,null,null,null,null,null,null,null,null,"3460"]
[null,null,null,null,null,null,null,null,"0405",null,"0467",null,null,null,null,null,null,null,null,null,null,null,null,null,null,null,null,null,null,"RED APPLE RECYCLING","AR0211",null,null,null,null,null,null,null,null,null,null,"3465"]
[null,null,null,null,null,null,null,null,"0406",null,"0468",null,null,null,null,null,null,null,null,null,null,null,null,null,null,null,null,null,null,"REGENTS OF UNIVERSITY OF COLO.","AR0045",null,null,null,null,null,null,null,null,null,null,"3471"]
[null,null,null,null,null,null,null,null,"0407",null,"0469",null,null,null,null,null,null,null,null,null,null,null,null,null,null,null,null,null,null,"REGIS UNIVERSITY - UCAN SERVE","AR0212",null,null,null,null,null,null,null,null,null,null,"3473"]
[null,null,null,null,null,null,null,null,"0408",null,"0471",null,null,null,null,null,null,null,null,null,null,null,null,null,null,null,null,null,null,"RKY MTN-AMER WATER WORKS ASSOC","AR0038",null,null,null,null,null,null,null,null,null,null,"3476"]
[null,null,null,null,null,null,null,null,"0409",null,"0473",null,null,null,null,null,null,null,null,null,null,null,null,null,null,null,null,null,null,"ROCKY MOUNTAIN PREP","AR0280",null,null,null,null,null,null,null,null,null,null,"3477"]
[null,null,null,null,null,null,null,null,"0410",null,"0475",null,null,null,null,null,null,null,null,null,null,null,null,null,null,null,null,null,null,"ROSE COMMUNITY FOUNDATION","AR0216",null,null,null,null,null,null,null,null,null,null,"3478"]
[null,null,null,null,null,null,null,null,"0412",null,"0477",null,null,null,null,null,null,null,null,null,null,null,null,null,null,null,null,null,null,"SCHOLARSHIP AMERICA","AR0217",null,null,null,null,null,null,null,null,null,null,"3481"]
[null,null,null,null,null,null,null,null,"0413",null,"0484",null,null,null,null,null,null,null,null,null,null,null,null,null,null,null,null,null,null,"SCHOLARSHIP AMERICA (TARGET)","AR0218",null,null,null,null,null,null,null,null,null,null,"3482"]
[null,null,null,null,null,null,null,null,"0415",null,"0504",null,null,null,null,null,null,null,null,null,null,null,null,null,null,null,null,null,null,"SERVICES S/B 13","AR0219",null,null,null,null,null,null,null,null,null,null,"3484"]
[null,null,null,null,null,null,null,null,"0416",null,"0506",null,null,null,null,null,null,null,null,null,null,null,null,null,null,null,null,null,null,"SIERRA CLUB FOUNDATION","AR0220",null,null,null,null,null,null,null,null,null,null,"3487"]
[null,null,null,null,null,null,null,null,"0418",null,"0507",null,null,null,null,null,null,null,null,null,null,null,null,null,null,null,null,null,null,"SILICON VALLEY COMMUNITY FOUND","AR0275",null,null,null,null,null,null,null,null,null,null,"3490"]
[null,null,null,null,null,null,null,null,"0419",null,"0508",null,null,null,null,null,null,null,null,null,null,null,null,null,null,null,null,null,null,"SLAVENS PTA","AR0222",null,null,null,null,null,null,null,null,null,null,"3491"]
[null,null,null,null,null,null,null,null,"0421",null,"0509",null,null,null,null,null,null,null,null,null,null,null,null,null,null,null,null,null,null,"SOCIETY FOR SCI & PUBLIC INTEL","AR0223",null,null,null,null,null,null,null,null,null,null,"3492"]
[null,null,null,null,null,null,null,null,"0423",null,"0510",null,null,null,null,null,null,null,null,null,null,null,null,null,null,null,null,null,null,"SOUND BODY SOUND MIND FND","AR0224",null,null,null,null,null,null,null,null,null,null,"3493"]
[null,null,null,null,null,null,null,null,"0424",null,"0511",null,null,null,null,null,null,null,null,null,null,null,null,null,null,null,null,null,null,"SOUTHWEST AIRLINES, CO.","AR0225",null,null,null,null,null,null,null,null,null,null,"3494"]
[null,null,null,null,null,null,null,null,"0426",null,"0514",null,null,null,null,null,null,null,null,null,null,null,null,null,null,null,null,null,null,"SPIE","AR0227",null,null,null,null,null,null,null,null,null,null,"3495"]
[null,null,null,null,null,null,null,null,"0428",null,"0515",null,null,null,null,null,null,null,null,null,null,null,null,null,null,null,null,null,null,"STAPLETON FOUNDATIONS","AR0228",null,null,null,null,null,null,null,null,null,null,"3496"]
[null,null,null,null,null,null,null,null,"0429",null,"0516",null,null,null,null,null,null,null,null,null,null,null,null,null,null,null,null,null,null,"STATE OF COLORADO","AR0021",null,null,null,null,null,null,null,null,null,null,"4600"]
[null,null,null,null,null,null,null,null,"0431",null,"0519",null,null,null,null,null,null,null,null,null,null,null,null,null,null,null,null,null,null,"STEELE FUND RAISING","AR0232",null,null,null,null,null,null,null,null,null,null,"4900"]
[null,null,null,null,null,null,null,null,"0434",null,"0604",null,null,null,null,null,null,null,null,null,null,null,null,null,null,null,null,null,null,"SUMMER SCHOLARS","AR0233",null,null,null,null,null,null,null,null,null,null,"9900"]
[null,null,null,null,null,null,null,null,"0435",null,"0605",null,null,null,null,null,null,null,null,null,null,null,null,null,null,null,null,null,null,"SUNCOR ENERGY (USA), INC.","AR0288"]
[null,null,null,null,null,null,null,null,"0436",null,"0609",null,null,null,null,null,null,null,null,null,null,null,null,null,null,null,null,null,null,"SUSAN THOMPSON BUFFET FNDTN","AR0042"]
[null,null,null,null,null,null,null,null,"0437",null,"0610",null,null,null,null,null,null,null,null,null,null,null,null,null,null,null,null,null,null,"SWIGERT PTA","AR0236"]
[null,null,null,null,null,null,null,null,"0438",null,"0630",null,null,null,null,null,null,null,null,null,null,null,null,null,null,null,null,null,null,"TELETECH","AR0237"]
[null,null,null,null,null,null,null,null,"0440",null,"0671",null,null,null,null,null,null,null,null,null,null,null,null,null,null,null,null,null,null,"TEMPLE HOYNE BUELL FOUNDATION","AR0238"]
[null,null,null,null,null,null,null,null,"0442",null,"0673",null,null,null,null,null,null,null,null,null,null,null,null,null,null,null,null,null,null,"TEXACO FND S/B 13 FROM 12/7/04","AR0239"]
[null,null,null,null,null,null,null,null,"0443",null,"0682",null,null,null,null,null,null,null,null,null,null,null,null,null,null,null,null,null,null,"THE COLORADO HEALTH FOUNDATION","AR0043"]
[null,null,null,null,null,null,null,null,"0444",null,"1000",null,null,null,null,null,null,null,null,null,null,null,null,null,null,null,null,null,null,"THE NEW TEACHER PROJECT (TNTP)","AR0044"]
[null,null,null,null,null,null,null,null,"0445",null,"1002",null,null,null,null,null,null,null,null,null,null,null,null,null,null,null,null,null,null,"THINK 360 ARTS","AR0240"]
[null,null,null,null,null,null,null,null,"0446",null,"1500",null,null,null,null,null,null,null,null,null,null,null,null,null,null,null,null,null,null,"THIRD SECTOR NE/DIPLOMA PLUS","AR0241"]
[null,null,null,null,null,null,null,null,"0447",null,"2110",null,null,null,null,null,null,null,null,null,null,null,null,null,null,null,null,null,null,"THOMAS W. BEAN FND, INC.","AR0242"]
[null,null,null,null,null,null,null,null,"0448",null,"2114",null,null,null,null,null,null,null,null,null,null,null,null,null,null,null,null,null,null,"TIDES FOUNDATION","AR0243"]
[null,null,null,null,null,null,null,null,"0450",null,"2117",null,null,null,null,null,null,null,null,null,null,null,null,null,null,null,null,null,null,"T-MOBILE","AR0245"]
[null,null,null,null,null,null,null,null,"0451",null,"2118",null,null,null,null,null,null,null,null,null,null,null,null,null,null,null,null,null,null,"U S DEPT OF EDUCATION","AR0046"]
[null,null,null,null,null,null,null,null,"0452",null,"2122",null,null,null,null,null,null,null,null,null,null,null,null,null,null,null,null,null,null,"U.PARK PTA","AR0246"]
[null,null,null,null,null,null,null,null,"0453",null,"2123",null,null,null,null,null,null,null,null,null,null,null,null,null,null,null,null,null,null,"UNIV OF NORTHERN COLORADO","AR0048"]
[null,null,null,null,null,null,null,null,"0455",null,"2124",null,null,null,null,null,null,null,null,null,null,null,null,null,null,null,null,null,null,"UNIVERSITY OF COLORADO","AR0247"]
[null,null,null,null,null,null,null,null,"0456",null,"2125",null,null,null,null,null,null,null,null,null,null,null,null,null,null,null,null,null,null,"UNIVERSITY OF COLORADO DENVER","AR0248"]
[null,null,null,null,null,null,null,null,"0457",null,"2126",null,null,null,null,null,null,null,null,null,null,null,null,null,null,null,null,null,null,"USA TRACK & FIELD FOUNDATION","AR0289"]
[null,null,null,null,null,null,null,null,"0458",null,"2140",null,null,null,null,null,null,null,null,null,null,null,null,null,null,null,null,null,null,"VALDEZ PTO","AR0250"]
[null,null,null,null,null,null,null,null,"0459",null,"2173",null,null,null,null,null,null,null,null,null,null,null,null,null,null,null,null,null,null,"VENOCO, INC.","AR0252"]
[null,null,null,null,null,null,null,null,"0460",null,"2175",null,null,null,null,null,null,null,null,null,null,null,null,null,null,null,null,null,null,"WAL-MART FOUNDATION","AR0253"]
[null,null,null,null,null,null,null,null,"0461",null,"2180",null,null,null,null,null,null,null,null,null,null,null,null,null,null,null,null,null,null,"WALTON FAMILY FOUNDATION","AR0063"]
[null,null,null,null,null,null,null,null,"0462",null,"2184",null,null,null,null,null,null,null,null,null,null,null,null,null,null,null,null,null,null,"WELLS FARGO BANK","AR0254"]
[null,null,null,null,null,null,null,null,"0463",null,"2185",null,null,null,null,null,null,null,null,null,null,null,null,null,null,null,null,null,null,"WESTERLY CREEK PTA","AR0255"]
[null,null,null,null,null,null,null,null,"0464",null,"2189",null,null,null,null,null,null,null,null,null,null,null,null,null,null,null,null,null,null,"WESTERN DAIRY ASSOCIATION","AR0256"]
[null,null,null,null,null,null,null,null,"0465",null,"2331",null,null,null,null,null,null,null,null,null,null,null,null,null,null,null,null,null,null,"WESTERRA CREDIT UNION","AR0258"]
[null,null,null,null,null,null,null,null,"0466",null,"2510",null,null,null,null,null,null,null,null,null,null,null,null,null,null,null,null,null,null,"WHIZ KIDS","AR0260"]
[null,null,null,null,null,null,null,null,"0467",null,"2511",null,null,null,null,null,null,null,null,null,null,null,null,null,null,null,null,null,null,"WHOLE KIDS FOUNDATION","AR0261"]
[null,null,null,null,null,null,null,null,"0468",null,"2540",null,null,null,null,null,null,null,null,null,null,null,null,null,null,null,null,null,null,"WILLIAMS FOUNDATION","AR0263"]
[null,null,null,null,null,null,null,null,"0469",null,"2541",null,null,null,null,null,null,null,null,null,null,null,null,null,null,null,null,null,null,"XCEL ENERGY","AR0264"]
[null,null,null,null,null,null,null,null,"0471",null,"2550",null,null,null,null,null,null,null,null,null,null,null,null,null,null,null,null,null,null,"YOUTH SERVICE AMERICA","AR0265"]
[null,null,null,null,null,null,null,null,"0472",null,"2580"]
[null,null,null,null,null,null,null,null,"0473",null,"2591"]
[null,null,null,null,null,null,null,null,"0475",null,"3294"]
[null,null,null,null,null,null,null,null,"0477",null,"3750"]
[null,null,null,null,null,null,null,null,"0478",null,"3810"]
[null,null,null,null,null,null,null,null,"0479",null,"4110"]
[null,null,null,null,null,null,null,null,"0480",null,"4116"]
[null,null,null,null,null,null,null,null,"0481",null,"4130"]
[null,null,null,null,null,null,null,null,"0483",null,"4140"]
[null,null,null,null,null,null,null,null,"0484",null,"4141"]
[null,null,null,null,null,null,null,null,"0485",null,"4142"]
[null,null,null,null,null,null,null,null,"0487",null,"4149"]
[null,null,null,null,null,null,null,null,"0488",null,"4150"]
[null,null,null,null,null,null,null,null,"0490",null,"4151"]
[null,null,null,null,null,null,null,null,"0496",null,"4152"]
[null,null,null,null,null,null,null,null,"0497",null,"4153"]
[null,null,null,null,null,null,null,null,"0498",null,"4155"]
[null,null,null,null,null,null,null,null,"0499",null,"4170"]
[null,null,null,null,null,null,null,null,"0504",null,"4310"]
[null,null,null,null,null,null,null,null,"0506",null,"4510"]
[null,null,null,null,null,null,null,null,"0507",null,"4610"]
[null,null,null,null,null,null,null,null,"0508",null,"4670"]
[null,null,null,null,null,null,null,null,"0509",null,"4800"]
[null,null,null,null,null,null,null,null,"0510",null,"5110"]
[null,null,null,null,null,null,null,null,"0511",null,"5220"]
[null,null,null,null,null,null,null,null,"0513",null,"5230"]
[null,null,null,null,null,null,null,null,"0514",null,"5310"]
[null,null,null,null,null,null,null,null,"0515",null,"5311"]
[null,null,null,null,null,null,null,null,"0516",null,"5400"]
[null,null,null,null,null,null,null,null,"0517",null,"6170"]
[null,null,null,null,null,null,null,null,"0518",null,"7140"]
[null,null,null,null,null,null,null,null,"0519",null,"7143"]
[null,null,null,null,null,null,null,null,"0520",null,"7148"]
[null,null,null,null,null,null,null,null,"0521",null,"7149"]
[null,null,null,null,null,null,null,null,"0522",null,"7151"]
[null,null,null,null,null,null,null,null,"0523",null,"7310"]
[null,null,null,null,null,null,null,null,"0525",null,"7315"]
[null,null,null,null,null,null,null,null,"0532",null,"7318"]
[null,null,null,null,null,null,null,null,"0602",null,"8140"]
[null,null,null,null,null,null,null,null,"0604",null,"8150"]
[null,null,null,null,null,null,null,null,"0605",null,"8170"]
[null,null,null,null,null,null,null,null,"0609",null,"8310"]
[null,null,null,null,null,null,null,null,"0610",null,"8330"]
[null,null,null,null,null,null,null,null,"0615",null,"8350"]
[null,null,null,null,null,null,null,null,"0624",null,"8715"]
[null,null,null,null,null,null,null,null,"0626",null,"8716"]
[null,null,null,null,null,null,null,null,"0629",null,"8740"]
[null,null,null,null,null,null,null,null,"0630",null,"8910"]
[null,null,null,null,null,null,null,null,"0634",null,"8917"]
[null,null,null,null,null,null,null,null,"0635",null,"8920"]
[null,null,null,null,null,null,null,null,"0637",null,"9120"]
[null,null,null,null,null,null,null,null,"0641",null,"9141"]
[null,null,null,null,null,null,null,null,"0644",null,"9170"]
[null,null,null,null,null,null,null,null,"0646"]
[null,null,null,null,null,null,null,null,"0648"]
[null,null,null,null,null,null,null,null,"0661"]
[null,null,null,null,null,null,null,null,"0662"]
[null,null,null,null,null,null,null,null,"0663"]
[null,null,null,null,null,null,null,null,"0671"]
[null,null,null,null,null,null,null,null,"0673"]
[null,null,null,null,null,null,null,null,"0682"]
[null,null,null,null,null,null,null,null,"0685"]
[null,null,null,null,null,null,null,null,"0687"]
[null,null,null,null,null,null,null,null,"0691"]
[null,null,null,null,null,null,null,null,"0695"]
[null,null,null,null,null,null,null,null,"0698"]
[null,null,null,null,null,null,null,null,"0699"]
[null,null,null,null,null,null,null,null,"0707"]
[null,null,null,null,null,null,null,null,"0710"]
[null,null,null,null,null,null,null,null,"0750"]
[null,null,null,null,null,null,null,null,"0800"]
[null,null,null,null,null,null,null,null,"0802"]
[null,null,null,null,null,null,null,null,"0807"]
[null,null,null,null,null,null,null,null,"0808"]
[null,null,null,null,null,null,null,null,"0810"]
[null,null,null,null,null,null,null,null,"0812"]
[null,null,null,null,null,null,null,null,"0813"]
[null,null,null,null,null,null,null,null,"0817"]
[null,null,null,null,null,null,null,null,"0818"]
[null,null,null,null,null,null,null,null,"0819"]
[null,null,null,null,null,null,null,null,"0820"]
[null,null,null,null,null,null,null,null,"0821"]
[null,null,null,null,null,null,null,null,"0826"]
[null,null,null,null,null,null,null,null,"0830"]
[null,null,null,null,null,null,null,null,"0831"]
[null,null,null,null,null,null,null,null,"0832"]
[null,null,null,null,null,null,null,null,"0835"]
[null,null,null,null,null,null,null,null,"0836"]
[null,null,null,null,null,null,null,null,"0838"]
[null,null,null,null,null,null,null,null,"0840"]
[null,null,null,null,null,null,null,null,"0841"]
[null,null,null,null,null,null,null,null,"0846"]
[null,null,null,null,null,null,null,null,"0847"]
[null,null,null,null,null,null,null,null,"0849"]
[null,null,null,null,null,null,null,null,"0851"]
[null,null,null,null,null,null,null,null,"0853"]
[null,null,null,null,null,null,null,null,"0857"]
[null,null,null,null,null,null,null,null,"0861"]
[null,null,null,null,null,null,null,null,"0862"]
[null,null,null,null,null,null,null,null,"0866"]
[null,null,null,null,null,null,null,null,"0871"]
[null,null,null,null,null,null,null,null,"0872"]
[null,null,null,null,null,null,null,null,"0875"]
[null,null,null,null,null,null,null,null,"0877"]
[null,null,null,null,null,null,null,null,"0885"]
[null,null,null,null,null,null,null,null,"0906"]
[null,null,null,null,null,null,null,null,"0907"]
[null,null,null,null,null,null,null,null,"0908"]
[null,null,null,null,null,null,null,null,"0915"]
[null,null,null,null,null,null,null,null,"0916"]
[null,null,null,null,null,null,null,null,"0924"]
[null,null,null,null,null,null,null,null,"0928"]
[null,null,null,null,null,null,null,null,"0929"]
[null,null,null,null,null,null,null,null,"0930"]
[null,null,null,null,null,null,null,null,"0931"]
[null,null,null,null,null,null,null,null,"0932"]
[null,null,null,null,null,null,null,null,"0933"]
[null,null,null,null,null,null,null,null,"0934"]
[null,null,null,null,null,null,null,null,"0935"]
[null,null,null,null,null,null,null,null,"0936"]
[null,null,null,null,null,null,null,null,"0938"]
[null,null,null,null,null,null,null,null,"0939"]
[null,null,null,null,null,null,null,null,"0940"]
[null,null,null,null,null,null,null,null,"0948"]
[null,null,null,null,null,null,null,null,"0949"]
[null,null,null,null,null,null,null,null,"0950"]
[null,null,null,null,null,null,null,null,"0951"]
[null,null,null,null,null,null,null,null,"0952"]
[null,null,null,null,null,null,null,null,"0954"]
[null,null,null,null,null,null,null,null,"0955"]
[null,null,null,null,null,null,null,null,"0958"]
[null,null,null,null,null,null,null,null,"0961"]
[null,null,null,null,null,null,null,null,"0963"]
[null,null,null,null,null,null,null,null,"0964"]
[null,null,null,null,null,null,null,null,"0965"]
[null,null,null,null,null,null,null,null,"0966"]
[null,null,null,null,null,null,null,null,"0968"]
[null,null,null,null,null,null,null,null,"0969"]
[null,null,null,null,null,null,null,null,"0975"]
[null,null,null,null,null,null,null,null,"0981"]
[null,null,null,null,null,null,null,null,"0992"]
[null,null,null,null,null,null,null,null,"0993"]
[null,null,null,null,null,null,null,null,"0995"]
[null,null,null,null,null,null,null,null,"0996"]

{"sheet":"Objective Tables","index":15,"n_rows":60,"n_cols":22,"rows_kept":60,"cut":false,"hidden":true,"merged":[[49,1,59,1],[39,1,48,1]]}
[]
[null,null,"CONCAT TO LOAD IN LAWSON",{"$f":"D36&D37&D38&D39&D40&D41&D42&D43&D44&D45&D46&D47&D48&D49&D50&D51&D52&D53&D54&D55&D56&D57&D58&D59&D60","v":"???%NNNNNNNNNNNNNNNNNNNNN"}]
[null,null,"Length of Code (should be 25)",{"$f":"LEN(D2)","v":25}]
[]
[null,null,"USED FOR DEFINED FORMULA OFFSET",null,null,null,"USED FOR DEFINED FORMULA OFFSET",null,null,null,"NOTE: ENTER ANY NEW STRATEGIES IN THE YELLOW CELLS BELOW. THESE WILL THEN AUTOMATICALLY PULL INTO COLUMN G AND THE DEFINED FORMULA FOR THE DROP DOWN LIST",null,null,null,null,null,null,null,null,null,"USED FOR DEFINED FORMULA OFFSET"]
[null,"Height",{"$f":"COUNTA(C8:C33)","v":8},null,null,null,{"$f":"26-COUNTIF(G8:G33,\"EXCLUDE\")","v":1},null,null,null,null,null,null,null,null,null,null,null,null,"Height",{"$f":"COUNTA(U8:U33)","v":21}]
[null,null,"Categories","Map",null,"V-REF","Strategies","Map",null,"V-REF","Professional Learning","Support for the Whole Child","College Career Readiness","Early Education Preparedness","Curriculum","Research","Closing the Opportunity Gap","Recruitment Hiring Management",null,null,"Expected Impact/Outcome","Map"]
[null,null,"Professional Learning","A",null,1,{"$f":"IFERROR(VLOOKUP($F8,$J$7:$R$33,MATCH('1-Award Info'!$C$36,$J$7:$R$7,0),0),\"Select a Main Category above first\")","v":"Select a Main Category above first"},"A",null,1,"Professional Development","Capital Improvements","Staffing Teacher / Para PD","Community / Family Engagement","Curriculum Development","Culturally Relevant Pedagogy","Fostering a Culture of Equity","Staffing High-Quality Teachers",null,null,"Reduce Absenteeism","A"]
[null,null,"Support for the Whole Child","B",null,2,{"$f":"\nIFERROR(\nIF(VLOOKUP($F9,$J$7:$R$33,MATCH('1-Award Info'!$C$36,$J$7:$R$7,0),0)=0,\"EXCLUDE\",\nIFERROR(VLOOKUP($F9,$J$7:$R$33,MATCH('1-Award Info'!$C$36,$J$7:$R$7,0),0),\"EXCLUDE\")),\n\"EXCLUDE\")","v":"EXCLUDE"},"B",null,2,"Staff Coaching / Mentoring","Supplies / Equipment","Staffing School Leadership PD","Educational Technology","Infrastructure & Support for High Quality Instruction","Innovative School Models","Community / Family Engagement","Staffing Admin",null,null,"Reduce Behavior Incidents","B"]
[null,null,"College Career Readiness","C",null,3,{"$f":"\nIFERROR(\nIF(VLOOKUP($F10,$J$7:$R$33,MATCH('1-Award Info'!$C$36,$J$7:$R$7,0),0)=0,\"EXCLUDE\",\nIFERROR(VLOOKUP($F10,$J$7:$R$33,MATCH('1-Award Info'!$C$36,$J$7:$R$7,0),0),\"EXCLUDE\")),\n\"EXCLUDE\")","v":"EXCLUDE"},"C",null,3,"Resource Development","Community / Parent Engagement","Staff Coaching / Mentoring","Intervention Supports","Assessment Development","Personalized Learning Innovation","Professional Learning","Staffing Mental Health Specialists (Behaviorist, Psychologist, Social Worker, etc.)",null,null,"Improve Health","C"]
[null,null,"Early Education Preparedness","D",null,4,{"$f":"\nIFERROR(\nIF(VLOOKUP($F11,$J$7:$R$33,MATCH('1-Award Info'!$C$36,$J$7:$R$7,0),0)=0,\"EXCLUDE\",\nIFERROR(VLOOKUP($F11,$J$7:$R$33,MATCH('1-Award Info'!$C$36,$J$7:$R$7,0),0),\"EXCLUDE\")),\n\"EXCLUDE\")","v":"EXCLUDE"},"D",null,4,"Lesson Planning","Educational Technology","Staffing / Hiring","Early Literacy Supports","Resources to Supplement Curriculum","Data-Based Best Practices","Support English Learners","Staffing/Hiring Paras,Interventionists",null,null,"Improve Test Scores","D"]
[null,null,"Curriculum","E",null,5,{"$f":"\nIFERROR(\nIF(VLOOKUP($F12,$J$7:$R$33,MATCH('1-Award Info'!$C$36,$J$7:$R$7,0),0)=0,\"EXCLUDE\",\nIFERROR(VLOOKUP($F12,$J$7:$R$33,MATCH('1-Award Info'!$C$36,$J$7:$R$7,0),0),\"EXCLUDE\")),\n\"EXCLUDE\")","v":"EXCLUDE"},"E",null,5,"Model Classroom","Intervention Supports","Tutoring",null,null,"School Assessment Strategy","Instruction ","Staffing  Specialists (Counselor, Dean)",null,null,"Improve Graduation Rates","E"]
[null,null,"Research","F",null,6,{"$f":"\nIFERROR(\nIF(VLOOKUP($F13,$J$7:$R$33,MATCH('1-Award Info'!$C$36,$J$7:$R$7,0),0)=0,\"EXCLUDE\",\nIFERROR(VLOOKUP($F13,$J$7:$R$33,MATCH('1-Award Info'!$C$36,$J$7:$R$7,0),0),\"EXCLUDE\")),\n\"EXCLUDE\")","v":"EXCLUDE"},"F",null,6,null,"Focus on Arts/Music/PE","Instruction",null,null,"Program Evaluations Related to Student Outcomes","Curriculum",null,null,null,"Improve School Culture","F"]
[null,null,"Closing the Opportunity Gap","G",null,7,{"$f":"\nIFERROR(\nIF(VLOOKUP($F14,$J$7:$R$33,MATCH('1-Award Info'!$C$36,$J$7:$R$7,0),0)=0,\"EXCLUDE\",\nIFERROR(VLOOKUP($F14,$J$7:$R$33,MATCH('1-Award Info'!$C$36,$J$7:$R$7,0),0),\"EXCLUDE\")),\n\"EXCLUDE\")","v":"EXCLUDE"},"G",null,7,null,"Staffing Mental Health Specialists (Behaviorist, Psychologist, Social Worker, etc.)","School Schedules",null,null,null,"Instructional Time",null,null,null,"Reduce Turnover","G"]
[null,null,"Recruitment Hiring Management","H",null,8,{"$f":"\nIFERROR(\nIF(VLOOKUP($F15,$J$7:$R$33,MATCH('1-Award Info'!$C$36,$J$7:$R$7,0),0)=0,\"EXCLUDE\",\nIFERROR(VLOOKUP($F15,$J$7:$R$33,MATCH('1-Award Info'!$C$36,$J$7:$R$7,0),0),\"EXCLUDE\")),\n\"EXCLUDE\")","v":"EXCLUDE"},"H",null,8,null,"Bullying Prevention","After school activities",null,null,null,"Monitoring",null,null,null,"Model Classroom","H"]
[null,null,null,"I",null,9,{"$f":"\nIFERROR(\nIF(VLOOKUP($F16,$J$7:$R$33,MATCH('1-Award Info'!$C$36,$J$7:$R$7,0),0)=0,\"EXCLUDE\",\nIFERROR(VLOOKUP($F16,$J$7:$R$33,MATCH('1-Award Info'!$C$36,$J$7:$R$7,0),0),\"EXCLUDE\")),\n\"EXCLUDE\")","v":"EXCLUDE"},"I",null,9,null,"Summer Programming","Intervention Supports",null,null,null,"Student Engagement",null,null,null,"Increase Student Engagement","I"]
[null,null,null,"J",null,10,{"$f":"\nIFERROR(\nIF(VLOOKUP($F17,$J$7:$R$33,MATCH('1-Award Info'!$C$36,$J$7:$R$7,0),0)=0,\"EXCLUDE\",\nIFERROR(VLOOKUP($F17,$J$7:$R$33,MATCH('1-Award Info'!$C$36,$J$7:$R$7,0),0),\"EXCLUDE\")),\n\"EXCLUDE\")","v":"EXCLUDE"},"J",null,10,null,"Personalized Learning",null,null,null,null,null,null,null,null,"Increase Cultural Awareness","J"]
[null,null,null,"K",null,11,{"$f":"\nIFERROR(\nIF(VLOOKUP($F18,$J$7:$R$33,MATCH('1-Award Info'!$C$36,$J$7:$R$7,0),0)=0,\"EXCLUDE\",\nIFERROR(VLOOKUP($F18,$J$7:$R$33,MATCH('1-Award Info'!$C$36,$J$7:$R$7,0),0),\"EXCLUDE\")),\n\"EXCLUDE\")","v":"EXCLUDE"},"K",null,11,null,"Staffing  Specialists (Counselor, Dean)",null,null,null,null,null,null,null,null,"Increase Community Involvement","K"]
[null,null,null,"L",null,12,{"$f":"\nIFERROR(\nIF(VLOOKUP($F19,$J$7:$R$33,MATCH('1-Award Info'!$C$36,$J$7:$R$7,0),0)=0,\"EXCLUDE\",\nIFERROR(VLOOKUP($F19,$J$7:$R$33,MATCH('1-Award Info'!$C$36,$J$7:$R$7,0),0),\"EXCLUDE\")),\n\"EXCLUDE\")","v":"EXCLUDE"},"L",null,12,null,"After school activities",null,null,null,null,null,null,null,null,"Improve Student Health & Well-Being","L"]
[null,null,null,"M",null,13,{"$f":"\nIFERROR(\nIF(VLOOKUP($F20,$J$7:$R$33,MATCH('1-Award Info'!$C$36,$J$7:$R$7,0),0)=0,\"EXCLUDE\",\nIFERROR(VLOOKUP($F20,$J$7:$R$33,MATCH('1-Award Info'!$C$36,$J$7:$R$7,0),0),\"EXCLUDE\")),\n\"EXCLUDE\")","v":"EXCLUDE"},"M",null,13,null,null,null,null,null,null,null,null,null,null,"Decrease Substance Abuse","M"]
[null,null,null,"N",null,14,{"$f":"\nIFERROR(\nIF(VLOOKUP($F21,$J$7:$R$33,MATCH('1-Award Info'!$C$36,$J$7:$R$7,0),0)=0,\"EXCLUDE\",\nIFERROR(VLOOKUP($F21,$J$7:$R$33,MATCH('1-Award Info'!$C$36,$J$7:$R$7,0),0),\"EXCLUDE\")),\n\"EXCLUDE\")","v":"EXCLUDE"},"N",null,14,null,null,null,null,null,null,null,null,null,null,"Increase Social & Emotional Intelligence","N"]
[null,null,null,"O",null,15,{"$f":"\nIFERROR(\nIF(VLOOKUP($F22,$J$7:$R$33,MATCH('1-Award Info'!$C$36,$J$7:$R$7,0),0)=0,\"EXCLUDE\",\nIFERROR(VLOOKUP($F22,$J$7:$R$33,MATCH('1-Award Info'!$C$36,$J$7:$R$7,0),0),\"EXCLUDE\")),\n\"EXCLUDE\")","v":"EXCLUDE"},"O",null,15,null,null,null,null,null,null,null,null,null,null,"Reduce Remediation Classes","O"]
[null,null,null,"P",null,16,{"$f":"\nIFERROR(\nIF(VLOOKUP($F23,$J$7:$R$33,MATCH('1-Award Info'!$C$36,$J$7:$R$7,0),0)=0,\"EXCLUDE\",\nIFERROR(VLOOKUP($F23,$J$7:$R$33,MATCH('1-Award Info'!$C$36,$J$7:$R$7,0),0),\"EXCLUDE\")),\n\"EXCLUDE\")","v":"EXCLUDE"},"P",null,16,null,null,null,null,null,null,null,null,null,null,"Improve Leadership Skills","P"]
[null,null,null,"Q",null,17,{"$f":"\nIFERROR(\nIF(VLOOKUP($F24,$J$7:$R$33,MATCH('1-Award Info'!$C$36,$J$7:$R$7,0),0)=0,\"EXCLUDE\",\nIFERROR(VLOOKUP($F24,$J$7:$R$33,MATCH('1-Award Info'!$C$36,$J$7:$R$7,0),0),\"EXCLUDE\")),\n\"EXCLUDE\")","v":"EXCLUDE"},"Q",null,17,null,null,null,null,null,null,null,null,null,null,"Social & Emotional Intelligent","Q"]
[null,null,null,"R",null,18,{"$f":"\nIFERROR(\nIF(VLOOKUP($F25,$J$7:$R$33,MATCH('1-Award Info'!$C$36,$J$7:$R$7,0),0)=0,\"EXCLUDE\",\nIFERROR(VLOOKUP($F25,$J$7:$R$33,MATCH('1-Award Info'!$C$36,$J$7:$R$7,0),0),\"EXCLUDE\")),\n\"EXCLUDE\")","v":"EXCLUDE"},"R",null,18,null,null,null,null,null,null,null,null,null,null,"Increase Number of High-Performing Schools","R"]
[null,null,null,"S",null,19,{"$f":"\nIFERROR(\nIF(VLOOKUP($F26,$J$7:$R$33,MATCH('1-Award Info'!$C$36,$J$7:$R$7,0),0)=0,\"EXCLUDE\",\nIFERROR(VLOOKUP($F26,$J$7:$R$33,MATCH('1-Award Info'!$C$36,$J$7:$R$7,0),0),\"EXCLUDE\")),\n\"EXCLUDE\")","v":"EXCLUDE"},"S",null,19,null,null,null,null,null,null,null,null,null,null,"Increase SPF Score","S"]
[null,null,null,"T",null,20,{"$f":"\nIFERROR(\nIF(VLOOKUP($F27,$J$7:$R$33,MATCH('1-Award Info'!$C$36,$J$7:$R$7,0),0)=0,\"EXCLUDE\",\nIFERROR(VLOOKUP($F27,$J$7:$R$33,MATCH('1-Award Info'!$C$36,$J$7:$R$7,0),0),\"EXCLUDE\")),\n\"EXCLUDE\")","v":"EXCLUDE"},"T",null,20,null,null,null,null,null,null,null,null,null,null,"Improving Academic Achievement","T"]
[null,null,null,"U",null,21,{"$f":"\nIFERROR(\nIF(VLOOKUP($F28,$J$7:$R$33,MATCH('1-Award Info'!$C$36,$J$7:$R$7,0),0)=0,\"EXCLUDE\",\nIFERROR(VLOOKUP($F28,$J$7:$R$33,MATCH('1-Award Info'!$C$36,$J$7:$R$7,0),0),\"EXCLUDE\")),\n\"EXCLUDE\")","v":"EXCLUDE"},"U",null,21,null,null,null,null,null,null,null,null,null,null,"Increase Reading & Writing Proficiency","U"]
[null,null,null,"V",null,22,{"$f":"\nIFERROR(\nIF(VLOOKUP($F29,$J$7:$R$33,MATCH('1-Award Info'!$C$36,$J$7:$R$7,0),0)=0,\"EXCLUDE\",\nIFERROR(VLOOKUP($F29,$J$7:$R$33,MATCH('1-Award Info'!$C$36,$J$7:$R$7,0),0),\"EXCLUDE\")),\n\"EXCLUDE\")","v":"EXCLUDE"},"V",null,22,null,null,null,null,null,null,null,null,null,null,null,"V"]
[null,null,null,"W",null,23,{"$f":"\nIFERROR(\nIF(VLOOKUP($F30,$J$7:$R$33,MATCH('1-Award Info'!$C$36,$J$7:$R$7,0),0)=0,\"EXCLUDE\",\nIFERROR(VLOOKUP($F30,$J$7:$R$33,MATCH('1-Award Info'!$C$36,$J$7:$R$7,0),0),\"EXCLUDE\")),\n\"EXCLUDE\")","v":"EXCLUDE"},"W",null,23,null,null,null,null,null,null,null,null,null,null,null,"W"]
[null,null,null,"X",null,24,{"$f":"\nIFERROR(\nIF(VLOOKUP($F31,$J$7:$R$33,MATCH('1-Award Info'!$C$36,$J$7:$R$7,0),0)=0,\"EXCLUDE\",\nIFERROR(VLOOKUP($F31,$J$7:$R$33,MATCH('1-Award Info'!$C$36,$J$7:$R$7,0),0),\"EXCLUDE\")),\n\"EXCLUDE\")","v":"EXCLUDE"},"X",null,24,null,null,null,null,null,null,null,null,null,null,null,"X"]
[null,null,null,"Y",null,25,{"$f":"\nIFERROR(\nIF(VLOOKUP($F32,$J$7:$R$33,MATCH('1-Award Info'!$C$36,$J$7:$R$7,0),0)=0,\"EXCLUDE\",\nIFERROR(VLOOKUP($F32,$J$7:$R$33,MATCH('1-Award Info'!$C$36,$J$7:$R$7,0),0),\"EXCLUDE\")),\n\"EXCLUDE\")","v":"EXCLUDE"},"Y",null,25,null,null,null,null,null,null,null,null,null,null,null,"Y"]
[null,null,null,"Z",null,26,{"$f":"\nIFERROR(\nIF(VLOOKUP($F33,$J$7:$R$33,MATCH('1-Award Info'!$C$36,$J$7:$R$7,0),0)=0,\"EXCLUDE\",\nIFERROR(VLOOKUP($F33,$J$7:$R$33,MATCH('1-Award Info'!$C$36,$J$7:$R$7,0),0),\"EXCLUDE\")),\n\"EXCLUDE\")","v":"EXCLUDE"},"Z",null,26,null,null,null,null,null,null,null,null,null,null,null,"Z"]
[]
[null,null,"Program Title for GM01",null,null,"Place"]
[null,null,"Category",{"$f":"IFERROR(VLOOKUP('1-Award Info'!C36,'Objective Tables'!C8:D33,2,0),\"?\")","v":"?"},null,1]
[null,null,"Strategy",{"$f":"IFERROR(VLOOKUP('1-Award Info'!C37,G8:H33,2,0),\"?\")","v":"?"},null,{"$f":"F36+1","v":2}]
[null,null,"Outcome1",{"$f":"IFERROR(VLOOKUP('1-Award Info'!$C$38,$U$8:$V$33,2,0),\"?\")","v":"?"},null,{"$f":"F37+1","v":3}]
[null,null,"Outcome 2",{"$f":"IFERROR(VLOOKUP('1-Award Info'!$C$39,$U$8:$V$33,2,0),\"%\")","v":"%"},null,4]
[null,"Populs","Special Education",{"$f":"IF(E40=TRUE,\"Y\",\"N\")","v":"N"},false,5]
[null,null,"English Learners",{"$f":"IF(E41=TRUE,\"Y\",\"N\")","v":"N"},false,6]
[null,null,"Free & Reduced Lunch","N",false,7]
[null,null,"Homeless","N",false,8]
[null,null,"Foster","N",false,9]
[null,null,"Military","N",false,10]
[null,null,"Migrant","N",false,11]
[null,null,"Immigrant","N",false,12]
[null,null,"Gift & Talented","N",false,13]
[null,null,"School Wide","N",false,14]
[null,"Subjects","Math","N",false,15]
[null,null,"Literacy","N",false,16]
[null,null,"Science","N",false,17]
[null,null,"STEM","N",false,18]
[null,null,"STEAM","N",false,19]
[null,null,"Before & After School","N",false,20]
[null,null,"Core Subjects","N",false,21]
[null,null,"Arts/Music/PE","N",false,22]
[null,null,"Athletics","N",false,23]
[null,null,"General Education","N",false,24]
[null,null,"Not Applicable","N",false,25]